{"text_format":"1","workbook":"xlsx","n_sheets":35,"sheets":["GUIDE","BIODATA","COVER","KET.PETUNJUK","PINDAH.PRES","DATABASE","DESKSM1","DESKSM2","DESKSM3","DESKSM4","DESKSM5","DESKSM6","LEGGER1","LEGGER2","LEGGER3","LEGGER4","LEGGER5","LEGGER6","MENU","CETSM1","CETSM2","CETSM3","CETSM4","CETSM5","CETSM6","PDSSX","PDSSXI","PDSSXII","NILSM1","NILSM2","NILSM3","NILSM4","NILSM5","NILSM6","Macro1"],"not_rendered":{"charts":0,"images":8,"macros":1,"external_links":0,"defined_names":100,"comments":6,"pivot_tables":0},"unopened":[],"bounds":{"document_bytes":16777216,"sheet_cells":100000,"rows_first":2000,"rows_last":500,"rows_between":2000,"halvings":0,"cell_chars":16384,"cell_head_chars":4096},"cells_cut":0,"cells_raw":0,"read":"whole","date_system":"1900"}

{"sheet":"GUIDE","index":0,"n_rows":66,"n_cols":2,"rows_kept":66,"cut":false,"hidden":false,"merged":[[1,1,1,6],[16,1,17,6],[18,1,19,6],[20,1,21,6],[10,1,10,6],[3,1,3,6],[6,1,6,6],[7,1,7,6],[8,1,8,6],[11,1,11,6],[4,1,4,6],[5,1,5,6],[9,1,9,6],[2,1,2,6]]}
["Petunjuk Penggunaan Aplikasi Rapor versi 7.00 revisi"]
["1.","Rename terlebih dahulu file hasil unduhan dari server agar tidak tumpang tindih, beri nama file dengan format \"Rapor_Kelas XX_Nama Walikelas\", contoh \"Rapor Kelas XII DPIB 1 Rangga Adlan\""]
["2.","Jalankan Macro dengan memilih Enable Content pada saat Excel pertama kali dibuka"]
["3.","Sebelum mengisi nilai rapor, isi atau edit terlebih dahulu data-data yang ada di menu utama, yakni Data Struktur Kurikulum, Data Kepala Sekolah dan Titimangsa Rapor"]
["4.","Pada menu EDIT DATA RAPOR, pilih tombol menu BIODATA SISWA untuk mengedit data siswa yang akan menjadi data dasar Aplikasi Rapor ini, sehingga bisa mencetak Cover, Petunjuk dan Ket. Diri serta Prestasi dan Ket. Pindah"]
["5.","Gunakan menu DESKRIPSI NILAI jika menginginkan Deskripsi Nilai diisi secara manual tidak muncul otomatis hasil formulasi Excel"]
["6.","Pada menu INPUT RAPOR, pilih tombol semester untuk mengisi nilai rapor sesuai dengan semester yang akan digunakan"]
["7.","Pada halaman INPUT NILAI, yang harus diisi adalah URUTAN MAPEL, KB (KETUNTASAN BELAJAR) dan NILAI-NILAI serta data lainnya sampai kolom KEHADIRAN pada range cell D8:DK52, serta isilah peringkat secara manual pada kolom DU dengan referensi peringkat yang ditunjukkan pada kolom DT"]
["8.","Saat pengeditan INPUT NILAI, gunakan selalu COPY-PASTE SPECIAL-VALUES untuk menghindari berubahnya format cell. Jika ada data yang tidak diperlukan, mohon beri tanda strip (-). Contoh pada nilai semester 1 mapel kelompok C3 tidak digunakan, pada kolom nilainya beri tanda strip. Contoh lainnya siswa hanya ikut 1 kegiatan eskstrakurikuler, maka pada kolom Kegiatan Ekstrakurikuler kedua beri tanda strip. Jangan pernah menggunakan DELETE KOLOM"]
["9.","Gunakan menu OUTPUT RAPOR untuk mencetak rapor per semesternya"]
["10.","Pada halaman CETAK RAPOR, kolom mapel yang tidak digunakan, silahkan HIDE saja jangan di-DELETE agar tidak ada error dan tampilan cetak cukup di kertas A4, 2 halaman saja per siswa"]
["11.","Gunakan menu OUTPUT LEGGER untuk mencetak legger dalam 1 lembar kertas A4"]
[]
["Hal-hal penting penggunaan"]
["a)"]
[]
[]
[]
[]
[]
[]
[]
[]
[]
[]
[]
[]
[]
[]
[]
[]
[]
[]
[]
[]
[]
["b)"]
[]
[]
[]
[]
[]
[]
[]
[]
[]
[]
[]
[]
[]
[]
[]
[]
[]
[]
[]
[]
[]
[]
[]
[]
[]
[]
[]
[]
["c)"]

{"sheet":"BIODATA","index":1,"n_rows":49,"n_cols":28,"rows_kept":49,"cut":false,"hidden":false,"merged":[[1,21,1,22],[1,23,2,23],[1,24,1,25],[1,26,2,26],[1,27,2,27],[1,18,1,19],[1,10,1,11],[1,0,2,0],[1,1,2,1],[1,2,2,2],[1,3,2,3],[1,4,2,4],[1,5,2,5],[1,6,2,6],[1,7,2,7],[1,8,2,8],[1,9,2,9],[1,12,2,12],[1,13,2,13],[1,14,1,15],[1,16,1,17]]}
["BIODATA SISWA"]
["NO. URUT","NO SERI RAPOR","NAMA SISWA","NIS","NISN","Tempat, Tanggal Lahir","Jenis Kelamin","Agama","Status dalam Keluarga","Anak Ke","Alamat Siswa",null,"No. Telp. Siswa/ Rumah","Sekolah Asal","Diterima di Sekolah ini",null,"Nama Orang Tua",null,"Alamat Orang Tua",null,"No.Telp. Rumah/Ortu","Pekerjaan Orang Tua",null,"Nama Wali Siswa","Alamat Wali Siswa",null,"No.Telp. Wali Siswa","Pekerjaan Wali Siswa"]
[null,null,null,null,null,null,null,null,null,null,"Jl. & Kelurahan","Kecamatan & Kabupaten",null,null,"Di Kelas","Pada Tanggal","Ayah","Ibu","Jln & Kelurahan","Kecamatan & Kabupaten",null,"Ayah","Ibu",null,"Jln & Kelurahan","Kecamatan & Kabupaten"]
["1",{"$f":"A4+1","v":2},{"$f":"B4+1","v":3},{"$f":"C4+1","v":4},5,6,7,8,9,10,11,12,13,14,15,16,17,18,19,20,21,22,23,24,25,26,27,28]
[1,null,"AGHNIA SYAFIRA",13140767,9986230059,"Jakarta, 30 Mei 1998","Perempuan","Islam","Anak Kandung","1 dari 2","Jl. Niaga No. 564","Kecamatan Karawang Barat, Kabupaten Karawang","(0267) 511123","SMPN 1 Karawang","X","2022-07-22","Abi","Umi","Jl. Niaga No. 564","Kecamatan Karawang Barat, Kabupaten Karawang","0812345678","PNS","PNS","-","-","-","-","-"]
[2,null,"AL KINDI",13140768,9973289804,"Bukittinggi, 18 Desember 1997","Laki-laki","Islam","Anak Kandung","1 dari 2",null,null,null,null,null,null,null,null,null,null,null,null,null,"-","-","-","-","-"]
[3,null,"ALFIAN MULYADI NATA",13140769,9984697431,"Brebes, 10 April 1998","Laki-laki","Islam","Anak Kandung","1 dari 2",null,null,null,null,null,null,null,null,null,null,null,null,null,"-","-","-","-","-"]
[4,null,"ALFIANA WAHYU ATMADJA",13140770,9984877758,"Karawang, 3 September 1998","Laki-laki","Islam","Anak Kandung","1 dari 2",null,null,null,null,null,null,null,null,null,null,null,null,null,"-","-","-","-","-"]
[5,null,"ASEP DODO ROHENDI",13140771,9979804734,"Karawang, 17 November 1997","Laki-laki","Islam","Anak Kandung","1 dari 2",null,null,null,null,null,null,null,null,null,null,null,null,null,"-","-","-","-","-"]
[6,null,"BILLY RIZKI JHONATHAN",13140772,9975460320,"Karawang, 06 September 1997","Laki-laki","Islam","Anak Kandung","1 dari 2",null,null,null,null,null,null,null,null,null,null,null,null,null,"-","-","-","-","-"]
[7,null,"CAHYASARI RAMADHANTY",13140773,9984696452,"Yogyakarta, 13 Januari 1998","Perempuan","Islam","Anak Kandung","1 dari 2",null,null,null,null,null,null,null,null,null,null,null,null,null,"-","-","-","-","-"]
[8,null,null,null,null,null,null,null,null,null,null,null,null,null,null,null,null,null,null,null,null,null,null,"-","-","-","-","-"]
[9,null,null,null,null,null,null,null,null,null,null,null,null,null,null,null,null,null,null,null,null,null,null,"-","-","-","-","-"]
[10,null,null,null,null,null,null,null,null,null,null,null,null,null,null,null,null,null,null,null,null,null,null,"-","-","-","-","-"]
[11,null,null,null,null,null,null,null,null,null,null,null,null,null,null,null,null,null,null,null,null,null,null,"-","-","-","-","-"]
[12,null,null,null,null,null,null,null,null,null,null,null,null,null,null,null,null,null,null,null,null,null,null,"-","-","-","-","-"]
[13,null,null,null,null,null,null,null,null,null,null,null,null,null,null,null,null,null,null,null,null,null,null,"-","-","-","-","-"]
[14,null,null,null,null,null,null,null,null,null,null,null,null,null,null,null,null,null,null,null,null,null,null,"-","-","-","-","-"]
[15,null,null,null,null,null,null,null,null,null,null,null,null,null,null,null,null,null,null,null,null,null,null,"-","-","-","-","-"]
[16,null,null,null,null,null,null,null,null,null,null,null,null,null,null,null,null,null,null,null,null,null,null,"-","-","-","-","-"]
[17,null,null,null,null,null,null,null,null,null,null,null,null,null,null,null,null,null,null,null,null,null,null,"-","-","-","-","-"]
[18,null,null,null,null,null,null,null,null,null,null,null,null,null,null,null,null,null,null,null,null,null,null,"-","-","-","-","-"]
[19,null,null,null,null,null,null,null,null,null,null,null,null,null,null,null,null,null,null,null,null,null,null,"-","-","-","-","-"]
[20,null,null,null,null,null,null,null,null,null,null,null,null,null,null,null,null,null,null,null,null,null,null,"-","-","-","-","-"]
[21,null,null,null,null,null,null,null,null,null,null,null,null,null,null,null,null,null,null,null,null,null,null,"-","-","-","-","-"]
[22,null,null,null,null,null,null,null,null,null,null,null,null,null,null,null,null,null,null,null,null,null,null,"-","-","-","-","-"]
[23,null,null,null,null,null,null,null,null,null,null,null,null,null,null,null,null,null,null,null,null,null,null,"-","-","-","-","-"]
[24,null,null,null,null,null,null,null,null,null,null,null,null,null,null,null,null,null,null,null,null,null,null,"-","-","-","-","-"]
[25,null,null,null,null,null,null,null,null,null,null,null,null,null,null,null,null,null,null,null,null,null,null,"-","-","-","-","-"]
[26,null,null,null,null,null,null,null,null,null,null,null,null,null,null,null,null,null,null,null,null,null,null,"-","-","-","-","-"]
[27,null,null,null,null,null,null,null,null,null,null,null,null,null,null,null,null,null,null,null,null,null,null,"-","-","-","-","-"]
[28,null,null,null,null,null,null,null,null,null,null,null,null,null,null,null,null,null,null,null,null,null,null,"-","-","-","-","-"]
[29,null,null,null,null,null,null,null,null,null,null,null,null,null,null,null,null,null,null,null,null,null,null,"-","-","-","-","-"]
[30,null,null,null,null,null,null,null,null,null,null,null,null,null,null,null,null,null,null,null,null,null,null,"-","-","-","-","-"]
[31,null,null,null,null,null,null,null,null,null,null,null,null,null,null,null,null,null,null,null,null,null,null,"-","-","-","-","-"]
[32,null,null,null,null,null,null,null,null,null,null,null,null,null,null,null,null,null,null,null,null,null,null,"-","-","-","-","-"]
[33,null,null,null,null,null,null,null,null,null,null,null,null,null,null,null,null,null,null,null,null,null,null,"-","-","-","-","-"]
[34,null,null,null,null,null,null,null,null,null,null,null,null,null,null,null,null,null,null,null,null,null,null,"-","-","-","-","-"]
[35,null,null,null,null,null,null,null,null,null,null,null,null,null,null,null,null,null,null,null,null,null,null,"-","-","-","-","-"]
[36,null,null,null,null,null,null,null,null,null,null,null,null,null,null,null,null,null,null,null,null,null,null,"-","-","-","-","-"]
["-",null,null,null,null,null,null,null,null,null,null,null,null,null,null,null,null,null,null,null,null,null,null,"-","-","-","-","-"]
["-",null,null,null,null,null,null,null,null,null,null,null,null,null,null,null,null,null,null,null,null,null,null,"-","-","-","-","-"]
["-",null,null,null,null,null,null,null,null,null,null,null,null,null,null,null,null,null,null,null,null,null,null,"-","-","-","-","-"]
["-",null,null,null,null,null,null,null,null,null,null,null,null,null,null,null,null,null,null,null,null,null,null,"-","-","-","-","-"]
["-",null,null,null,null,null,null,null,null,null,null,null,null,null,null,null,null,null,null,null,null,null,null,"-","-","-","-","-"]
["-",null,null,null,"-","-",null,null,null,null,null,null,null,null,null,null,null,null,null,null,null,null,null,"-","-","-","-","-"]
["-",null,null,null,"-","-",null,null,null,null,null,null,null,null,null,null,null,null,null,null,null,null,null,"-","-","-","-","-"]
["-",null,null,null,"-","-",null,null,null,null,null,null,null,null,null,null,null,null,null,null,null,null,null,"-","-","-","-","-"]
["-",null,null,null,"-","-",null,null,null,null,null,null,null,null,null,null,null,null,null,null,null,null,null,"-","-","-","-","-"]

{"sheet":"COVER","index":2,"n_rows":37,"n_cols":13,"rows_kept":37,"cut":false,"hidden":false,"merged":[[12,11,12,12],[13,11,14,11],[13,12,14,12],[36,11,37,13],[22,0,22,7],[29,0,29,7],[23,0,23,7],[24,0,24,7],[31,0,31,7],[5,11,5,12],[6,11,7,11],[6,12,7,12],[8,11,9,11],[8,12,9,12]]}
[]
[null,null,null,"RAPOR SISWA"]
[null,null,null,"SEKOLAH MENENGAH KEJURUAN"]
[null,null,null,"(SMK)"]
[]
[null,null,null,null,null,null,null,null,null,null,null,"HALAMAN CETAK"]
[null,null,null,null,null,null,null,null,null,null,null,"Dari data ke",12]
[]
[null,null,null,null,null,null,null,null,null,null,null,"Sampai data ke",12]
[]
[]
[]
[null,null,null,null,null,null,null,null,null,null,null,"TAMPILAN DATA"]
[null,null,null,null,null,null,null,null,null,null,null,"Nomor Urut",1]
[]
[]
[]
[]
[]
[]
[]
[]
["Nama Siswa :"]
[]
[{"$f":"VLOOKUP($M$14,TABBIODATA,BIODATA!C4)","v":"AGHNIA SYAFIRA"}]
[]
[]
[]
[]
["NIS / NISN :"]
[]
[{"$f":"IF(VLOOKUP($M$14,TABBIODATA,BIODATA!E4)=\"\",VLOOKUP($M$14,TABBIODATA,BIODATA!D4),VLOOKUP($M$14,TABBIODATA,BIODATA!D4)&\" / \"&VLOOKUP($M$14,TABBIODATA,BIODATA!E4))","v":"13140767 / 9986230059"}]
[]
[]
[]
[null,null,null,"KEMENTERIAN PENDIDIKAN DAN KEBUDAYAAN"]
[null,null,null,"REPUBLIK INDONESIA",null,null,null,null,null,null,null,{"$f":"\"Nomor Urut \"&M14","v":"Nomor Urut 1"}]

{"sheet":"KET.PETUNJUK","index":3,"n_rows":147,"n_cols":41,"rows_kept":147,"cut":false,"hidden":false,"merged":[[41,10,42,17],[2,19,2,26],[3,19,3,26],[4,19,5,26],[6,19,7,26],[8,19,8,26],[9,19,10,26],[17,19,18,26],[20,19,22,26],[37,10,40,17],[17,10,18,17],[12,10,13,17],[15,10,16,17],[20,10,22,17],[24,31,24,35],[21,28,21,29],[22,3,22,6],[32,33,32,35],[33,33,33,35],[25,28,25,29],[25,31,25,35],[26,28,26,29],[26,31,26,35],[27,28,27,29],[27,31,27,35],[22,28,22,29],[24,28,24,29],[21,31,21,35],[22,31,22,35],[23,28,23,29],[38,33,38,35],[28,28,28,29],[28,31,28,35],[29,28,29,29],[29,31,29,35],[23,31,23,35],[18,28,18,29],[18,31,18,35],[19,28,19,29],[19,31,19,35],[20,28,20,29],[20,31,20,35],[15,28,15,29],[15,31,15,35],[16,28,16,29],[16,31,16,35],[17,28,17,29],[17,31,17,35],[13,39,14,39],[13,40,14,40],[10,28,10,29],[10,31,10,35],[11,28,11,29],[11,31,11,35],[12,28,12,29],[12,31,12,35],[13,28,13,29],[13,31,13,35],[14,28,14,29],[14,31,14,35],[9,28,9,29],[9,31,9,35],[12,39,12,40],[5,28,5,29],[5,31,5,35],[6,28,6,29],[6,31,6,35],[5,39,5,40],[6,39,7,39],[6,40,7,40],[8,39,9,39],[8,40,9,40],[4,28,4,29],[4,31,4,35],[7,28,7,29],[7,31,7,35],[8,28,8,29],[8,31,8,35],[0,27,0,35],[2,28,2,29],[2,31,2,35],[3,28,3,29],[3,31,3,35],[0,9,0,17],[3,10,4,17],[5,10,6,17],[7,10,8,17],[10,10,11,17]]}
[null,null,null,{"$f":"COVER!D2","v":"RAPOR SISWA"},null,null,null,null,null,"PETUNJUK PENGISIAN",null,null,null,null,null,null,null,null,null,null,null,null,null,null,null,null,null,"KETERANGAN TENTANG DIRI SISWA"]
[null,null,null,{"$f":"COVER!D3","v":"SEKOLAH MENENGAH KEJURUAN"}]
[null,null,null,{"$f":"COVER!D4","v":"(SMK)"},null,null,null,null,null,null,null,null,null,null,null,null,null,null,16,"Laporan Ekstrakurikuler diisi berdasarkan kegiatan ekstrakurikuler yang diikuti oleh siswa; ",null,null,null,null,null,null,null,"1.","Nama Siswa (Lengkap)",null,":",{"$f":"VLOOKUP($AO$14,TABBIODATA,BIODATA!C4)","v":"AL KINDI"}]
[null,null,null,null,null,null,null,null,null,1,"Rapor merupakan ringkasan hasil penilaian terhadap seluruh aktivitas pembelajaran yang dilakukan siswa dalam kurun waktu tertentu;",null,null,null,null,null,null,null,17,"Saran-saran wali kelas diisi berdasarkan kegiatan yang perlu mendapatkan perhatian siswa;",null,null,null,null,null,null,null,"2.","Nomor Induk Siswa/NISN",null,":",{"$f":"IF(VLOOKUP($AO$14,TABBIODATA,BIODATA!E4)=\"\",VLOOKUP($AO$14,TABBIODATA,BIODATA!D4),VLOOKUP($AO$14,TABBIODATA,BIODATA!D4)&\" / \"&VLOOKUP($AO$14,TABBIODATA,BIODATA!E4))","v":"13140768 / 9973289804"}]
[null,null,null,null,null,null,null,null,null,null,null,null,null,null,null,null,null,null,18,"Prestasi diisi dengan prestasi  yang dicapai oleh siswa dalam bidang akademik dan non akademik;",null,null,null,null,null,null,null,"3.","Tempat  Tanggal Lahir",null,":",{"$f":"VLOOKUP($AO$14,TABBIODATA,BIODATA!F4)","v":"Bukittinggi, 18 Desember 1997"},null,{"$f":"VLOOKUP($AO$14,TABBIODATA,BIODATA!D6)","v":{"$error":"#REF!"}},{"$f":"VLOOKUP($AO$14,TABBIODATA,BIODATA!E6)","v":{"$error":"#REF!"}},{"$f":"VLOOKUP($AO$14,TABBIODATA,BIODATA!G6)","v":{"$error":"#REF!"}}]
[null,null,null,null,null,null,null,null,null,2,"Rapor dipergunakan selama siswa yang bersangkutan mengikuti seluruh program pembelajaran di Sekolah Menengah Kejuruan tersebut;",null,null,null,null,null,null,null,null,null,null,null,null,null,null,null,null,"4.","Jenis Kelamin",null,":",{"$f":"VLOOKUP($AO$14,TABBIODATA,BIODATA!G4)","v":"Laki-laki"},null,{"$f":"VLOOKUP($AO$14,TABBIODATA,BIODATA!D7)","v":{"$error":"#REF!"}},{"$f":"VLOOKUP($AO$14,TABBIODATA,BIODATA!E7)","v":{"$error":"#REF!"}},{"$f":"VLOOKUP($AO$14,TABBIODATA,BIODATA!G7)","v":{"$error":"#REF!"}},null,null,null,"HALAMAN CETAK"]
[null,null,null,null,null,null,null,null,null,null,null,null,null,null,null,null,null,null,19,"Ketidakhadiran diisi dengan data akumulasi ketidakhadiran siswa karena sakit, izin, atau tanpa keterangan selama satu semester.",null,null,null,null,null,null,null,"5.","Agama",null,":",{"$f":"VLOOKUP($AO$14,TABBIODATA,BIODATA!H4)","v":"Islam"},null,{"$f":"VLOOKUP($AO$14,TABBIODATA,BIODATA!D8)","v":{"$error":"#REF!"}},{"$f":"VLOOKUP($AO$14,TABBIODATA,BIODATA!E8)","v":{"$error":"#REF!"}},{"$f":"VLOOKUP($AO$14,TABBIODATA,BIODATA!G8)","v":{"$error":"#REF!"}},null,null,null,"Dari data ke",12]
[null,null,null,null,null,null,null,null,null,3,"Identitas Sekolah diisi dengan data yang sesuai dengan keberadaan Sekolah Menengah Kejuruan;",null,null,null,null,null,null,null,null,null,null,null,null,null,null,null,null,"6.","Status dalam Keluarga",null,":",{"$f":"VLOOKUP($AO$14,TABBIODATA,BIODATA!I4)","v":"Anak Kandung"},null,{"$f":"VLOOKUP($AO$14,TABBIODATA,BIODATA!D9)","v":{"$error":"#REF!"}},{"$f":"VLOOKUP($AO$14,TABBIODATA,BIODATA!E9)","v":{"$error":"#REF!"}},{"$f":"VLOOKUP($AO$14,TABBIODATA,BIODATA!G9)","v":{"$error":"#REF!"}}]
[null,null,null,null,null,null,null,null,null,null,null,null,null,null,null,null,null,null,20,"Tanggapan orang tua/wali adalah tanggapan atas pencapaian hasil belajar siswa.",null,null,null,null,null,null,null,"7.","Anak ke",null,":",{"$f":"VLOOKUP($AO$14,TABBIODATA,BIODATA!J4)","v":"1 dari 2"},null,{"$f":"VLOOKUP($AO$14,TABBIODATA,BIODATA!D10)","v":{"$error":"#REF!"}},{"$f":"VLOOKUP($AO$14,TABBIODATA,BIODATA!E10)","v":{"$error":"#REF!"}},{"$f":"VLOOKUP($AO$14,TABBIODATA,BIODATA!G10)","v":{"$error":"#REF!"}},null,null,null,"Sampai data ke",12]
[null,null,null,null,null,null,null,null,null,4,"Keterangan tentang diri  Siswa diisi lengkap;",null,null,null,null,null,null,null,21,"Keterangan pindah keluar sekolah diisi dengan alasan kepindahan. Sedangkan pindah masuk diisi dengan sekolah asal.",null,null,null,null,null,null,null,"8.","Alamat Siswa",null,":",{"$f":"VLOOKUP($AO$14,TABBIODATA,BIODATA!K4)","v":0},null,{"$f":"VLOOKUP($AO$14,TABBIODATA,BIODATA!D11)","v":{"$error":"#REF!"}},{"$f":"VLOOKUP($AO$14,TABBIODATA,BIODATA!E11)","v":{"$error":"#REF!"}},{"$f":"VLOOKUP($AO$14,TABBIODATA,BIODATA!G11)","v":{"$error":"#REF!"}}]
[null,null,null,null,null,null,null,null,null,5,"Rapor harus dilengkapi dengan pas foto berwarna (3 x 4) dan pengisiannya dilakukan oleh Wali Kelas;",null,null,null,null,null,null,null,null,null,null,null,null,null,null,null,null,null,null,null,null,{"$f":"VLOOKUP($AO$14,TABBIODATA,BIODATA!L4)","v":0},null,{"$f":"VLOOKUP($AO$14,TABBIODATA,BIODATA!D12)","v":{"$error":"#VALUE!"}},{"$f":"VLOOKUP($AO$14,TABBIODATA,BIODATA!E12)","v":{"$error":"#VALUE!"}},{"$f":"VLOOKUP($AO$14,TABBIODATA,BIODATA!G12)","v":{"$error":"#VALUE!"}}]
[null,null,null,null,null,null,null,null,null,null,null,null,null,null,null,null,null,null,null,null,null,null,null,null,null,null,null,"9.","Nomor Telepon Rumah",null,":",{"$f":"VLOOKUP($AO$14,TABBIODATA,BIODATA!M4)","v":0},null,{"$f":"VLOOKUP($AO$14,TABBIODATA,BIODATA!D13)","v":{"$error":"#VALUE!"}},{"$f":"VLOOKUP($AO$14,TABBIODATA,BIODATA!E13)","v":{"$error":"#VALUE!"}},{"$f":"VLOOKUP($AO$14,TABBIODATA,BIODATA!G13)","v":{"$error":"#VALUE!"}}]
[null,null,null,null,null,null,null,null,null,6,"Deskripsi sikap spiritual diambil dari hasil observasi terutama pada mata pelajaran Pendidikan Agama dan Budi pekerti, dan PPKn;",null,null,null,null,null,null,null,null,null,null,null,null,null,null,null,null,"10.","Sekolah Asal",null,":",{"$f":"VLOOKUP($AO$14,TABBIODATA,BIODATA!N4)","v":0},null,{"$f":"VLOOKUP($AO$14,TABBIODATA,BIODATA!D14)","v":{"$error":"#VALUE!"}},{"$f":"VLOOKUP($AO$14,TABBIODATA,BIODATA!E14)","v":{"$error":"#VALUE!"}},{"$f":"VLOOKUP($AO$14,TABBIODATA,BIODATA!G14)","v":{"$error":"#VALUE!"}},null,null,null,"TAMPILAN DATA"]
[null,null,null,null,null,null,null,null,null,null,null,null,null,null,null,null,null,null,null,null,null,null,null,null,null,null,null,"11.","Diterima di sekolah ini",null,null,null,null,null,null,null,null,null,null,"Nomor Urut",2]
[null,null,null,null,null,null,null,null,null,7,"Deskripsi sikap sosial diambil dari hasil observasi pada semua mata pelajaran; ",null,null,null,null,null,null,null,null,null,null,null,null,null,null,null,null,null,"Di kelas",null,":",{"$f":"VLOOKUP($AO$14,TABBIODATA,BIODATA!O4)","v":0},null,{"$f":"VLOOKUP($AO$14,TABBIODATA,BIODATA!D16)","v":{"$error":"#VALUE!"}},{"$f":"VLOOKUP($AO$14,TABBIODATA,BIODATA!E16)","v":{"$error":"#VALUE!"}},{"$f":"VLOOKUP($AO$14,TABBIODATA,BIODATA!G16)","v":{"$error":"#VALUE!"}}]
[null,null,null,null,null,null,null,null,null,8,"Deskripsi pada kompetensi sikap ditulis dengan kalimat positif untuk aspek yang sangat baik atau kurang baik;",null,null,null,null,null,null,null,null,null,null,null,null,null,null,null,null,null,"Pada tanggal",null,":",{"$f":"VLOOKUP($AO$14,TABBIODATA,BIODATA!P4)","v":"00:00:00"},null,{"$f":"VLOOKUP($AO$14,TABBIODATA,BIODATA!D17)","v":{"$error":"#VALUE!"}},{"$f":"VLOOKUP($AO$14,TABBIODATA,BIODATA!E17)","v":{"$error":"#VALUE!"}},{"$f":"VLOOKUP($AO$14,TABBIODATA,BIODATA!G17)","v":{"$error":"#VALUE!"}}]
[null,null,null,null,null,null,null,null,null,null,null,null,null,null,null,null,null,null,null,null,null,null,null,null,null,null,null,"12.","Nama Orang Tua"]
[null,"Bidang Keahlian",":",{"$f":"VLOOKUP(MENU!I8,TAB_JURUSAN,2,FALSE)","v":"TEKNOLOGI INFORMASI DAN KOMUNIKASI"},null,null,null,null,null,9,"Capaian siswa dalam kompetensi pengetahuan dan kompetensi keterampilan ditulis dalam bentuk angka, predikat dan deskripsi untuk masing-masing mata pelajaran;",null,null,null,null,null,null,null,null,null,null,null,null,null,null,null,null,null,"a.  Ayah",null,":",{"$f":"VLOOKUP($AO$14,TABBIODATA,BIODATA!Q4)","v":0},null,{"$f":"VLOOKUP($AO$14,TABBIODATA,BIODATA!D19)","v":{"$error":"#VALUE!"}},{"$f":"VLOOKUP($AO$14,TABBIODATA,BIODATA!E19)","v":{"$error":"#VALUE!"}},{"$f":"VLOOKUP($AO$14,TABBIODATA,BIODATA!G19)","v":{"$error":"#VALUE!"}}]
[null,"Program Keahlian",":",{"$f":"VLOOKUP(MENU!I8,TAB_JURUSAN,3,FALSE)","v":"TEKNIK KOMPUTER DAN INFORMATIKA"},null,null,null,null,null,null,null,null,null,null,null,null,null,null,null,null,null,null,null,null,null,null,null,null,"b.  Ibu",null,":",{"$f":"VLOOKUP($AO$14,TABBIODATA,BIODATA!R4)","v":0},null,{"$f":"VLOOKUP($AO$14,TABBIODATA,BIODATA!D20)","v":{"$error":"#VALUE!"}},{"$f":"VLOOKUP($AO$14,TABBIODATA,BIODATA!E20)","v":{"$error":"#VALUE!"}},{"$f":"VLOOKUP($AO$14,TABBIODATA,BIODATA!G20)","v":{"$error":"#VALUE!"}}]
[null,"Paket Keahlian",":",{"$f":"VLOOKUP(MENU!I8,TAB_JURUSAN,4,FALSE)","v":"TEKNIK KOMPUTER JARINGAN"},null,null,null,null,null,10,"Predikat ditulis dalam bentuk huruf sesuai kriteria;",null,null,null,null,null,null,null,null,null,null,null,null,null,null,null,null,"13.","Alamat  Orang Tua",null,":",{"$f":"VLOOKUP($AO$14,TABBIODATA,BIODATA!S4)","v":0},null,{"$f":"VLOOKUP($AO$14,TABBIODATA,BIODATA!D21)","v":{"$error":"#VALUE!"}},{"$f":"VLOOKUP($AO$14,TABBIODATA,BIODATA!E21)","v":{"$error":"#VALUE!"}},{"$f":"VLOOKUP($AO$14,TABBIODATA,BIODATA!G21)","v":{"$error":"#VALUE!"}}]
[null,null,null,null,null,null,null,null,null,11,"Kolom KKM (Kriteria Ketuntasan Minimal) merupakan acuan bagi kriteria kenaikan kelas sehingga wali kelas wajib menerangkan konsekuensi ketuntasan belajar tersebut kepada orang tua/wali;  ",null,null,null,null,null,null,null,null,null,null,null,null,null,null,null,null,null,null,null,null,{"$f":"VLOOKUP($AO$14,TABBIODATA,BIODATA!T4)","v":0},null,{"$f":"VLOOKUP($AO$14,TABBIODATA,BIODATA!D22)","v":{"$error":"#VALUE!"}},{"$f":"VLOOKUP($AO$14,TABBIODATA,BIODATA!E22)","v":{"$error":"#VALUE!"}},{"$f":"VLOOKUP($AO$14,TABBIODATA,BIODATA!G22)","v":{"$error":"#VALUE!"}}]
[null,"Nama Sekolah",":","SMKN 1 KARAWANG",null,null,null,null,null,null,null,null,null,null,null,null,null,null,null,null,null,null,null,null,null,null,null,null,"Nomor Telepon Rumah",null,":",{"$f":"VLOOKUP($AO$14,TABBIODATA,BIODATA!U4)","v":0},null,{"$f":"VLOOKUP($AO$14,TABBIODATA,BIODATA!D23)","v":{"$error":"#VALUE!"}},{"$f":"VLOOKUP($AO$14,TABBIODATA,BIODATA!E23)","v":{"$error":"#VALUE!"}},{"$f":"VLOOKUP($AO$14,TABBIODATA,BIODATA!G23)","v":{"$error":"#VALUE!"}}]
[null,"NIS / NSS / NDS",":",311022105084,null,null,null,null,null,null,null,null,null,null,null,null,null,null,null,null,null,null,null,null,null,null,null,"14.","Pekerjaan Orang Tua"]
[null,"Alamat Sekolah",":","Jl.Pangkal Perjuangan By Pass Karawang  ",null,null,null,null,null,12,"Batas bawah predikat C adalah nilai KKM;",null,null,null,null,null,null,null,null,null,null,null,null,null,null,null,null,null,"a.   Ayah",null,":",{"$f":"VLOOKUP($AO$14,TABBIODATA,BIODATA!V4)","v":0},null,{"$f":"VLOOKUP($AO$14,TABBIODATA,BIODATA!D25)","v":{"$error":"#VALUE!"}},{"$f":"VLOOKUP($AO$14,TABBIODATA,BIODATA!E25)","v":{"$error":"#VALUE!"}},{"$f":"VLOOKUP($AO$14,TABBIODATA,BIODATA!G25)","v":{"$error":"#VALUE!"}}]
[null,null,":","Telp. (0267) 401651 Fax. 417258",null,null,null,null,null,13,"Rentang predikat capaian kompetensi dapat dihitung dengan cara : ",null,null,null,null,null,null,null,null,null,null,null,null,null,null,null,null,null,"b.   Ibu",null,":",{"$f":"VLOOKUP($AO$14,TABBIODATA,BIODATA!W4)","v":0},null,{"$f":"VLOOKUP($AO$14,TABBIODATA,BIODATA!D26)","v":{"$error":"#VALUE!"}},{"$f":"VLOOKUP($AO$14,TABBIODATA,BIODATA!E26)","v":{"$error":"#VALUE!"}},{"$f":"VLOOKUP($AO$14,TABBIODATA,BIODATA!G26)","v":{"$error":"#VALUE!"}}]
[null,"Desa / Kelurahan",":","Tanjungpura",null,null,null,null,null,null,"Rentang =  100 – nilai KKM",null,null,null,null,null,null,null,null,null,null,null,null,null,null,null,null,"15.","Nama Wali Siswa",null,":",{"$f":"VLOOKUP($AO$14,TABBIODATA,BIODATA!X4)","v":"-"},null,{"$f":"VLOOKUP($AO$14,TABBIODATA,BIODATA!D27)","v":{"$error":"#VALUE!"}},{"$f":"VLOOKUP($AO$14,TABBIODATA,BIODATA!E27)","v":{"$error":"#VALUE!"}},{"$f":"VLOOKUP($AO$14,TABBIODATA,BIODATA!G27)","v":{"$error":"#VALUE!"}}]
[null,"Kecamatan",":","Karawang Barat",null,null,null,null,null,null,"                        3",null,null,null,null,null,null,null,null,null,null,null,null,null,null,null,null,"16.","Alamat Wali Siswa",null,":",{"$f":"VLOOKUP($AO$14,TABBIODATA,BIODATA!Y4)","v":"-"},null,{"$f":"VLOOKUP($AO$14,TABBIODATA,BIODATA!D28)","v":{"$error":"#VALUE!"}},{"$f":"VLOOKUP($AO$14,TABBIODATA,BIODATA!E28)","v":{"$error":"#VALUE!"}},{"$f":"VLOOKUP($AO$14,TABBIODATA,BIODATA!G28)","v":{"$error":"#VALUE!"}}]
[null,"Kota / Kabupaten",":","Karawang",null,null,null,null,null,null,"Contoh : ",null,null,null,null,null,null,null,null,null,null,null,null,null,null,null,null,null,null,null,null,{"$f":"VLOOKUP($AO$14,TABBIODATA,BIODATA!Z4)","v":"-"},null,{"$f":"VLOOKUP($AO$14,TABBIODATA,BIODATA!D29)","v":{"$error":"#VALUE!"}},{"$f":"VLOOKUP($AO$14,TABBIODATA,BIODATA!E29)","v":{"$error":"#VALUE!"}},{"$f":"VLOOKUP($AO$14,TABBIODATA,BIODATA!G29)","v":{"$error":"#VALUE!"}}]
[null,"Provinsi",":","Jawa Barat",null,null,null,null,null,null," 100 – 78   =  22  = 7,33",null,null,null,null,null,null,null,null,null,null,null,null,null,null,null,null,null,"Nomor Telepon Rumah",null,":",{"$f":"VLOOKUP($AO$14,TABBIODATA,BIODATA!AA4)","v":"-"},null,{"$f":"VLOOKUP($AO$14,TABBIODATA,BIODATA!D30)","v":{"$error":"#VALUE!"}},{"$f":"VLOOKUP($AO$14,TABBIODATA,BIODATA!E30)","v":{"$error":"#VALUE!"}},{"$f":"VLOOKUP($AO$14,TABBIODATA,BIODATA!G30)","v":{"$error":"#VALUE!"}}]
[null,"Website",":","www.smkn1karawang.net",null,null,null,null,null,null,"       3              3",null,null,null,null,null,null,null,null,null,null,null,null,null,null,null,null,"17.","Pekerjaan Wali Siswa",null,":",{"$f":"VLOOKUP($AO$14,TABBIODATA,BIODATA!AB4)","v":"-"},null,{"$f":"VLOOKUP($AO$14,TABBIODATA,BIODATA!D31)","v":{"$error":"#VALUE!"}},{"$f":"VLOOKUP($AO$14,TABBIODATA,BIODATA!E31)","v":{"$error":"#VALUE!"}},{"$f":"VLOOKUP($AO$14,TABBIODATA,BIODATA!G31)","v":{"$error":"#VALUE!"}}]
[null,"email",":","infocenter@smkn1karawang.net"]
[null,null,null,null,null,null,null,null,null,null,"Setelah dibulatkan maka rentang predikat ada pada 7 atau 8. "]
[null,null,null,null,null,null,null,null,null,null,"Maka rentang predikatnya :",null,null,null,null,null,null,null,null,null,null,null,null,null,null,null,null,null,null,null,null,null,null,{"$f":"AF16","v":"00:00:00"}]
[null,null,null,null,null,null,null,null,null,null,"Sangat Baik (A)  : 94-100",null,null,null,null,null,null,null,null,null,null,null,null,null,null,null,null,null,null,null,null,null,null,"Kepala Sekolah,"]
[null,null,null,null,null,null,null,null,null,null,"Baik (B)              : 86-93"]
[null,null,null,null,null,null,null,null,null,null,"Cukup (C)           : 78-85"]
[null,null,null,null,null,null,null,null,null,null,"Kurang (D)          :  ≤ 7"]
[null,null,null,null,null,null,null,null,null,14,"Deskripsi pada kompetensi pengetahuan dan kompetensi keterampilan ditulis dengan kalimat positif sesuai capaian tertinggi dan terendah yang diperoleh siswa. Apabila capaian kompetensi dasar yang diperoleh dalam muatan pelajaran itu sama, kolom deskripsi ditulis berdasarkan capaian yang diperoleh; "]
[null,null,null,null,null,null,null,null,null,null,null,null,null,null,null,null,null,null,null,null,null,null,null,null,null,null,null,null,null,null,null,null,null,{"$f":"MENU!P8","v":"Drs. Agus Rukmawan, S.IP, MM"}]
[null,null,null,null,null,null,null,null,null,null,null,null,null,null,null,null,null,null,null,null,null,null,null,null,null,null,null,null,null,null,null,null,null,{"$f":"\"NIP \"&MENU!P9","v":"NIP 19611111 198603 1 008"}]
[]
[null,null,null,null,null,null,null,null,null,15,"Laporan Praktik Kerja Lapangan diisi berdasarkan kegiatan praktik kerja yang diikuti oleh siswa di industri/perusahaan mitra;"]
[]
[]
[]
[]
[null,null,null,null,null,null,null,null,{"$f":"(100-77)/3","v":7.666666666666667},null," 100 – 77   =  23  = 7,67"]
[null,null,null,null,null,null,null,null,null,null,"       3              3"]
[]
[null,null,null,null,null,null,null,null,null,null,"Setelah dibulatkan maka rentang predikat ada pada 7 atau 8. "]
[null,null,null,null,null,null,null,null,null,null,"Maka rentang predikatnya :"]
[null,null,null,null,null,null,null,null,null,null,"Sangat Baik (A)  : 93-100"]
[null,null,null,null,null,null,null,null,null,null,"Baik (B)              : 85-92"]
[null,null,null,null,null,null,null,null,null,null,"Cukup (C)           : 77-84"]
[null,null,null,null,null,null,null,null,null,null,"Kurang (D)          :  ≤ 76"]
[]
[null,null,null,null,null,null,null,null,null,null,null,null,null,null,null,null,null,null,null,null,null,null,null,null,null,null,null,null,null,null,null,null,null,null,null,null,null,null,null,null,12]
[]
[null,null,null,null,null,null,null,null,null,null," 100 – 78   =  22  = 7,33"]
[null,null,null,null,null,null,null,null,null,null,"       3              3"]
[]
[null,null,null,null,null,null,null,null,null,null,"Setelah dibulatkan maka rentang predikat ada pada 7 atau 8. "]
[null,null,null,null,null,null,null,null,null,null,"Maka rentang predikatnya :"]
[null,null,null,null,null,null,null,null,null,null,"Sangat Baik (A)  : 93-100"]
[null,null,null,null,null,null,null,null,null,null,"Baik (B)              : 86-92"]
[null,null,null,null,null,null,null,null,null,null,"Cukup (C)           : 79-85"]
[null,null,null,null,null,null,null,null,null,null,"Kurang (D)          :  ≤ 78"]
[]
[]
[null,null,null,null,null,null,null,null,null,null," 100 – 75   =  25  = 8,33"]
[null,null,null,null,null,null,null,null,null,null,"       3              3"]
[]
[null,null,null,null,null,null,null,null,null,null,"Setelah dibulatkan maka rentang predikat ada pada 8 atau 9. "]
[null,null,null,null,null,null,null,null,null,null,"Maka rentang predikatnya :"]
[null,null,null,null,null,null,null,null,null,null,"Sangat Baik (A)  : 93-100"]
[null,null,null,null,null,null,null,null,null,null,"Baik (B)              : 84-92"]
[null,null,null,null,null,null,null,null,null,null,"Cukup (C)           : 75-83"]
[null,null,null,null,null,null,null,null,null,null,"Kurang (D)          :  ≤ 74 "]
[]
[]
[]
[]
[]
[]
[]
[]
[]
[]
[]
[]
[]
[]
[]
[]
[]
[]
[]
[]
[]
[]
[]
[]
[]
[]
[]
[]
[]
[]
[]
[]
[]
[]
[]
[]
[]
[]
[]
[]
[]
[]
[]
[]
[]
[]
[]
[]
[]
[]
[]
[]
[]
[]
[]
[]
[]
[]
[]
[]
[]
[]
[]
[]
[]
[]
[]
[]
[null,null,null,null,null,null,null,null,null,null,null,null,null,null,null,null,null,null,null,null,null,null,null,null,null,null,null,null,null,null,null,null,null,null,null,null,null,null,null,null,12]

{"sheet":"PINDAH.PRES","index":4,"n_rows":43,"n_cols":25,"rows_kept":43,"cut":false,"hidden":false,"merged":[[4,23,5,24],[6,23,7,23],[6,24,7,24],[8,23,9,23],[8,24,9,24],[12,23,12,24],[13,23,14,23],[13,24,14,24],[42,17,42,19],[33,17,33,19],[34,17,34,19],[35,17,35,19],[36,17,36,19],[37,17,37,19],[38,17,38,19],[39,17,39,19],[40,17,40,19],[41,17,41,19],[24,17,24,19],[25,17,25,19],[26,17,26,19],[27,17,27,19],[28,17,28,19],[29,17,29,19],[30,17,30,19],[31,17,31,19],[32,17,32,19],[15,17,15,19],[16,17,16,19],[17,17,17,19],[18,17,18,19],[19,17,19,19],[20,17,20,19],[21,17,21,19],[22,17,22,19],[23,17,23,19],[7,14,7,16],[7,17,7,19],[8,17,8,19],[9,17,9,19],[10,17,10,19],[11,17,11,19],[12,17,12,19],[13,17,13,19],[14,17,14,19],[0,13,0,19],[4,18,4,19],[6,14,6,16],[6,17,6,19],[40,7,40,8],[40,9,40,11],[35,7,35,8],[35,9,35,11],[36,7,36,8],[36,9,36,11],[37,7,37,8],[37,9,37,11],[38,7,38,8],[38,9,38,11],[39,7,39,8],[39,9,39,11],[30,7,30,8],[30,9,30,11],[31,7,31,8],[31,9,31,11],[32,7,32,8],[32,9,32,11],[33,7,33,8],[33,9,33,11],[21,7,21,8],[21,9,21,11],[22,7,22,8],[22,9,22,11],[23,7,23,8],[23,9,23,11],[24,7,24,8],[24,9,24,11],[34,7,34,8],[34,9,34,11],[25,7,25,8],[25,9,25,11],[26,7,26,8],[26,9,26,11],[27,7,27,8],[27,9,27,11],[28,7,28,8],[28,9,28,11],[29,7,29,8],[29,9,29,11],[16,7,16,8],[16,9,16,11],[17,7,17,8],[17,9,17,11],[18,7,18,8],[18,9,18,11],[19,7,19,8],[19,9,19,11],[20,7,20,8],[20,9,20,11],[11,7,11,8],[11,9,11,11],[12,7,12,8],[12,9,12,11],[13,7,13,8],[13,9,13,11],[14,7,14,8],[14,9,14,11],[15,7,15,8],[15,9,15,11],[10,7,10,8],[10,9,10,11],[0,6,0,12],[0,0,0,5],[2,4,2,5],[5,0,6,1],[9,7,9,8],[9,9,9,11],[5,2,6,2],[5,3,6,4],[5,5,6,5],[4,0,4,5],[4,7,4,12],[5,7,5,8],[5,9,5,11],[6,7,6,8],[6,9,7,11],[7,7,7,8],[8,7,8,8],[8,9,8,11]]}
["KETERANGAN PINDAH SEKOLAH",null,null,null,null,null,"KETERANGAN PINDAH SEKOLAH",null,null,null,null,null,null,"CATATAN PRESTASI YANG PERNAH DICAPAI"]
[]
["Nama Siswa",null,null,":",{"$f":"VLOOKUP($Y$14,TABBIODATA,BIODATA!C4)","v":"ALFIAN MULYADI NATA"},null,"Nama Siswa",null,":",{"$f":"VLOOKUP($Y$14,TABBIODATA,BIODATA!C4)","v":"ALFIAN MULYADI NATA"},null,null,null,null,"Nama Siswa",null,null,":",{"$f":"VLOOKUP($Y$14,TABBIODATA,BIODATA!C4)","v":"ALFIAN MULYADI NATA"}]
[null,null,null,null,null,null,null,null,null,null,null,null,null,null,"Nama Sekolah",null,null,":","SMKN 1 KARAWANG"]
["KELUAR",null,null,null,null,null,"NO.","MASUK",null,null,null,null,null,null,"Nomor Induk",null,null,":",{"$f":"VLOOKUP($Y$14,TABBIODATA,BIODATA!D4)","v":13140769},null,null,null,null,"HALAMAN CETAK"]
["Tanggal",null,"Kelas yang Ditinggalkan","Sebab-sebab Keluar atau Atas Permintaan (Tertulis)",null,"Tanda Tangan Kepala Sekolah, Stempel Sekolah, dan Tanda Tangan Orang Tua / Wali",null,null,null,null,null,null,"............................, ................."]
[null,null,null,null,null,null,1,"Nama Siswa",null,{"$f":"VLOOKUP($Y$14,TABBIODATA,BIODATA!C4,FALSE)","v":"ALFIAN MULYADI NATA"},null,null,"Kepala Sekolah,","No.","Prestasi yang Pernah Dicapai",null,null,"Keterangan",null,null,null,null,null,"Dari data ke",12]
[null,null,null,null,null,"............................, .................",null,null,null,null,null,null,null,1,"Kurikuler",null,null,"....................................................................................................................................."]
[null,null,null,null,null,"Kepala Sekolah,",2,"Nomor Induk / NISN",null,{"$f":"IF(VLOOKUP($Y$14,TABBIODATA,BIODATA!E4)=\"\",VLOOKUP($Y$14,TABBIODATA,BIODATA!D4),VLOOKUP($Y$14,TABBIODATA,BIODATA!D4)&\" / \"&VLOOKUP($Y$14,TABBIODATA,BIODATA!E4))","v":"13140769 / 9984697431"},null,null,null,null,null,null,null,".....................................................................................................................................",null,null,null,null,null,"Sampai data ke",12]
[null,null,null,null,null,null,3,"Nama Sekolah Asal",null,"SMKN 1 KARAWANG",null,null,"...............................................",null,null,null,null,"....................................................................................................................................."]
[null,null,null,null,null,null,4,"Masuk Di sekolah ini",null,null,null,null,"NIP. ........................................",null,null,null,null,"....................................................................................................................................."]
[null,null,null,null,null,"...............................................",null,"a. Tanggal",null,{"$f":"VLOOKUP($Y$14,TABBIODATA,BIODATA!P4)","v":"00:00:00"},null,null,null,null,null,null,null,"....................................................................................................................................."]
[null,null,null,null,null,"NIP. ........................................",null,"b. Di Kelas",null,{"$f":"VLOOKUP($Y$14,TABBIODATA,BIODATA!O4)","v":0},null,null,null,null,null,null,null,".....................................................................................................................................",null,null,null,null,null,"TAMPILAN DATA"]
[null,null,null,null,null,null,5,"Tahun Pelajaran",null,"2015/2016",null,null,null,null,null,null,null,".....................................................................................................................................",null,null,null,null,null,"Nomor Urut",3]
[null,null,null,null,null,"Orang Tua/Wali,",null,null,null,null,null,null,null,null,null,null,null,"....................................................................................................................................."]
[null,null,null,null,null,null,null,null,null,null,null,null,null,null,null,null,null,"....................................................................................................................................."]
[null,null,null,null,null,null,null,null,null,null,null,null,null,null,null,null,null,"....................................................................................................................................."]
[null,null,null,null,null,"...............................................",null,null,null,null,null,null,"............................, .................",null,null,null,null,"....................................................................................................................................."]
[null,null,null,null,null,null,1,"Nama Siswa",null," ………………………………",null,null,"Kepala Sekolah,",null,null,null,null,"....................................................................................................................................."]
[null,null,null,null,null,"............................, .................",null,null,null," ………………………………",null,null,null,2,"Ekstra Kurikuler",null,null,"....................................................................................................................................."]
[null,null,null,null,null,"Kepala Sekolah,",2,"Nomor Induk / NISN",null," ………………………………",null,null,null,null,null,null,null,"....................................................................................................................................."]
[null,null,null,null,null,null,3,"Nama Sekolah Asal",null," ………………………………",null,null,"...............................................",null,null,null,null,"....................................................................................................................................."]
[null,null,null,null,null,null,4,"Masuk Di sekolah ini",null," ………………………………",null,null,"NIP. ........................................",null,null,null,null,"....................................................................................................................................."]
[null,null,null,null,null,"...............................................",null,"a. Tanggal",null," ………………………………",null,null,null,null,null,null,null,"....................................................................................................................................."]
[null,null,null,null,null,"NIP. ........................................",null,"b. Di Kelas",null," ………………………………",null,null,null,null,null,null,null,"....................................................................................................................................."]
[null,null,null,null,null,null,5,"Tahun Pelajaran",null," ………………………………",null,null,null,null,null,null,null,"....................................................................................................................................."]
[null,null,null,null,null,"Orang Tua/Wali,",null,null,null,null,null,null,null,null,null,null,null,"....................................................................................................................................."]
[null,null,null,null,null,null,null,null,null,null,null,null,null,null,null,null,null,"....................................................................................................................................."]
[null,null,null,null,null,null,null,null,null,null,null,null,null,null,null,null,null,"....................................................................................................................................."]
[null,null,null,null,null,"...............................................",null,null,null,null,null,null,"............................, .................",null,null,null,null,"....................................................................................................................................."]
[null,null,null,null,null,null,1,"Nama Siswa",null," ………………………………",null,null,"Kepala Sekolah,",null,null,null,null,"....................................................................................................................................."]
[null,null,null,null,null,"............................, .................",null,null,null," ………………………………",null,null,null,3,"Catatan Khusus",null,null,"....................................................................................................................................."]
[null,null,null,null,null,"Kepala Sekolah,",2,"Nomor Induk / NISN",null," ………………………………",null,null,null,null,"Lainnya",null,null,"....................................................................................................................................."]
[null,null,null,null,null,null,3,"Nama Sekolah Asal",null," ………………………………",null,null,"...............................................",null,null,null,null,"....................................................................................................................................."]
[null,null,null,null,null,null,4,"Masuk Di sekolah ini",null," ………………………………",null,null,"NIP. ........................................",null,null,null,null,"....................................................................................................................................."]
[null,null,null,null,null,"...............................................",null,"a. Tanggal",null," ………………………………",null,null,null,null,null,null,null,"....................................................................................................................................."]
[null,null,null,null,null,"NIP. ........................................",null,"b. Di Kelas",null," ………………………………",null,null,null,null,null,null,null,"....................................................................................................................................."]
[null,null,null,null,null,null,5,"Tahun Pelajaran",null," ………………………………",null,null,null,null,null,null,null,"....................................................................................................................................."]
[null,null,null,null,null,"Orang Tua/Wali,",null,null,null,null,null,null,null,null,null,null,null,"....................................................................................................................................."]
[null,null,null,null,null,null,null,null,null,null,null,null,null,null,null,null,null,"....................................................................................................................................."]
[null,null,null,null,null,null,null,null,null,null,null,null,null,null,null,null,null,"....................................................................................................................................."]
[null,null,null,null,null,"...............................................",null,null,null,null,null,null,null,null,null,null,null,"....................................................................................................................................."]
[null,null,null,null,null,null,null,null,null,null,null,null,null,null,null,null,null,"....................................................................................................................................."]

{"sheet":"DATABASE","index":5,"n_rows":156,"n_cols":99,"rows_kept":156,"cut":false,"hidden":false,"merged":[[2,14,2,16],[1,14,1,18],[17,93,19,93],[8,92,10,92],[11,92,13,92],[14,92,16,92],[17,92,19,92],[8,93,10,93],[11,93,13,93],[14,93,16,93],[22,93,23,93],[24,93,25,93],[22,92,23,92],[24,92,25,92],[26,92,27,92],[28,92,29,92],[26,93,27,93],[28,93,29,93],[32,92,33,92],[32,93,33,93],[34,93,35,93],[36,93,37,93],[38,93,39,93],[34,92,35,92],[36,92,37,92],[38,92,39,92]]}
[null,"PILIHAN_DESKRIPSI",null,"DATA_JURUSAN",null,null,null,null,"NAMA GURU",null,null,null,null,null,"TABEL_NILAI",null,null,null,null,null,null,"TABEL_MAPEL",null,null,null,null,null,null,null,null,null,null,null,null,null,null,null,null,null,null,null,null,null,null,null,null,null,null,null,null,null,null,null,null,null,null,null,null,null,null,null,null,null,null,null,null,null,null,null,null,null,null,null,null,null,null,null,null,null,null,null,null,null,null,null,null,null,null,null,null,null,null,null,null,null,"TABEL_WALIKELAS"]
[null,"OTOMATIS",null,null,"Bidang Keahlian","Program Keahlian","Paket Keahlian",null,"NO","NO URUT","N A M A","NIP/PegId","Data NIP/PegId",null,"PENGETAHUAN & KETERAMPILAN",null,null,null,null,null,null,null,1,"DPIB 1 (satu)","DPIB 2 (dua)","DPIB 3 (tiga)","DPIB 4 (empat)","DPIB 5 (lima)","DPIB 6 (enam)","TITL 1 (satu)","TITL 2 (dua)","TITL 3 (tiga)","TITL 4 (empat)","TITL 5 (lima)","TITL 6 (enam)","TP 1 (satu)","TP 2 (dua)","TP 3 (tiga)","TP 4 (empat)","TP 5 (lima)","TP 6 (enam)","TPL 1 (satu)","TPL 2 (dua)","TPL 3 (tiga)","TPL 4 (empat)","TPL 5 (lima)","TPL 6 (enam)","TPGM 1 (satu)","TPGM 2 (dua)","TPGM 3 (tiga)","TPGM 4 (tiga)","TPGM 5 (lima)","TPGM 6 (enam)","TFLM 1 (satu)","TFLM 2 (dua)","TFLM 3 (tiga)","TFLM 4 (empat)","TFLM 5 (lima)","TFLM 6 (enam)","TKRO 1 (satu)","TKRO 2 (dua)","TKRO 3 (tiga)","TKRO 4 (empat)","TKRO 5 (lima)","TKRO 6 (enam)","TBSM 1 (satu)","TBSM 2 (dua)","TBSM 3 (tiga)","TBSM 4 (empat)","TBSM 5 (lima)","TBSM 6 (enam)","TEI 1 (satu)","TEI 2 (dua)","TEI 3 (tiga)","TEI 4 (empat)","TEI 5 (lima)","TEI 6 (enam)","RPL 1 (satu)","RPL 2 (dua)","RPL 3 (tiga)","RPL 4 (empat)","RPL 5 (lima)","RPL 6 (enam)","TKJ 1 (satu)","TKJ 2 (dua)","TKJ 3 (tiga)","TKJ 4 (empat)","TKJ 5 (lima)","TKJ 6 (enam)",null,null,null,"DESKRIPSI NILAI SIKAP SPIRITUAL",null,null,"KELAS","NAMA WALIKELAS",null,"NIP/PegID"]
["A","MANUAL",1,"DPIB","TEKNOLOGI DAN REKAYASA","TEKNIK BANGUNAN","DESAIN PEMODELAN DAN INFORMASI BANGUNAN",null,"-","-","-","-","-",null,"ANGKA",null,null,"HURUF","KRITERIA",null,1,"A",2,"Pendidikan Agama dan Budi Pekerti","Pendidikan Agama dan Budi Pekerti","Pendidikan Agama dan Budi Pekerti","Pendidikan Agama dan Budi Pekerti","Pendidikan Agama dan Budi Pekerti","Pendidikan Agama dan Budi Pekerti","Pendidikan Agama dan Budi Pekerti","Pendidikan Agama dan Budi Pekerti","Pendidikan Agama dan Budi Pekerti","Pendidikan Agama dan Budi Pekerti","Pendidikan Agama dan Budi Pekerti","Pendidikan Agama dan Budi Pekerti","Pendidikan Agama dan Budi Pekerti","Pendidikan Agama dan Budi Pekerti","Pendidikan Agama dan Budi Pekerti","Pendidikan Agama dan Budi Pekerti","Pendidikan Agama dan Budi Pekerti","Pendidikan Agama dan Budi Pekerti","Pendidikan Agama dan Budi Pekerti","Pendidikan Agama dan Budi Pekerti","Pendidikan Agama dan Budi Pekerti","Pendidikan Agama dan Budi Pekerti","Pendidikan Agama dan Budi Pekerti","Pendidikan Agama dan Budi Pekerti","Pendidikan Agama dan Budi Pekerti","Pendidikan Agama dan Budi Pekerti","Pendidikan Agama dan Budi Pekerti","Pendidikan Agama dan Budi Pekerti","Pendidikan Agama dan Budi Pekerti","Pendidikan Agama dan Budi Pekerti","Pendidikan Agama dan Budi Pekerti","Pendidikan Agama dan Budi Pekerti","Pendidikan Agama dan Budi Pekerti","Pendidikan Agama dan Budi Pekerti","Pendidikan Agama dan Budi Pekerti","Pendidikan Agama dan Budi Pekerti","Pendidikan Agama dan Budi Pekerti","Pendidikan Agama dan Budi Pekerti","Pendidikan Agama dan Budi Pekerti","Pendidikan Agama dan Budi Pekerti","Pendidikan Agama dan Budi Pekerti","Pendidikan Agama dan Budi Pekerti","Pendidikan Agama dan Budi Pekerti","Pendidikan Agama dan Budi Pekerti","Pendidikan Agama dan Budi Pekerti","Pendidikan Agama dan Budi Pekerti","Pendidikan Agama dan Budi Pekerti","Pendidikan Agama dan Budi Pekerti","Pendidikan Agama dan Budi Pekerti","Pendidikan Agama dan Budi Pekerti","Pendidikan Agama dan Budi Pekerti","Pendidikan Agama dan Budi Pekerti","Pendidikan Agama dan Budi Pekerti","Pendidikan Agama dan Budi Pekerti","Pendidikan Agama dan Budi Pekerti","Pendidikan Agama dan Budi Pekerti","Pendidikan Agama dan Budi Pekerti","Pendidikan Agama dan Budi Pekerti","Pendidikan Agama dan Budi Pekerti","Pendidikan Agama dan Budi Pekerti","Pendidikan Agama dan Budi Pekerti","Pendidikan Agama dan Budi Pekerti","Pendidikan Agama dan Budi Pekerti","Pendidikan Agama dan Budi Pekerti","Pendidikan Agama dan Budi Pekerti","Pendidikan Agama dan Budi Pekerti",null,null,null,"A","Sangat menerima, menjalankan, menghargai, menghayati dan mengamalkan ajaran agama yang dianut.",1,"X DPIB 1","Darwis Prasetyo, S.Pd","PegId","-"]
[null,null,2,"TITL","TEKNOLOGI DAN REKAYASA","TEKNIK KETENAGALISTRIKAN","TEKNIK INSTALASI TENAGA LISTRIK",null,1,"G65","Abdul Azizil Hakim, S.Pd","PegId","-",null,0,"-","-","-","-",null,null,null,3,"Pendidikan Agama dan Budi Pekerti","Pendidikan Agama dan Budi Pekerti","Pendidikan Agama dan Budi Pekerti","Pendidikan Agama dan Budi Pekerti","Pendidikan Agama dan Budi Pekerti","Pendidikan Agama dan Budi Pekerti","Pendidikan Agama dan Budi Pekerti","Pendidikan Agama dan Budi Pekerti","Pendidikan Agama dan Budi Pekerti","Pendidikan Agama dan Budi Pekerti","Pendidikan Agama dan Budi Pekerti","Pendidikan Agama dan Budi Pekerti","Pendidikan Agama dan Budi Pekerti","Pendidikan Agama dan Budi Pekerti","Pendidikan Agama dan Budi Pekerti","Pendidikan Agama dan Budi Pekerti","Pendidikan Agama dan Budi Pekerti","Pendidikan Agama dan Budi Pekerti","Pendidikan Agama dan Budi Pekerti","Pendidikan Agama dan Budi Pekerti","Pendidikan Agama dan Budi Pekerti","Pendidikan Agama dan Budi Pekerti","Pendidikan Agama dan Budi Pekerti","Pendidikan Agama dan Budi Pekerti","Pendidikan Agama dan Budi Pekerti","Pendidikan Agama dan Budi Pekerti","Pendidikan Agama dan Budi Pekerti","Pendidikan Agama dan Budi Pekerti","Pendidikan Agama dan Budi Pekerti","Pendidikan Agama dan Budi Pekerti","Pendidikan Agama dan Budi Pekerti","Pendidikan Agama dan Budi Pekerti","Pendidikan Agama dan Budi Pekerti","Pendidikan Agama dan Budi Pekerti","Pendidikan Agama dan Budi Pekerti","Pendidikan Agama dan Budi Pekerti","Pendidikan Agama dan Budi Pekerti","Pendidikan Agama dan Budi Pekerti","Pendidikan Agama dan Budi Pekerti","Pendidikan Agama dan Budi Pekerti","Pendidikan Agama dan Budi Pekerti","Pendidikan Agama dan Budi Pekerti","Pendidikan Agama dan Budi Pekerti","Pendidikan Agama dan Budi Pekerti","Pendidikan Agama dan Budi Pekerti","Pendidikan Agama dan Budi Pekerti","Pendidikan Agama dan Budi Pekerti","Pendidikan Agama dan Budi Pekerti","Pendidikan Agama dan Budi Pekerti","Pendidikan Agama dan Budi Pekerti","Pendidikan Agama dan Budi Pekerti","Pendidikan Agama dan Budi Pekerti","Pendidikan Agama dan Budi Pekerti","Pendidikan Agama dan Budi Pekerti","Pendidikan Agama dan Budi Pekerti","Pendidikan Agama dan Budi Pekerti","Pendidikan Agama dan Budi Pekerti","Pendidikan Agama dan Budi Pekerti","Pendidikan Agama dan Budi Pekerti","Pendidikan Agama dan Budi Pekerti","Pendidikan Agama dan Budi Pekerti","Pendidikan Agama dan Budi Pekerti","Pendidikan Agama dan Budi Pekerti","Pendidikan Agama dan Budi Pekerti","Pendidikan Agama dan Budi Pekerti","Pendidikan Agama dan Budi Pekerti",null,null,null,"B","Baik, dapat menerima, menjalankan, menghargai, menghayati dan mengamalkan ajaran agama yang dianut.",2,"X DPIB 2","Mila Karuniawati, S.Si","PegId","20217808186003"]
[null,null,3,"TP","TEKNOLOGI DAN REKAYASA","TEKNIK MESIN","TEKNIK PEMESINAN",null,2,"P30","Abdul Hapid, S.P","NIP","19680917 200012 1 003",null,1,"-",77,"D","Kurang",null,null,null,4,"Pendidikan Agama dan Budi Pekerti","Pendidikan Agama dan Budi Pekerti","Pendidikan Agama dan Budi Pekerti","Pendidikan Agama dan Budi Pekerti","Pendidikan Agama dan Budi Pekerti","Pendidikan Agama dan Budi Pekerti","Pendidikan Agama dan Budi Pekerti","Pendidikan Agama dan Budi Pekerti","Pendidikan Agama dan Budi Pekerti","Pendidikan Agama dan Budi Pekerti","Pendidikan Agama dan Budi Pekerti","Pendidikan Agama dan Budi Pekerti","Pendidikan Agama dan Budi Pekerti","Pendidikan Agama dan Budi Pekerti","Pendidikan Agama dan Budi Pekerti","Pendidikan Agama dan Budi Pekerti","Pendidikan Agama dan Budi Pekerti","Pendidikan Agama dan Budi Pekerti","Pendidikan Agama dan Budi Pekerti","Pendidikan Agama dan Budi Pekerti","Pendidikan Agama dan Budi Pekerti","Pendidikan Agama dan Budi Pekerti","Pendidikan Agama dan Budi Pekerti","Pendidikan Agama dan Budi Pekerti","Pendidikan Agama dan Budi Pekerti","Pendidikan Agama dan Budi Pekerti","Pendidikan Agama dan Budi Pekerti","Pendidikan Agama dan Budi Pekerti","Pendidikan Agama dan Budi Pekerti","Pendidikan Agama dan Budi Pekerti","Pendidikan Agama dan Budi Pekerti","Pendidikan Agama dan Budi Pekerti","Pendidikan Agama dan Budi Pekerti","Pendidikan Agama dan Budi Pekerti","Pendidikan Agama dan Budi Pekerti","Pendidikan Agama dan Budi Pekerti","Pendidikan Agama dan Budi Pekerti","Pendidikan Agama dan Budi Pekerti","Pendidikan Agama dan Budi Pekerti","Pendidikan Agama dan Budi Pekerti","Pendidikan Agama dan Budi Pekerti","Pendidikan Agama dan Budi Pekerti","Pendidikan Agama dan Budi Pekerti","Pendidikan Agama dan Budi Pekerti","Pendidikan Agama dan Budi Pekerti","Pendidikan Agama dan Budi Pekerti","Pendidikan Agama dan Budi Pekerti","Pendidikan Agama dan Budi Pekerti","Pendidikan Agama dan Budi Pekerti","Pendidikan Agama dan Budi Pekerti","Pendidikan Agama dan Budi Pekerti","Pendidikan Agama dan Budi Pekerti","Pendidikan Agama dan Budi Pekerti","Pendidikan Agama dan Budi Pekerti","Pendidikan Agama dan Budi Pekerti","Pendidikan Agama dan Budi Pekerti","Pendidikan Agama dan Budi Pekerti","Pendidikan Agama dan Budi Pekerti","Pendidikan Agama dan Budi Pekerti","Pendidikan Agama dan Budi Pekerti","Pendidikan Agama dan Budi Pekerti","Pendidikan Agama dan Budi Pekerti","Pendidikan Agama dan Budi Pekerti","Pendidikan Agama dan Budi Pekerti","Pendidikan Agama dan Budi Pekerti","Pendidikan Agama dan Budi Pekerti",null,null,null,"C","Cukup menerima, menjalankan, menghargai, menghayati dan mengamalkan ajaran agama yang dianut.",3,"X TITL 1","Siti Nurjanah, S.Pd","PegId","20217802188007"]
["A","KELAS",4,"TPL","TEKNOLOGI DAN REKAYASA","TEKNIK MESIN","TEKNIK PENGELASAN",null,3,"P53","Ach. Bazi, S.Pd","NIP","19660307 201407 1 002",null,78,"-",85,"C","Cukup",null,2,"A",5,"Pendidikan Pancasila dan Kewarganegaraan","Pendidikan Pancasila dan Kewarganegaraan","Pendidikan Pancasila dan Kewarganegaraan","Pendidikan Pancasila dan Kewarganegaraan","Pendidikan Pancasila dan Kewarganegaraan","Pendidikan Pancasila dan Kewarganegaraan","Pendidikan Pancasila dan Kewarganegaraan","Pendidikan Pancasila dan Kewarganegaraan","Pendidikan Pancasila dan Kewarganegaraan","Pendidikan Pancasila dan Kewarganegaraan","Pendidikan Pancasila dan Kewarganegaraan","Pendidikan Pancasila dan Kewarganegaraan","Pendidikan Pancasila dan Kewarganegaraan","Pendidikan Pancasila dan Kewarganegaraan","Pendidikan Pancasila dan Kewarganegaraan","Pendidikan Pancasila dan Kewarganegaraan","Pendidikan Pancasila dan Kewarganegaraan","Pendidikan Pancasila dan Kewarganegaraan","Pendidikan Pancasila dan Kewarganegaraan","Pendidikan Pancasila dan Kewarganegaraan","Pendidikan Pancasila dan Kewarganegaraan","Pendidikan Pancasila dan Kewarganegaraan","Pendidikan Pancasila dan Kewarganegaraan","Pendidikan Pancasila dan Kewarganegaraan","Pendidikan Pancasila dan Kewarganegaraan","Pendidikan Pancasila dan Kewarganegaraan","Pendidikan Pancasila dan Kewarganegaraan","Pendidikan Pancasila dan Kewarganegaraan","Pendidikan Pancasila dan Kewarganegaraan","Pendidikan Pancasila dan Kewarganegaraan","Pendidikan Pancasila dan Kewarganegaraan","Pendidikan Pancasila dan Kewarganegaraan","Pendidikan Pancasila dan Kewarganegaraan","Pendidikan Pancasila dan Kewarganegaraan","Pendidikan Pancasila dan Kewarganegaraan","Pendidikan Pancasila dan Kewarganegaraan","Pendidikan Pancasila dan Kewarganegaraan","Pendidikan Pancasila dan Kewarganegaraan","Pendidikan Pancasila dan Kewarganegaraan","Pendidikan Pancasila dan Kewarganegaraan","Pendidikan Pancasila dan Kewarganegaraan","Pendidikan Pancasila dan Kewarganegaraan","Pendidikan Pancasila dan Kewarganegaraan","Pendidikan Pancasila dan Kewarganegaraan","Pendidikan Pancasila dan Kewarganegaraan","Pendidikan Pancasila dan Kewarganegaraan","Pendidikan Pancasila dan Kewarganegaraan","Pendidikan Pancasila dan Kewarganegaraan","Pendidikan Pancasila dan Kewarganegaraan","Pendidikan Pancasila dan Kewarganegaraan","Pendidikan Pancasila dan Kewarganegaraan","Pendidikan Pancasila dan Kewarganegaraan","Pendidikan Pancasila dan Kewarganegaraan","Pendidikan Pancasila dan Kewarganegaraan","Pendidikan Pancasila dan Kewarganegaraan","Pendidikan Pancasila dan Kewarganegaraan","Pendidikan Pancasila dan Kewarganegaraan","Pendidikan Pancasila dan Kewarganegaraan","Pendidikan Pancasila dan Kewarganegaraan","Pendidikan Pancasila dan Kewarganegaraan","Pendidikan Pancasila dan Kewarganegaraan","Pendidikan Pancasila dan Kewarganegaraan","Pendidikan Pancasila dan Kewarganegaraan","Pendidikan Pancasila dan Kewarganegaraan","Pendidikan Pancasila dan Kewarganegaraan","Pendidikan Pancasila dan Kewarganegaraan",null,null,null,"D","Kurang menerima, menjalankan, menghargai, menghayati dan mengamalkan ajaran agama yang dianut.",4,"X TITL 2","Rita Rosita, S.Pd","NIP","19800904 200902 2 005"]
[null,"DPIB 1",5,"TPGM","TEKNOLOGI DAN REKAYASA","TEKNIK MESIN","TEKNIK PERANCANGAN DAN GAMBAR MESIN",null,4,"G66","Ade Agung Pristopo, S.Pd","PegId","-",null,86,"-",93,"B","Baik",null,null,null,6,"Pendidikan Pancasila dan Kewarganegaraan","Pendidikan Pancasila dan Kewarganegaraan","Pendidikan Pancasila dan Kewarganegaraan","Pendidikan Pancasila dan Kewarganegaraan","Pendidikan Pancasila dan Kewarganegaraan","Pendidikan Pancasila dan Kewarganegaraan","Pendidikan Pancasila dan Kewarganegaraan","Pendidikan Pancasila dan Kewarganegaraan","Pendidikan Pancasila dan Kewarganegaraan","Pendidikan Pancasila dan Kewarganegaraan","Pendidikan Pancasila dan Kewarganegaraan","Pendidikan Pancasila dan Kewarganegaraan","Pendidikan Pancasila dan Kewarganegaraan","Pendidikan Pancasila dan Kewarganegaraan","Pendidikan Pancasila dan Kewarganegaraan","Pendidikan Pancasila dan Kewarganegaraan","Pendidikan Pancasila dan Kewarganegaraan","Pendidikan Pancasila dan Kewarganegaraan","Pendidikan Pancasila dan Kewarganegaraan","Pendidikan Pancasila dan Kewarganegaraan","Pendidikan Pancasila dan Kewarganegaraan","Pendidikan Pancasila dan Kewarganegaraan","Pendidikan Pancasila dan Kewarganegaraan","Pendidikan Pancasila dan Kewarganegaraan","Pendidikan Pancasila dan Kewarganegaraan","Pendidikan Pancasila dan Kewarganegaraan","Pendidikan Pancasila dan Kewarganegaraan","Pendidikan Pancasila dan Kewarganegaraan","Pendidikan Pancasila dan Kewarganegaraan","Pendidikan Pancasila dan Kewarganegaraan","Pendidikan Pancasila dan Kewarganegaraan","Pendidikan Pancasila dan Kewarganegaraan","Pendidikan Pancasila dan Kewarganegaraan","Pendidikan Pancasila dan Kewarganegaraan","Pendidikan Pancasila dan Kewarganegaraan","Pendidikan Pancasila dan Kewarganegaraan","Pendidikan Pancasila dan Kewarganegaraan","Pendidikan Pancasila dan Kewarganegaraan","Pendidikan Pancasila dan Kewarganegaraan","Pendidikan Pancasila dan Kewarganegaraan","Pendidikan Pancasila dan Kewarganegaraan","Pendidikan Pancasila dan Kewarganegaraan","Pendidikan Pancasila dan Kewarganegaraan","Pendidikan Pancasila dan Kewarganegaraan","Pendidikan Pancasila dan Kewarganegaraan","Pendidikan Pancasila dan Kewarganegaraan","Pendidikan Pancasila dan Kewarganegaraan","Pendidikan Pancasila dan Kewarganegaraan","Pendidikan Pancasila dan Kewarganegaraan","Pendidikan Pancasila dan Kewarganegaraan","Pendidikan Pancasila dan Kewarganegaraan","Pendidikan Pancasila dan Kewarganegaraan","Pendidikan Pancasila dan Kewarganegaraan","Pendidikan Pancasila dan Kewarganegaraan","Pendidikan Pancasila dan Kewarganegaraan","Pendidikan Pancasila dan Kewarganegaraan","Pendidikan Pancasila dan Kewarganegaraan","Pendidikan Pancasila dan Kewarganegaraan","Pendidikan Pancasila dan Kewarganegaraan","Pendidikan Pancasila dan Kewarganegaraan","Pendidikan Pancasila dan Kewarganegaraan","Pendidikan Pancasila dan Kewarganegaraan","Pendidikan Pancasila dan Kewarganegaraan","Pendidikan Pancasila dan Kewarganegaraan","Pendidikan Pancasila dan Kewarganegaraan","Pendidikan Pancasila dan Kewarganegaraan",null,null,null,null,null,5,"X TP 1","Hj. Diah Gustanti, ST","NIP","19760824 200604 2 007"]
[null,"DPIB 2",6,"TFLM","TEKNOLOGI DAN REKAYASA","TEKNIK MESIN","TEKNIK FABRIKASI LOGAM DAN MANUFAKTUR",null,5,"P54","Ade Carman, S.Pd","NIP","19720406 201407 1 001",null,94,"-",100,"A","Sangat Baik",null,null,null,7,"Pendidikan Pancasila dan Kewarganegaraan","Pendidikan Pancasila dan Kewarganegaraan","Pendidikan Pancasila dan Kewarganegaraan","Pendidikan Pancasila dan Kewarganegaraan","Pendidikan Pancasila dan Kewarganegaraan","Pendidikan Pancasila dan Kewarganegaraan","Pendidikan Pancasila dan Kewarganegaraan","Pendidikan Pancasila dan Kewarganegaraan","Pendidikan Pancasila dan Kewarganegaraan","Pendidikan Pancasila dan Kewarganegaraan","Pendidikan Pancasila dan Kewarganegaraan","Pendidikan Pancasila dan Kewarganegaraan","Pendidikan Pancasila dan Kewarganegaraan","Pendidikan Pancasila dan Kewarganegaraan","Pendidikan Pancasila dan Kewarganegaraan","Pendidikan Pancasila dan Kewarganegaraan","Pendidikan Pancasila dan Kewarganegaraan","Pendidikan Pancasila dan Kewarganegaraan","Pendidikan Pancasila dan Kewarganegaraan","Pendidikan Pancasila dan Kewarganegaraan","Pendidikan Pancasila dan Kewarganegaraan","Pendidikan Pancasila dan Kewarganegaraan","Pendidikan Pancasila dan Kewarganegaraan","Pendidikan Pancasila dan Kewarganegaraan","Pendidikan Pancasila dan Kewarganegaraan","Pendidikan Pancasila dan Kewarganegaraan","Pendidikan Pancasila dan Kewarganegaraan","Pendidikan Pancasila dan Kewarganegaraan","Pendidikan Pancasila dan Kewarganegaraan","Pendidikan Pancasila dan Kewarganegaraan","Pendidikan Pancasila dan Kewarganegaraan","Pendidikan Pancasila dan Kewarganegaraan","Pendidikan Pancasila dan Kewarganegaraan","Pendidikan Pancasila dan Kewarganegaraan","Pendidikan Pancasila dan Kewarganegaraan","Pendidikan Pancasila dan Kewarganegaraan","Pendidikan Pancasila dan Kewarganegaraan","Pendidikan Pancasila dan Kewarganegaraan","Pendidikan Pancasila dan Kewarganegaraan","Pendidikan Pancasila dan Kewarganegaraan","Pendidikan Pancasila dan Kewarganegaraan","Pendidikan Pancasila dan Kewarganegaraan","Pendidikan Pancasila dan Kewarganegaraan","Pendidikan Pancasila dan Kewarganegaraan","Pendidikan Pancasila dan Kewarganegaraan","Pendidikan Pancasila dan Kewarganegaraan","Pendidikan Pancasila dan Kewarganegaraan","Pendidikan Pancasila dan Kewarganegaraan","Pendidikan Pancasila dan Kewarganegaraan","Pendidikan Pancasila dan Kewarganegaraan","Pendidikan Pancasila dan Kewarganegaraan","Pendidikan Pancasila dan Kewarganegaraan","Pendidikan Pancasila dan Kewarganegaraan","Pendidikan Pancasila dan Kewarganegaraan","Pendidikan Pancasila dan Kewarganegaraan","Pendidikan Pancasila dan Kewarganegaraan","Pendidikan Pancasila dan Kewarganegaraan","Pendidikan Pancasila dan Kewarganegaraan","Pendidikan Pancasila dan Kewarganegaraan","Pendidikan Pancasila dan Kewarganegaraan","Pendidikan Pancasila dan Kewarganegaraan","Pendidikan Pancasila dan Kewarganegaraan","Pendidikan Pancasila dan Kewarganegaraan","Pendidikan Pancasila dan Kewarganegaraan","Pendidikan Pancasila dan Kewarganegaraan","Pendidikan Pancasila dan Kewarganegaraan",null,null,null,"DESKRIPSI NILAI SIKAP SOSIAL",null,6,"X TP 2","Fanny Sopia Rahayu, S.Pd","PegId","20217802190003"]
["A","TITL 1",7,"TKRO","TEKNOLOGI DAN REKAYASA","TEKNIK OTOMOTIF","TEKNIK KENDARAAN RINGAN OTOMOTIF",null,6,"G49","Adi Putro, S.Pd","PegId","20217802188008",null,null,null,null,null,null,null,3,"A",8,"Bahasa Indonesia","Bahasa Indonesia","Bahasa Indonesia","Bahasa Indonesia","Bahasa Indonesia","Bahasa Indonesia","Bahasa Indonesia","Bahasa Indonesia","Bahasa Indonesia","Bahasa Indonesia","Bahasa Indonesia","Bahasa Indonesia","Bahasa Indonesia","Bahasa Indonesia","Bahasa Indonesia","Bahasa Indonesia","Bahasa Indonesia","Bahasa Indonesia","Bahasa Indonesia","Bahasa Indonesia","Bahasa Indonesia","Bahasa Indonesia","Bahasa Indonesia","Bahasa Indonesia","Bahasa Indonesia","Bahasa Indonesia","Bahasa Indonesia","Bahasa Indonesia","Bahasa Indonesia","Bahasa Indonesia","Bahasa Indonesia","Bahasa Indonesia","Bahasa Indonesia","Bahasa Indonesia","Bahasa Indonesia","Bahasa Indonesia","Bahasa Indonesia","Bahasa Indonesia","Bahasa Indonesia","Bahasa Indonesia","Bahasa Indonesia","Bahasa Indonesia","Bahasa Indonesia","Bahasa Indonesia","Bahasa Indonesia","Bahasa Indonesia","Bahasa Indonesia","Bahasa Indonesia","Bahasa Indonesia","Bahasa Indonesia","Bahasa Indonesia","Bahasa Indonesia","Bahasa Indonesia","Bahasa Indonesia","Bahasa Indonesia","Bahasa Indonesia","Bahasa Indonesia","Bahasa Indonesia","Bahasa Indonesia","Bahasa Indonesia","Bahasa Indonesia","Bahasa Indonesia","Bahasa Indonesia","Bahasa Indonesia","Bahasa Indonesia","Bahasa Indonesia",null,null,null,"A","Sudah bersungguh-sungguh dan selalu konsisten menerapkan sikap jujur, santun dan toleran dalam pergaulan, disiplin, kerjasama dalam kelompok dan tanggungjawab dalam keseharian sebagai hasil pembelajaran di sekolah. Pertahankan sikap-sikap tersebut agar menjadi teladan bagi kawan-kawan di sekolah.",7,"X TP 3","Rini Nurmalasari, S.Pd","PegId","20217802185002"]
[null,"TITL 2",8,"TBSM","TEKNOLOGI DAN REKAYASA","TEKNIK OTOMOTIF","TEKNIK DAN BISNIS SEPEDA MOTOR",null,7,"G16","Aditya Rahmat Wijaya, S.Pd","PegId","20217802188001",null,null,null,null,null,null,null,null,null,9,"Bahasa Indonesia","Bahasa Indonesia","Bahasa Indonesia","Bahasa Indonesia","Bahasa Indonesia","Bahasa Indonesia","Bahasa Indonesia","Bahasa Indonesia","Bahasa Indonesia","Bahasa Indonesia","Bahasa Indonesia","Bahasa Indonesia","Bahasa Indonesia","Bahasa Indonesia","Bahasa Indonesia","Bahasa Indonesia","Bahasa Indonesia","Bahasa Indonesia","Bahasa Indonesia","Bahasa Indonesia","Bahasa Indonesia","Bahasa Indonesia","Bahasa Indonesia","Bahasa Indonesia","Bahasa Indonesia","Bahasa Indonesia","Bahasa Indonesia","Bahasa Indonesia","Bahasa Indonesia","Bahasa Indonesia","Bahasa Indonesia","Bahasa Indonesia","Bahasa Indonesia","Bahasa Indonesia","Bahasa Indonesia","Bahasa Indonesia","Bahasa Indonesia","Bahasa Indonesia","Bahasa Indonesia","Bahasa Indonesia","Bahasa Indonesia","Bahasa Indonesia","Bahasa Indonesia","Bahasa Indonesia","Bahasa Indonesia","Bahasa Indonesia","Bahasa Indonesia","Bahasa Indonesia","Bahasa Indonesia","Bahasa Indonesia","Bahasa Indonesia","Bahasa Indonesia","Bahasa Indonesia","Bahasa Indonesia","Bahasa Indonesia","Bahasa Indonesia","Bahasa Indonesia","Bahasa Indonesia","Bahasa Indonesia","Bahasa Indonesia","Bahasa Indonesia","Bahasa Indonesia","Bahasa Indonesia","Bahasa Indonesia","Bahasa Indonesia","Bahasa Indonesia",null,null,null,null,null,8,"X TP 4","Suhartini, S.Pd.","NIP","19761222 201407 2 001"]
[null,"TP 1",9,"TEI","TEKNOLOGI DAN REKAYASA","TEKNIK ELEKTRONIKA","TEKNIK ELEKTRONIKA INDUSTRI",null,8,"P64","Agus Widodo, S.S","NIP","19670827 201407 1 001",null,null,null,null,null,null,null,null,null,10,"Bahasa Indonesia","Bahasa Indonesia","Bahasa Indonesia","Bahasa Indonesia","Bahasa Indonesia","Bahasa Indonesia","Bahasa Indonesia","Bahasa Indonesia","Bahasa Indonesia","Bahasa Indonesia","Bahasa Indonesia","Bahasa Indonesia","Bahasa Indonesia","Bahasa Indonesia","Bahasa Indonesia","Bahasa Indonesia","Bahasa Indonesia","Bahasa Indonesia","Bahasa Indonesia","Bahasa Indonesia","Bahasa Indonesia","Bahasa Indonesia","Bahasa Indonesia","Bahasa Indonesia","Bahasa Indonesia","Bahasa Indonesia","Bahasa Indonesia","Bahasa Indonesia","Bahasa Indonesia","Bahasa Indonesia","Bahasa Indonesia","Bahasa Indonesia","Bahasa Indonesia","Bahasa Indonesia","Bahasa Indonesia","Bahasa Indonesia","Bahasa Indonesia","Bahasa Indonesia","Bahasa Indonesia","Bahasa Indonesia","Bahasa Indonesia","Bahasa Indonesia","Bahasa Indonesia","Bahasa Indonesia","Bahasa Indonesia","Bahasa Indonesia","Bahasa Indonesia","Bahasa Indonesia","Bahasa Indonesia","Bahasa Indonesia","Bahasa Indonesia","Bahasa Indonesia","Bahasa Indonesia","Bahasa Indonesia","Bahasa Indonesia","Bahasa Indonesia","Bahasa Indonesia","Bahasa Indonesia","Bahasa Indonesia","Bahasa Indonesia","Bahasa Indonesia","Bahasa Indonesia","Bahasa Indonesia","Bahasa Indonesia","Bahasa Indonesia","Bahasa Indonesia",null,null,null,null,null,9,"X TPL 1","Asep Saefurrohman, S.Ag","PegId","-"]
["A","TP 2",10,"RPL","TEKNOLOGI INFORMASI DAN KOMUNIKASI","TEKNIK KOMPUTER DAN INFORMATIKA","REKAYASA PERANGKAT LUNAK",null,9,"P34","Ahmad Bustomi Sahrul, S.Pd","NIP","19701209 200501 1 004",null,null,null,null,null,null,null,4,"A",11,"Matematika","Matematika","Matematika","Matematika","Matematika","Matematika","Matematika","Matematika","Matematika","Matematika","Matematika","Matematika","Matematika","Matematika","Matematika","Matematika","Matematika","Matematika","Matematika","Matematika","Matematika","Matematika","Matematika","Matematika","Matematika","Matematika","Matematika","Matematika","Matematika","Matematika","Matematika","Matematika","Matematika","Matematika","Matematika","Matematika","Matematika","Matematika","Matematika","Matematika","Matematika","Matematika","Matematika","Matematika","Matematika","Matematika","Matematika","Matematika","Matematika","Matematika","Matematika","Matematika","Matematika","Matematika","Matematika","Matematika","Matematika","Matematika","Matematika","Matematika","Matematika","Matematika","Matematika","Matematika","Matematika","Matematika",null,null,null,"B","Sudah menunjukkan konsisten menerapkan sikap jujur, santun dan toleran dalam pergaulan, disiplin, kerjasama dalam kelompok dan tanggungjawab dalam keseharian sebagai hasil pembelajaran di sekolah. Tingkatkan sikap-sikap positif tersebut agar lebih baik.",10,"X TPL 2","Iin Kartini, S.Pd, M.Pd","NIP","19741020 200701 2 006"]
[null,"TP 3",11,"TKJ","TEKNOLOGI INFORMASI DAN KOMUNIKASI","TEKNIK KOMPUTER DAN INFORMATIKA","TEKNIK KOMPUTER JARINGAN",null,10,"G62","Ahmad Jumadi, S.Kom","PegId","20217802192001",null,null,null,null,null,null,null,null,null,12,"Matematika","Matematika","Matematika","Matematika","Matematika","Matematika","Matematika","Matematika","Matematika","Matematika","Matematika","Matematika","Matematika","Matematika","Matematika","Matematika","Matematika","Matematika","Matematika","Matematika","Matematika","Matematika","Matematika","Matematika","Matematika","Matematika","Matematika","Matematika","Matematika","Matematika","Matematika","Matematika","Matematika","Matematika","Matematika","Matematika","Matematika","Matematika","Matematika","Matematika","Matematika","Matematika","Matematika","Matematika","Matematika","Matematika","Matematika","Matematika","Matematika","Matematika","Matematika","Matematika","Matematika","Matematika","Matematika","Matematika","Matematika","Matematika","Matematika","Matematika","Matematika","Matematika","Matematika","Matematika","Matematika","Matematika",null,null,null,null,null,11,"X TPGM 1","Maolana Nopiansyah, S. Ud","PegId","20217802185006"]
[null,"TP 4",null,null,null,null,null,null,11,"P59","Ahmad Sanusi, S.Sos.I","NIP","19790426 201407 1 001",null,null,null,null,null,null,null,null,null,13,"Matematika","Matematika","Matematika","Matematika","Matematika","Matematika","Matematika","Matematika","Matematika","Matematika","Matematika","Matematika","Matematika","Matematika","Matematika","Matematika","Matematika","Matematika","Matematika","Matematika","Matematika","Matematika","Matematika","Matematika","Matematika","Matematika","Matematika","Matematika","Matematika","Matematika","Matematika","Matematika","Matematika","Matematika","Matematika","Matematika","Matematika","Matematika","Matematika","Matematika","Matematika","Matematika","Matematika","Matematika","Matematika","Matematika","Matematika","Matematika","Matematika","Matematika","Matematika","Matematika","Matematika","Matematika","Matematika","Matematika","Matematika","Matematika","Matematika","Matematika","Matematika","Matematika","Matematika","Matematika","Matematika","Matematika",null,null,null,null,null,12,"X TPGM 2","Ade Agung Pristopo, S.Pd","PegId","-"]
["A","TPL 1",null,null,null,null,null,null,12,"G17","Alfian Rasyid, S.Sos.","PegId","-",null,null,null,null,null,null,null,5,"A",14,"Sejarah Indonesia","Sejarah Indonesia","-","-","-","-","Sejarah Indonesia","Sejarah Indonesia","-","-","-","-","Sejarah Indonesia","Sejarah Indonesia","-","-","-","-","Sejarah Indonesia","Sejarah Indonesia","-","-","-","-","Sejarah Indonesia","Sejarah Indonesia","-","-","-","-","Sejarah Indonesia","Sejarah Indonesia","-","-","-","-","Sejarah Indonesia","Sejarah Indonesia","-","-","-","-","Sejarah Indonesia","Sejarah Indonesia","-","-","-","-","Sejarah Indonesia","Sejarah Indonesia","-","-","-","-","Sejarah Indonesia","Sejarah Indonesia","-","-","-","-","Sejarah Indonesia","Sejarah Indonesia","-","-","-","-",null,null,null,"C","Mulai menunjukkan konsisten menerapkan sikap jujur, santun dan toleran dalam pergaulan, disiplin, kerjasama dalam kelompok dan tanggungjawab dalam keseharian sebagai hasil pembelajaran di sekolah dan perlu ditingkatkan kembali agar lebih baik.",13,"X TFLM","Rini Anggraeni, S.Pd, M.Pd","PegId","20217802186002"]
[null,"TPL 2",null,"PILIHAN_SEMESTER",null,null,null,null,13,"P35","Alia Maedina, S.Pd, M.Pd","NIP","19730507 200501 2 005",null,null,null,null,null,null,null,null,null,15,"Sejarah Indonesia","Sejarah Indonesia","-","-","-","-","Sejarah Indonesia","Sejarah Indonesia","-","-","-","-","Sejarah Indonesia","Sejarah Indonesia","-","-","-","-","Sejarah Indonesia","Sejarah Indonesia","-","-","-","-","Sejarah Indonesia","Sejarah Indonesia","-","-","-","-","Sejarah Indonesia","Sejarah Indonesia","-","-","-","-","Sejarah Indonesia","Sejarah Indonesia","-","-","-","-","Sejarah Indonesia","Sejarah Indonesia","-","-","-","-","Sejarah Indonesia","Sejarah Indonesia","-","-","-","-","Sejarah Indonesia","Sejarah Indonesia","-","-","-","-","Sejarah Indonesia","Sejarah Indonesia","-","-","-","-",null,null,null,null,null,14,"X TKRO 1","Drs. Ebo Agus Sunarto","NIP","19590118 198703 1 003"]
[null,"TPGM 1",null,"1 (satu)",null,null,null,null,14,"G57","Amad, S.Pd","PegId","20217802189004",null,null,null,null,null,null,null,null,null,16,"Sejarah Indonesia","Sejarah Indonesia","-","-","-","-","Sejarah Indonesia","Sejarah Indonesia","-","-","-","-","Sejarah Indonesia","Sejarah Indonesia","-","-","-","-","Sejarah Indonesia","Sejarah Indonesia","-","-","-","-","Sejarah Indonesia","Sejarah Indonesia","-","-","-","-","Sejarah Indonesia","Sejarah Indonesia","-","-","-","-","Sejarah Indonesia","Sejarah Indonesia","-","-","-","-","Sejarah Indonesia","Sejarah Indonesia","-","-","-","-","Sejarah Indonesia","Sejarah Indonesia","-","-","-","-","Sejarah Indonesia","Sejarah Indonesia","-","-","-","-","Sejarah Indonesia","Sejarah Indonesia","-","-","-","-",null,null,null,null,null,15,"X TKRO 2","Tita Monica Timor, S.Pd","PegId","20217802191003"]
["A","TPGM 2",null,"2 (dua)",null,null,null,null,15,"G18","Amo Sisdianto, S.Kom","PegId","20217802182001",null,null,null,null,null,null,null,6,"A",17,"Bahasa Inggris","Bahasa Inggris","Bahasa Inggris","Bahasa Inggris","Bahasa Inggris","Bahasa Inggris","Bahasa Inggris","Bahasa Inggris","Bahasa Inggris","Bahasa Inggris","Bahasa Inggris","Bahasa Inggris","Bahasa Inggris","Bahasa Inggris","Bahasa Inggris","Bahasa Inggris","Bahasa Inggris","Bahasa Inggris","Bahasa Inggris","Bahasa Inggris","Bahasa Inggris","Bahasa Inggris","Bahasa Inggris","Bahasa Inggris","Bahasa Inggris","Bahasa Inggris","Bahasa Inggris","Bahasa Inggris","Bahasa Inggris","Bahasa Inggris","Bahasa Inggris","Bahasa Inggris","Bahasa Inggris","Bahasa Inggris","Bahasa Inggris","Bahasa Inggris","Bahasa Inggris","Bahasa Inggris","Bahasa Inggris","Bahasa Inggris","Bahasa Inggris","Bahasa Inggris","Bahasa Inggris","Bahasa Inggris","Bahasa Inggris","Bahasa Inggris","Bahasa Inggris","Bahasa Inggris","Bahasa Inggris","Bahasa Inggris","Bahasa Inggris","Bahasa Inggris","Bahasa Inggris","Bahasa Inggris","Bahasa Inggris","Bahasa Inggris","Bahasa Inggris","Bahasa Inggris","Bahasa Inggris","Bahasa Inggris","Bahasa Inggris","Bahasa Inggris","Bahasa Inggris","Bahasa Inggris","Bahasa Inggris","Bahasa Inggris",null,null,null,"D","Belum menunjukkan konsisten menerapkan sikap jujur, santun dan toleran dalam pergaulan, disiplin, kerjasama dalam kelompok dan tanggungjawab dalam keseharian sebagai hasil pembelajaran di sekolah, perlu perbaikan dan perhatian dari semua pihak baik guru maupun orangtua.",16,"X TBSM 1","Sumarsono, ST","PegId","-"]
[null,"TFLM",null,"3 (tiga)",null,null,null,null,16,"G82","Anas Fajar Pratama, S.Kom","PegId","-",null,null,null,null,null,null,null,null,null,18,"Bahasa Inggris","Bahasa Inggris","Bahasa Inggris","Bahasa Inggris","Bahasa Inggris","Bahasa Inggris","Bahasa Inggris","Bahasa Inggris","Bahasa Inggris","Bahasa Inggris","Bahasa Inggris","Bahasa Inggris","Bahasa Inggris","Bahasa Inggris","Bahasa Inggris","Bahasa Inggris","Bahasa Inggris","Bahasa Inggris","Bahasa Inggris","Bahasa Inggris","Bahasa Inggris","Bahasa Inggris","Bahasa Inggris","Bahasa Inggris","Bahasa Inggris","Bahasa Inggris","Bahasa Inggris","Bahasa Inggris","Bahasa Inggris","Bahasa Inggris","Bahasa Inggris","Bahasa Inggris","Bahasa Inggris","Bahasa Inggris","Bahasa Inggris","Bahasa Inggris","Bahasa Inggris","Bahasa Inggris","Bahasa Inggris","Bahasa Inggris","Bahasa Inggris","Bahasa Inggris","Bahasa Inggris","Bahasa Inggris","Bahasa Inggris","Bahasa Inggris","Bahasa Inggris","Bahasa Inggris","Bahasa Inggris","Bahasa Inggris","Bahasa Inggris","Bahasa Inggris","Bahasa Inggris","Bahasa Inggris","Bahasa Inggris","Bahasa Inggris","Bahasa Inggris","Bahasa Inggris","Bahasa Inggris","Bahasa Inggris","Bahasa Inggris","Bahasa Inggris","Bahasa Inggris","Bahasa Inggris","Bahasa Inggris","Bahasa Inggris",null,null,null,null,null,17,"X TBSM 2","Hady Hafizhudin, ST","PegId","20217802189003"]
[null,"TKRO 1",null,"4 (empat)",null,null,null,null,17,"G80","Andri Wibowo, A.Md.T","PegId","-",null,null,null,null,null,null,null,null,null,19,"Bahasa Inggris","Bahasa Inggris","Bahasa Inggris","Bahasa Inggris","Bahasa Inggris","Bahasa Inggris","Bahasa Inggris","Bahasa Inggris","Bahasa Inggris","Bahasa Inggris","Bahasa Inggris","Bahasa Inggris","Bahasa Inggris","Bahasa Inggris","Bahasa Inggris","Bahasa Inggris","Bahasa Inggris","Bahasa Inggris","Bahasa Inggris","Bahasa Inggris","Bahasa Inggris","Bahasa Inggris","Bahasa Inggris","Bahasa Inggris","Bahasa Inggris","Bahasa Inggris","Bahasa Inggris","Bahasa Inggris","Bahasa Inggris","Bahasa Inggris","Bahasa Inggris","Bahasa Inggris","Bahasa Inggris","Bahasa Inggris","Bahasa Inggris","Bahasa Inggris","Bahasa Inggris","Bahasa Inggris","Bahasa Inggris","Bahasa Inggris","Bahasa Inggris","Bahasa Inggris","Bahasa Inggris","Bahasa Inggris","Bahasa Inggris","Bahasa Inggris","Bahasa Inggris","Bahasa Inggris","Bahasa Inggris","Bahasa Inggris","Bahasa Inggris","Bahasa Inggris","Bahasa Inggris","Bahasa Inggris","Bahasa Inggris","Bahasa Inggris","Bahasa Inggris","Bahasa Inggris","Bahasa Inggris","Bahasa Inggris","Bahasa Inggris","Bahasa Inggris","Bahasa Inggris","Bahasa Inggris","Bahasa Inggris","Bahasa Inggris",null,null,null,null,null,18,"X TEI 1","Azis Syahrizal, S.Pd","PegId","20217802188007"]
["B","TKRO 2",null,"5 (lima)",null,null,null,null,18,"G38","Andriyanti, S.Pd","PegId","20217802190001",null,null,null,null,null,null,null,7,"B",20,"Seni Budaya","Seni Budaya","-","-","-","-","Seni Budaya","Seni Budaya","-","-","-","-","Seni Budaya","Seni Budaya","-","-","-","-","Seni Budaya","Seni Budaya","-","-","-","-","Seni Budaya","Seni Budaya","-","-","-","-","Seni Budaya","Seni Budaya","-","-","-","-","Seni Budaya","Seni Budaya","-","-","-","-","Seni Budaya","Seni Budaya","-","-","-","-","Seni Budaya","Seni Budaya","-","-","-","-","Seni Budaya","Seni Budaya","-","-","-","-","Seni Budaya","Seni Budaya","-","-","-","-",null,null,null,null,null,19,"X TEI 2","Anas Fajar Pratama, S.Kom","PegId","20217802185004"]
[null,"TBSM 1",null,"6 (enam)",null,null,null,null,19,"G19","Angga Tri Anggoro, S.Pd","PegId","20217802185004",null,null,null,null,null,null,null,null,null,21,"Seni Budaya","Seni Budaya","-","-","-","-","Seni Budaya","Seni Budaya","-","-","-","-","Seni Budaya","Seni Budaya","-","-","-","-","Seni Budaya","Seni Budaya","-","-","-","-","Seni Budaya","Seni Budaya","-","-","-","-","Seni Budaya","Seni Budaya","-","-","-","-","Seni Budaya","Seni Budaya","-","-","-","-","Seni Budaya","Seni Budaya","-","-","-","-","Seni Budaya","Seni Budaya","-","-","-","-","Seni Budaya","Seni Budaya","-","-","-","-","Seni Budaya","Seni Budaya","-","-","-","-",null,null,null,"DESKRIPSI NILAI PENGETAHUAN",null,20,"X RPL 1","Dedi Suandi S, S.Pd, M.Pd","NIP","19710119 199801 1 001"]
[null,"TBSM 2",null,null,null,null,null,null,20,"G83","Annisa Nurizka Amaliya, S.Pd","PegId","-",null,null,null,null,null,null,null,null,null,22,"Seni Budaya","Seni Budaya","-","-","-","-","Seni Budaya","Seni Budaya","-","-","-","-","Seni Budaya","Seni Budaya","-","-","-","-","Seni Budaya","Seni Budaya","-","-","-","-","Seni Budaya","Seni Budaya","-","-","-","-","Seni Budaya","Seni Budaya","-","-","-","-","Seni Budaya","Seni Budaya","-","-","-","-","Seni Budaya","Seni Budaya","-","-","-","-","Seni Budaya","Seni Budaya","-","-","-","-","Seni Budaya","Seni Budaya","-","-","-","-","Seni Budaya","Seni Budaya","-","-","-","-",null,null,null,"A","Sangat baik dalam memahami, menerapkan, menganalisis dan mengevaluasi semua kompetensi dasar.",21,"X RPL 2","Mochamad Nuryanto, S.Ag","PegId","20217802185003"]
["B","TEI 1",null,null,null,null,null,null,21,"P52","Arif Wahyu Nugraha, S.Pd., M.T","NIP","19820710 201101 1 001",null,null,null,null,null,null,null,8,"B",23,"Pendidikan Jasmani, Olah Raga & Kesehatan","Pendidikan Jasmani, Olah Raga & Kesehatan","Pendidikan Jasmani, Olah Raga & Kesehatan","Pendidikan Jasmani, Olah Raga & Kesehatan","-","-","Pendidikan Jasmani, Olah Raga & Kesehatan","Pendidikan Jasmani, Olah Raga & Kesehatan","Pendidikan Jasmani, Olah Raga & Kesehatan","Pendidikan Jasmani, Olah Raga & Kesehatan","-","-","Pendidikan Jasmani, Olah Raga & Kesehatan","Pendidikan Jasmani, Olah Raga & Kesehatan","Pendidikan Jasmani, Olah Raga & Kesehatan","Pendidikan Jasmani, Olah Raga & Kesehatan","-","-","Pendidikan Jasmani, Olah Raga & Kesehatan","Pendidikan Jasmani, Olah Raga & Kesehatan","Pendidikan Jasmani, Olah Raga & Kesehatan","Pendidikan Jasmani, Olah Raga & Kesehatan","-","-","Pendidikan Jasmani, Olah Raga & Kesehatan","Pendidikan Jasmani, Olah Raga & Kesehatan","Pendidikan Jasmani, Olah Raga & Kesehatan","Pendidikan Jasmani, Olah Raga & Kesehatan","-","-","Pendidikan Jasmani, Olah Raga & Kesehatan","Pendidikan Jasmani, Olah Raga & Kesehatan","Pendidikan Jasmani, Olah Raga & Kesehatan","Pendidikan Jasmani, Olah Raga & Kesehatan","-","-","Pendidikan Jasmani, Olah Raga & Kesehatan","Pendidikan Jasmani, Olah Raga & Kesehatan","Pendidikan Jasmani, Olah Raga & Kesehatan","Pendidikan Jasmani, Olah Raga & Kesehatan","-","-","Pendidikan Jasmani, Olah Raga & Kesehatan","Pendidikan Jasmani, Olah Raga & Kesehatan","Pendidikan Jasmani, Olah Raga & Kesehatan","Pendidikan Jasmani, Olah Raga & Kesehatan","-","-","Pendidikan Jasmani, Olah Raga & Kesehatan","Pendidikan Jasmani, Olah Raga & Kesehatan","Pendidikan Jasmani, Olah Raga & Kesehatan","Pendidikan Jasmani, Olah Raga & Kesehatan","-","-","Pendidikan Jasmani, Olah Raga & Kesehatan","Pendidikan Jasmani, Olah Raga & Kesehatan","Pendidikan Jasmani, Olah Raga & Kesehatan","Pendidikan Jasmani, Olah Raga & Kesehatan","-","-","Pendidikan Jasmani, Olah Raga & Kesehatan","Pendidikan Jasmani, Olah Raga & Kesehatan","Pendidikan Jasmani, Olah Raga & Kesehatan","Pendidikan Jasmani, Olah Raga & Kesehatan","-","-",null,null,null,null,null,22,"X TKJ 1","Zian Muzakkiyah Kosman, S.Pd","PegId","20217802189007"]
[null,"TEI 2",null,"PILIHAN_TAHUN_PELAJARAN",null,null,null,null,22,"G6","Asep Darojatul Romli, S.Pd, M.Pd","PegId","-",null,null,null,null,null,null,null,null,null,24,"Pendidikan Jasmani, Olah Raga & Kesehatan","Pendidikan Jasmani, Olah Raga & Kesehatan","Pendidikan Jasmani, Olah Raga & Kesehatan","Pendidikan Jasmani, Olah Raga & Kesehatan","-","-","Pendidikan Jasmani, Olah Raga & Kesehatan","Pendidikan Jasmani, Olah Raga & Kesehatan","Pendidikan Jasmani, Olah Raga & Kesehatan","Pendidikan Jasmani, Olah Raga & Kesehatan","-","-","Pendidikan Jasmani, Olah Raga & Kesehatan","Pendidikan Jasmani, Olah Raga & Kesehatan","Pendidikan Jasmani, Olah Raga & Kesehatan","Pendidikan Jasmani, Olah Raga & Kesehatan","-","-","Pendidikan Jasmani, Olah Raga & Kesehatan","Pendidikan Jasmani, Olah Raga & Kesehatan","Pendidikan Jasmani, Olah Raga & Kesehatan","Pendidikan Jasmani, Olah Raga & Kesehatan","-","-","Pendidikan Jasmani, Olah Raga & Kesehatan","Pendidikan Jasmani, Olah Raga & Kesehatan","Pendidikan Jasmani, Olah Raga & Kesehatan","Pendidikan Jasmani, Olah Raga & Kesehatan","-","-","Pendidikan Jasmani, Olah Raga & Kesehatan","Pendidikan Jasmani, Olah Raga & Kesehatan","Pendidikan Jasmani, Olah Raga & Kesehatan","Pendidikan Jasmani, Olah Raga & Kesehatan","-","-","Pendidikan Jasmani, Olah Raga & Kesehatan","Pendidikan Jasmani, Olah Raga & Kesehatan","Pendidikan Jasmani, Olah Raga & Kesehatan","Pendidikan Jasmani, Olah Raga & Kesehatan","-","-","Pendidikan Jasmani, Olah Raga & Kesehatan","Pendidikan Jasmani, Olah Raga & Kesehatan","Pendidikan Jasmani, Olah Raga & Kesehatan","Pendidikan Jasmani, Olah Raga & Kesehatan","-","-","Pendidikan Jasmani, Olah Raga & Kesehatan","Pendidikan Jasmani, Olah Raga & Kesehatan","Pendidikan Jasmani, Olah Raga & Kesehatan","Pendidikan Jasmani, Olah Raga & Kesehatan","-","-","Pendidikan Jasmani, Olah Raga & Kesehatan","Pendidikan Jasmani, Olah Raga & Kesehatan","Pendidikan Jasmani, Olah Raga & Kesehatan","Pendidikan Jasmani, Olah Raga & Kesehatan","-","-","Pendidikan Jasmani, Olah Raga & Kesehatan","Pendidikan Jasmani, Olah Raga & Kesehatan","Pendidikan Jasmani, Olah Raga & Kesehatan","Pendidikan Jasmani, Olah Raga & Kesehatan","-","-",null,null,null,"B","Baik dalam memahami, menerapkan, menganalisis dan mengevaluasi sebagian besar kompetensi dasar.",23,"X TKJ 2","Sri Hartati, S.T","PegId","20217802184001"]
[null,"RPL 1",null,"-",null,null,null,null,23,"G20","Asep Saeful Rohman, S.Ag","PegId","-",null,null,null,null,null,null,null,null,null,25,"Pendidikan Jasmani, Olah Raga & Kesehatan","Pendidikan Jasmani, Olah Raga & Kesehatan","Pendidikan Jasmani, Olah Raga & Kesehatan","Pendidikan Jasmani, Olah Raga & Kesehatan","-","-","Pendidikan Jasmani, Olah Raga & Kesehatan","Pendidikan Jasmani, Olah Raga & Kesehatan","Pendidikan Jasmani, Olah Raga & Kesehatan","Pendidikan Jasmani, Olah Raga & Kesehatan","-","-","Pendidikan Jasmani, Olah Raga & Kesehatan","Pendidikan Jasmani, Olah Raga & Kesehatan","Pendidikan Jasmani, Olah Raga & Kesehatan","Pendidikan Jasmani, Olah Raga & Kesehatan","-","-","Pendidikan Jasmani, Olah Raga & Kesehatan","Pendidikan Jasmani, Olah Raga & Kesehatan","Pendidikan Jasmani, Olah Raga & Kesehatan","Pendidikan Jasmani, Olah Raga & Kesehatan","-","-","Pendidikan Jasmani, Olah Raga & Kesehatan","Pendidikan Jasmani, Olah Raga & Kesehatan","Pendidikan Jasmani, Olah Raga & Kesehatan","Pendidikan Jasmani, Olah Raga & Kesehatan","-","-","Pendidikan Jasmani, Olah Raga & Kesehatan","Pendidikan Jasmani, Olah Raga & Kesehatan","Pendidikan Jasmani, Olah Raga & Kesehatan","Pendidikan Jasmani, Olah Raga & Kesehatan","-","-","Pendidikan Jasmani, Olah Raga & Kesehatan","Pendidikan Jasmani, Olah Raga & Kesehatan","Pendidikan Jasmani, Olah Raga & Kesehatan","Pendidikan Jasmani, Olah Raga & Kesehatan","-","-","Pendidikan Jasmani, Olah Raga & Kesehatan","Pendidikan Jasmani, Olah Raga & Kesehatan","Pendidikan Jasmani, Olah Raga & Kesehatan","Pendidikan Jasmani, Olah Raga & Kesehatan","-","-","Pendidikan Jasmani, Olah Raga & Kesehatan","Pendidikan Jasmani, Olah Raga & Kesehatan","Pendidikan Jasmani, Olah Raga & Kesehatan","Pendidikan Jasmani, Olah Raga & Kesehatan","-","-","Pendidikan Jasmani, Olah Raga & Kesehatan","Pendidikan Jasmani, Olah Raga & Kesehatan","Pendidikan Jasmani, Olah Raga & Kesehatan","Pendidikan Jasmani, Olah Raga & Kesehatan","-","-","Pendidikan Jasmani, Olah Raga & Kesehatan","Pendidikan Jasmani, Olah Raga & Kesehatan","Pendidikan Jasmani, Olah Raga & Kesehatan","Pendidikan Jasmani, Olah Raga & Kesehatan","-","-",null,null,null,null,null,24,"X TKJ 3","Indria Listia Ningrum, S.Kom","PegId","20217802189003"]
["C1","RPL 2",null,"2014 / 2015",null,null,null,null,24,"G87","Asep Tatang","PegId","-",null,null,null,null,null,null,null,9,"B",26,"Bahasa dan Sastra Sunda","Bahasa dan Sastra Sunda","-","-","-","-","Bahasa dan Sastra Sunda","Bahasa dan Sastra Sunda","-","-","-","-","Bahasa dan Sastra Sunda","Bahasa dan Sastra Sunda","-","-","-","-","Bahasa dan Sastra Sunda","Bahasa dan Sastra Sunda","-","-","-","-","Bahasa dan Sastra Sunda","Bahasa dan Sastra Sunda","-","-","-","-","Bahasa dan Sastra Sunda","Bahasa dan Sastra Sunda","-","-","-","-","Bahasa dan Sastra Sunda","Bahasa dan Sastra Sunda","-","-","-","-","Bahasa dan Sastra Sunda","Bahasa dan Sastra Sunda","-","-","-","-","Bahasa dan Sastra Sunda","Bahasa dan Sastra Sunda","-","-","-","-","Bahasa dan Sastra Sunda","Bahasa dan Sastra Sunda","-","-","-","-","Bahasa dan Sastra Sunda","Bahasa dan Sastra Sunda","-","-","-","-",null,null,null,"C","Cukup baik memahami sebagian kompetensi dasar, tetapi kurang bisa menerapkan, menganalisis dan mengevaluasinya.",25,"XI TGB 1","Muhammad Fauzi Efendie, S.Pd.","PegId","20217802185001"]
[null,"TKJ 1",null,"2015 / 2016",null,null,null,null,25,"P38","Asep Tatang Suryana, S.Pd, MM","NIP","19710617 199801 1 001",null,null,null,null,null,null,null,null,null,27,"Bahasa dan Sastra Sunda","Bahasa dan Sastra Sunda","-","-","-","-","Bahasa dan Sastra Sunda","Bahasa dan Sastra Sunda","-","-","-","-","Bahasa dan Sastra Sunda","Bahasa dan Sastra Sunda","-","-","-","-","Bahasa dan Sastra Sunda","Bahasa dan Sastra Sunda","-","-","-","-","Bahasa dan Sastra Sunda","Bahasa dan Sastra Sunda","-","-","-","-","Bahasa dan Sastra Sunda","Bahasa dan Sastra Sunda","-","-","-","-","Bahasa dan Sastra Sunda","Bahasa dan Sastra Sunda","-","-","-","-","Bahasa dan Sastra Sunda","Bahasa dan Sastra Sunda","-","-","-","-","Bahasa dan Sastra Sunda","Bahasa dan Sastra Sunda","-","-","-","-","Bahasa dan Sastra Sunda","Bahasa dan Sastra Sunda","-","-","-","-","Bahasa dan Sastra Sunda","Bahasa dan Sastra Sunda","-","-","-","-",null,null,null,null,null,26,"XI TGB 2","Drs. Encep Pranseda,  M.Pd","NIP","19660713 200701 1 005"]
[null,"TKJ 2",null,"2016 / 2017",null,null,null,null,26,"G71","Atikah Nurwansyah","PegId","-",null,null,null,null,null,null,null,null,null,28,"Bahasa dan Sastra Sunda","Bahasa dan Sastra Sunda","-","-","-","-","Bahasa dan Sastra Sunda","Bahasa dan Sastra Sunda","-","-","-","-","Bahasa dan Sastra Sunda","Bahasa dan Sastra Sunda","-","-","-","-","Bahasa dan Sastra Sunda","Bahasa dan Sastra Sunda","-","-","-","-","Bahasa dan Sastra Sunda","Bahasa dan Sastra Sunda","-","-","-","-","Bahasa dan Sastra Sunda","Bahasa dan Sastra Sunda","-","-","-","-","Bahasa dan Sastra Sunda","Bahasa dan Sastra Sunda","-","-","-","-","Bahasa dan Sastra Sunda","Bahasa dan Sastra Sunda","-","-","-","-","Bahasa dan Sastra Sunda","Bahasa dan Sastra Sunda","-","-","-","-","Bahasa dan Sastra Sunda","Bahasa dan Sastra Sunda","-","-","-","-","Bahasa dan Sastra Sunda","Bahasa dan Sastra Sunda","-","-","-","-",null,null,null,"D","Kurang dapat memahami, hanya bisa menerapkan, menganalisis, dan mengeveluasi sebagian kecil kompetensi dasar.",27,"XI TEI 1","Eli Heriah, S.Si, M.Pd","NIP","19790602 201408 2 002"]
["C1","TKJ 3",null,"2017 / 2018",null,null,null,null,27,"P63","Ayu Lea Lailatussa'diyah, S.Pd","NIP","19920626 201503 2 002",null,null,null,null,null,null,null,10,"B",29,"PLH","PLH","Bahasa Jepang","Bahasa Jepang","Bahasa Jepang","Bahasa Jepang","PLH","PLH","Bahasa Jepang","Bahasa Jepang","Bahasa Jepang","Bahasa Jepang","PLH","PLH","Bahasa Jepang","Bahasa Jepang","Bahasa Jepang","Bahasa Jepang","PLH","PLH","Bahasa Jepang","Bahasa Jepang","Bahasa Jepang","Bahasa Jepang","PLH","PLH","Bahasa Jepang","Bahasa Jepang","Bahasa Jepang","Bahasa Jepang","PLH","PLH","Bahasa Jepang","Bahasa Jepang","Bahasa Jepang","Bahasa Jepang","PLH","PLH","Bahasa Jepang","Bahasa Jepang","Bahasa Jepang","Bahasa Jepang","PLH","PLH","Bahasa Jepang","Bahasa Jepang","Bahasa Jepang","Bahasa Jepang","PLH","PLH","Bahasa Jepang","Bahasa Jepang","Bahasa Jepang","Bahasa Jepang","PLH","PLH","Bahasa Jepang","Bahasa Jepang","Bahasa Jepang","Bahasa Jepang","PLH","PLH","Bahasa Jepang","Bahasa Jepang","Bahasa Jepang","Bahasa Jepang",null,null,null,null,null,28,"XI TEI 2","Deni Kurniawan, S.Pd","PegId","20217802188006"]
[null,null,null,"2018 / 2019",null,null,null,null,28,"G21","Ayung Suryana, S.Pd","PegId","-",null,null,null,null,null,null,null,null,null,30,"PLH","PLH","Bahasa Jepang","Bahasa Jepang","Bahasa Jepang","Bahasa Jepang","PLH","PLH","Bahasa Jepang","Bahasa Jepang","Bahasa Jepang","Bahasa Jepang","PLH","PLH","Bahasa Jepang","Bahasa Jepang","Bahasa Jepang","Bahasa Jepang","PLH","PLH","Bahasa Jepang","Bahasa Jepang","Bahasa Jepang","Bahasa Jepang","PLH","PLH","Bahasa Jepang","Bahasa Jepang","Bahasa Jepang","Bahasa Jepang","PLH","PLH","Bahasa Jepang","Bahasa Jepang","Bahasa Jepang","Bahasa Jepang","PLH","PLH","Bahasa Jepang","Bahasa Jepang","Bahasa Jepang","Bahasa Jepang","PLH","PLH","Bahasa Jepang","Bahasa Jepang","Bahasa Jepang","Bahasa Jepang","PLH","PLH","Bahasa Jepang","Bahasa Jepang","Bahasa Jepang","Bahasa Jepang","PLH","PLH","Bahasa Jepang","Bahasa Jepang","Bahasa Jepang","Bahasa Jepang","PLH","PLH","Bahasa Jepang","Bahasa Jepang","Bahasa Jepang","Bahasa Jepang",null,null,null,null,null,29,"XI TEI 3","Ayung Suryana, S.Pd","PegId","20217802191003"]
[null,null,null,"2019 / 2020",null,null,null,null,29,"G3","Azis Muslim, S.Pd","PegId","-",null,null,null,null,null,null,null,null,null,31,"PLH","PLH","Bahasa Jepang","Bahasa Jepang","Bahasa Jepang","Bahasa Jepang","PLH","PLH","Bahasa Jepang","Bahasa Jepang","Bahasa Jepang","Bahasa Jepang","PLH","PLH","Bahasa Jepang","Bahasa Jepang","Bahasa Jepang","Bahasa Jepang","PLH","PLH","Bahasa Jepang","Bahasa Jepang","Bahasa Jepang","Bahasa Jepang","PLH","PLH","Bahasa Jepang","Bahasa Jepang","Bahasa Jepang","Bahasa Jepang","PLH","PLH","Bahasa Jepang","Bahasa Jepang","Bahasa Jepang","Bahasa Jepang","PLH","PLH","Bahasa Jepang","Bahasa Jepang","Bahasa Jepang","Bahasa Jepang","PLH","PLH","Bahasa Jepang","Bahasa Jepang","Bahasa Jepang","Bahasa Jepang","PLH","PLH","Bahasa Jepang","Bahasa Jepang","Bahasa Jepang","Bahasa Jepang","PLH","PLH","Bahasa Jepang","Bahasa Jepang","Bahasa Jepang","Bahasa Jepang","PLH","PLH","Bahasa Jepang","Bahasa Jepang","Bahasa Jepang","Bahasa Jepang",null,null,null,"DESKRIPSI NILAI KETERAMPILAN",null,30,"XI TPL 1","Dewi Yuningsih, S.Pd","NIP","19700107 201001 2 006"]
["C1",null,null,"2020 / 2021",null,null,null,null,30,"G48","Azis Syahrial Saefudin, S.Pd","PegId","20217802188007",null,null,null,null,null,null,null,11,"C1",32,"Simulasi dan Komunikasi Digital","Simulasi dan Komunikasi Digital","-","-","-","-","Simulasi dan Komunikasi Digital","Simulasi dan Komunikasi Digital","-","-","-","-","Simulasi dan Komunikasi Digital","Simulasi dan Komunikasi Digital","-","-","-","-","Simulasi dan Komunikasi Digital","Simulasi dan Komunikasi Digital","-","-","-","-","Simulasi dan Komunikasi Digital","Simulasi dan Komunikasi Digital","-","-","-","-","Simulasi dan Komunikasi Digital","Simulasi dan Komunikasi Digital","-","-","-","-","Simulasi dan Komunikasi Digital","Simulasi dan Komunikasi Digital","-","-","-","-","Simulasi dan Komunikasi Digital","Simulasi dan Komunikasi Digital","-","-","-","-","Simulasi dan Komunikasi Digital","Simulasi dan Komunikasi Digital","-","-","-","-","Simulasi dan Komunikasi Digital","Simulasi dan Komunikasi Digital","-","-","-","-","Simulasi dan Komunikasi Digital","Simulasi dan Komunikasi Digital","-","-","-","-",null,null,null,"A","Sangat baik dan aktif bertanya, mencoba, menalar dan kreatif dalam menyelesaikan tugas praktek.",31,"XI TPL 2","Wieneke Dinar P, S.Pd, M.Pd","PegId","20217802186004"]
[null,null,null,"2021 / 2022",null,null,null,null,31,"G22","Bambang Herwiyanto, S.Pd, M.Pd","PegId","20217802177001",null,null,null,null,null,null,null,null,null,33,"Simulasi dan Komunikasi Digital","Simulasi dan Komunikasi Digital","-","-","-","-","Simulasi dan Komunikasi Digital","Simulasi dan Komunikasi Digital","-","-","-","-","Simulasi dan Komunikasi Digital","Simulasi dan Komunikasi Digital","-","-","-","-","Simulasi dan Komunikasi Digital","Simulasi dan Komunikasi Digital","-","-","-","-","Simulasi dan Komunikasi Digital","Simulasi dan Komunikasi Digital","-","-","-","-","Simulasi dan Komunikasi Digital","Simulasi dan Komunikasi Digital","-","-","-","-","Simulasi dan Komunikasi Digital","Simulasi dan Komunikasi Digital","-","-","-","-","Simulasi dan Komunikasi Digital","Simulasi dan Komunikasi Digital","-","-","-","-","Simulasi dan Komunikasi Digital","Simulasi dan Komunikasi Digital","-","-","-","-","Simulasi dan Komunikasi Digital","Simulasi dan Komunikasi Digital","-","-","-","-","Simulasi dan Komunikasi Digital","Simulasi dan Komunikasi Digital","-","-","-","-",null,null,null,null,null,32,"XI TPL 3","Vanny Tri Oktaviani, S.Pd","PegId","20217802191004"]
[null,null,null,null,null,null,null,null,32,"P62","Bimuka Jati Andromeda, S.Pd","NIP","19900202 201503 1 003",null,null,null,null,null,null,null,null,null,34,"Simulasi dan Komunikasi Digital","Simulasi dan Komunikasi Digital","-","-","-","-","Simulasi dan Komunikasi Digital","Simulasi dan Komunikasi Digital","-","-","-","-","Simulasi dan Komunikasi Digital","Simulasi dan Komunikasi Digital","-","-","-","-","Simulasi dan Komunikasi Digital","Simulasi dan Komunikasi Digital","-","-","-","-","Simulasi dan Komunikasi Digital","Simulasi dan Komunikasi Digital","-","-","-","-","Simulasi dan Komunikasi Digital","Simulasi dan Komunikasi Digital","-","-","-","-","Simulasi dan Komunikasi Digital","Simulasi dan Komunikasi Digital","-","-","-","-","Simulasi dan Komunikasi Digital","Simulasi dan Komunikasi Digital","-","-","-","-","Simulasi dan Komunikasi Digital","Simulasi dan Komunikasi Digital","-","-","-","-","Simulasi dan Komunikasi Digital","Simulasi dan Komunikasi Digital","-","-","-","-","Simulasi dan Komunikasi Digital","Simulasi dan Komunikasi Digital","-","-","-","-",null,null,null,"B","Baik dan aktif bertanya, mencoba, menalar dan kreatif dalam menyelesaikan sebagian besar tugas praktek.",33,"XI TP 1","Ade Carman, S.Pd","NIP","19720406 201407 1 001"]
["C2",null,null,null,null,null,null,null,33,"G86","Candri Abdul Azis, A.Ma","PegId","-",null,null,null,null,null,null,null,12,"C1",35,"Fisika","Fisika","-","-","-","-","Fisika","Fisika","-","-","-","-","Fisika","Fisika","-","-","-","-","Fisika","Fisika","-","-","-","-","Fisika","Fisika","-","-","-","-","Fisika","Fisika","-","-","-","-","Fisika","Fisika","-","-","-","-","Fisika","Fisika","-","-","-","-","Fisika","Fisika","-","-","-","-","Fisika","Fisika","-","-","-","-","Fisika","Fisika","-","-","-","-",null,null,null,null,null,34,"XI TP 2","Drs.Tamrin, M.Pd","NIP","19600802 198503 1 007"]
[null,null,null,null,null,null,null,null,34,"P29","Caska, S.Pd","NIP","19670814 199903 1 003",null,null,null,null,null,null,null,null,null,36,"Fisika","Fisika","-","-","-","-","Fisika","Fisika","-","-","-","-","Fisika","Fisika","-","-","-","-","Fisika","Fisika","-","-","-","-","Fisika","Fisika","-","-","-","-","Fisika","Fisika","-","-","-","-","Fisika","Fisika","-","-","-","-","Fisika","Fisika","-","-","-","-","Fisika","Fisika","-","-","-","-","Fisika","Fisika","-","-","-","-","Fisika","Fisika","-","-","-","-",null,null,null,"C","Cukup aktif bertanya, mencoba, menalar dan kreatif dalam menyelesaikan tugas praktek",35,"XI TP 3","Drs. Bahrudin, MM","NIP","19620316 198603 1 007"]
[null,null,null,null,null,null,null,null,35,"P9","Cosmas Marojahan Sitanggang, S.Pd, MM","NIP","19680311 199003 1 006",null,null,null,null,null,null,null,null,null,37,"Fisika","Fisika","-","-","-","-","Fisika","Fisika","-","-","-","-","Fisika","Fisika","-","-","-","-","Fisika","Fisika","-","-","-","-","Fisika","Fisika","-","-","-","-","Fisika","Fisika","-","-","-","-","Fisika","Fisika","-","-","-","-","Fisika","Fisika","-","-","-","-","Fisika","Fisika","-","-","-","-","Fisika","Fisika","-","-","-","-","Fisika","Fisika","-","-","-","-",null,null,null,null,null,36,"XI TP 4","Caska, S.Pd","NIP","19670814 199903 1 003"]
["C2",null,null,null,null,null,null,null,36,"G15","Dadan Ramdana, S.Pd","PegId","-",null,null,null,null,null,null,null,13,"C1",38,"Kimia","Kimia","-","-","-","-","Kimia","Kimia","-","-","-","-","Kimia","Kimia","-","-","-","-","Kimia","Kimia","-","-","-","-","Kimia","Kimia","-","-","-","-","Kimia","Kimia","-","-","-","-","Kimia","Kimia","-","-","-","-","Kimia","Kimia","-","-","-","-","Kimia","Kimia","-","-","-","-","Kimia","Kimia","-","-","-","-","Kimia","Kimia","-","-","-","-",null,null,null,"D","Kurang aktif bertanya, mencoba, menalar dan kreatif dalam menyelesaikan tugas praktek.",37,"XI TGM","Prapti Suharyanti, S.Pd","NIP","19770218 201407 2 001"]
[null,null,null,null,null,null,null,null,37,"P36","Dafik Derajat, S.Pd","NIP","19770223 200501 1 004",null,null,null,null,null,null,null,null,null,39,"Kimia","Kimia","-","-","-","-","Kimia","Kimia","-","-","-","-","Kimia","Kimia","-","-","-","-","Kimia","Kimia","-","-","-","-","Kimia","Kimia","-","-","-","-","Kimia","Kimia","-","-","-","-","Kimia","Kimia","-","-","-","-","Kimia","Kimia","-","-","-","-","Kimia","Kimia","-","-","-","-","Kimia","Kimia","-","-","-","-","Kimia","Kimia","-","-","-","-",null,null,null,null,null,38,"XI TFLM","Syarif Hidayatullah, S.Pd, MM","PegId","-"]
[null,null,null,null,null,null,null,null,38,"G73","Darwis Prasetyo, S.Pd","PegId","-",null,null,null,null,null,null,null,null,null,40,"Kimia","Kimia","-","-","-","-","Kimia","Kimia","-","-","-","-","Kimia","Kimia","-","-","-","-","Kimia","Kimia","-","-","-","-","Kimia","Kimia","-","-","-","-","Kimia","Kimia","-","-","-","-","Kimia","Kimia","-","-","-","-","Kimia","Kimia","-","-","-","-","Kimia","Kimia","-","-","-","-","Kimia","Kimia","-","-","-","-","Kimia","Kimia","-","-","-","-",null,null,null,null,null,39,"XI TKR 1","Rika Nurlaela Ningrum, S.S","PegId","-"]
["C2",null,null,null,null,null,null,null,39,"G89","Dede Badru Zaman, S.Sos","PegId","-",null,null,null,null,null,null,null,14,"C2",41,"Gambar Teknik","Gambar Teknik","-","-","-","-","Gambar Teknik Listrik","Gambar Teknik Listrik","-","-","-","-","Gambar Teknik Mesin","Gambar Teknik Mesin","-","-","-","-","Gambar Teknik Mesin","Gambar Teknik Mesin","-","-","-","-","Gambar Teknik Mesin","Gambar Teknik Mesin","-","-","-","-","Gambar Teknik Mesin","Gambar Teknik Mesin","-","-","-","-","Gambar Teknik Otomotif","Gambar Teknik Otomotif","-","-","-","-","Gambar Teknik Otomotif","Gambar Teknik Otomotif","-","-","-","-","Kerja Bengkel dan Gambar Teknik","Kerja Bengkel dan Gambar Teknik","-","-","-","-","Sistem Komputer","Sistem Komputer","-","-","-","-","Sistem Komputer","Sistem Komputer","-","-","-","-",null,null,null,null,null,40,"XI TKR 2","Drs. Kusmaya","NIP","19640812 199412 1 002"]
[null,null,null,null,null,null,null,null,40,"G37","Dede Supriatna, S.Pd","PegId","20217802183002",null,null,null,null,null,null,null,null,null,42,"Gambar Teknik","Gambar Teknik","-","-","-","-","Gambar Teknik Listrik","Gambar Teknik Listrik","-","-","-","-","Gambar Teknik Mesin","Gambar Teknik Mesin","-","-","-","-","Gambar Teknik Mesin","Gambar Teknik Mesin","-","-","-","-","Gambar Teknik Mesin","Gambar Teknik Mesin","-","-","-","-","Gambar Teknik Mesin","Gambar Teknik Mesin","-","-","-","-","Gambar Teknik Otomotif","Gambar Teknik Otomotif","-","-","-","-","Gambar Teknik Otomotif","Gambar Teknik Otomotif","-","-","-","-","Kerja Bengkel dan Gambar Teknik","Kerja Bengkel dan Gambar Teknik","-","-","-","-","Sistem Komputer","Sistem Komputer","-","-","-","-","Sistem Komputer","Sistem Komputer","-","-","-","-",null,null,null,"KETERANGAN NILAI EKSKUL",null,41,"XI TKR 3","Andi Rosadi","PegId","-"]
[null,null,null,null,null,null,null,null,41,"G23","Dedeh, S.Pd","PegId","-",null,null,null,null,null,null,null,null,null,43,"Gambar Teknik","Gambar Teknik","-","-","-","-","Gambar Teknik Listrik","Gambar Teknik Listrik","-","-","-","-","Gambar Teknik Mesin","Gambar Teknik Mesin","-","-","-","-","Gambar Teknik Mesin","Gambar Teknik Mesin","-","-","-","-","Gambar Teknik Mesin","Gambar Teknik Mesin","-","-","-","-","Gambar Teknik Mesin","Gambar Teknik Mesin","-","-","-","-","Gambar Teknik Otomotif","Gambar Teknik Otomotif","-","-","-","-","Gambar Teknik Otomotif","Gambar Teknik Otomotif","-","-","-","-","Kerja Bengkel dan Gambar Teknik","Kerja Bengkel dan Gambar Teknik","-","-","-","-","Sistem Komputer","Sistem Komputer","-","-","-","-","Sistem Komputer","Sistem Komputer","-","-","-","-",null,null,null,"A","Sangat baik, berprestasi, disiplin dan rajin berlatih",42,"XI TKR 4","Tri Puji Astutik, S.Pd","PegId","-"]
["C2",null,null,null,null,null,null,null,42,"P28","Dedi Suandi Setiawan, S.Pd, M.Pd","NIP","19710119 199801 1 001",null,null,null,null,null,null,null,15,"C2",44,"Mekanika Teknik","Mekanika Teknik","-","-","-","-","Dasar Listrik dan Elektronika","Dasar Listrik dan Elektronika","-","-","-","-","Pekerjaan Dasar Teknik Mesin","Pekerjaan Dasar Teknik Mesin","-","-","-","-","Pekerjaan Dasar Teknik Mesin","Pekerjaan Dasar Teknik Mesin","-","-","-","-","Pekerjaan Dasar Teknik Mesin","Pekerjaan Dasar Teknik Mesin","-","-","-","-","Pekerjaan Dasar Teknik Mesin","Pekerjaan Dasar Teknik Mesin","-","-","-","-","Teknologi Dasar Otomotif","Teknologi Dasar Otomotif","-","-","-","-","Teknologi Dasar Otomotif","Teknologi Dasar Otomotif","-","-","-","-","Dasar Listrik dan Elektronika","Dasar Listrik dan Elektronika","-","-","-","-","Komputer dan Jaringan Dasar","Komputer dan Jaringan Dasar","-","-","-","-","Komputer dan Jaringan Dasar","Komputer dan Jaringan Dasar","-","-","-","-",null,null,null,"B","Baik, berprestasi, disiplin dan rajin berlatih",43,"XI TSM 1","Leli Suherli, S.Pd, M.Pd","NIP","19600113 198611 1 001"]
[null,null,null,null,null,null,null,null,43,"P31","Dendi Bagus Wicaksana, S.ST","NIP","19671104 199203 1 003",null,null,null,null,null,null,null,null,null,45,"Mekanika Teknik","Mekanika Teknik","-","-","-","-","Dasar Listrik dan Elektronika","Dasar Listrik dan Elektronika","-","-","-","-","Pekerjaan Dasar Teknik Mesin","Pekerjaan Dasar Teknik Mesin","-","-","-","-","Pekerjaan Dasar Teknik Mesin","Pekerjaan Dasar Teknik Mesin","-","-","-","-","Pekerjaan Dasar Teknik Mesin","Pekerjaan Dasar Teknik Mesin","-","-","-","-","Pekerjaan Dasar Teknik Mesin","Pekerjaan Dasar Teknik Mesin","-","-","-","-","Teknologi Dasar Otomotif","Teknologi Dasar Otomotif","-","-","-","-","Teknologi Dasar Otomotif","Teknologi Dasar Otomotif","-","-","-","-","Dasar Listrik dan Elektronika","Dasar Listrik dan Elektronika","-","-","-","-","Komputer dan Jaringan Dasar","Komputer dan Jaringan Dasar","-","-","-","-","Komputer dan Jaringan Dasar","Komputer dan Jaringan Dasar","-","-","-","-",null,null,null,"C","Cukup baik, berprestasi, disiplin dan rajin berlatih",44,"XI TSM 2","Sigit Nuratmadi, S.Pd","NIP","19790118 201407 1 002"]
[null,null,null,null,null,null,null,null,44,"G56","Deni Kurniawan, S.Pd","PegId","20217802188006",null,null,null,null,null,null,null,null,null,46,"Mekanika Teknik","Mekanika Teknik","-","-","-","-","Dasar Listrik dan Elektronika","Dasar Listrik dan Elektronika","-","-","-","-","Pekerjaan Dasar Teknik Mesin","Pekerjaan Dasar Teknik Mesin","-","-","-","-","Pekerjaan Dasar Teknik Mesin","Pekerjaan Dasar Teknik Mesin","-","-","-","-","Pekerjaan Dasar Teknik Mesin","Pekerjaan Dasar Teknik Mesin","-","-","-","-","Pekerjaan Dasar Teknik Mesin","Pekerjaan Dasar Teknik Mesin","-","-","-","-","Teknologi Dasar Otomotif","Teknologi Dasar Otomotif","-","-","-","-","Teknologi Dasar Otomotif","Teknologi Dasar Otomotif","-","-","-","-","Dasar Listrik dan Elektronika","Dasar Listrik dan Elektronika","-","-","-","-","Komputer dan Jaringan Dasar","Komputer dan Jaringan Dasar","-","-","-","-","Komputer dan Jaringan Dasar","Komputer dan Jaringan Dasar","-","-","-","-",null,null,null,"D","Kurang baik, berprestasi, disiplin dan rajin berlatih",45,"XI TIPTL 1","Faridawati Saragih, S.Si","NIP","19691010 200801 2 015"]
["C2",null,null,null,null,null,null,null,45,"G24","Dewi Lestari Nengsih, S.IP","PegId","20217802185001",null,null,null,null,null,null,null,16,"C2",47,"Dasar-dasar Konstruksi Bangunan dan Teknik Pengukuran Tanah","Dasar-dasar Konstruksi Bangunan dan Teknik Pengukuran Tanah","-","-","-","-","Pekerjaan Dasar Elektromekanik","Pekerjaan Dasar Elektromekanik","-","-","-","-","Dasar Perancangan Teknik Mesin","Dasar Perancangan Teknik Mesin","-","-","-","-","Dasar Perancangan Teknik Mesin","Dasar Perancangan Teknik Mesin","-","-","-","-","Dasar Perancangan Teknik Mesin","Dasar Perancangan Teknik Mesin","-","-","-","-","Dasar Perancangan Teknik Mesin","Dasar Perancangan Teknik Mesin","-","-","-","-","Pekerjaan Dasar Otomotif","Pekerjaan Dasar Otomotif","-","-","-","-","Pekerjaan Dasar Otomotif","Pekerjaan Dasar Otomotif","-","-","-","-","Dasar Pemrograman","Dasar Pemrograman","-","-","-","-","Pemrograman Dasar","Pemrograman Dasar","-","-","-","-","Pemrograman Dasar","Pemrograman Dasar","-","-","-","-",null,null,null,"-","-",46,"XI TIPTL 2","Utha Apriel DAC, S.Pd","PegId","20217802189006"]
[null,null,null,null,null,null,null,null,46,"P48","Dewi Yuningsih, S.Pd","NIP","19700107 201001 2 006",null,null,null,null,null,null,null,null,null,48,"Dasar-dasar Konstruksi Bangunan dan Teknik Pengukuran Tanah","Dasar-dasar Konstruksi Bangunan dan Teknik Pengukuran Tanah","-","-","-","-","Pekerjaan Dasar Elektromekanik","Pekerjaan Dasar Elektromekanik","-","-","-","-","Dasar Perancangan Teknik Mesin","Dasar Perancangan Teknik Mesin","-","-","-","-","Dasar Perancangan Teknik Mesin","Dasar Perancangan Teknik Mesin","-","-","-","-","Dasar Perancangan Teknik Mesin","Dasar Perancangan Teknik Mesin","-","-","-","-","Dasar Perancangan Teknik Mesin","Dasar Perancangan Teknik Mesin","-","-","-","-","Pekerjaan Dasar Otomotif","Pekerjaan Dasar Otomotif","-","-","-","-","Pekerjaan Dasar Otomotif","Pekerjaan Dasar Otomotif","-","-","-","-","Dasar Pemrograman","Dasar Pemrograman","-","-","-","-","Pemrograman Dasar","Pemrograman Dasar","-","-","-","-","Pemrograman Dasar","Pemrograman Dasar","-","-","-","-",null,null,null,null,null,47,"XI TIPTL 3","Amad, S.Pd","PegId","20217802189004"]
[null,null,null,null,null,null,null,null,47,"G39","Dhian Nur Rahayu, ST, M.Kom","PegId","-",null,null,null,null,null,null,null,null,null,49,"Dasar-dasar Konstruksi Bangunan dan Teknik Pengukuran Tanah","Dasar-dasar Konstruksi Bangunan dan Teknik Pengukuran Tanah","-","-","-","-","Pekerjaan Dasar Elektromekanik","Pekerjaan Dasar Elektromekanik","-","-","-","-","Dasar Perancangan Teknik Mesin","Dasar Perancangan Teknik Mesin","-","-","-","-","Dasar Perancangan Teknik Mesin","Dasar Perancangan Teknik Mesin","-","-","-","-","Dasar Perancangan Teknik Mesin","Dasar Perancangan Teknik Mesin","-","-","-","-","Dasar Perancangan Teknik Mesin","Dasar Perancangan Teknik Mesin","-","-","-","-","Pekerjaan Dasar Otomotif","Pekerjaan Dasar Otomotif","-","-","-","-","Pekerjaan Dasar Otomotif","Pekerjaan Dasar Otomotif","-","-","-","-","Dasar Pemrograman","Dasar Pemrograman","-","-","-","-","Pemrograman Dasar","Pemrograman Dasar","-","-","-","-","Pemrograman Dasar","Pemrograman Dasar","-","-","-","-",null,null,null,null,null,48,"XI TKJ 1","Bimuka Jati Andromeda, S.Pd","NIP","19900202 201503 1 003"]
["C2",null,null,null,null,null,null,null,48,"G25","Didin Syamsudin, S.Pd","PegId","20217802187001",null,null,null,null,null,null,null,17,"C2",50,"-","-","-","-","-","-","-","-","-","-","-","-","-","-","-","-","-","-","-","-","-","-","-","-","-","-","-","-","-","-","-","-","-","-","-","-","-","-","-","-","-","-","-","-","-","-","-","-","-","-","-","-","-","-","-","-","-","-","-","-","Dasar Desain Grafis","Dasar Desain Grafis","-","-","-","-",null,null,null,null,null,49,"XI TKJ 2","Muhammad Busron, S.Pd","PegId","-"]
[null,null,null,null,null,null,null,null,49,"P27","Dra. Endang Dwi Winarti","NIP","19691122 199702 2 001",null,null,null,null,null,null,null,null,null,51,"-","-","-","-","-","-","-","-","-","-","-","-","-","-","-","-","-","-","-","-","-","-","-","-","-","-","-","-","-","-","-","-","-","-","-","-","-","-","-","-","-","-","-","-","-","-","-","-","-","-","-","-","-","-","-","-","-","-","-","-","Dasar Desain Grafis","Dasar Desain Grafis","-","-","-","-",null,null,null,null,null,50,"XI TKJ 3","Atikah Nurwansyah, A.Md","PegId","-"]
[null,null,null,null,null,null,null,null,50,"P4","Dra. Hj. Marpuah","NIP","19610512 198603 2 001",null,null,null,null,null,null,null,null,null,52,"-","-","-","-","-","-","-","-","-","-","-","-","-","-","-","-","-","-","-","-","-","-","-","-","-","-","-","-","-","-","-","-","-","-","-","-","-","-","-","-","-","-","-","-","-","-","-","-","-","-","-","-","-","-","-","-","-","-","-","-","Dasar Desain Grafis","Dasar Desain Grafis","-","-","-","-",null,null,null,null,null,51,"XI TKJ 4","Agus Widodo, S.Sas","NIP","19670827 201407 1 001"]
["C3",null,null,null,null,null,null,null,51,"P10","Dra. Hj.Jeni Sarojini Somawi","NIP","19590930 198803 2 001",null,null,null,null,null,null,null,18,"C3",53,"-","-","Aplikasi Perangkat Lunak dan Perancangan Interior Gedung","Aplikasi Perangkat Lunak dan Perancangan Interior Gedung","Aplikasi Perangkat Lunak dan Perancangan Interior Gedung","Aplikasi Perangkat Lunak dan Perancangan Interior Gedung","-","-","Instalasi Penerangan Listrik","Instalasi Penerangan Listrik","Instalasi Penerangan Listrik","Instalasi Penerangan Listrik","-","-","Gambar Teknik Manufaktur","Gambar Teknik Manufaktur","Gambar Teknik Manufaktur","Gambar Teknik Manufaktur","-","-","Teknik Pengelasan Oksi-Asetilen (OAW)","Teknik Pengelasan Oksi-Asetilen (OAW)","-","-","-","-","Teknik Gambar Konstruksi","Teknik Gambar Konstruksi","Teknik Gambar Konstruksi","Teknik Gambar Konstruksi","-","-","Teknik Pemesinan Konvensional","Teknik Pemesinan Konvensional","Teknik Pemesinan Konvensional","Teknik Pemesinan Konvensional","-","-","Pemeliharaan Mesin Kendaraan Ringan","Pemeliharaan Mesin Kendaraan Ringan","Pemeliharaan Mesin Kendaraan Ringan","Pemeliharaan Mesin Kendaraan Ringan","-","-","Pemeliharaan Mesin Sepeda Motor","Pemeliharaan Mesin Sepeda Motor","Pemeliharaan Mesin Sepeda Motor","Pemeliharaan Mesin Sepeda Motor","-","-","Mikroprosessor dan Mikrokontroller","Mikroprosessor dan Mikrokontroller","-","-","-","-","Pemodelan Perangkat Lunak","Pemodelan Perangkat Lunak","-","-","-","-","Administrasi Infrastruktur Jaringan","Administrasi Infrastruktur Jaringan","Administrasi Infrastruktur Jaringan","Administrasi Infrastruktur Jaringan",null,null,null,null,null,52,"XI RPL 1","Drs.Deden Hamdani, M.Pd","NIP","19661029 199203 1 004"]
[null,null,null,null,null,null,null,null,52,"P21","Drs. Abdul Hamid","NIP","19610720 198803 1 008",null,null,null,null,null,null,null,null,null,54,"-","-","Aplikasi Perangkat Lunak dan Perancangan Interior Gedung","Aplikasi Perangkat Lunak dan Perancangan Interior Gedung","Aplikasi Perangkat Lunak dan Perancangan Interior Gedung","Aplikasi Perangkat Lunak dan Perancangan Interior Gedung","-","-","Instalasi Penerangan Listrik","Instalasi Penerangan Listrik","Instalasi Penerangan Listrik","Instalasi Penerangan Listrik","-","-","Gambar Teknik Manufaktur","Gambar Teknik Manufaktur","Gambar Teknik Manufaktur","Gambar Teknik Manufaktur","-","-","Teknik Pengelasan Oksi-Asetilen (OAW)","Teknik Pengelasan Oksi-Asetilen (OAW)","-","-","-","-","Teknik Gambar Konstruksi","Teknik Gambar Konstruksi","Teknik Gambar Konstruksi","Teknik Gambar Konstruksi","-","-","Teknik Pemesinan Konvensional","Teknik Pemesinan Konvensional","Teknik Pemesinan Konvensional","Teknik Pemesinan Konvensional","-","-","Pemeliharaan Mesin Kendaraan Ringan","Pemeliharaan Mesin Kendaraan Ringan","Pemeliharaan Mesin Kendaraan Ringan","Pemeliharaan Mesin Kendaraan Ringan","-","-","Pemeliharaan Mesin Sepeda Motor","Pemeliharaan Mesin Sepeda Motor","Pemeliharaan Mesin Sepeda Motor","Pemeliharaan Mesin Sepeda Motor","-","-","Mikroprosessor dan Mikrokontroller","Mikroprosessor dan Mikrokontroller","-","-","-","-","Pemodelan Perangkat Lunak","Pemodelan Perangkat Lunak","-","-","-","-","Administrasi Infrastruktur Jaringan","Administrasi Infrastruktur Jaringan","Administrasi Infrastruktur Jaringan","Administrasi Infrastruktur Jaringan",null,null,null,null,null,53,"XI RPL 2","Fitri Ayunda, S.Pd","PegId","-"]
[null,null,null,null,null,null,null,null,53,"P1","Drs. Agus Rukmawan,S.IP,MM","NIP","19611111 198603 1 008",null,null,null,null,null,null,null,null,null,55,"-","-","Aplikasi Perangkat Lunak dan Perancangan Interior Gedung","Aplikasi Perangkat Lunak dan Perancangan Interior Gedung","Aplikasi Perangkat Lunak dan Perancangan Interior Gedung","Aplikasi Perangkat Lunak dan Perancangan Interior Gedung","-","-","Instalasi Penerangan Listrik","Instalasi Penerangan Listrik","Instalasi Penerangan Listrik","Instalasi Penerangan Listrik","-","-","Gambar Teknik Manufaktur","Gambar Teknik Manufaktur","Gambar Teknik Manufaktur","Gambar Teknik Manufaktur","-","-","Teknik Pengelasan Oksi-Asetilen (OAW)","Teknik Pengelasan Oksi-Asetilen (OAW)","-","-","-","-","Teknik Gambar Konstruksi","Teknik Gambar Konstruksi","Teknik Gambar Konstruksi","Teknik Gambar Konstruksi","-","-","Teknik Pemesinan Konvensional","Teknik Pemesinan Konvensional","Teknik Pemesinan Konvensional","Teknik Pemesinan Konvensional","-","-","Pemeliharaan Mesin Kendaraan Ringan","Pemeliharaan Mesin Kendaraan Ringan","Pemeliharaan Mesin Kendaraan Ringan","Pemeliharaan Mesin Kendaraan Ringan","-","-","Pemeliharaan Mesin Sepeda Motor","Pemeliharaan Mesin Sepeda Motor","Pemeliharaan Mesin Sepeda Motor","Pemeliharaan Mesin Sepeda Motor","-","-","Mikroprosessor dan Mikrokontroller","Mikroprosessor dan Mikrokontroller","-","-","-","-","Pemodelan Perangkat Lunak","Pemodelan Perangkat Lunak","-","-","-","-","Administrasi Infrastruktur Jaringan","Administrasi Infrastruktur Jaringan","Administrasi Infrastruktur Jaringan","Administrasi Infrastruktur Jaringan",null,null,null,null,null,54,"XII TGB 1","Bambang Herwiyanto, S.Pd, M.Pd","PegId","20217802177001"]
["C3",null,null,null,null,null,null,null,54,"P16","Drs. Asep Kundrat","NIP","19590212 198403 1 004",null,null,null,null,null,null,null,19,"C3",56,"-","-","Konstruksi Jalan dan Jembatan","Konstruksi Jalan dan Jembatan","Konstruksi Jalan dan Jembatan","Konstruksi Jalan dan Jembatan","-","-","Instalasi Tenaga Listrik","Instalasi Tenaga Listrik","Instalasi Tenaga Listrik","Instalasi Tenaga Listrik","-","-","Teknik Pemesinan Bubut","Teknik Pemesinan Bubut","Teknik Pemesinan Bubut","Teknik Pemesinan Bubut","-","-","Teknik Pengelasan Busur Manual (SMAW)","Teknik Pengelasan Busur Manual (SMAW)","Teknik Pengelasan Busur Manual (SMAW)","Teknik Pengelasan Busur Manual (SMAW)","-","-","Teknik Gambar Produksi","Teknik Gambar Produksi","Teknik Gambar Produksi","Teknik Gambar Produksi","-","-","-","-","Teknik Pemesinan Non Konvensional","Teknik Pemesinan Non Konvensional","-","-","Pemeliharaan Sasis dan Pemindah Tenaga Kendaraan Ringan","Pemeliharaan Sasis dan Pemindah Tenaga Kendaraan Ringan","Pemeliharaan Sasis dan Pemindah Tenaga Kendaraan Ringan","Pemeliharaan Sasis dan Pemindah Tenaga Kendaraan Ringan","-","-","Pemeliharaan Sasis Sepeda Motor","Pemeliharaan Sasis Sepeda Motor","Pemeliharaan Sasis Sepeda Motor","Pemeliharaan Sasis Sepeda Motor","-","-","Penerapan Rangkaian Elektronika","Penerapan Rangkaian Elektronika","Penerapan Rangkaian Elektronika","Penerapan Rangkaian Elektronika","-","-","Basis Data","Basis Data","Basis Data","Basis Data","-","-","Administrasi Sistem Jaringan","Administrasi Sistem Jaringan","Administrasi Sistem Jaringan","Administrasi Sistem Jaringan",null,null,null,null,null,55,"XII TGB 2","Riki Verdian, S.T.","PegId","20217802187002"]
[null,null,null,null,null,null,null,null,55,"P5","Drs. Bahrudin,MM","NIP","19620316 198603 1 007",null,null,null,null,null,null,null,null,null,57,"-","-","Konstruksi Jalan dan Jembatan","Konstruksi Jalan dan Jembatan","Konstruksi Jalan dan Jembatan","Konstruksi Jalan dan Jembatan","-","-","Instalasi Tenaga Listrik","Instalasi Tenaga Listrik","Instalasi Tenaga Listrik","Instalasi Tenaga Listrik","-","-","Teknik Pemesinan Bubut","Teknik Pemesinan Bubut","Teknik Pemesinan Bubut","Teknik Pemesinan Bubut","-","-","Teknik Pengelasan Busur Manual (SMAW)","Teknik Pengelasan Busur Manual (SMAW)","Teknik Pengelasan Busur Manual (SMAW)","Teknik Pengelasan Busur Manual (SMAW)","-","-","Teknik Gambar Produksi","Teknik Gambar Produksi","Teknik Gambar Produksi","Teknik Gambar Produksi","-","-","-","-","Teknik Pemesinan Non Konvensional","Teknik Pemesinan Non Konvensional","-","-","Pemeliharaan Sasis dan Pemindah Tenaga Kendaraan Ringan","Pemeliharaan Sasis dan Pemindah Tenaga Kendaraan Ringan","Pemeliharaan Sasis dan Pemindah Tenaga Kendaraan Ringan","Pemeliharaan Sasis dan Pemindah Tenaga Kendaraan Ringan","-","-","Pemeliharaan Sasis Sepeda Motor","Pemeliharaan Sasis Sepeda Motor","Pemeliharaan Sasis Sepeda Motor","Pemeliharaan Sasis Sepeda Motor","-","-","Penerapan Rangkaian Elektronika","Penerapan Rangkaian Elektronika","Penerapan Rangkaian Elektronika","Penerapan Rangkaian Elektronika","-","-","Basis Data","Basis Data","Basis Data","Basis Data","-","-","Administrasi Sistem Jaringan","Administrasi Sistem Jaringan","Administrasi Sistem Jaringan","Administrasi Sistem Jaringan",null,null,null,null,null,56,"XII TGB 3","Lily Chandra, S.Pd","PegId","-"]
[null,null,null,null,null,null,null,null,56,"P23","Drs. Deden Hamdani,MM","NIP","19661029 199203 1 004",null,null,null,null,null,null,null,null,null,58,"-","-","Konstruksi Jalan dan Jembatan","Konstruksi Jalan dan Jembatan","Konstruksi Jalan dan Jembatan","Konstruksi Jalan dan Jembatan","-","-","Instalasi Tenaga Listrik","Instalasi Tenaga Listrik","Instalasi Tenaga Listrik","Instalasi Tenaga Listrik","-","-","Teknik Pemesinan Bubut","Teknik Pemesinan Bubut","Teknik Pemesinan Bubut","Teknik Pemesinan Bubut","-","-","Teknik Pengelasan Busur Manual (SMAW)","Teknik Pengelasan Busur Manual (SMAW)","Teknik Pengelasan Busur Manual (SMAW)","Teknik Pengelasan Busur Manual (SMAW)","-","-","Teknik Gambar Produksi","Teknik Gambar Produksi","Teknik Gambar Produksi","Teknik Gambar Produksi","-","-","-","-","Teknik Pemesinan Non Konvensional","Teknik Pemesinan Non Konvensional","-","-","Pemeliharaan Sasis dan Pemindah Tenaga Kendaraan Ringan","Pemeliharaan Sasis dan Pemindah Tenaga Kendaraan Ringan","Pemeliharaan Sasis dan Pemindah Tenaga Kendaraan Ringan","Pemeliharaan Sasis dan Pemindah Tenaga Kendaraan Ringan","-","-","Pemeliharaan Sasis Sepeda Motor","Pemeliharaan Sasis Sepeda Motor","Pemeliharaan Sasis Sepeda Motor","Pemeliharaan Sasis Sepeda Motor","-","-","Penerapan Rangkaian Elektronika","Penerapan Rangkaian Elektronika","Penerapan Rangkaian Elektronika","Penerapan Rangkaian Elektronika","-","-","Basis Data","Basis Data","Basis Data","Basis Data","-","-","Administrasi Sistem Jaringan","Administrasi Sistem Jaringan","Administrasi Sistem Jaringan","Administrasi Sistem Jaringan",null,null,null,null,null,57,"XII TGB 4","Rangga Adlan, S.Pd","PegId","-"]
["C3",null,null,null,null,null,null,null,57,"P7","Drs. Ebo Agus Sunarto, MM","NIP","19590118 198703 1 003",null,null,null,null,null,null,null,20,"C3",59,"-","-","Estimasi Biaya Konstruksi","Estimasi Biaya Konstruksi","Estimasi Biaya Konstruksi","Estimasi Biaya Konstruksi","-","-","Instalasi Motor Listrik","Instalasi Motor Listrik","Instalasi Motor Listrik","Instalasi Motor Listrik","-","-","Teknik Pemesinan Frais","Teknik Pemesinan Frais","Teknik Pemesinan Frais","Teknik Pemesinan Frais","-","-","Teknik Pengelasan Gas Metal (MIG/MAG)","Teknik Pengelasan Gas Metal (MIG/MAG)","Teknik Pengelasan Gas Metal (MIG/MAG)","Teknik Pengelasan Gas Metal (MIG/MAG)","-","-","Teknik Merancang dengan CAM","Teknik Merancang dengan CAM","Teknik Merancang dengan CAM","Teknik Merancang dengan CAM","-","-","Teknik Fabrikasi Logam","Teknik Fabrikasi Logam","Teknik Fabrikasi Logam","Teknik Fabrikasi Logam","-","-","Pemeliharaan Kelistrikan Kendaraan Ringan","Pemeliharaan Kelistrikan Kendaraan Ringan","Pemeliharaan Kelistrikan Kendaraan Ringan","Pemeliharaan Kelistrikan Kendaraan Ringan","-","-","Pemeliharaan Kelistrikan Sepeda Motor","Pemeliharaan Kelistrikan Sepeda Motor","Pemeliharaan Kelistrikan Sepeda Motor","Pemeliharaan Kelistrikan Sepeda Motor","-","-","Sistem Pengendali Elektronik","Sistem Pengendali Elektronik","Sistem Pengendali Elektronik","Sistem Pengendali Elektronik","-","-","Pemrograman Berorientasi Objek","Pemrograman Berorientasi Objek","Pemrograman Berorientasi Objek","Pemrograman Berorientasi Objek","-","-","Teknologi Layanan Jaringan","Teknologi Layanan Jaringan","Teknologi Layanan Jaringan","Teknologi Layanan Jaringan",null,null,null,null,null,58,"XII TEI 1","Maria Bestarina L, S.Pd","PegId","-"]
[null,null,null,null,null,null,null,null,58,"P8","Drs.Dedi Kusdinar,MM","NIP","19591114 198703 1 007",null,null,null,null,null,null,null,null,null,60,"-","-","Estimasi Biaya Konstruksi","Estimasi Biaya Konstruksi","Estimasi Biaya Konstruksi","Estimasi Biaya Konstruksi","-","-","Instalasi Motor Listrik","Instalasi Motor Listrik","Instalasi Motor Listrik","Instalasi Motor Listrik","-","-","Teknik Pemesinan Frais","Teknik Pemesinan Frais","Teknik Pemesinan Frais","Teknik Pemesinan Frais","-","-","Teknik Pengelasan Gas Metal (MIG/MAG)","Teknik Pengelasan Gas Metal (MIG/MAG)","Teknik Pengelasan Gas Metal (MIG/MAG)","Teknik Pengelasan Gas Metal (MIG/MAG)","-","-","Teknik Merancang dengan CAM","Teknik Merancang dengan CAM","Teknik Merancang dengan CAM","Teknik Merancang dengan CAM","-","-","Teknik Fabrikasi Logam","Teknik Fabrikasi Logam","Teknik Fabrikasi Logam","Teknik Fabrikasi Logam","-","-","Pemeliharaan Kelistrikan Kendaraan Ringan","Pemeliharaan Kelistrikan Kendaraan Ringan","Pemeliharaan Kelistrikan Kendaraan Ringan","Pemeliharaan Kelistrikan Kendaraan Ringan","-","-","Pemeliharaan Kelistrikan Sepeda Motor","Pemeliharaan Kelistrikan Sepeda Motor","Pemeliharaan Kelistrikan Sepeda Motor","Pemeliharaan Kelistrikan Sepeda Motor","-","-","Sistem Pengendali Elektronik","Sistem Pengendali Elektronik","Sistem Pengendali Elektronik","Sistem Pengendali Elektronik","-","-","Pemrograman Berorientasi Objek","Pemrograman Berorientasi Objek","Pemrograman Berorientasi Objek","Pemrograman Berorientasi Objek","-","-","Teknologi Layanan Jaringan","Teknologi Layanan Jaringan","Teknologi Layanan Jaringan","Teknologi Layanan Jaringan",null,null,null,null,null,59,"XII TEI 2","Dewi Lestari, S.IP","PegId","20217802185001"]
[null,null,null,null,null,null,null,null,59,"P43","Drs.Encep Pranseda,M.Pd","NIP","19660713 200701 1 005",null,null,null,null,null,null,null,null,null,61,"-","-","Estimasi Biaya Konstruksi","Estimasi Biaya Konstruksi","Estimasi Biaya Konstruksi","Estimasi Biaya Konstruksi","-","-","Instalasi Motor Listrik","Instalasi Motor Listrik","Instalasi Motor Listrik","Instalasi Motor Listrik","-","-","Teknik Pemesinan Frais","Teknik Pemesinan Frais","Teknik Pemesinan Frais","Teknik Pemesinan Frais","-","-","Teknik Pengelasan Gas Metal (MIG/MAG)","Teknik Pengelasan Gas Metal (MIG/MAG)","Teknik Pengelasan Gas Metal (MIG/MAG)","Teknik Pengelasan Gas Metal (MIG/MAG)","-","-","Teknik Merancang dengan CAM","Teknik Merancang dengan CAM","Teknik Merancang dengan CAM","Teknik Merancang dengan CAM","-","-","Teknik Fabrikasi Logam","Teknik Fabrikasi Logam","Teknik Fabrikasi Logam","Teknik Fabrikasi Logam","-","-","Pemeliharaan Kelistrikan Kendaraan Ringan","Pemeliharaan Kelistrikan Kendaraan Ringan","Pemeliharaan Kelistrikan Kendaraan Ringan","Pemeliharaan Kelistrikan Kendaraan Ringan","-","-","Pemeliharaan Kelistrikan Sepeda Motor","Pemeliharaan Kelistrikan Sepeda Motor","Pemeliharaan Kelistrikan Sepeda Motor","Pemeliharaan Kelistrikan Sepeda Motor","-","-","Sistem Pengendali Elektronik","Sistem Pengendali Elektronik","Sistem Pengendali Elektronik","Sistem Pengendali Elektronik","-","-","Pemrograman Berorientasi Objek","Pemrograman Berorientasi Objek","Pemrograman Berorientasi Objek","Pemrograman Berorientasi Objek","-","-","Teknologi Layanan Jaringan","Teknologi Layanan Jaringan","Teknologi Layanan Jaringan","Teknologi Layanan Jaringan",null,null,null,null,null,60,"XII TPL 1","Karno, S.Pd, M.T","PegId","20217802186001"]
["C3",null,null,null,null,null,null,null,60,"P2","Drs.H. Shihabudin,Sp.1","NIP","19571112 198403 1 005",null,null,null,null,null,null,null,21,"C3",62,"-","-","Konstruksi dan Utilitas Gedung","Konstruksi dan Utilitas Gedung","Konstruksi dan Utilitas Gedung","Konstruksi dan Utilitas Gedung","-","-","-","-","Perbaikan Peralatan Listrik","Perbaikan Peralatan Listrik","-","-","-","-","Teknik Pemesinan Gerinda","Teknik Pemesinan Gerinda","-","-","-","-","Teknik Pengelasan Gas Tungsten (TIG)","Teknik Pengelasan Gas Tungsten (TIG)","-","-","-","-","-","-","-","-","Perancangan Teknik dan Gambar Manufaktur Fabrikasi Logam","Perancangan Teknik dan Gambar Manufaktur Fabrikasi Logam","Perancangan Teknik dan Gambar Manufaktur Fabrikasi Logam","Perancangan Teknik dan Gambar Manufaktur Fabrikasi Logam","-","-","-","-","-","-","-","-","-","-","Pengelolaan Bengkel Sepeda Motor","Pengelolaan Bengkel Sepeda Motor","-","-","Pengendali Sistem Robotik","Pengendali Sistem Robotik","Pengendali Sistem Robotik","Pengendali Sistem Robotik","-","-","Pemrograman Web dan Perangkat Bergerak","Pemrograman Web dan Perangkat Bergerak","Pemrograman Web dan Perangkat Bergerak","Pemrograman Web dan Perangkat Bergerak","-","-","-","-","-","-",null,null,null,null,null,61,"XII TPL 2","Yayus Irmansyah, S.T","PegId","20217802179001"]
[null,null,null,null,null,null,null,null,61,"P17","Drs.H.Trisdonardi","NIP","19620122 198703 1 003",null,null,null,null,null,null,null,null,null,63,"-","-","Konstruksi dan Utilitas Gedung","Konstruksi dan Utilitas Gedung","Konstruksi dan Utilitas Gedung","Konstruksi dan Utilitas Gedung","-","-","-","-","Perbaikan Peralatan Listrik","Perbaikan Peralatan Listrik","-","-","-","-","Teknik Pemesinan Gerinda","Teknik Pemesinan Gerinda","-","-","-","-","Teknik Pengelasan Gas Tungsten (TIG)","Teknik Pengelasan Gas Tungsten (TIG)","-","-","-","-","-","-","-","-","Perancangan Teknik dan Gambar Manufaktur Fabrikasi Logam","Perancangan Teknik dan Gambar Manufaktur Fabrikasi Logam","Perancangan Teknik dan Gambar Manufaktur Fabrikasi Logam","Perancangan Teknik dan Gambar Manufaktur Fabrikasi Logam","-","-","-","-","-","-","-","-","-","-","Pengelolaan Bengkel Sepeda Motor","Pengelolaan Bengkel Sepeda Motor","-","-","Pengendali Sistem Robotik","Pengendali Sistem Robotik","Pengendali Sistem Robotik","Pengendali Sistem Robotik","-","-","Pemrograman Web dan Perangkat Bergerak","Pemrograman Web dan Perangkat Bergerak","Pemrograman Web dan Perangkat Bergerak","Pemrograman Web dan Perangkat Bergerak","-","-","-","-","-","-",null,null,null,null,null,62,"XII TP 1","Risnaldi, S.Pd.","PegId","-"]
[null,null,null,null,null,null,null,null,62,"P25","Drs.Kusmaya Permana","NIP","19640812 199412 1 002",null,null,null,null,null,null,null,null,null,64,"-","-","Konstruksi dan Utilitas Gedung","Konstruksi dan Utilitas Gedung","Konstruksi dan Utilitas Gedung","Konstruksi dan Utilitas Gedung","-","-","-","-","Perbaikan Peralatan Listrik","Perbaikan Peralatan Listrik","-","-","-","-","Teknik Pemesinan Gerinda","Teknik Pemesinan Gerinda","-","-","-","-","Teknik Pengelasan Gas Tungsten (TIG)","Teknik Pengelasan Gas Tungsten (TIG)","-","-","-","-","-","-","-","-","Perancangan Teknik dan Gambar Manufaktur Fabrikasi Logam","Perancangan Teknik dan Gambar Manufaktur Fabrikasi Logam","Perancangan Teknik dan Gambar Manufaktur Fabrikasi Logam","Perancangan Teknik dan Gambar Manufaktur Fabrikasi Logam","-","-","-","-","-","-","-","-","-","-","Pengelolaan Bengkel Sepeda Motor","Pengelolaan Bengkel Sepeda Motor","-","-","Pengendali Sistem Robotik","Pengendali Sistem Robotik","Pengendali Sistem Robotik","Pengendali Sistem Robotik","-","-","Pemrograman Web dan Perangkat Bergerak","Pemrograman Web dan Perangkat Bergerak","Pemrograman Web dan Perangkat Bergerak","Pemrograman Web dan Perangkat Bergerak","-","-","-","-","-","-",null,null,null,null,null,63,"XII TP 2","Risin , S.Pd","NIP","19720616 200604 1005"]
["C3",null,null,null,null,null,null,null,63,"P20","Drs.Lalu Mugni","NIP","19610703 198803 1 006",null,null,null,null,null,null,null,22,"C3",65,"-","-","-","-","-","-","-","-","-","-","-","-","-","-","Teknik Pemesinan NC/CNC dan CAM","Teknik Pemesinan NC/CNC dan CAM","Teknik Pemesinan NC/CNC dan CAM","Teknik Pemesinan NC/CNC dan CAM","-","-","-","-","-","-","-","-","-","-","-","-","-","-","-","-","Penerapan Pengujian Mutu","-","-","-","-","-","-","-","-","-","-","-","-","-","-","-","-","-","Pembuatan, Perbaikan dan Pemeliharaan Peralatan Elektronika","Pembuatan, Perbaikan dan Pemeliharaan Peralatan Elektronika","-","-","-","-","-","-","-","-","-","-","-","-",null,null,null,null,null,64,"XII TP 3","Drs. Abdul Hamid","NIP","19610720 198803 1 008"]
[null,null,null,null,null,null,null,null,64,"P11","Drs.Maman Kosman,MM","NIP","19610512 198803 1 012",null,null,null,null,null,null,null,null,null,66,"-","-","-","-","-","-","-","-","-","-","-","-","-","-","Teknik Pemesinan NC/CNC dan CAM","Teknik Pemesinan NC/CNC dan CAM","Teknik Pemesinan NC/CNC dan CAM","Teknik Pemesinan NC/CNC dan CAM","-","-","-","-","-","-","-","-","-","-","-","-","-","-","-","-","-","-","-","-","-","-","-","-","-","-","-","-","-","-","-","-","-","-","Pembuatan, Perbaikan dan Pemeliharaan Peralatan Elektronika","Pembuatan, Perbaikan dan Pemeliharaan Peralatan Elektronika","-","-","-","-","-","-","-","-","-","-","-","-",null,null,null,null,null,65,"XII TP 4","Andriyanti, S.Pd","PegId","20217802190001"]
[null,null,null,null,null,null,null,null,65,"P3","Drs.Tamrin,M.Pd","NIP","19600802 198503 1 007",null,null,null,null,null,null,null,null,null,67,"-","-","-","-","-","-","-","-","-","-","-","-","-","-","Teknik Pemesinan NC/CNC dan CAM","Teknik Pemesinan NC/CNC dan CAM","Teknik Pemesinan NC/CNC dan CAM","Teknik Pemesinan NC/CNC dan CAM","-","-","-","-","-","-","-","-","-","-","-","-","-","-","-","-","-","-","-","-","-","-","-","-","-","-","-","-","-","-","-","-","-","-","Pembuatan, Perbaikan dan Pemeliharaan Peralatan Elektronika","Pembuatan, Perbaikan dan Pemeliharaan Peralatan Elektronika","-","-","-","-","-","-","-","-","-","-","-","-",null,null,null,null,null,66,"XII TKR 1","Alfian Rasyid, S.Sos","PegId","-"]
["C3",null,null,null,null,null,null,null,66,"P24","Drs.Tatang Haidar","NIP","19580125 199403 1 003",null,null,null,null,null,null,null,23,"C3",68,"-","-","Produk Kreatif dan Kewirausahaan ","Produk Kreatif dan Kewirausahaan ","Produk Kreatif dan Kewirausahaan ","Produk Kreatif dan Kewirausahaan ","-","-","Produk Kreatif dan Kewirausahaan ","Produk Kreatif dan Kewirausahaan ","Produk Kreatif dan Kewirausahaan ","Produk Kreatif dan Kewirausahaan ","-","-","Produk Kreatif dan Kewirausahaan ","Produk Kreatif dan Kewirausahaan ","Produk Kreatif dan Kewirausahaan ","Produk Kreatif dan Kewirausahaan ","-","-","Produk Kreatif dan Kewirausahaan ","Produk Kreatif dan Kewirausahaan ","Produk Kreatif dan Kewirausahaan ","Produk Kreatif dan Kewirausahaan ","-","-","Produk Kreatif dan Kewirausahaan ","Produk Kreatif dan Kewirausahaan ","Produk Kreatif dan Kewirausahaan ","Produk Kreatif dan Kewirausahaan ","-","-","Produk Kreatif dan Kewirausahaan ","Produk Kreatif dan Kewirausahaan ","Produk Kreatif dan Kewirausahaan ","Produk Kreatif dan Kewirausahaan ","-","-","Produk Kreatif dan Kewirausahaan ","Produk Kreatif dan Kewirausahaan ","Produk Kreatif dan Kewirausahaan ","Produk Kreatif dan Kewirausahaan ","-","-","Produk Kreatif dan Kewirausahaan ","Produk Kreatif dan Kewirausahaan ","Produk Kreatif dan Kewirausahaan ","Produk Kreatif dan Kewirausahaan ","-","-","Produk Kreatif dan Kewirausahaan ","Produk Kreatif dan Kewirausahaan ","Produk Kreatif dan Kewirausahaan ","Produk Kreatif dan Kewirausahaan ","-","-","Produk Kreatif dan Kewirausahaan ","Produk Kreatif dan Kewirausahaan ","Produk Kreatif dan Kewirausahaan ","Produk Kreatif dan Kewirausahaan ","-","-","Produk Kreatif dan Kewirausahaan ","Produk Kreatif dan Kewirausahaan ","Produk Kreatif dan Kewirausahaan ","Produk Kreatif dan Kewirausahaan ",null,null,null,null,null,67,"XII TKR 2","Heni Handayani, S.Pd.","NIP","19780406 200902 2 003"]
[null,null,null,null,null,null,null,null,67,"P13","Drs.Wiyono","NIP","19650305 199103 1 019",null,null,null,null,null,null,null,null,null,69,"-","-","Produk Kreatif dan Kewirausahaan ","Produk Kreatif dan Kewirausahaan ","Produk Kreatif dan Kewirausahaan ","Produk Kreatif dan Kewirausahaan ","-","-","Produk Kreatif dan Kewirausahaan ","Produk Kreatif dan Kewirausahaan ","Produk Kreatif dan Kewirausahaan ","Produk Kreatif dan Kewirausahaan ","-","-","Produk Kreatif dan Kewirausahaan ","Produk Kreatif dan Kewirausahaan ","Produk Kreatif dan Kewirausahaan ","Produk Kreatif dan Kewirausahaan ","-","-","Produk Kreatif dan Kewirausahaan ","Produk Kreatif dan Kewirausahaan ","Produk Kreatif dan Kewirausahaan ","Produk Kreatif dan Kewirausahaan ","-","-","Produk Kreatif dan Kewirausahaan ","Produk Kreatif dan Kewirausahaan ","Produk Kreatif dan Kewirausahaan ","Produk Kreatif dan Kewirausahaan ","-","-","Produk Kreatif dan Kewirausahaan ","Produk Kreatif dan Kewirausahaan ","Produk Kreatif dan Kewirausahaan ","Produk Kreatif dan Kewirausahaan ","-","-","Produk Kreatif dan Kewirausahaan ","Produk Kreatif dan Kewirausahaan ","Produk Kreatif dan Kewirausahaan ","Produk Kreatif dan Kewirausahaan ","-","-","Produk Kreatif dan Kewirausahaan ","Produk Kreatif dan Kewirausahaan ","Produk Kreatif dan Kewirausahaan ","Produk Kreatif dan Kewirausahaan ","-","-","Produk Kreatif dan Kewirausahaan ","Produk Kreatif dan Kewirausahaan ","Produk Kreatif dan Kewirausahaan ","Produk Kreatif dan Kewirausahaan ","-","-","Produk Kreatif dan Kewirausahaan ","Produk Kreatif dan Kewirausahaan ","Produk Kreatif dan Kewirausahaan ","Produk Kreatif dan Kewirausahaan ","-","-","Produk Kreatif dan Kewirausahaan ","Produk Kreatif dan Kewirausahaan ","Produk Kreatif dan Kewirausahaan ","Produk Kreatif dan Kewirausahaan ",null,null,null,null,null,68,"XII TKR 3","Roban, S.T","PegId","20217802188005"]
[null,null,null,null,null,null,null,null,68,"P51","Eka Merdekawati,S.Pd","NIP","19820817 201001 2 023",null,null,null,null,null,null,null,null,null,70,"-","-","Produk Kreatif dan Kewirausahaan ","Produk Kreatif dan Kewirausahaan ","Produk Kreatif dan Kewirausahaan ","Produk Kreatif dan Kewirausahaan ","-","-","Produk Kreatif dan Kewirausahaan ","Produk Kreatif dan Kewirausahaan ","Produk Kreatif dan Kewirausahaan ","Produk Kreatif dan Kewirausahaan ","-","-","Produk Kreatif dan Kewirausahaan ","Produk Kreatif dan Kewirausahaan ","Produk Kreatif dan Kewirausahaan ","Produk Kreatif dan Kewirausahaan ","-","-","Produk Kreatif dan Kewirausahaan ","Produk Kreatif dan Kewirausahaan ","Produk Kreatif dan Kewirausahaan ","Produk Kreatif dan Kewirausahaan ","-","-","Produk Kreatif dan Kewirausahaan ","Produk Kreatif dan Kewirausahaan ","Produk Kreatif dan Kewirausahaan ","Produk Kreatif dan Kewirausahaan ","-","-","Produk Kreatif dan Kewirausahaan ","Produk Kreatif dan Kewirausahaan ","Produk Kreatif dan Kewirausahaan ","Produk Kreatif dan Kewirausahaan ","-","-","Produk Kreatif dan Kewirausahaan ","Produk Kreatif dan Kewirausahaan ","Produk Kreatif dan Kewirausahaan ","Produk Kreatif dan Kewirausahaan ","-","-","Produk Kreatif dan Kewirausahaan ","Produk Kreatif dan Kewirausahaan ","Produk Kreatif dan Kewirausahaan ","Produk Kreatif dan Kewirausahaan ","-","-","Produk Kreatif dan Kewirausahaan ","Produk Kreatif dan Kewirausahaan ","Produk Kreatif dan Kewirausahaan ","Produk Kreatif dan Kewirausahaan ","-","-","Produk Kreatif dan Kewirausahaan ","Produk Kreatif dan Kewirausahaan ","Produk Kreatif dan Kewirausahaan ","Produk Kreatif dan Kewirausahaan ","-","-","Produk Kreatif dan Kewirausahaan ","Produk Kreatif dan Kewirausahaan ","Produk Kreatif dan Kewirausahaan ","Produk Kreatif dan Kewirausahaan ",null,null,null,null,null,69,"XII TKR 4","Adi Putro, S.Pd","PegId","20217802188008"]
["D",null,null,null,null,null,null,null,69,"G53","Eko Sigit Atmaja,S.Kom","PegId","20217802191002",null,null,null,null,null,null,null,24,null,71,"-","-","-","-","-","-","-","-","-","-","-","-","-","-","-","-","-","-","-","-","-","-","-","-","-","-","-","-","-","-","-","-","-","-","-","-","-","-","-","-","-","-","-","-","-","-","-","-","-","-","-","-","-","-","-","-","-","-","-","-","-","-","-","-","-","-",null,null,null,null,null,70,"XII TSM 1","Didin Syamsudin, S.Pd","PegId","20217802187001"]
[null,null,null,null,null,null,null,null,70,"P60","Eli Heriah, S.Si","NIP","19790602 201408 2 002",null,null,null,null,null,null,null,null,null,72,"-","-","-","-","-","-","-","-","-","-","-","-","-","-","-","-","-","-","-","-","-","-","-","-","-","-","-","-","-","-","-","-","-","-","-","-","-","-","-","-","-","-","-","-","-","-","-","-","-","-","-","-","-","-","-","-","-","-","-","-","-","-","-","-","-","-",null,null,null,null,null,71,"XII TSM 2","Tita Nur Apriayanti, S.Pd","PegId","20217802190004"]
[null,null,null,null,null,null,null,null,71,"G47","Fanny Sopia Rahayu,S.Pd","PegId","20217802190003",null,null,null,null,null,null,null,null,null,73,"-","-","-","-","-","-","-","-","-","-","-","-","-","-","-","-","-","-","-","-","-","-","-","-","-","-","-","-","-","-","-","-","-","-","-","-","-","-","-","-","-","-","-","-","-","-","-","-","-","-","-","-","-","-","-","-","-","-","-","-","-","-","-","-","-","-",null,null,null,null,null,72,"XII TSM 3","Sunandar, S.Pd","PegId","-"]
[{"$f":"V75","v":0},null,null,null,null,null,null,null,72,"P47","Faridawaty Saragih,S.Si","NIP","19691010 200801 2 015",null,null,null,null,null,null,null,null,null,74,"-","-","-","-","-","-","-","-","-","-","-","-","-","-","-","-","-","-","-","-","-","-","-","-","-","-","-","-","-","-","-","-","-","-","-","-","-","-","-","-","-","-","-","-","-","-","-","-","-","-","-","-","-","-","-","-","-","-","-","-","-","-","-","-","-","-",null,null,null,null,null,73,"XII TSM 4","Heri Murwanto, S.Pd","PegId","-"]
[null,null,null,null,null,null,null,null,73,"G60","Febrela Nusvia,S.Pd,M.Pd","PegId","20217802192004",null,null,null,null,null,null,null,null,null,75,"-","-","-","-","-","-","-","-","-","-","-","-","-","-","-","-","-","-","-","-","-","-","-","-","-","-","-","-","-","-","-","-","-","-","-","-","-","-","-","-","-","-","-","-","-","-","-","-","-","-","-","-","-","-","-","-","-","-","-","-","-","-","-","-","-","-",null,null,null,null,null,74,"XII TIPTL 1","Angga Tri Anggoro, S.Pd","PegId","20217802185004"]
[null,null,null,null,null,null,null,null,74,"G70","Fitri Ayunda, S.Pd","PegId","-",null,null,null,null,null,null,null,null,null,76,"-","-","-","-","-","-","-","-","-","-","-","-","-","-","-","-","-","-","-","-","-","-","-","-","-","-","-","-","-","-","-","-","-","-","-","-","-","-","-","-","-","-","-","-","-","-","-","-","-","-","-","-","-","-","-","-","-","-","-","-","-","-","-","-","-","-",null,null,null,null,null,75,"XII TIPTL 2","Dede Supriatna, S.Pd","PegId","20217802183002"]
[{"$f":"V78","v":0},null,null,null,null,null,null,null,75,"P40","H.Chaerudin,S.Pd,MM","NIP","19731009 200604 1 007",null,null,null,null,null,null,null,null,null,77,"-","-","-","-","-","-","-","-","-","-","-","-","-","-","-","-","-","-","-","-","-","-","-","-","-","-","-","-","-","-","-","-","-","-","-","-","-","-","-","-","-","-","-","-","-","-","-","-","-","-","-","-","-","-","-","-","-","-","-","-","-","-","-","-","-","-",null,null,null,null,null,76,"XII TKJ 1","Amo Sisdianto, S.Kom","PegId","20217802182001"]
[null,null,null,null,null,null,null,null,76,"P19","H.Rusmadi,S.Pd","NIP","19600315 198803 1 005",null,null,null,null,null,null,null,null,null,78,"-","-","-","-","-","-","-","-","-","-","-","-","-","-","-","-","-","-","-","-","-","-","-","-","-","-","-","-","-","-","-","-","-","-","-","-","-","-","-","-","-","-","-","-","-","-","-","-","-","-","-","-","-","-","-","-","-","-","-","-","-","-","-","-","-","-",null,null,null,null,null,77,"XII TKJ 2","Ahmad Sanusi, S.Sos.I","NIP","19790426 201407 1 001"]
[null,null,null,null,null,null,null,null,77,"P14","H.Ujang Komarudin,S.Pd,MM","NIP","19610512 199403 1 003",null,null,null,null,null,null,null,null,null,79,"-","-","-","-","-","-","-","-","-","-","-","-","-","-","-","-","-","-","-","-","-","-","-","-","-","-","-","-","-","-","-","-","-","-","-","-","-","-","-","-","-","-","-","-","-","-","-","-","-","-","-","-","-","-","-","-","-","-","-","-","-","-","-","-","-","-",null,null,null,null,null,78,"XII TKJ 3","H. Rusmadi, S.Pd","NIP","19600315 198803 1 005"]
[{"$f":"V81","v":0},null,null,null,null,null,null,null,78,"G46","Hady Hafizhudin,ST","PegId","20217802189003",null,null,null,null,null,null,null,null,null,80,"-","-","-","-","-","-","-","-","-","-","-","-","-","-","-","-","-","-","-","-","-","-","-","-","-","-","-","-","-","-","-","-","-","-","-","-","-","-","-","-","-","-","-","-","-","-","-","-","-","-","-","-","-","-","-","-","-","-","-","-","-","-","-","-","-","-",null,null,null,null,null,79,"XII TKJ 4","Dadan Ramdana, S.Kom","PegId","-"]
[null,null,null,null,null,null,null,null,79,"G26","Hassuna Widya Diniati,S.Pd","PegId","-",null,null,null,null,null,null,null,null,null,81,"-","-","-","-","-","-","-","-","-","-","-","-","-","-","-","-","-","-","-","-","-","-","-","-","-","-","-","-","-","-","-","-","-","-","-","-","-","-","-","-","-","-","-","-","-","-","-","-","-","-","-","-","-","-","-","-","-","-","-","-","-","-","-","-","-","-",null,null,null,null,null,80,"XII RPL 1","Dhian Nur Rahayu, ST","PegId","-"]
[null,null,null,null,null,null,null,null,80,"P49","Heni Handayani H,S.Pd","NIP","19780406 200902 2 003",null,null,null,null,null,null,null,null,null,82,"-","-","-","-","-","-","-","-","-","-","-","-","-","-","-","-","-","-","-","-","-","-","-","-","-","-","-","-","-","-","-","-","-","-","-","-","-","-","-","-","-","-","-","-","-","-","-","-","-","-","-","-","-","-","-","-","-","-","-","-","-","-","-","-","-","-",null,null,null,null,null,81,"XII RPL 2","Eko Sigit, S.Kom","PegId","20217802191002"]
[{"$f":"V84","v":0},null,null,null,null,null,null,null,81,"G69","Hepi Supriyadi","PegId","-",null,null,null,null,null,null,null,null,null,83,"-","-","-","-","-","-","-","-","-","-","-","-","-","-","-","-","-","-","-","-","-","-","-","-","-","-","-","-","-","-","-","-","-","-","-","-","-","-","-","-","-","-","-","-","-","-","-","-","-","-","-","-","-","-","-","-","-","-","-","-","-","-","-","-","-","-"]
[null,null,null,null,null,null,null,null,82,"G4","Heri Murwanto,S.Pd","PegId","-",null,null,null,null,null,null,null,null,null,84,"-","-","-","-","-","-","-","-","-","-","-","-","-","-","-","-","-","-","-","-","-","-","-","-","-","-","-","-","-","-","-","-","-","-","-","-","-","-","-","-","-","-","-","-","-","-","-","-","-","-","-","-","-","-","-","-","-","-","-","-","-","-","-","-","-","-"]
[null,null,null,null,null,null,null,null,83,"P41","Hj.Diah Gustanti,ST","NIP","19760824 200604 2 007",null,null,null,null,null,null,null,null,null,85,"-","-","-","-","-","-","-","-","-","-","-","-","-","-","-","-","-","-","-","-","-","-","-","-","-","-","-","-","-","-","-","-","-","-","-","-","-","-","-","-","-","-","-","-","-","-","-","-","-","-","-","-","-","-","-","-","-","-","-","-","-","-","-","-","-","-"]
[{"$f":"V87","v":0},null,null,null,null,null,null,null,84,"P15","Hj.Diah Handayani, S.Pd","NIP","19691110 199403 2 009",null,null,null,null,null,null,null,null,null,86,"-","-","-","-","-","-","-","-","-","-","-","-","-","-","-","-","-","-","-","-","-","-","-","-","-","-","-","-","-","-","-","-","-","-","-","-","-","-","-","-","-","-","-","-","-","-","-","-","-","-","-","-","-","-","-","-","-","-","-","-","-","-","-","-","-","-"]
[null,null,null,null,null,null,null,null,85,"P42","Husain Choiri,S.Pd.T","NIP","19770225 200604 1 002",null,null,null,null,null,null,null,null,null,87,"-","-","-","-","-","-","-","-","-","-","-","-","-","-","-","-","-","-","-","-","-","-","-","-","-","-","-","-","-","-","-","-","-","-","-","-","-","-","-","-","-","-","-","-","-","-","-","-","-","-","-","-","-","-","-","-","-","-","-","-","-","-","-","-","-","-"]
[null,null,null,null,null,null,null,null,86,"P22","Hy.Bara Tulastiana","NIP","19660817 199003 2 022",null,null,null,null,null,null,null,null,null,88,"-","-","-","-","-","-","-","-","-","-","-","-","-","-","-","-","-","-","-","-","-","-","-","-","-","-","-","-","-","-","-","-","-","-","-","-","-","-","-","-","-","-","-","-","-","-","-","-","-","-","-","-","-","-","-","-","-","-","-","-","-","-","-","-","-","-"]
[{"$f":"V90","v":0},null,null,null,null,null,null,null,87,"P18","Ida Farida Artati","NIP","19660308 198803 2 005",null,null,null,null,null,null,null,null,null,89,"-","-","-","-","-","-","-","-","-","-","-","-","-","-","-","-","-","-","-","-","-","-","-","-","-","-","-","-","-","-","-","-","-","-","-","-","-","-","-","-","-","-","-","-","-","-","-","-","-","-","-","-","-","-","-","-","-","-","-","-","-","-","-","-","-","-"]
[null,null,null,null,null,null,null,null,88,"P45","Iin Kartini, S.Pd","NIP","19741020 200701 2 006",null,null,null,null,null,null,null,null,null,90,"-","-","-","-","-","-","-","-","-","-","-","-","-","-","-","-","-","-","-","-","-","-","-","-","-","-","-","-","-","-","-","-","-","-","-","-","-","-","-","-","-","-","-","-","-","-","-","-","-","-","-","-","-","-","-","-","-","-","-","-","-","-","-","-","-","-"]
[null,null,null,null,null,null,null,null,89,"G79","Ika Sherlyta Rohmawati, S.Pd","PegId","-",null,null,null,null,null,null,null,null,null,91,"-","-","-","-","-","-","-","-","-","-","-","-","-","-","-","-","-","-","-","-","-","-","-","-","-","-","-","-","-","-","-","-","-","-","-","-","-","-","-","-","-","-","-","-","-","-","-","-","-","-","-","-","-","-","-","-","-","-","-","-","-","-","-","-","-","-"]
[null,null,null,null,null,null,null,null,90,"P61","Ikeu Susana, S.Pd","NIP","19790905 201408 2 001"]
["A",null,null,null,null,null,null,null,91,"G45","Indria Listiani Ningrum,ST","PegId","20217802189003",null,null,null,null,null,null,null,null,null,"A",{"$f":"COUNTA(X3:X20)/3-COUNTIF(X3:X20,\"-\")/3","v":6},6,null,null,null,null,6,6,null,null,null,null,6,6,null,null,null,null,6,6,null,null,null,null,6,6,null,null,null,null,6,6,null,null,null,null,6,6,null,null,null,null,6,6,null,null,null,null,6,6,null,null,null,null,6,6,null,null,null,null,null,null,null,null,5,5]
["B",null,null,null,null,null,null,null,92,"G36","Irfan Zinat Achmad, S.Pd, M.Pd","PegId","-",null,null,null,null,null,null,null,null,null,"B",{"$f":"COUNTA(X21:X35)/3-COUNTIF(X21:X35,\"-\")/3","v":5},5,null,null,null,null,5,5,null,null,null,null,5,5,null,null,null,null,5,5,null,null,null,null,5,5,null,null,null,null,5,5,null,null,null,null,5,5,null,null,null,null,5,5,null,null,null,null,5,5,null,null,null,null,5,5,null,null,null,null,null,null,null,null,1,1]
["C1",null,null,null,null,null,null,null,93,"G12","Karno,S.Pd","PegId","20217802186001",null,null,null,null,null,null,null,null,null,"C1",{"$f":"COUNTA(X36:X44)/3-COUNTIF(X36:X44,\"-\")/3","v":3},3,null,null,null,null,3,3,null,null,null,null,3,3,null,null,null,null,3,3,null,null,null,null,3,3,null,null,null,null,3,3,null,null,null,null,3,3,null,null,null,null,3,3,null,null,null,null,3,3,null,null,null,null,3,3,null,null,null,null,null,null,null,null,0,0]
["C2",null,null,null,null,null,null,null,94,"G10","Kurniati,S.Sos.I","PegId","-",null,null,null,null,null,null,null,null,null,"C2",{"$f":"COUNTA(X48:X62)/3-COUNTIF(X48:X62,\"-\")/3","v":1},{"$f":"COUNTA(Y48:Y62)/3-COUNTIF(Y48:Y62,\"-\")/3","v":1},null,null,null,null,{"$f":"COUNTA(AD45:AD62)/3-COUNTIF(AD45:AD62,\"-\")/3","v":2},{"$f":"COUNTA(AE45:AE62)/3-COUNTIF(AE45:AE62,\"-\")/3","v":2},null,null,null,null,{"$f":"COUNTA(AJ45:AJ62)/3-COUNTIF(AJ45:AJ62,\"-\")/3","v":2},{"$f":"COUNTA(AK45:AK62)/3-COUNTIF(AK45:AK62,\"-\")/3","v":2},null,null,null,null,{"$f":"COUNTA(AP48:AP62)/3-COUNTIF(AP48:AP62,\"-\")/3","v":1},{"$f":"COUNTA(AQ48:AQ62)/3-COUNTIF(AQ48:AQ62,\"-\")/3","v":1},null,null,null,null,{"$f":"COUNTA(AV45:AV62)/3-COUNTIF(AV45:AV62,\"-\")/3","v":2},2,null,null,null,null,2,2,null,null,null,null,2,2,null,null,null,null,2,2,null,null,null,null,{"$f":"COUNTA(BT48:BT62)/3-COUNTIF(BT48:BT62,\"-\")/3","v":1},{"$f":"COUNTA(BU48:BU62)/3-COUNTIF(BU48:BU62,\"-\")/3","v":1},null,null,null,null,{"$f":"COUNTA(BZ45:BZ62)/3-COUNTIF(BZ45:BZ62,\"-\")/3","v":2},{"$f":"COUNTA(CA45:CA62)/3-COUNTIF(CA45:CA62,\"-\")/3","v":2},null,null,null,null,null,null,null,null,{"$f":"COUNTA(CJ48:CJ62)/3-COUNTIF(CJ48:CJ62,\"-\")/3","v":3},{"$f":"COUNTA(CK48:CK62)/3-COUNTIF(CK48:CK62,\"-\")/3","v":3}]
["C3",null,null,null,null,null,null,null,95,"G88","Laela Apri Liani, S.Pd.I","PegId","-",null,null,null,null,null,null,null,null,null,"C3",{"$f":"COUNTA(X63:X86)/3-COUNTIF(X63:X86,\"-\")/3","v":0},0,null,null,null,null,0,0,null,null,null,null,0,0,null,null,null,null,0,0,null,null,null,null,0,0,null,null,null,null,0,0,null,null,null,null,0,0,null,null,null,null,0,0,null,null,null,null,0,0,null,null,null,null,0,0,null,null,null,null,null,null,null,null,1,1]
[null,null,null,null,null,null,null,null,96,"P6","Leli Suherli,S.Pd,M.Pd","NIP","19600113 198611 1 001",null,null,null,null,null,null,null,null,null,"MU",{"$f":"COUNTA(X87:X92)/3-COUNTIF(X87:X92,\"-\")/3","v":0},0,null,null,null,null,0,0,null,null,null,null,0,0,null,null,null,null,0,0,null,null,null,null,0,0,null,null,null,null,0,0,null,null,null,null,0,0,null,null,null,null,0,0,null,null,null,null,0,0,null,null,null,null,0,0,null,null,null,null,null,null,null,null,0,0]
[null,null,null,null,null,null,null,null,97,"G44","Lily Chandra,S.Pd","PegId","-",null,null,null,null,null,null,null,null,null,"JUMLAH MAPEL",{"$f":"SUM(X94:X99)","v":15},{"$f":"SUM(Y94:Y99)","v":15},null,null,null,null,16,16,null,null,null,null,{"$f":"SUM(AJ94:AJ99)","v":16},{"$f":"SUM(AK94:AK99)","v":16},null,null,null,null,15,15,null,null,null,null,{"$f":"SUM(AV94:AV99)","v":16},16,null,null,null,null,{"$f":"SUM(BB94:BB99)","v":16},16,null,null,null,null,16,16,null,null,null,null,16,16,null,null,null,null,{"$f":"SUM(BT94:BT99)","v":15},{"$f":"SUM(BU94:BU99)","v":15},null,null,null,null,{"$f":"SUM(BZ94:BZ99)","v":16},{"$f":"SUM(CA94:CA99)","v":16},null,null,null,null,null,null,null,null,10,10]
[null,null,null,null,null,null,null,null,98,"G43","Maolana Nopiansah, S.Pd.I","PegId","20217802185006"]
[null,null,null,null,null,null,null,null,99,"G74","Maria Bestarina Laili, ST","PegId","-"]
[null,null,null,null,null,null,null,null,100,"G61","Mila Karuniawati,S.Pd","PegId","20217808186003"]
[null,null,null,null,null,null,null,null,101,"P55","Mugi Widodo, S.Pd","NIP","19720529 201407 1 001"]
[null,null,null,null,null,null,null,null,102,"G54","Muhamad Busron,S.Pd","PegId","-"]
[null,null,null,null,null,null,null,null,103,"G85","Muhamad Jaenus Solihin","PegId","-"]
[null,null,null,null,null,null,null,null,104,"G78","Muhammad Fauzi Efendie, S.Pd","PegId","-"]
[null,null,null,null,null,null,null,null,105,"G11","Muhammad Nuryanto,S.Pd.I","PegId","20217802185003"]
[null,null,null,null,null,null,null,null,106,"G27","Nandang Ruhiyat Efendi,ST","PegId","-"]
[null,null,null,null,null,null,null,null,107,"G28","Nunung Nur Choerullah, S.Pd","PegId","-"]
[null,null,null,null,null,null,null,null,108,"G67","Nuri Hastuti Nuryani, S.Pd","PegId","-"]
[null,null,null,null,null,null,null,null,109,"P37","Pono Siswanto, S.Pd ,M.Pd","NIP","19750905 200501 1 006"]
[null,null,null,null,null,null,null,null,110,"P57","Prapti Suharyanti, S.Pd","NIP","19770218 201407 2 001"]
[null,null,null,null,null,null,null,null,111,"G63","Raden Dewi Noviyanti,S.Pd","PegId","20217802192003"]
[null,null,null,null,null,null,null,null,112,"G64","Rangga Adlan, S.Pd","PegId","-"]
[null,null,null,null,null,null,null,null,113,"G84","Redi Suhendri","PegId","-"]
[null,null,null,null,null,null,null,null,114,"G59","Rhama Nurwansyah Sumarsono,S.Pd","PegId","-"]
[null,null,null,null,null,null,null,null,115,"G35","Ridwan Yulianto,S.Pd","PegId","-"]
[null,null,null,null,null,null,null,null,116,"G5","Rika Nurlela Ningrum,S.S","PegId","-"]
[null,null,null,null,null,null,null,null,117,"G40","Riki Verdian,ST","PegId","20217802187002"]
[null,null,null,null,null,null,null,null,118,"G29","Rini Anggraeni,S.Pd,M.Pd","PegId","20217802186002"]
[null,null,null,null,null,null,null,null,119,"G34","Rini Nurmalasari,S.Pd","PegId","20217802185002"]
[null,null,null,null,null,null,null,null,120,"P39","Risin,S.Pd","NIP","19720616 200604 1005"]
[null,null,null,null,null,null,null,null,121,"G33","Risnaldi,S.Pd","PegId","-"]
[null,null,null,null,null,null,null,null,122,"P50","Rita Rosita,S.Pd","NIP","19800904 200902 2 005"]
[null,null,null,null,null,null,null,null,123,"G72","Riyan Ariyansah, ST","PegId","-"]
[null,null,null,null,null,null,null,null,124,"G55","Roban,ST","PegId","20217802188005"]
[null,null,null,null,null,null,null,null,125,"P44","Roi Supriadi,S.Pd, MT","NIP","19740816 200701 1 007"]
[null,null,null,null,null,null,null,null,126,"G8","Rosadi,ST","PegId","-"]
[null,null,null,null,null,null,null,null,127,"G75","Saeful Ikhrom, A.Md","PegId","-"]
[null,null,null,null,null,null,null,null,128,"P58","Sigit Nur Atmadi, S.Pd","NIP","19790118 201407 1 002"]
[null,null,null,null,null,null,null,null,129,"G81","Siti Nurjanah,S.Pd","PegId","-"]
[null,null,null,null,null,null,null,null,130,"P46","Slamet Raharjo,S.Pd, MT","NIP","19660611 200801 1 005"]
[null,null,null,null,null,null,null,null,131,"G31","Sri Hartati,S.T","PegId","20217802184001"]
[null,null,null,null,null,null,null,null,132,"P32","Sugeng, S.Pd,M.Pd","NIP","19630527 199803 1 002"]
[null,null,null,null,null,null,null,null,133,"P56","Suhartini, S.Pd","NIP","19761222 201407 2 001"]
[null,null,null,null,null,null,null,null,134,"G7","Sujarwo,S.IP","PegId","-"]
[null,null,null,null,null,null,null,null,135,"P26","Sukma Surya Purnama,S.Pd,MT","NIP","19680102 199512 1 002"]
[null,null,null,null,null,null,null,null,136,"G2","Sumarsono,ST","PegId","-"]
[null,null,null,null,null,null,null,null,137,"G30","Sunandar,ST","PegId","-"]
[null,null,null,null,null,null,null,null,138,"G1","Supartika,S.Pd","PegId","-"]
[null,null,null,null,null,null,null,null,139,"G76","Susilawati, S.Pd","PegId","-"]
[null,null,null,null,null,null,null,null,140,"G14","Syarif Hidayatullah,S.Pd,MM","PegId","-"]
[null,null,null,null,null,null,null,null,141,"G77","Tessa Putri Chandra Julianti,S.Pd","PegId","-"]
[null,null,null,null,null,null,null,null,142,"G42","Tita Monica Timor,S.Pd","PegId","20217802191003"]
[null,null,null,null,null,null,null,null,143,"G51","Tita Nuraprianti,S.Pd","PegId","20217802190004"]
[null,null,null,null,null,null,null,null,144,"P33","Tjetjep Rony Budiman,S.Pd, MT","NIP","19700810 200501 1 009"]
[null,null,null,null,null,null,null,null,145,"G68","Tri Puji Astutik, S.Pd","PegId","-"]
[null,null,null,null,null,null,null,null,146,"P12","Uma Pahrevi,S.Pd,M.Pd","NIP","19650101 198902 1 004"]
[null,null,null,null,null,null,null,null,147,"G41","Utha Aprilelia DAC,S.Pd","PegId","20217802189006"]
[null,null,null,null,null,null,null,null,148,"G52","Vanny Tri Oktaviani,S.Pd","PegId","20217802191004"]
[null,null,null,null,null,null,null,null,149,"G58","Wienike Dinar Pratriwi,ST","PegId","20217802186004"]
[null,null,null,null,null,null,null,null,150,"G13","Wiwiek Williya,S.Kom,M.Kom","PegId","-"]
[null,null,null,null,null,null,null,null,151,"G32","Yayus Irmansyah,ST","PegId","20217802179001"]
[null,null,null,null,null,null,null,null,152,"G9","Yusuf Effendy,ST","PegId","-"]
[null,null,null,null,null,null,null,null,153,"G50","Zian Muzakiyah Kosman,S.Pd,M.Pd","PegId","20217802189007"]

{"sheet":"DESKSM1","index":6,"n_rows":26,"n_cols":33,"rows_kept":26,"cut":false,"hidden":false,"merged":[[0,0,0,1],[4,0,7,0],[4,1,7,1],[9,0,12,0],[9,1,12,1]]}
["DESKRIPSI KOMPETENSI",null,null,{"$f":"HLOOKUP(MENU!$I$8&\" \"&$B$2,DATABASE!$X$2:$CK$92,DATABASE!W3,FALSE)","v":"Pendidikan Agama dan Budi Pekerti"},{"$f":"HLOOKUP(MENU!$I$8&\" \"&$B$2,DATABASE!$X$2:$CK$92,DATABASE!W6,FALSE)","v":"Pendidikan Pancasila dan Kewarganegaraan"},{"$f":"HLOOKUP(MENU!$I$8&\" \"&$B$2,DATABASE!$X$2:$CK$92,DATABASE!W9,FALSE)","v":"Bahasa Indonesia"},{"$f":"HLOOKUP(MENU!$I$8&\" \"&$B$2,DATABASE!$X$2:$CK$92,DATABASE!W12,FALSE)","v":"Matematika"},{"$f":"HLOOKUP(MENU!$I$8&\" \"&$B$2,DATABASE!$X$2:$CK$92,DATABASE!W15,FALSE)","v":"Sejarah Indonesia"},{"$f":"HLOOKUP(MENU!$I$8&\" \"&$B$2,DATABASE!$X$2:$CK$92,DATABASE!W18,FALSE)","v":"Bahasa Inggris"},{"$f":"HLOOKUP(MENU!$I$8&\" \"&$B$2,DATABASE!$X$2:$CK$92,DATABASE!W21,FALSE)","v":"Seni Budaya"},{"$f":"HLOOKUP(MENU!$I$8&\" \"&$B$2,DATABASE!$X$2:$CK$92,DATABASE!W24,FALSE)","v":"Pendidikan Jasmani, Olah Raga & Kesehatan"},{"$f":"HLOOKUP(MENU!$I$8&\" \"&$B$2,DATABASE!$X$2:$CK$92,DATABASE!W27,FALSE)","v":"Bahasa dan Sastra Sunda"},{"$f":"HLOOKUP(MENU!$I$8&\" \"&$B$2,DATABASE!$X$2:$CK$92,DATABASE!W30,FALSE)","v":"PLH"},{"$f":"HLOOKUP(MENU!$I$8&\" \"&$B$2,DATABASE!$X$2:$CK$92,DATABASE!W33,FALSE)","v":"Simulasi dan Komunikasi Digital"},{"$f":"HLOOKUP(MENU!$I$8&\" \"&$B$2,DATABASE!$X$2:$CK$92,DATABASE!W36,FALSE)","v":"Fisika"},{"$f":"HLOOKUP(MENU!$I$8&\" \"&$B$2,DATABASE!$X$2:$CK$92,DATABASE!W39,FALSE)","v":"Kimia"},{"$f":"HLOOKUP(MENU!$I$8&\" \"&$B$2,DATABASE!$X$2:$CK$92,DATABASE!W42,FALSE)","v":"Sistem Komputer"},{"$f":"HLOOKUP(MENU!$I$8&\" \"&$B$2,DATABASE!$X$2:$CK$92,DATABASE!W45,FALSE)","v":"Komputer dan Jaringan Dasar"},{"$f":"HLOOKUP(MENU!$I$8&\" \"&$B$2,DATABASE!$X$2:$CK$92,DATABASE!W48,FALSE)","v":"Pemrograman Dasar"},{"$f":"HLOOKUP(MENU!$I$8&\" \"&$B$2,DATABASE!$X$2:$CK$92,DATABASE!W51,FALSE)","v":"Dasar Desain Grafis"},{"$f":"HLOOKUP(MENU!$I$8&\" \"&$B$2,DATABASE!$X$2:$CK$92,DATABASE!W54,FALSE)","v":"-"},{"$f":"HLOOKUP(MENU!$I$8&\" \"&$B$2,DATABASE!$X$2:$CK$92,DATABASE!W57,FALSE)","v":"-"},{"$f":"HLOOKUP(MENU!$I$8&\" \"&$B$2,DATABASE!$X$2:$CK$92,DATABASE!W60,FALSE)","v":"-"},{"$f":"HLOOKUP(MENU!$I$8&\" \"&$B$2,DATABASE!$X$2:$CK$92,DATABASE!W63,FALSE)","v":"-"},{"$f":"HLOOKUP(MENU!$I$8&\" \"&$B$2,DATABASE!$X$2:$CK$92,DATABASE!W66,FALSE)","v":"-"},{"$f":"HLOOKUP(MENU!$I$8&\" \"&$B$2,DATABASE!$X$2:$CK$92,DATABASE!W69,FALSE)","v":"-"},{"$f":"HLOOKUP(MENU!$I$8&\" \"&$B$2,DATABASE!$X$2:$CK$92,DATABASE!W72,FALSE)","v":"-"},{"$f":"HLOOKUP(MENU!$I$8&\" \"&$B$2,DATABASE!$X$2:$CK$92,DATABASE!W75,FALSE)","v":"-"},{"$f":"HLOOKUP(MENU!$I$8&\" \"&$B$2,DATABASE!$X$2:$CK$92,DATABASE!W78,FALSE)","v":"-"},{"$f":"HLOOKUP(MENU!$I$8&\" \"&$B$2,DATABASE!$X$2:$CK$92,DATABASE!W81,FALSE)","v":"-"},{"$f":"HLOOKUP(MENU!$I$8&\" \"&$B$2,DATABASE!$X$2:$CK$92,DATABASE!W84,FALSE)","v":"-"},{"$f":"HLOOKUP(MENU!$I$8&\" \"&$B$2,DATABASE!$X$2:$CK$92,DATABASE!W87,FALSE)","v":"-"},{"$f":"HLOOKUP(MENU!$I$8&\" \"&$B$2,DATABASE!$X$2:$CK$92,DATABASE!W90,FALSE)","v":"-"}]
["Semester  :","1 (satu)","KEL. MAPEL","A","A","A","A","A","A","B","B","B","C1","C1","C1","C2","C2","C2","C2","C2","C2","C3","C3","C3","C3","C3","C3","C3","C3","C3","MULOK","MULOK","MULOK"]
[null,null,1,2,3,4,5,6,7,8,9,10,11,12,13,14,15,16,17,18,19,20,21,22,23,24,25,26,27,28,29,30,31]
[null,null,"PREDIKAT","DESKRIPSI","DESKRIPSI","DESKRIPSI","DESKRIPSI","DESKRIPSI","DESKRIPSI","DESKRIPSI","DESKRIPSI","DESKRIPSI","DESKRIPSI","DESKRIPSI","DESKRIPSI","DESKRIPSI","DESKRIPSI","DESKRIPSI","DESKRIPSI","DESKRIPSI","DESKRIPSI","DESKRIPSI","DESKRIPSI","DESKRIPSI","DESKRIPSI","DESKRIPSI","DESKRIPSI","DESKRIPSI","DESKRIPSI","DESKRIPSI","DESKRIPSI","DESKRIPSI","DESKRIPSI"]
[null,"DESKRIPSI NILAI PENGETAHUAN","A","Sangat baik dalam memahami, menerapkan, menganalisis dan mengevaluasi semua kompetensi dasar.","Pendidikan Pancasila dan Kewarganegaraan","Bahasa Indonesia","Matematika","Sejarah Indonesia","Bahasa Inggris","Seni Budaya","Prakarya dan Kewirausahaan","Pendidikan Jasmani, Olah Raga & Kesehatan","Fisika","Pemrograman Dasar","Sistem Komputer","Perakitan Komputer","Simulasi Digital","Sistem Operasi","Jaringan Dasar","Pemprograman Web","C2","C3","C3","C3","C3","C3","C3","C3","C3","C3","Bahasa dan Sastra Sunda","MULOK","MULOK"]
[null,null,"B","Baik dalam memahami, menerapkan, menganalisis dan mengevaluasi sebagian besar kompetensi dasar.","Pendidikan Pancasila dan Kewarganegaraan","Bahasa Indonesia","Matematika","Sejarah Indonesia","Bahasa Inggris","Seni Budaya","Prakarya dan Kewirausahaan","Pendidikan Jasmani, Olah Raga & Kesehatan","Fisika","Pemrograman Dasar","Sistem Komputer","Perakitan Komputer","Simulasi Digital","Sistem Operasi","Jaringan Dasar","Pemprograman Web","C2","C3","C3","C3","C3","C3","C3","C3","C3","C3","Bahasa dan Sastra Sunda","MULOK","MULOK"]
[null,null,"C","Cukup baik memahami sebagian kompetensi dasar, tetapi kurang bisa menerapkan, menganalisis dan mengevaluasinya.","Pendidikan Pancasila dan Kewarganegaraan","Bahasa Indonesia","Matematika","Sejarah Indonesia","Bahasa Inggris","Seni Budaya","Prakarya dan Kewirausahaan","Pendidikan Jasmani, Olah Raga & Kesehatan","Fisika","Pemrograman Dasar","Sistem Komputer","Perakitan Komputer","Simulasi Digital","Sistem Operasi","Jaringan Dasar","Pemprograman Web","C2","C3","C3","C3","C3","C3","C3","C3","C3","C3","Bahasa dan Sastra Sunda","MULOK","MULOK"]
[null,null,"D","Kurang memahami, hanya bisa menerapkan, menganalisis, dan mengeveluasi sebagian kecil kompetensi dasar.","Pendidikan Pancasila dan Kewarganegaraan","Bahasa Indonesia","Matematika","Sejarah Indonesia","Bahasa Inggris","Seni Budaya","Prakarya dan Kewirausahaan","Pendidikan Jasmani, Olah Raga & Kesehatan","Fisika","Pemrograman Dasar","Sistem Komputer","Perakitan Komputer","Simulasi Digital","Sistem Operasi","Jaringan Dasar","Pemprograman Web","C2","C3","C3","C3","C3","C3","C3","C3","C3","C3","Bahasa dan Sastra Sunda","MULOK","MULOK"]
[]
[null,"DESKRIPSI NILAI KETERAMPILAN","A","Sangat baik dan aktif bertanya, mencoba, menalar dan kreatif dalam menyelesaikan tugas praktek.","Pendidikan Pancasila dan Kewarganegaraan","Bahasa Indonesia","Matematika","Sejarah Indonesia","Bahasa Inggris","Seni Budaya","Prakarya dan Kewirausahaan","Pendidikan Jasmani, Olah Raga & Kesehatan","Fisika","Pemrograman Dasar","Sistem Komputer","Perakitan Komputer","Simulasi Digital","Sistem Operasi","Jaringan Dasar","Pemprograman Web","C2","C3","C3","C3","C3","C3","C3",null,null,null,"Bahasa dan Sastra Sunda","MULOK","MULOK"]
[null,null,"B","Baik dan aktif bertanya, mencoba, menalar dan kreatif dalam menyelesaikan sebagian besar tugas praktek.","Pendidikan Pancasila dan Kewarganegaraan","Bahasa Indonesia","Matematika","Sejarah Indonesia","Bahasa Inggris","Seni Budaya","Prakarya dan Kewirausahaan","Pendidikan Jasmani, Olah Raga & Kesehatan","Fisika","Pemrograman Dasar","Sistem Komputer","Perakitan Komputer","Simulasi Digital","Sistem Operasi","Jaringan Dasar","Pemprograman Web","C2","C3","C3","C3","C3","C3","C3",null,null,null,"Bahasa dan Sastra Sunda","MULOK","MULOK"]
[null,null,"C","Cukup aktif bertanya, mencoba, menalar dan kreatif dalam menyelesaikan tugas praktek","Pendidikan Pancasila dan Kewarganegaraan","Bahasa Indonesia","Matematika","Sejarah Indonesia","Bahasa Inggris","Seni Budaya","Prakarya dan Kewirausahaan","Pendidikan Jasmani, Olah Raga & Kesehatan","Fisika","Pemrograman Dasar","Sistem Komputer","Perakitan Komputer","Simulasi Digital","Sistem Operasi","Jaringan Dasar","Pemprograman Web","C2","C3","C3","C3","C3","C3","C3",null,null,null,"Bahasa dan Sastra Sunda","MULOK","MULOK"]
[null,null,"D","Kurang aktif bertanya, mencoba, menalar dan kreatif dalam menyelesaikan tugas praktek.","Pendidikan Pancasila dan Kewarganegaraan","Bahasa Indonesia","Matematika","Sejarah Indonesia","Bahasa Inggris","Seni Budaya","Prakarya dan Kewirausahaan","Pendidikan Jasmani, Olah Raga & Kesehatan","Fisika","Pemrograman Dasar","Sistem Komputer","Perakitan Komputer","Simulasi Digital","Sistem Operasi","Jaringan Dasar","Pemprograman Web","C2","C3","C3","C3","C3","C3","C3",null,null,null,"Bahasa dan Sastra Sunda","MULOK","MULOK"]
[]
[null,null,null,3.59]
[null,null,null,3.59]
[null,null,null,3.5]
[null,null,null,3.48]
[null,null,null,3.54]
[null,null,null,3.39]
[null,null,null,3.45]
[null,null,null,3.45]
[null,null,null,3.29]
[null,null,null,3.45]
[null,null,null,3.45]
[null,null,null,3.45]

{"sheet":"DESKSM2","index":7,"n_rows":26,"n_cols":33,"rows_kept":26,"cut":false,"hidden":false,"merged":[[0,0,0,1],[4,0,7,0],[4,1,7,1],[9,0,12,0],[9,1,12,1]]}
["DESKRIPSI KOMPETENSI",null,null,{"$f":"HLOOKUP(MENU!$I$8&\" \"&$B$2,DATABASE!$X$2:$CK$92,DATABASE!W3,FALSE)","v":"Pendidikan Agama dan Budi Pekerti"},{"$f":"HLOOKUP(MENU!$I$8&\" \"&$B$2,DATABASE!$X$2:$CK$92,DATABASE!W6,FALSE)","v":"Pendidikan Pancasila dan Kewarganegaraan"},{"$f":"HLOOKUP(MENU!$I$8&\" \"&$B$2,DATABASE!$X$2:$CK$92,DATABASE!W9,FALSE)","v":"Bahasa Indonesia"},{"$f":"HLOOKUP(MENU!$I$8&\" \"&$B$2,DATABASE!$X$2:$CK$92,DATABASE!W12,FALSE)","v":"Matematika"},{"$f":"HLOOKUP(MENU!$I$8&\" \"&$B$2,DATABASE!$X$2:$CK$92,DATABASE!W15,FALSE)","v":"Sejarah Indonesia"},{"$f":"HLOOKUP(MENU!$I$8&\" \"&$B$2,DATABASE!$X$2:$CK$92,DATABASE!W18,FALSE)","v":"Bahasa Inggris"},{"$f":"HLOOKUP(MENU!$I$8&\" \"&$B$2,DATABASE!$X$2:$CK$92,DATABASE!W21,FALSE)","v":"Seni Budaya"},{"$f":"HLOOKUP(MENU!$I$8&\" \"&$B$2,DATABASE!$X$2:$CK$92,DATABASE!W24,FALSE)","v":"Pendidikan Jasmani, Olah Raga & Kesehatan"},{"$f":"HLOOKUP(MENU!$I$8&\" \"&$B$2,DATABASE!$X$2:$CK$92,DATABASE!W27,FALSE)","v":"Bahasa dan Sastra Sunda"},{"$f":"HLOOKUP(MENU!$I$8&\" \"&$B$2,DATABASE!$X$2:$CK$92,DATABASE!W30,FALSE)","v":"PLH"},{"$f":"HLOOKUP(MENU!$I$8&\" \"&$B$2,DATABASE!$X$2:$CK$92,DATABASE!W33,FALSE)","v":"Simulasi dan Komunikasi Digital"},{"$f":"HLOOKUP(MENU!$I$8&\" \"&$B$2,DATABASE!$X$2:$CK$92,DATABASE!W36,FALSE)","v":"Fisika"},{"$f":"HLOOKUP(MENU!$I$8&\" \"&$B$2,DATABASE!$X$2:$CK$92,DATABASE!W39,FALSE)","v":"Kimia"},{"$f":"HLOOKUP(MENU!$I$8&\" \"&$B$2,DATABASE!$X$2:$CK$92,DATABASE!W42,FALSE)","v":"Sistem Komputer"},{"$f":"HLOOKUP(MENU!$I$8&\" \"&$B$2,DATABASE!$X$2:$CK$92,DATABASE!W45,FALSE)","v":"Komputer dan Jaringan Dasar"},{"$f":"HLOOKUP(MENU!$I$8&\" \"&$B$2,DATABASE!$X$2:$CK$92,DATABASE!W48,FALSE)","v":"Pemrograman Dasar"},{"$f":"HLOOKUP(MENU!$I$8&\" \"&$B$2,DATABASE!$X$2:$CK$92,DATABASE!W51,FALSE)","v":"Dasar Desain Grafis"},{"$f":"HLOOKUP(MENU!$I$8&\" \"&$B$2,DATABASE!$X$2:$CK$92,DATABASE!W54,FALSE)","v":"-"},{"$f":"HLOOKUP(MENU!$I$8&\" \"&$B$2,DATABASE!$X$2:$CK$92,DATABASE!W57,FALSE)","v":"-"},{"$f":"HLOOKUP(MENU!$I$8&\" \"&$B$2,DATABASE!$X$2:$CK$92,DATABASE!W60,FALSE)","v":"-"},{"$f":"HLOOKUP(MENU!$I$8&\" \"&$B$2,DATABASE!$X$2:$CK$92,DATABASE!W63,FALSE)","v":"-"},{"$f":"HLOOKUP(MENU!$I$8&\" \"&$B$2,DATABASE!$X$2:$CK$92,DATABASE!W66,FALSE)","v":"-"},{"$f":"HLOOKUP(MENU!$I$8&\" \"&$B$2,DATABASE!$X$2:$CK$92,DATABASE!W69,FALSE)","v":"-"},{"$f":"HLOOKUP(MENU!$I$8&\" \"&$B$2,DATABASE!$X$2:$CK$92,DATABASE!W72,FALSE)","v":"-"},{"$f":"HLOOKUP(MENU!$I$8&\" \"&$B$2,DATABASE!$X$2:$CK$92,DATABASE!W75,FALSE)","v":"-"},{"$f":"HLOOKUP(MENU!$I$8&\" \"&$B$2,DATABASE!$X$2:$CK$92,DATABASE!W78,FALSE)","v":"-"},{"$f":"HLOOKUP(MENU!$I$8&\" \"&$B$2,DATABASE!$X$2:$CK$92,DATABASE!W81,FALSE)","v":"-"},{"$f":"HLOOKUP(MENU!$I$8&\" \"&$B$2,DATABASE!$X$2:$CK$92,DATABASE!W84,FALSE)","v":"-"},{"$f":"HLOOKUP(MENU!$I$8&\" \"&$B$2,DATABASE!$X$2:$CK$92,DATABASE!W87,FALSE)","v":"-"},{"$f":"HLOOKUP(MENU!$I$8&\" \"&$B$2,DATABASE!$X$2:$CK$92,DATABASE!W90,FALSE)","v":"-"}]
["Semester  :","2 (dua)","KEL. MAPEL","A","A","A","A","A","A","B","B","B","C1","C1","C1","C2","C2","C2","C2","C2","C2","C3","C3","C3","C3","C3","C3","C3","C3","C3","MULOK","MULOK","MULOK"]
[null,null,1,2,3,4,5,6,7,8,9,10,11,12,13,14,15,16,17,18,19,20,21,22,23,24,25,26,27,28,29,30,31]
[null,null,"PREDIKAT","DESKRIPSI","DESKRIPSI","DESKRIPSI","DESKRIPSI","DESKRIPSI","DESKRIPSI","DESKRIPSI","DESKRIPSI","DESKRIPSI","DESKRIPSI","DESKRIPSI","DESKRIPSI","DESKRIPSI","DESKRIPSI","DESKRIPSI","DESKRIPSI","DESKRIPSI","DESKRIPSI","DESKRIPSI","DESKRIPSI","DESKRIPSI","DESKRIPSI","DESKRIPSI","DESKRIPSI","DESKRIPSI","DESKRIPSI","DESKRIPSI","DESKRIPSI","DESKRIPSI","DESKRIPSI"]
[null,"DESKRIPSI NILAI PENGETAHUAN","A","Sangat baik dalam memahami, menerapkan, menganalisis dan mengevaluasi semua kompetensi dasar.","Pendidikan Pancasila dan Kewarganegaraan","Bahasa Indonesia","Matematika","Sejarah Indonesia","Bahasa Inggris","Seni Budaya","Prakarya dan Kewirausahaan","Pendidikan Jasmani, Olah Raga & Kesehatan","Fisika","Pemrograman Dasar","Sistem Komputer","Perakitan Komputer","Simulasi Digital","Sistem Operasi","Jaringan Dasar","Pemprograman Web","C2","C3","C3","C3","C3","C3","C3","C3","C3","C3","Bahasa dan Sastra Sunda","MULOK","MULOK"]
[null,null,"B","Baik dalam memahami, menerapkan, menganalisis dan mengevaluasi sebagian besar kompetensi dasar.","Pendidikan Pancasila dan Kewarganegaraan","Bahasa Indonesia","Matematika","Sejarah Indonesia","Bahasa Inggris","Seni Budaya","Prakarya dan Kewirausahaan","Pendidikan Jasmani, Olah Raga & Kesehatan","Fisika","Pemrograman Dasar","Sistem Komputer","Perakitan Komputer","Simulasi Digital","Sistem Operasi","Jaringan Dasar","Pemprograman Web","C2","C3","C3","C3","C3","C3","C3","C3","C3","C3","Bahasa dan Sastra Sunda","MULOK","MULOK"]
[null,null,"C","Cukup baik dalam memahami, mengetahui sebagian kompetensi dasar, tetapi kurang bisa menerapkan, menganalisis dan mengevaluasinya.","Pendidikan Pancasila dan Kewarganegaraan","Bahasa Indonesia","Matematika","Sejarah Indonesia","Bahasa Inggris","Seni Budaya","Prakarya dan Kewirausahaan","Pendidikan Jasmani, Olah Raga & Kesehatan","Fisika","Pemrograman Dasar","Sistem Komputer","Perakitan Komputer","Simulasi Digital","Sistem Operasi","Jaringan Dasar","Pemprograman Web","C2","C3","C3","C3","C3","C3","C3","C3","C3","C3","Bahasa dan Sastra Sunda","MULOK","MULOK"]
[null,null,"D","Kurang, hanya dapat memahami, menerapkan, menganalisis, dan mengeveluasi sebagian kecil kompetensi dasar.","Pendidikan Pancasila dan Kewarganegaraan","Bahasa Indonesia","Matematika","Sejarah Indonesia","Bahasa Inggris","Seni Budaya","Prakarya dan Kewirausahaan","Pendidikan Jasmani, Olah Raga & Kesehatan","Fisika","Pemrograman Dasar","Sistem Komputer","Perakitan Komputer","Simulasi Digital","Sistem Operasi","Jaringan Dasar","Pemprograman Web","C2","C3","C3","C3","C3","C3","C3","C3","C3","C3","Bahasa dan Sastra Sunda","MULOK","MULOK"]
[]
[null,"DESKRIPSI NILAI KETERAMPILAN","A","Sangat baik dan aktif bertanya, mencoba, menalar dan kreatif dalam menyelesaikan tugas praktek.","Pendidikan Pancasila dan Kewarganegaraan","Bahasa Indonesia","Matematika","Sejarah Indonesia","Bahasa Inggris","Seni Budaya","Prakarya dan Kewirausahaan","Pendidikan Jasmani, Olah Raga & Kesehatan","Fisika","Pemrograman Dasar","Sistem Komputer","Perakitan Komputer","Simulasi Digital","Sistem Operasi","Jaringan Dasar","Pemprograman Web","C2","C3","C3","C3","C3","C3","C3",null,null,null,"Bahasa dan Sastra Sunda","MULOK","MULOK"]
[null,null,"B","Baik dan aktif bertanya, mencoba, menalar dan kreatif dalam menyelesaikan sebagian besar tugas praktek.","Pendidikan Pancasila dan Kewarganegaraan","Bahasa Indonesia","Matematika","Sejarah Indonesia","Bahasa Inggris","Seni Budaya","Prakarya dan Kewirausahaan","Pendidikan Jasmani, Olah Raga & Kesehatan","Fisika","Pemrograman Dasar","Sistem Komputer","Perakitan Komputer","Simulasi Digital","Sistem Operasi","Jaringan Dasar","Pemprograman Web","C2","C3","C3","C3","C3","C3","C3",null,null,null,"Bahasa dan Sastra Sunda","MULOK","MULOK"]
[null,null,"C","Cukup aktif bertanya, mencoba, menalar dan kreatif dalam menyelesaikan tugas praktek","Pendidikan Pancasila dan Kewarganegaraan","Bahasa Indonesia","Matematika","Sejarah Indonesia","Bahasa Inggris","Seni Budaya","Prakarya dan Kewirausahaan","Pendidikan Jasmani, Olah Raga & Kesehatan","Fisika","Pemrograman Dasar","Sistem Komputer","Perakitan Komputer","Simulasi Digital","Sistem Operasi","Jaringan Dasar","Pemprograman Web","C2","C3","C3","C3","C3","C3","C3",null,null,null,"Bahasa dan Sastra Sunda","MULOK","MULOK"]
[null,null,"D","Kurang aktif bertanya, mencoba, menalar dan kreatif dalam menyelesaikan tugas praktek.","Pendidikan Pancasila dan Kewarganegaraan","Bahasa Indonesia","Matematika","Sejarah Indonesia","Bahasa Inggris","Seni Budaya","Prakarya dan Kewirausahaan","Pendidikan Jasmani, Olah Raga & Kesehatan","Fisika","Pemrograman Dasar","Sistem Komputer","Perakitan Komputer","Simulasi Digital","Sistem Operasi","Jaringan Dasar","Pemprograman Web","C2","C3","C3","C3","C3","C3","C3",null,null,null,"Bahasa dan Sastra Sunda","MULOK","MULOK"]
[]
[null,null,null,3.59]
[null,null,null,3.59]
[null,null,null,3.5]
[null,null,null,3.48]
[null,null,null,3.54]
[null,null,null,3.39]
[null,null,null,3.45]
[null,null,null,3.45]
[null,null,null,3.29]
[null,null,null,3.45]
[null,null,null,3.45]
[null,null,null,3.45]

{"sheet":"DESKSM3","index":8,"n_rows":26,"n_cols":33,"rows_kept":26,"cut":false,"hidden":false,"merged":[[0,0,0,1],[4,0,7,0],[4,1,7,1],[9,0,12,0],[9,1,12,1]]}
["DESKRIPSI KOMPETENSI",null,null,{"$f":"HLOOKUP(MENU!$I$8&\" \"&$B$2,DATABASE!$X$2:$CK$92,DATABASE!W3,FALSE)","v":"Pendidikan Agama dan Budi Pekerti"},{"$f":"HLOOKUP(MENU!$I$8&\" \"&$B$2,DATABASE!$X$2:$CK$92,DATABASE!W6,FALSE)","v":"Pendidikan Pancasila dan Kewarganegaraan"},{"$f":"HLOOKUP(MENU!$I$8&\" \"&$B$2,DATABASE!$X$2:$CK$92,DATABASE!W9,FALSE)","v":"Bahasa Indonesia"},{"$f":"HLOOKUP(MENU!$I$8&\" \"&$B$2,DATABASE!$X$2:$CK$92,DATABASE!W12,FALSE)","v":"Matematika"},{"$f":"HLOOKUP(MENU!$I$8&\" \"&$B$2,DATABASE!$X$2:$CK$92,DATABASE!W15,FALSE)","v":"-"},{"$f":"HLOOKUP(MENU!$I$8&\" \"&$B$2,DATABASE!$X$2:$CK$92,DATABASE!W18,FALSE)","v":"Bahasa Inggris"},{"$f":"HLOOKUP(MENU!$I$8&\" \"&$B$2,DATABASE!$X$2:$CK$92,DATABASE!W21,FALSE)","v":"-"},{"$f":"HLOOKUP(MENU!$I$8&\" \"&$B$2,DATABASE!$X$2:$CK$92,DATABASE!W24,FALSE)","v":"Pendidikan Jasmani, Olah Raga & Kesehatan"},{"$f":"HLOOKUP(MENU!$I$8&\" \"&$B$2,DATABASE!$X$2:$CK$92,DATABASE!W27,FALSE)","v":"-"},{"$f":"HLOOKUP(MENU!$I$8&\" \"&$B$2,DATABASE!$X$2:$CK$92,DATABASE!W30,FALSE)","v":"Bahasa Jepang"},{"$f":"HLOOKUP(MENU!$I$8&\" \"&$B$2,DATABASE!$X$2:$CK$92,DATABASE!W33,FALSE)","v":"-"},{"$f":"HLOOKUP(MENU!$I$8&\" \"&$B$2,DATABASE!$X$2:$CK$92,DATABASE!W36,FALSE)","v":"-"},{"$f":"HLOOKUP(MENU!$I$8&\" \"&$B$2,DATABASE!$X$2:$CK$92,DATABASE!W39,FALSE)","v":"-"},{"$f":"HLOOKUP(MENU!$I$8&\" \"&$B$2,DATABASE!$X$2:$CK$92,DATABASE!W42,FALSE)","v":"-"},{"$f":"HLOOKUP(MENU!$I$8&\" \"&$B$2,DATABASE!$X$2:$CK$92,DATABASE!W45,FALSE)","v":"-"},{"$f":"HLOOKUP(MENU!$I$8&\" \"&$B$2,DATABASE!$X$2:$CK$92,DATABASE!W48,FALSE)","v":"-"},{"$f":"HLOOKUP(MENU!$I$8&\" \"&$B$2,DATABASE!$X$2:$CK$92,DATABASE!W51,FALSE)","v":"-"},{"$f":"HLOOKUP(MENU!$I$8&\" \"&$B$2,DATABASE!$X$2:$CK$92,DATABASE!W54,FALSE)","v":"Administrasi Infrastruktur Jaringan"},{"$f":"HLOOKUP(MENU!$I$8&\" \"&$B$2,DATABASE!$X$2:$CK$92,DATABASE!W57,FALSE)","v":"Administrasi Sistem Jaringan"},{"$f":"HLOOKUP(MENU!$I$8&\" \"&$B$2,DATABASE!$X$2:$CK$92,DATABASE!W60,FALSE)","v":"Teknologi Layanan Jaringan"},{"$f":"HLOOKUP(MENU!$I$8&\" \"&$B$2,DATABASE!$X$2:$CK$92,DATABASE!W63,FALSE)","v":"-"},{"$f":"HLOOKUP(MENU!$I$8&\" \"&$B$2,DATABASE!$X$2:$CK$92,DATABASE!W66,FALSE)","v":"-"},{"$f":"HLOOKUP(MENU!$I$8&\" \"&$B$2,DATABASE!$X$2:$CK$92,DATABASE!W69,FALSE)","v":"Produk Kreatif dan Kewirausahaan "},{"$f":"HLOOKUP(MENU!$I$8&\" \"&$B$2,DATABASE!$X$2:$CK$92,DATABASE!W72,FALSE)","v":"-"},{"$f":"HLOOKUP(MENU!$I$8&\" \"&$B$2,DATABASE!$X$2:$CK$92,DATABASE!W75,FALSE)","v":"-"},{"$f":"HLOOKUP(MENU!$I$8&\" \"&$B$2,DATABASE!$X$2:$CK$92,DATABASE!W78,FALSE)","v":"-"},{"$f":"HLOOKUP(MENU!$I$8&\" \"&$B$2,DATABASE!$X$2:$CK$92,DATABASE!W81,FALSE)","v":"-"},{"$f":"HLOOKUP(MENU!$I$8&\" \"&$B$2,DATABASE!$X$2:$CK$92,DATABASE!W84,FALSE)","v":"-"},{"$f":"HLOOKUP(MENU!$I$8&\" \"&$B$2,DATABASE!$X$2:$CK$92,DATABASE!W87,FALSE)","v":"-"},{"$f":"HLOOKUP(MENU!$I$8&\" \"&$B$2,DATABASE!$X$2:$CK$92,DATABASE!W90,FALSE)","v":"-"}]
["Semester  :","3 (tiga)","KEL. MAPEL","A","A","A","A","A","A","B","B","B","C1","C1","C1","C2","C2","C2","C2","C2","C2","C3","C3","C3","C3","C3","C3","C3","C3","C3","MULOK","MULOK","MULOK"]
[null,null,1,2,3,4,5,6,7,8,9,10,11,12,13,14,15,16,17,18,19,20,21,22,23,24,25,26,27,28,29,30,31]
[null,null,"PREDIKAT","DESKRIPSI","DESKRIPSI","DESKRIPSI","DESKRIPSI","DESKRIPSI","DESKRIPSI","DESKRIPSI","DESKRIPSI","DESKRIPSI","DESKRIPSI","DESKRIPSI","DESKRIPSI","DESKRIPSI","DESKRIPSI","DESKRIPSI","DESKRIPSI","DESKRIPSI","DESKRIPSI","DESKRIPSI","DESKRIPSI","DESKRIPSI","DESKRIPSI","DESKRIPSI","DESKRIPSI","DESKRIPSI","DESKRIPSI","DESKRIPSI","DESKRIPSI","DESKRIPSI","DESKRIPSI"]
[null,"DESKRIPSI NILAI PENGETAHUAN","A","Sangat baik dalam memahami, menerapkan, menganalisis dan mengevaluasi semua kompetensi dasar.","Pendidikan Pancasila dan Kewarganegaraan","Bahasa Indonesia","Matematika","Sejarah Indonesia","Bahasa Inggris","Seni Budaya","Prakarya dan Kewirausahaan","Pendidikan Jasmani, Olah Raga & Kesehatan","Fisika","Pemrograman Dasar","Sistem Komputer","Perakitan Komputer","Simulasi Digital","Sistem Operasi","Jaringan Dasar","Pemprograman Web","C2","C3","C3","C3","C3","C3","C3","C3","C3","C3","Bahasa dan Sastra Sunda","MULOK","MULOK"]
[null,null,"B","Baik dalam memahami, menerapkan, menganalisis dan mengevaluasi sebagian besar kompetensi dasar.","Pendidikan Pancasila dan Kewarganegaraan","Bahasa Indonesia","Matematika","Sejarah Indonesia","Bahasa Inggris","Seni Budaya","Prakarya dan Kewirausahaan","Pendidikan Jasmani, Olah Raga & Kesehatan","Fisika","Pemrograman Dasar","Sistem Komputer","Perakitan Komputer","Simulasi Digital","Sistem Operasi","Jaringan Dasar","Pemprograman Web","C2","C3","C3","C3","C3","C3","C3","C3","C3","C3","Bahasa dan Sastra Sunda","MULOK","MULOK"]
[null,null,"C","Cukup baik dalam memahami, mengetahui sebagian kompetensi dasar, tetapi kurang bisa menerapkan, menganalisis dan mengevaluasinya.","Pendidikan Pancasila dan Kewarganegaraan","Bahasa Indonesia","Matematika","Sejarah Indonesia","Bahasa Inggris","Seni Budaya","Prakarya dan Kewirausahaan","Pendidikan Jasmani, Olah Raga & Kesehatan","Fisika","Pemrograman Dasar","Sistem Komputer","Perakitan Komputer","Simulasi Digital","Sistem Operasi","Jaringan Dasar","Pemprograman Web","C2","C3","C3","C3","C3","C3","C3","C3","C3","C3","Bahasa dan Sastra Sunda","MULOK","MULOK"]
[null,null,"D","Kurang, hanya dapat memahami, menerapkan, menganalisis, dan mengeveluasi sebagian kecil kompetensi dasar.","Pendidikan Pancasila dan Kewarganegaraan","Bahasa Indonesia","Matematika","Sejarah Indonesia","Bahasa Inggris","Seni Budaya","Prakarya dan Kewirausahaan","Pendidikan Jasmani, Olah Raga & Kesehatan","Fisika","Pemrograman Dasar","Sistem Komputer","Perakitan Komputer","Simulasi Digital","Sistem Operasi","Jaringan Dasar","Pemprograman Web","C2","C3","C3","C3","C3","C3","C3","C3","C3","C3","Bahasa dan Sastra Sunda","MULOK","MULOK"]
[]
[null,"DESKRIPSI NILAI KETERAMPILAN","A","Sangat baik dan aktif bertanya, mencoba, menalar dan kreatif dalam menyelesaikan tugas praktek.","Pendidikan Pancasila dan Kewarganegaraan","Bahasa Indonesia","Matematika","Sejarah Indonesia","Bahasa Inggris","Seni Budaya","Prakarya dan Kewirausahaan","Pendidikan Jasmani, Olah Raga & Kesehatan","Fisika","Pemrograman Dasar","Sistem Komputer","Perakitan Komputer","Simulasi Digital","Sistem Operasi","Jaringan Dasar","Pemprograman Web","C2","C3","C3","C3","C3","C3","C3",null,null,null,"Bahasa dan Sastra Sunda","MULOK","MULOK"]
[null,null,"B","Baik dan aktif bertanya, mencoba, menalar dan kreatif dalam menyelesaikan sebagian besar tugas praktek.","Pendidikan Pancasila dan Kewarganegaraan","Bahasa Indonesia","Matematika","Sejarah Indonesia","Bahasa Inggris","Seni Budaya","Prakarya dan Kewirausahaan","Pendidikan Jasmani, Olah Raga & Kesehatan","Fisika","Pemrograman Dasar","Sistem Komputer","Perakitan Komputer","Simulasi Digital","Sistem Operasi","Jaringan Dasar","Pemprograman Web","C2","C3","C3","C3","C3","C3","C3",null,null,null,"Bahasa dan Sastra Sunda","MULOK","MULOK"]
[null,null,"C","Cukup aktif bertanya, mencoba, menalar dan kreatif dalam menyelesaikan tugas praktek","Pendidikan Pancasila dan Kewarganegaraan","Bahasa Indonesia","Matematika","Sejarah Indonesia","Bahasa Inggris","Seni Budaya","Prakarya dan Kewirausahaan","Pendidikan Jasmani, Olah Raga & Kesehatan","Fisika","Pemrograman Dasar","Sistem Komputer","Perakitan Komputer","Simulasi Digital","Sistem Operasi","Jaringan Dasar","Pemprograman Web","C2","C3","C3","C3","C3","C3","C3",null,null,null,"Bahasa dan Sastra Sunda","MULOK","MULOK"]
[null,null,"D","Kurang aktif bertanya, mencoba, menalar dan kreatif dalam menyelesaikan tugas praktek.","Pendidikan Pancasila dan Kewarganegaraan","Bahasa Indonesia","Matematika","Sejarah Indonesia","Bahasa Inggris","Seni Budaya","Prakarya dan Kewirausahaan","Pendidikan Jasmani, Olah Raga & Kesehatan","Fisika","Pemrograman Dasar","Sistem Komputer","Perakitan Komputer","Simulasi Digital","Sistem Operasi","Jaringan Dasar","Pemprograman Web","C2","C3","C3","C3","C3","C3","C3",null,null,null,"Bahasa dan Sastra Sunda","MULOK","MULOK"]
[]
[null,null,null,3.59]
[null,null,null,3.59]
[null,null,null,3.5]
[null,null,null,3.48]
[null,null,null,3.54]
[null,null,null,3.39]
[null,null,null,3.45]
[null,null,null,3.45]
[null,null,null,3.29]
[null,null,null,3.45]
[null,null,null,3.45]
[null,null,null,3.45]

{"sheet":"DESKSM4","index":9,"n_rows":26,"n_cols":33,"rows_kept":26,"cut":false,"hidden":false,"merged":[[0,0,0,1],[4,0,7,0],[4,1,7,1],[9,0,12,0],[9,1,12,1]]}
["DESKRIPSI KOMPETENSI",null,null,{"$f":"HLOOKUP(MENU!$I$8&\" \"&$B$2,DATABASE!$X$2:$CK$92,DATABASE!W3,FALSE)","v":"Pendidikan Agama dan Budi Pekerti"},{"$f":"HLOOKUP(MENU!$I$8&\" \"&$B$2,DATABASE!$X$2:$CK$92,DATABASE!W6,FALSE)","v":"Pendidikan Pancasila dan Kewarganegaraan"},{"$f":"HLOOKUP(MENU!$I$8&\" \"&$B$2,DATABASE!$X$2:$CK$92,DATABASE!W9,FALSE)","v":"Bahasa Indonesia"},{"$f":"HLOOKUP(MENU!$I$8&\" \"&$B$2,DATABASE!$X$2:$CK$92,DATABASE!W12,FALSE)","v":"Matematika"},{"$f":"HLOOKUP(MENU!$I$8&\" \"&$B$2,DATABASE!$X$2:$CK$92,DATABASE!W15,FALSE)","v":"-"},{"$f":"HLOOKUP(MENU!$I$8&\" \"&$B$2,DATABASE!$X$2:$CK$92,DATABASE!W18,FALSE)","v":"Bahasa Inggris"},{"$f":"HLOOKUP(MENU!$I$8&\" \"&$B$2,DATABASE!$X$2:$CK$92,DATABASE!W21,FALSE)","v":"-"},{"$f":"HLOOKUP(MENU!$I$8&\" \"&$B$2,DATABASE!$X$2:$CK$92,DATABASE!W24,FALSE)","v":"Pendidikan Jasmani, Olah Raga & Kesehatan"},{"$f":"HLOOKUP(MENU!$I$8&\" \"&$B$2,DATABASE!$X$2:$CK$92,DATABASE!W27,FALSE)","v":"-"},{"$f":"HLOOKUP(MENU!$I$8&\" \"&$B$2,DATABASE!$X$2:$CK$92,DATABASE!W30,FALSE)","v":"Bahasa Jepang"},{"$f":"HLOOKUP(MENU!$I$8&\" \"&$B$2,DATABASE!$X$2:$CK$92,DATABASE!W33,FALSE)","v":"-"},{"$f":"HLOOKUP(MENU!$I$8&\" \"&$B$2,DATABASE!$X$2:$CK$92,DATABASE!W36,FALSE)","v":"-"},{"$f":"HLOOKUP(MENU!$I$8&\" \"&$B$2,DATABASE!$X$2:$CK$92,DATABASE!W39,FALSE)","v":"-"},{"$f":"HLOOKUP(MENU!$I$8&\" \"&$B$2,DATABASE!$X$2:$CK$92,DATABASE!W42,FALSE)","v":"-"},{"$f":"HLOOKUP(MENU!$I$8&\" \"&$B$2,DATABASE!$X$2:$CK$92,DATABASE!W45,FALSE)","v":"-"},{"$f":"HLOOKUP(MENU!$I$8&\" \"&$B$2,DATABASE!$X$2:$CK$92,DATABASE!W48,FALSE)","v":"-"},{"$f":"HLOOKUP(MENU!$I$8&\" \"&$B$2,DATABASE!$X$2:$CK$92,DATABASE!W51,FALSE)","v":"-"},{"$f":"HLOOKUP(MENU!$I$8&\" \"&$B$2,DATABASE!$X$2:$CK$92,DATABASE!W54,FALSE)","v":"Administrasi Infrastruktur Jaringan"},{"$f":"HLOOKUP(MENU!$I$8&\" \"&$B$2,DATABASE!$X$2:$CK$92,DATABASE!W57,FALSE)","v":"Administrasi Sistem Jaringan"},{"$f":"HLOOKUP(MENU!$I$8&\" \"&$B$2,DATABASE!$X$2:$CK$92,DATABASE!W60,FALSE)","v":"Teknologi Layanan Jaringan"},{"$f":"HLOOKUP(MENU!$I$8&\" \"&$B$2,DATABASE!$X$2:$CK$92,DATABASE!W63,FALSE)","v":"-"},{"$f":"HLOOKUP(MENU!$I$8&\" \"&$B$2,DATABASE!$X$2:$CK$92,DATABASE!W66,FALSE)","v":"-"},{"$f":"HLOOKUP(MENU!$I$8&\" \"&$B$2,DATABASE!$X$2:$CK$92,DATABASE!W69,FALSE)","v":"Produk Kreatif dan Kewirausahaan "},{"$f":"HLOOKUP(MENU!$I$8&\" \"&$B$2,DATABASE!$X$2:$CK$92,DATABASE!W72,FALSE)","v":"-"},{"$f":"HLOOKUP(MENU!$I$8&\" \"&$B$2,DATABASE!$X$2:$CK$92,DATABASE!W75,FALSE)","v":"-"},{"$f":"HLOOKUP(MENU!$I$8&\" \"&$B$2,DATABASE!$X$2:$CK$92,DATABASE!W78,FALSE)","v":"-"},{"$f":"HLOOKUP(MENU!$I$8&\" \"&$B$2,DATABASE!$X$2:$CK$92,DATABASE!W81,FALSE)","v":"-"},{"$f":"HLOOKUP(MENU!$I$8&\" \"&$B$2,DATABASE!$X$2:$CK$92,DATABASE!W84,FALSE)","v":"-"},{"$f":"HLOOKUP(MENU!$I$8&\" \"&$B$2,DATABASE!$X$2:$CK$92,DATABASE!W87,FALSE)","v":"-"},{"$f":"HLOOKUP(MENU!$I$8&\" \"&$B$2,DATABASE!$X$2:$CK$92,DATABASE!W90,FALSE)","v":"-"}]
["Semester  :","4 (empat)","KEL. MAPEL","A","A","A","A","A","A","B","B","B","C1","C1","C1","C2","C2","C2","C2","C2","C2","C3","C3","C3","C3","C3","C3","C3","C3","C3","MULOK","MULOK","MULOK"]
[null,null,1,2,3,4,5,6,7,8,9,10,11,12,13,14,15,16,17,18,19,20,21,22,23,24,25,26,27,28,29,30,31]
[null,null,"PREDIKAT","DESKRIPSI","DESKRIPSI","DESKRIPSI","DESKRIPSI","DESKRIPSI","DESKRIPSI","DESKRIPSI","DESKRIPSI","DESKRIPSI","DESKRIPSI","DESKRIPSI","DESKRIPSI","DESKRIPSI","DESKRIPSI","DESKRIPSI","DESKRIPSI","DESKRIPSI","DESKRIPSI","DESKRIPSI","DESKRIPSI","DESKRIPSI","DESKRIPSI","DESKRIPSI","DESKRIPSI","DESKRIPSI","DESKRIPSI","DESKRIPSI","DESKRIPSI","DESKRIPSI","DESKRIPSI"]
[null,"DESKRIPSI NILAI PENGETAHUAN","A","Sangat baik dalam memahami, menerapkan, menganalisis dan mengevaluasi semua kompetensi dasar.","Pendidikan Pancasila dan Kewarganegaraan","Bahasa Indonesia","Matematika","Sejarah Indonesia","Bahasa Inggris","Seni Budaya","Prakarya dan Kewirausahaan","Pendidikan Jasmani, Olah Raga & Kesehatan","Fisika","Pemrograman Dasar","Sistem Komputer","Perakitan Komputer","Simulasi Digital","Sistem Operasi","Jaringan Dasar","Pemprograman Web","C2","C3","C3","C3","C3","C3","C3","C3","C3","C3","Bahasa dan Sastra Sunda","MULOK","MULOK"]
[null,null,"B","Baik dalam memahami, menerapkan, menganalisis dan mengevaluasi sebagian besar kompetensi dasar.","Pendidikan Pancasila dan Kewarganegaraan","Bahasa Indonesia","Matematika","Sejarah Indonesia","Bahasa Inggris","Seni Budaya","Prakarya dan Kewirausahaan","Pendidikan Jasmani, Olah Raga & Kesehatan","Fisika","Pemrograman Dasar","Sistem Komputer","Perakitan Komputer","Simulasi Digital","Sistem Operasi","Jaringan Dasar","Pemprograman Web","C2","C3","C3","C3","C3","C3","C3","C3","C3","C3","Bahasa dan Sastra Sunda","MULOK","MULOK"]
[null,null,"C","Cukup baik dalam memahami, mengetahui sebagian kompetensi dasar, tetapi kurang bisa menerapkan, menganalisis dan mengevaluasinya.","Pendidikan Pancasila dan Kewarganegaraan","Bahasa Indonesia","Matematika","Sejarah Indonesia","Bahasa Inggris","Seni Budaya","Prakarya dan Kewirausahaan","Pendidikan Jasmani, Olah Raga & Kesehatan","Fisika","Pemrograman Dasar","Sistem Komputer","Perakitan Komputer","Simulasi Digital","Sistem Operasi","Jaringan Dasar","Pemprograman Web","C2","C3","C3","C3","C3","C3","C3","C3","C3","C3","Bahasa dan Sastra Sunda","MULOK","MULOK"]
[null,null,"D","Kurang, hanya dapat memahami, menerapkan, menganalisis, dan mengeveluasi sebagian kecil kompetensi dasar.","Pendidikan Pancasila dan Kewarganegaraan","Bahasa Indonesia","Matematika","Sejarah Indonesia","Bahasa Inggris","Seni Budaya","Prakarya dan Kewirausahaan","Pendidikan Jasmani, Olah Raga & Kesehatan","Fisika","Pemrograman Dasar","Sistem Komputer","Perakitan Komputer","Simulasi Digital","Sistem Operasi","Jaringan Dasar","Pemprograman Web","C2","C3","C3","C3","C3","C3","C3","C3","C3","C3","Bahasa dan Sastra Sunda","MULOK","MULOK"]
[]
[null,"DESKRIPSI NILAI KETERAMPILAN","A","Sangat baik dan aktif bertanya, mencoba, menalar dan kreatif dalam menyelesaikan tugas praktek.","Pendidikan Pancasila dan Kewarganegaraan","Bahasa Indonesia","Matematika","Sejarah Indonesia","Bahasa Inggris","Seni Budaya","Prakarya dan Kewirausahaan","Pendidikan Jasmani, Olah Raga & Kesehatan","Fisika","Pemrograman Dasar","Sistem Komputer","Perakitan Komputer","Simulasi Digital","Sistem Operasi","Jaringan Dasar","Pemprograman Web","C2","C3","C3","C3","C3","C3","C3",null,null,null,"Bahasa dan Sastra Sunda","MULOK","MULOK"]
[null,null,"B","Baik dan aktif bertanya, mencoba, menalar dan kreatif dalam menyelesaikan sebagian besar tugas praktek.","Pendidikan Pancasila dan Kewarganegaraan","Bahasa Indonesia","Matematika","Sejarah Indonesia","Bahasa Inggris","Seni Budaya","Prakarya dan Kewirausahaan","Pendidikan Jasmani, Olah Raga & Kesehatan","Fisika","Pemrograman Dasar","Sistem Komputer","Perakitan Komputer","Simulasi Digital","Sistem Operasi","Jaringan Dasar","Pemprograman Web","C2","C3","C3","C3","C3","C3","C3",null,null,null,"Bahasa dan Sastra Sunda","MULOK","MULOK"]
[null,null,"C","Cukup aktif bertanya, mencoba, menalar dan kreatif dalam menyelesaikan tugas praktek","Pendidikan Pancasila dan Kewarganegaraan","Bahasa Indonesia","Matematika","Sejarah Indonesia","Bahasa Inggris","Seni Budaya","Prakarya dan Kewirausahaan","Pendidikan Jasmani, Olah Raga & Kesehatan","Fisika","Pemrograman Dasar","Sistem Komputer","Perakitan Komputer","Simulasi Digital","Sistem Operasi","Jaringan Dasar","Pemprograman Web","C2","C3","C3","C3","C3","C3","C3",null,null,null,"Bahasa dan Sastra Sunda","MULOK","MULOK"]
[null,null,"D","Kurang aktif bertanya, mencoba, menalar dan kreatif dalam menyelesaikan tugas praktek.","Pendidikan Pancasila dan Kewarganegaraan","Bahasa Indonesia","Matematika","Sejarah Indonesia","Bahasa Inggris","Seni Budaya","Prakarya dan Kewirausahaan","Pendidikan Jasmani, Olah Raga & Kesehatan","Fisika","Pemrograman Dasar","Sistem Komputer","Perakitan Komputer","Simulasi Digital","Sistem Operasi","Jaringan Dasar","Pemprograman Web","C2","C3","C3","C3","C3","C3","C3",null,null,null,"Bahasa dan Sastra Sunda","MULOK","MULOK"]
[]
[null,null,null,3.59]
[null,null,null,3.59]
[null,null,null,3.5]
[null,null,null,3.48]
[null,null,null,3.54]
[null,null,null,3.39]
[null,null,null,3.45]
[null,null,null,3.45]
[null,null,null,3.29]
[null,null,null,3.45]
[null,null,null,3.45]
[null,null,null,3.45]

{"sheet":"DESKSM5","index":10,"n_rows":26,"n_cols":33,"rows_kept":26,"cut":false,"hidden":false,"merged":[[0,0,0,1],[4,0,7,0],[4,1,7,1],[9,0,12,0],[9,1,12,1]]}
["DESKRIPSI KOMPETENSI",null,null,{"$f":"HLOOKUP(MENU!$I$8&\" \"&$B$2,DATABASE!$X$2:$CK$92,DATABASE!W3,FALSE)","v":"Pendidikan Agama dan Budi Pekerti"},{"$f":"HLOOKUP(MENU!$I$8&\" \"&$B$2,DATABASE!$X$2:$CK$92,DATABASE!W6,FALSE)","v":"Pendidikan Pancasila dan Kewarganegaraan"},{"$f":"HLOOKUP(MENU!$I$8&\" \"&$B$2,DATABASE!$X$2:$CK$92,DATABASE!W9,FALSE)","v":"Bahasa Indonesia"},{"$f":"HLOOKUP(MENU!$I$8&\" \"&$B$2,DATABASE!$X$2:$CK$92,DATABASE!W12,FALSE)","v":"Matematika"},{"$f":"HLOOKUP(MENU!$I$8&\" \"&$B$2,DATABASE!$X$2:$CK$92,DATABASE!W15,FALSE)","v":"-"},{"$f":"HLOOKUP(MENU!$I$8&\" \"&$B$2,DATABASE!$X$2:$CK$92,DATABASE!W18,FALSE)","v":"Bahasa Inggris"},{"$f":"HLOOKUP(MENU!$I$8&\" \"&$B$2,DATABASE!$X$2:$CK$92,DATABASE!W21,FALSE)","v":"-"},{"$f":"HLOOKUP(MENU!$I$8&\" \"&$B$2,DATABASE!$X$2:$CK$92,DATABASE!W24,FALSE)","v":"-"},{"$f":"HLOOKUP(MENU!$I$8&\" \"&$B$2,DATABASE!$X$2:$CK$92,DATABASE!W27,FALSE)","v":"-"},{"$f":"HLOOKUP(MENU!$I$8&\" \"&$B$2,DATABASE!$X$2:$CK$92,DATABASE!W30,FALSE)","v":"Bahasa Jepang"},{"$f":"HLOOKUP(MENU!$I$8&\" \"&$B$2,DATABASE!$X$2:$CK$92,DATABASE!W33,FALSE)","v":"-"},{"$f":"HLOOKUP(MENU!$I$8&\" \"&$B$2,DATABASE!$X$2:$CK$92,DATABASE!W36,FALSE)","v":"-"},{"$f":"HLOOKUP(MENU!$I$8&\" \"&$B$2,DATABASE!$X$2:$CK$92,DATABASE!W39,FALSE)","v":"-"},{"$f":"HLOOKUP(MENU!$I$8&\" \"&$B$2,DATABASE!$X$2:$CK$92,DATABASE!W42,FALSE)","v":"-"},{"$f":"HLOOKUP(MENU!$I$8&\" \"&$B$2,DATABASE!$X$2:$CK$92,DATABASE!W45,FALSE)","v":"-"},{"$f":"HLOOKUP(MENU!$I$8&\" \"&$B$2,DATABASE!$X$2:$CK$92,DATABASE!W48,FALSE)","v":"-"},{"$f":"HLOOKUP(MENU!$I$8&\" \"&$B$2,DATABASE!$X$2:$CK$92,DATABASE!W51,FALSE)","v":"-"},{"$f":"HLOOKUP(MENU!$I$8&\" \"&$B$2,DATABASE!$X$2:$CK$92,DATABASE!W54,FALSE)","v":"Administrasi Infrastruktur Jaringan"},{"$f":"HLOOKUP(MENU!$I$8&\" \"&$B$2,DATABASE!$X$2:$CK$92,DATABASE!W57,FALSE)","v":"Administrasi Sistem Jaringan"},{"$f":"HLOOKUP(MENU!$I$8&\" \"&$B$2,DATABASE!$X$2:$CK$92,DATABASE!W60,FALSE)","v":"Teknologi Layanan Jaringan"},{"$f":"HLOOKUP(MENU!$I$8&\" \"&$B$2,DATABASE!$X$2:$CK$92,DATABASE!W63,FALSE)","v":"-"},{"$f":"HLOOKUP(MENU!$I$8&\" \"&$B$2,DATABASE!$X$2:$CK$92,DATABASE!W66,FALSE)","v":"-"},{"$f":"HLOOKUP(MENU!$I$8&\" \"&$B$2,DATABASE!$X$2:$CK$92,DATABASE!W69,FALSE)","v":"Produk Kreatif dan Kewirausahaan "},{"$f":"HLOOKUP(MENU!$I$8&\" \"&$B$2,DATABASE!$X$2:$CK$92,DATABASE!W72,FALSE)","v":"-"},{"$f":"HLOOKUP(MENU!$I$8&\" \"&$B$2,DATABASE!$X$2:$CK$92,DATABASE!W75,FALSE)","v":"-"},{"$f":"HLOOKUP(MENU!$I$8&\" \"&$B$2,DATABASE!$X$2:$CK$92,DATABASE!W78,FALSE)","v":"-"},{"$f":"HLOOKUP(MENU!$I$8&\" \"&$B$2,DATABASE!$X$2:$CK$92,DATABASE!W81,FALSE)","v":"-"},{"$f":"HLOOKUP(MENU!$I$8&\" \"&$B$2,DATABASE!$X$2:$CK$92,DATABASE!W84,FALSE)","v":"-"},{"$f":"HLOOKUP(MENU!$I$8&\" \"&$B$2,DATABASE!$X$2:$CK$92,DATABASE!W87,FALSE)","v":"-"},{"$f":"HLOOKUP(MENU!$I$8&\" \"&$B$2,DATABASE!$X$2:$CK$92,DATABASE!W90,FALSE)","v":"-"}]
["Semester  :","5 (lima)","KEL. MAPEL","A","A","A","A","A","A","B","B","B","C1","C1","C1","C2","C2","C2","C2","C2","C2","C3","C3","C3","C3","C3","C3","C3","C3","C3","MULOK","MULOK","MULOK"]
[null,null,1,2,3,4,5,6,7,8,9,10,11,12,13,14,15,16,17,18,19,20,21,22,23,24,25,26,27,28,29,30,31]
[null,null,"PREDIKAT","DESKRIPSI","DESKRIPSI","DESKRIPSI","DESKRIPSI","DESKRIPSI","DESKRIPSI","DESKRIPSI","DESKRIPSI","DESKRIPSI","DESKRIPSI","DESKRIPSI","DESKRIPSI","DESKRIPSI","DESKRIPSI","DESKRIPSI","DESKRIPSI","DESKRIPSI","DESKRIPSI","DESKRIPSI","DESKRIPSI","DESKRIPSI","DESKRIPSI","DESKRIPSI","DESKRIPSI","DESKRIPSI","DESKRIPSI","DESKRIPSI","DESKRIPSI","DESKRIPSI","DESKRIPSI"]
[null,"DESKRIPSI NILAI PENGETAHUAN","A","Sangat baik dalam memahami, menerapkan, menganalisis dan mengevaluasi semua kompetensi dasar.","Pendidikan Pancasila dan Kewarganegaraan","Bahasa Indonesia","Matematika","Sejarah Indonesia","Bahasa Inggris","Seni Budaya","Prakarya dan Kewirausahaan","Pendidikan Jasmani, Olah Raga & Kesehatan","Fisika","Pemrograman Dasar","Sistem Komputer","Perakitan Komputer","Simulasi Digital","Sistem Operasi","Jaringan Dasar","Pemprograman Web","C2","C3","C3","C3","C3","C3","C3","C3","C3","C3","Bahasa dan Sastra Sunda","MULOK","MULOK"]
[null,null,"B","Baik dalam memahami, menerapkan, menganalisis dan mengevaluasi sebagian besar kompetensi dasar.","Pendidikan Pancasila dan Kewarganegaraan","Bahasa Indonesia","Matematika","Sejarah Indonesia","Bahasa Inggris","Seni Budaya","Prakarya dan Kewirausahaan","Pendidikan Jasmani, Olah Raga & Kesehatan","Fisika","Pemrograman Dasar","Sistem Komputer","Perakitan Komputer","Simulasi Digital","Sistem Operasi","Jaringan Dasar","Pemprograman Web","C2","C3","C3","C3","C3","C3","C3","C3","C3","C3","Bahasa dan Sastra Sunda","MULOK","MULOK"]
[null,null,"C","Cukup baik dalam memahami, mengetahui sebagian kompetensi dasar, tetapi kurang bisa menerapkan, menganalisis dan mengevaluasinya.","Pendidikan Pancasila dan Kewarganegaraan","Bahasa Indonesia","Matematika","Sejarah Indonesia","Bahasa Inggris","Seni Budaya","Prakarya dan Kewirausahaan","Pendidikan Jasmani, Olah Raga & Kesehatan","Fisika","Pemrograman Dasar","Sistem Komputer","Perakitan Komputer","Simulasi Digital","Sistem Operasi","Jaringan Dasar","Pemprograman Web","C2","C3","C3","C3","C3","C3","C3","C3","C3","C3","Bahasa dan Sastra Sunda","MULOK","MULOK"]
[null,null,"D","Kurang, hanya dapat memahami, menerapkan, menganalisis, dan mengeveluasi sebagian kecil kompetensi dasar.","Pendidikan Pancasila dan Kewarganegaraan","Bahasa Indonesia","Matematika","Sejarah Indonesia","Bahasa Inggris","Seni Budaya","Prakarya dan Kewirausahaan","Pendidikan Jasmani, Olah Raga & Kesehatan","Fisika","Pemrograman Dasar","Sistem Komputer","Perakitan Komputer","Simulasi Digital","Sistem Operasi","Jaringan Dasar","Pemprograman Web","C2","C3","C3","C3","C3","C3","C3","C3","C3","C3","Bahasa dan Sastra Sunda","MULOK","MULOK"]
[]
[null,"DESKRIPSI NILAI KETERAMPILAN","A","Sangat baik dan aktif bertanya, mencoba, menalar dan kreatif dalam menyelesaikan tugas praktek.","Pendidikan Pancasila dan Kewarganegaraan","Bahasa Indonesia","Matematika","Sejarah Indonesia","Bahasa Inggris","Seni Budaya","Prakarya dan Kewirausahaan","Pendidikan Jasmani, Olah Raga & Kesehatan","Fisika","Pemrograman Dasar","Sistem Komputer","Perakitan Komputer","Simulasi Digital","Sistem Operasi","Jaringan Dasar","Pemprograman Web","C2","C3","C3","C3","C3","C3","C3",null,null,null,"Bahasa dan Sastra Sunda","MULOK","MULOK"]
[null,null,"B","Baik dan aktif bertanya, mencoba, menalar dan kreatif dalam menyelesaikan sebagian besar tugas praktek.","Pendidikan Pancasila dan Kewarganegaraan","Bahasa Indonesia","Matematika","Sejarah Indonesia","Bahasa Inggris","Seni Budaya","Prakarya dan Kewirausahaan","Pendidikan Jasmani, Olah Raga & Kesehatan","Fisika","Pemrograman Dasar","Sistem Komputer","Perakitan Komputer","Simulasi Digital","Sistem Operasi","Jaringan Dasar","Pemprograman Web","C2","C3","C3","C3","C3","C3","C3",null,null,null,"Bahasa dan Sastra Sunda","MULOK","MULOK"]
[null,null,"C","Cukup aktif bertanya, mencoba, menalar dan kreatif dalam menyelesaikan tugas praktek","Pendidikan Pancasila dan Kewarganegaraan","Bahasa Indonesia","Matematika","Sejarah Indonesia","Bahasa Inggris","Seni Budaya","Prakarya dan Kewirausahaan","Pendidikan Jasmani, Olah Raga & Kesehatan","Fisika","Pemrograman Dasar","Sistem Komputer","Perakitan Komputer","Simulasi Digital","Sistem Operasi","Jaringan Dasar","Pemprograman Web","C2","C3","C3","C3","C3","C3","C3",null,null,null,"Bahasa dan Sastra Sunda","MULOK","MULOK"]
[null,null,"D","Kurang aktif bertanya, mencoba, menalar dan kreatif dalam menyelesaikan tugas praktek.","Pendidikan Pancasila dan Kewarganegaraan","Bahasa Indonesia","Matematika","Sejarah Indonesia","Bahasa Inggris","Seni Budaya","Prakarya dan Kewirausahaan","Pendidikan Jasmani, Olah Raga & Kesehatan","Fisika","Pemrograman Dasar","Sistem Komputer","Perakitan Komputer","Simulasi Digital","Sistem Operasi","Jaringan Dasar","Pemprograman Web","C2","C3","C3","C3","C3","C3","C3",null,null,null,"Bahasa dan Sastra Sunda","MULOK","MULOK"]
[]
[null,null,null,3.59]
[null,null,null,3.59]
[null,null,null,3.5]
[null,null,null,3.48]
[null,null,null,3.54]
[null,null,null,3.39]
[null,null,null,3.45]
[null,null,null,3.45]
[null,null,null,3.29]
[null,null,null,3.45]
[null,null,null,3.45]
[null,null,null,3.45]

{"sheet":"DESKSM6","index":11,"n_rows":26,"n_cols":33,"rows_kept":26,"cut":false,"hidden":false,"merged":[[0,0,0,1],[4,0,7,0],[4,1,7,1],[9,0,12,0],[9,1,12,1]]}
["DESKRIPSI KOMPETENSI",null,null,{"$f":"HLOOKUP(MENU!$I$8&\" \"&$B$2,DATABASE!$X$2:$CK$92,DATABASE!W3,FALSE)","v":"Pendidikan Agama dan Budi Pekerti"},{"$f":"HLOOKUP(MENU!$I$8&\" \"&$B$2,DATABASE!$X$2:$CK$92,DATABASE!W6,FALSE)","v":"Pendidikan Pancasila dan Kewarganegaraan"},{"$f":"HLOOKUP(MENU!$I$8&\" \"&$B$2,DATABASE!$X$2:$CK$92,DATABASE!W9,FALSE)","v":"Bahasa Indonesia"},{"$f":"HLOOKUP(MENU!$I$8&\" \"&$B$2,DATABASE!$X$2:$CK$92,DATABASE!W12,FALSE)","v":"Matematika"},{"$f":"HLOOKUP(MENU!$I$8&\" \"&$B$2,DATABASE!$X$2:$CK$92,DATABASE!W15,FALSE)","v":"-"},{"$f":"HLOOKUP(MENU!$I$8&\" \"&$B$2,DATABASE!$X$2:$CK$92,DATABASE!W18,FALSE)","v":"Bahasa Inggris"},{"$f":"HLOOKUP(MENU!$I$8&\" \"&$B$2,DATABASE!$X$2:$CK$92,DATABASE!W21,FALSE)","v":"-"},{"$f":"HLOOKUP(MENU!$I$8&\" \"&$B$2,DATABASE!$X$2:$CK$92,DATABASE!W24,FALSE)","v":"-"},{"$f":"HLOOKUP(MENU!$I$8&\" \"&$B$2,DATABASE!$X$2:$CK$92,DATABASE!W27,FALSE)","v":"-"},{"$f":"HLOOKUP(MENU!$I$8&\" \"&$B$2,DATABASE!$X$2:$CK$92,DATABASE!W30,FALSE)","v":"Bahasa Jepang"},{"$f":"HLOOKUP(MENU!$I$8&\" \"&$B$2,DATABASE!$X$2:$CK$92,DATABASE!W33,FALSE)","v":"-"},{"$f":"HLOOKUP(MENU!$I$8&\" \"&$B$2,DATABASE!$X$2:$CK$92,DATABASE!W36,FALSE)","v":"-"},{"$f":"HLOOKUP(MENU!$I$8&\" \"&$B$2,DATABASE!$X$2:$CK$92,DATABASE!W39,FALSE)","v":"-"},{"$f":"HLOOKUP(MENU!$I$8&\" \"&$B$2,DATABASE!$X$2:$CK$92,DATABASE!W42,FALSE)","v":"-"},{"$f":"HLOOKUP(MENU!$I$8&\" \"&$B$2,DATABASE!$X$2:$CK$92,DATABASE!W45,FALSE)","v":"-"},{"$f":"HLOOKUP(MENU!$I$8&\" \"&$B$2,DATABASE!$X$2:$CK$92,DATABASE!W48,FALSE)","v":"-"},{"$f":"HLOOKUP(MENU!$I$8&\" \"&$B$2,DATABASE!$X$2:$CK$92,DATABASE!W51,FALSE)","v":"-"},{"$f":"HLOOKUP(MENU!$I$8&\" \"&$B$2,DATABASE!$X$2:$CK$92,DATABASE!W54,FALSE)","v":"Administrasi Infrastruktur Jaringan"},{"$f":"HLOOKUP(MENU!$I$8&\" \"&$B$2,DATABASE!$X$2:$CK$92,DATABASE!W57,FALSE)","v":"Administrasi Sistem Jaringan"},{"$f":"HLOOKUP(MENU!$I$8&\" \"&$B$2,DATABASE!$X$2:$CK$92,DATABASE!W60,FALSE)","v":"Teknologi Layanan Jaringan"},{"$f":"HLOOKUP(MENU!$I$8&\" \"&$B$2,DATABASE!$X$2:$CK$92,DATABASE!W63,FALSE)","v":"-"},{"$f":"HLOOKUP(MENU!$I$8&\" \"&$B$2,DATABASE!$X$2:$CK$92,DATABASE!W66,FALSE)","v":"-"},{"$f":"HLOOKUP(MENU!$I$8&\" \"&$B$2,DATABASE!$X$2:$CK$92,DATABASE!W69,FALSE)","v":"Produk Kreatif dan Kewirausahaan "},{"$f":"HLOOKUP(MENU!$I$8&\" \"&$B$2,DATABASE!$X$2:$CK$92,DATABASE!W72,FALSE)","v":"-"},{"$f":"HLOOKUP(MENU!$I$8&\" \"&$B$2,DATABASE!$X$2:$CK$92,DATABASE!W75,FALSE)","v":"-"},{"$f":"HLOOKUP(MENU!$I$8&\" \"&$B$2,DATABASE!$X$2:$CK$92,DATABASE!W78,FALSE)","v":"-"},{"$f":"HLOOKUP(MENU!$I$8&\" \"&$B$2,DATABASE!$X$2:$CK$92,DATABASE!W81,FALSE)","v":"-"},{"$f":"HLOOKUP(MENU!$I$8&\" \"&$B$2,DATABASE!$X$2:$CK$92,DATABASE!W84,FALSE)","v":"-"},{"$f":"HLOOKUP(MENU!$I$8&\" \"&$B$2,DATABASE!$X$2:$CK$92,DATABASE!W87,FALSE)","v":"-"},{"$f":"HLOOKUP(MENU!$I$8&\" \"&$B$2,DATABASE!$X$2:$CK$92,DATABASE!W90,FALSE)","v":"-"}]
["Semester  :","6 (enam)","KEL. MAPEL","A","A","A","A","A","A","B","B","B","C1","C1","C1","C2","C2","C2","C2","C2","C2","C3","C3","C3","C3","C3","C3","C3","C3","C3","MULOK","MULOK","MULOK"]
[null,null,1,2,3,4,5,6,7,8,9,10,11,12,13,14,15,16,17,18,19,20,21,22,23,24,25,26,27,28,29,30,31]
[null,null,"PREDIKAT","DESKRIPSI","DESKRIPSI","DESKRIPSI","DESKRIPSI","DESKRIPSI","DESKRIPSI","DESKRIPSI","DESKRIPSI","DESKRIPSI","DESKRIPSI","DESKRIPSI","DESKRIPSI","DESKRIPSI","DESKRIPSI","DESKRIPSI","DESKRIPSI","DESKRIPSI","DESKRIPSI","DESKRIPSI","DESKRIPSI","DESKRIPSI","DESKRIPSI","DESKRIPSI","DESKRIPSI","DESKRIPSI","DESKRIPSI","DESKRIPSI","DESKRIPSI","DESKRIPSI","DESKRIPSI"]
[null,"DESKRIPSI NILAI PENGETAHUAN","A","Sangat baik dalam memahami, menerapkan, menganalisis dan mengevaluasi semua kompetensi dasar.","Pendidikan Pancasila dan Kewarganegaraan","Bahasa Indonesia","Matematika","Sejarah Indonesia","Bahasa Inggris","Seni Budaya","Prakarya dan Kewirausahaan","Pendidikan Jasmani, Olah Raga & Kesehatan","Fisika","Pemrograman Dasar","Sistem Komputer","Perakitan Komputer","Simulasi Digital","Sistem Operasi","Jaringan Dasar","Pemprograman Web","C2","C3","C3","C3","C3","C3","C3","C3","C3","C3","Bahasa dan Sastra Sunda","MULOK","MULOK"]
[null,null,"B","Baik dalam memahami, menerapkan, menganalisis dan mengevaluasi sebagian besar kompetensi dasar.","Pendidikan Pancasila dan Kewarganegaraan","Bahasa Indonesia","Matematika","Sejarah Indonesia","Bahasa Inggris","Seni Budaya","Prakarya dan Kewirausahaan","Pendidikan Jasmani, Olah Raga & Kesehatan","Fisika","Pemrograman Dasar","Sistem Komputer","Perakitan Komputer","Simulasi Digital","Sistem Operasi","Jaringan Dasar","Pemprograman Web","C2","C3","C3","C3","C3","C3","C3","C3","C3","C3","Bahasa dan Sastra Sunda","MULOK","MULOK"]
[null,null,"C","Cukup baik dalam memahami, mengetahui sebagian kompetensi dasar, tetapi kurang bisa menerapkan, menganalisis dan mengevaluasinya.","Pendidikan Pancasila dan Kewarganegaraan","Bahasa Indonesia","Matematika","Sejarah Indonesia","Bahasa Inggris","Seni Budaya","Prakarya dan Kewirausahaan","Pendidikan Jasmani, Olah Raga & Kesehatan","Fisika","Pemrograman Dasar","Sistem Komputer","Perakitan Komputer","Simulasi Digital","Sistem Operasi","Jaringan Dasar","Pemprograman Web","C2","C3","C3","C3","C3","C3","C3","C3","C3","C3","Bahasa dan Sastra Sunda","MULOK","MULOK"]
[null,null,"D","Kurang, hanya dapat memahami, menerapkan, menganalisis, dan mengeveluasi sebagian kecil kompetensi dasar.","Pendidikan Pancasila dan Kewarganegaraan","Bahasa Indonesia","Matematika","Sejarah Indonesia","Bahasa Inggris","Seni Budaya","Prakarya dan Kewirausahaan","Pendidikan Jasmani, Olah Raga & Kesehatan","Fisika","Pemrograman Dasar","Sistem Komputer","Perakitan Komputer","Simulasi Digital","Sistem Operasi","Jaringan Dasar","Pemprograman Web","C2","C3","C3","C3","C3","C3","C3","C3","C3","C3","Bahasa dan Sastra Sunda","MULOK","MULOK"]
[]
[null,"DESKRIPSI NILAI KETERAMPILAN","A","Sangat baik dan aktif bertanya, mencoba, menalar dan kreatif dalam menyelesaikan tugas praktek.","Pendidikan Pancasila dan Kewarganegaraan","Bahasa Indonesia","Matematika","Sejarah Indonesia","Bahasa Inggris","Seni Budaya","Prakarya dan Kewirausahaan","Pendidikan Jasmani, Olah Raga & Kesehatan","Fisika","Pemrograman Dasar","Sistem Komputer","Perakitan Komputer","Simulasi Digital","Sistem Operasi","Jaringan Dasar","Pemprograman Web","C2","C3","C3","C3","C3","C3","C3",null,null,null,"Bahasa dan Sastra Sunda","MULOK","MULOK"]
[null,null,"B","Baik dan aktif bertanya, mencoba, menalar dan kreatif dalam menyelesaikan sebagian besar tugas praktek.","Pendidikan Pancasila dan Kewarganegaraan","Bahasa Indonesia","Matematika","Sejarah Indonesia","Bahasa Inggris","Seni Budaya","Prakarya dan Kewirausahaan","Pendidikan Jasmani, Olah Raga & Kesehatan","Fisika","Pemrograman Dasar","Sistem Komputer","Perakitan Komputer","Simulasi Digital","Sistem Operasi","Jaringan Dasar","Pemprograman Web","C2","C3","C3","C3","C3","C3","C3",null,null,null,"Bahasa dan Sastra Sunda","MULOK","MULOK"]
[null,null,"C","Cukup aktif bertanya, mencoba, menalar dan kreatif dalam menyelesaikan tugas praktek","Pendidikan Pancasila dan Kewarganegaraan","Bahasa Indonesia","Matematika","Sejarah Indonesia","Bahasa Inggris","Seni Budaya","Prakarya dan Kewirausahaan","Pendidikan Jasmani, Olah Raga & Kesehatan","Fisika","Pemrograman Dasar","Sistem Komputer","Perakitan Komputer","Simulasi Digital","Sistem Operasi","Jaringan Dasar","Pemprograman Web","C2","C3","C3","C3","C3","C3","C3",null,null,null,"Bahasa dan Sastra Sunda","MULOK","MULOK"]
[null,null,"D","Kurang aktif bertanya, mencoba, menalar dan kreatif dalam menyelesaikan tugas praktek.","Pendidikan Pancasila dan Kewarganegaraan","Bahasa Indonesia","Matematika","Sejarah Indonesia","Bahasa Inggris","Seni Budaya","Prakarya dan Kewirausahaan","Pendidikan Jasmani, Olah Raga & Kesehatan","Fisika","Pemrograman Dasar","Sistem Komputer","Perakitan Komputer","Simulasi Digital","Sistem Operasi","Jaringan Dasar","Pemprograman Web","C2","C3","C3","C3","C3","C3","C3",null,null,null,"Bahasa dan Sastra Sunda","MULOK","MULOK"]
[]
[null,null,null,3.59]
[null,null,null,3.59]
[null,null,null,3.5]
[null,null,null,3.48]
[null,null,null,3.54]
[null,null,null,3.39]
[null,null,null,3.45]
[null,null,null,3.45]
[null,null,null,3.29]
[null,null,null,3.45]
[null,null,null,3.45]
[null,null,null,3.45]

{"sheet":"LEGGER1","index":12,"n_rows":63,"n_cols":28,"rows_kept":63,"cut":false,"hidden":false,"merged":[[5,26,5,27],[8,26,9,26],[0,0,0,21],[1,0,1,21],[2,0,2,21],[3,0,3,21],[5,0,5,21],[8,27,9,27],[16,0,19,0],[16,1,19,2],[16,3,19,11],[17,13,19,16],[13,1,13,2],[13,3,13,11],[13,13,13,16],[17,17,19,17],[14,0,15,0],[14,1,15,2],[14,3,15,11],[14,13,16,16],[14,17,16,17],[12,26,12,27],[13,26,14,26],[13,27,14,27],[25,1,25,4],[25,8,25,11],[25,15,25,21],[26,1,26,4],[26,8,26,11],[26,15,26,21],[18,26,19,27],[17,26,17,27],[22,0,23,0],[22,1,23,4],[22,5,22,11],[22,12,22,21],[23,8,23,11],[23,15,23,21],[29,1,29,4],[29,8,29,11],[29,15,29,21],[30,1,30,4],[30,8,30,11],[30,15,30,21],[27,1,27,4],[27,8,27,11],[27,15,27,21],[28,1,28,4],[28,8,28,11],[28,15,28,21],[35,1,35,4],[35,8,35,11],[35,15,35,21],[37,0,37,4],[36,1,36,4],[36,8,36,11],[36,15,36,21],[31,0,31,4],[32,1,32,4],[32,8,32,11],[32,15,32,21],[33,1,33,4],[33,8,33,11],[33,15,33,21],[41,1,41,4],[41,8,41,11],[41,15,41,21],[43,1,43,4],[43,8,43,11],[43,15,43,21],[39,1,39,4],[39,8,39,11],[39,15,39,21],[40,1,40,4],[40,8,40,11],[40,15,40,21],[46,1,46,4],[46,8,46,11],[46,15,46,21],[48,1,48,4],[48,8,48,11],[48,15,48,21],[44,1,44,4],[44,8,44,11],[44,15,44,21],[45,1,45,4],[45,8,45,11],[45,15,45,21],[51,1,51,4],[51,8,51,11],[51,15,51,21],[52,1,52,4],[52,8,52,11],[52,15,52,21],[49,1,49,4],[49,8,49,11],[49,15,49,21],[50,1,50,4],[50,8,50,11],[50,15,50,21],[55,1,55,5],[55,16,55,17],[55,19,55,21],[56,1,56,5],[56,6,56,7],[56,13,56,14],[56,16,56,17],[56,19,56,21],[53,1,53,4],[53,8,53,11],[53,15,53,21],[54,1,54,4],[54,8,54,11],[54,15,54,21],[6,27,7,27],[6,26,7,26],[62,17,62,21],[62,26,63,28],[60,13,60,16],[60,17,60,21],[61,13,61,16],[61,17,61,21],[62,0,63,0],[62,1,63,5],[62,6,63,8],[62,9,63,9],[62,10,63,10],[62,13,62,16],[59,26,61,28],[59,1,59,5],[59,6,59,8],[59,13,59,16],[59,17,59,21],[60,0,61,0],[60,1,61,5],[60,6,61,8],[60,9,61,9],[60,10,61,10]]}
["PEMERINTAH DAERAH PROVINSI JAWA BARAT"]
["DINAS PENDIDIKAN"]
["SMKN 1 KARAWANG"]
["Jl. Pangkal Perjuangan By Pass Karawang  Telp.0267-401651 Fax.417258 Website : www.smkn1karawang.net Email : smkn1karawang@gmail.com"]
[]
[{"$f":"\"LEGER NILAI SISWA TAHUN PELAJARAN \"&MENU!I12","v":"LEGER NILAI SISWA TAHUN PELAJARAN 2017 / 2018"},null,null,null,null,null,null,null,null,null,null,null,null,null,null,null,null,null,null,null,null,null,null,null,null,null,"HALAMAN CETAK"]
[null,null,null,null,null,null,null,null,null,null,null,null,null,null,null,null,null,null,null,null,null,null,null,null,null,null,"Dari data ke",2]
["Nama Siswa",null,":",{"$f":"VLOOKUP($AB$14,TABNILSM1,NILSM1!B7)","v":"AL KINDI"},null,null,null,null,null,null,null,"Bidang Keahlian",null,null,":",{"$f":"KET.PETUNJUK!D18","v":"TEKNOLOGI INFORMASI DAN KOMUNIKASI"}]
["Nomor Induk/NISN",null,":",{"$f":"IF(VLOOKUP($AB$14,TABBIODATA,BIODATA!E4)=\"\",VLOOKUP($AB$14,TABBIODATA,BIODATA!D4),VLOOKUP($AB$14,TABBIODATA,BIODATA!D4)&\" / \"&VLOOKUP($AB$14,TABBIODATA,BIODATA!E4))","v":"13140768 / 9973289804"},null,null,null,null,null,null,null,"Program Keahlian",null,null,":",{"$f":"KET.PETUNJUK!D19","v":"TEKNIK KOMPUTER DAN INFORMATIKA"},null,null,null,null,null,null,null,null,null,null,"Sampai data ke",2]
["Kelas/Semester ",null,":",{"$f":"W10&\" / \"&W11","v":"X TKRO 1 / 1 (satu)"},null,null,null,null,null,null,null,"Paket Keahlian",null,null,":",{"$f":"KET.PETUNJUK!D20","v":"TEKNIK KOMPUTER JARINGAN"},null,null,null,null,null,null,{"$f":"IF(OR(W11=\"1 (satu)\",W11=\"2 (dua)\"),\"X \"&MENU!I9,IF(OR(W11=\"3 (tiga)\",W11=\"4 (empat)\"),\"XI \"&MENU!I9,IF(OR(W11=\"5 (lima)\",W11=\"6 (enam)\"),\"XII \"&MENU!I9,\"\")))","v":"X TKRO 1"}]
["Wali Kelas",null,":",{"$f":"NILSM1!B4","v":"Sri Hartati,S.T"},null,null,null,null,null,null,null,null,null,null,null,null,null,null,null,null,null,null,{"$f":"NILSM1!B3","v":"1 (satu)"}]
[]
["A.  Nilai Sikap",null,null,null,null,null,null,null,null,null,null,null,null,"Prestasi",null,null,null,null,null,"Ketidakhadiran",null,null,null,null,null,null,"TAMPILAN DATA"]
["No.","Kompetensi Inti",null,"Deskripsi",null,null,null,null,null,null,null,null,null,"Jenis Prestasi",null,null,null,"Keterangan",null,"Sakit",":",{"$f":"VLOOKUP($AB$14,TABNILSM1,NILSM1!DI7)","v":3},2,null,null,null,"Nomor Urut",2]
["1","Spiritual (KI-1)",null,{"$f":"IFERROR(VLOOKUP(W15,TABDESSPIRITUAL,2),\"-\")","v":"Baik, dapat menerima, menjalankan, menghargai, menghayati dan mengamalkan ajaran agama yang dianut."},null,null,null,null,null,null,null,null,null,{"$f":"IFERROR(VLOOKUP($AB$14,TABNILSM1,NILSM1!DE7),\"-\")","v":"Juara 1 LKS Jawa Barat"},null,null,null,{"$f":"IFERROR(VLOOKUP($AB$14,TABNILSM1,NILSM1!DF7),\"-\")","v":0},null,"Izin",":",{"$f":"VLOOKUP($AB$14,TABNILSM1,NILSM1!DJ7)","v":"-"},{"$f":"VLOOKUP($AB$14,TABNILSM1,NILSM1!DL7)","v":"B"}]
[null,null,null,null,null,null,null,null,null,null,null,null,null,null,null,null,null,null,null,"Alpa",":",{"$f":"VLOOKUP($AB$14,TABNILSM1,NILSM1!DK7)","v":"-"}]
[2,"Sosial (KI-2)",null,{"$f":"IFERROR(VLOOKUP(W18,TABDESSOSIAL,2),\"-\")","v":"Sudah menunjukkan konsisten menerapkan sikap jujur, santun dan toleran dalam pergaulan, disiplin, kerjasama dalam kelompok dan tanggungjawab dalam keseharian sebagai hasil pembelajaran di sekolah. Tingkatkan sikap-sikap positif tersebut agar lebih baik."}]
[null,null,null,null,null,null,null,null,null,null,null,null,null,{"$f":"IFERROR(VLOOKUP($AB$14,TABNILSM1,NILSM1!DG7),\"-\")","v":"-"},null,null,null,{"$f":"IFERROR(VLOOKUP($AB$14,TABNILSM1,NILSM1!DH7),\"-\")","v":"-"},null,null,null,null,{"$f":"VLOOKUP($AB$14,TABNILSM1,NILSM1!DM7)","v":"B"},null,null,null,"PILIHAN DESKRIPSI"]
[null,null,null,null,null,null,null,null,null,null,null,null,null,null,null,null,null,null,null,null,null,null,null,null,null,null,"OTOMATIS"]
[]
[]
["B.  Nilai Pengetahuan dan Keterampilan"]
["No.","Mata Pelajaran",null,null,null,"Pengetahuan (KI-3)",null,null,null,null,null,null,"Keterampilan (KI-4)"]
[null,null,null,null,null,"KB","Angka","Predikat","Deskripsi",null,null,null,"KB","Angka","Predikat","Deskripsi"]
["Muatan Nasional"]
[{"$f":"NILSM1!D4","v":1},{"$f":"NILSM1!D2","v":"Pendidikan Agama dan Budi Pekerti"},null,null,null,{"$f":"NILSM1!D5","v":75},{"$f":"VLOOKUP($AB$14,TABNILSM1,NILSM1!D7)","v":75},{"$f":"IFERROR(VLOOKUP(G26,TABEL_NILAI,4),\"-\")","v":"D"},{"$f":"IFERROR(IF($AA$19=DATABASE!$B$2,VLOOKUP(H26,TABDESPENGETAHUAN,2),IF($AA$19=DATABASE!$B$3,VLOOKUP(H26,DESKPENGETAHUANSM1,DESKSM1!D3),\"-\")),\"-\")","v":"Kurang dapat memahami, hanya bisa menerapkan, menganalisis, dan mengeveluasi sebagian kecil kompetensi dasar."},null,null,null,{"$f":"NILSM1!E5","v":75},{"$f":"VLOOKUP($AB$14,TABNILSM1,NILSM1!E7)","v":83},{"$f":"IFERROR(VLOOKUP(N26,TABEL_NILAI,4),\"-\")","v":"C"},{"$f":"IFERROR(IF($AA$19=DATABASE!$B$2,VLOOKUP(O26,TABDESKETERAMPILAN,2),IF($AA$19=DATABASE!$B$3,VLOOKUP(O26,DESKKETERAMPILANSM1,DESKSM1!D3),\"-\")),\"-\")","v":"Cukup aktif bertanya, mencoba, menalar dan kreatif dalam menyelesaikan tugas praktek"}]
[{"$f":"NILSM1!G4","v":2},{"$f":"NILSM1!G2","v":"Pendidikan Pancasila dan Kewarganegaraan"},null,null,null,{"$f":"NILSM1!G5","v":75},{"$f":"VLOOKUP($AB$14,TABNILSM1,NILSM1!G7)","v":84},{"$f":"IFERROR(VLOOKUP(G27,TABEL_NILAI,4),\"-\")","v":"C"},{"$f":"IFERROR(IF($AA$19=DATABASE!$B$2,VLOOKUP(H27,TABDESPENGETAHUAN,2),IF($AA$19=DATABASE!$B$3,VLOOKUP(H27,DESKPENGETAHUANSM1,DESKSM1!D4),\"-\")),\"-\")","v":"Cukup baik memahami sebagian kompetensi dasar, tetapi kurang bisa menerapkan, menganalisis dan mengevaluasinya."},null,null,null,{"$f":"NILSM1!H5","v":75},{"$f":"VLOOKUP($AB$14,TABNILSM1,NILSM1!H7)","v":92},"B",{"$f":"IFERROR(IF($AA$19=DATABASE!$B$2,VLOOKUP(O27,TABDESKETERAMPILAN,2),IF($AA$19=DATABASE!$B$3,VLOOKUP(O27,DESKKETERAMPILANSM1,DESKSM1!D4),\"-\")),\"-\")","v":"Baik dan aktif bertanya, mencoba, menalar dan kreatif dalam menyelesaikan sebagian besar tugas praktek."}]
[{"$f":"NILSM1!J4","v":3},{"$f":"NILSM1!J2","v":"Bahasa Indonesia"},null,null,null,{"$f":"NILSM1!J5","v":75},{"$f":"VLOOKUP($AB$14,TABNILSM1,NILSM1!J7)","v":93},"B",{"$f":"IFERROR(IF($AA$19=DATABASE!$B$2,VLOOKUP(H28,TABDESPENGETAHUAN,2),IF($AA$19=DATABASE!$B$3,VLOOKUP(H28,DESKPENGETAHUANSM1,DESKSM1!D5),\"-\")),\"-\")","v":"Baik dalam memahami, menerapkan, menganalisis dan mengevaluasi sebagian besar kompetensi dasar."},null,null,null,{"$f":"NILSM1!K5","v":75},{"$f":"VLOOKUP($AB$14,TABNILSM1,NILSM1!K7)","v":75},"D",{"$f":"IFERROR(IF($AA$19=DATABASE!$B$2,VLOOKUP(O28,TABDESKETERAMPILAN,2),IF($AA$19=DATABASE!$B$3,VLOOKUP(O28,DESKKETERAMPILANSM1,DESKSM1!D5),\"-\")),\"-\")","v":"Kurang aktif bertanya, mencoba, menalar dan kreatif dalam menyelesaikan tugas praktek."}]
[{"$f":"NILSM1!M4","v":4},{"$f":"NILSM1!M2","v":"Matematika"},null,null,null,{"$f":"NILSM1!M5","v":75},{"$f":"VLOOKUP($AB$14,TABNILSM1,NILSM1!M7)","v":75},"D",{"$f":"IFERROR(IF($AA$19=DATABASE!$B$2,VLOOKUP(H29,TABDESPENGETAHUAN,2),IF($AA$19=DATABASE!$B$3,VLOOKUP(H29,DESKPENGETAHUANSM1,DESKSM1!D6),\"-\")),\"-\")","v":"Kurang dapat memahami, hanya bisa menerapkan, menganalisis, dan mengeveluasi sebagian kecil kompetensi dasar."},null,null,null,{"$f":"NILSM1!N5","v":75},{"$f":"VLOOKUP($AB$14,TABNILSM1,NILSM1!N7)","v":75},"D",{"$f":"IFERROR(IF($AA$19=DATABASE!$B$2,VLOOKUP(O29,TABDESKETERAMPILAN,2),IF($AA$19=DATABASE!$B$3,VLOOKUP(O29,DESKKETERAMPILANSM1,DESKSM1!D6),\"-\")),\"-\")","v":"Kurang aktif bertanya, mencoba, menalar dan kreatif dalam menyelesaikan tugas praktek."}]
[{"$f":"NILSM1!P4","v":5},{"$f":"NILSM1!P2","v":"Sejarah Indonesia"},null,null,null,{"$f":"NILSM1!P5","v":75},{"$f":"VLOOKUP($AB$14,TABNILSM1,NILSM1!P7)","v":83.25},"C",{"$f":"IFERROR(IF($AA$19=DATABASE!$B$2,VLOOKUP(H30,TABDESPENGETAHUAN,2),IF($AA$19=DATABASE!$B$3,VLOOKUP(H30,DESKPENGETAHUANSM1,DESKSM1!D7),\"-\")),\"-\")","v":"Cukup baik memahami sebagian kompetensi dasar, tetapi kurang bisa menerapkan, menganalisis dan mengevaluasinya."},null,null,null,{"$f":"NILSM1!Q5","v":75},{"$f":"VLOOKUP($AB$14,TABNILSM1,NILSM1!Q7)","v":83.25},"C",{"$f":"IFERROR(IF($AA$19=DATABASE!$B$2,VLOOKUP(O30,TABDESKETERAMPILAN,2),IF($AA$19=DATABASE!$B$3,VLOOKUP(O30,DESKKETERAMPILANSM1,DESKSM1!D7),\"-\")),\"-\")","v":"Cukup aktif bertanya, mencoba, menalar dan kreatif dalam menyelesaikan tugas praktek"}]
[{"$f":"NILSM1!S4","v":6},{"$f":"NILSM1!S2","v":"Bahasa Inggris"},null,null,null,{"$f":"NILSM1!S5","v":75},{"$f":"VLOOKUP($AB$14,TABNILSM1,NILSM1!S7)","v":75},"D",{"$f":"IFERROR(IF($AA$19=DATABASE!$B$2,VLOOKUP(H31,TABDESPENGETAHUAN,2),IF($AA$19=DATABASE!$B$3,VLOOKUP(H31,DESKPENGETAHUANSM1,DESKSM1!D8),\"-\")),\"-\")","v":"Kurang dapat memahami, hanya bisa menerapkan, menganalisis, dan mengeveluasi sebagian kecil kompetensi dasar."},null,null,null,{"$f":"NILSM1!T5","v":75},{"$f":"VLOOKUP($AB$14,TABNILSM1,NILSM1!T7)","v":75},"D",{"$f":"IFERROR(IF($AA$19=DATABASE!$B$2,VLOOKUP(O31,TABDESKETERAMPILAN,2),IF($AA$19=DATABASE!$B$3,VLOOKUP(O31,DESKKETERAMPILANSM1,DESKSM1!D8),\"-\")),\"-\")","v":"Kurang aktif bertanya, mencoba, menalar dan kreatif dalam menyelesaikan tugas praktek."}]
["Muatan Kewilayahan"]
[{"$f":"NILSM1!V4","v":1},{"$f":"NILSM1!V2","v":"Seni Budaya"},null,null,null,{"$f":"NILSM1!V5","v":75},{"$f":"VLOOKUP($AB$14,TABNILSM1,NILSM1!V7)","v":75},{"$f":"IFERROR(VLOOKUP(G33,TABEL_NILAI,4),\"-\")","v":"D"},{"$f":"IFERROR(IF($AA$19=DATABASE!$B$2,VLOOKUP(H33,TABDESPENGETAHUAN,2),IF($AA$19=DATABASE!$B$3,VLOOKUP(H33,DESKPENGETAHUANSM1,DESKSM1!D10),\"-\")),\"-\")","v":"Kurang dapat memahami, hanya bisa menerapkan, menganalisis, dan mengeveluasi sebagian kecil kompetensi dasar."},null,null,null,{"$f":"NILSM1!W5","v":75},{"$f":"VLOOKUP($AB$14,TABNILSM1,NILSM1!W7)","v":75},{"$f":"IFERROR(VLOOKUP(N33,TABEL_NILAI,4),\"-\")","v":"D"},{"$f":"IFERROR(IF($AA$19=DATABASE!$B$2,VLOOKUP(O33,TABDESKETERAMPILAN,2),IF($AA$19=DATABASE!$B$3,VLOOKUP(O33,DESKKETERAMPILANSM1,DESKSM1!D10),\"-\")),\"-\")","v":"Kurang aktif bertanya, mencoba, menalar dan kreatif dalam menyelesaikan tugas praktek."}]
[{"$f":"NILSM1!Y4","v":2},{"$f":"NILSM1!Y2","v":"Pendidikan Jasmani, Olah Raga & Kesehatan"},null,null,null,{"$f":"NILSM1!Y5","v":75},{"$f":"VLOOKUP($AB$14,TABNILSM1,NILSM1!Y7)","v":75},{"$f":"IFERROR(VLOOKUP(G34,TABEL_NILAI,4),\"-\")","v":"D"},{"$f":"IFERROR(IF($AA$19=DATABASE!$B$2,VLOOKUP(H34,TABDESPENGETAHUAN,2),IF($AA$19=DATABASE!$B$3,VLOOKUP(H34,DESKPENGETAHUANSM1,DESKSM1!D11),\"-\")),\"-\")","v":"Kurang dapat memahami, hanya bisa menerapkan, menganalisis, dan mengeveluasi sebagian kecil kompetensi dasar."},null,null,null,{"$f":"NILSM1!Z5","v":75},{"$f":"VLOOKUP($AB$14,TABNILSM1,NILSM1!Z7)","v":75},{"$f":"IFERROR(VLOOKUP(N34,TABEL_NILAI,4),\"-\")","v":"D"},{"$f":"IFERROR(IF($AA$19=DATABASE!$B$2,VLOOKUP(O34,TABDESKETERAMPILAN,2),IF($AA$19=DATABASE!$B$3,VLOOKUP(O34,DESKKETERAMPILANSM1,DESKSM1!D11),\"-\")),\"-\")","v":"Kurang aktif bertanya, mencoba, menalar dan kreatif dalam menyelesaikan tugas praktek."}]
[null,"Muatan Lokal"]
[{"$f":"NILSM1!AB4","v":3},{"$f":"NILSM1!AB2","v":"Bahasa dan Sastra Sunda"},null,null,null,{"$f":"NILSM1!AB5","v":75},{"$f":"VLOOKUP($AB$14,TABNILSM1,NILSM1!AB7)","v":83.25},{"$f":"IFERROR(VLOOKUP(G36,TABEL_NILAI,4),\"-\")","v":"C"},{"$f":"IFERROR(IF($AA$19=DATABASE!$B$2,VLOOKUP(H36,TABDESPENGETAHUAN,2),IF($AA$19=DATABASE!$B$3,VLOOKUP(H36,DESKPENGETAHUANSM1,DESKSM1!D12),\"-\")),\"-\")","v":"Cukup baik memahami sebagian kompetensi dasar, tetapi kurang bisa menerapkan, menganalisis dan mengevaluasinya."},null,null,null,{"$f":"NILSM1!AC5","v":75},{"$f":"VLOOKUP($AB$14,TABNILSM1,NILSM1!AC7)","v":91.5},{"$f":"IFERROR(VLOOKUP(N36,TABEL_NILAI,4),\"-\")","v":"B"},{"$f":"IFERROR(IF($AA$19=DATABASE!$B$2,VLOOKUP(O36,TABDESKETERAMPILAN,2),IF($AA$19=DATABASE!$B$3,VLOOKUP(O36,DESKKETERAMPILANSM1,DESKSM1!D12),\"-\")),\"-\")","v":"Baik dan aktif bertanya, mencoba, menalar dan kreatif dalam menyelesaikan sebagian besar tugas praktek."}]
[{"$f":"NILSM1!AE4","v":4},{"$f":"NILSM1!AE2","v":"PLH"},null,null,null,{"$f":"NILSM1!AE5","v":75},{"$f":"VLOOKUP($AB$14,TABNILSM1,NILSM1!AE7)","v":75},{"$f":"IFERROR(VLOOKUP(G37,TABEL_NILAI,4),\"-\")","v":"D"},{"$f":"IFERROR(IF($AA$19=DATABASE!$B$2,VLOOKUP(H37,TABDESPENGETAHUAN,2),IF($AA$19=DATABASE!$B$3,VLOOKUP(H37,DESKPENGETAHUANSM1,DESKSM1!D15),\"-\")),\"-\")","v":"Kurang dapat memahami, hanya bisa menerapkan, menganalisis, dan mengeveluasi sebagian kecil kompetensi dasar."},null,null,null,{"$f":"NILSM1!AF5","v":75},{"$f":"VLOOKUP($AB$14,TABNILSM1,NILSM1!AF7)","v":83.25},{"$f":"IFERROR(VLOOKUP(N37,TABEL_NILAI,4),\"-\")","v":"C"},{"$f":"IFERROR(IF($AA$19=DATABASE!$B$2,VLOOKUP(O37,TABDESKETERAMPILAN,2),IF($AA$19=DATABASE!$B$3,VLOOKUP(O37,DESKKETERAMPILANSM1,DESKSM1!D15),\"-\")),\"-\")","v":"Cukup aktif bertanya, mencoba, menalar dan kreatif dalam menyelesaikan tugas praktek"}]
["Muatan Peminatan Kejuruan"]
["C1","Dasar Bidang Keahlian"]
[{"$f":"NILSM1!AH4","v":1},{"$f":"NILSM1!AH2","v":"Simulasi dan Komunikasi Digital"},null,null,null,{"$f":"NILSM1!AH5","v":75},{"$f":"VLOOKUP($AB$14,TABNILSM1,NILSM1!AH7)","v":83.25},{"$f":"IFERROR(VLOOKUP(G40,TABEL_NILAI,4),\"-\")","v":"C"},{"$f":"IFERROR(IF($AA$19=DATABASE!$B$2,VLOOKUP(H40,TABDESPENGETAHUAN,2),IF($AA$19=DATABASE!$B$3,VLOOKUP(H40,DESKPENGETAHUANSM1,DESKSM1!D16),\"-\")),\"-\")","v":"Cukup baik memahami sebagian kompetensi dasar, tetapi kurang bisa menerapkan, menganalisis dan mengevaluasinya."},null,null,null,{"$f":"NILSM1!AI5","v":75},{"$f":"VLOOKUP($AB$14,TABNILSM1,NILSM1!AI7)","v":83.25},{"$f":"IFERROR(VLOOKUP(N40,TABEL_NILAI,4),\"-\")","v":"C"},{"$f":"IFERROR(IF($AA$19=DATABASE!$B$2,VLOOKUP(O40,TABDESKETERAMPILAN,2),IF($AA$19=DATABASE!$B$3,VLOOKUP(O40,DESKKETERAMPILANSM1,DESKSM1!D16),\"-\")),\"-\")","v":"Cukup aktif bertanya, mencoba, menalar dan kreatif dalam menyelesaikan tugas praktek"}]
[{"$f":"NILSM1!AK4","v":2},{"$f":"NILSM1!AK2","v":"Fisika"},null,null,null,{"$f":"NILSM1!AK5","v":75},{"$f":"VLOOKUP($AB$14,TABNILSM1,NILSM1!AK7)","v":75},{"$f":"IFERROR(VLOOKUP(G41,TABEL_NILAI,4),\"-\")","v":"D"},{"$f":"IFERROR(IF($AA$19=DATABASE!$B$2,VLOOKUP(H41,TABDESPENGETAHUAN,2),IF($AA$19=DATABASE!$B$3,VLOOKUP(H41,DESKPENGETAHUANSM1,DESKSM1!D17),\"-\")),\"-\")","v":"Kurang dapat memahami, hanya bisa menerapkan, menganalisis, dan mengeveluasi sebagian kecil kompetensi dasar."},null,null,null,{"$f":"NILSM1!AL5","v":75},{"$f":"VLOOKUP($AB$14,TABNILSM1,NILSM1!AL7)","v":75},{"$f":"IFERROR(VLOOKUP(N41,TABEL_NILAI,4),\"-\")","v":"D"},{"$f":"IFERROR(IF($AA$19=DATABASE!$B$2,VLOOKUP(O41,TABDESKETERAMPILAN,2),IF($AA$19=DATABASE!$B$3,VLOOKUP(O41,DESKKETERAMPILANSM1,DESKSM1!D17),\"-\")),\"-\")","v":"Kurang aktif bertanya, mencoba, menalar dan kreatif dalam menyelesaikan tugas praktek."}]
[{"$f":"NILSM1!AN4","v":3},{"$f":"NILSM1!AN2","v":"Kimia"},null,null,null,{"$f":"NILSM1!AN5","v":75},{"$f":"VLOOKUP($AB$14,TABNILSM1,NILSM1!AN7)","v":83.25},{"$f":"IFERROR(VLOOKUP(G42,TABEL_NILAI,4),\"-\")","v":"C"},{"$f":"IFERROR(IF($AA$19=DATABASE!$B$2,VLOOKUP(H42,TABDESPENGETAHUAN,2),IF($AA$19=DATABASE!$B$3,VLOOKUP(H42,DESKPENGETAHUANSM1,DESKSM1!D19),\"-\")),\"-\")","v":"Cukup baik memahami sebagian kompetensi dasar, tetapi kurang bisa menerapkan, menganalisis dan mengevaluasinya."},null,null,null,{"$f":"NILSM1!AO5","v":75},{"$f":"VLOOKUP($AB$14,TABNILSM1,NILSM1!AO7)","v":75},{"$f":"IFERROR(VLOOKUP(N42,TABEL_NILAI,4),\"-\")","v":"D"},{"$f":"IFERROR(IF($AA$19=DATABASE!$B$2,VLOOKUP(O42,TABDESKETERAMPILAN,2),IF($AA$19=DATABASE!$B$3,VLOOKUP(O42,DESKKETERAMPILANSM1,DESKSM1!D19),\"-\")),\"-\")","v":"Kurang aktif bertanya, mencoba, menalar dan kreatif dalam menyelesaikan tugas praktek."}]
["C2","Dasar Program Keahlian"]
[{"$f":"NILSM1!AQ4","v":4},{"$f":"NILSM1!AQ2","v":"Sistem Komputer"},null,null,null,{"$f":"NILSM1!AQ5","v":75},{"$f":"VLOOKUP($AB$14,TABNILSM1,NILSM1!AQ7)","v":75},"D",{"$f":"IFERROR(IF($AA$19=DATABASE!$B$2,VLOOKUP(H44,TABDESPENGETAHUAN,2),IF($AA$19=DATABASE!$B$3,VLOOKUP(H44,DESKPENGETAHUANSM1,DESKSM1!D20),\"-\")),\"-\")","v":"Kurang dapat memahami, hanya bisa menerapkan, menganalisis, dan mengeveluasi sebagian kecil kompetensi dasar."},null,null,null,{"$f":"NILSM1!AR5","v":75},{"$f":"VLOOKUP($AB$14,TABNILSM1,NILSM1!AR7)","v":75},"D",{"$f":"IFERROR(IF($AA$19=DATABASE!$B$2,VLOOKUP(O44,TABDESKETERAMPILAN,2),IF($AA$19=DATABASE!$B$3,VLOOKUP(O44,DESKKETERAMPILANSM1,DESKSM1!D20),\"-\")),\"-\")","v":"Kurang aktif bertanya, mencoba, menalar dan kreatif dalam menyelesaikan tugas praktek."}]
[{"$f":"NILSM1!AT4","v":5},{"$f":"NILSM1!AT2","v":"Komputer dan Jaringan Dasar"},null,null,null,{"$f":"NILSM1!AT5","v":75},{"$f":"VLOOKUP($AB$14,TABNILSM1,NILSM1!AT7)","v":75},"D",{"$f":"IFERROR(IF($AA$19=DATABASE!$B$2,VLOOKUP(H45,TABDESPENGETAHUAN,2),IF($AA$19=DATABASE!$B$3,VLOOKUP(H45,DESKPENGETAHUANSM1,DESKSM1!D21),\"-\")),\"-\")","v":"Kurang dapat memahami, hanya bisa menerapkan, menganalisis, dan mengeveluasi sebagian kecil kompetensi dasar."},null,null,null,{"$f":"NILSM1!AU5","v":75},{"$f":"VLOOKUP($AB$14,TABNILSM1,NILSM1!AU7)","v":75},"D",{"$f":"IFERROR(IF($AA$19=DATABASE!$B$2,VLOOKUP(O45,TABDESKETERAMPILAN,2),IF($AA$19=DATABASE!$B$3,VLOOKUP(O45,DESKKETERAMPILANSM1,DESKSM1!D21),\"-\")),\"-\")","v":"Kurang aktif bertanya, mencoba, menalar dan kreatif dalam menyelesaikan tugas praktek."}]
[{"$f":"NILSM1!AW4","v":6},{"$f":"NILSM1!AW2","v":"Pemrograman Dasar"},null,null,null,{"$f":"NILSM1!AW5","v":75},{"$f":"VLOOKUP($AB$14,TABNILSM1,NILSM1!AW7)","v":75},"D",{"$f":"IFERROR(IF($AA$19=DATABASE!$B$2,VLOOKUP(H46,TABDESPENGETAHUAN,2),IF($AA$19=DATABASE!$B$3,VLOOKUP(H46,DESKPENGETAHUANSM1,DESKSM1!D22),\"-\")),\"-\")","v":"Kurang dapat memahami, hanya bisa menerapkan, menganalisis, dan mengeveluasi sebagian kecil kompetensi dasar."},null,null,null,{"$f":"NILSM1!AX5","v":75},{"$f":"VLOOKUP($AB$14,TABNILSM1,NILSM1!AX7)","v":75},"D",{"$f":"IFERROR(IF($AA$19=DATABASE!$B$2,VLOOKUP(O46,TABDESKETERAMPILAN,2),IF($AA$19=DATABASE!$B$3,VLOOKUP(O46,DESKKETERAMPILANSM1,DESKSM1!D22),\"-\")),\"-\")","v":"Kurang aktif bertanya, mencoba, menalar dan kreatif dalam menyelesaikan tugas praktek."}]
[{"$f":"NILSM1!AZ4","v":7},{"$f":"NILSM1!AZ2","v":"Dasar Desain Grafis"},null,null,null,{"$f":"NILSM1!AZ5","v":0},{"$f":"VLOOKUP($AB$14,TABNILSM1,NILSM1!AZ7)","v":"-"},"-",{"$f":"IFERROR(IF($AA$19=DATABASE!$B$2,VLOOKUP(H47,TABDESPENGETAHUAN,2),IF($AA$19=DATABASE!$B$3,VLOOKUP(H47,DESKPENGETAHUANSM1,DESKSM1!D23),\"-\")),\"-\")","v":"-"},null,null,null,{"$f":"NILSM1!BA5","v":0},{"$f":"VLOOKUP($AB$14,TABNILSM1,NILSM1!BA7)","v":"-"},"-",{"$f":"IFERROR(IF($AA$19=DATABASE!$B$2,VLOOKUP(O47,TABDESKETERAMPILAN,2),IF($AA$19=DATABASE!$B$3,VLOOKUP(O47,DESKKETERAMPILANSM1,DESKSM1!D23),\"-\")),\"-\")","v":"-"}]
["C3","Paket Keahlian"]
[{"$f":"NILSM1!BC4","v":1},{"$f":"NILSM1!BC2","v":"-"},null,null,null,{"$f":"NILSM1!BC5","v":0},{"$f":"VLOOKUP($AB$14,TABNILSM1,NILSM1!BC7)","v":"-"},"-",{"$f":"IFERROR(IF($AA$19=DATABASE!$B$2,VLOOKUP(H49,TABDESPENGETAHUAN,2),IF($AA$19=DATABASE!$B$3,VLOOKUP(H49,DESKPENGETAHUANSM1,DESKSM1!D24),\"-\")),\"-\")","v":"-"},null,null,null,{"$f":"NILSM1!BD5","v":0},{"$f":"VLOOKUP($AB$14,TABNILSM1,NILSM1!BD7)","v":"-"},"-",{"$f":"IFERROR(IF($AA$19=DATABASE!$B$2,VLOOKUP(O49,TABDESKETERAMPILAN,2),IF($AA$19=DATABASE!$B$3,VLOOKUP(O49,DESKKETERAMPILANSM1,DESKSM1!D24),\"-\")),\"-\")","v":"-"}]
[{"$f":"NILSM1!BF4","v":2},{"$f":"NILSM1!BF2","v":"-"},null,null,null,{"$f":"NILSM1!BF5","v":0},{"$f":"VLOOKUP($AB$14,TABNILSM1,NILSM1!BF7)","v":"-"},{"$f":"IFERROR(VLOOKUP(G50,TABEL_NILAI,4),\"-\")","v":"-"},{"$f":"IFERROR(IF($AA$19=DATABASE!$B$2,VLOOKUP(H50,TABDESPENGETAHUAN,2),IF($AA$19=DATABASE!$B$3,VLOOKUP(H50,DESKMANUPENGETAHUAN,2),\"-\")),\"-\")","v":"-"},null,null,null,{"$f":"NILSM1!BG5","v":0},{"$f":"VLOOKUP($AB$14,TABNILSM1,NILSM1!BG7)","v":"-"},{"$f":"IFERROR(VLOOKUP(N50,TABEL_NILAI,4),\"-\")","v":"-"},{"$f":"IFERROR(IF($AA$19=DATABASE!$B$2,VLOOKUP(O50,TABDESKETERAMPILAN,2),IF($AA$19=DATABASE!$B$3,VLOOKUP(O50,DESKMANUKETERAMPILAN,2),\"-\")),\"-\")","v":"-"}]
[{"$f":"NILSM1!BI4","v":3},{"$f":"NILSM1!BI2","v":"-"},null,null,null,{"$f":"NILSM1!BI5","v":0},{"$f":"VLOOKUP($AB$14,TABNILSM1,NILSM1!BI7)","v":"-"},"-",{"$f":"IFERROR(IF($AA$19=DATABASE!$B$2,VLOOKUP(H51,TABDESPENGETAHUAN,2),IF($AA$19=DATABASE!$B$3,VLOOKUP(H51,DESKMANUPENGETAHUAN,2),\"-\")),\"-\")","v":"-"},null,null,null,{"$f":"NILSM1!BJ5","v":0},{"$f":"VLOOKUP($AB$14,TABNILSM1,NILSM1!BJ7)","v":"-"},"-",{"$f":"IFERROR(IF($AA$19=DATABASE!$B$2,VLOOKUP(O51,TABDESKETERAMPILAN,2),IF($AA$19=DATABASE!$B$3,VLOOKUP(O51,DESKMANUKETERAMPILAN,2),\"-\")),\"-\")","v":"-"}]
[{"$f":"NILSM1!BL4","v":4},{"$f":"NILSM1!BL2","v":"-"},null,null,null,{"$f":"NILSM1!BL5","v":0},{"$f":"VLOOKUP($AB$14,TABNILSM1,NILSM1!BL7)","v":"-"},"-",{"$f":"IFERROR(IF($AA$19=DATABASE!$B$2,VLOOKUP(H52,TABDESPENGETAHUAN,2),IF($AA$19=DATABASE!$B$3,VLOOKUP(H52,DESKMANUPENGETAHUAN,2),\"-\")),\"-\")","v":"-"},null,null,null,{"$f":"NILSM1!BM5","v":0},{"$f":"VLOOKUP($AB$14,TABNILSM1,NILSM1!BM7)","v":"-"},"-",{"$f":"IFERROR(IF($AA$19=DATABASE!$B$2,VLOOKUP(O52,TABDESKETERAMPILAN,2),IF($AA$19=DATABASE!$B$3,VLOOKUP(O52,DESKMANUKETERAMPILAN,2),\"-\")),\"-\")","v":"-"}]
[{"$f":"NILSM1!BO4","v":5},{"$f":"NILSM1!BO2","v":"-"},null,null,null,{"$f":"NILSM1!BO5","v":0},{"$f":"VLOOKUP($AB$14,TABNILSM1,NILSM1!BO7)","v":"-"},"-",{"$f":"IFERROR(IF($AA$19=DATABASE!$B$2,VLOOKUP(H53,TABDESPENGETAHUAN,2),IF($AA$19=DATABASE!$B$3,VLOOKUP(H53,DESKMANUPENGETAHUAN,2),\"-\")),\"-\")","v":"-"},null,null,null,{"$f":"NILSM1!BP5","v":0},{"$f":"VLOOKUP($AB$14,TABNILSM1,NILSM1!BP7)","v":"-"},"-",{"$f":"IFERROR(IF($AA$19=DATABASE!$B$2,VLOOKUP(O53,TABDESKETERAMPILAN,2),IF($AA$19=DATABASE!$B$3,VLOOKUP(O53,DESKMANUKETERAMPILAN,2),\"-\")),\"-\")","v":"-"}]
[{"$f":"NILSM1!BR4","v":6},{"$f":"NILSM1!BR2","v":"-"},null,null,null,{"$f":"NILSM1!BR5","v":0},{"$f":"VLOOKUP($AB$14,TABNILSM1,NILSM1!BR7)","v":"-"},"-",{"$f":"IFERROR(IF($AA$19=DATABASE!$B$2,VLOOKUP(H54,TABDESPENGETAHUAN,2),IF($AA$19=DATABASE!$B$3,VLOOKUP(H54,DESKMANUPENGETAHUAN,2),\"-\")),\"-\")","v":"-"},null,null,null,{"$f":"NILSM1!BS5","v":0},{"$f":"VLOOKUP($AB$14,TABNILSM1,NILSM1!BS7)","v":"-"},"-",{"$f":"IFERROR(IF($AA$19=DATABASE!$B$2,VLOOKUP(O54,TABDESKETERAMPILAN,2),IF($AA$19=DATABASE!$B$3,VLOOKUP(O54,DESKMANUKETERAMPILAN,2),\"-\")),\"-\")","v":"-"}]
[{"$f":"NILSM1!BU4","v":"-"},{"$f":"NILSM1!BU2","v":"-"},null,null,null,{"$f":"NILSM1!BU5","v":0},{"$f":"VLOOKUP($AB$14,TABNILSM1,NILSM1!BU7)","v":"-"},"-",{"$f":"IFERROR(IF($AA$19=DATABASE!$B$2,VLOOKUP(H55,TABDESPENGETAHUAN,2),IF($AA$19=DATABASE!$B$3,VLOOKUP(H55,DESKMANUPENGETAHUAN,2),\"-\")),\"-\")","v":"-"},null,null,null,{"$f":"NILSM1!BV5","v":0},{"$f":"VLOOKUP($AB$14,TABNILSM1,NILSM1!BV7)","v":"-"},"-",{"$f":"IFERROR(IF($AA$19=DATABASE!$B$2,VLOOKUP(O55,TABDESKETERAMPILAN,2),IF($AA$19=DATABASE!$B$3,VLOOKUP(O55,DESKMANUKETERAMPILAN,2),\"-\")),\"-\")","v":"-"}]
[null,"Rata-rata",null,null,null,null,{"$f":"VLOOKUP($AB$14,TABNILSM1,NILSM1!DO7)","v":79},{"$f":"VLOOKUP(G56,TABEL_NILAI,4)","v":"C"},null,null,null,null,null,{"$f":"VLOOKUP($AB$14,TABNILSM1,NILSM1!DP7)","v":79},{"$f":"VLOOKUP(N56,TABEL_NILAI,4)","v":"C"},null,"Total Nilai :",null,null,"Peringkat di Kelas :"]
[null,"Jumlah Nilai",null,null,null,null,{"$f":"VLOOKUP($AB$14,TABNILSM1,NILSM1!DQ7)","v":1260},null,null,null,null,null,null,{"$f":"VLOOKUP($AB$14,TABNILSM1,NILSM1!DR7)","v":1266},null,null,{"$f":"VLOOKUP($AB$14,TABNILSM1,NILSM1!DS7)","v":2526},null,null,{"$f":"IF(VLOOKUP($AB$14,TABNILSM1,NILSM1!DU7)=\"\",\"-\",VLOOKUP($AB$14,TABNILSM1,NILSM1!DU7)&\" dari \"&VLOOKUP($AB$14,TABNILSM1,NILSM1!DV7))","v":"1 dari 36"}]
[]
["C.  Praktek Kerja Lapangan",null,null,null,null,null,null,null,null,null,null,null,"D.  Ekstrakurikuler"]
["No.","Mitra DU/DI",null,null,null,null,"Lokasi",null,null,"Lamanya (Bulan)","Keterangan",null,"No.","Kegiatan Ekstrakurikuler",null,null,null,"Keterangan",null,null,null,null,null,null,null,null,{"$f":"D8","v":"AL KINDI"}]
[1,{"$f":"IF(VLOOKUP($AB$14,TABNILSM1,NILSM1!CQ7)=\"\",\"-\",VLOOKUP($AB$14,TABNILSM1,NILSM1!CQ7))","v":"Dinas Bina Marga"},null,null,null,null,{"$f":"IF(VLOOKUP($AB$14,TABNILSM1,NILSM1!CR7)=\"\",\"-\",VLOOKUP($AB$14,TABNILSM1,NILSM1!CR7))","v":"Karawang"},null,null,{"$f":"IF(VLOOKUP($AB$14,TABNILSM1,NILSM1!CS7)=\"\",\"-\",VLOOKUP($AB$14,TABNILSM1,NILSM1!CS7))","v":3},{"$f":"IF(VLOOKUP($AB$14,TABNILSM1,NILSM1!CT7)=\"\",\"-\",VLOOKUP($AB$14,TABNILSM1,NILSM1!CT7))","v":"Baik"},null,1,{"$f":"IF(VLOOKUP($AB$14,TABNILSM1,NILSM1!CY7)=\"\",\"-\",VLOOKUP($AB$14,TABNILSM1,NILSM1!CY7))","v":"Rohis"},null,null,null,{"$f":"IF(VLOOKUP($AB$14,TABNILSM1,NILSM1!CZ7)=\"\",\"-\",VLOOKUP(W61,TABNESKUL,2,FALSE))","v":"Baik, berprestasi, disiplin dan rajin berlatih"},null,null,null,null,{"$f":"VLOOKUP($AB$14,TABNILSM1,NILSM1!CZ7)","v":"B"}]
[null,null,null,null,null,null,null,null,null,null,null,null,2,{"$f":"IF(VLOOKUP($AB$14,TABNILSM1,NILSM1!DA7)=\"\",\"-\",VLOOKUP($AB$14,TABNILSM1,NILSM1!DA7))","v":"OSIS"},null,null,null,{"$f":"IF(VLOOKUP($AB$14,TABNILSM1,NILSM1!DB7)=\"\",\"-\",VLOOKUP(W62,TABNESKUL,2,FALSE))","v":"Baik, berprestasi, disiplin dan rajin berlatih"},null,null,null,null,{"$f":"VLOOKUP($AB$14,TABNILSM1,NILSM1!DB7)","v":"B"}]
[2,{"$f":"IF(VLOOKUP($AB$14,TABNILSM1,NILSM1!CU7)=\"\",\"-\",VLOOKUP($AB$14,TABNILSM1,NILSM1!CU7))","v":"Dinas Perhubungan"},null,null,null,null,{"$f":"IF(VLOOKUP($AB$14,TABNILSM1,NILSM1!CV7)=\"\",\"-\",VLOOKUP($AB$14,TABNILSM1,NILSM1!CV7))","v":"Karawang"},null,null,{"$f":"IF(VLOOKUP($AB$14,TABNILSM1,NILSM1!CW7)=\"\",\"-\",VLOOKUP($AB$14,TABNILSM1,NILSM1!CW7))","v":3},{"$f":"IF(VLOOKUP($AB$14,TABNILSM1,NILSM1!CX7)=\"\",\"-\",VLOOKUP($AB$14,TABNILSM1,NILSM1!CX7))","v":"Sangat Baik"},null,3,{"$f":"IF(VLOOKUP($AB$14,TABNILSM1,NILSM1!DC7)=\"\",\"-\",VLOOKUP($AB$14,TABNILSM1,NILSM1!DC7))","v":"Palang Merah Remaja"},null,null,null,{"$f":"IF(VLOOKUP($AB$14,TABNILSM1,NILSM1!DD7)=\"\",\"-\",VLOOKUP(W63,TABNESKUL,2,FALSE))","v":"Baik, berprestasi, disiplin dan rajin berlatih"},null,null,null,null,{"$f":"VLOOKUP($AB$14,TABNILSM1,NILSM1!DD7)","v":"B"},null,null,null,{"$f":"\"Nomor Urut \"&AB14","v":"Nomor Urut 2"}]

{"sheet":"LEGGER2","index":13,"n_rows":63,"n_cols":29,"rows_kept":63,"cut":false,"hidden":false,"merged":[[8,27,9,27],[8,28,9,28],[12,27,12,28],[0,0,0,22],[1,0,1,22],[2,0,2,22],[3,0,3,22],[5,0,5,22],[5,27,5,28],[6,27,7,27],[6,28,7,28],[16,0,19,0],[16,1,19,2],[16,3,19,11],[17,13,19,17],[17,18,19,18],[17,27,17,28],[18,20,19,22],[18,27,19,28],[13,1,13,2],[13,3,13,11],[13,13,13,17],[13,27,14,27],[13,28,14,28],[14,0,15,0],[14,1,15,2],[14,3,15,11],[14,13,16,17],[14,18,16,18],[25,1,25,4],[25,8,25,11],[25,15,25,22],[26,1,26,4],[26,8,26,11],[26,15,26,22],[22,0,23,0],[22,1,23,4],[22,5,22,11],[22,12,22,22],[23,8,23,11],[23,15,23,22],[29,1,29,4],[29,8,29,11],[29,15,29,22],[30,1,30,4],[30,8,30,11],[30,15,30,22],[27,1,27,4],[27,8,27,11],[27,15,27,22],[28,1,28,4],[28,8,28,11],[28,15,28,22],[35,1,35,4],[35,8,35,11],[35,15,35,22],[36,1,36,4],[36,8,36,11],[36,15,36,22],[31,0,31,4],[32,1,32,4],[32,8,32,11],[32,15,32,22],[33,1,33,4],[33,8,33,11],[33,15,33,22],[41,1,41,4],[41,8,41,11],[41,15,41,22],[43,1,43,4],[43,8,43,11],[43,15,43,22],[37,0,37,4],[39,1,39,4],[39,8,39,11],[39,15,39,22],[40,1,40,4],[40,8,40,11],[40,15,40,22],[46,1,46,4],[46,8,46,11],[46,15,46,22],[48,1,48,4],[48,8,48,11],[48,15,48,22],[44,1,44,4],[44,8,44,11],[44,15,44,22],[45,1,45,4],[45,8,45,11],[45,15,45,22],[51,1,51,4],[51,8,51,11],[51,15,51,22],[52,1,52,4],[52,8,52,11],[52,15,52,22],[49,1,49,4],[49,8,49,11],[49,15,49,22],[50,1,50,4],[50,8,50,11],[50,15,50,22],[55,1,55,5],[55,17,55,18],[55,20,55,22],[56,1,56,5],[56,6,56,7],[56,13,56,14],[56,17,56,18],[56,20,56,22],[53,1,53,4],[53,8,53,11],[53,15,53,22],[54,1,54,4],[54,8,54,11],[54,15,54,22],[59,1,59,5],[59,6,59,8],[59,13,59,17],[59,18,59,22],[59,27,61,29],[60,0,61,0],[60,1,61,5],[60,6,61,8],[60,9,61,9],[60,10,61,10],[62,18,62,22],[62,27,63,29],[60,13,60,17],[60,18,60,22],[61,13,61,17],[61,18,61,22],[62,0,63,0],[62,1,63,5],[62,6,63,8],[62,9,63,9],[62,10,63,10],[62,13,62,17]]}
["PEMERINTAH DAERAH PROVINSI JAWA BARAT"]
["DINAS PENDIDIKAN"]
["SMKN 1 KARAWANG"]
["Jl. Pangkal Perjuangan By Pass Karawang  Telp.0267-401651 Fax.417258 Website : www.smkn1karawang.net Email : smkn1karawang@gmail.com"]
[]
[{"$f":"\"LEGER NILAI SISWA TAHUN PELAJARAN \"&MENU!I12","v":"LEGER NILAI SISWA TAHUN PELAJARAN 2017 / 2018"},null,null,null,null,null,null,null,null,null,null,null,null,null,null,null,null,null,null,null,null,null,null,null,null,null,null,"HALAMAN CETAK"]
[null,null,null,null,null,null,null,null,null,null,null,null,null,null,null,null,null,null,null,null,null,null,null,null,null,null,null,"Dari data ke",2]
["Nama Siswa",null,":",{"$f":"VLOOKUP($AC$14,TABNILSM2,NILSM2!B7)","v":"AL KINDI"},null,null,null,null,null,null,null,null,"Bidang Keahlian",null,null,null,":",{"$f":"KET.PETUNJUK!D18","v":"TEKNOLOGI INFORMASI DAN KOMUNIKASI"}]
["Nomor Induk/NISN",null,":",{"$f":"IF(VLOOKUP($AC$14,TABBIODATA,BIODATA!E4)=\"\",VLOOKUP($AC$14,TABBIODATA,BIODATA!D4),VLOOKUP($AC$14,TABBIODATA,BIODATA!D4)&\" / \"&VLOOKUP($AC$14,TABBIODATA,BIODATA!E4))","v":"13140768 / 9973289804"},null,null,null,null,null,null,null,null,"Program Keahlian",null,null,null,":",{"$f":"KET.PETUNJUK!D19","v":"TEKNIK KOMPUTER DAN INFORMATIKA"},null,null,null,null,null,null,null,null,null,"Sampai data ke",2]
["Kelas/Semester ",null,":",{"$f":"X10&\" / \"&X11","v":"X TKRO 1 / 2 (dua)"},null,null,null,null,null,null,null,null,"Paket Keahlian",null,null,null,":",{"$f":"KET.PETUNJUK!D20","v":"TEKNIK KOMPUTER JARINGAN"},null,null,null,null,null,{"$f":"IF(OR(X11=\"1 (satu)\",X11=\"2 (dua)\"),\"X \"&MENU!I9,IF(OR(X11=\"3 (tiga)\",X11=\"4 (empat)\"),\"XI \"&MENU!I9,IF(OR(X11=\"5 (lima)\",X11=\"6 (enam)\"),\"XII \"&MENU!I9,\"\")))","v":"X TKRO 1"}]
["Wali Kelas",null,":",{"$f":"NILSM2!B4","v":"Sri Hartati,S.T"},null,null,null,null,null,null,null,null,null,null,null,null,null,null,null,null,null,null,null,{"$f":"NILSM2!B3","v":"2 (dua)"}]
[]
["A.  Nilai Sikap",null,null,null,null,null,null,null,null,null,null,null,null,"Prestasi",null,null,null,null,null,null,"Ketidakhadiran",null,null,null,null,null,null,"TAMPILAN DATA"]
["No.","Kompetensi Inti",null,"Deskripsi",null,null,null,null,null,null,null,null,null,"Jenis Prestasi",null,null,null,null,"Keterangan",null,"Sakit",":",{"$f":"VLOOKUP($AC$14,TABNILSM2,NILSM2!DI7)","v":3},2,null,null,null,"Nomor Urut",2]
["1","Spiritual (KI-1)",null,{"$f":"IFERROR(VLOOKUP(X15,TABDESSPIRITUAL,2),\"-\")","v":"Baik, dapat menerima, menjalankan, menghargai, menghayati dan mengamalkan ajaran agama yang dianut."},null,null,null,null,null,null,null,null,null,{"$f":"IFERROR(VLOOKUP($AC$14,TABNILSM2,NILSM2!DE7),\"-\")","v":"Juara 1 LKS Jawa Barat"},null,null,null,null,{"$f":"IFERROR(VLOOKUP($AC$14,TABNILSM2,NILSM2!DF7),\"-\")","v":0},null,"Izin",":",{"$f":"VLOOKUP($AC$14,TABNILSM2,NILSM2!DJ7)","v":"-"},{"$f":"VLOOKUP($AC$14,TABNILSM2,NILSM2!DL7)","v":"B"}]
[null,null,null,null,null,null,null,null,null,null,null,null,null,null,null,null,null,null,null,null,"Alpa",":",{"$f":"VLOOKUP($AC$14,TABNILSM2,NILSM2!DK7)","v":"-"}]
[2,"Sosial (KI-2)",null,{"$f":"IFERROR(VLOOKUP(X18,TABDESSOSIAL,2),\"-\")","v":"Sudah menunjukkan konsisten menerapkan sikap jujur, santun dan toleran dalam pergaulan, disiplin, kerjasama dalam kelompok dan tanggungjawab dalam keseharian sebagai hasil pembelajaran di sekolah. Tingkatkan sikap-sikap positif tersebut agar lebih baik."}]
[null,null,null,null,null,null,null,null,null,null,null,null,null,{"$f":"IFERROR(VLOOKUP($AC$14,TABNILSM2,NILSM2!DG7),\"-\")","v":"-"},null,null,null,null,{"$f":"IFERROR(VLOOKUP($AC$14,TABNILSM2,NILSM2!DH7),\"-\")","v":"-"},null,"Kenaikan Kelas",null,null,{"$f":"VLOOKUP($AC$14,TABNILSM2,NILSM2!DM7)","v":"B"},null,null,null,"PILIHAN DESKRIPSI"]
[null,null,null,null,null,null,null,null,null,null,null,null,null,null,null,null,null,null,null,null,{"$f":"IFERROR(VLOOKUP($AC$14,TABNILSM2,NILSM2!DW7),\"-\")","v":"NAIK KELAS"},null,null,null,null,null,null,"OTOMATIS"]
[]
[]
["B.  Nilai Pengetahuan dan Keterampilan"]
["No.","Mata Pelajaran",null,null,null,"Pengetahuan (KI-3)",null,null,null,null,null,null,"Keterampilan (KI-4)"]
[null,null,null,null,null,"KB","Angka","Predikat","Deskripsi",null,null,null,"KB","Angka","Predikat","Deskripsi"]
["Muatan Nasional"]
[{"$f":"NILSM2!D4","v":1},{"$f":"NILSM2!D2","v":"Pendidikan Agama dan Budi Pekerti"},null,null,null,{"$f":"NILSM2!D5","v":75},{"$f":"VLOOKUP($AC$14,TABNILSM2,NILSM2!D7)","v":75},{"$f":"IFERROR(VLOOKUP(G26,TABEL_NILAI,4),\"-\")","v":"D"},{"$f":"IFERROR(IF($AB$19=DATABASE!$B$2,VLOOKUP(H26,TABDESPENGETAHUAN,2),IF($AB$19=DATABASE!$B$3,VLOOKUP(H26,DESKPENGETAHUANSM2,DESKSM2!D3),\"-\")),\"-\")","v":"Kurang dapat memahami, hanya bisa menerapkan, menganalisis, dan mengeveluasi sebagian kecil kompetensi dasar."},null,null,null,{"$f":"NILSM2!E5","v":75},{"$f":"VLOOKUP($AC$14,TABNILSM2,NILSM2!E7)","v":75},{"$f":"IFERROR(VLOOKUP(N26,TABEL_NILAI,4),\"-\")","v":"D"},{"$f":"IFERROR(IF($AB$19=DATABASE!$B$2,VLOOKUP(O26,TABDESKETERAMPILAN,2),IF($AB$19=DATABASE!$B$3,VLOOKUP(O26,DESKKETERAMPILANSM2,DESKSM2!D3),\"-\")),\"-\")","v":"Kurang aktif bertanya, mencoba, menalar dan kreatif dalam menyelesaikan tugas praktek."}]
[{"$f":"NILSM2!G4","v":2},{"$f":"NILSM2!G2","v":"Pendidikan Pancasila dan Kewarganegaraan"},null,null,null,{"$f":"NILSM2!G5","v":75},{"$f":"VLOOKUP($AC$14,TABNILSM2,NILSM2!G7)","v":83.25},{"$f":"IFERROR(VLOOKUP(G27,TABEL_NILAI,4),\"-\")","v":"C"},{"$f":"IFERROR(IF($AB$19=DATABASE!$B$2,VLOOKUP(H27,TABDESPENGETAHUAN,2),IF($AB$19=DATABASE!$B$3,VLOOKUP(H27,DESKPENGETAHUANSM2,DESKSM2!D4),\"-\")),\"-\")","v":"Cukup baik memahami sebagian kompetensi dasar, tetapi kurang bisa menerapkan, menganalisis dan mengevaluasinya."},null,null,null,{"$f":"NILSM2!H5","v":75},{"$f":"VLOOKUP($AC$14,TABNILSM2,NILSM2!H7)","v":83.25},"C",{"$f":"IFERROR(IF($AB$19=DATABASE!$B$2,VLOOKUP(O27,TABDESKETERAMPILAN,2),IF($AB$19=DATABASE!$B$3,VLOOKUP(O27,DESKKETERAMPILANSM2,DESKSM2!D4),\"-\")),\"-\")","v":"Cukup aktif bertanya, mencoba, menalar dan kreatif dalam menyelesaikan tugas praktek"}]
[{"$f":"NILSM2!J4","v":3},{"$f":"NILSM2!J2","v":"Bahasa Indonesia"},null,null,null,{"$f":"NILSM2!J5","v":75},{"$f":"VLOOKUP($AC$14,TABNILSM2,NILSM2!J7)","v":75},"D",{"$f":"IFERROR(IF($AB$19=DATABASE!$B$2,VLOOKUP(H28,TABDESPENGETAHUAN,2),IF($AB$19=DATABASE!$B$3,VLOOKUP(H28,DESKPENGETAHUANSM2,DESKSM2!D5),\"-\")),\"-\")","v":"Kurang dapat memahami, hanya bisa menerapkan, menganalisis, dan mengeveluasi sebagian kecil kompetensi dasar."},null,null,null,{"$f":"NILSM2!K5","v":75},{"$f":"VLOOKUP($AC$14,TABNILSM2,NILSM2!K7)","v":75},"D",{"$f":"IFERROR(IF($AB$19=DATABASE!$B$2,VLOOKUP(O28,TABDESKETERAMPILAN,2),IF($AB$19=DATABASE!$B$3,VLOOKUP(O28,DESKKETERAMPILANSM2,DESKSM2!D5),\"-\")),\"-\")","v":"Kurang aktif bertanya, mencoba, menalar dan kreatif dalam menyelesaikan tugas praktek."}]
[{"$f":"NILSM2!M4","v":4},{"$f":"NILSM2!M2","v":"Matematika"},null,null,null,{"$f":"NILSM2!M5","v":75},{"$f":"VLOOKUP($AC$14,TABNILSM2,NILSM2!M7)","v":75},"D",{"$f":"IFERROR(IF($AB$19=DATABASE!$B$2,VLOOKUP(H29,TABDESPENGETAHUAN,2),IF($AB$19=DATABASE!$B$3,VLOOKUP(H29,DESKPENGETAHUANSM2,DESKSM2!D6),\"-\")),\"-\")","v":"Kurang dapat memahami, hanya bisa menerapkan, menganalisis, dan mengeveluasi sebagian kecil kompetensi dasar."},null,null,null,{"$f":"NILSM2!N5","v":75},{"$f":"VLOOKUP($AC$14,TABNILSM2,NILSM2!N7)","v":75},"D",{"$f":"IFERROR(IF($AB$19=DATABASE!$B$2,VLOOKUP(O29,TABDESKETERAMPILAN,2),IF($AB$19=DATABASE!$B$3,VLOOKUP(O29,DESKKETERAMPILANSM2,DESKSM2!D6),\"-\")),\"-\")","v":"Kurang aktif bertanya, mencoba, menalar dan kreatif dalam menyelesaikan tugas praktek."}]
[{"$f":"NILSM2!P4","v":5},{"$f":"NILSM2!P2","v":"Sejarah Indonesia"},null,null,null,{"$f":"NILSM2!P5","v":75},{"$f":"VLOOKUP($AC$14,TABNILSM2,NILSM2!P7)","v":75},"D",{"$f":"IFERROR(IF($AB$19=DATABASE!$B$2,VLOOKUP(H30,TABDESPENGETAHUAN,2),IF($AB$19=DATABASE!$B$3,VLOOKUP(H30,DESKPENGETAHUANSM2,DESKSM2!D7),\"-\")),\"-\")","v":"Kurang dapat memahami, hanya bisa menerapkan, menganalisis, dan mengeveluasi sebagian kecil kompetensi dasar."},null,null,null,{"$f":"NILSM2!Q5","v":75},{"$f":"VLOOKUP($AC$14,TABNILSM2,NILSM2!Q7)","v":75},"D",{"$f":"IFERROR(IF($AB$19=DATABASE!$B$2,VLOOKUP(O30,TABDESKETERAMPILAN,2),IF($AB$19=DATABASE!$B$3,VLOOKUP(O30,DESKKETERAMPILANSM2,DESKSM2!D7),\"-\")),\"-\")","v":"Kurang aktif bertanya, mencoba, menalar dan kreatif dalam menyelesaikan tugas praktek."}]
[{"$f":"NILSM2!S4","v":6},{"$f":"NILSM2!S2","v":"Bahasa Inggris"},null,null,null,{"$f":"NILSM2!S5","v":75},{"$f":"VLOOKUP($AC$14,TABNILSM2,NILSM2!S7)","v":83.25},"C",{"$f":"IFERROR(IF($AB$19=DATABASE!$B$2,VLOOKUP(H31,TABDESPENGETAHUAN,2),IF($AB$19=DATABASE!$B$3,VLOOKUP(H31,DESKPENGETAHUANSM2,DESKSM2!D8),\"-\")),\"-\")","v":"Cukup baik memahami sebagian kompetensi dasar, tetapi kurang bisa menerapkan, menganalisis dan mengevaluasinya."},null,null,null,{"$f":"NILSM2!T5","v":75},{"$f":"VLOOKUP($AC$14,TABNILSM2,NILSM2!T7)","v":75},"D",{"$f":"IFERROR(IF($AB$19=DATABASE!$B$2,VLOOKUP(O31,TABDESKETERAMPILAN,2),IF($AB$19=DATABASE!$B$3,VLOOKUP(O31,DESKKETERAMPILANSM2,DESKSM2!D8),\"-\")),\"-\")","v":"Kurang aktif bertanya, mencoba, menalar dan kreatif dalam menyelesaikan tugas praktek."}]
["Muatan Kewilayahan"]
[{"$f":"NILSM2!V4","v":1},{"$f":"NILSM2!V2","v":"Seni Budaya"},null,null,null,{"$f":"NILSM2!V5","v":75},{"$f":"VLOOKUP($AC$14,TABNILSM2,NILSM2!V7)","v":91.75},{"$f":"IFERROR(VLOOKUP(G33,TABEL_NILAI,4),\"-\")","v":"B"},{"$f":"IFERROR(IF($AB$19=DATABASE!$B$2,VLOOKUP(H33,TABDESPENGETAHUAN,2),IF($AB$19=DATABASE!$B$3,VLOOKUP(H33,DESKPENGETAHUANSM2,DESKSM2!D10),\"-\")),\"-\")","v":"Baik dalam memahami, menerapkan, menganalisis dan mengevaluasi sebagian besar kompetensi dasar."},null,null,null,{"$f":"NILSM2!W5","v":75},{"$f":"VLOOKUP($AC$14,TABNILSM2,NILSM2!W7)","v":83.25},{"$f":"IFERROR(VLOOKUP(N33,TABEL_NILAI,4),\"-\")","v":"C"},{"$f":"IFERROR(IF($AB$19=DATABASE!$B$2,VLOOKUP(O33,TABDESKETERAMPILAN,2),IF($AB$19=DATABASE!$B$3,VLOOKUP(O33,DESKKETERAMPILANSM2,DESKSM2!D10),\"-\")),\"-\")","v":"Cukup aktif bertanya, mencoba, menalar dan kreatif dalam menyelesaikan tugas praktek"}]
[{"$f":"NILSM2!Y4","v":2},{"$f":"NILSM2!Y2","v":"Pendidikan Jasmani, Olah Raga & Kesehatan"},null,null,null,{"$f":"NILSM2!Y5","v":75},{"$f":"VLOOKUP($AC$14,TABNILSM2,NILSM2!Y7)","v":75},{"$f":"IFERROR(VLOOKUP(G34,TABEL_NILAI,4),\"-\")","v":"D"},{"$f":"IFERROR(IF($AB$19=DATABASE!$B$2,VLOOKUP(H34,TABDESPENGETAHUAN,2),IF($AB$19=DATABASE!$B$3,VLOOKUP(H34,DESKPENGETAHUANSM2,DESKSM2!D11),\"-\")),\"-\")","v":"Kurang dapat memahami, hanya bisa menerapkan, menganalisis, dan mengeveluasi sebagian kecil kompetensi dasar."},null,null,null,{"$f":"NILSM2!Z5","v":75},{"$f":"VLOOKUP($AC$14,TABNILSM2,NILSM2!Z7)","v":75},{"$f":"IFERROR(VLOOKUP(N34,TABEL_NILAI,4),\"-\")","v":"D"},{"$f":"IFERROR(IF($AB$19=DATABASE!$B$2,VLOOKUP(O34,TABDESKETERAMPILAN,2),IF($AB$19=DATABASE!$B$3,VLOOKUP(O34,DESKKETERAMPILANSM2,DESKSM2!D11),\"-\")),\"-\")","v":"Kurang aktif bertanya, mencoba, menalar dan kreatif dalam menyelesaikan tugas praktek."}]
[null,"Muatan Lokal"]
[{"$f":"NILSM2!AB4","v":3},{"$f":"NILSM2!AB2","v":"Bahasa dan Sastra Sunda"},null,null,null,{"$f":"NILSM2!AB5","v":75},{"$f":"VLOOKUP($AC$14,TABNILSM2,NILSM2!AB7)","v":83.25},{"$f":"IFERROR(VLOOKUP(G36,TABEL_NILAI,4),\"-\")","v":"C"},{"$f":"IFERROR(IF($AB$19=DATABASE!$B$2,VLOOKUP(H36,TABDESPENGETAHUAN,2),IF($AB$19=DATABASE!$B$3,VLOOKUP(H36,DESKPENGETAHUANSM2,DESKSM2!D12),\"-\")),\"-\")","v":"Cukup baik memahami sebagian kompetensi dasar, tetapi kurang bisa menerapkan, menganalisis dan mengevaluasinya."},null,null,null,{"$f":"NILSM2!AC5","v":75},{"$f":"VLOOKUP($AC$14,TABNILSM2,NILSM2!AC7)","v":91.5},{"$f":"IFERROR(VLOOKUP(N36,TABEL_NILAI,4),\"-\")","v":"B"},{"$f":"IFERROR(IF($AB$19=DATABASE!$B$2,VLOOKUP(O36,TABDESKETERAMPILAN,2),IF($AB$19=DATABASE!$B$3,VLOOKUP(O36,DESKKETERAMPILANSM2,DESKSM2!D12),\"-\")),\"-\")","v":"Baik dan aktif bertanya, mencoba, menalar dan kreatif dalam menyelesaikan sebagian besar tugas praktek."}]
[{"$f":"NILSM2!AE4","v":4},{"$f":"NILSM2!AE2","v":"PLH"},null,null,null,{"$f":"NILSM2!AE5","v":75},{"$f":"VLOOKUP($AC$14,TABNILSM2,NILSM2!AE7)","v":75},{"$f":"IFERROR(VLOOKUP(G37,TABEL_NILAI,4),\"-\")","v":"D"},{"$f":"IFERROR(IF($AB$19=DATABASE!$B$2,VLOOKUP(H37,TABDESPENGETAHUAN,2),IF($AB$19=DATABASE!$B$3,VLOOKUP(H37,DESKPENGETAHUANSM2,DESKSM2!D15),\"-\")),\"-\")","v":"Kurang dapat memahami, hanya bisa menerapkan, menganalisis, dan mengeveluasi sebagian kecil kompetensi dasar."},null,null,null,{"$f":"NILSM2!AF5","v":75},{"$f":"VLOOKUP($AC$14,TABNILSM2,NILSM2!AF7)","v":83.25},{"$f":"IFERROR(VLOOKUP(N37,TABEL_NILAI,4),\"-\")","v":"C"},{"$f":"IFERROR(IF($AB$19=DATABASE!$B$2,VLOOKUP(O37,TABDESKETERAMPILAN,2),IF($AB$19=DATABASE!$B$3,VLOOKUP(O37,DESKKETERAMPILANSM2,DESKSM2!D15),\"-\")),\"-\")","v":"Cukup aktif bertanya, mencoba, menalar dan kreatif dalam menyelesaikan tugas praktek"}]
["Muatan Peminatan Kejuruan"]
["C1","Dasar Bidang Keahlian"]
[{"$f":"NILSM2!AH4","v":1},{"$f":"NILSM2!AH2","v":"Simulasi dan Komunikasi Digital"},null,null,null,{"$f":"NILSM2!AH5","v":75},{"$f":"VLOOKUP($AC$14,TABNILSM2,NILSM2!AH7)","v":75},{"$f":"IFERROR(VLOOKUP(G40,TABEL_NILAI,4),\"-\")","v":"D"},{"$f":"IFERROR(IF($AB$19=DATABASE!$B$2,VLOOKUP(H40,TABDESPENGETAHUAN,2),IF($AB$19=DATABASE!$B$3,VLOOKUP(H40,DESKPENGETAHUANSM2,DESKSM2!D16),\"-\")),\"-\")","v":"Kurang dapat memahami, hanya bisa menerapkan, menganalisis, dan mengeveluasi sebagian kecil kompetensi dasar."},null,null,null,{"$f":"NILSM2!AI5","v":75},{"$f":"VLOOKUP($AC$14,TABNILSM2,NILSM2!AI7)","v":75},{"$f":"IFERROR(VLOOKUP(N40,TABEL_NILAI,4),\"-\")","v":"D"},{"$f":"IFERROR(IF($AB$19=DATABASE!$B$2,VLOOKUP(O40,TABDESKETERAMPILAN,2),IF($AB$19=DATABASE!$B$3,VLOOKUP(O40,DESKKETERAMPILANSM2,DESKSM2!D16),\"-\")),\"-\")","v":"Kurang aktif bertanya, mencoba, menalar dan kreatif dalam menyelesaikan tugas praktek."}]
[{"$f":"NILSM2!AK4","v":2},{"$f":"NILSM2!AK2","v":"Fisika"},null,null,null,{"$f":"NILSM2!AK5","v":75},{"$f":"VLOOKUP($AC$14,TABNILSM2,NILSM2!AK7)","v":83.25},{"$f":"IFERROR(VLOOKUP(G41,TABEL_NILAI,4),\"-\")","v":"C"},{"$f":"IFERROR(IF($AB$19=DATABASE!$B$2,VLOOKUP(H41,TABDESPENGETAHUAN,2),IF($AB$19=DATABASE!$B$3,VLOOKUP(H41,DESKPENGETAHUANSM2,DESKSM2!D17),\"-\")),\"-\")","v":"Cukup baik memahami sebagian kompetensi dasar, tetapi kurang bisa menerapkan, menganalisis dan mengevaluasinya."},null,null,null,{"$f":"NILSM2!AL5","v":75},{"$f":"VLOOKUP($AC$14,TABNILSM2,NILSM2!AL7)","v":83.25},{"$f":"IFERROR(VLOOKUP(N41,TABEL_NILAI,4),\"-\")","v":"C"},{"$f":"IFERROR(IF($AB$19=DATABASE!$B$2,VLOOKUP(O41,TABDESKETERAMPILAN,2),IF($AB$19=DATABASE!$B$3,VLOOKUP(O41,DESKKETERAMPILANSM2,DESKSM2!D17),\"-\")),\"-\")","v":"Cukup aktif bertanya, mencoba, menalar dan kreatif dalam menyelesaikan tugas praktek"}]
[{"$f":"NILSM2!AN4","v":3},{"$f":"NILSM2!AN2","v":"Kimia"},null,null,null,{"$f":"NILSM2!AN5","v":75},{"$f":"VLOOKUP($AC$14,TABNILSM2,NILSM2!AN7)","v":83.25},{"$f":"IFERROR(VLOOKUP(G42,TABEL_NILAI,4),\"-\")","v":"C"},{"$f":"IFERROR(IF($AB$19=DATABASE!$B$2,VLOOKUP(H42,TABDESPENGETAHUAN,2),IF($AB$19=DATABASE!$B$3,VLOOKUP(H42,DESKPENGETAHUANSM2,DESKSM2!D19),\"-\")),\"-\")","v":"Cukup baik memahami sebagian kompetensi dasar, tetapi kurang bisa menerapkan, menganalisis dan mengevaluasinya."},null,null,null,{"$f":"NILSM2!AO5","v":75},{"$f":"VLOOKUP($AC$14,TABNILSM2,NILSM2!AO7)","v":75},{"$f":"IFERROR(VLOOKUP(N42,TABEL_NILAI,4),\"-\")","v":"D"},{"$f":"IFERROR(IF($AB$19=DATABASE!$B$2,VLOOKUP(O42,TABDESKETERAMPILAN,2),IF($AB$19=DATABASE!$B$3,VLOOKUP(O42,DESKKETERAMPILANSM2,DESKSM2!D19),\"-\")),\"-\")","v":"Kurang aktif bertanya, mencoba, menalar dan kreatif dalam menyelesaikan tugas praktek."}]
["C2","Dasar Program Keahlian"]
[{"$f":"NILSM2!AQ4","v":4},{"$f":"NILSM2!AQ2","v":"Sistem Komputer"},null,null,null,{"$f":"NILSM2!AQ5","v":75},{"$f":"VLOOKUP($AC$14,TABNILSM2,NILSM2!AQ7)","v":75},"D",{"$f":"IFERROR(IF($AB$19=DATABASE!$B$2,VLOOKUP(H44,TABDESPENGETAHUAN,2),IF($AB$19=DATABASE!$B$3,VLOOKUP(H44,DESKPENGETAHUANSM2,DESKSM2!D20),\"-\")),\"-\")","v":"Kurang dapat memahami, hanya bisa menerapkan, menganalisis, dan mengeveluasi sebagian kecil kompetensi dasar."},null,null,null,{"$f":"NILSM2!AR5","v":75},{"$f":"VLOOKUP($AC$14,TABNILSM2,NILSM2!AR7)","v":75},"D",{"$f":"IFERROR(IF($AB$19=DATABASE!$B$2,VLOOKUP(O44,TABDESKETERAMPILAN,2),IF($AB$19=DATABASE!$B$3,VLOOKUP(O44,DESKKETERAMPILANSM2,DESKSM2!D20),\"-\")),\"-\")","v":"Kurang aktif bertanya, mencoba, menalar dan kreatif dalam menyelesaikan tugas praktek."}]
[{"$f":"NILSM2!AT4","v":5},{"$f":"NILSM2!AT2","v":"Komputer dan Jaringan Dasar"},null,null,null,{"$f":"NILSM2!AT5","v":75},{"$f":"VLOOKUP($AC$14,TABNILSM2,NILSM2!AT7)","v":83.25},"C",{"$f":"IFERROR(IF($AB$19=DATABASE!$B$2,VLOOKUP(H45,TABDESPENGETAHUAN,2),IF($AB$19=DATABASE!$B$3,VLOOKUP(H45,DESKPENGETAHUANSM2,DESKSM2!D21),\"-\")),\"-\")","v":"Cukup baik memahami sebagian kompetensi dasar, tetapi kurang bisa menerapkan, menganalisis dan mengevaluasinya."},null,null,null,{"$f":"NILSM2!AU5","v":75},{"$f":"VLOOKUP($AC$14,TABNILSM2,NILSM2!AU7)","v":83.25},"C",{"$f":"IFERROR(IF($AB$19=DATABASE!$B$2,VLOOKUP(O45,TABDESKETERAMPILAN,2),IF($AB$19=DATABASE!$B$3,VLOOKUP(O45,DESKKETERAMPILANSM2,DESKSM2!D21),\"-\")),\"-\")","v":"Cukup aktif bertanya, mencoba, menalar dan kreatif dalam menyelesaikan tugas praktek"}]
[{"$f":"NILSM2!AW4","v":6},{"$f":"NILSM2!AW2","v":"Pemrograman Dasar"},null,null,null,{"$f":"NILSM2!AW5","v":75},{"$f":"VLOOKUP($AC$14,TABNILSM2,NILSM2!AW7)","v":75},"D",{"$f":"IFERROR(IF($AB$19=DATABASE!$B$2,VLOOKUP(H46,TABDESPENGETAHUAN,2),IF($AB$19=DATABASE!$B$3,VLOOKUP(H46,DESKPENGETAHUANSM2,DESKSM2!D22),\"-\")),\"-\")","v":"Kurang dapat memahami, hanya bisa menerapkan, menganalisis, dan mengeveluasi sebagian kecil kompetensi dasar."},null,null,null,{"$f":"NILSM2!AX5","v":75},{"$f":"VLOOKUP($AC$14,TABNILSM2,NILSM2!AX7)","v":75},"D",{"$f":"IFERROR(IF($AB$19=DATABASE!$B$2,VLOOKUP(O46,TABDESKETERAMPILAN,2),IF($AB$19=DATABASE!$B$3,VLOOKUP(O46,DESKKETERAMPILANSM2,DESKSM2!D22),\"-\")),\"-\")","v":"Kurang aktif bertanya, mencoba, menalar dan kreatif dalam menyelesaikan tugas praktek."}]
[{"$f":"NILSM2!AZ4","v":7},{"$f":"NILSM2!AZ2","v":"Dasar Desain Grafis"},null,null,null,{"$f":"NILSM2!AZ5","v":75},{"$f":"VLOOKUP($AC$14,TABNILSM2,NILSM2!AZ7)","v":"-"},"-",{"$f":"IFERROR(IF($AB$19=DATABASE!$B$2,VLOOKUP(H47,TABDESPENGETAHUAN,2),IF($AB$19=DATABASE!$B$3,VLOOKUP(H47,DESKPENGETAHUANSM2,DESKSM2!D23),\"-\")),\"-\")","v":"-"},null,null,null,{"$f":"NILSM2!BA5","v":75},{"$f":"VLOOKUP($AC$14,TABNILSM2,NILSM2!BA7)","v":"-"},"-",{"$f":"IFERROR(IF($AB$19=DATABASE!$B$2,VLOOKUP(O47,TABDESKETERAMPILAN,2),IF($AB$19=DATABASE!$B$3,VLOOKUP(O47,DESKKETERAMPILANSM2,DESKSM2!D23),\"-\")),\"-\")","v":"-"}]
["C3","Paket Keahlian"]
[{"$f":"NILSM2!BC4","v":1},{"$f":"NILSM2!BC2","v":"-"},null,null,null,{"$f":"NILSM2!BC5","v":75},{"$f":"VLOOKUP($AC$14,TABNILSM2,NILSM2!BC7)","v":"-"},"-",{"$f":"IFERROR(IF($AB$19=DATABASE!$B$2,VLOOKUP(H49,TABDESPENGETAHUAN,2),IF($AB$19=DATABASE!$B$3,VLOOKUP(H49,DESKPENGETAHUANSM2,DESKSM2!D24),\"-\")),\"-\")","v":"-"},null,null,null,{"$f":"NILSM2!BD5","v":75},{"$f":"VLOOKUP($AC$14,TABNILSM2,NILSM2!BD7)","v":"-"},"-",{"$f":"IFERROR(IF($AB$19=DATABASE!$B$2,VLOOKUP(O49,TABDESKETERAMPILAN,2),IF($AB$19=DATABASE!$B$3,VLOOKUP(O49,DESKKETERAMPILANSM2,DESKSM2!D24),\"-\")),\"-\")","v":"-"}]
[{"$f":"NILSM2!BF4","v":2},{"$f":"NILSM2!BF2","v":"-"},null,null,null,{"$f":"NILSM2!BF5","v":75},{"$f":"VLOOKUP($AC$14,TABNILSM2,NILSM2!BF7)","v":"-"},"-",{"$f":"IFERROR(IF($AB$19=DATABASE!$B$2,VLOOKUP(H50,TABDESPENGETAHUAN,2),IF($AB$19=DATABASE!$B$3,VLOOKUP(H50,DESKMANUPENGETAHUAN,2),\"-\")),\"-\")","v":"-"},null,null,null,{"$f":"NILSM2!BG5","v":75},{"$f":"VLOOKUP($AC$14,TABNILSM2,NILSM2!BG7)","v":"-"},"-",{"$f":"IFERROR(IF($AB$19=DATABASE!$B$2,VLOOKUP(O50,TABDESKETERAMPILAN,2),IF($AB$19=DATABASE!$B$3,VLOOKUP(O50,DESKMANUKETERAMPILAN,2),\"-\")),\"-\")","v":"-"}]
[{"$f":"NILSM2!BI4","v":3},{"$f":"NILSM2!BI2","v":"-"},null,null,null,{"$f":"NILSM2!BI5","v":75},{"$f":"VLOOKUP($AC$14,TABNILSM2,NILSM2!BI7)","v":"-"},"-",{"$f":"IFERROR(IF($AB$19=DATABASE!$B$2,VLOOKUP(H51,TABDESPENGETAHUAN,2),IF($AB$19=DATABASE!$B$3,VLOOKUP(H51,DESKMANUPENGETAHUAN,2),\"-\")),\"-\")","v":"-"},null,null,null,{"$f":"NILSM2!BJ5","v":75},{"$f":"VLOOKUP($AC$14,TABNILSM2,NILSM2!BJ7)","v":"-"},"-",{"$f":"IFERROR(IF($AB$19=DATABASE!$B$2,VLOOKUP(O51,TABDESKETERAMPILAN,2),IF($AB$19=DATABASE!$B$3,VLOOKUP(O51,DESKMANUKETERAMPILAN,2),\"-\")),\"-\")","v":"-"}]
[{"$f":"NILSM2!BL4","v":4},{"$f":"NILSM2!BL2","v":"-"},null,null,null,{"$f":"NILSM2!BL5","v":75},{"$f":"VLOOKUP($AC$14,TABNILSM2,NILSM2!BL7)","v":"-"},"-",{"$f":"IFERROR(IF($AB$19=DATABASE!$B$2,VLOOKUP(H52,TABDESPENGETAHUAN,2),IF($AB$19=DATABASE!$B$3,VLOOKUP(H52,DESKMANUPENGETAHUAN,2),\"-\")),\"-\")","v":"-"},null,null,null,{"$f":"NILSM2!BM5","v":75},{"$f":"VLOOKUP($AC$14,TABNILSM2,NILSM2!BM7)","v":"-"},"-",{"$f":"IFERROR(IF($AB$19=DATABASE!$B$2,VLOOKUP(O52,TABDESKETERAMPILAN,2),IF($AB$19=DATABASE!$B$3,VLOOKUP(O52,DESKMANUKETERAMPILAN,2),\"-\")),\"-\")","v":"-"}]
[{"$f":"NILSM2!BO4","v":5},{"$f":"NILSM2!BO2","v":"-"},null,null,null,{"$f":"NILSM2!BO5","v":75},{"$f":"VLOOKUP($AC$14,TABNILSM2,NILSM2!BO7)","v":"-"},"-",{"$f":"IFERROR(IF($AB$19=DATABASE!$B$2,VLOOKUP(H53,TABDESPENGETAHUAN,2),IF($AB$19=DATABASE!$B$3,VLOOKUP(H53,DESKMANUPENGETAHUAN,2),\"-\")),\"-\")","v":"-"},null,null,null,{"$f":"NILSM2!BP5","v":75},{"$f":"VLOOKUP($AC$14,TABNILSM2,NILSM2!BP7)","v":"-"},"-",{"$f":"IFERROR(IF($AB$19=DATABASE!$B$2,VLOOKUP(O53,TABDESKETERAMPILAN,2),IF($AB$19=DATABASE!$B$3,VLOOKUP(O53,DESKMANUKETERAMPILAN,2),\"-\")),\"-\")","v":"-"}]
[{"$f":"NILSM2!BR4","v":6},{"$f":"NILSM2!BR2","v":"-"},null,null,null,{"$f":"NILSM2!BR5","v":75},{"$f":"VLOOKUP($AC$14,TABNILSM2,NILSM2!BR7)","v":"-"},"-",{"$f":"IFERROR(IF($AB$19=DATABASE!$B$2,VLOOKUP(H54,TABDESPENGETAHUAN,2),IF($AB$19=DATABASE!$B$3,VLOOKUP(H54,DESKMANUPENGETAHUAN,2),\"-\")),\"-\")","v":"-"},null,null,null,{"$f":"NILSM2!BS5","v":75},{"$f":"VLOOKUP($AC$14,TABNILSM2,NILSM2!BS7)","v":"-"},"-",{"$f":"IFERROR(IF($AB$19=DATABASE!$B$2,VLOOKUP(O54,TABDESKETERAMPILAN,2),IF($AB$19=DATABASE!$B$3,VLOOKUP(O54,DESKMANUKETERAMPILAN,2),\"-\")),\"-\")","v":"-"}]
[{"$f":"NILSM2!BU4","v":"-"},{"$f":"NILSM2!BU2","v":"-"},null,null,null,{"$f":"NILSM2!BU5","v":75},{"$f":"VLOOKUP($AC$14,TABNILSM2,NILSM2!BU7)","v":"-"},"-",{"$f":"IFERROR(IF($AB$19=DATABASE!$B$2,VLOOKUP(H55,TABDESPENGETAHUAN,2),IF($AB$19=DATABASE!$B$3,VLOOKUP(H55,DESKMANUPENGETAHUAN,2),\"-\")),\"-\")","v":"-"},null,null,null,{"$f":"NILSM2!BV5","v":75},{"$f":"VLOOKUP($AC$14,TABNILSM2,NILSM2!BV7)","v":"-"},"-",{"$f":"IFERROR(IF($AB$19=DATABASE!$B$2,VLOOKUP(O55,TABDESKETERAMPILAN,2),IF($AB$19=DATABASE!$B$3,VLOOKUP(O55,DESKMANUKETERAMPILAN,2),\"-\")),\"-\")","v":"-"}]
[null,"Rata-rata",null,null,null,null,{"$f":"VLOOKUP($AC$14,TABNILSM2,NILSM2!DO7)","v":79},{"$f":"VLOOKUP(G56,TABEL_NILAI,4)","v":"C"},null,null,null,null,null,{"$f":"VLOOKUP($AC$14,TABNILSM2,NILSM2!DP7)","v":79},{"$f":"VLOOKUP(N56,TABEL_NILAI,4)","v":"C"},null,null,"Total Nilai :",null,null,"Peringkat di Kelas :"]
[null,"Jumlah Nilai",null,null,null,null,{"$f":"VLOOKUP($AC$14,TABNILSM2,NILSM2!DQ7)","v":1266},null,null,null,null,null,null,{"$f":"VLOOKUP($AC$14,TABNILSM2,NILSM2!DR7)","v":1258},null,null,null,{"$f":"VLOOKUP($AC$14,TABNILSM2,NILSM2!DS7)","v":2524},null,null,{"$f":"IF(VLOOKUP($AC$14,TABNILSM2,NILSM2!DU7)=\"\",\"-\",VLOOKUP($AC$14,TABNILSM2,NILSM2!DU7)&\" dari \"&VLOOKUP($AC$14,TABNILSM2,NILSM2!DV7))","v":"-"}]
[]
["C.  Praktek Kerja Lapangan",null,null,null,null,null,null,null,null,null,null,null,"D.  Ekstrakurikuler"]
["No.","Mitra DU/DI",null,null,null,null,"Lokasi",null,null,"Lamanya (Bulan)","Keterangan",null,"No.","Kegiatan Ekstrakurikuler",null,null,null,null,"Keterangan",null,null,null,null,null,null,null,null,{"$f":"D8","v":"AL KINDI"}]
[1,{"$f":"IF(VLOOKUP($AC$14,TABNILSM2,NILSM2!CQ7)=\"\",\"-\",VLOOKUP($AC$14,TABNILSM2,NILSM2!CQ7))","v":"Dinas Bina Marga"},null,null,null,null,{"$f":"IF(VLOOKUP($AC$14,TABNILSM2,NILSM2!CR7)=\"\",\"-\",VLOOKUP($AC$14,TABNILSM2,NILSM2!CR7))","v":"Karawang"},null,null,{"$f":"IF(VLOOKUP($AC$14,TABNILSM2,NILSM2!CS7)=\"\",\"-\",VLOOKUP($AC$14,TABNILSM2,NILSM2!CS7))","v":3},{"$f":"IF(VLOOKUP($AC$14,TABNILSM2,NILSM2!CT7)=\"\",\"-\",VLOOKUP($AC$14,TABNILSM2,NILSM2!CT7))","v":"Baik"},null,1,{"$f":"IF(VLOOKUP($AC$14,TABNILSM2,NILSM2!CY7)=\"\",\"-\",VLOOKUP($AC$14,TABNILSM2,NILSM2!CY7))","v":"Rohis"},null,null,null,null,{"$f":"IF(VLOOKUP($AC$14,TABNILSM2,NILSM2!CZ7)=\"\",\"-\",VLOOKUP(X61,TABNESKUL,2,FALSE))","v":"Baik, berprestasi, disiplin dan rajin berlatih"},null,null,null,null,{"$f":"VLOOKUP($AC$14,TABNILSM2,NILSM2!CZ7)","v":"B"}]
[null,null,null,null,null,null,null,null,null,null,null,null,2,{"$f":"IF(VLOOKUP($AC$14,TABNILSM2,NILSM2!DA7)=\"\",\"-\",VLOOKUP($AC$14,TABNILSM2,NILSM2!DA7))","v":"OSIS"},null,null,null,null,{"$f":"IF(VLOOKUP($AC$14,TABNILSM2,NILSM2!DB7)=\"\",\"-\",VLOOKUP(X62,TABNESKUL,2,FALSE))","v":"Baik, berprestasi, disiplin dan rajin berlatih"},null,null,null,null,{"$f":"VLOOKUP($AC$14,TABNILSM2,NILSM2!DB7)","v":"B"}]
[2,{"$f":"IF(VLOOKUP($AC$14,TABNILSM2,NILSM2!CU7)=\"\",\"-\",VLOOKUP($AC$14,TABNILSM2,NILSM2!CU7))","v":"Dinas Perhubungan"},null,null,null,null,{"$f":"IF(VLOOKUP($AC$14,TABNILSM2,NILSM2!CV7)=\"\",\"-\",VLOOKUP($AC$14,TABNILSM2,NILSM2!CV7))","v":"Karawang"},null,null,{"$f":"IF(VLOOKUP($AC$14,TABNILSM2,NILSM2!CW7)=\"\",\"-\",VLOOKUP($AC$14,TABNILSM2,NILSM2!CW7))","v":3},{"$f":"IF(VLOOKUP($AC$14,TABNILSM2,NILSM2!CX7)=\"\",\"-\",VLOOKUP($AC$14,TABNILSM2,NILSM2!CX7))","v":"Sangat Baik"},null,3,{"$f":"IF(VLOOKUP($AC$14,TABNILSM2,NILSM2!DC7)=\"\",\"-\",VLOOKUP($AC$14,TABNILSM2,NILSM2!DC7))","v":"Palang Merah Remaja"},null,null,null,null,{"$f":"IF(VLOOKUP($AC$14,TABNILSM2,NILSM2!DD7)=\"\",\"-\",VLOOKUP(X63,TABNESKUL,2,FALSE))","v":"Baik, berprestasi, disiplin dan rajin berlatih"},null,null,null,null,{"$f":"VLOOKUP($AC$14,TABNILSM2,NILSM2!DD7)","v":"B"},null,null,null,{"$f":"\"Nomor Urut \"&AC14","v":"Nomor Urut 2"}]

{"sheet":"LEGGER3","index":14,"n_rows":63,"n_cols":28,"rows_kept":63,"cut":false,"hidden":false,"merged":[[6,26,7,26],[6,27,7,27],[8,26,9,26],[8,27,9,27],[9,17,10,21],[12,26,12,27],[0,0,0,21],[1,0,1,21],[2,0,2,21],[3,0,3,21],[5,0,5,21],[5,26,5,27],[16,0,19,0],[16,1,19,2],[16,3,19,11],[17,13,19,16],[17,17,19,17],[17,26,17,27],[18,26,19,27],[13,1,13,2],[13,3,13,11],[13,13,13,16],[13,26,14,26],[13,27,14,27],[14,0,15,0],[14,1,15,2],[14,3,15,11],[14,13,16,16],[14,17,16,17],[25,1,25,4],[25,8,25,11],[25,15,25,21],[26,1,26,4],[26,8,26,11],[26,15,26,21],[22,0,23,0],[22,1,23,4],[22,5,22,11],[22,12,22,21],[23,8,23,11],[23,15,23,21],[29,1,29,4],[29,8,29,11],[29,15,29,21],[30,1,30,4],[30,8,30,11],[30,15,30,21],[27,1,27,4],[27,8,27,11],[27,15,27,21],[28,1,28,4],[28,8,28,11],[28,15,28,21],[35,1,35,4],[35,8,35,11],[35,15,35,21],[36,1,36,4],[36,8,36,11],[36,15,36,21],[31,0,31,4],[32,1,32,4],[32,8,32,11],[32,15,32,21],[33,1,33,4],[33,8,33,11],[33,15,33,21],[41,1,41,4],[41,8,41,11],[41,15,41,21],[43,1,43,4],[43,8,43,11],[43,15,43,21],[37,0,37,4],[39,1,39,4],[39,8,39,11],[39,15,39,21],[40,1,40,4],[40,8,40,11],[40,15,40,21],[46,1,46,4],[46,8,46,11],[46,15,46,21],[48,1,48,4],[48,8,48,11],[48,15,48,21],[44,1,44,4],[44,8,44,11],[44,15,44,21],[45,1,45,4],[45,8,45,11],[45,15,45,21],[51,1,51,4],[51,8,51,11],[51,15,51,21],[52,1,52,4],[52,8,52,11],[52,15,52,21],[49,1,49,4],[49,8,49,11],[49,15,49,21],[50,1,50,4],[50,8,50,11],[50,15,50,21],[55,1,55,5],[55,16,55,17],[55,19,55,21],[56,1,56,5],[56,6,56,7],[56,13,56,14],[56,16,56,17],[56,19,56,21],[53,1,53,4],[53,8,53,11],[53,15,53,21],[54,1,54,4],[54,8,54,11],[54,15,54,21],[59,1,59,5],[59,6,59,8],[59,13,59,16],[59,17,59,21],[59,26,61,28],[60,0,61,0],[60,1,61,5],[60,6,61,8],[60,9,61,9],[60,10,61,10],[62,17,62,21],[62,26,63,28],[60,13,60,16],[60,17,60,21],[61,13,61,16],[61,17,61,21],[62,0,63,0],[62,1,63,5],[62,6,63,8],[62,9,63,9],[62,10,63,10],[62,13,62,16]]}
["PEMERINTAH DAERAH PROVINSI JAWA BARAT"]
["DINAS PENDIDIKAN"]
["SMKN 1 KARAWANG"]
["Jl. Pangkal Perjuangan By Pass Karawang  Telp.0267-401651 Fax.417258 Website : www.smkn1karawang.net Email : smkn1karawang@gmail.com"]
[]
[{"$f":"\"LEGER NILAI SISWA TAHUN PELAJARAN \"&MENU!P12","v":"LEGER NILAI SISWA TAHUN PELAJARAN 2018 / 2019"},null,null,null,null,null,null,null,null,null,null,null,null,null,null,null,null,null,null,null,null,null,null,null,null,null,"HALAMAN CETAK"]
[null,null,null,null,null,null,null,null,null,null,null,null,null,null,null,null,null,null,null,null,null,null,null,null,null,null,"Dari data ke",2]
["Nama Siswa",null,":",{"$f":"VLOOKUP($AB$14,TABNILSM3,NILSM3!B7)","v":"AL KINDI"},null,null,null,null,null,null,null,null,null,"Bidang Keahlian",null,null,":",{"$f":"KET.PETUNJUK!D18","v":"TEKNOLOGI INFORMASI DAN KOMUNIKASI"}]
["Nomor Induk/NISN",null,":",{"$f":"IF(VLOOKUP($AB$14,TABBIODATA,BIODATA!E4)=\"\",VLOOKUP($AB$14,TABBIODATA,BIODATA!D4),VLOOKUP($AB$14,TABBIODATA,BIODATA!D4)&\" / \"&VLOOKUP($AB$14,TABBIODATA,BIODATA!E4))","v":"13140768 / 9973289804"},null,null,null,null,null,null,null,null,null,"Program Keahlian",null,null,":",{"$f":"KET.PETUNJUK!D19","v":"TEKNIK KOMPUTER DAN INFORMATIKA"},null,null,null,null,null,null,null,null,"Sampai data ke",2]
["Kelas/Semester ",null,":",{"$f":"W10&\" / \"&W11","v":"XI TKRO 1 / 3 (tiga)"},null,null,null,null,null,null,null,null,null,"Paket Keahlian",null,null,":",{"$f":"KET.PETUNJUK!D20","v":"TEKNIK KOMPUTER JARINGAN"},null,null,null,null,{"$f":"IF(OR(W11=\"1 (satu)\",W11=\"2 (dua)\"),\"X \"&MENU!I9,IF(OR(W11=\"3 (tiga)\",W11=\"4 (empat)\"),\"XI \"&MENU!I9,IF(OR(W11=\"5 (lima)\",W11=\"6 (enam)\"),\"XII \"&MENU!I9,\"\")))","v":"XI TKRO 1"}]
["Wali Kelas",null,":",{"$f":"NILSM3!B4","v":"Bimuka Jati Andromeda, S.Pd"},null,null,null,null,null,null,null,null,null,null,null,null,null,null,null,null,null,null,{"$f":"NILSM3!B3","v":"3 (tiga)"}]
[]
["A.  Nilai Sikap",null,null,null,null,null,null,null,null,null,null,null,null,"Prestasi",null,null,null,null,null,"Ketidakhadiran",null,null,null,null,null,null,"TAMPILAN DATA"]
["No.","Kompetensi Inti",null,"Deskripsi",null,null,null,null,null,null,null,null,null,"Jenis Prestasi",null,null,null,"Keterangan",null,"Sakit",":",{"$f":"VLOOKUP($AB$14,TABNILSM3,NILSM3!DI7)","v":3},2,null,null,null,"Nomor Urut",2]
["1","Spiritual (KI-1)",null,{"$f":"IFERROR(VLOOKUP(W15,TABDESSPIRITUAL,2),\"-\")","v":"Baik, dapat menerima, menjalankan, menghargai, menghayati dan mengamalkan ajaran agama yang dianut."},null,null,null,null,null,null,null,null,null,{"$f":"IFERROR(VLOOKUP($AB$14,TABNILSM3,NILSM3!DE7),\"-\")","v":"Juara 1 LKS Jawa Barat"},null,null,null,{"$f":"IFERROR(VLOOKUP($AB$14,TABNILSM3,NILSM3!DF7),\"-\")","v":0},null,"Izin",":",{"$f":"VLOOKUP($AB$14,TABNILSM3,NILSM3!DJ7)","v":"-"},{"$f":"VLOOKUP($AB$14,TABNILSM3,NILSM3!DL7)","v":"B"}]
[null,null,null,null,null,null,null,null,null,null,null,null,null,null,null,null,null,null,null,"Alpa",":",{"$f":"VLOOKUP($AB$14,TABNILSM3,NILSM3!DK7)","v":"-"}]
[2,"Sosial (KI-2)",null,{"$f":"IFERROR(VLOOKUP(W18,TABDESSOSIAL,2),\"-\")","v":"Sudah menunjukkan konsisten menerapkan sikap jujur, santun dan toleran dalam pergaulan, disiplin, kerjasama dalam kelompok dan tanggungjawab dalam keseharian sebagai hasil pembelajaran di sekolah. Tingkatkan sikap-sikap positif tersebut agar lebih baik."}]
[null,null,null,null,null,null,null,null,null,null,null,null,null,{"$f":"IFERROR(VLOOKUP($AB$14,TABNILSM3,NILSM3!DG7),\"-\")","v":"-"},null,null,null,{"$f":"IFERROR(VLOOKUP($AB$14,TABNILSM3,NILSM3!DH7),\"-\")","v":"-"},null,null,null,null,{"$f":"VLOOKUP($AB$14,TABNILSM3,NILSM3!DM7)","v":"B"},null,null,null,"PILIHAN DESKRIPSI"]
[null,null,null,null,null,null,null,null,null,null,null,null,null,null,null,null,null,null,null,null,null,null,null,null,null,null,"OTOMATIS"]
[]
[]
["B.  Nilai Pengetahuan dan Keterampilan"]
["No.","Mata Pelajaran",null,null,null,"Pengetahuan (KI-3)",null,null,null,null,null,null,"Keterampilan (KI-4)"]
[null,null,null,null,null,"KB","Angka","Predikat","Deskripsi",null,null,null,"KB","Angka","Predikat","Deskripsi"]
["Muatan Nasional"]
[{"$f":"NILSM3!D4","v":1},{"$f":"NILSM3!D2","v":"Pendidikan Agama dan Budi Pekerti"},null,null,null,{"$f":"NILSM3!D5","v":77},{"$f":"VLOOKUP($AB$14,TABNILSM3,NILSM3!D7)","v":91.5},{"$f":"IFERROR(VLOOKUP(G26,TABEL_NILAI,4),\"-\")","v":"B"},{"$f":"IFERROR(IF($AA$19=DATABASE!$B$2,VLOOKUP(H26,TABDESPENGETAHUAN,2),IF($AA$19=DATABASE!$B$3,VLOOKUP(H26,DESKPENGETAHUANSM3,DESKSM3!D3),\"-\")),\"-\")","v":"Baik dalam memahami, menerapkan, menganalisis dan mengevaluasi sebagian besar kompetensi dasar."},null,null,null,{"$f":"NILSM3!E5","v":77},{"$f":"VLOOKUP($AB$14,TABNILSM3,NILSM3!E7)","v":83.25},{"$f":"IFERROR(VLOOKUP(N26,TABEL_NILAI,4),\"-\")","v":"C"},{"$f":"IFERROR(IF($AA$19=DATABASE!$B$2,VLOOKUP(O26,TABDESKETERAMPILAN,2),IF($AA$19=DATABASE!$B$3,VLOOKUP(O26,DESKKETERAMPILANSM3,DESKSM3!D3),\"-\")),\"-\")","v":"Cukup aktif bertanya, mencoba, menalar dan kreatif dalam menyelesaikan tugas praktek"}]
[{"$f":"NILSM3!G4","v":2},{"$f":"NILSM3!G2","v":"Pendidikan Pancasila dan Kewarganegaraan"},null,null,null,{"$f":"NILSM3!G5","v":77},{"$f":"VLOOKUP($AB$14,TABNILSM3,NILSM3!G7)","v":92.5},{"$f":"IFERROR(VLOOKUP(G27,TABEL_NILAI,4),\"-\")","v":"B"},{"$f":"IFERROR(IF($AA$19=DATABASE!$B$2,VLOOKUP(H27,TABDESPENGETAHUAN,2),IF($AA$19=DATABASE!$B$3,VLOOKUP(H27,DESKPENGETAHUANSM3,DESKSM3!D4),\"-\")),\"-\")","v":"Baik dalam memahami, menerapkan, menganalisis dan mengevaluasi sebagian besar kompetensi dasar."},null,null,null,{"$f":"NILSM3!H5","v":77},{"$f":"VLOOKUP($AB$14,TABNILSM3,NILSM3!H7)","v":88.25},"B",{"$f":"IFERROR(IF($AA$19=DATABASE!$B$2,VLOOKUP(O27,TABDESKETERAMPILAN,2),IF($AA$19=DATABASE!$B$3,VLOOKUP(O27,DESKKETERAMPILANSM3,DESKSM3!D4),\"-\")),\"-\")","v":"Baik dan aktif bertanya, mencoba, menalar dan kreatif dalam menyelesaikan sebagian besar tugas praktek."}]
[{"$f":"NILSM3!J4","v":3},{"$f":"NILSM3!J2","v":"Bahasa Indonesia"},null,null,null,{"$f":"NILSM3!J5","v":77},{"$f":"VLOOKUP($AB$14,TABNILSM3,NILSM3!J7)","v":88.75},"B",{"$f":"IFERROR(IF($AA$19=DATABASE!$B$2,VLOOKUP(H28,TABDESPENGETAHUAN,2),IF($AA$19=DATABASE!$B$3,VLOOKUP(H28,DESKPENGETAHUANSM3,DESKSM3!D5),\"-\")),\"-\")","v":"Baik dalam memahami, menerapkan, menganalisis dan mengevaluasi sebagian besar kompetensi dasar."},null,null,null,{"$f":"NILSM3!K5","v":77},{"$f":"VLOOKUP($AB$14,TABNILSM3,NILSM3!K7)","v":98.25},"A",{"$f":"IFERROR(IF($AA$19=DATABASE!$B$2,VLOOKUP(O28,TABDESKETERAMPILAN,2),IF($AA$19=DATABASE!$B$3,VLOOKUP(O28,DESKKETERAMPILANSM3,DESKSM3!D5),\"-\")),\"-\")","v":"Sangat baik dan aktif bertanya, mencoba, menalar dan kreatif dalam menyelesaikan tugas praktek."}]
[{"$f":"NILSM3!M4","v":4},{"$f":"NILSM3!M2","v":"Matematika"},null,null,null,{"$f":"NILSM3!M5","v":77},{"$f":"VLOOKUP($AB$14,TABNILSM3,NILSM3!M7)","v":87.5},"B",{"$f":"IFERROR(IF($AA$19=DATABASE!$B$2,VLOOKUP(H29,TABDESPENGETAHUAN,2),IF($AA$19=DATABASE!$B$3,VLOOKUP(H29,DESKPENGETAHUANSM3,DESKSM3!D6),\"-\")),\"-\")","v":"Baik dalam memahami, menerapkan, menganalisis dan mengevaluasi sebagian besar kompetensi dasar."},null,null,null,{"$f":"NILSM3!N5","v":77},{"$f":"VLOOKUP($AB$14,TABNILSM3,NILSM3!N7)","v":87.5},"B",{"$f":"IFERROR(IF($AA$19=DATABASE!$B$2,VLOOKUP(O29,TABDESKETERAMPILAN,2),IF($AA$19=DATABASE!$B$3,VLOOKUP(O29,DESKKETERAMPILANSM3,DESKSM3!D6),\"-\")),\"-\")","v":"Baik dan aktif bertanya, mencoba, menalar dan kreatif dalam menyelesaikan sebagian besar tugas praktek."}]
[{"$f":"NILSM3!P4","v":"-"},{"$f":"NILSM3!P2","v":"-"},null,null,null,{"$f":"NILSM3!P5","v":77},{"$f":"VLOOKUP($AB$14,TABNILSM3,NILSM3!P7)","v":"-"},"-",{"$f":"IFERROR(IF($AA$19=DATABASE!$B$2,VLOOKUP(H30,TABDESPENGETAHUAN,2),IF($AA$19=DATABASE!$B$3,VLOOKUP(H30,DESKPENGETAHUANSM3,DESKSM3!D7),\"-\")),\"-\")","v":"-"},null,null,null,{"$f":"NILSM3!Q5","v":77},{"$f":"VLOOKUP($AB$14,TABNILSM3,NILSM3!Q7)","v":"-"},"-",{"$f":"IFERROR(IF($AA$19=DATABASE!$B$2,VLOOKUP(O30,TABDESKETERAMPILAN,2),IF($AA$19=DATABASE!$B$3,VLOOKUP(O30,DESKKETERAMPILANSM3,DESKSM3!D7),\"-\")),\"-\")","v":"-"}]
[{"$f":"NILSM3!S4","v":5},{"$f":"NILSM3!S2","v":"Bahasa Inggris"},null,null,null,{"$f":"NILSM3!S5","v":77},{"$f":"VLOOKUP($AB$14,TABNILSM3,NILSM3!S7)","v":80},"C",{"$f":"IFERROR(IF($AA$19=DATABASE!$B$2,VLOOKUP(H31,TABDESPENGETAHUAN,2),IF($AA$19=DATABASE!$B$3,VLOOKUP(H31,DESKPENGETAHUANSM3,DESKSM3!D8),\"-\")),\"-\")","v":"Cukup baik memahami sebagian kompetensi dasar, tetapi kurang bisa menerapkan, menganalisis dan mengevaluasinya."},null,null,null,{"$f":"NILSM3!T5","v":77},{"$f":"VLOOKUP($AB$14,TABNILSM3,NILSM3!T7)","v":98.25},"A",{"$f":"IFERROR(IF($AA$19=DATABASE!$B$2,VLOOKUP(O31,TABDESKETERAMPILAN,2),IF($AA$19=DATABASE!$B$3,VLOOKUP(O31,DESKKETERAMPILANSM3,DESKSM3!D8),\"-\")),\"-\")","v":"Sangat baik dan aktif bertanya, mencoba, menalar dan kreatif dalam menyelesaikan tugas praktek."}]
["Muatan Kewilayahan"]
[{"$f":"NILSM3!V4","v":"-"},{"$f":"NILSM3!V2","v":"-"},null,null,null,{"$f":"NILSM3!V5","v":77},{"$f":"VLOOKUP($AB$14,TABNILSM3,NILSM3!V7)","v":"-"},{"$f":"IFERROR(VLOOKUP(G33,TABEL_NILAI,4),\"-\")","v":"-"},{"$f":"IFERROR(IF($AA$19=DATABASE!$B$2,VLOOKUP(H33,TABDESPENGETAHUAN,2),IF($AA$19=DATABASE!$B$3,VLOOKUP(H33,DESKPENGETAHUANSM3,DESKSM3!D10),\"-\")),\"-\")","v":"-"},null,null,null,{"$f":"NILSM3!W5","v":77},{"$f":"VLOOKUP($AB$14,TABNILSM3,NILSM3!W7)","v":"-"},{"$f":"IFERROR(VLOOKUP(N33,TABEL_NILAI,4),\"-\")","v":"-"},{"$f":"IFERROR(IF($AA$19=DATABASE!$B$2,VLOOKUP(O33,TABDESKETERAMPILAN,2),IF($AA$19=DATABASE!$B$3,VLOOKUP(O33,DESKKETERAMPILANSM3,DESKSM3!D10),\"-\")),\"-\")","v":"-"}]
[{"$f":"NILSM3!Y4","v":1},{"$f":"NILSM3!Y2","v":"Pendidikan Jasmani, Olah Raga & Kesehatan"},null,null,null,{"$f":"NILSM3!Y5","v":77},{"$f":"VLOOKUP($AB$14,TABNILSM3,NILSM3!Y7)","v":88.75},{"$f":"IFERROR(VLOOKUP(G34,TABEL_NILAI,4),\"-\")","v":"B"},{"$f":"IFERROR(IF($AA$19=DATABASE!$B$2,VLOOKUP(H34,TABDESPENGETAHUAN,2),IF($AA$19=DATABASE!$B$3,VLOOKUP(H34,DESKPENGETAHUANSM3,DESKSM3!D11),\"-\")),\"-\")","v":"Baik dalam memahami, menerapkan, menganalisis dan mengevaluasi sebagian besar kompetensi dasar."},null,null,null,{"$f":"NILSM3!Z5","v":77},{"$f":"VLOOKUP($AB$14,TABNILSM3,NILSM3!Z7)","v":91.25},{"$f":"IFERROR(VLOOKUP(N34,TABEL_NILAI,4),\"-\")","v":"B"},{"$f":"IFERROR(IF($AA$19=DATABASE!$B$2,VLOOKUP(O34,TABDESKETERAMPILAN,2),IF($AA$19=DATABASE!$B$3,VLOOKUP(O34,DESKKETERAMPILANSM3,DESKSM3!D11),\"-\")),\"-\")","v":"Baik dan aktif bertanya, mencoba, menalar dan kreatif dalam menyelesaikan sebagian besar tugas praktek."}]
[null,"Muatan Lokal"]
[{"$f":"NILSM3!AB4","v":"-"},{"$f":"NILSM3!AB2","v":"-"},null,null,null,{"$f":"NILSM3!AB5","v":77},{"$f":"VLOOKUP($AB$14,TABNILSM3,NILSM3!AB7)","v":"-"},{"$f":"IFERROR(VLOOKUP(G36,TABEL_NILAI,4),\"-\")","v":"-"},{"$f":"IFERROR(IF($AA$19=DATABASE!$B$2,VLOOKUP(H36,TABDESPENGETAHUAN,2),IF($AA$19=DATABASE!$B$3,VLOOKUP(H36,DESKPENGETAHUANSM3,DESKSM3!D12),\"-\")),\"-\")","v":"-"},null,null,null,{"$f":"NILSM3!AC5","v":77},{"$f":"VLOOKUP($AB$14,TABNILSM3,NILSM3!AC7)","v":"-"},{"$f":"IFERROR(VLOOKUP(N36,TABEL_NILAI,4),\"-\")","v":"-"},{"$f":"IFERROR(IF($AA$19=DATABASE!$B$2,VLOOKUP(O36,TABDESKETERAMPILAN,2),IF($AA$19=DATABASE!$B$3,VLOOKUP(O36,DESKKETERAMPILANSM3,DESKSM3!D12),\"-\")),\"-\")","v":"-"}]
[{"$f":"NILSM3!AE4","v":2},{"$f":"NILSM3!AE2","v":"Bahasa Jepang"},null,null,null,{"$f":"NILSM3!AE5","v":77},{"$f":"VLOOKUP($AB$14,TABNILSM3,NILSM3!AE7)","v":78.75},{"$f":"IFERROR(VLOOKUP(G37,TABEL_NILAI,4),\"-\")","v":"C"},{"$f":"IFERROR(IF($AA$19=DATABASE!$B$2,VLOOKUP(H37,TABDESPENGETAHUAN,2),IF($AA$19=DATABASE!$B$3,VLOOKUP(H37,DESKPENGETAHUANSM3,DESKSM3!D15),\"-\")),\"-\")","v":"Cukup baik memahami sebagian kompetensi dasar, tetapi kurang bisa menerapkan, menganalisis dan mengevaluasinya."},null,null,null,{"$f":"NILSM3!AF5","v":77},{"$f":"VLOOKUP($AB$14,TABNILSM3,NILSM3!AF7)","v":83.25},{"$f":"IFERROR(VLOOKUP(N37,TABEL_NILAI,4),\"-\")","v":"C"},{"$f":"IFERROR(IF($AA$19=DATABASE!$B$2,VLOOKUP(O37,TABDESKETERAMPILAN,2),IF($AA$19=DATABASE!$B$3,VLOOKUP(O37,DESKKETERAMPILANSM3,DESKSM3!D15),\"-\")),\"-\")","v":"Cukup aktif bertanya, mencoba, menalar dan kreatif dalam menyelesaikan tugas praktek"}]
["Muatan Peminatan Kejuruan"]
["C1","Dasar Bidang Keahlian"]
[{"$f":"NILSM3!AH4","v":1},{"$f":"NILSM3!AH2","v":"-"},null,null,null,{"$f":"NILSM3!AH5","v":77},{"$f":"VLOOKUP($AB$14,TABNILSM3,NILSM3!AH7)","v":"-"},{"$f":"IFERROR(VLOOKUP(G40,TABEL_NILAI,4),\"-\")","v":"-"},{"$f":"IFERROR(IF($AA$19=DATABASE!$B$2,VLOOKUP(H40,TABDESPENGETAHUAN,2),IF($AA$19=DATABASE!$B$3,VLOOKUP(H40,DESKPENGETAHUANSM3,DESKSM3!D16),\"-\")),\"-\")","v":"-"},null,null,null,{"$f":"NILSM3!AI5","v":77},{"$f":"VLOOKUP($AB$14,TABNILSM3,NILSM3!AI7)","v":"-"},{"$f":"IFERROR(VLOOKUP(N40,TABEL_NILAI,4),\"-\")","v":"-"},{"$f":"IFERROR(IF($AA$19=DATABASE!$B$2,VLOOKUP(O40,TABDESKETERAMPILAN,2),IF($AA$19=DATABASE!$B$3,VLOOKUP(O40,DESKKETERAMPILANSM3,DESKSM3!D16),\"-\")),\"-\")","v":"-"}]
[{"$f":"NILSM3!AK4","v":2},{"$f":"NILSM3!AK2","v":"-"},null,null,null,{"$f":"NILSM3!AK5","v":77},{"$f":"VLOOKUP($AB$14,TABNILSM3,NILSM3!AK7)","v":"-"},{"$f":"IFERROR(VLOOKUP(G41,TABEL_NILAI,4),\"-\")","v":"-"},{"$f":"IFERROR(IF($AA$19=DATABASE!$B$2,VLOOKUP(H41,TABDESPENGETAHUAN,2),IF($AA$19=DATABASE!$B$3,VLOOKUP(H41,DESKPENGETAHUANSM3,DESKSM3!D17),\"-\")),\"-\")","v":"-"},null,null,null,{"$f":"NILSM3!AL5","v":77},{"$f":"VLOOKUP($AB$14,TABNILSM3,NILSM3!AL7)","v":"-"},{"$f":"IFERROR(VLOOKUP(N41,TABEL_NILAI,4),\"-\")","v":"-"},{"$f":"IFERROR(IF($AA$19=DATABASE!$B$2,VLOOKUP(O41,TABDESKETERAMPILAN,2),IF($AA$19=DATABASE!$B$3,VLOOKUP(O41,DESKKETERAMPILANSM3,DESKSM3!D17),\"-\")),\"-\")","v":"-"}]
[{"$f":"NILSM3!AN4","v":3},{"$f":"NILSM3!AN2","v":"-"},null,null,null,{"$f":"NILSM3!AN5","v":77},{"$f":"VLOOKUP($AB$14,TABNILSM3,NILSM3!AN7)","v":"-"},{"$f":"IFERROR(VLOOKUP(G42,TABEL_NILAI,4),\"-\")","v":"-"},{"$f":"IFERROR(IF($AA$19=DATABASE!$B$2,VLOOKUP(H42,TABDESPENGETAHUAN,2),IF($AA$19=DATABASE!$B$3,VLOOKUP(H42,DESKPENGETAHUANSM3,DESKSM3!D19),\"-\")),\"-\")","v":"-"},null,null,null,{"$f":"NILSM3!AO5","v":77},{"$f":"VLOOKUP($AB$14,TABNILSM3,NILSM3!AO7)","v":"-"},{"$f":"IFERROR(VLOOKUP(N42,TABEL_NILAI,4),\"-\")","v":"-"},{"$f":"IFERROR(IF($AA$19=DATABASE!$B$2,VLOOKUP(O42,TABDESKETERAMPILAN,2),IF($AA$19=DATABASE!$B$3,VLOOKUP(O42,DESKKETERAMPILANSM3,DESKSM3!D19),\"-\")),\"-\")","v":"-"}]
["C2","Dasar Program Keahlian"]
[{"$f":"NILSM3!AQ4","v":1},{"$f":"NILSM3!AQ2","v":"-"},null,null,null,{"$f":"NILSM3!AQ5","v":77},{"$f":"VLOOKUP($AB$14,TABNILSM3,NILSM3!AQ7)","v":"-"},"-",{"$f":"IFERROR(IF($AA$19=DATABASE!$B$2,VLOOKUP(H44,TABDESPENGETAHUAN,2),IF($AA$19=DATABASE!$B$3,VLOOKUP(H44,DESKPENGETAHUANSM3,DESKSM3!D20),\"-\")),\"-\")","v":"-"},null,null,null,{"$f":"NILSM3!AR5","v":77},{"$f":"VLOOKUP($AB$14,TABNILSM3,NILSM3!AR7)","v":"-"},"-",{"$f":"IFERROR(IF($AA$19=DATABASE!$B$2,VLOOKUP(O44,TABDESKETERAMPILAN,2),IF($AA$19=DATABASE!$B$3,VLOOKUP(O44,DESKKETERAMPILANSM3,DESKSM3!D20),\"-\")),\"-\")","v":"-"}]
[{"$f":"NILSM3!AT4","v":2},{"$f":"NILSM3!AT2","v":"-"},null,null,null,{"$f":"NILSM3!AT5","v":77},{"$f":"VLOOKUP($AB$14,TABNILSM3,NILSM3!AT7)","v":"-"},"-",{"$f":"IFERROR(IF($AA$19=DATABASE!$B$2,VLOOKUP(H45,TABDESPENGETAHUAN,2),IF($AA$19=DATABASE!$B$3,VLOOKUP(H45,DESKPENGETAHUANSM3,DESKSM3!D21),\"-\")),\"-\")","v":"-"},null,null,null,{"$f":"NILSM3!AU5","v":77},{"$f":"VLOOKUP($AB$14,TABNILSM3,NILSM3!AU7)","v":"-"},"-",{"$f":"IFERROR(IF($AA$19=DATABASE!$B$2,VLOOKUP(O45,TABDESKETERAMPILAN,2),IF($AA$19=DATABASE!$B$3,VLOOKUP(O45,DESKKETERAMPILANSM3,DESKSM3!D21),\"-\")),\"-\")","v":"-"}]
[{"$f":"NILSM3!AW4","v":3},{"$f":"NILSM3!AW2","v":"-"},null,null,null,{"$f":"NILSM3!AW5","v":77},{"$f":"VLOOKUP($AB$14,TABNILSM3,NILSM3!AW7)","v":"-"},"-",{"$f":"IFERROR(IF($AA$19=DATABASE!$B$2,VLOOKUP(H46,TABDESPENGETAHUAN,2),IF($AA$19=DATABASE!$B$3,VLOOKUP(H46,DESKPENGETAHUANSM3,DESKSM3!D22),\"-\")),\"-\")","v":"-"},null,null,null,{"$f":"NILSM3!AX5","v":77},{"$f":"VLOOKUP($AB$14,TABNILSM3,NILSM3!AX7)","v":"-"},"-",{"$f":"IFERROR(IF($AA$19=DATABASE!$B$2,VLOOKUP(O46,TABDESKETERAMPILAN,2),IF($AA$19=DATABASE!$B$3,VLOOKUP(O46,DESKKETERAMPILANSM3,DESKSM3!D22),\"-\")),\"-\")","v":"-"}]
[{"$f":"NILSM3!AZ4","v":4},{"$f":"NILSM3!AZ2","v":"-"},null,null,null,{"$f":"NILSM3!AZ5","v":77},{"$f":"VLOOKUP($AB$14,TABNILSM3,NILSM3!AZ7)","v":"-"},"-",{"$f":"IFERROR(IF($AA$19=DATABASE!$B$2,VLOOKUP(H47,TABDESPENGETAHUAN,2),IF($AA$19=DATABASE!$B$3,VLOOKUP(H47,DESKPENGETAHUANSM3,DESKSM3!D23),\"-\")),\"-\")","v":"-"},null,null,null,{"$f":"NILSM3!BA5","v":77},{"$f":"VLOOKUP($AB$14,TABNILSM3,NILSM3!BA7)","v":"-"},"-",{"$f":"IFERROR(IF($AA$19=DATABASE!$B$2,VLOOKUP(O47,TABDESKETERAMPILAN,2),IF($AA$19=DATABASE!$B$3,VLOOKUP(O47,DESKKETERAMPILANSM3,DESKSM3!D23),\"-\")),\"-\")","v":"-"}]
["C3","Paket Keahlian"]
[{"$f":"NILSM3!BC4","v":1},{"$f":"NILSM3!BC2","v":"Administrasi Infrastruktur Jaringan"},null,null,null,{"$f":"NILSM3!BC5","v":77},{"$f":"VLOOKUP($AB$14,TABNILSM3,NILSM3!BC7)","v":81},"C",{"$f":"IFERROR(IF($AA$19=DATABASE!$B$2,VLOOKUP(H49,TABDESPENGETAHUAN,2),IF($AA$19=DATABASE!$B$3,VLOOKUP(H49,DESKPENGETAHUANSM3,DESKSM3!D24),\"-\")),\"-\")","v":"Cukup baik memahami sebagian kompetensi dasar, tetapi kurang bisa menerapkan, menganalisis dan mengevaluasinya."},null,null,null,{"$f":"NILSM3!BD5","v":77},{"$f":"VLOOKUP($AB$14,TABNILSM3,NILSM3!BD7)","v":82.25},"C",{"$f":"IFERROR(IF($AA$19=DATABASE!$B$2,VLOOKUP(O49,TABDESKETERAMPILAN,2),IF($AA$19=DATABASE!$B$3,VLOOKUP(O49,DESKKETERAMPILANSM3,DESKSM3!D24),\"-\")),\"-\")","v":"Cukup aktif bertanya, mencoba, menalar dan kreatif dalam menyelesaikan tugas praktek"}]
[{"$f":"NILSM3!BF4","v":2},{"$f":"NILSM3!BF2","v":"Administrasi Sistem Jaringan"},null,null,null,{"$f":"NILSM3!BF5","v":77},{"$f":"VLOOKUP($AB$14,TABNILSM3,NILSM3!BF7)","v":81},"C",{"$f":"IFERROR(IF($AA$19=DATABASE!$B$2,VLOOKUP(H50,TABDESPENGETAHUAN,2),IF($AA$19=DATABASE!$B$3,VLOOKUP(H50,DESKMANUPENGETAHUAN,2),\"-\")),\"-\")","v":"Cukup baik memahami sebagian kompetensi dasar, tetapi kurang bisa menerapkan, menganalisis dan mengevaluasinya."},null,null,null,{"$f":"NILSM3!BG5","v":77},{"$f":"VLOOKUP($AB$14,TABNILSM3,NILSM3!BG7)","v":82.25},"C",{"$f":"IFERROR(IF($AA$19=DATABASE!$B$2,VLOOKUP(O50,TABDESKETERAMPILAN,2),IF($AA$19=DATABASE!$B$3,VLOOKUP(O50,DESKMANUKETERAMPILAN,2),\"-\")),\"-\")","v":"Cukup aktif bertanya, mencoba, menalar dan kreatif dalam menyelesaikan tugas praktek"}]
[{"$f":"NILSM3!BI4","v":3},{"$f":"NILSM3!BI2","v":"Teknologi Layanan Jaringan"},null,null,null,{"$f":"NILSM3!BI5","v":77},{"$f":"VLOOKUP($AB$14,TABNILSM3,NILSM3!BI7)","v":81},"C",{"$f":"IFERROR(IF($AA$19=DATABASE!$B$2,VLOOKUP(H51,TABDESPENGETAHUAN,2),IF($AA$19=DATABASE!$B$3,VLOOKUP(H51,DESKMANUPENGETAHUAN,2),\"-\")),\"-\")","v":"Cukup baik memahami sebagian kompetensi dasar, tetapi kurang bisa menerapkan, menganalisis dan mengevaluasinya."},null,null,null,{"$f":"NILSM3!BJ5","v":77},{"$f":"VLOOKUP($AB$14,TABNILSM3,NILSM3!BJ7)","v":82.25},"C",{"$f":"IFERROR(IF($AA$19=DATABASE!$B$2,VLOOKUP(O51,TABDESKETERAMPILAN,2),IF($AA$19=DATABASE!$B$3,VLOOKUP(O51,DESKMANUKETERAMPILAN,2),\"-\")),\"-\")","v":"Cukup aktif bertanya, mencoba, menalar dan kreatif dalam menyelesaikan tugas praktek"}]
[{"$f":"NILSM3!BL4","v":4},{"$f":"NILSM3!BL2","v":"-"},null,null,null,{"$f":"NILSM3!BL5","v":77},{"$f":"VLOOKUP($AB$14,TABNILSM3,NILSM3!BL7)","v":"-"},"-",{"$f":"IFERROR(IF($AA$19=DATABASE!$B$2,VLOOKUP(H52,TABDESPENGETAHUAN,2),IF($AA$19=DATABASE!$B$3,VLOOKUP(H52,DESKMANUPENGETAHUAN,2),\"-\")),\"-\")","v":"-"},null,null,null,{"$f":"NILSM3!BM5","v":77},{"$f":"VLOOKUP($AB$14,TABNILSM3,NILSM3!BM7)","v":"-"},"-",{"$f":"IFERROR(IF($AA$19=DATABASE!$B$2,VLOOKUP(O52,TABDESKETERAMPILAN,2),IF($AA$19=DATABASE!$B$3,VLOOKUP(O52,DESKMANUKETERAMPILAN,2),\"-\")),\"-\")","v":"-"}]
[{"$f":"NILSM3!BO4","v":5},{"$f":"NILSM3!BO2","v":"-"},null,null,null,{"$f":"NILSM3!BO5","v":77},{"$f":"VLOOKUP($AB$14,TABNILSM3,NILSM3!BO7)","v":"-"},"-",{"$f":"IFERROR(IF($AA$19=DATABASE!$B$2,VLOOKUP(H53,TABDESPENGETAHUAN,2),IF($AA$19=DATABASE!$B$3,VLOOKUP(H53,DESKMANUPENGETAHUAN,2),\"-\")),\"-\")","v":"-"},null,null,null,{"$f":"NILSM3!BP5","v":77},{"$f":"VLOOKUP($AB$14,TABNILSM3,NILSM3!BP7)","v":"-"},"-",{"$f":"IFERROR(IF($AA$19=DATABASE!$B$2,VLOOKUP(O53,TABDESKETERAMPILAN,2),IF($AA$19=DATABASE!$B$3,VLOOKUP(O53,DESKMANUKETERAMPILAN,2),\"-\")),\"-\")","v":"-"}]
[{"$f":"NILSM3!BR4","v":6},{"$f":"NILSM3!BR2","v":"Produk Kreatif dan Kewirausahaan "},null,null,null,{"$f":"NILSM3!BR5","v":77},{"$f":"VLOOKUP($AB$14,TABNILSM3,NILSM3!BR7)","v":86.25},"B",{"$f":"IFERROR(IF($AA$19=DATABASE!$B$2,VLOOKUP(H54,TABDESPENGETAHUAN,2),IF($AA$19=DATABASE!$B$3,VLOOKUP(H54,DESKMANUPENGETAHUAN,2),\"-\")),\"-\")","v":"Baik dalam memahami, menerapkan, menganalisis dan mengevaluasi sebagian besar kompetensi dasar."},null,null,null,{"$f":"NILSM3!BS5","v":77},{"$f":"VLOOKUP($AB$14,TABNILSM3,NILSM3!BS7)","v":88.25},"B",{"$f":"IFERROR(IF($AA$19=DATABASE!$B$2,VLOOKUP(O54,TABDESKETERAMPILAN,2),IF($AA$19=DATABASE!$B$3,VLOOKUP(O54,DESKMANUKETERAMPILAN,2),\"-\")),\"-\")","v":"Baik dan aktif bertanya, mencoba, menalar dan kreatif dalam menyelesaikan sebagian besar tugas praktek."}]
[{"$f":"NILSM3!BU4","v":"-"},{"$f":"NILSM3!BU2","v":"-"},null,null,null,{"$f":"NILSM3!BU5","v":77},{"$f":"VLOOKUP($AB$14,TABNILSM3,NILSM3!BU7)","v":"-"},"-",{"$f":"IFERROR(IF($AA$19=DATABASE!$B$2,VLOOKUP(H55,TABDESPENGETAHUAN,2),IF($AA$19=DATABASE!$B$3,VLOOKUP(H55,DESKMANUPENGETAHUAN,2),\"-\")),\"-\")","v":"-"},null,null,null,{"$f":"NILSM3!BV5","v":77},{"$f":"VLOOKUP($AB$14,TABNILSM3,NILSM3!BV7)","v":"-"},"-",{"$f":"IFERROR(IF($AA$19=DATABASE!$B$2,VLOOKUP(O55,TABDESKETERAMPILAN,2),IF($AA$19=DATABASE!$B$3,VLOOKUP(O55,DESKMANUKETERAMPILAN,2),\"-\")),\"-\")","v":"-"}]
[null,"Rata-rata",null,null,null,null,{"$f":"VLOOKUP($AB$14,TABNILSM3,NILSM3!DO7)","v":85},{"$f":"VLOOKUP(G56,TABEL_NILAI,4)","v":"C"},null,null,null,null,null,{"$f":"VLOOKUP($AB$14,TABNILSM3,NILSM3!DP7)","v":88},{"$f":"VLOOKUP(N56,TABEL_NILAI,4)","v":"B"},null,"Total Nilai :",null,null,"Peringkat di Kelas :"]
[null,"Jumlah Nilai",null,null,null,null,{"$f":"VLOOKUP($AB$14,TABNILSM3,NILSM3!DQ7)","v":937},null,null,null,null,null,null,{"$f":"VLOOKUP($AB$14,TABNILSM3,NILSM3!DR7)","v":965},null,null,{"$f":"VLOOKUP($AB$14,TABNILSM3,NILSM3!DS7)","v":1902},null,null,{"$f":"IF(VLOOKUP($AB$14,TABNILSM3,NILSM3!DU7)=\"\",\"-\",VLOOKUP($AB$14,TABNILSM3,NILSM3!DU7)&\" dari \"&VLOOKUP($AB$14,TABNILSM3,NILSM3!DV7))","v":"-"}]
[]
["C.  Praktek Kerja Lapangan",null,null,null,null,null,null,null,null,null,null,null,"D.  Ekstrakurikuler"]
["No.","Mitra DU/DI",null,null,null,null,"Lokasi",null,null,"Lamanya (Bulan)","Keterangan",null,"No.","Kegiatan Ekstrakurikuler",null,null,null,"Keterangan",null,null,null,null,null,null,null,null,{"$f":"D8","v":"AL KINDI"}]
[1,{"$f":"IF(VLOOKUP($AB$14,TABNILSM3,NILSM3!CQ7)=\"\",\"-\",VLOOKUP($AB$14,TABNILSM3,NILSM3!CQ7))","v":"-"},null,null,null,null,{"$f":"IF(VLOOKUP($AB$14,TABNILSM3,NILSM3!CR7)=\"\",\"-\",VLOOKUP($AB$14,TABNILSM3,NILSM3!CR7))","v":"-"},null,null,{"$f":"IF(VLOOKUP($AB$14,TABNILSM3,NILSM3!CS7)=\"\",\"-\",VLOOKUP($AB$14,TABNILSM3,NILSM3!CS7))","v":"-"},{"$f":"IF(VLOOKUP($AB$14,TABNILSM3,NILSM3!CT7)=\"\",\"-\",VLOOKUP($AB$14,TABNILSM3,NILSM3!CT7))","v":"-"},null,1,{"$f":"IF(VLOOKUP($AB$14,TABNILSM3,NILSM3!CY7)=\"\",\"-\",VLOOKUP($AB$14,TABNILSM3,NILSM3!CY7))","v":"Rohis"},null,null,null,{"$f":"IF(VLOOKUP($AB$14,TABNILSM3,NILSM3!CZ7)=\"\",\"-\",VLOOKUP(W61,TABNESKUL,2,FALSE))","v":"Baik, berprestasi, disiplin dan rajin berlatih"},null,null,null,null,{"$f":"VLOOKUP($AB$14,TABNILSM3,NILSM3!CZ7)","v":"B"}]
[null,null,null,null,null,null,null,null,null,null,null,null,2,{"$f":"IF(VLOOKUP($AB$14,TABNILSM3,NILSM3!DA7)=\"\",\"-\",VLOOKUP($AB$14,TABNILSM3,NILSM3!DA7))","v":"OSIS"},null,null,null,{"$f":"IF(VLOOKUP($AB$14,TABNILSM3,NILSM3!DB7)=\"\",\"-\",VLOOKUP(W62,TABNESKUL,2,FALSE))","v":"Baik, berprestasi, disiplin dan rajin berlatih"},null,null,null,null,{"$f":"VLOOKUP($AB$14,TABNILSM3,NILSM3!DB7)","v":"B"}]
[2,{"$f":"IF(VLOOKUP($AB$14,TABNILSM3,NILSM3!CU7)=\"\",\"-\",VLOOKUP($AB$14,TABNILSM3,NILSM3!CU7))","v":"-"},null,null,null,null,{"$f":"IF(VLOOKUP($AB$14,TABNILSM3,NILSM3!CV7)=\"\",\"-\",VLOOKUP($AB$14,TABNILSM3,NILSM3!CV7))","v":"-"},null,null,{"$f":"IF(VLOOKUP($AB$14,TABNILSM3,NILSM3!CW7)=\"\",\"-\",VLOOKUP($AB$14,TABNILSM3,NILSM3!CW7))","v":"-"},{"$f":"IF(VLOOKUP($AB$14,TABNILSM3,NILSM3!CX7)=\"\",\"-\",VLOOKUP($AB$14,TABNILSM3,NILSM3!CX7))","v":"-"},null,3,{"$f":"IF(VLOOKUP($AB$14,TABNILSM3,NILSM3!DC7)=\"\",\"-\",VLOOKUP($AB$14,TABNILSM3,NILSM3!DC7))","v":"Palang Merah Remaja"},null,null,null,{"$f":"IF(VLOOKUP($AB$14,TABNILSM3,NILSM3!DD7)=\"\",\"-\",VLOOKUP(W63,TABNESKUL,2,FALSE))","v":"Baik, berprestasi, disiplin dan rajin berlatih"},null,null,null,null,{"$f":"VLOOKUP($AB$14,TABNILSM3,NILSM3!DD7)","v":"B"},null,null,null,{"$f":"\"Nomor Urut \"&AB14","v":"Nomor Urut 2"}]

{"sheet":"LEGGER4","index":15,"n_rows":63,"n_cols":28,"rows_kept":63,"cut":false,"hidden":false,"merged":[[6,26,7,26],[6,27,7,27],[8,26,9,26],[8,27,9,27],[9,17,10,21],[12,26,12,27],[0,0,0,21],[1,0,1,21],[2,0,2,21],[3,0,3,21],[5,0,5,21],[5,26,5,27],[16,0,19,0],[16,1,19,2],[16,3,19,11],[17,13,19,16],[17,17,19,17],[17,26,17,27],[18,26,19,27],[13,1,13,2],[13,3,13,11],[13,13,13,16],[13,26,14,26],[13,27,14,27],[14,0,15,0],[14,1,15,2],[14,3,15,11],[14,13,16,16],[14,17,16,17],[25,1,25,4],[25,8,25,11],[25,15,25,21],[26,1,26,4],[26,8,26,11],[26,15,26,21],[22,0,23,0],[22,1,23,4],[22,5,22,11],[22,12,22,21],[23,8,23,11],[23,15,23,21],[29,1,29,4],[29,8,29,11],[29,15,29,21],[30,1,30,4],[30,8,30,11],[30,15,30,21],[27,1,27,4],[27,8,27,11],[27,15,27,21],[28,1,28,4],[28,8,28,11],[28,15,28,21],[35,1,35,4],[35,8,35,11],[35,15,35,21],[36,1,36,4],[36,8,36,11],[36,15,36,21],[31,0,31,4],[32,1,32,4],[32,8,32,11],[32,15,32,21],[33,1,33,4],[33,8,33,11],[33,15,33,21],[41,1,41,4],[41,8,41,11],[41,15,41,21],[43,1,43,4],[43,8,43,11],[43,15,43,21],[37,0,37,4],[39,1,39,4],[39,8,39,11],[39,15,39,21],[40,1,40,4],[40,8,40,11],[40,15,40,21],[46,1,46,4],[46,8,46,11],[46,15,46,21],[48,1,48,4],[48,8,48,11],[48,15,48,21],[44,1,44,4],[44,8,44,11],[44,15,44,21],[45,1,45,4],[45,8,45,11],[45,15,45,21],[51,1,51,4],[51,8,51,11],[51,15,51,21],[52,1,52,4],[52,8,52,11],[52,15,52,21],[49,1,49,4],[49,8,49,11],[49,15,49,21],[50,1,50,4],[50,8,50,11],[50,15,50,21],[55,16,55,17],[55,19,55,21],[56,1,56,5],[56,6,56,7],[56,13,56,14],[56,16,56,17],[56,19,56,21],[53,1,53,4],[53,8,53,11],[53,15,53,21],[54,1,54,4],[54,8,54,11],[54,15,54,21],[62,17,62,21],[62,26,63,28],[18,19,19,21],[60,13,60,16],[60,17,60,21],[61,13,61,16],[61,17,61,21],[62,0,63,0],[62,1,63,5],[62,6,63,8],[62,9,63,9],[62,10,63,10],[62,13,62,16],[59,1,59,5],[59,6,59,8],[59,13,59,16],[59,17,59,21],[59,26,61,28],[60,0,61,0],[60,1,61,5],[60,6,61,8],[60,9,61,9],[60,10,61,10],[55,1,55,5]]}
["PEMERINTAH DAERAH PROVINSI JAWA BARAT"]
["DINAS PENDIDIKAN"]
["SMKN 1 KARAWANG"]
["Jl. Pangkal Perjuangan By Pass Karawang  Telp.0267-401651 Fax.417258 Website : www.smkn1karawang.net Email : smkn1karawang@gmail.com"]
[]
[{"$f":"\"LEGER NILAI SISWA TAHUN PELAJARAN \"&MENU!P12","v":"LEGER NILAI SISWA TAHUN PELAJARAN 2018 / 2019"},null,null,null,null,null,null,null,null,null,null,null,null,null,null,null,null,null,null,null,null,null,null,null,null,null,"HALAMAN CETAK"]
[null,null,null,null,null,null,null,null,null,null,null,null,null,null,null,null,null,null,null,null,null,null,null,null,null,null,"Dari data ke",2]
["Nama Siswa",null,":",{"$f":"VLOOKUP($AB$14,TABNILSM4,NILSM4!B7)","v":"AL KINDI"},null,null,null,null,null,null,null,null,null,"Bidang Keahlian",null,null,":",{"$f":"KET.PETUNJUK!D18","v":"TEKNOLOGI INFORMASI DAN KOMUNIKASI"}]
["Nomor Induk/NISN",null,":",{"$f":"IF(VLOOKUP($AB$14,TABBIODATA,BIODATA!E4)=\"\",VLOOKUP($AB$14,TABBIODATA,BIODATA!D4),VLOOKUP($AB$14,TABBIODATA,BIODATA!D4)&\" / \"&VLOOKUP($AB$14,TABBIODATA,BIODATA!E4))","v":"13140768 / 9973289804"},null,null,null,null,null,null,null,null,null,"Program Keahlian",null,null,":",{"$f":"KET.PETUNJUK!D19","v":"TEKNIK KOMPUTER DAN INFORMATIKA"},null,null,null,null,null,null,null,null,"Sampai data ke",2]
["Kelas/Semester ",null,":",{"$f":"W10&\" / \"&W11","v":"XI TKRO 1 / 4 (empat)"},null,null,null,null,null,null,null,null,null,"Paket Keahlian",null,null,":",{"$f":"KET.PETUNJUK!D20","v":"TEKNIK KOMPUTER JARINGAN"},null,null,null,null,{"$f":"IF(OR(W11=\"1 (satu)\",W11=\"2 (dua)\"),\"X \"&MENU!I9,IF(OR(W11=\"3 (tiga)\",W11=\"4 (empat)\"),\"XI \"&MENU!I9,IF(OR(W11=\"5 (lima)\",W11=\"6 (enam)\"),\"XII \"&MENU!I9,\"\")))","v":"XI TKRO 1"}]
["Wali Kelas",null,":",{"$f":"NILSM4!B4","v":"Bimuka Jati Andromeda, S.Pd"},null,null,null,null,null,null,null,null,null,null,null,null,null,null,null,null,null,null,{"$f":"NILSM4!B3","v":"4 (empat)"}]
[]
["A.  Nilai Sikap",null,null,null,null,null,null,null,null,null,null,null,null,"Prestasi",null,null,null,null,null,"Ketidakhadiran",null,null,null,null,null,null,"TAMPILAN DATA"]
["No.","Kompetensi Inti",null,"Deskripsi",null,null,null,null,null,null,null,null,null,"Jenis Prestasi",null,null,null,"Keterangan",null,"Sakit",":",{"$f":"VLOOKUP($AB$14,TABNILSM4,NILSM4!DI7)","v":3},2,null,null,null,"Nomor Urut",2]
["1","Spiritual (KI-1)",null,{"$f":"IFERROR(VLOOKUP(W15,TABDESSPIRITUAL,2),\"-\")","v":"Sangat menerima, menjalankan, menghargai, menghayati dan mengamalkan ajaran agama yang dianut."},null,null,null,null,null,null,null,null,null,{"$f":"IFERROR(VLOOKUP($AB$14,TABNILSM4,NILSM4!DE7),\"-\")","v":"Juara 1 LKS Jawa Barat"},null,null,null,{"$f":"IFERROR(VLOOKUP($AB$14,TABNILSM4,NILSM4!DF7),\"-\")","v":0},null,"Izin",":",{"$f":"VLOOKUP($AB$14,TABNILSM4,NILSM4!DJ7)","v":"-"},{"$f":"VLOOKUP($AB$14,TABNILSM4,NILSM4!DL7)","v":"A"}]
[null,null,null,null,null,null,null,null,null,null,null,null,null,null,null,null,null,null,null,"Alpa",":",{"$f":"VLOOKUP($AB$14,TABNILSM4,NILSM4!DK7)","v":"-"}]
[2,"Sosial (KI-2)",null,{"$f":"IFERROR(VLOOKUP(W18,TABDESSOSIAL,2),\"-\")","v":"Sudah menunjukkan konsisten menerapkan sikap jujur, santun dan toleran dalam pergaulan, disiplin, kerjasama dalam kelompok dan tanggungjawab dalam keseharian sebagai hasil pembelajaran di sekolah. Tingkatkan sikap-sikap positif tersebut agar lebih baik."}]
[null,null,null,null,null,null,null,null,null,null,null,null,null,{"$f":"IFERROR(VLOOKUP($AB$14,TABNILSM4,NILSM4!DG7),\"-\")","v":"-"},null,null,null,{"$f":"IFERROR(VLOOKUP($AB$14,TABNILSM4,NILSM4!DH7),\"-\")","v":"-"},null,"Kenaikan Kelas",null,null,{"$f":"VLOOKUP($AB$14,TABNILSM4,NILSM4!DM7)","v":"B"},null,null,null,"PILIHAN DESKRIPSI"]
[null,null,null,null,null,null,null,null,null,null,null,null,null,null,null,null,null,null,null,{"$f":"IFERROR(VLOOKUP($AB$14,TABNILSM4,NILSM4!DW7),\"-\")","v":"NAIK KELAS"},null,null,null,null,null,null,"OTOMATIS"]
[]
[]
["B.  Nilai Pengetahuan dan Keterampilan"]
["No.","Mata Pelajaran",null,null,null,"Pengetahuan (KI-3)",null,null,null,null,null,null,"Keterampilan (KI-4)"]
[null,null,null,null,null,"KB","Angka","Predikat","Deskripsi",null,null,null,"KB","Angka","Predikat","Deskripsi"]
["Muatan Nasional"]
[{"$f":"NILSM4!D4","v":1},{"$f":"NILSM4!D2","v":"Pendidikan Agama dan Budi Pekerti"},null,null,null,{"$f":"NILSM4!D5","v":77},{"$f":"VLOOKUP($AB$14,TABNILSM4,NILSM4!D7)","v":91.5},{"$f":"IFERROR(VLOOKUP(G26,TABEL_NILAI,4),\"-\")","v":"B"},{"$f":"IFERROR(IF($AA$19=DATABASE!$B$2,VLOOKUP(H26,TABDESPENGETAHUAN,2),IF($AA$19=DATABASE!$B$3,VLOOKUP(H26,DESKPENGETAHUANSM4,DESKSM4!D3),\"-\")),\"-\")","v":"Baik dalam memahami, menerapkan, menganalisis dan mengevaluasi sebagian besar kompetensi dasar."},null,null,null,{"$f":"NILSM4!E5","v":77},{"$f":"VLOOKUP($AB$14,TABNILSM4,NILSM4!E7)","v":3.125},{"$f":"IFERROR(VLOOKUP(N26,TABEL_NILAI,4),\"-\")","v":"D"},{"$f":"IFERROR(IF($AA$19=DATABASE!$B$2,VLOOKUP(O26,TABDESKETERAMPILAN,2),IF($AA$19=DATABASE!$B$3,VLOOKUP(O26,DESKKETERAMPILANSM4,DESKSM4!D3),\"-\")),\"-\")","v":"Kurang aktif bertanya, mencoba, menalar dan kreatif dalam menyelesaikan tugas praktek."}]
[{"$f":"NILSM4!G4","v":2},{"$f":"NILSM4!G2","v":"Pendidikan Pancasila dan Kewarganegaraan"},null,null,null,{"$f":"NILSM4!G5","v":77},{"$f":"VLOOKUP($AB$14,TABNILSM4,NILSM4!G7)","v":90.25},{"$f":"IFERROR(VLOOKUP(G27,TABEL_NILAI,4),\"-\")","v":"B"},{"$f":"IFERROR(IF($AA$19=DATABASE!$B$2,VLOOKUP(H27,TABDESPENGETAHUAN,2),IF($AA$19=DATABASE!$B$3,VLOOKUP(H27,DESKPENGETAHUANSM4,DESKSM4!D4),\"-\")),\"-\")","v":"Baik dalam memahami, menerapkan, menganalisis dan mengevaluasi sebagian besar kompetensi dasar."},null,null,null,{"$f":"NILSM4!H5","v":77},{"$f":"VLOOKUP($AB$14,TABNILSM4,NILSM4!H7)","v":3.6805555555555558},"D",{"$f":"IFERROR(IF($AA$19=DATABASE!$B$2,VLOOKUP(O27,TABDESKETERAMPILAN,2),IF($AA$19=DATABASE!$B$3,VLOOKUP(O27,DESKKETERAMPILANSM4,DESKSM4!D4),\"-\")),\"-\")","v":"Kurang aktif bertanya, mencoba, menalar dan kreatif dalam menyelesaikan tugas praktek."}]
[{"$f":"NILSM4!J4","v":3},{"$f":"NILSM4!J2","v":"Bahasa Indonesia"},null,null,null,{"$f":"NILSM4!J5","v":77},{"$f":"VLOOKUP($AB$14,TABNILSM4,NILSM4!J7)","v":89.25},"B",{"$f":"IFERROR(IF($AA$19=DATABASE!$B$2,VLOOKUP(H28,TABDESPENGETAHUAN,2),IF($AA$19=DATABASE!$B$3,VLOOKUP(H28,DESKPENGETAHUANSM4,DESKSM4!D5),\"-\")),\"-\")","v":"Baik dalam memahami, menerapkan, menganalisis dan mengevaluasi sebagian besar kompetensi dasar."},null,null,null,{"$f":"NILSM4!K5","v":77},{"$f":"VLOOKUP($AB$14,TABNILSM4,NILSM4!K7)","v":4.1666666666666661},"D",{"$f":"IFERROR(IF($AA$19=DATABASE!$B$2,VLOOKUP(O28,TABDESKETERAMPILAN,2),IF($AA$19=DATABASE!$B$3,VLOOKUP(O28,DESKKETERAMPILANSM4,DESKSM4!D5),\"-\")),\"-\")","v":"Kurang aktif bertanya, mencoba, menalar dan kreatif dalam menyelesaikan tugas praktek."}]
[{"$f":"NILSM4!M4","v":4},{"$f":"NILSM4!M2","v":"Matematika"},null,null,null,{"$f":"NILSM4!M5","v":77},{"$f":"VLOOKUP($AB$14,TABNILSM4,NILSM4!M7)","v":83.25},"C",{"$f":"IFERROR(IF($AA$19=DATABASE!$B$2,VLOOKUP(H29,TABDESPENGETAHUAN,2),IF($AA$19=DATABASE!$B$3,VLOOKUP(H29,DESKPENGETAHUANSM4,DESKSM4!D6),\"-\")),\"-\")","v":"Cukup baik memahami sebagian kompetensi dasar, tetapi kurang bisa menerapkan, menganalisis dan mengevaluasinya."},null,null,null,{"$f":"NILSM4!N5","v":77},{"$f":"VLOOKUP($AB$14,TABNILSM4,NILSM4!N7)","v":3.6458333333333335},"D",{"$f":"IFERROR(IF($AA$19=DATABASE!$B$2,VLOOKUP(O29,TABDESKETERAMPILAN,2),IF($AA$19=DATABASE!$B$3,VLOOKUP(O29,DESKKETERAMPILANSM4,DESKSM4!D6),\"-\")),\"-\")","v":"Kurang aktif bertanya, mencoba, menalar dan kreatif dalam menyelesaikan tugas praktek."}]
[{"$f":"NILSM4!P4","v":"-"},{"$f":"NILSM4!P2","v":"-"},null,null,null,{"$f":"NILSM4!P5","v":77},{"$f":"VLOOKUP($AB$14,TABNILSM4,NILSM4!P7)","v":"-"},"-",{"$f":"IFERROR(IF($AA$19=DATABASE!$B$2,VLOOKUP(H30,TABDESPENGETAHUAN,2),IF($AA$19=DATABASE!$B$3,VLOOKUP(H30,DESKPENGETAHUANSM4,DESKSM4!D7),\"-\")),\"-\")","v":"-"},null,null,null,{"$f":"NILSM4!Q5","v":77},{"$f":"VLOOKUP($AB$14,TABNILSM4,NILSM4!Q7)","v":"-"},"-",{"$f":"IFERROR(IF($AA$19=DATABASE!$B$2,VLOOKUP(O30,TABDESKETERAMPILAN,2),IF($AA$19=DATABASE!$B$3,VLOOKUP(O30,DESKKETERAMPILANSM4,DESKSM4!D7),\"-\")),\"-\")","v":"-"}]
[{"$f":"NILSM4!S4","v":5},{"$f":"NILSM4!S2","v":"Bahasa Inggris"},null,null,null,{"$f":"NILSM4!S5","v":77},{"$f":"VLOOKUP($AB$14,TABNILSM4,NILSM4!S7)","v":83.25},"C",{"$f":"IFERROR(IF($AA$19=DATABASE!$B$2,VLOOKUP(H31,TABDESPENGETAHUAN,2),IF($AA$19=DATABASE!$B$3,VLOOKUP(H31,DESKPENGETAHUANSM4,DESKSM4!D8),\"-\")),\"-\")","v":"Cukup baik memahami sebagian kompetensi dasar, tetapi kurang bisa menerapkan, menganalisis dan mengevaluasinya."},null,null,null,{"$f":"NILSM4!T5","v":77},{"$f":"VLOOKUP($AB$14,TABNILSM4,NILSM4!T7)","v":3.8194444444444442},"D",{"$f":"IFERROR(IF($AA$19=DATABASE!$B$2,VLOOKUP(O31,TABDESKETERAMPILAN,2),IF($AA$19=DATABASE!$B$3,VLOOKUP(O31,DESKKETERAMPILANSM4,DESKSM4!D8),\"-\")),\"-\")","v":"Kurang aktif bertanya, mencoba, menalar dan kreatif dalam menyelesaikan tugas praktek."}]
["Muatan Kewilayahan"]
[{"$f":"NILSM4!V4","v":"-"},{"$f":"NILSM4!V2","v":"-"},null,null,null,{"$f":"NILSM4!V5","v":77},{"$f":"VLOOKUP($AB$14,TABNILSM4,NILSM4!V7)","v":"-"},{"$f":"IFERROR(VLOOKUP(G33,TABEL_NILAI,4),\"-\")","v":"-"},{"$f":"IFERROR(IF($AA$19=DATABASE!$B$2,VLOOKUP(H33,TABDESPENGETAHUAN,2),IF($AA$19=DATABASE!$B$3,VLOOKUP(H33,DESKPENGETAHUANSM4,DESKSM4!D10),\"-\")),\"-\")","v":"-"},null,null,null,{"$f":"NILSM4!W5","v":77},{"$f":"VLOOKUP($AB$14,TABNILSM4,NILSM4!W7)","v":"-"},{"$f":"IFERROR(VLOOKUP(N33,TABEL_NILAI,4),\"-\")","v":"-"},{"$f":"IFERROR(IF($AA$19=DATABASE!$B$2,VLOOKUP(O33,TABDESKETERAMPILAN,2),IF($AA$19=DATABASE!$B$3,VLOOKUP(O33,DESKKETERAMPILANSM4,DESKSM4!D10),\"-\")),\"-\")","v":"-"}]
[{"$f":"NILSM4!Y4","v":1},{"$f":"NILSM4!Y2","v":"Pendidikan Jasmani, Olah Raga & Kesehatan"},null,null,null,{"$f":"NILSM4!Y5","v":77},{"$f":"VLOOKUP($AB$14,TABNILSM4,NILSM4!Y7)","v":94.5},{"$f":"IFERROR(VLOOKUP(G34,TABEL_NILAI,4),\"-\")","v":"A"},{"$f":"IFERROR(IF($AA$19=DATABASE!$B$2,VLOOKUP(H34,TABDESPENGETAHUAN,2),IF($AA$19=DATABASE!$B$3,VLOOKUP(H34,DESKPENGETAHUANSM4,DESKSM4!D11),\"-\")),\"-\")","v":"Sangat baik dalam memahami, menerapkan, menganalisis dan mengevaluasi semua kompetensi dasar."},null,null,null,{"$f":"NILSM4!Z5","v":77},{"$f":"VLOOKUP($AB$14,TABNILSM4,NILSM4!Z7)","v":3.5069444444444446},{"$f":"IFERROR(VLOOKUP(N34,TABEL_NILAI,4),\"-\")","v":"D"},{"$f":"IFERROR(IF($AA$19=DATABASE!$B$2,VLOOKUP(O34,TABDESKETERAMPILAN,2),IF($AA$19=DATABASE!$B$3,VLOOKUP(O34,DESKKETERAMPILANSM4,DESKSM4!D11),\"-\")),\"-\")","v":"Kurang aktif bertanya, mencoba, menalar dan kreatif dalam menyelesaikan tugas praktek."}]
[null,"Muatan Lokal"]
[{"$f":"NILSM4!AB4","v":"-"},{"$f":"NILSM4!AB2","v":"-"},null,null,null,{"$f":"NILSM4!AB5","v":77},{"$f":"VLOOKUP($AB$14,TABNILSM4,NILSM4!AB7)","v":"-"},{"$f":"IFERROR(VLOOKUP(G36,TABEL_NILAI,4),\"-\")","v":"-"},{"$f":"IFERROR(IF($AA$19=DATABASE!$B$2,VLOOKUP(H36,TABDESPENGETAHUAN,2),IF($AA$19=DATABASE!$B$3,VLOOKUP(H36,DESKPENGETAHUANSM4,DESKSM4!D12),\"-\")),\"-\")","v":"-"},null,null,null,{"$f":"NILSM4!AC5","v":77},{"$f":"VLOOKUP($AB$14,TABNILSM4,NILSM4!AC7)","v":"-"},{"$f":"IFERROR(VLOOKUP(N36,TABEL_NILAI,4),\"-\")","v":"-"},{"$f":"IFERROR(IF($AA$19=DATABASE!$B$2,VLOOKUP(O36,TABDESKETERAMPILAN,2),IF($AA$19=DATABASE!$B$3,VLOOKUP(O36,DESKKETERAMPILANSM4,DESKSM4!D12),\"-\")),\"-\")","v":"-"}]
[{"$f":"NILSM4!AE4","v":2},{"$f":"NILSM4!AE2","v":"Bahasa Jepang"},null,null,null,{"$f":"NILSM4!AE5","v":77},{"$f":"VLOOKUP($AB$14,TABNILSM4,NILSM4!AE7)","v":80.25},{"$f":"IFERROR(VLOOKUP(G37,TABEL_NILAI,4),\"-\")","v":"C"},{"$f":"IFERROR(IF($AA$19=DATABASE!$B$2,VLOOKUP(H37,TABDESPENGETAHUAN,2),IF($AA$19=DATABASE!$B$3,VLOOKUP(H37,DESKPENGETAHUANSM4,DESKSM4!D15),\"-\")),\"-\")","v":"Cukup baik memahami sebagian kompetensi dasar, tetapi kurang bisa menerapkan, menganalisis dan mengevaluasinya."},null,null,null,{"$f":"NILSM4!AF5","v":77},{"$f":"VLOOKUP($AB$14,TABNILSM4,NILSM4!AF7)","v":3.125},{"$f":"IFERROR(VLOOKUP(N37,TABEL_NILAI,4),\"-\")","v":"D"},{"$f":"IFERROR(IF($AA$19=DATABASE!$B$2,VLOOKUP(O37,TABDESKETERAMPILAN,2),IF($AA$19=DATABASE!$B$3,VLOOKUP(O37,DESKKETERAMPILANSM4,DESKSM4!D15),\"-\")),\"-\")","v":"Kurang aktif bertanya, mencoba, menalar dan kreatif dalam menyelesaikan tugas praktek."}]
["Muatan Peminatan Kejuruan"]
["C1","Dasar Bidang Keahlian"]
[{"$f":"NILSM4!AH4","v":1},{"$f":"NILSM4!AH2","v":"-"},null,null,null,{"$f":"NILSM4!AH5","v":77},{"$f":"VLOOKUP($AB$14,TABNILSM4,NILSM4!AH7)","v":"-"},{"$f":"IFERROR(VLOOKUP(G40,TABEL_NILAI,4),\"-\")","v":"-"},{"$f":"IFERROR(IF($AA$19=DATABASE!$B$2,VLOOKUP(H40,TABDESPENGETAHUAN,2),IF($AA$19=DATABASE!$B$3,VLOOKUP(H40,DESKPENGETAHUANSM4,DESKSM4!D16),\"-\")),\"-\")","v":"-"},null,null,null,{"$f":"NILSM4!AI5","v":77},{"$f":"VLOOKUP($AB$14,TABNILSM4,NILSM4!AI7)","v":"-"},{"$f":"IFERROR(VLOOKUP(N40,TABEL_NILAI,4),\"-\")","v":"-"},{"$f":"IFERROR(IF($AA$19=DATABASE!$B$2,VLOOKUP(O40,TABDESKETERAMPILAN,2),IF($AA$19=DATABASE!$B$3,VLOOKUP(O40,DESKKETERAMPILANSM4,DESKSM4!D16),\"-\")),\"-\")","v":"-"}]
[{"$f":"NILSM4!AK4","v":2},{"$f":"NILSM4!AK2","v":"-"},null,null,null,{"$f":"NILSM4!AK5","v":77},{"$f":"VLOOKUP($AB$14,TABNILSM4,NILSM4!AK7)","v":"-"},{"$f":"IFERROR(VLOOKUP(G41,TABEL_NILAI,4),\"-\")","v":"-"},{"$f":"IFERROR(IF($AA$19=DATABASE!$B$2,VLOOKUP(H41,TABDESPENGETAHUAN,2),IF($AA$19=DATABASE!$B$3,VLOOKUP(H41,DESKPENGETAHUANSM4,DESKSM4!D17),\"-\")),\"-\")","v":"-"},null,null,null,{"$f":"NILSM4!AL5","v":77},{"$f":"VLOOKUP($AB$14,TABNILSM4,NILSM4!AL7)","v":"-"},{"$f":"IFERROR(VLOOKUP(N41,TABEL_NILAI,4),\"-\")","v":"-"},{"$f":"IFERROR(IF($AA$19=DATABASE!$B$2,VLOOKUP(O41,TABDESKETERAMPILAN,2),IF($AA$19=DATABASE!$B$3,VLOOKUP(O41,DESKKETERAMPILANSM4,DESKSM4!D17),\"-\")),\"-\")","v":"-"}]
[{"$f":"NILSM4!AN4","v":3},{"$f":"NILSM4!AN2","v":"-"},null,null,null,{"$f":"NILSM4!AN5","v":77},{"$f":"VLOOKUP($AB$14,TABNILSM4,NILSM4!AN7)","v":"-"},{"$f":"IFERROR(VLOOKUP(G42,TABEL_NILAI,4),\"-\")","v":"-"},{"$f":"IFERROR(IF($AA$19=DATABASE!$B$2,VLOOKUP(H42,TABDESPENGETAHUAN,2),IF($AA$19=DATABASE!$B$3,VLOOKUP(H42,DESKPENGETAHUANSM4,DESKSM4!D19),\"-\")),\"-\")","v":"-"},null,null,null,{"$f":"NILSM4!AO5","v":77},{"$f":"VLOOKUP($AB$14,TABNILSM4,NILSM4!AO7)","v":"-"},{"$f":"IFERROR(VLOOKUP(N42,TABEL_NILAI,4),\"-\")","v":"-"},{"$f":"IFERROR(IF($AA$19=DATABASE!$B$2,VLOOKUP(O42,TABDESKETERAMPILAN,2),IF($AA$19=DATABASE!$B$3,VLOOKUP(O42,DESKKETERAMPILANSM4,DESKSM4!D19),\"-\")),\"-\")","v":"-"}]
["C2","Dasar Program Keahlian"]
[{"$f":"NILSM4!AQ4","v":1},{"$f":"NILSM4!AQ2","v":"-"},null,null,null,{"$f":"NILSM4!AQ5","v":77},{"$f":"VLOOKUP($AB$14,TABNILSM4,NILSM4!AQ7)","v":"-"},"-",{"$f":"IFERROR(IF($AA$19=DATABASE!$B$2,VLOOKUP(H44,TABDESPENGETAHUAN,2),IF($AA$19=DATABASE!$B$3,VLOOKUP(H44,DESKPENGETAHUANSM4,DESKSM4!D20),\"-\")),\"-\")","v":"-"},null,null,null,{"$f":"NILSM4!AR5","v":77},{"$f":"VLOOKUP($AB$14,TABNILSM4,NILSM4!AR7)","v":"-"},"-",{"$f":"IFERROR(IF($AA$19=DATABASE!$B$2,VLOOKUP(O44,TABDESKETERAMPILAN,2),IF($AA$19=DATABASE!$B$3,VLOOKUP(O44,DESKKETERAMPILANSM4,DESKSM4!D20),\"-\")),\"-\")","v":"-"}]
[{"$f":"NILSM4!AT4","v":2},{"$f":"NILSM4!AT2","v":"-"},null,null,null,{"$f":"NILSM4!AT5","v":77},{"$f":"VLOOKUP($AB$14,TABNILSM4,NILSM4!AT7)","v":"-"},"-",{"$f":"IFERROR(IF($AA$19=DATABASE!$B$2,VLOOKUP(H45,TABDESPENGETAHUAN,2),IF($AA$19=DATABASE!$B$3,VLOOKUP(H45,DESKPENGETAHUANSM4,DESKSM4!D21),\"-\")),\"-\")","v":"-"},null,null,null,{"$f":"NILSM4!AU5","v":77},{"$f":"VLOOKUP($AB$14,TABNILSM4,NILSM4!AU7)","v":"-"},"-",{"$f":"IFERROR(IF($AA$19=DATABASE!$B$2,VLOOKUP(O45,TABDESKETERAMPILAN,2),IF($AA$19=DATABASE!$B$3,VLOOKUP(O45,DESKKETERAMPILANSM4,DESKSM4!D21),\"-\")),\"-\")","v":"-"}]
[{"$f":"NILSM4!AW4","v":3},{"$f":"NILSM4!AW2","v":"-"},null,null,null,{"$f":"NILSM4!AW5","v":77},{"$f":"VLOOKUP($AB$14,TABNILSM4,NILSM4!AW7)","v":"-"},"-",{"$f":"IFERROR(IF($AA$19=DATABASE!$B$2,VLOOKUP(H46,TABDESPENGETAHUAN,2),IF($AA$19=DATABASE!$B$3,VLOOKUP(H46,DESKPENGETAHUANSM4,DESKSM4!D22),\"-\")),\"-\")","v":"-"},null,null,null,{"$f":"NILSM4!AX5","v":77},{"$f":"VLOOKUP($AB$14,TABNILSM4,NILSM4!AX7)","v":"-"},"-",{"$f":"IFERROR(IF($AA$19=DATABASE!$B$2,VLOOKUP(O46,TABDESKETERAMPILAN,2),IF($AA$19=DATABASE!$B$3,VLOOKUP(O46,DESKKETERAMPILANSM4,DESKSM4!D22),\"-\")),\"-\")","v":"-"}]
[{"$f":"NILSM4!AZ4","v":4},{"$f":"NILSM4!AZ2","v":"-"},null,null,null,{"$f":"NILSM4!AZ5","v":77},{"$f":"VLOOKUP($AB$14,TABNILSM4,NILSM4!AZ7)","v":"-"},"-",{"$f":"IFERROR(IF($AA$19=DATABASE!$B$2,VLOOKUP(H47,TABDESPENGETAHUAN,2),IF($AA$19=DATABASE!$B$3,VLOOKUP(H47,DESKPENGETAHUANSM4,DESKSM4!D23),\"-\")),\"-\")","v":"-"},null,null,null,{"$f":"NILSM4!BA5","v":77},{"$f":"VLOOKUP($AB$14,TABNILSM4,NILSM4!BA7)","v":"-"},"-",{"$f":"IFERROR(IF($AA$19=DATABASE!$B$2,VLOOKUP(O47,TABDESKETERAMPILAN,2),IF($AA$19=DATABASE!$B$3,VLOOKUP(O47,DESKKETERAMPILANSM4,DESKSM4!D23),\"-\")),\"-\")","v":"-"}]
["C3","Paket Keahlian"]
[{"$f":"NILSM4!BC4","v":1},{"$f":"NILSM4!BC2","v":"Administrasi Infrastruktur Jaringan"},null,null,null,{"$f":"NILSM4!BC5","v":77},{"$f":"VLOOKUP($AB$14,TABNILSM4,NILSM4!BC7)","v":81},"C",{"$f":"IFERROR(IF($AA$19=DATABASE!$B$2,VLOOKUP(H49,TABDESPENGETAHUAN,2),IF($AA$19=DATABASE!$B$3,VLOOKUP(H49,DESKPENGETAHUANSM4,DESKSM4!D24),\"-\")),\"-\")","v":"Cukup baik memahami sebagian kompetensi dasar, tetapi kurang bisa menerapkan, menganalisis dan mengevaluasinya."},null,null,null,{"$f":"NILSM4!BD5","v":77},{"$f":"VLOOKUP($AB$14,TABNILSM4,NILSM4!BD7)","v":84},"C",{"$f":"IFERROR(IF($AA$19=DATABASE!$B$2,VLOOKUP(O49,TABDESKETERAMPILAN,2),IF($AA$19=DATABASE!$B$3,VLOOKUP(O49,DESKKETERAMPILANSM4,DESKSM4!D24),\"-\")),\"-\")","v":"Cukup aktif bertanya, mencoba, menalar dan kreatif dalam menyelesaikan tugas praktek"}]
[{"$f":"NILSM4!BF4","v":2},{"$f":"NILSM4!BF2","v":"Administrasi Sistem Jaringan"},null,null,null,{"$f":"NILSM4!BF5","v":77},{"$f":"VLOOKUP($AB$14,TABNILSM4,NILSM4!BF7)","v":83},"C",{"$f":"IFERROR(IF($AA$19=DATABASE!$B$2,VLOOKUP(H50,TABDESPENGETAHUAN,2),IF($AA$19=DATABASE!$B$3,VLOOKUP(H50,DESKMANUPENGETAHUAN,2),\"-\")),\"-\")","v":"Cukup baik memahami sebagian kompetensi dasar, tetapi kurang bisa menerapkan, menganalisis dan mengevaluasinya."},null,null,null,{"$f":"NILSM4!BG5","v":77},{"$f":"VLOOKUP($AB$14,TABNILSM4,NILSM4!BG7)","v":83},"C",{"$f":"IFERROR(IF($AA$19=DATABASE!$B$2,VLOOKUP(O50,TABDESKETERAMPILAN,2),IF($AA$19=DATABASE!$B$3,VLOOKUP(O50,DESKMANUKETERAMPILAN,2),\"-\")),\"-\")","v":"Cukup aktif bertanya, mencoba, menalar dan kreatif dalam menyelesaikan tugas praktek"}]
[{"$f":"NILSM4!BI4","v":3},{"$f":"NILSM4!BI2","v":"Teknologi Layanan Jaringan"},null,null,null,{"$f":"NILSM4!BI5","v":77},{"$f":"VLOOKUP($AB$14,TABNILSM4,NILSM4!BI7)","v":85},"C",{"$f":"IFERROR(IF($AA$19=DATABASE!$B$2,VLOOKUP(H51,TABDESPENGETAHUAN,2),IF($AA$19=DATABASE!$B$3,VLOOKUP(H51,DESKMANUPENGETAHUAN,2),\"-\")),\"-\")","v":"Cukup baik memahami sebagian kompetensi dasar, tetapi kurang bisa menerapkan, menganalisis dan mengevaluasinya."},null,null,null,{"$f":"NILSM4!BJ5","v":77},{"$f":"VLOOKUP($AB$14,TABNILSM4,NILSM4!BJ7)","v":83},"C",{"$f":"IFERROR(IF($AA$19=DATABASE!$B$2,VLOOKUP(O51,TABDESKETERAMPILAN,2),IF($AA$19=DATABASE!$B$3,VLOOKUP(O51,DESKMANUKETERAMPILAN,2),\"-\")),\"-\")","v":"Cukup aktif bertanya, mencoba, menalar dan kreatif dalam menyelesaikan tugas praktek"}]
[{"$f":"NILSM4!BL4","v":4},{"$f":"NILSM4!BL2","v":"-"},null,null,null,{"$f":"NILSM4!BL5","v":77},{"$f":"VLOOKUP($AB$14,TABNILSM4,NILSM4!BL7)","v":"-"},"-",{"$f":"IFERROR(IF($AA$19=DATABASE!$B$2,VLOOKUP(H52,TABDESPENGETAHUAN,2),IF($AA$19=DATABASE!$B$3,VLOOKUP(H52,DESKMANUPENGETAHUAN,2),\"-\")),\"-\")","v":"-"},null,null,null,{"$f":"NILSM4!BM5","v":77},{"$f":"VLOOKUP($AB$14,TABNILSM4,NILSM4!BM7)","v":"-"},"-",{"$f":"IFERROR(IF($AA$19=DATABASE!$B$2,VLOOKUP(O52,TABDESKETERAMPILAN,2),IF($AA$19=DATABASE!$B$3,VLOOKUP(O52,DESKMANUKETERAMPILAN,2),\"-\")),\"-\")","v":"-"}]
[{"$f":"NILSM4!BO4","v":5},{"$f":"NILSM4!BO2","v":"-"},null,null,null,{"$f":"NILSM4!BO5","v":77},{"$f":"VLOOKUP($AB$14,TABNILSM4,NILSM4!BO7)","v":"-"},"-",{"$f":"IFERROR(IF($AA$19=DATABASE!$B$2,VLOOKUP(H53,TABDESPENGETAHUAN,2),IF($AA$19=DATABASE!$B$3,VLOOKUP(H53,DESKMANUPENGETAHUAN,2),\"-\")),\"-\")","v":"-"},null,null,null,{"$f":"NILSM4!BP5","v":77},{"$f":"VLOOKUP($AB$14,TABNILSM4,NILSM4!BP7)","v":"-"},"-",{"$f":"IFERROR(IF($AA$19=DATABASE!$B$2,VLOOKUP(O53,TABDESKETERAMPILAN,2),IF($AA$19=DATABASE!$B$3,VLOOKUP(O53,DESKMANUKETERAMPILAN,2),\"-\")),\"-\")","v":"-"}]
[{"$f":"NILSM4!BR4","v":6},{"$f":"NILSM4!BR2","v":"Produk Kreatif dan Kewirausahaan "},null,null,null,{"$f":"NILSM4!BR5","v":77},{"$f":"VLOOKUP($AB$14,TABNILSM4,NILSM4!BR7)","v":82},"C",{"$f":"IFERROR(IF($AA$19=DATABASE!$B$2,VLOOKUP(H54,TABDESPENGETAHUAN,2),IF($AA$19=DATABASE!$B$3,VLOOKUP(H54,DESKMANUPENGETAHUAN,2),\"-\")),\"-\")","v":"Cukup baik memahami sebagian kompetensi dasar, tetapi kurang bisa menerapkan, menganalisis dan mengevaluasinya."},null,null,null,{"$f":"NILSM4!BS5","v":77},{"$f":"VLOOKUP($AB$14,TABNILSM4,NILSM4!BS7)","v":88.25},"B",{"$f":"IFERROR(IF($AA$19=DATABASE!$B$2,VLOOKUP(O54,TABDESKETERAMPILAN,2),IF($AA$19=DATABASE!$B$3,VLOOKUP(O54,DESKMANUKETERAMPILAN,2),\"-\")),\"-\")","v":"Baik dan aktif bertanya, mencoba, menalar dan kreatif dalam menyelesaikan sebagian besar tugas praktek."}]
[{"$f":"NILSM4!BU4","v":0},{"$f":"NILSM4!BU2","v":"-"},null,null,null,{"$f":"NILSM4!BU5","v":77},{"$f":"VLOOKUP($AB$14,TABNILSM4,NILSM4!BU7)","v":"-"},"-",{"$f":"IFERROR(IF($AA$19=DATABASE!$B$2,VLOOKUP(H55,TABDESPENGETAHUAN,2),IF($AA$19=DATABASE!$B$3,VLOOKUP(H55,DESKMANUPENGETAHUAN,2),\"-\")),\"-\")","v":"-"},null,null,null,{"$f":"NILSM4!BV5","v":77},{"$f":"VLOOKUP($AB$14,TABNILSM4,NILSM4!BV7)","v":"-"},"-",{"$f":"IFERROR(IF($AA$19=DATABASE!$B$2,VLOOKUP(O55,TABDESKETERAMPILAN,2),IF($AA$19=DATABASE!$B$3,VLOOKUP(O55,DESKMANUKETERAMPILAN,2),\"-\")),\"-\")","v":"-"}]
[null,"Rata-rata",null,null,null,null,{"$f":"VLOOKUP($AB$14,TABNILSM4,NILSM4!DO7)","v":86},{"$f":"VLOOKUP(G56,TABEL_NILAI,4)","v":"B"},null,null,null,null,null,{"$f":"VLOOKUP($AB$14,TABNILSM4,NILSM4!DP7)","v":33},{"$f":"VLOOKUP(N56,TABEL_NILAI,4)","v":"D"},null,"Total Nilai :",null,null,"Peringkat di Kelas :"]
[null,"Jumlah Nilai",null,null,null,null,{"$f":"VLOOKUP($AB$14,TABNILSM4,NILSM4!DQ7)","v":943},null,null,null,null,null,null,{"$f":"VLOOKUP($AB$14,TABNILSM4,NILSM4!DR7)","v":363},null,null,{"$f":"VLOOKUP($AB$14,TABNILSM4,NILSM4!DS7)","v":1306},null,null,{"$f":"IF(VLOOKUP($AB$14,TABNILSM4,NILSM4!DU7)=\"\",\"-\",VLOOKUP($AB$14,TABNILSM4,NILSM4!DU7)&\" dari \"&VLOOKUP($AB$14,TABNILSM4,NILSM4!DV7))","v":"-"}]
[]
["C.  Praktek Kerja Lapangan",null,null,null,null,null,null,null,null,null,null,null,"D.  Ekstrakurikuler"]
["No.","Mitra DU/DI",null,null,null,null,"Lokasi",null,null,"Lamanya (Bulan)","Keterangan",null,"No.","Kegiatan Ekstrakurikuler",null,null,null,"Keterangan",null,null,null,null,null,null,null,null,{"$f":"D8","v":"AL KINDI"}]
[1,{"$f":"IF(VLOOKUP($AB$14,TABNILSM4,NILSM4!CQ7)=\"\",\"-\",VLOOKUP($AB$14,TABNILSM4,NILSM4!CQ7))","v":"Dinas Bina Marga"},null,null,null,null,{"$f":"IF(VLOOKUP($AB$14,TABNILSM4,NILSM4!CR7)=\"\",\"-\",VLOOKUP($AB$14,TABNILSM4,NILSM4!CR7))","v":"Karawang"},null,null,{"$f":"IF(VLOOKUP($AB$14,TABNILSM4,NILSM4!CS7)=\"\",\"-\",VLOOKUP($AB$14,TABNILSM4,NILSM4!CS7))","v":3},{"$f":"IF(VLOOKUP($AB$14,TABNILSM4,NILSM4!CT7)=\"\",\"-\",VLOOKUP($AB$14,TABNILSM4,NILSM4!CT7))","v":"Baik"},null,1,{"$f":"IF(VLOOKUP($AB$14,TABNILSM4,NILSM4!CY7)=\"\",\"-\",VLOOKUP($AB$14,TABNILSM4,NILSM4!CY7))","v":"Rohis"},null,null,null,{"$f":"IF(VLOOKUP($AB$14,TABNILSM4,NILSM4!CZ7)=\"\",\"-\",VLOOKUP(W61,TABNESKUL,2,FALSE))","v":"Baik, berprestasi, disiplin dan rajin berlatih"},null,null,null,null,{"$f":"VLOOKUP($AB$14,TABNILSM4,NILSM4!CZ7)","v":"B"}]
[null,null,null,null,null,null,null,null,null,null,null,null,2,{"$f":"IF(VLOOKUP($AB$14,TABNILSM4,NILSM4!DA7)=\"\",\"-\",VLOOKUP($AB$14,TABNILSM4,NILSM4!DA7))","v":"OSIS"},null,null,null,{"$f":"IF(VLOOKUP($AB$14,TABNILSM4,NILSM4!DB7)=\"\",\"-\",VLOOKUP(W62,TABNESKUL,2,FALSE))","v":"Baik, berprestasi, disiplin dan rajin berlatih"},null,null,null,null,{"$f":"VLOOKUP($AB$14,TABNILSM4,NILSM4!DB7)","v":"B"}]
[2,{"$f":"IF(VLOOKUP($AB$14,TABNILSM4,NILSM4!CU7)=\"\",\"-\",VLOOKUP($AB$14,TABNILSM4,NILSM4!CU7))","v":"Dinas Perhubungan"},null,null,null,null,{"$f":"IF(VLOOKUP($AB$14,TABNILSM4,NILSM4!CV7)=\"\",\"-\",VLOOKUP($AB$14,TABNILSM4,NILSM4!CV7))","v":"Karawang"},null,null,{"$f":"IF(VLOOKUP($AB$14,TABNILSM4,NILSM4!CW7)=\"\",\"-\",VLOOKUP($AB$14,TABNILSM4,NILSM4!CW7))","v":3},{"$f":"IF(VLOOKUP($AB$14,TABNILSM4,NILSM4!CX7)=\"\",\"-\",VLOOKUP($AB$14,TABNILSM4,NILSM4!CX7))","v":"Sangat Baik"},null,3,{"$f":"IF(VLOOKUP($AB$14,TABNILSM4,NILSM4!DC7)=\"\",\"-\",VLOOKUP($AB$14,TABNILSM4,NILSM4!DC7))","v":"Palang Merah Remaja"},null,null,null,{"$f":"IF(VLOOKUP($AB$14,TABNILSM4,NILSM4!DD7)=\"\",\"-\",VLOOKUP(W63,TABNESKUL,2,FALSE))","v":"Baik, berprestasi, disiplin dan rajin berlatih"},null,null,null,null,{"$f":"VLOOKUP($AB$14,TABNILSM4,NILSM4!DD7)","v":"B"},null,null,null,{"$f":"\"Nomor Urut \"&AB14","v":"Nomor Urut 2"}]

{"sheet":"LEGGER5","index":16,"n_rows":63,"n_cols":28,"rows_kept":63,"cut":false,"hidden":false,"merged":[[6,26,7,26],[6,27,7,27],[8,26,9,26],[8,27,9,27],[9,17,10,21],[12,26,12,27],[0,0,0,21],[1,0,1,21],[2,0,2,21],[3,0,3,21],[5,0,5,21],[5,26,5,27],[16,0,19,0],[16,1,19,2],[16,3,19,11],[17,13,19,16],[17,17,19,17],[17,26,17,27],[18,26,19,27],[13,1,13,2],[13,3,13,11],[13,13,13,16],[13,26,14,26],[13,27,14,27],[14,0,15,0],[14,1,15,2],[14,3,15,11],[14,13,16,16],[14,17,16,17],[25,1,25,4],[25,8,25,11],[25,15,25,21],[26,1,26,4],[26,8,26,11],[26,15,26,21],[22,0,23,0],[22,1,23,4],[22,5,22,11],[22,12,22,21],[23,8,23,11],[23,15,23,21],[29,1,29,4],[29,8,29,11],[29,15,29,21],[30,1,30,4],[30,8,30,11],[30,15,30,21],[27,1,27,4],[27,8,27,11],[27,15,27,21],[28,1,28,4],[28,8,28,11],[28,15,28,21],[35,1,35,4],[35,8,35,11],[35,15,35,21],[36,1,36,4],[36,8,36,11],[36,15,36,21],[31,0,31,4],[32,1,32,4],[32,8,32,11],[32,15,32,21],[33,1,33,4],[33,8,33,11],[33,15,33,21],[41,1,41,4],[41,8,41,11],[41,15,41,21],[43,1,43,4],[43,8,43,11],[43,15,43,21],[37,0,37,4],[39,1,39,4],[39,8,39,11],[39,15,39,21],[40,1,40,4],[40,8,40,11],[40,15,40,21],[46,1,46,4],[46,8,46,11],[46,15,46,21],[48,1,48,4],[48,8,48,11],[48,15,48,21],[44,1,44,4],[44,8,44,11],[44,15,44,21],[45,1,45,4],[45,8,45,11],[45,15,45,21],[51,1,51,4],[51,8,51,11],[51,15,51,21],[52,1,52,4],[52,8,52,11],[52,15,52,21],[49,1,49,4],[49,8,49,11],[49,15,49,21],[50,1,50,4],[50,8,50,11],[50,15,50,21],[55,1,55,5],[55,16,55,17],[55,19,55,21],[56,1,56,5],[56,6,56,7],[56,13,56,14],[56,16,56,17],[56,19,56,21],[53,1,53,4],[53,8,53,11],[53,15,53,21],[54,1,54,4],[54,8,54,11],[54,15,54,21],[59,1,59,5],[59,6,59,8],[59,13,59,16],[59,17,59,21],[59,26,61,28],[60,0,61,0],[60,1,61,5],[60,6,61,8],[60,9,61,9],[60,10,61,10],[62,17,62,21],[62,26,63,28],[60,13,60,16],[60,17,60,21],[61,13,61,16],[61,17,61,21],[62,0,63,0],[62,1,63,5],[62,6,63,8],[62,9,63,9],[62,10,63,10],[62,13,62,16]]}
["PEMERINTAH DAERAH PROVINSI JAWA BARAT"]
["DINAS PENDIDIKAN"]
["SMKN 1 KARAWANG"]
["Jl. Pangkal Perjuangan By Pass Karawang  Telp.0267-401651 Fax.417258 Website : www.smkn1karawang.net Email : smkn1karawang@gmail.com"]
[]
[{"$f":"\"LEGER NILAI SISWA TAHUN PELAJARAN \"&MENU!I21","v":"LEGER NILAI SISWA TAHUN PELAJARAN 2019 / 2020"},null,null,null,null,null,null,null,null,null,null,null,null,null,null,null,null,null,null,null,null,null,null,null,null,null,"HALAMAN CETAK"]
[null,null,null,null,null,null,null,null,null,null,null,null,null,null,null,null,null,null,null,null,null,null,null,null,null,null,"Dari data ke",2]
["Nama Siswa",null,":",{"$f":"VLOOKUP($AB$14,TABNILSM5,NILSM5!B7)","v":"AL KINDI"},null,null,null,null,null,null,null,null,null,"Bidang Keahlian",null,null,":",{"$f":"KET.PETUNJUK!D18","v":"TEKNOLOGI INFORMASI DAN KOMUNIKASI"}]
["Nomor Induk/NISN",null,":",{"$f":"IF(VLOOKUP($AB$14,TABBIODATA,BIODATA!E4)=\"\",VLOOKUP($AB$14,TABBIODATA,BIODATA!D4),VLOOKUP($AB$14,TABBIODATA,BIODATA!D4)&\" / \"&VLOOKUP($AB$14,TABBIODATA,BIODATA!E4))","v":"13140768 / 9973289804"},null,null,null,null,null,null,null,null,null,"Program Keahlian",null,null,":",{"$f":"KET.PETUNJUK!D19","v":"TEKNIK KOMPUTER DAN INFORMATIKA"},null,null,null,null,null,null,null,null,"Sampai data ke",2]
["Kelas/Semester ",null,":",{"$f":"W10&\" / \"&W11","v":"XII TKRO 1 / 5 (lima)"},null,null,null,null,null,null,null,null,null,"Paket Keahlian",null,null,":",{"$f":"KET.PETUNJUK!D20","v":"TEKNIK KOMPUTER JARINGAN"},null,null,null,null,{"$f":"IF(OR(W11=\"1 (satu)\",W11=\"2 (dua)\"),\"X \"&MENU!I9,IF(OR(W11=\"3 (tiga)\",W11=\"4 (empat)\"),\"XI \"&MENU!I9,IF(OR(W11=\"5 (lima)\",W11=\"6 (enam)\"),\"XII \"&MENU!I9,\"\")))","v":"XII TKRO 1"}]
["Wali Kelas",null,":",{"$f":"NILSM5!B4","v":"Amo Sisdianto, S.Kom"},null,null,null,null,null,null,null,null,null,null,null,null,null,null,null,null,null,null,{"$f":"NILSM5!B3","v":"5 (lima)"}]
[]
["A.  Nilai Sikap",null,null,null,null,null,null,null,null,null,null,null,null,"Prestasi",null,null,null,null,null,"Ketidakhadiran",null,null,null,null,null,null,"TAMPILAN DATA"]
["No.","Kompetensi Inti",null,"Deskripsi",null,null,null,null,null,null,null,null,null,"Jenis Prestasi",null,null,null,"Keterangan",null,"Sakit",":",{"$f":"VLOOKUP($AB$14,TABNILSM5,NILSM5!DI7)","v":3},2,null,null,null,"Nomor Urut",2]
["1","Spiritual (KI-1)",null,{"$f":"IFERROR(VLOOKUP(W15,TABDESSPIRITUAL,2),\"-\")","v":"Sangat menerima, menjalankan, menghargai, menghayati dan mengamalkan ajaran agama yang dianut."},null,null,null,null,null,null,null,null,null,{"$f":"IFERROR(VLOOKUP($AB$14,TABNILSM5,NILSM5!DE7),\"-\")","v":"Juara 1 LKS Jawa Barat"},null,null,null,{"$f":"IFERROR(VLOOKUP($AB$14,TABNILSM5,NILSM5!DF7),\"-\")","v":0},null,"Izin",":",{"$f":"VLOOKUP($AB$14,TABNILSM5,NILSM5!DJ7)","v":"-"},{"$f":"VLOOKUP($AB$14,TABNILSM5,NILSM5!DL7)","v":"A"}]
[null,null,null,null,null,null,null,null,null,null,null,null,null,null,null,null,null,null,null,"Alpa",":",{"$f":"VLOOKUP($AB$14,TABNILSM5,NILSM5!DK7)","v":"-"}]
[2,"Sosial (KI-2)",null,{"$f":"IFERROR(VLOOKUP(W18,TABDESSOSIAL,2),\"-\")","v":"Sudah bersungguh-sungguh dan selalu konsisten menerapkan sikap jujur, santun dan toleran dalam pergaulan, disiplin, kerjasama dalam kelompok dan tanggungjawab dalam keseharian sebagai hasil pembelajaran di sekolah. Pertahankan sikap-sikap tersebut agar menjadi teladan bagi kawan-kawan di sekolah."}]
[null,null,null,null,null,null,null,null,null,null,null,null,null,{"$f":"IFERROR(VLOOKUP($AB$14,TABNILSM5,NILSM5!DG7),\"-\")","v":"-"},null,null,null,{"$f":"IFERROR(VLOOKUP($AB$14,TABNILSM5,NILSM5!DH7),\"-\")","v":"-"},null,null,null,null,{"$f":"VLOOKUP($AB$14,TABNILSM5,NILSM5!DM7)","v":"A"},null,null,null,"PILIHAN DESKRIPSI"]
[null,null,null,null,null,null,null,null,null,null,null,null,null,null,null,null,null,null,null,null,null,null,null,null,null,null,"OTOMATIS"]
[]
[]
["B.  Nilai Pengetahuan dan Keterampilan"]
["No.","Mata Pelajaran",null,null,null,"Pengetahuan (KI-3)",null,null,null,null,null,null,"Keterampilan (KI-4)"]
[null,null,null,null,null,"KB","Angka","Predikat","Deskripsi",null,null,null,"KB","Angka","Predikat","Deskripsi"]
["Muatan Nasional"]
[{"$f":"NILSM5!D4","v":1},{"$f":"NILSM5!D2","v":"Pendidikan Agama dan Budi Pekerti"},null,null,null,{"$f":"NILSM5!D5","v":75},{"$f":"VLOOKUP($AB$14,TABNILSM5,NILSM5!D7)","v":90},{"$f":"IFERROR(VLOOKUP(G26,TABEL_NILAI,4),\"-\")","v":"B"},{"$f":"IFERROR(IF($AA$19=DATABASE!$B$2,VLOOKUP(H26,TABDESPENGETAHUAN,2),IF($AA$19=DATABASE!$B$3,VLOOKUP(H26,DESKPENGETAHUANSM5,DESKSM5!D3),\"-\")),\"-\")","v":"Baik dalam memahami, menerapkan, menganalisis dan mengevaluasi sebagian besar kompetensi dasar."},null,null,null,{"$f":"NILSM5!E5","v":75},{"$f":"VLOOKUP($AB$14,TABNILSM5,NILSM5!E7)","v":78},{"$f":"IFERROR(VLOOKUP(N26,TABEL_NILAI,4),\"-\")","v":"C"},{"$f":"IFERROR(IF($AA$19=DATABASE!$B$2,VLOOKUP(O26,TABDESKETERAMPILAN,2),IF($AA$19=DATABASE!$B$3,VLOOKUP(O26,DESKKETERAMPILANSM5,DESKSM5!D3),\"-\")),\"-\")","v":"Cukup aktif bertanya, mencoba, menalar dan kreatif dalam menyelesaikan tugas praktek"}]
[{"$f":"NILSM5!G4","v":2},{"$f":"NILSM5!G2","v":"Pendidikan Pancasila dan Kewarganegaraan"},null,null,null,{"$f":"NILSM5!G5","v":75},{"$f":"VLOOKUP($AB$14,TABNILSM5,NILSM5!G7)","v":90},{"$f":"IFERROR(VLOOKUP(G27,TABEL_NILAI,4),\"-\")","v":"B"},{"$f":"IFERROR(IF($AA$19=DATABASE!$B$2,VLOOKUP(H27,TABDESPENGETAHUAN,2),IF($AA$19=DATABASE!$B$3,VLOOKUP(H27,DESKPENGETAHUANSM5,DESKSM5!D4),\"-\")),\"-\")","v":"Baik dalam memahami, menerapkan, menganalisis dan mengevaluasi sebagian besar kompetensi dasar."},null,null,null,{"$f":"NILSM5!H5","v":75},{"$f":"VLOOKUP($AB$14,TABNILSM5,NILSM5!H7)","v":80},"C",{"$f":"IFERROR(IF($AA$19=DATABASE!$B$2,VLOOKUP(O27,TABDESKETERAMPILAN,2),IF($AA$19=DATABASE!$B$3,VLOOKUP(O27,DESKKETERAMPILANSM5,DESKSM5!D4),\"-\")),\"-\")","v":"Cukup aktif bertanya, mencoba, menalar dan kreatif dalam menyelesaikan tugas praktek"}]
[{"$f":"NILSM5!J4","v":3},{"$f":"NILSM5!J2","v":"Bahasa Indonesia"},null,null,null,{"$f":"NILSM5!J5","v":75},{"$f":"VLOOKUP($AB$14,TABNILSM5,NILSM5!J7)","v":90},"B",{"$f":"IFERROR(IF($AA$19=DATABASE!$B$2,VLOOKUP(H28,TABDESPENGETAHUAN,2),IF($AA$19=DATABASE!$B$3,VLOOKUP(H28,DESKPENGETAHUANSM5,DESKSM5!D5),\"-\")),\"-\")","v":"Baik dalam memahami, menerapkan, menganalisis dan mengevaluasi sebagian besar kompetensi dasar."},null,null,null,{"$f":"NILSM5!K5","v":75},{"$f":"VLOOKUP($AB$14,TABNILSM5,NILSM5!K7)","v":82},"C",{"$f":"IFERROR(IF($AA$19=DATABASE!$B$2,VLOOKUP(O28,TABDESKETERAMPILAN,2),IF($AA$19=DATABASE!$B$3,VLOOKUP(O28,DESKKETERAMPILANSM5,DESKSM5!D5),\"-\")),\"-\")","v":"Cukup aktif bertanya, mencoba, menalar dan kreatif dalam menyelesaikan tugas praktek"}]
[{"$f":"NILSM5!M4","v":4},{"$f":"NILSM5!M2","v":"Matematika"},null,null,null,{"$f":"NILSM5!M5","v":75},{"$f":"VLOOKUP($AB$14,TABNILSM5,NILSM5!M7)","v":90},"B",{"$f":"IFERROR(IF($AA$19=DATABASE!$B$2,VLOOKUP(H29,TABDESPENGETAHUAN,2),IF($AA$19=DATABASE!$B$3,VLOOKUP(H29,DESKPENGETAHUANSM5,DESKSM5!D6),\"-\")),\"-\")","v":"Baik dalam memahami, menerapkan, menganalisis dan mengevaluasi sebagian besar kompetensi dasar."},null,null,null,{"$f":"NILSM5!N5","v":75},{"$f":"VLOOKUP($AB$14,TABNILSM5,NILSM5!N7)","v":84},"C",{"$f":"IFERROR(IF($AA$19=DATABASE!$B$2,VLOOKUP(O29,TABDESKETERAMPILAN,2),IF($AA$19=DATABASE!$B$3,VLOOKUP(O29,DESKKETERAMPILANSM5,DESKSM5!D6),\"-\")),\"-\")","v":"Cukup aktif bertanya, mencoba, menalar dan kreatif dalam menyelesaikan tugas praktek"}]
[{"$f":"NILSM5!P4","v":"-"},{"$f":"NILSM5!P2","v":"-"},null,null,null,{"$f":"NILSM5!P5","v":75},{"$f":"VLOOKUP($AB$14,TABNILSM5,NILSM5!P7)","v":"-"},"-",{"$f":"IFERROR(IF($AA$19=DATABASE!$B$2,VLOOKUP(H30,TABDESPENGETAHUAN,2),IF($AA$19=DATABASE!$B$3,VLOOKUP(H30,DESKPENGETAHUANSM5,DESKSM5!D7),\"-\")),\"-\")","v":"-"},null,null,null,{"$f":"NILSM5!Q5","v":75},{"$f":"VLOOKUP($AB$14,TABNILSM5,NILSM5!Q7)","v":"-"},"-",{"$f":"IFERROR(IF($AA$19=DATABASE!$B$2,VLOOKUP(O30,TABDESKETERAMPILAN,2),IF($AA$19=DATABASE!$B$3,VLOOKUP(O30,DESKKETERAMPILANSM5,DESKSM5!D7),\"-\")),\"-\")","v":"-"}]
[{"$f":"NILSM5!S4","v":5},{"$f":"NILSM5!S2","v":"Bahasa Inggris"},null,null,null,{"$f":"NILSM5!S5","v":75},{"$f":"VLOOKUP($AB$14,TABNILSM5,NILSM5!S7)","v":87},"B",{"$f":"IFERROR(IF($AA$19=DATABASE!$B$2,VLOOKUP(H31,TABDESPENGETAHUAN,2),IF($AA$19=DATABASE!$B$3,VLOOKUP(H31,DESKPENGETAHUANSM5,DESKSM5!D8),\"-\")),\"-\")","v":"Baik dalam memahami, menerapkan, menganalisis dan mengevaluasi sebagian besar kompetensi dasar."},null,null,null,{"$f":"NILSM5!T5","v":75},{"$f":"VLOOKUP($AB$14,TABNILSM5,NILSM5!T7)","v":88},"B",{"$f":"IFERROR(IF($AA$19=DATABASE!$B$2,VLOOKUP(O31,TABDESKETERAMPILAN,2),IF($AA$19=DATABASE!$B$3,VLOOKUP(O31,DESKKETERAMPILANSM5,DESKSM5!D8),\"-\")),\"-\")","v":"Baik dan aktif bertanya, mencoba, menalar dan kreatif dalam menyelesaikan sebagian besar tugas praktek."}]
["Muatan Kewilayahan"]
[{"$f":"NILSM5!V4","v":"-"},{"$f":"NILSM5!V2","v":"-"},null,null,null,{"$f":"NILSM5!V5","v":75},{"$f":"VLOOKUP($AB$14,TABNILSM5,NILSM5!V7)","v":"-"},{"$f":"IFERROR(VLOOKUP(G33,TABEL_NILAI,4),\"-\")","v":"-"},{"$f":"IFERROR(IF($AA$19=DATABASE!$B$2,VLOOKUP(H33,TABDESPENGETAHUAN,2),IF($AA$19=DATABASE!$B$3,VLOOKUP(H33,DESKPENGETAHUANSM5,DESKSM5!D10),\"-\")),\"-\")","v":"-"},null,null,null,{"$f":"NILSM5!W5","v":75},{"$f":"VLOOKUP($AB$14,TABNILSM5,NILSM5!W7)","v":"-"},{"$f":"IFERROR(VLOOKUP(N33,TABEL_NILAI,4),\"-\")","v":"-"},{"$f":"IFERROR(IF($AA$19=DATABASE!$B$2,VLOOKUP(O33,TABDESKETERAMPILAN,2),IF($AA$19=DATABASE!$B$3,VLOOKUP(O33,DESKKETERAMPILANSM5,DESKSM5!D10),\"-\")),\"-\")","v":"-"}]
[{"$f":"NILSM5!Y4","v":1},{"$f":"NILSM5!Y2","v":"-"},null,null,null,{"$f":"NILSM5!Y5","v":75},{"$f":"VLOOKUP($AB$14,TABNILSM5,NILSM5!Y7)","v":"-"},{"$f":"IFERROR(VLOOKUP(G34,TABEL_NILAI,4),\"-\")","v":"-"},{"$f":"IFERROR(IF($AA$19=DATABASE!$B$2,VLOOKUP(H34,TABDESPENGETAHUAN,2),IF($AA$19=DATABASE!$B$3,VLOOKUP(H34,DESKPENGETAHUANSM5,DESKSM5!D11),\"-\")),\"-\")","v":"-"},null,null,null,{"$f":"NILSM5!Z5","v":75},{"$f":"VLOOKUP($AB$14,TABNILSM5,NILSM5!Z7)","v":"-"},{"$f":"IFERROR(VLOOKUP(N34,TABEL_NILAI,4),\"-\")","v":"-"},{"$f":"IFERROR(IF($AA$19=DATABASE!$B$2,VLOOKUP(O34,TABDESKETERAMPILAN,2),IF($AA$19=DATABASE!$B$3,VLOOKUP(O34,DESKKETERAMPILANSM5,DESKSM5!D11),\"-\")),\"-\")","v":"-"}]
[null,"Muatan Lokal"]
[{"$f":"NILSM5!AB4","v":"-"},{"$f":"NILSM5!AB2","v":"-"},null,null,null,{"$f":"NILSM5!AB5","v":75},{"$f":"VLOOKUP($AB$14,TABNILSM5,NILSM5!AB7)","v":"-"},{"$f":"IFERROR(VLOOKUP(G36,TABEL_NILAI,4),\"-\")","v":"-"},{"$f":"IFERROR(IF($AA$19=DATABASE!$B$2,VLOOKUP(H36,TABDESPENGETAHUAN,2),IF($AA$19=DATABASE!$B$3,VLOOKUP(H36,DESKPENGETAHUANSM5,DESKSM5!D12),\"-\")),\"-\")","v":"-"},null,null,null,{"$f":"NILSM5!AC5","v":75},{"$f":"VLOOKUP($AB$14,TABNILSM5,NILSM5!AC7)","v":"-"},{"$f":"IFERROR(VLOOKUP(N36,TABEL_NILAI,4),\"-\")","v":"-"},{"$f":"IFERROR(IF($AA$19=DATABASE!$B$2,VLOOKUP(O36,TABDESKETERAMPILAN,2),IF($AA$19=DATABASE!$B$3,VLOOKUP(O36,DESKKETERAMPILANSM5,DESKSM5!D12),\"-\")),\"-\")","v":"-"}]
[{"$f":"NILSM5!AE4","v":2},{"$f":"NILSM5!AE2","v":"Bahasa Jepang"},null,null,null,{"$f":"NILSM5!AE5","v":75},{"$f":"VLOOKUP($AB$14,TABNILSM5,NILSM5!AE7)","v":95},{"$f":"IFERROR(VLOOKUP(G37,TABEL_NILAI,4),\"-\")","v":"A"},{"$f":"IFERROR(IF($AA$19=DATABASE!$B$2,VLOOKUP(H37,TABDESPENGETAHUAN,2),IF($AA$19=DATABASE!$B$3,VLOOKUP(H37,DESKPENGETAHUANSM5,DESKSM5!D15),\"-\")),\"-\")","v":"Sangat baik dalam memahami, menerapkan, menganalisis dan mengevaluasi semua kompetensi dasar."},null,null,null,{"$f":"NILSM5!AF5","v":75},{"$f":"VLOOKUP($AB$14,TABNILSM5,NILSM5!AF7)","v":96},{"$f":"IFERROR(VLOOKUP(N37,TABEL_NILAI,4),\"-\")","v":"A"},{"$f":"IFERROR(IF($AA$19=DATABASE!$B$2,VLOOKUP(O37,TABDESKETERAMPILAN,2),IF($AA$19=DATABASE!$B$3,VLOOKUP(O37,DESKKETERAMPILANSM5,DESKSM5!D15),\"-\")),\"-\")","v":"Sangat baik dan aktif bertanya, mencoba, menalar dan kreatif dalam menyelesaikan tugas praktek."}]
["Muatan Peminatan Kejuruan"]
["C1","Dasar Bidang Keahlian"]
[{"$f":"NILSM5!AH4","v":1},{"$f":"NILSM5!AH2","v":"-"},null,null,null,{"$f":"NILSM5!AH5","v":75},{"$f":"VLOOKUP($AB$14,TABNILSM5,NILSM5!AH7)","v":"-"},{"$f":"IFERROR(VLOOKUP(G40,TABEL_NILAI,4),\"-\")","v":"-"},{"$f":"IFERROR(IF($AA$19=DATABASE!$B$2,VLOOKUP(H40,TABDESPENGETAHUAN,2),IF($AA$19=DATABASE!$B$3,VLOOKUP(H40,DESKPENGETAHUANSM5,DESKSM5!D16),\"-\")),\"-\")","v":"-"},null,null,null,{"$f":"NILSM5!AI5","v":75},{"$f":"VLOOKUP($AB$14,TABNILSM5,NILSM5!AI7)","v":"-"},{"$f":"IFERROR(VLOOKUP(N40,TABEL_NILAI,4),\"-\")","v":"-"},{"$f":"IFERROR(IF($AA$19=DATABASE!$B$2,VLOOKUP(O40,TABDESKETERAMPILAN,2),IF($AA$19=DATABASE!$B$3,VLOOKUP(O40,DESKKETERAMPILANSM5,DESKSM5!D16),\"-\")),\"-\")","v":"-"}]
[{"$f":"NILSM5!AK4","v":2},{"$f":"NILSM5!AK2","v":"-"},null,null,null,{"$f":"NILSM5!AK5","v":75},{"$f":"VLOOKUP($AB$14,TABNILSM5,NILSM5!AK7)","v":"-"},{"$f":"IFERROR(VLOOKUP(G41,TABEL_NILAI,4),\"-\")","v":"-"},{"$f":"IFERROR(IF($AA$19=DATABASE!$B$2,VLOOKUP(H41,TABDESPENGETAHUAN,2),IF($AA$19=DATABASE!$B$3,VLOOKUP(H41,DESKPENGETAHUANSM5,DESKSM5!D17),\"-\")),\"-\")","v":"-"},null,null,null,{"$f":"NILSM5!AL5","v":75},{"$f":"VLOOKUP($AB$14,TABNILSM5,NILSM5!AL7)","v":"-"},{"$f":"IFERROR(VLOOKUP(N41,TABEL_NILAI,4),\"-\")","v":"-"},{"$f":"IFERROR(IF($AA$19=DATABASE!$B$2,VLOOKUP(O41,TABDESKETERAMPILAN,2),IF($AA$19=DATABASE!$B$3,VLOOKUP(O41,DESKKETERAMPILANSM5,DESKSM5!D17),\"-\")),\"-\")","v":"-"}]
[{"$f":"NILSM5!AN4","v":3},{"$f":"NILSM5!AN2","v":"-"},null,null,null,{"$f":"NILSM5!AN5","v":75},{"$f":"VLOOKUP($AB$14,TABNILSM5,NILSM5!AN7)","v":"-"},{"$f":"IFERROR(VLOOKUP(G42,TABEL_NILAI,4),\"-\")","v":"-"},{"$f":"IFERROR(IF($AA$19=DATABASE!$B$2,VLOOKUP(H42,TABDESPENGETAHUAN,2),IF($AA$19=DATABASE!$B$3,VLOOKUP(H42,DESKPENGETAHUANSM5,DESKSM5!D19),\"-\")),\"-\")","v":"-"},null,null,null,{"$f":"NILSM5!AO5","v":75},{"$f":"VLOOKUP($AB$14,TABNILSM5,NILSM5!AO7)","v":"-"},{"$f":"IFERROR(VLOOKUP(N42,TABEL_NILAI,4),\"-\")","v":"-"},{"$f":"IFERROR(IF($AA$19=DATABASE!$B$2,VLOOKUP(O42,TABDESKETERAMPILAN,2),IF($AA$19=DATABASE!$B$3,VLOOKUP(O42,DESKKETERAMPILANSM5,DESKSM5!D19),\"-\")),\"-\")","v":"-"}]
["C2","Dasar Program Keahlian"]
[{"$f":"NILSM5!AQ4","v":1},{"$f":"NILSM5!AQ2","v":"-"},null,null,null,{"$f":"NILSM5!AQ5","v":75},{"$f":"VLOOKUP($AB$14,TABNILSM5,NILSM5!AQ7)","v":"-"},"-",{"$f":"IFERROR(IF($AA$19=DATABASE!$B$2,VLOOKUP(H44,TABDESPENGETAHUAN,2),IF($AA$19=DATABASE!$B$3,VLOOKUP(H44,DESKPENGETAHUANSM5,DESKSM5!D20),\"-\")),\"-\")","v":"-"},null,null,null,{"$f":"NILSM5!AR5","v":75},{"$f":"VLOOKUP($AB$14,TABNILSM5,NILSM5!AR7)","v":"-"},"-",{"$f":"IFERROR(IF($AA$19=DATABASE!$B$2,VLOOKUP(O44,TABDESKETERAMPILAN,2),IF($AA$19=DATABASE!$B$3,VLOOKUP(O44,DESKKETERAMPILANSM5,DESKSM5!D20),\"-\")),\"-\")","v":"-"}]
[{"$f":"NILSM5!AT4","v":2},{"$f":"NILSM5!AT2","v":"-"},null,null,null,{"$f":"NILSM5!AT5","v":75},{"$f":"VLOOKUP($AB$14,TABNILSM5,NILSM5!AT7)","v":"-"},"-",{"$f":"IFERROR(IF($AA$19=DATABASE!$B$2,VLOOKUP(H45,TABDESPENGETAHUAN,2),IF($AA$19=DATABASE!$B$3,VLOOKUP(H45,DESKPENGETAHUANSM5,DESKSM5!D21),\"-\")),\"-\")","v":"-"},null,null,null,{"$f":"NILSM5!AU5","v":75},{"$f":"VLOOKUP($AB$14,TABNILSM5,NILSM5!AU7)","v":"-"},"-",{"$f":"IFERROR(IF($AA$19=DATABASE!$B$2,VLOOKUP(O45,TABDESKETERAMPILAN,2),IF($AA$19=DATABASE!$B$3,VLOOKUP(O45,DESKKETERAMPILANSM5,DESKSM5!D21),\"-\")),\"-\")","v":"-"}]
[{"$f":"NILSM5!AW4","v":3},{"$f":"NILSM5!AW2","v":"-"},null,null,null,{"$f":"NILSM5!AW5","v":75},{"$f":"VLOOKUP($AB$14,TABNILSM5,NILSM5!AW7)","v":"-"},"-",{"$f":"IFERROR(IF($AA$19=DATABASE!$B$2,VLOOKUP(H46,TABDESPENGETAHUAN,2),IF($AA$19=DATABASE!$B$3,VLOOKUP(H46,DESKPENGETAHUANSM5,DESKSM5!D22),\"-\")),\"-\")","v":"-"},null,null,null,{"$f":"NILSM5!AX5","v":75},{"$f":"VLOOKUP($AB$14,TABNILSM5,NILSM5!AX7)","v":"-"},"-",{"$f":"IFERROR(IF($AA$19=DATABASE!$B$2,VLOOKUP(O46,TABDESKETERAMPILAN,2),IF($AA$19=DATABASE!$B$3,VLOOKUP(O46,DESKKETERAMPILANSM5,DESKSM5!D22),\"-\")),\"-\")","v":"-"}]
[{"$f":"NILSM5!AZ4","v":4},{"$f":"NILSM5!AZ2","v":"-"},null,null,null,{"$f":"NILSM5!AZ5","v":75},{"$f":"VLOOKUP($AB$14,TABNILSM5,NILSM5!AZ7)","v":"-"},"-",{"$f":"IFERROR(IF($AA$19=DATABASE!$B$2,VLOOKUP(H47,TABDESPENGETAHUAN,2),IF($AA$19=DATABASE!$B$3,VLOOKUP(H47,DESKPENGETAHUANSM5,DESKSM5!D23),\"-\")),\"-\")","v":"-"},null,null,null,{"$f":"NILSM5!BA5","v":75},{"$f":"VLOOKUP($AB$14,TABNILSM5,NILSM5!BA7)","v":"-"},"-",{"$f":"IFERROR(IF($AA$19=DATABASE!$B$2,VLOOKUP(O47,TABDESKETERAMPILAN,2),IF($AA$19=DATABASE!$B$3,VLOOKUP(O47,DESKKETERAMPILANSM5,DESKSM5!D23),\"-\")),\"-\")","v":"-"}]
["C3","Paket Keahlian"]
[{"$f":"NILSM5!BC4","v":1},{"$f":"NILSM5!BC2","v":"Administrasi Infrastruktur Jaringan"},null,null,null,{"$f":"NILSM5!BC5","v":75},{"$f":"VLOOKUP($AB$14,TABNILSM5,NILSM5!BC7)","v":79},"C",{"$f":"IFERROR(IF($AA$19=DATABASE!$B$2,VLOOKUP(H49,TABDESPENGETAHUAN,2),IF($AA$19=DATABASE!$B$3,VLOOKUP(H49,DESKPENGETAHUANSM5,DESKSM5!D24),\"-\")),\"-\")","v":"Cukup baik memahami sebagian kompetensi dasar, tetapi kurang bisa menerapkan, menganalisis dan mengevaluasinya."},null,null,null,{"$f":"NILSM5!BD5","v":75},{"$f":"VLOOKUP($AB$14,TABNILSM5,NILSM5!BD7)","v":80},"C",{"$f":"IFERROR(IF($AA$19=DATABASE!$B$2,VLOOKUP(O49,TABDESKETERAMPILAN,2),IF($AA$19=DATABASE!$B$3,VLOOKUP(O49,DESKKETERAMPILANSM5,DESKSM5!D24),\"-\")),\"-\")","v":"Cukup aktif bertanya, mencoba, menalar dan kreatif dalam menyelesaikan tugas praktek"}]
[{"$f":"NILSM5!BF4","v":2},{"$f":"NILSM5!BF2","v":"Administrasi Sistem Jaringan"},null,null,null,{"$f":"NILSM5!BF5","v":75},{"$f":"VLOOKUP($AB$14,TABNILSM5,NILSM5!BF7)","v":81},"C",{"$f":"IFERROR(IF($AA$19=DATABASE!$B$2,VLOOKUP(H50,TABDESPENGETAHUAN,2),IF($AA$19=DATABASE!$B$3,VLOOKUP(H50,DESKMANUPENGETAHUAN,2),\"-\")),\"-\")","v":"Cukup baik memahami sebagian kompetensi dasar, tetapi kurang bisa menerapkan, menganalisis dan mengevaluasinya."},null,null,null,{"$f":"NILSM5!BG5","v":75},{"$f":"VLOOKUP($AB$14,TABNILSM5,NILSM5!BG7)","v":82},"C",{"$f":"IFERROR(IF($AA$19=DATABASE!$B$2,VLOOKUP(O50,TABDESKETERAMPILAN,2),IF($AA$19=DATABASE!$B$3,VLOOKUP(O50,DESKMANUKETERAMPILAN,2),\"-\")),\"-\")","v":"Cukup aktif bertanya, mencoba, menalar dan kreatif dalam menyelesaikan tugas praktek"}]
[{"$f":"NILSM5!BI4","v":3},{"$f":"NILSM5!BI2","v":"Teknologi Layanan Jaringan"},null,null,null,{"$f":"NILSM5!BI5","v":75},{"$f":"VLOOKUP($AB$14,TABNILSM5,NILSM5!BI7)","v":83},"C",{"$f":"IFERROR(IF($AA$19=DATABASE!$B$2,VLOOKUP(H51,TABDESPENGETAHUAN,2),IF($AA$19=DATABASE!$B$3,VLOOKUP(H51,DESKMANUPENGETAHUAN,2),\"-\")),\"-\")","v":"Cukup baik memahami sebagian kompetensi dasar, tetapi kurang bisa menerapkan, menganalisis dan mengevaluasinya."},null,null,null,{"$f":"NILSM5!BJ5","v":75},{"$f":"VLOOKUP($AB$14,TABNILSM5,NILSM5!BJ7)","v":84},"C",{"$f":"IFERROR(IF($AA$19=DATABASE!$B$2,VLOOKUP(O51,TABDESKETERAMPILAN,2),IF($AA$19=DATABASE!$B$3,VLOOKUP(O51,DESKMANUKETERAMPILAN,2),\"-\")),\"-\")","v":"Cukup aktif bertanya, mencoba, menalar dan kreatif dalam menyelesaikan tugas praktek"}]
[{"$f":"NILSM5!BL4","v":4},{"$f":"NILSM5!BL2","v":"-"},null,null,null,{"$f":"NILSM5!BL5","v":75},{"$f":"VLOOKUP($AB$14,TABNILSM5,NILSM5!BL7)","v":"-"},"-",{"$f":"IFERROR(IF($AA$19=DATABASE!$B$2,VLOOKUP(H52,TABDESPENGETAHUAN,2),IF($AA$19=DATABASE!$B$3,VLOOKUP(H52,DESKMANUPENGETAHUAN,2),\"-\")),\"-\")","v":"-"},null,null,null,{"$f":"NILSM5!BM5","v":75},{"$f":"VLOOKUP($AB$14,TABNILSM5,NILSM5!BM7)","v":"-"},"-",{"$f":"IFERROR(IF($AA$19=DATABASE!$B$2,VLOOKUP(O52,TABDESKETERAMPILAN,2),IF($AA$19=DATABASE!$B$3,VLOOKUP(O52,DESKMANUKETERAMPILAN,2),\"-\")),\"-\")","v":"-"}]
[{"$f":"NILSM5!BO4","v":5},{"$f":"NILSM5!BO2","v":"-"},null,null,null,{"$f":"NILSM5!BO5","v":75},{"$f":"VLOOKUP($AB$14,TABNILSM5,NILSM5!BO7)","v":"-"},"-",{"$f":"IFERROR(IF($AA$19=DATABASE!$B$2,VLOOKUP(H53,TABDESPENGETAHUAN,2),IF($AA$19=DATABASE!$B$3,VLOOKUP(H53,DESKMANUPENGETAHUAN,2),\"-\")),\"-\")","v":"-"},null,null,null,{"$f":"NILSM5!BP5","v":75},{"$f":"VLOOKUP($AB$14,TABNILSM5,NILSM5!BP7)","v":"-"},"-",{"$f":"IFERROR(IF($AA$19=DATABASE!$B$2,VLOOKUP(O53,TABDESKETERAMPILAN,2),IF($AA$19=DATABASE!$B$3,VLOOKUP(O53,DESKMANUKETERAMPILAN,2),\"-\")),\"-\")","v":"-"}]
[{"$f":"NILSM5!BR4","v":6},{"$f":"NILSM5!BR2","v":"Produk Kreatif dan Kewirausahaan "},null,null,null,{"$f":"NILSM5!BR5","v":75},{"$f":"VLOOKUP($AB$14,TABNILSM5,NILSM5!BR7)","v":79},"C",{"$f":"IFERROR(IF($AA$19=DATABASE!$B$2,VLOOKUP(H54,TABDESPENGETAHUAN,2),IF($AA$19=DATABASE!$B$3,VLOOKUP(H54,DESKMANUPENGETAHUAN,2),\"-\")),\"-\")","v":"Cukup baik memahami sebagian kompetensi dasar, tetapi kurang bisa menerapkan, menganalisis dan mengevaluasinya."},null,null,null,{"$f":"NILSM5!BS5","v":75},{"$f":"VLOOKUP($AB$14,TABNILSM5,NILSM5!BS7)","v":80},"C",{"$f":"IFERROR(IF($AA$19=DATABASE!$B$2,VLOOKUP(O54,TABDESKETERAMPILAN,2),IF($AA$19=DATABASE!$B$3,VLOOKUP(O54,DESKMANUKETERAMPILAN,2),\"-\")),\"-\")","v":"Cukup aktif bertanya, mencoba, menalar dan kreatif dalam menyelesaikan tugas praktek"}]
[{"$f":"NILSM5!BU4","v":0},{"$f":"NILSM5!BU2","v":"-"},null,null,null,{"$f":"NILSM5!BU5","v":75},{"$f":"VLOOKUP($AB$14,TABNILSM5,NILSM5!BU7)","v":"-"},"-",{"$f":"IFERROR(IF($AA$19=DATABASE!$B$2,VLOOKUP(H55,TABDESPENGETAHUAN,2),IF($AA$19=DATABASE!$B$3,VLOOKUP(H55,DESKMANUPENGETAHUAN,2),\"-\")),\"-\")","v":"-"},null,null,null,{"$f":"NILSM5!BV5","v":75},{"$f":"VLOOKUP($AB$14,TABNILSM5,NILSM5!BV7)","v":"-"},"-",{"$f":"IFERROR(IF($AA$19=DATABASE!$B$2,VLOOKUP(O55,TABDESKETERAMPILAN,2),IF($AA$19=DATABASE!$B$3,VLOOKUP(O55,DESKMANUKETERAMPILAN,2),\"-\")),\"-\")","v":"-"}]
[null,"Rata-rata",null,null,null,null,{"$f":"VLOOKUP($AB$14,TABNILSM5,NILSM5!DO7)","v":86},{"$f":"VLOOKUP(G56,TABEL_NILAI,4)","v":"B"},null,null,null,null,null,{"$f":"VLOOKUP($AB$14,TABNILSM5,NILSM5!DP7)","v":83},{"$f":"VLOOKUP(N56,TABEL_NILAI,4)","v":"C"},null,"Total Nilai :",null,null,"Peringkat di Kelas :"]
[null,"Jumlah Nilai",null,null,null,null,{"$f":"VLOOKUP($AB$14,TABNILSM5,NILSM5!DQ7)","v":864},null,null,null,null,null,null,{"$f":"VLOOKUP($AB$14,TABNILSM5,NILSM5!DR7)","v":834},null,null,{"$f":"VLOOKUP($AB$14,TABNILSM5,NILSM5!DS7)","v":1698},null,null,{"$f":"IF(VLOOKUP($AB$14,TABNILSM5,NILSM5!DU7)=\"\",\"-\",VLOOKUP($AB$14,TABNILSM5,NILSM5!DU7)&\" dari \"&VLOOKUP($AB$14,TABNILSM5,NILSM5!DV7))","v":"-"}]
[]
["C.  Praktek Kerja Lapangan",null,null,null,null,null,null,null,null,null,null,null,"D.  Ekstrakurikuler"]
["No.","Mitra DU/DI",null,null,null,null,"Lokasi",null,null,"Lamanya (Bulan)","Keterangan",null,"No.","Kegiatan Ekstrakurikuler",null,null,null,"Keterangan",null,null,null,null,null,null,null,null,{"$f":"D8","v":"AL KINDI"}]
[1,{"$f":"IF(VLOOKUP($AB$14,TABNILSM5,NILSM5!CQ7)=\"\",\"-\",VLOOKUP($AB$14,TABNILSM5,NILSM5!CQ7))","v":"-"},null,null,null,null,{"$f":"IF(VLOOKUP($AB$14,TABNILSM5,NILSM5!CR7)=\"\",\"-\",VLOOKUP($AB$14,TABNILSM5,NILSM5!CR7))","v":"-"},null,null,{"$f":"IF(VLOOKUP($AB$14,TABNILSM5,NILSM5!CS7)=\"\",\"-\",VLOOKUP($AB$14,TABNILSM5,NILSM5!CS7))","v":"-"},{"$f":"IF(VLOOKUP($AB$14,TABNILSM5,NILSM5!CT7)=\"\",\"-\",VLOOKUP($AB$14,TABNILSM5,NILSM5!CT7))","v":"-"},null,1,{"$f":"IF(VLOOKUP($AB$14,TABNILSM5,NILSM5!CY7)=\"\",\"-\",VLOOKUP($AB$14,TABNILSM5,NILSM5!CY7))","v":"Rohis"},null,null,null,{"$f":"IF(VLOOKUP($AB$14,TABNILSM5,NILSM5!CZ7)=\"\",\"-\",VLOOKUP(W61,TABNESKUL,2,FALSE))","v":"Baik, berprestasi, disiplin dan rajin berlatih"},null,null,null,null,{"$f":"VLOOKUP($AB$14,TABNILSM5,NILSM5!CZ7)","v":"B"}]
[null,null,null,null,null,null,null,null,null,null,null,null,2,{"$f":"IF(VLOOKUP($AB$14,TABNILSM5,NILSM5!DA7)=\"\",\"-\",VLOOKUP($AB$14,TABNILSM5,NILSM5!DA7))","v":"OSIS"},null,null,null,{"$f":"IF(VLOOKUP($AB$14,TABNILSM5,NILSM5!DB7)=\"\",\"-\",VLOOKUP(W62,TABNESKUL,2,FALSE))","v":"Baik, berprestasi, disiplin dan rajin berlatih"},null,null,null,null,{"$f":"VLOOKUP($AB$14,TABNILSM5,NILSM5!DB7)","v":"B"}]
[2,{"$f":"IF(VLOOKUP($AB$14,TABNILSM5,NILSM5!CU7)=\"\",\"-\",VLOOKUP($AB$14,TABNILSM5,NILSM5!CU7))","v":"-"},null,null,null,null,{"$f":"IF(VLOOKUP($AB$14,TABNILSM5,NILSM5!CV7)=\"\",\"-\",VLOOKUP($AB$14,TABNILSM5,NILSM5!CV7))","v":"-"},null,null,{"$f":"IF(VLOOKUP($AB$14,TABNILSM5,NILSM5!CW7)=\"\",\"-\",VLOOKUP($AB$14,TABNILSM5,NILSM5!CW7))","v":"-"},{"$f":"IF(VLOOKUP($AB$14,TABNILSM5,NILSM5!CX7)=\"\",\"-\",VLOOKUP($AB$14,TABNILSM5,NILSM5!CX7))","v":"-"},null,3,{"$f":"IF(VLOOKUP($AB$14,TABNILSM5,NILSM5!DC7)=\"\",\"-\",VLOOKUP($AB$14,TABNILSM5,NILSM5!DC7))","v":"Palang Merah Remaja"},null,null,null,{"$f":"IF(VLOOKUP($AB$14,TABNILSM5,NILSM5!DD7)=\"\",\"-\",VLOOKUP(W63,TABNESKUL,2,FALSE))","v":"Baik, berprestasi, disiplin dan rajin berlatih"},null,null,null,null,{"$f":"VLOOKUP($AB$14,TABNILSM5,NILSM5!DD7)","v":"B"},null,null,null,{"$f":"\"Nomor Urut \"&AB14","v":"Nomor Urut 2"}]

{"sheet":"LEGGER6","index":17,"n_rows":63,"n_cols":28,"rows_kept":63,"cut":false,"hidden":false,"merged":[[6,26,7,26],[6,27,7,27],[8,26,9,26],[8,27,9,27],[9,17,10,21],[12,26,12,27],[0,0,0,21],[1,0,1,21],[2,0,2,21],[3,0,3,21],[5,0,5,21],[5,26,5,27],[16,0,19,0],[16,1,19,2],[16,3,19,11],[17,13,19,16],[17,17,19,17],[17,26,17,27],[18,19,19,21],[18,26,19,27],[13,1,13,2],[13,3,13,11],[13,13,13,16],[13,26,14,26],[13,27,14,27],[14,0,15,0],[14,1,15,2],[14,3,15,11],[14,13,16,16],[14,17,16,17],[25,1,25,4],[25,8,25,11],[25,15,25,21],[26,1,26,4],[26,8,26,11],[26,15,26,21],[22,0,23,0],[22,1,23,4],[22,5,22,11],[22,12,22,21],[23,8,23,11],[23,15,23,21],[29,1,29,4],[29,8,29,11],[29,15,29,21],[30,1,30,4],[30,8,30,11],[30,15,30,21],[27,1,27,4],[27,8,27,11],[27,15,27,21],[28,1,28,4],[28,8,28,11],[28,15,28,21],[35,1,35,4],[35,8,35,11],[35,15,35,21],[36,1,36,4],[36,8,36,11],[36,15,36,21],[31,0,31,4],[32,1,32,4],[32,8,32,11],[32,15,32,21],[33,1,33,4],[33,8,33,11],[33,15,33,21],[41,1,41,4],[41,8,41,11],[41,15,41,21],[43,1,43,4],[43,8,43,11],[43,15,43,21],[37,0,37,4],[39,1,39,4],[39,8,39,11],[39,15,39,21],[40,1,40,4],[40,8,40,11],[40,15,40,21],[46,1,46,4],[46,8,46,11],[46,15,46,21],[48,1,48,4],[48,8,48,11],[48,15,48,21],[44,1,44,4],[44,8,44,11],[44,15,44,21],[45,1,45,4],[45,8,45,11],[45,15,45,21],[51,1,51,4],[51,8,51,11],[51,15,51,21],[52,1,52,4],[52,8,52,11],[52,15,52,21],[49,1,49,4],[49,8,49,11],[49,15,49,21],[50,1,50,4],[50,8,50,11],[50,15,50,21],[55,1,55,5],[55,16,55,17],[55,19,55,21],[56,1,56,5],[56,6,56,7],[56,13,56,14],[56,16,56,17],[56,19,56,21],[53,1,53,4],[53,8,53,11],[53,15,53,21],[54,1,54,4],[54,8,54,11],[54,15,54,21],[59,1,59,5],[59,6,59,8],[59,13,59,16],[59,17,59,21],[59,26,61,28],[60,0,61,0],[60,1,61,5],[60,6,61,8],[60,9,61,9],[60,10,61,10],[62,17,62,21],[62,26,63,28],[60,13,60,16],[60,17,60,21],[61,13,61,16],[61,17,61,21],[62,0,63,0],[62,1,63,5],[62,6,63,8],[62,9,63,9],[62,10,63,10],[62,13,62,16]]}
["PEMERINTAH DAERAH PROVINSI JAWA BARAT"]
["DINAS PENDIDIKAN"]
["SMKN 1 KARAWANG"]
["Jl. Pangkal Perjuangan By Pass Karawang  Telp.0267-401651 Fax.417258 Website : www.smkn1karawang.net Email : smkn1karawang@gmail.com"]
[]
[{"$f":"\"LEGER NILAI SISWA TAHUN PELAJARAN \"&MENU!I21","v":"LEGER NILAI SISWA TAHUN PELAJARAN 2019 / 2020"},null,null,null,null,null,null,null,null,null,null,null,null,null,null,null,null,null,null,null,null,null,null,null,null,null,"HALAMAN CETAK"]
[null,null,null,null,null,null,null,null,null,null,null,null,null,null,null,null,null,null,null,null,null,null,null,null,null,null,"Dari data ke",2]
["Nama Siswa",null,":",{"$f":"VLOOKUP($AB$14,TABNILSM6,NILSM6!B7)","v":"AL KINDI"},null,null,null,null,null,null,null,null,null,"Bidang Keahlian",null,null,":",{"$f":"KET.PETUNJUK!D18","v":"TEKNOLOGI INFORMASI DAN KOMUNIKASI"}]
["Nomor Induk/NISN",null,":",{"$f":"IF(VLOOKUP($AB$14,TABBIODATA,BIODATA!E4)=\"\",VLOOKUP($AB$14,TABBIODATA,BIODATA!D4),VLOOKUP($AB$14,TABBIODATA,BIODATA!D4)&\" / \"&VLOOKUP($AB$14,TABBIODATA,BIODATA!E4))","v":"13140768 / 9973289804"},null,null,null,null,null,null,null,null,null,"Program Keahlian",null,null,":",{"$f":"KET.PETUNJUK!D19","v":"TEKNIK KOMPUTER DAN INFORMATIKA"},null,null,null,null,null,null,null,null,"Sampai data ke",2]
["Kelas/Semester ",null,":",{"$f":"W10&\" / \"&W11","v":"XII TKRO 1 / 6 (enam)"},null,null,null,null,null,null,null,null,null,"Paket Keahlian",null,null,":",{"$f":"KET.PETUNJUK!D20","v":"TEKNIK KOMPUTER JARINGAN"},null,null,null,null,{"$f":"IF(OR(W11=\"1 (satu)\",W11=\"2 (dua)\"),\"X \"&MENU!I9,IF(OR(W11=\"3 (tiga)\",W11=\"4 (empat)\"),\"XI \"&MENU!I9,IF(OR(W11=\"5 (lima)\",W11=\"6 (enam)\"),\"XII \"&MENU!I9,\"\")))","v":"XII TKRO 1"}]
["Wali Kelas",null,":",{"$f":"NILSM6!B4","v":"Amo Sisdianto, S.Kom"},null,null,null,null,null,null,null,null,null,null,null,null,null,null,null,null,null,null,{"$f":"NILSM6!B3","v":"6 (enam)"}]
[]
["A.  Nilai Sikap",null,null,null,null,null,null,null,null,null,null,null,null,"Prestasi",null,null,null,null,null,"Ketidakhadiran",null,null,null,null,null,null,"TAMPILAN DATA"]
["No.","Kompetensi Inti",null,"Deskripsi",null,null,null,null,null,null,null,null,null,"Jenis Prestasi",null,null,null,"Keterangan",null,"Sakit",":",{"$f":"VLOOKUP($AB$14,TABNILSM6,NILSM6!DI7)","v":"-"},2,null,null,null,"Nomor Urut",2]
["1","Spiritual (KI-1)",null,{"$f":"IFERROR(VLOOKUP(W15,TABDESSPIRITUAL,2),\"-\")","v":"Sangat menerima, menjalankan, menghargai, menghayati dan mengamalkan ajaran agama yang dianut."},null,null,null,null,null,null,null,null,null,{"$f":"IFERROR(VLOOKUP($AB$14,TABNILSM6,NILSM6!DE7),\"-\")","v":0},null,null,null,{"$f":"IFERROR(VLOOKUP($AB$14,TABNILSM6,NILSM6!DF7),\"-\")","v":0},null,"Izin",":",{"$f":"VLOOKUP($AB$14,TABNILSM6,NILSM6!DJ7)","v":"-"},{"$f":"VLOOKUP($AB$14,TABNILSM6,NILSM6!DL7)","v":"A"}]
[null,null,null,null,null,null,null,null,null,null,null,null,null,null,null,null,null,null,null,"Alpa",":",{"$f":"VLOOKUP($AB$14,TABNILSM6,NILSM6!DK7)","v":"-"}]
[2,"Sosial (KI-2)",null,{"$f":"IFERROR(VLOOKUP(W18,TABDESSOSIAL,2),\"-\")","v":"Sudah bersungguh-sungguh dan selalu konsisten menerapkan sikap jujur, santun dan toleran dalam pergaulan, disiplin, kerjasama dalam kelompok dan tanggungjawab dalam keseharian sebagai hasil pembelajaran di sekolah. Pertahankan sikap-sikap tersebut agar menjadi teladan bagi kawan-kawan di sekolah."}]
[null,null,null,null,null,null,null,null,null,null,null,null,null,{"$f":"IFERROR(VLOOKUP($AB$14,TABNILSM6,NILSM6!DG7),\"-\")","v":"-"},null,null,null,{"$f":"IFERROR(VLOOKUP($AB$14,TABNILSM6,NILSM6!DH7),\"-\")","v":"-"},null,"Kenaikan Kelas",null,null,{"$f":"VLOOKUP($AB$14,TABNILSM6,NILSM6!DM7)","v":"A"},null,null,null,"PILIHAN DESKRIPSI"]
[null,null,null,null,null,null,null,null,null,null,null,null,null,null,null,null,null,null,null,{"$f":"IFERROR(VLOOKUP($AB$14,TABNILSM6,NILSM6!DW7),\"-\")","v":0},null,null,null,null,null,null,"OTOMATIS"]
[]
[]
["B.  Nilai Pengetahuan dan Keterampilan"]
["No.","Mata Pelajaran",null,null,null,"Pengetahuan (KI-3)",null,null,null,null,null,null,"Keterampilan (KI-4)"]
[null,null,null,null,null,"KB","Angka","Predikat","Deskripsi",null,null,null,"KB","Angka","Predikat","Deskripsi"]
["Muatan Nasional"]
[{"$f":"NILSM6!D4","v":1},{"$f":"NILSM6!D2","v":"Pendidikan Agama dan Budi Pekerti"},null,null,null,{"$f":"NILSM6!D5","v":75},{"$f":"VLOOKUP($AB$14,TABNILSM6,NILSM6!D7)","v":90},{"$f":"IFERROR(VLOOKUP(G26,TABEL_NILAI,4),\"-\")","v":"B"},{"$f":"IFERROR(IF($AA$19=DATABASE!$B$2,VLOOKUP(H26,TABDESPENGETAHUAN,2),IF($AA$19=DATABASE!$B$3,VLOOKUP(H26,DESKPENGETAHUANSM6,DESKSM6!D3),\"-\")),\"-\")","v":"Baik dalam memahami, menerapkan, menganalisis dan mengevaluasi sebagian besar kompetensi dasar."},null,null,null,{"$f":"NILSM6!E5","v":75},{"$f":"VLOOKUP($AB$14,TABNILSM6,NILSM6!E7)","v":78},{"$f":"IFERROR(VLOOKUP(N26,TABEL_NILAI,4),\"-\")","v":"C"},{"$f":"IFERROR(IF($AA$19=DATABASE!$B$2,VLOOKUP(O26,TABDESKETERAMPILAN,2),IF($AA$19=DATABASE!$B$3,VLOOKUP(O26,DESKKETERAMPILANSM6,DESKSM6!D3),\"-\")),\"-\")","v":"Cukup aktif bertanya, mencoba, menalar dan kreatif dalam menyelesaikan tugas praktek"}]
[{"$f":"NILSM6!G4","v":2},{"$f":"NILSM6!G2","v":"Pendidikan Pancasila dan Kewarganegaraan"},null,null,null,{"$f":"NILSM6!G5","v":75},{"$f":"VLOOKUP($AB$14,TABNILSM6,NILSM6!G7)","v":90},{"$f":"IFERROR(VLOOKUP(G27,TABEL_NILAI,4),\"-\")","v":"B"},{"$f":"IFERROR(IF($AA$19=DATABASE!$B$2,VLOOKUP(H27,TABDESPENGETAHUAN,2),IF($AA$19=DATABASE!$B$3,VLOOKUP(H27,DESKPENGETAHUANSM6,DESKSM6!D4),\"-\")),\"-\")","v":"Baik dalam memahami, menerapkan, menganalisis dan mengevaluasi sebagian besar kompetensi dasar."},null,null,null,{"$f":"NILSM6!H5","v":75},{"$f":"VLOOKUP($AB$14,TABNILSM6,NILSM6!H7)","v":80},"C",{"$f":"IFERROR(IF($AA$19=DATABASE!$B$2,VLOOKUP(O27,TABDESKETERAMPILAN,2),IF($AA$19=DATABASE!$B$3,VLOOKUP(O27,DESKKETERAMPILANSM6,DESKSM6!D4),\"-\")),\"-\")","v":"Cukup aktif bertanya, mencoba, menalar dan kreatif dalam menyelesaikan tugas praktek"}]
[{"$f":"NILSM6!J4","v":3},{"$f":"NILSM6!J2","v":"Bahasa Indonesia"},null,null,null,{"$f":"NILSM6!J5","v":75},{"$f":"VLOOKUP($AB$14,TABNILSM6,NILSM6!J7)","v":90},"B",{"$f":"IFERROR(IF($AA$19=DATABASE!$B$2,VLOOKUP(H28,TABDESPENGETAHUAN,2),IF($AA$19=DATABASE!$B$3,VLOOKUP(H28,DESKPENGETAHUANSM6,DESKSM6!D5),\"-\")),\"-\")","v":"Baik dalam memahami, menerapkan, menganalisis dan mengevaluasi sebagian besar kompetensi dasar."},null,null,null,{"$f":"NILSM6!K5","v":75},{"$f":"VLOOKUP($AB$14,TABNILSM6,NILSM6!K7)","v":82},"C",{"$f":"IFERROR(IF($AA$19=DATABASE!$B$2,VLOOKUP(O28,TABDESKETERAMPILAN,2),IF($AA$19=DATABASE!$B$3,VLOOKUP(O28,DESKKETERAMPILANSM6,DESKSM6!D5),\"-\")),\"-\")","v":"Cukup aktif bertanya, mencoba, menalar dan kreatif dalam menyelesaikan tugas praktek"}]
[{"$f":"NILSM6!M4","v":4},{"$f":"NILSM6!M2","v":"Matematika"},null,null,null,{"$f":"NILSM6!M5","v":75},{"$f":"VLOOKUP($AB$14,TABNILSM6,NILSM6!M7)","v":90},"B",{"$f":"IFERROR(IF($AA$19=DATABASE!$B$2,VLOOKUP(H29,TABDESPENGETAHUAN,2),IF($AA$19=DATABASE!$B$3,VLOOKUP(H29,DESKPENGETAHUANSM6,DESKSM6!D6),\"-\")),\"-\")","v":"Baik dalam memahami, menerapkan, menganalisis dan mengevaluasi sebagian besar kompetensi dasar."},null,null,null,{"$f":"NILSM6!N5","v":75},{"$f":"VLOOKUP($AB$14,TABNILSM6,NILSM6!N7)","v":84},"C",{"$f":"IFERROR(IF($AA$19=DATABASE!$B$2,VLOOKUP(O29,TABDESKETERAMPILAN,2),IF($AA$19=DATABASE!$B$3,VLOOKUP(O29,DESKKETERAMPILANSM6,DESKSM6!D6),\"-\")),\"-\")","v":"Cukup aktif bertanya, mencoba, menalar dan kreatif dalam menyelesaikan tugas praktek"}]
[{"$f":"NILSM6!P4","v":"-"},{"$f":"NILSM6!P2","v":"-"},null,null,null,{"$f":"NILSM6!P5","v":75},{"$f":"VLOOKUP($AB$14,TABNILSM6,NILSM6!P7)","v":"-"},"-",{"$f":"IFERROR(IF($AA$19=DATABASE!$B$2,VLOOKUP(H30,TABDESPENGETAHUAN,2),IF($AA$19=DATABASE!$B$3,VLOOKUP(H30,DESKPENGETAHUANSM6,DESKSM6!D7),\"-\")),\"-\")","v":"-"},null,null,null,{"$f":"NILSM6!Q5","v":75},{"$f":"VLOOKUP($AB$14,TABNILSM6,NILSM6!Q7)","v":"-"},"-",{"$f":"IFERROR(IF($AA$19=DATABASE!$B$2,VLOOKUP(O30,TABDESKETERAMPILAN,2),IF($AA$19=DATABASE!$B$3,VLOOKUP(O30,DESKKETERAMPILANSM6,DESKSM6!D7),\"-\")),\"-\")","v":"-"}]
[{"$f":"NILSM6!S4","v":5},{"$f":"NILSM6!S2","v":"Bahasa Inggris"},null,null,null,{"$f":"NILSM6!S5","v":75},{"$f":"VLOOKUP($AB$14,TABNILSM6,NILSM6!S7)","v":87},"B",{"$f":"IFERROR(IF($AA$19=DATABASE!$B$2,VLOOKUP(H31,TABDESPENGETAHUAN,2),IF($AA$19=DATABASE!$B$3,VLOOKUP(H31,DESKPENGETAHUANSM6,DESKSM6!D8),\"-\")),\"-\")","v":"Baik dalam memahami, menerapkan, menganalisis dan mengevaluasi sebagian besar kompetensi dasar."},null,null,null,{"$f":"NILSM6!T5","v":75},{"$f":"VLOOKUP($AB$14,TABNILSM6,NILSM6!T7)","v":88},"B",{"$f":"IFERROR(IF($AA$19=DATABASE!$B$2,VLOOKUP(O31,TABDESKETERAMPILAN,2),IF($AA$19=DATABASE!$B$3,VLOOKUP(O31,DESKKETERAMPILANSM6,DESKSM6!D8),\"-\")),\"-\")","v":"Baik dan aktif bertanya, mencoba, menalar dan kreatif dalam menyelesaikan sebagian besar tugas praktek."}]
["Muatan Kewilayahan"]
[{"$f":"NILSM6!V4","v":"-"},{"$f":"NILSM6!V2","v":"-"},null,null,null,{"$f":"NILSM6!V5","v":75},{"$f":"VLOOKUP($AB$14,TABNILSM6,NILSM6!V7)","v":"-"},{"$f":"IFERROR(VLOOKUP(G33,TABEL_NILAI,4),\"-\")","v":"-"},{"$f":"IFERROR(IF($AA$19=DATABASE!$B$2,VLOOKUP(H33,TABDESPENGETAHUAN,2),IF($AA$19=DATABASE!$B$3,VLOOKUP(H33,DESKPENGETAHUANSM6,DESKSM6!D10),\"-\")),\"-\")","v":"-"},null,null,null,{"$f":"NILSM6!W5","v":75},{"$f":"VLOOKUP($AB$14,TABNILSM6,NILSM6!W7)","v":"-"},{"$f":"IFERROR(VLOOKUP(N33,TABEL_NILAI,4),\"-\")","v":"-"},{"$f":"IFERROR(IF($AA$19=DATABASE!$B$2,VLOOKUP(O33,TABDESKETERAMPILAN,2),IF($AA$19=DATABASE!$B$3,VLOOKUP(O33,DESKKETERAMPILANSM6,DESKSM6!D10),\"-\")),\"-\")","v":"-"}]
[{"$f":"NILSM6!Y4","v":1},{"$f":"NILSM6!Y2","v":"-"},null,null,null,{"$f":"NILSM6!Y5","v":75},{"$f":"VLOOKUP($AB$14,TABNILSM6,NILSM6!Y7)","v":"-"},{"$f":"IFERROR(VLOOKUP(G34,TABEL_NILAI,4),\"-\")","v":"-"},{"$f":"IFERROR(IF($AA$19=DATABASE!$B$2,VLOOKUP(H34,TABDESPENGETAHUAN,2),IF($AA$19=DATABASE!$B$3,VLOOKUP(H34,DESKPENGETAHUANSM6,DESKSM6!D11),\"-\")),\"-\")","v":"-"},null,null,null,{"$f":"NILSM6!Z5","v":75},{"$f":"VLOOKUP($AB$14,TABNILSM6,NILSM6!Z7)","v":"-"},{"$f":"IFERROR(VLOOKUP(N34,TABEL_NILAI,4),\"-\")","v":"-"},{"$f":"IFERROR(IF($AA$19=DATABASE!$B$2,VLOOKUP(O34,TABDESKETERAMPILAN,2),IF($AA$19=DATABASE!$B$3,VLOOKUP(O34,DESKKETERAMPILANSM6,DESKSM6!D11),\"-\")),\"-\")","v":"-"}]
[null,"Muatan Lokal"]
[{"$f":"NILSM6!AB4","v":"-"},{"$f":"NILSM6!AB2","v":"-"},null,null,null,{"$f":"NILSM6!AB5","v":75},{"$f":"VLOOKUP($AB$14,TABNILSM6,NILSM6!AB7)","v":"-"},{"$f":"IFERROR(VLOOKUP(G36,TABEL_NILAI,4),\"-\")","v":"-"},{"$f":"IFERROR(IF($AA$19=DATABASE!$B$2,VLOOKUP(H36,TABDESPENGETAHUAN,2),IF($AA$19=DATABASE!$B$3,VLOOKUP(H36,DESKPENGETAHUANSM6,DESKSM6!D12),\"-\")),\"-\")","v":"-"},null,null,null,{"$f":"NILSM6!AC5","v":75},{"$f":"VLOOKUP($AB$14,TABNILSM6,NILSM6!AC7)","v":"-"},{"$f":"IFERROR(VLOOKUP(N36,TABEL_NILAI,4),\"-\")","v":"-"},{"$f":"IFERROR(IF($AA$19=DATABASE!$B$2,VLOOKUP(O36,TABDESKETERAMPILAN,2),IF($AA$19=DATABASE!$B$3,VLOOKUP(O36,DESKKETERAMPILANSM6,DESKSM6!D12),\"-\")),\"-\")","v":"-"}]
[{"$f":"NILSM6!AE4","v":2},{"$f":"NILSM6!AE2","v":"Bahasa Jepang"},null,null,null,{"$f":"NILSM6!AE5","v":75},{"$f":"VLOOKUP($AB$14,TABNILSM6,NILSM6!AE7)","v":95},{"$f":"IFERROR(VLOOKUP(G37,TABEL_NILAI,4),\"-\")","v":"A"},{"$f":"IFERROR(IF($AA$19=DATABASE!$B$2,VLOOKUP(H37,TABDESPENGETAHUAN,2),IF($AA$19=DATABASE!$B$3,VLOOKUP(H37,DESKPENGETAHUANSM6,DESKSM6!D15),\"-\")),\"-\")","v":"Sangat baik dalam memahami, menerapkan, menganalisis dan mengevaluasi semua kompetensi dasar."},null,null,null,{"$f":"NILSM6!AF5","v":75},{"$f":"VLOOKUP($AB$14,TABNILSM6,NILSM6!AF7)","v":96},{"$f":"IFERROR(VLOOKUP(N37,TABEL_NILAI,4),\"-\")","v":"A"},{"$f":"IFERROR(IF($AA$19=DATABASE!$B$2,VLOOKUP(O37,TABDESKETERAMPILAN,2),IF($AA$19=DATABASE!$B$3,VLOOKUP(O37,DESKKETERAMPILANSM6,DESKSM6!D15),\"-\")),\"-\")","v":"Sangat baik dan aktif bertanya, mencoba, menalar dan kreatif dalam menyelesaikan tugas praktek."}]
["Muatan Peminatan Kejuruan"]
["C1","Dasar Bidang Keahlian"]
[{"$f":"NILSM6!AH4","v":1},{"$f":"NILSM6!AH2","v":"-"},null,null,null,{"$f":"NILSM6!AH5","v":75},{"$f":"VLOOKUP($AB$14,TABNILSM6,NILSM6!AH7)","v":"-"},{"$f":"IFERROR(VLOOKUP(G40,TABEL_NILAI,4),\"-\")","v":"-"},{"$f":"IFERROR(IF($AA$19=DATABASE!$B$2,VLOOKUP(H40,TABDESPENGETAHUAN,2),IF($AA$19=DATABASE!$B$3,VLOOKUP(H40,DESKPENGETAHUANSM6,DESKSM6!D16),\"-\")),\"-\")","v":"-"},null,null,null,{"$f":"NILSM6!AI5","v":75},{"$f":"VLOOKUP($AB$14,TABNILSM6,NILSM6!AI7)","v":"-"},{"$f":"IFERROR(VLOOKUP(N40,TABEL_NILAI,4),\"-\")","v":"-"},{"$f":"IFERROR(IF($AA$19=DATABASE!$B$2,VLOOKUP(O40,TABDESKETERAMPILAN,2),IF($AA$19=DATABASE!$B$3,VLOOKUP(O40,DESKKETERAMPILANSM6,DESKSM6!D16),\"-\")),\"-\")","v":"-"}]
[{"$f":"NILSM6!AK4","v":2},{"$f":"NILSM6!AK2","v":"-"},null,null,null,{"$f":"NILSM6!AK5","v":75},{"$f":"VLOOKUP($AB$14,TABNILSM6,NILSM6!AK7)","v":"-"},{"$f":"IFERROR(VLOOKUP(G41,TABEL_NILAI,4),\"-\")","v":"-"},{"$f":"IFERROR(IF($AA$19=DATABASE!$B$2,VLOOKUP(H41,TABDESPENGETAHUAN,2),IF($AA$19=DATABASE!$B$3,VLOOKUP(H41,DESKPENGETAHUANSM6,DESKSM6!D17),\"-\")),\"-\")","v":"-"},null,null,null,{"$f":"NILSM6!AL5","v":75},{"$f":"VLOOKUP($AB$14,TABNILSM6,NILSM6!AL7)","v":"-"},{"$f":"IFERROR(VLOOKUP(N41,TABEL_NILAI,4),\"-\")","v":"-"},{"$f":"IFERROR(IF($AA$19=DATABASE!$B$2,VLOOKUP(O41,TABDESKETERAMPILAN,2),IF($AA$19=DATABASE!$B$3,VLOOKUP(O41,DESKKETERAMPILANSM6,DESKSM6!D17),\"-\")),\"-\")","v":"-"}]
[{"$f":"NILSM6!AN4","v":3},{"$f":"NILSM6!AN2","v":"-"},null,null,null,{"$f":"NILSM6!AN5","v":75},{"$f":"VLOOKUP($AB$14,TABNILSM6,NILSM6!AN7)","v":"-"},{"$f":"IFERROR(VLOOKUP(G42,TABEL_NILAI,4),\"-\")","v":"-"},{"$f":"IFERROR(IF($AA$19=DATABASE!$B$2,VLOOKUP(H42,TABDESPENGETAHUAN,2),IF($AA$19=DATABASE!$B$3,VLOOKUP(H42,DESKPENGETAHUANSM6,DESKSM6!D19),\"-\")),\"-\")","v":"-"},null,null,null,{"$f":"NILSM6!AO5","v":75},{"$f":"VLOOKUP($AB$14,TABNILSM6,NILSM6!AO7)","v":"-"},{"$f":"IFERROR(VLOOKUP(N42,TABEL_NILAI,4),\"-\")","v":"-"},{"$f":"IFERROR(IF($AA$19=DATABASE!$B$2,VLOOKUP(O42,TABDESKETERAMPILAN,2),IF($AA$19=DATABASE!$B$3,VLOOKUP(O42,DESKKETERAMPILANSM6,DESKSM6!D19),\"-\")),\"-\")","v":"-"}]
["C2","Dasar Program Keahlian"]
[{"$f":"NILSM6!AQ4","v":1},{"$f":"NILSM6!AQ2","v":"-"},null,null,null,{"$f":"NILSM6!AQ5","v":75},{"$f":"VLOOKUP($AB$14,TABNILSM6,NILSM6!AQ7)","v":"-"},"-",{"$f":"IFERROR(IF($AA$19=DATABASE!$B$2,VLOOKUP(H44,TABDESPENGETAHUAN,2),IF($AA$19=DATABASE!$B$3,VLOOKUP(H44,DESKPENGETAHUANSM6,DESKSM6!D20),\"-\")),\"-\")","v":"-"},null,null,null,{"$f":"NILSM6!AR5","v":75},{"$f":"VLOOKUP($AB$14,TABNILSM6,NILSM6!AR7)","v":"-"},"-",{"$f":"IFERROR(IF($AA$19=DATABASE!$B$2,VLOOKUP(O44,TABDESKETERAMPILAN,2),IF($AA$19=DATABASE!$B$3,VLOOKUP(O44,DESKKETERAMPILANSM6,DESKSM6!D20),\"-\")),\"-\")","v":"-"}]
[{"$f":"NILSM6!AT4","v":2},{"$f":"NILSM6!AT2","v":"-"},null,null,null,{"$f":"NILSM6!AT5","v":75},{"$f":"VLOOKUP($AB$14,TABNILSM6,NILSM6!AT7)","v":"-"},"-",{"$f":"IFERROR(IF($AA$19=DATABASE!$B$2,VLOOKUP(H45,TABDESPENGETAHUAN,2),IF($AA$19=DATABASE!$B$3,VLOOKUP(H45,DESKPENGETAHUANSM6,DESKSM6!D21),\"-\")),\"-\")","v":"-"},null,null,null,{"$f":"NILSM6!AU5","v":75},{"$f":"VLOOKUP($AB$14,TABNILSM6,NILSM6!AU7)","v":"-"},"-",{"$f":"IFERROR(IF($AA$19=DATABASE!$B$2,VLOOKUP(O45,TABDESKETERAMPILAN,2),IF($AA$19=DATABASE!$B$3,VLOOKUP(O45,DESKKETERAMPILANSM6,DESKSM6!D21),\"-\")),\"-\")","v":"-"}]
[{"$f":"NILSM6!AW4","v":3},{"$f":"NILSM6!AW2","v":"-"},null,null,null,{"$f":"NILSM6!AW5","v":75},{"$f":"VLOOKUP($AB$14,TABNILSM6,NILSM6!AW7)","v":"-"},"-",{"$f":"IFERROR(IF($AA$19=DATABASE!$B$2,VLOOKUP(H46,TABDESPENGETAHUAN,2),IF($AA$19=DATABASE!$B$3,VLOOKUP(H46,DESKPENGETAHUANSM6,DESKSM6!D22),\"-\")),\"-\")","v":"-"},null,null,null,{"$f":"NILSM6!AX5","v":75},{"$f":"VLOOKUP($AB$14,TABNILSM6,NILSM6!AX7)","v":"-"},"-",{"$f":"IFERROR(IF($AA$19=DATABASE!$B$2,VLOOKUP(O46,TABDESKETERAMPILAN,2),IF($AA$19=DATABASE!$B$3,VLOOKUP(O46,DESKKETERAMPILANSM6,DESKSM6!D22),\"-\")),\"-\")","v":"-"}]
[{"$f":"NILSM6!AZ4","v":4},{"$f":"NILSM6!AZ2","v":"-"},null,null,null,{"$f":"NILSM6!AZ5","v":75},{"$f":"VLOOKUP($AB$14,TABNILSM6,NILSM6!AZ7)","v":"-"},"-",{"$f":"IFERROR(IF($AA$19=DATABASE!$B$2,VLOOKUP(H47,TABDESPENGETAHUAN,2),IF($AA$19=DATABASE!$B$3,VLOOKUP(H47,DESKPENGETAHUANSM6,DESKSM6!D23),\"-\")),\"-\")","v":"-"},null,null,null,{"$f":"NILSM6!BA5","v":75},{"$f":"VLOOKUP($AB$14,TABNILSM6,NILSM6!BA7)","v":"-"},"-",{"$f":"IFERROR(IF($AA$19=DATABASE!$B$2,VLOOKUP(O47,TABDESKETERAMPILAN,2),IF($AA$19=DATABASE!$B$3,VLOOKUP(O47,DESKKETERAMPILANSM6,DESKSM6!D23),\"-\")),\"-\")","v":"-"}]
["C3","Paket Keahlian"]
[{"$f":"NILSM6!BC4","v":1},{"$f":"NILSM6!BC2","v":"Administrasi Infrastruktur Jaringan"},null,null,null,{"$f":"NILSM6!BC5","v":75},{"$f":"VLOOKUP($AB$14,TABNILSM6,NILSM6!BC7)","v":89},"B",{"$f":"IFERROR(IF($AA$19=DATABASE!$B$2,VLOOKUP(H49,TABDESPENGETAHUAN,2),IF($AA$19=DATABASE!$B$3,VLOOKUP(H49,DESKPENGETAHUANSM6,DESKSM6!D24),\"-\")),\"-\")","v":"Baik dalam memahami, menerapkan, menganalisis dan mengevaluasi sebagian besar kompetensi dasar."},null,null,null,{"$f":"NILSM6!BD5","v":75},{"$f":"VLOOKUP($AB$14,TABNILSM6,NILSM6!BD7)","v":90},"B",{"$f":"IFERROR(IF($AA$19=DATABASE!$B$2,VLOOKUP(O49,TABDESKETERAMPILAN,2),IF($AA$19=DATABASE!$B$3,VLOOKUP(O49,DESKKETERAMPILANSM6,DESKSM6!D24),\"-\")),\"-\")","v":"Baik dan aktif bertanya, mencoba, menalar dan kreatif dalam menyelesaikan sebagian besar tugas praktek."}]
[{"$f":"NILSM6!BF4","v":2},{"$f":"NILSM6!BF2","v":"Administrasi Sistem Jaringan"},null,null,null,{"$f":"NILSM6!BF5","v":75},{"$f":"VLOOKUP($AB$14,TABNILSM6,NILSM6!BF7)","v":91},"B",{"$f":"IFERROR(IF($AA$19=DATABASE!$B$2,VLOOKUP(H50,TABDESPENGETAHUAN,2),IF($AA$19=DATABASE!$B$3,VLOOKUP(H50,DESKMANUPENGETAHUAN,2),\"-\")),\"-\")","v":"Baik dalam memahami, menerapkan, menganalisis dan mengevaluasi sebagian besar kompetensi dasar."},null,null,null,{"$f":"NILSM6!BG5","v":75},{"$f":"VLOOKUP($AB$14,TABNILSM6,NILSM6!BG7)","v":92},"B",{"$f":"IFERROR(IF($AA$19=DATABASE!$B$2,VLOOKUP(O50,TABDESKETERAMPILAN,2),IF($AA$19=DATABASE!$B$3,VLOOKUP(O50,DESKMANUKETERAMPILAN,2),\"-\")),\"-\")","v":"Baik dan aktif bertanya, mencoba, menalar dan kreatif dalam menyelesaikan sebagian besar tugas praktek."}]
[{"$f":"NILSM6!BI4","v":3},{"$f":"NILSM6!BI2","v":"Teknologi Layanan Jaringan"},null,null,null,{"$f":"NILSM6!BI5","v":75},{"$f":"VLOOKUP($AB$14,TABNILSM6,NILSM6!BI7)","v":93},"B",{"$f":"IFERROR(IF($AA$19=DATABASE!$B$2,VLOOKUP(H51,TABDESPENGETAHUAN,2),IF($AA$19=DATABASE!$B$3,VLOOKUP(H51,DESKMANUPENGETAHUAN,2),\"-\")),\"-\")","v":"Baik dalam memahami, menerapkan, menganalisis dan mengevaluasi sebagian besar kompetensi dasar."},null,null,null,{"$f":"NILSM6!BJ5","v":75},{"$f":"VLOOKUP($AB$14,TABNILSM6,NILSM6!BJ7)","v":94},"A",{"$f":"IFERROR(IF($AA$19=DATABASE!$B$2,VLOOKUP(O51,TABDESKETERAMPILAN,2),IF($AA$19=DATABASE!$B$3,VLOOKUP(O51,DESKMANUKETERAMPILAN,2),\"-\")),\"-\")","v":"Sangat baik dan aktif bertanya, mencoba, menalar dan kreatif dalam menyelesaikan tugas praktek."}]
[{"$f":"NILSM6!BL4","v":4},{"$f":"NILSM6!BL2","v":"-"},null,null,null,{"$f":"NILSM6!BL5","v":75},{"$f":"VLOOKUP($AB$14,TABNILSM6,NILSM6!BL7)","v":"-"},"-",{"$f":"IFERROR(IF($AA$19=DATABASE!$B$2,VLOOKUP(H52,TABDESPENGETAHUAN,2),IF($AA$19=DATABASE!$B$3,VLOOKUP(H52,DESKMANUPENGETAHUAN,2),\"-\")),\"-\")","v":"-"},null,null,null,{"$f":"NILSM6!BM5","v":75},{"$f":"VLOOKUP($AB$14,TABNILSM6,NILSM6!BM7)","v":"-"},"-",{"$f":"IFERROR(IF($AA$19=DATABASE!$B$2,VLOOKUP(O52,TABDESKETERAMPILAN,2),IF($AA$19=DATABASE!$B$3,VLOOKUP(O52,DESKMANUKETERAMPILAN,2),\"-\")),\"-\")","v":"-"}]
[{"$f":"NILSM6!BO4","v":5},{"$f":"NILSM6!BO2","v":"-"},null,null,null,{"$f":"NILSM6!BO5","v":75},{"$f":"VLOOKUP($AB$14,TABNILSM6,NILSM6!BO7)","v":"-"},"-",{"$f":"IFERROR(IF($AA$19=DATABASE!$B$2,VLOOKUP(H53,TABDESPENGETAHUAN,2),IF($AA$19=DATABASE!$B$3,VLOOKUP(H53,DESKMANUPENGETAHUAN,2),\"-\")),\"-\")","v":"-"},null,null,null,{"$f":"NILSM6!BP5","v":75},{"$f":"VLOOKUP($AB$14,TABNILSM6,NILSM6!BP7)","v":"-"},"-",{"$f":"IFERROR(IF($AA$19=DATABASE!$B$2,VLOOKUP(O53,TABDESKETERAMPILAN,2),IF($AA$19=DATABASE!$B$3,VLOOKUP(O53,DESKMANUKETERAMPILAN,2),\"-\")),\"-\")","v":"-"}]
[{"$f":"NILSM6!BR4","v":6},{"$f":"NILSM6!BR2","v":"Produk Kreatif dan Kewirausahaan "},null,null,null,{"$f":"NILSM6!BR5","v":75},{"$f":"VLOOKUP($AB$14,TABNILSM6,NILSM6!BR7)","v":83},"C",{"$f":"IFERROR(IF($AA$19=DATABASE!$B$2,VLOOKUP(H54,TABDESPENGETAHUAN,2),IF($AA$19=DATABASE!$B$3,VLOOKUP(H54,DESKMANUPENGETAHUAN,2),\"-\")),\"-\")","v":"Cukup baik memahami sebagian kompetensi dasar, tetapi kurang bisa menerapkan, menganalisis dan mengevaluasinya."},null,null,null,{"$f":"NILSM6!BS5","v":75},{"$f":"VLOOKUP($AB$14,TABNILSM6,NILSM6!BS7)","v":84},"C",{"$f":"IFERROR(IF($AA$19=DATABASE!$B$2,VLOOKUP(O54,TABDESKETERAMPILAN,2),IF($AA$19=DATABASE!$B$3,VLOOKUP(O54,DESKMANUKETERAMPILAN,2),\"-\")),\"-\")","v":"Cukup aktif bertanya, mencoba, menalar dan kreatif dalam menyelesaikan tugas praktek"}]
[{"$f":"NILSM6!BU4","v":0},{"$f":"NILSM6!BU2","v":"-"},null,null,null,{"$f":"NILSM6!BU5","v":75},{"$f":"VLOOKUP($AB$14,TABNILSM6,NILSM6!BU7)","v":"-"},"-",{"$f":"IFERROR(IF($AA$19=DATABASE!$B$2,VLOOKUP(H55,TABDESPENGETAHUAN,2),IF($AA$19=DATABASE!$B$3,VLOOKUP(H55,DESKMANUPENGETAHUAN,2),\"-\")),\"-\")","v":"-"},null,null,null,{"$f":"NILSM6!BV5","v":75},{"$f":"VLOOKUP($AB$14,TABNILSM6,NILSM6!BV7)","v":"-"},"-",{"$f":"IFERROR(IF($AA$19=DATABASE!$B$2,VLOOKUP(O55,TABDESKETERAMPILAN,2),IF($AA$19=DATABASE!$B$3,VLOOKUP(O55,DESKMANUKETERAMPILAN,2),\"-\")),\"-\")","v":"-"}]
[null,"Rata-rata",null,null,null,null,{"$f":"VLOOKUP($AB$14,TABNILSM6,NILSM6!DO7)","v":90},{"$f":"VLOOKUP(G56,TABEL_NILAI,4)","v":"B"},null,null,null,null,null,{"$f":"VLOOKUP($AB$14,TABNILSM6,NILSM6!DP7)","v":87},{"$f":"VLOOKUP(N56,TABEL_NILAI,4)","v":"B"},null,"Total Nilai :",null,null,"Peringkat di Kelas :"]
[null,"Jumlah Nilai",null,null,null,null,{"$f":"VLOOKUP($AB$14,TABNILSM6,NILSM6!DQ7)","v":898},null,null,null,null,null,null,{"$f":"VLOOKUP($AB$14,TABNILSM6,NILSM6!DR7)","v":868},null,null,{"$f":"VLOOKUP($AB$14,TABNILSM6,NILSM6!DS7)","v":1766},null,null,{"$f":"IF(VLOOKUP($AB$14,TABNILSM6,NILSM6!DU7)=\"\",\"-\",VLOOKUP($AB$14,TABNILSM6,NILSM6!DU7)&\" dari \"&VLOOKUP($AB$14,TABNILSM6,NILSM6!DV7))","v":"-"}]
[]
["C.  Praktek Kerja Lapangan",null,null,null,null,null,null,null,null,null,null,null,"D.  Ekstrakurikuler"]
["No.","Mitra DU/DI",null,null,null,null,"Lokasi",null,null,"Lamanya (Bulan)","Keterangan",null,"No.","Kegiatan Ekstrakurikuler",null,null,null,"Keterangan",null,null,null,null,null,null,null,null,{"$f":"D8","v":"AL KINDI"}]
[1,{"$f":"IF(VLOOKUP($AB$14,TABNILSM6,NILSM6!CQ7)=\"\",\"-\",VLOOKUP($AB$14,TABNILSM6,NILSM6!CQ7))","v":"-"},null,null,null,null,{"$f":"IF(VLOOKUP($AB$14,TABNILSM6,NILSM6!CR7)=\"\",\"-\",VLOOKUP($AB$14,TABNILSM6,NILSM6!CR7))","v":"-"},null,null,{"$f":"IF(VLOOKUP($AB$14,TABNILSM6,NILSM6!CS7)=\"\",\"-\",VLOOKUP($AB$14,TABNILSM6,NILSM6!CS7))","v":"-"},{"$f":"IF(VLOOKUP($AB$14,TABNILSM6,NILSM6!CT7)=\"\",\"-\",VLOOKUP($AB$14,TABNILSM6,NILSM6!CT7))","v":"-"},null,1,{"$f":"IF(VLOOKUP($AB$14,TABNILSM6,NILSM6!CY7)=\"\",\"-\",VLOOKUP($AB$14,TABNILSM6,NILSM6!CY7))","v":"-"},null,null,null,{"$f":"IF(VLOOKUP($AB$14,TABNILSM6,NILSM6!CZ7)=\"\",\"-\",VLOOKUP(W61,TABNESKUL,2,FALSE))","v":"-"},null,null,null,null,{"$f":"VLOOKUP($AB$14,TABNILSM6,NILSM6!CZ7)","v":0}]
[null,null,null,null,null,null,null,null,null,null,null,null,2,{"$f":"IF(VLOOKUP($AB$14,TABNILSM6,NILSM6!DA7)=\"\",\"-\",VLOOKUP($AB$14,TABNILSM6,NILSM6!DA7))","v":"-"},null,null,null,{"$f":"IF(VLOOKUP($AB$14,TABNILSM6,NILSM6!DB7)=\"\",\"-\",VLOOKUP(W62,TABNESKUL,2,FALSE))","v":"-"},null,null,null,null,{"$f":"VLOOKUP($AB$14,TABNILSM6,NILSM6!DB7)","v":0}]
[2,{"$f":"IF(VLOOKUP($AB$14,TABNILSM6,NILSM6!CU7)=\"\",\"-\",VLOOKUP($AB$14,TABNILSM6,NILSM6!CU7))","v":"-"},null,null,null,null,{"$f":"IF(VLOOKUP($AB$14,TABNILSM6,NILSM6!CV7)=\"\",\"-\",VLOOKUP($AB$14,TABNILSM6,NILSM6!CV7))","v":"-"},null,null,{"$f":"IF(VLOOKUP($AB$14,TABNILSM6,NILSM6!CW7)=\"\",\"-\",VLOOKUP($AB$14,TABNILSM6,NILSM6!CW7))","v":"-"},{"$f":"IF(VLOOKUP($AB$14,TABNILSM6,NILSM6!CX7)=\"\",\"-\",VLOOKUP($AB$14,TABNILSM6,NILSM6!CX7))","v":"-"},null,3,{"$f":"IF(VLOOKUP($AB$14,TABNILSM6,NILSM6!DC7)=\"\",\"-\",VLOOKUP($AB$14,TABNILSM6,NILSM6!DC7))","v":"-"},null,null,null,{"$f":"IF(VLOOKUP($AB$14,TABNILSM6,NILSM6!DD7)=\"\",\"-\",VLOOKUP(W63,TABNESKUL,2,FALSE))","v":"-"},null,null,null,null,{"$f":"VLOOKUP($AB$14,TABNILSM6,NILSM6!DD7)","v":0},null,null,null,{"$f":"\"Nomor Urut \"&AB14","v":"Nomor Urut 2"}]

{"sheet":"MENU","index":18,"n_rows":24,"n_cols":16,"rows_kept":24,"cut":false,"hidden":false,"merged":[[12,15,12,18],[21,8,21,11],[16,15,16,18],[17,15,17,18],[7,8,7,9],[8,8,8,9],[11,15,11,18],[8,15,8,18],[7,15,7,18],[11,8,11,11],[12,8,12,11],[23,15,23,18],[22,15,22,18],[22,8,22,11],[23,8,23,11],[13,15,13,18],[20,8,20,11],[18,15,18,18],[21,15,21,18],[14,15,14,18],[17,8,17,11],[18,8,18,11],[13,8,13,11],[14,8,14,11],[16,8,16,11]]}
[]
[]
[]
[]
[]
[]
[null,null,null,null,null,null,"Data Struktur Kurikulum",null,null,null,null,null,null,"Data Kepala Sekolah"]
[null,null,null,null,null,null,"Paket Keahlian",":","TKJ",null,null,null,null,"Nama",":","Drs. Agus Rukmawan, S.IP, MM"]
[null,null,null,null,null,null,"Kelas",":","TKRO 1",null,null,null,null,"NIP",":","19611111 198603 1 008"]
[]
[null,null,null,null,null,null,"Titimangsa Rapor"]
[null,null,null,null,null,null,"Tahun Pelajaran",":","2017 / 2018",null,null,null,null,"Tahun Pelajaran",":","2018 / 2019"]
[null,null,null,null,null,null,"Semester 1",":","Karawang, 15 Desember 2017",null,null,null,null,"Semester 3",":","Karawang, 14 Desember 2018"]
[null,null,null,null,null,null,"Wali Kelas",":","Sri Hartati,S.T",null,null,null,null,"Wali Kelas",":","Bimuka Jati Andromeda, S.Pd"]
[null,null,null,null,null,null,{"$f":"VLOOKUP(I14,DATABASE!$K$3:$M$156,2)","v":"PegId"},":",{"$f":"VLOOKUP(I14,TABNAMAGURU,3)","v":"20217802184001"},null,null,null,null,{"$f":"VLOOKUP(P14,DATABASE!$K$3:$M$156,2)","v":"NIP"},":",{"$f":"VLOOKUP(P14,TABNAMAGURU,3)","v":"19900202 201503 1 003"}]
[]
[null,null,null,null,null,null,"Semester 2",":","Karawang, 22 Juni 2018",null,null,null,null,"Semester 4",":"]
[null,null,null,null,null,null,"Wali Kelas",":","Sri Hartati,S.T",null,null,null,null,"Wali Kelas",":","Bimuka Jati Andromeda, S.Pd"]
[null,null,null,null,null,null,{"$f":"VLOOKUP(I18,DATABASE!$K$3:$M$156,2)","v":"PegId"},":",{"$f":"VLOOKUP(I18,TABNAMAGURU,3)","v":"20217802184001"},null,null,null,null,{"$f":"VLOOKUP(P18,DATABASE!$K$3:$M$156,2)","v":"NIP"},":",{"$f":"VLOOKUP(P18,TABNAMAGURU,3)","v":"19900202 201503 1 003"}]
[]
[null,null,null,null,null,null,"Tahun Pelajaran",":","2019 / 2020"]
[null,null,null,null,null,null,"Semester 5",":",null,null,null,null,null,"Semester 6",":"]
[null,null,null,null,null,null,"Wali Kelas",":","Amo Sisdianto, S.Kom",null,null,null,null,"Wali Kelas",":","Amo Sisdianto, S.Kom"]
[null,null,null,null,null,null,{"$f":"VLOOKUP(I23,DATABASE!$K$3:$M$156,2)","v":"PegId"},":",{"$f":"VLOOKUP(I23,TABNAMAGURU,3)","v":"20217802182001"},null,null,null,null,{"$f":"VLOOKUP(P23,DATABASE!$K$3:$M$156,2)","v":"PegId"},":",{"$f":"VLOOKUP(P23,TABNAMAGURU,3)","v":"20217802182001"}]

{"sheet":"CETSM1","index":19,"n_rows":93,"n_cols":24,"rows_kept":93,"cut":false,"hidden":false,"merged":[[67,4,67,6],[67,17,68,17],[68,4,68,6],[62,2,62,8],[62,9,62,17],[63,2,63,8],[63,9,63,17],[66,22,67,24],[66,4,66,6],[64,22,65,24],[56,9,56,17],[46,2,46,6],[46,15,46,17],[47,2,47,6],[47,7,47,8],[47,13,47,14],[47,15,47,17],[50,8,50,10],[50,12,50,17],[51,2,51,7],[51,8,51,10],[51,12,51,17],[52,2,52,7],[52,8,52,10],[52,12,52,17],[55,2,55,8],[55,9,55,17],[50,2,50,7],[8,1,9,1],[8,2,9,5],[8,6,9,17],[7,2,7,5],[7,6,7,17],[22,2,22,5],[22,9,22,11],[22,15,22,17],[61,2,61,8],[61,9,61,17],[23,2,23,5],[23,9,23,11],[23,15,23,17],[28,15,28,17],[29,1,29,5],[31,2,31,5],[58,2,58,8],[58,9,58,17],[57,2,57,8],[57,9,57,17],[45,2,45,5],[38,2,38,5],[40,2,40,5],[56,2,56,8],[71,1,74,17],[10,1,12,1],[10,2,12,5],[10,6,12,17],[20,2,20,5],[20,9,20,11],[20,15,20,17],[21,2,21,5],[21,9,21,11],[21,15,21,17],[18,2,18,5],[18,9,18,11],[18,15,18,17],[19,2,19,5],[19,9,19,11],[19,15,19,17],[24,1,24,5],[25,2,25,5],[25,9,25,11],[28,9,28,11],[15,1,16,1],[15,2,16,5],[15,6,15,11],[15,12,15,17],[41,2,41,5],[42,2,42,5],[40,9,40,11],[40,15,40,17],[43,9,43,11],[43,15,43,17],[44,9,44,11],[44,15,44,17],[38,9,38,11],[38,15,38,17],[41,15,41,17],[42,9,42,11],[42,15,42,17],[45,9,45,11],[45,15,45,17],[41,9,41,11],[25,15,25,17],[28,2,28,5],[35,9,35,11],[35,15,35,17],[36,9,36,11],[36,15,36,17],[37,9,37,11],[32,2,32,5],[32,9,32,11],[32,15,32,17],[33,2,33,5],[33,9,33,11],[33,15,33,17],[37,15,37,17],[43,2,43,5],[44,2,44,5],[31,9,31,11],[31,15,31,17],[35,2,35,5],[36,2,36,5],[37,2,37,5],[26,2,26,5],[26,9,26,11],[26,15,26,17],[27,2,27,5],[27,9,27,11],[27,15,27,17],[5,22,5,23],[6,22,7,22],[8,22,9,22],[6,23,7,23],[8,23,9,23],[17,22,17,23],[12,22,12,23],[13,22,14,22],[18,22,18,23],[13,23,14,23],[16,9,16,11],[16,15,16,17]]}
[null,"Nama Sekolah",null,":","SMKN 1 KARAWANG",null,null,null,null,null,null,null,null,null,"Kelas",null,":",{"$f":"IF(OR(R2=\"1 (satu)\",R2=\"2 (dua)\"),\"X \"&MENU!I9,IF(OR(R2=\"3 (tiga)\",R2=\"4 (empat)\"),\"XI \"&MENU!I9,IF(OR(R2=\"5 (lima)\",R2=\"6 (enam)\"),\"XII \"&MENU!I9,\"\")))","v":"X TKRO 1"}]
[null,"Alamat",null,":","Jl. Pangkal Perjuangan By Pass Karawang",null,null,null,null,null,null,null,null,null,"Semester",null,":",{"$f":"NILSM1!B3","v":"1 (satu)"}]
[null,"Nama Siswa",null,":",{"$f":"VLOOKUP($X$14,TABNILSM1,NILSM1!B7)","v":"AL KINDI"},null,null,null,null,null,null,null,null,null,"Tahun Pelajaran",null,":",{"$f":"RIGHT(NILSM1!A2,11)","v":"2017 / 2018"}]
[null,"Nomor Induk/NISN",null,":",{"$f":"IF(VLOOKUP($X$14,TABBIODATA,BIODATA!E4)=\"\",VLOOKUP($X$14,TABBIODATA,BIODATA!D4),VLOOKUP($X$14,TABBIODATA,BIODATA!D4)&\" / \"&VLOOKUP($X$14,TABBIODATA,BIODATA!E4))","v":"13140768 / 9973289804"}]
[]
[null,"CAPAIAN HASIL BELAJAR",null,null,null,null,null,null,null,null,null,null,null,null,null,null,null,null,null,null,null,null,"HALAMAN CETAK"]
[null,"A.  Sikap",null,null,null,null,null,null,null,null,null,null,null,null,null,null,null,null,null,null,null,null,"Dari data ke",2]
[null,"No.","Kompetensi Inti",null,null,null,"Deskripsi"]
[null,"1","Sikap Spiritual",null,null,null,{"$f":"IFERROR(VLOOKUP(S9,TABDESSPIRITUAL,2),\"-\")","v":"Baik, dapat menerima, menjalankan, menghargai, menghayati dan mengamalkan ajaran agama yang dianut."},null,null,null,null,null,null,null,null,null,null,null,{"$f":"VLOOKUP($X$14,TABNILSM1,NILSM1!DL7)","v":"B"},null,null,null,"Sampai data ke",2]
[]
[null,2,"Sikap Sosial",null,null,null,{"$f":"IFERROR(VLOOKUP(S11,TABDESSOSIAL,2),\"-\")","v":"Sudah menunjukkan konsisten menerapkan sikap jujur, santun dan toleran dalam pergaulan, disiplin, kerjasama dalam kelompok dan tanggungjawab dalam keseharian sebagai hasil pembelajaran di sekolah. Tingkatkan sikap-sikap positif tersebut agar lebih baik."},null,null,null,null,null,null,null,null,null,null,null,{"$f":"VLOOKUP($X$14,TABNILSM1,NILSM1!DM7)","v":"B"}]
[]
[null,null,null,null,null,null,null,null,null,null,null,null,null,null,null,null,null,null,null,null,null,null,"TAMPILAN DATA"]
[null,null,null,null,null,null,null,null,null,null,null,null,null,null,null,null,null,null,null,null,null,null,"Nomor Urut",2]
[null,"B.  Pengetahuan dan Keterampilan"]
["P","No.","Mata Pelajaran",null,null,null,"Pengetahuan",null,null,null,null,null,"Keterampilan"]
["K",null,null,null,null,null,"KKM","Angka","Predikat","Deskripsi",null,null,"KKM","Angka","Predikat","Deskripsi"]
[null,"Muatan Nasional",null,null,null,null,null,null,null,null,null,null,null,null,null,null,null,null,null,null,null,null,"PILIHAN DESKRIPSI"]
["A",1,{"$f":"IFERROR(HLOOKUP($R$2&A19&B19&$A$16,MAPELSM1,2,FALSE),\"-\")","v":"Pendidikan Agama dan Budi Pekerti"},null,null,null,{"$f":"IFERROR(HLOOKUP($R$2&A19&B19&$A$16,MAPELSM1,5,FALSE),\"-\")","v":75},{"$f":"ROUND(VLOOKUP($X$14,TABNILSM1,NILSM1!D7),0)","v":75},{"$f":"IFERROR(VLOOKUP(H19,TABEL_NILAI,4),\"-\")","v":"D"},{"$f":"IFERROR(IF($W$19=DATABASE!$B$2,VLOOKUP(I19,TABDESPENGETAHUAN,2),IF($W$19=DATABASE!$B$3,VLOOKUP(I19,DESKPENGETAHUANSM1,DESKSM1!D3),\"-\")),\"-\")","v":"Kurang dapat memahami, hanya bisa menerapkan, menganalisis, dan mengeveluasi sebagian kecil kompetensi dasar."},null,null,{"$f":"IFERROR(HLOOKUP($R$2&A19&B19&$A$17,MAPELSM1,5,FALSE),\"-\")","v":75},{"$f":"ROUND(VLOOKUP($X$14,TABNILSM1,NILSM1!E7),0)","v":83},{"$f":"IFERROR(VLOOKUP(N19,TABEL_NILAI,4),\"-\")","v":"C"},{"$f":"IFERROR(IF($W$19=DATABASE!$B$2,VLOOKUP(O19,TABDESKETERAMPILAN,2),IF($W$19=DATABASE!$B$3,VLOOKUP(O19,DESKKETERAMPILANSM1,DESKSM1!D3),\"-\")),\"-\")","v":"Cukup aktif bertanya, mencoba, menalar dan kreatif dalam menyelesaikan tugas praktek"},null,null,null,null,null,null,"OTOMATIS"]
["A",{"$f":"B19+1","v":2},{"$f":"IFERROR(HLOOKUP($R$2&A20&B20&$A$16,MAPELSM1,2,FALSE),\"-\")","v":"Pendidikan Pancasila dan Kewarganegaraan"},null,null,null,{"$f":"IFERROR(HLOOKUP($R$2&A20&B20&$A$16,MAPELSM1,5,FALSE),\"-\")","v":75},{"$f":"ROUND(VLOOKUP($X$14,TABNILSM1,NILSM1!G7),0)","v":84},{"$f":"IFERROR(VLOOKUP(H20,TABEL_NILAI,4),\"-\")","v":"C"},{"$f":"IFERROR(IF($W$19=DATABASE!$B$2,VLOOKUP(I20,TABDESPENGETAHUAN,2),IF($W$19=DATABASE!$B$3,VLOOKUP(I20,DESKPENGETAHUANSM1,DESKSM1!D4),\"-\")),\"-\")","v":"Cukup baik memahami sebagian kompetensi dasar, tetapi kurang bisa menerapkan, menganalisis dan mengevaluasinya."},null,null,{"$f":"IFERROR(HLOOKUP($R$2&A20&B20&$A$17,MAPELSM1,5,FALSE),\"-\")","v":75},{"$f":"ROUND(VLOOKUP($X$14,TABNILSM1,NILSM1!H7),0)","v":92},"B",{"$f":"IFERROR(IF($W$19=DATABASE!$B$2,VLOOKUP(O20,TABDESKETERAMPILAN,2),IF($W$19=DATABASE!$B$3,VLOOKUP(O20,DESKKETERAMPILANSM1,DESKSM1!E3),\"-\")),\"-\")","v":"Baik dan aktif bertanya, mencoba, menalar dan kreatif dalam menyelesaikan sebagian besar tugas praktek."}]
["A",{"$f":"B20+1","v":3},"Bahasa Indonesia",null,null,null,75,{"$f":"ROUND(VLOOKUP($X$14,TABNILSM1,NILSM1!J7),0)","v":93},"B",{"$f":"IFERROR(IF($W$19=DATABASE!$B$2,VLOOKUP(I21,TABDESPENGETAHUAN,2),IF($W$19=DATABASE!$B$3,VLOOKUP(I21,DESKPENGETAHUANSM1,DESKSM1!D5),\"-\")),\"-\")","v":"Baik dalam memahami, menerapkan, menganalisis dan mengevaluasi sebagian besar kompetensi dasar."},null,null,75,{"$f":"ROUND(VLOOKUP($X$14,TABNILSM1,NILSM1!K7),0)","v":75},"D",{"$f":"IFERROR(IF($W$19=DATABASE!$B$2,VLOOKUP(O21,TABDESKETERAMPILAN,2),IF($W$19=DATABASE!$B$3,VLOOKUP(O21,DESKKETERAMPILANSM1,DESKSM1!F3),\"-\")),\"-\")","v":"Kurang aktif bertanya, mencoba, menalar dan kreatif dalam menyelesaikan tugas praktek."}]
["A",4,"Matematika",null,null,null,75,{"$f":"ROUND(VLOOKUP($X$14,TABNILSM1,NILSM1!M7),0)","v":75},"D",{"$f":"IFERROR(IF($W$19=DATABASE!$B$2,VLOOKUP(I22,TABDESPENGETAHUAN,2),IF($W$19=DATABASE!$B$3,VLOOKUP(I22,DESKPENGETAHUANSM1,DESKSM1!D6),\"-\")),\"-\")","v":"Kurang dapat memahami, hanya bisa menerapkan, menganalisis, dan mengeveluasi sebagian kecil kompetensi dasar."},null,null,75,{"$f":"ROUND(VLOOKUP($X$14,TABNILSM1,NILSM1!N7),0)","v":75},"D",{"$f":"IFERROR(IF($W$19=DATABASE!$B$2,VLOOKUP(O22,TABDESKETERAMPILAN,2),IF($W$19=DATABASE!$B$3,VLOOKUP(O22,DESKKETERAMPILANSM1,DESKSM1!G3),\"-\")),\"-\")","v":"Kurang aktif bertanya, mencoba, menalar dan kreatif dalam menyelesaikan tugas praktek."}]
["A",5,"Sejarah Indonesia",null,null,null,75,{"$f":"ROUND(VLOOKUP($X$14,TABNILSM1,NILSM1!P7),0)","v":83},"C",{"$f":"IFERROR(IF($W$19=DATABASE!$B$2,VLOOKUP(I23,TABDESPENGETAHUAN,2),IF($W$19=DATABASE!$B$3,VLOOKUP(I23,DESKPENGETAHUANSM1,DESKSM1!D7),\"-\")),\"-\")","v":"Cukup baik memahami sebagian kompetensi dasar, tetapi kurang bisa menerapkan, menganalisis dan mengevaluasinya."},null,null,75,{"$f":"ROUND(VLOOKUP($X$14,TABNILSM1,NILSM1!Q7),0)","v":83},"C",{"$f":"IFERROR(IF($W$19=DATABASE!$B$2,VLOOKUP(O23,TABDESKETERAMPILAN,2),IF($W$19=DATABASE!$B$3,VLOOKUP(O23,DESKKETERAMPILANSM1,DESKSM1!H3),\"-\")),\"-\")","v":"Cukup aktif bertanya, mencoba, menalar dan kreatif dalam menyelesaikan tugas praktek"}]
["A",6,"Bahasa Inggris",null,null,null,75,{"$f":"ROUND(VLOOKUP($X$14,TABNILSM1,NILSM1!S7),0)","v":75},"D",{"$f":"IFERROR(IF($W$19=DATABASE!$B$2,VLOOKUP(I24,TABDESPENGETAHUAN,2),IF($W$19=DATABASE!$B$3,VLOOKUP(I24,DESKPENGETAHUANSM1,DESKSM1!D8),\"-\")),\"-\")","v":"Kurang dapat memahami, hanya bisa menerapkan, menganalisis, dan mengeveluasi sebagian kecil kompetensi dasar."},null,null,75,{"$f":"ROUND(VLOOKUP($X$14,TABNILSM1,NILSM1!T7),0)","v":75},"D",{"$f":"IFERROR(IF($W$19=DATABASE!$B$2,VLOOKUP(O24,TABDESKETERAMPILAN,2),IF($W$19=DATABASE!$B$3,VLOOKUP(O24,DESKKETERAMPILANSM1,DESKSM1!I3),\"-\")),\"-\")","v":"Kurang aktif bertanya, mencoba, menalar dan kreatif dalam menyelesaikan tugas praktek."}]
[null,"Muatan Kewilayahan"]
["B",1,{"$f":"IFERROR(HLOOKUP($R$2&A26&B26&$A$16,MAPELSM1,2,FALSE),\"-\")","v":"Seni Budaya"},null,null,null,{"$f":"IFERROR(HLOOKUP($R$2&A26&B26&$A$16,MAPELSM1,5,FALSE),\"-\")","v":75},{"$f":"ROUND(VLOOKUP($X$14,TABNILSM1,NILSM1!V7),0)","v":75},{"$f":"IFERROR(VLOOKUP(H26,TABEL_NILAI,4),\"-\")","v":"D"},{"$f":"IFERROR(IF($W$19=DATABASE!$B$2,VLOOKUP(I26,TABDESPENGETAHUAN,2),IF($W$19=DATABASE!$B$3,VLOOKUP(I26,DESKPENGETAHUANSM1,DESKSM1!J3),\"-\")),\"-\")","v":"Kurang dapat memahami, hanya bisa menerapkan, menganalisis, dan mengeveluasi sebagian kecil kompetensi dasar."},null,null,{"$f":"IFERROR(HLOOKUP($R$2&A26&B26&$A$17,MAPELSM1,5,FALSE),\"-\")","v":75},{"$f":"ROUND(VLOOKUP($X$14,TABNILSM1,NILSM1!W7),0)","v":75},{"$f":"IFERROR(VLOOKUP(N26,TABEL_NILAI,4),\"-\")","v":"D"},{"$f":"IFERROR(IF($W$19=DATABASE!$B$2,VLOOKUP(O26,TABDESKETERAMPILAN,2),IF($W$19=DATABASE!$B$3,VLOOKUP(O26,DESKKETERAMPILANSM1,DESKSM1!J3),\"-\")),\"-\")","v":"Kurang aktif bertanya, mencoba, menalar dan kreatif dalam menyelesaikan tugas praktek."}]
["B",{"$f":"B26+1","v":2},{"$f":"IFERROR(HLOOKUP($R$2&A27&B27&$A$16,MAPELSM1,2,FALSE),\"-\")","v":"Pendidikan Jasmani, Olah Raga & Kesehatan"},null,null,null,{"$f":"IFERROR(HLOOKUP($R$2&A27&B27&$A$16,MAPELSM1,5,FALSE),\"-\")","v":75},{"$f":"ROUND(VLOOKUP($X$14,TABNILSM1,NILSM1!Y7),0)","v":75},{"$f":"IFERROR(VLOOKUP(H27,TABEL_NILAI,4),\"-\")","v":"D"},{"$f":"IFERROR(IF($W$19=DATABASE!$B$2,VLOOKUP(I27,TABDESPENGETAHUAN,2),IF($W$19=DATABASE!$B$3,VLOOKUP(I27,DESKPENGETAHUANSM1,DESKSM1!J4),\"-\")),\"-\")","v":"Kurang dapat memahami, hanya bisa menerapkan, menganalisis, dan mengeveluasi sebagian kecil kompetensi dasar."},null,null,{"$f":"IFERROR(HLOOKUP($R$2&A27&B27&$A$17,MAPELSM1,5,FALSE),\"-\")","v":75},{"$f":"ROUND(VLOOKUP($X$14,TABNILSM1,NILSM1!Z7),0)","v":75},{"$f":"IFERROR(VLOOKUP(N27,TABEL_NILAI,4),\"-\")","v":"D"},{"$f":"IFERROR(IF($W$19=DATABASE!$B$2,VLOOKUP(O27,TABDESKETERAMPILAN,2),IF($W$19=DATABASE!$B$3,VLOOKUP(O27,DESKKETERAMPILANSM1,DESKSM1!J4),\"-\")),\"-\")","v":"Kurang aktif bertanya, mencoba, menalar dan kreatif dalam menyelesaikan tugas praktek."}]
["B",3,{"$f":"IFERROR(HLOOKUP($R$2&A28&B28&$A$16,MAPELSM1,2,FALSE),\"-\")","v":"Bahasa dan Sastra Sunda"},null,null,null,{"$f":"IFERROR(HLOOKUP($R$2&A28&B28&$A$16,MAPELSM1,5,FALSE),\"-\")","v":75},{"$f":"ROUND(VLOOKUP($X$14,TABNILSM1,NILSM1!AB7),0)","v":83},{"$f":"IFERROR(VLOOKUP(H28,TABEL_NILAI,4),\"-\")","v":"C"},{"$f":"IFERROR(IF($W$19=DATABASE!$B$2,VLOOKUP(I28,TABDESPENGETAHUAN,2),IF($W$19=DATABASE!$B$3,VLOOKUP(I28,DESKPENGETAHUANSM1,DESKSM1!J5),\"-\")),\"-\")","v":"Cukup baik memahami sebagian kompetensi dasar, tetapi kurang bisa menerapkan, menganalisis dan mengevaluasinya."},null,null,{"$f":"IFERROR(HLOOKUP($R$2&A28&B28&$A$17,MAPELSM1,5,FALSE),\"-\")","v":75},{"$f":"ROUND(VLOOKUP($X$14,TABNILSM1,NILSM1!AC7),0)","v":92},{"$f":"IFERROR(VLOOKUP(N28,TABEL_NILAI,4),\"-\")","v":"B"},{"$f":"IFERROR(IF($W$19=DATABASE!$B$2,VLOOKUP(O28,TABDESKETERAMPILAN,2),IF($W$19=DATABASE!$B$3,VLOOKUP(O28,DESKKETERAMPILANSM1,DESKSM1!J5),\"-\")),\"-\")","v":"Baik dan aktif bertanya, mencoba, menalar dan kreatif dalam menyelesaikan sebagian besar tugas praktek."}]
["B",4,{"$f":"IFERROR(HLOOKUP($R$2&A29&B29&$A$16,MAPELSM1,2,FALSE),\"-\")","v":"PLH"},null,null,null,{"$f":"IFERROR(HLOOKUP($R$2&A29&B29&$A$16,MAPELSM1,5,FALSE),\"-\")","v":75},{"$f":"ROUND(VLOOKUP($X$14,TABNILSM1,NILSM1!AE7),0)","v":75},{"$f":"IFERROR(VLOOKUP(H29,TABEL_NILAI,4),\"-\")","v":"D"},{"$f":"IFERROR(IF($W$19=DATABASE!$B$2,VLOOKUP(I29,TABDESPENGETAHUAN,2),IF($W$19=DATABASE!$B$3,VLOOKUP(I29,DESKPENGETAHUANSM1,DESKSM1!J6),\"-\")),\"-\")","v":"Kurang dapat memahami, hanya bisa menerapkan, menganalisis, dan mengeveluasi sebagian kecil kompetensi dasar."},null,null,{"$f":"IFERROR(HLOOKUP($R$2&A29&B29&$A$17,MAPELSM1,5,FALSE),\"-\")","v":75},{"$f":"ROUND(VLOOKUP($X$14,TABNILSM1,NILSM1!AF7),0)","v":83},{"$f":"IFERROR(VLOOKUP(N29,TABEL_NILAI,4),\"-\")","v":"C"},{"$f":"IFERROR(IF($W$19=DATABASE!$B$2,VLOOKUP(O29,TABDESKETERAMPILAN,2),IF($W$19=DATABASE!$B$3,VLOOKUP(O29,DESKKETERAMPILANSM1,DESKSM1!J6),\"-\")),\"-\")","v":"Cukup aktif bertanya, mencoba, menalar dan kreatif dalam menyelesaikan tugas praktek"}]
[null,"Muatan Peminatan Kejuruan"]
[null,"C1","Dasar Bidang Keahlian"]
["C1",1,{"$f":"IFERROR(HLOOKUP($R$2&A32&B32&$A$16,MAPELSM1,2,FALSE),\"-\")","v":"Simulasi dan Komunikasi Digital"},null,null,null,{"$f":"IFERROR(HLOOKUP($R$2&A32&B32&$A$16,MAPELSM1,5,FALSE),\"-\")","v":75},{"$f":"VLOOKUP($X$14,TABNILSM1,NILSM1!AH7)","v":83.25},{"$f":"IFERROR(VLOOKUP(H32,TABEL_NILAI,4),\"-\")","v":"C"},{"$f":"IFERROR(IF($W$19=DATABASE!$B$2,VLOOKUP(I32,TABDESPENGETAHUAN,2),IF($W$19=DATABASE!$B$3,VLOOKUP(I32,DESKPENGETAHUANSM1,DESKSM1!M3),\"-\")),\"-\")","v":"Cukup baik memahami sebagian kompetensi dasar, tetapi kurang bisa menerapkan, menganalisis dan mengevaluasinya."},null,null,{"$f":"IFERROR(HLOOKUP($R$2&A32&B32&$A$17,MAPELSM1,5,FALSE),\"-\")","v":75},{"$f":"VLOOKUP($X$14,TABNILSM1,NILSM1!AI7)","v":83.25},{"$f":"IFERROR(VLOOKUP(N32,TABEL_NILAI,4),\"-\")","v":"C"},{"$f":"IFERROR(IF($W$19=DATABASE!$B$2,VLOOKUP(O32,TABDESKETERAMPILAN,2),IF($W$19=DATABASE!$B$3,VLOOKUP(O32,DESKKETERAMPILANSM1,DESKSM1!M3),\"-\")),\"-\")","v":"Cukup aktif bertanya, mencoba, menalar dan kreatif dalam menyelesaikan tugas praktek"}]
["C1",{"$f":"B32+1","v":2},{"$f":"IFERROR(HLOOKUP($R$2&A33&B33&$A$16,MAPELSM1,2,FALSE),\"-\")","v":"Fisika"},null,null,null,{"$f":"IFERROR(HLOOKUP($R$2&A33&B33&$A$16,MAPELSM1,5,FALSE),\"-\")","v":75},{"$f":"VLOOKUP($X$14,TABNILSM1,NILSM1!AK7)","v":75},{"$f":"IFERROR(VLOOKUP(H33,TABEL_NILAI,4),\"-\")","v":"D"},{"$f":"IFERROR(IF($W$19=DATABASE!$B$2,VLOOKUP(I33,TABDESPENGETAHUAN,2),IF($W$19=DATABASE!$B$3,VLOOKUP(I33,DESKPENGETAHUANSM1,DESKSM1!N3),\"-\")),\"-\")","v":"Kurang dapat memahami, hanya bisa menerapkan, menganalisis, dan mengeveluasi sebagian kecil kompetensi dasar."},null,null,{"$f":"IFERROR(HLOOKUP($R$2&A33&B33&$A$17,MAPELSM1,5,FALSE),\"-\")","v":75},{"$f":"VLOOKUP($X$14,TABNILSM1,NILSM1!AL7)","v":75},{"$f":"IFERROR(VLOOKUP(N33,TABEL_NILAI,4),\"-\")","v":"D"},{"$f":"IFERROR(IF($W$19=DATABASE!$B$2,VLOOKUP(O33,TABDESKETERAMPILAN,2),IF($W$19=DATABASE!$B$3,VLOOKUP(O33,DESKKETERAMPILANSM1,DESKSM1!N3),\"-\")),\"-\")","v":"Kurang aktif bertanya, mencoba, menalar dan kreatif dalam menyelesaikan tugas praktek."}]
["C1",{"$f":"B33+1","v":3},{"$f":"IFERROR(HLOOKUP($R$2&A34&B34&$A$16,MAPELSM1,2,FALSE),\"-\")","v":"Kimia"},null,null,null,{"$f":"IFERROR(HLOOKUP($R$2&A34&B34&$A$16,MAPELSM1,5,FALSE),\"-\")","v":75},{"$f":"VLOOKUP($X$14,TABNILSM1,NILSM1!AN7)","v":83.25},{"$f":"IFERROR(VLOOKUP(H34,TABEL_NILAI,4),\"-\")","v":"C"},{"$f":"IFERROR(IF($W$19=DATABASE!$B$2,VLOOKUP(I34,TABDESPENGETAHUAN,2),IF($W$19=DATABASE!$B$3,VLOOKUP(I34,DESKPENGETAHUANSM1,DESKSM1!O3),\"-\")),\"-\")","v":"Cukup baik memahami sebagian kompetensi dasar, tetapi kurang bisa menerapkan, menganalisis dan mengevaluasinya."},null,null,{"$f":"IFERROR(HLOOKUP($R$2&A34&B34&$A$17,MAPELSM1,5,FALSE),\"-\")","v":75},{"$f":"VLOOKUP($X$14,TABNILSM1,NILSM1!AO7)","v":75},{"$f":"IFERROR(VLOOKUP(N34,TABEL_NILAI,4),\"-\")","v":"D"},{"$f":"IFERROR(IF($W$19=DATABASE!$B$2,VLOOKUP(O34,TABDESKETERAMPILAN,2),IF($W$19=DATABASE!$B$3,VLOOKUP(O34,DESKKETERAMPILANSM1,DESKSM1!O3),\"-\")),\"-\")","v":"Kurang aktif bertanya, mencoba, menalar dan kreatif dalam menyelesaikan tugas praktek."}]
[null,"C2","Dasar Program Keahlian"]
["C2",4,{"$f":"IFERROR(HLOOKUP($R$2&A36&B36&$A$16,MAPELSM1,2,FALSE),\"-\")","v":"Sistem Komputer"},null,null,null,{"$f":"IFERROR(HLOOKUP($R$2&A36&B36&$A$16,MAPELSM1,5,FALSE),\"-\")","v":75},{"$f":"VLOOKUP($X$14,TABNILSM1,NILSM1!AQ7)","v":75},{"$f":"IFERROR(VLOOKUP(H36,TABEL_NILAI,4),\"-\")","v":"D"},{"$f":"IFERROR(IF($W$19=DATABASE!$B$2,VLOOKUP(I36,TABDESPENGETAHUAN,2),IF($W$19=DATABASE!$B$3,VLOOKUP(I36,DESKPENGETAHUANSM1,DESKSM1!P3),\"-\")),\"-\")","v":"Kurang dapat memahami, hanya bisa menerapkan, menganalisis, dan mengeveluasi sebagian kecil kompetensi dasar."},null,null,{"$f":"IFERROR(HLOOKUP($R$2&A36&B36&$A$17,MAPELSM1,5,FALSE),\"-\")","v":75},{"$f":"VLOOKUP($X$14,TABNILSM1,NILSM1!AR7)","v":75},{"$f":"IFERROR(VLOOKUP(N36,TABEL_NILAI,4),\"-\")","v":"D"},{"$f":"IFERROR(IF($W$19=DATABASE!$B$2,VLOOKUP(O36,TABDESKETERAMPILAN,2),IF($W$19=DATABASE!$B$3,VLOOKUP(O36,DESKKETERAMPILANSM1,DESKSM1!P3),\"-\")),\"-\")","v":"Kurang aktif bertanya, mencoba, menalar dan kreatif dalam menyelesaikan tugas praktek."}]
["C2",{"$f":"B36+1","v":5},{"$f":"IFERROR(HLOOKUP($R$2&A37&B37&$A$16,MAPELSM1,2,FALSE),\"-\")","v":"Komputer dan Jaringan Dasar"},null,null,null,{"$f":"IFERROR(HLOOKUP($R$2&A37&B37&$A$16,MAPELSM1,5,FALSE),\"-\")","v":75},{"$f":"VLOOKUP($X$14,TABNILSM1,NILSM1!AT7)","v":75},"D",{"$f":"IFERROR(IF($W$19=DATABASE!$B$2,VLOOKUP(I37,TABDESPENGETAHUAN,2),IF($W$19=DATABASE!$B$3,VLOOKUP(I37,DESKPENGETAHUANSM1,DESKSM1!Q3),\"-\")),\"-\")","v":"Kurang dapat memahami, hanya bisa menerapkan, menganalisis, dan mengeveluasi sebagian kecil kompetensi dasar."},null,null,{"$f":"IFERROR(HLOOKUP($R$2&A37&B37&$A$17,MAPELSM1,5,FALSE),\"-\")","v":75},{"$f":"VLOOKUP($X$14,TABNILSM1,NILSM1!AU7)","v":75},"D",{"$f":"IFERROR(IF($W$19=DATABASE!$B$2,VLOOKUP(O37,TABDESKETERAMPILAN,2),IF($W$19=DATABASE!$B$3,VLOOKUP(O37,DESKKETERAMPILANSM1,DESKSM1!Q3),\"-\")),\"-\")","v":"Kurang aktif bertanya, mencoba, menalar dan kreatif dalam menyelesaikan tugas praktek."}]
["C2",6,{"$f":"IFERROR(HLOOKUP($R$2&A38&B38&$A$16,MAPELSM1,2,FALSE),\"-\")","v":"Pemrograman Dasar"},null,null,null,{"$f":"IFERROR(HLOOKUP($R$2&A38&B38&$A$16,MAPELSM1,5,FALSE),\"-\")","v":75},{"$f":"VLOOKUP($X$14,TABNILSM1,NILSM1!AW7)","v":75},"D",{"$f":"IFERROR(IF($W$19=DATABASE!$B$2,VLOOKUP(I38,TABDESPENGETAHUAN,2),IF($W$19=DATABASE!$B$3,VLOOKUP(I38,DESKPENGETAHUANSM1,DESKSM1!R3),\"-\")),\"-\")","v":"Kurang dapat memahami, hanya bisa menerapkan, menganalisis, dan mengeveluasi sebagian kecil kompetensi dasar."},null,null,{"$f":"IFERROR(HLOOKUP($R$2&A38&B38&$A$17,MAPELSM1,5,FALSE),\"-\")","v":75},{"$f":"VLOOKUP($X$14,TABNILSM1,NILSM1!AX7)","v":75},"D",{"$f":"IFERROR(IF($W$19=DATABASE!$B$2,VLOOKUP(O38,TABDESKETERAMPILAN,2),IF($W$19=DATABASE!$B$3,VLOOKUP(O38,DESKKETERAMPILANSM1,DESKSM1!R3),\"-\")),\"-\")","v":"Kurang aktif bertanya, mencoba, menalar dan kreatif dalam menyelesaikan tugas praktek."}]
["C2",7,{"$f":"IFERROR(HLOOKUP($R$2&A39&B39&$A$16,MAPELSM1,2,FALSE),\"-\")","v":"Dasar Desain Grafis"},null,null,null,{"$f":"IFERROR(HLOOKUP($R$2&A39&B39&$A$16,MAPELSM1,5,FALSE),\"-\")","v":0},{"$f":"VLOOKUP($X$14,TABNILSM1,NILSM1!AZ7)","v":"-"},"-",{"$f":"IFERROR(IF($W$19=DATABASE!$B$2,VLOOKUP(I39,TABDESPENGETAHUAN,2),IF($W$19=DATABASE!$B$3,VLOOKUP(I39,DESKPENGETAHUANSM1,DESKSM1!S3),\"-\")),\"-\")","v":"-"},null,null,{"$f":"IFERROR(HLOOKUP($R$2&A39&B39&$A$17,MAPELSM1,5,FALSE),\"-\")","v":0},{"$f":"VLOOKUP($X$14,TABNILSM1,NILSM1!BA7)","v":"-"},{"$f":"IFERROR(VLOOKUP(N39,TABEL_NILAI,4),\"-\")","v":"-"},{"$f":"IFERROR(IF($W$19=DATABASE!$B$2,VLOOKUP(O39,TABDESKETERAMPILAN,2),IF($W$19=DATABASE!$B$3,VLOOKUP(O39,DESKKETERAMPILANSM1,DESKSM1!S3),\"-\")),\"-\")","v":"-"}]
[null,"C3","Kompetensi Keahlian"]
["C3",1,{"$f":"IFERROR(HLOOKUP($R$2&A41&B41&$A$16,MAPELSM1,2,FALSE),\"-\")","v":"-"},null,null,null,{"$f":"IFERROR(HLOOKUP($R$2&A41&B41&$A$16,MAPELSM1,5,FALSE),\"-\")","v":0},{"$f":"VLOOKUP($X$14,TABNILSM1,NILSM1!AC7)","v":91.5},{"$f":"IFERROR(VLOOKUP(H41,TABEL_NILAI,4),\"-\")","v":"B"},{"$f":"IFERROR(IF($W$19=DATABASE!$B$2,VLOOKUP(I41,TABDESPENGETAHUAN,2),IF($W$19=DATABASE!$B$3,VLOOKUP(I41,DESKPENGETAHUANSM1,DESKSM1!S5),\"-\")),\"-\")","v":"Baik dalam memahami, menerapkan, menganalisis dan mengevaluasi sebagian besar kompetensi dasar."},null,null,{"$f":"IFERROR(HLOOKUP($R$2&A41&B41&$A$17,MAPELSM1,5,FALSE),\"-\")","v":0},{"$f":"VLOOKUP($X$14,TABNILSM1,NILSM1!BD7)","v":"-"},{"$f":"IFERROR(VLOOKUP(N41,TABEL_NILAI,4),\"-\")","v":"-"},{"$f":"IFERROR(IF($W$19=DATABASE!$B$2,VLOOKUP(O41,TABDESKETERAMPILAN,2),IF($W$19=DATABASE!$B$3,VLOOKUP(O41,DESKKETERAMPILANSM1,DESKSM1!S5),\"-\")),\"-\")","v":"-"}]
["C3",{"$f":"B41+1","v":2},"-",null,null,null,0,{"$f":"VLOOKUP($X$14,TABNILSM1,NILSM1!BF7)","v":"-"},"-",{"$f":"IFERROR(IF($W$19=DATABASE!$B$2,VLOOKUP(I42,TABDESPENGETAHUAN,2),IF($W$19=DATABASE!$B$3,VLOOKUP(I42,DESKPENGETAHUANSM1,DESKSM1!S6),\"-\")),\"-\")","v":"-"},null,null,0,{"$f":"VLOOKUP($X$14,TABNILSM1,NILSM1!BG7)","v":"-"},"-",{"$f":"IFERROR(IF($W$19=DATABASE!$B$2,VLOOKUP(O42,TABDESKETERAMPILAN,2),IF($W$19=DATABASE!$B$3,VLOOKUP(O42,DESKKETERAMPILANSM1,DESKSM1!S6),\"-\")),\"-\")","v":"-"}]
["C3",{"$f":"B42+1","v":3},"-",null,null,null,0,{"$f":"VLOOKUP($X$14,TABNILSM1,NILSM1!BI7)","v":"-"},"-",{"$f":"IFERROR(IF($W$19=DATABASE!$B$2,VLOOKUP(I43,TABDESPENGETAHUAN,2),IF($W$19=DATABASE!$B$3,VLOOKUP(I43,DESKPENGETAHUANSM1,DESKSM1!S7),\"-\")),\"-\")","v":"-"},null,null,0,{"$f":"VLOOKUP($X$14,TABNILSM1,NILSM1!BJ7)","v":"-"},"-",{"$f":"IFERROR(IF($W$19=DATABASE!$B$2,VLOOKUP(O43,TABDESKETERAMPILAN,2),IF($W$19=DATABASE!$B$3,VLOOKUP(O43,DESKKETERAMPILANSM1,DESKSM1!S7),\"-\")),\"-\")","v":"-"}]
["C3",4,"-",null,null,null,0,{"$f":"VLOOKUP($X$14,TABNILSM1,NILSM1!BL7)","v":"-"},"-",{"$f":"IFERROR(IF($W$19=DATABASE!$B$2,VLOOKUP(I44,TABDESPENGETAHUAN,2),IF($W$19=DATABASE!$B$3,VLOOKUP(I44,DESKPENGETAHUANSM1,DESKSM1!S8),\"-\")),\"-\")","v":"-"},null,null,0,{"$f":"VLOOKUP($X$14,TABNILSM1,NILSM1!BM7)","v":"-"},"-",{"$f":"IFERROR(IF($W$19=DATABASE!$B$2,VLOOKUP(O44,TABDESKETERAMPILAN,2),IF($W$19=DATABASE!$B$3,VLOOKUP(O44,DESKKETERAMPILANSM1,DESKSM1!S8),\"-\")),\"-\")","v":"-"}]
["C3",5,"-",null,null,null,0,{"$f":"VLOOKUP($X$14,TABNILSM1,NILSM1!BO7)","v":"-"},"-",{"$f":"IFERROR(IF($W$19=DATABASE!$B$2,VLOOKUP(I45,TABDESPENGETAHUAN,2),IF($W$19=DATABASE!$B$3,VLOOKUP(I45,DESKPENGETAHUANSM1,DESKSM1!S9),\"-\")),\"-\")","v":"-"},null,null,0,{"$f":"VLOOKUP($X$14,TABNILSM1,NILSM1!BP7)","v":"-"},"-",{"$f":"IFERROR(IF($W$19=DATABASE!$B$2,VLOOKUP(O45,TABDESKETERAMPILAN,2),IF($W$19=DATABASE!$B$3,VLOOKUP(O45,DESKKETERAMPILANSM1,DESKSM1!S9),\"-\")),\"-\")","v":"-"}]
["C3",6,"-",null,null,null,0,{"$f":"VLOOKUP($X$14,TABNILSM1,NILSM1!BR7)","v":"-"},"-",{"$f":"IFERROR(IF($W$19=DATABASE!$B$2,VLOOKUP(I46,TABDESPENGETAHUAN,2),IF($W$19=DATABASE!$B$3,VLOOKUP(I46,DESKPENGETAHUANSM1,DESKSM1!S10),\"-\")),\"-\")","v":"-"},null,null,0,{"$f":"VLOOKUP($X$14,TABNILSM1,NILSM1!BS7)","v":"-"},"-",{"$f":"IFERROR(IF($W$19=DATABASE!$B$2,VLOOKUP(O46,TABDESKETERAMPILAN,2),IF($W$19=DATABASE!$B$3,VLOOKUP(O46,DESKKETERAMPILANSM1,DESKSM1!S10),\"-\")),\"-\")","v":"-"}]
[null,null,"Rata-rata",null,null,null,null,{"$f":"VLOOKUP($X$14,TABNILSM1,NILSM1!DO7)","v":79},{"$f":"VLOOKUP(H47,TABEL_NILAI,4)","v":"C"},null,null,null,null,{"$f":"VLOOKUP($X$14,TABNILSM1,NILSM1!DP7)","v":79},{"$f":"VLOOKUP(N47,TABEL_NILAI,4)","v":"C"},"Total Nilai :"]
[null,null,"Jumlah Nilai",null,null,null,null,{"$f":"VLOOKUP($X$14,TABNILSM1,NILSM1!DQ7)","v":1260},null,null,null,null,null,{"$f":"VLOOKUP($X$14,TABNILSM1,NILSM1!DR7)","v":1266},null,{"$f":"VLOOKUP($X$14,TABNILSM1,NILSM1!DS7)","v":2526}]
[]
[null,"C.  Praktek Kerja Lapangan"]
[null,"No.","Mitra DU/DI",null,null,null,null,null,"Lokasi",null,null,"Lamanya (Bulan)","Keterangan"]
[null,1,{"$f":"IF(VLOOKUP($X$14,TABNILSM1,NILSM1!CQ7)=\"\",\"-\",VLOOKUP($X$14,TABNILSM1,NILSM1!CQ7))","v":"Dinas Bina Marga"},null,null,null,null,null,{"$f":"IF(VLOOKUP($X$14,TABNILSM1,NILSM1!CR7)=\"\",\"-\",VLOOKUP($X$14,TABNILSM1,NILSM1!CR7))","v":"Karawang"},null,null,{"$f":"IF(VLOOKUP($X$14,TABNILSM1,NILSM1!CS7)=\"\",\"-\",VLOOKUP($X$14,TABNILSM1,NILSM1!CS7))","v":3},{"$f":"IF(VLOOKUP($X$14,TABNILSM1,NILSM1!CT7)=\"\",\"-\",VLOOKUP($X$14,TABNILSM1,NILSM1!CT7))","v":"Baik"},{"$f":"IF(VLOOKUP($X$14,TABNILSM2,NILSM2!CU7)=\"\",\"-\",VLOOKUP($X$14,TABNILSM2,NILSM2!CU7))","v":"Dinas Perhubungan"},{"$f":"IF(VLOOKUP($X$14,TABNILSM2,NILSM2!CV7)=\"\",\"-\",VLOOKUP($X$14,TABNILSM2,NILSM2!CV7))","v":"Karawang"},{"$f":"IF(VLOOKUP($X$14,TABNILSM2,NILSM2!CW7)=\"\",\"-\",VLOOKUP($X$14,TABNILSM2,NILSM2!CW7))","v":3},{"$f":"IF(VLOOKUP($X$14,TABNILSM2,NILSM2!CX7)=\"\",\"-\",VLOOKUP($X$14,TABNILSM2,NILSM2!CX7))","v":"Sangat Baik"},{"$f":"IF(VLOOKUP($X$14,TABNILSM2,NILSM2!CY7)=\"\",\"-\",VLOOKUP($X$14,TABNILSM2,NILSM2!CY7))","v":"Rohis"}]
[null,2,{"$f":"IF(VLOOKUP($X$14,TABNILSM1,NILSM1!CU7)=\"\",\"-\",VLOOKUP($X$14,TABNILSM1,NILSM1!CU7))","v":"Dinas Perhubungan"},null,null,null,null,null,{"$f":"IF(VLOOKUP($X$14,TABNILSM1,NILSM1!CV7)=\"\",\"-\",VLOOKUP($X$14,TABNILSM1,NILSM1!CV7))","v":"Karawang"},null,null,{"$f":"IF(VLOOKUP($X$14,TABNILSM1,NILSM1!CW7)=\"\",\"-\",VLOOKUP($X$14,TABNILSM1,NILSM1!CW7))","v":3},{"$f":"IF(VLOOKUP($X$14,TABNILSM1,NILSM1!CX7)=\"\",\"-\",VLOOKUP($X$14,TABNILSM1,NILSM1!CX7))","v":"Sangat Baik"},{"$f":"IF(VLOOKUP($X$14,TABNILSM2,NILSM2!CY7)=\"\",\"-\",VLOOKUP($X$14,TABNILSM2,NILSM2!CY7))","v":"Rohis"},{"$f":"IF(VLOOKUP($X$14,TABNILSM2,NILSM2!CZ7)=\"\",\"-\",VLOOKUP($X$14,TABNILSM2,NILSM2!CZ7))","v":"B"},{"$f":"IF(VLOOKUP($X$14,TABNILSM2,NILSM2!DA7)=\"\",\"-\",VLOOKUP($X$14,TABNILSM2,NILSM2!DA7))","v":"OSIS"},{"$f":"IF(VLOOKUP($X$14,TABNILSM2,NILSM2!DB7)=\"\",\"-\",VLOOKUP($X$14,TABNILSM2,NILSM2!DB7))","v":"B"},{"$f":"IF(VLOOKUP($X$14,TABNILSM2,NILSM2!DC7)=\"\",\"-\",VLOOKUP($X$14,TABNILSM2,NILSM2!DC7))","v":"Palang Merah Remaja"}]
[]
[null,"D.  Ekstrakurikuler"]
[null,"No.","Kegiatan Ekstrakurikuler",null,null,null,null,null,null,"Keterangan"]
[null,1,{"$f":"IF(VLOOKUP($X$14,TABNILSM1,NILSM1!CY7)=\"\",\"-\",VLOOKUP($X$14,TABNILSM1,NILSM1!CY7))","v":"Rohis"},null,null,null,null,null,null,{"$f":"IF(VLOOKUP($X$14,TABNILSM1,NILSM1!CZ7)=\"\",\"-\",VLOOKUP(S57,TABNESKUL,2,FALSE))","v":"Baik, berprestasi, disiplin dan rajin berlatih"},null,null,null,null,null,null,null,null,{"$f":"VLOOKUP($X$14,TABNILSM1,NILSM1!CZ7)","v":"B"}]
[null,2,{"$f":"IF(VLOOKUP($X$14,TABNILSM1,NILSM1!DA7)=\"\",\"-\",VLOOKUP($X$14,TABNILSM1,NILSM1!DA7))","v":"OSIS"},null,null,null,null,null,null,{"$f":"IF(VLOOKUP($X$14,TABNILSM1,NILSM1!DB7)=\"\",\"-\",VLOOKUP(S58,TABNESKUL,2,FALSE))","v":"Baik, berprestasi, disiplin dan rajin berlatih"},null,null,null,null,null,null,null,null,{"$f":"VLOOKUP($X$14,TABNILSM1,NILSM1!DB7)","v":"B"}]
[null,3,{"$f":"IF(VLOOKUP($X$14,TABNILSM1,NILSM1!DC7)=\"\",\"-\",VLOOKUP($X$14,TABNILSM1,NILSM1!DC7))","v":"Palang Merah Remaja"},null,null,null,null,null,null,{"$f":"IF(VLOOKUP($X$14,TABNILSM1,NILSM1!DD7)=\"\",\"-\",VLOOKUP(S59,TABNESKUL,2,FALSE))","v":"Baik, berprestasi, disiplin dan rajin berlatih"},null,null,null,null,null,null,null,null,{"$f":"VLOOKUP($X$14,TABNILSM1,NILSM1!DD7)","v":"B"}]
[]
[null,"E.  Prestasi"]
[null,"No.","Jenis Prestasi",null,null,null,null,null,null,"Keterangan"]
[null,1,{"$f":"IF(VLOOKUP($X$14,TABNILSM1,NILSM1!DE7)=\"\",\"-\",VLOOKUP($X$14,TABNILSM1,NILSM1!DE7))","v":"Juara 1 LKS Jawa Barat"}]
[null,2,{"$f":"IF(VLOOKUP($X$14,TABNILSM1,NILSM1!DG7)=\"\",\"-\",VLOOKUP($X$14,TABNILSM1,NILSM1!DG7))","v":"-"}]
[null,null,null,null,null,null,null,null,null,null,null,null,null,null,null,null,null,null,null,null,null,null,{"$f":"VLOOKUP($X$14,TABNILSM1,NILSM1!B7)","v":"AL KINDI"}]
[null,"F.  Ketidakhadiran",null,null,null,null,null,null,"G.  Catatan Wali Kelas"]
[null,"Sakit",null,":",{"$f":"VLOOKUP($X$14,TABNILSM1,NILSM1!DI7)","v":3},null,null,null,null,null,null,null,null,null,null,null,null,"Peringkat di Kelas :",null,null,null,null,{"$f":"\"Nomor Urut \"&X14","v":"Nomor Urut 2"}]
[null,"Izin",null,":",{"$f":"VLOOKUP($X$14,TABNILSM1,NILSM1!DJ7)","v":"-"},null,null,null,null,null,null,null,null,null,null,null,null,{"$f":"IF(VLOOKUP($X$14,TABNILSM1,NILSM1!DU7)=\"\",\"-\",VLOOKUP($X$14,TABNILSM1,NILSM1!DU7)&\" dari \"&VLOOKUP($X$14,TABNILSM1,NILSM1!DV7))","v":"1 dari 36"},{"$f":"VLOOKUP($X$14,TABNILSM1,NILSM1!DW7)","v":0}]
[null,"Tanpa Keterangan",null,":",{"$f":"VLOOKUP($X$14,TABNILSM1,NILSM1!DK7)","v":"-"}]
[]
[null,"H.  Tanggapan Orang Tua/Wali"]
[]
[]
[]
[]
[]
[]
[null,null,"Mengetahui,",null,null,null,null,null,null,null,null,null,null,null,null,{"$f":"NILSM1!DX4","v":"Karawang, 15 Desember 2017"}]
[null,null,"Orang Tua/Wali,",null,null,null,null,null,null,null,null,null,null,null,null,"Wali Kelas,"]
[]
[]
[]
[]
[null,null,null,null,null,null,null,null,null,null,null,null,null,null,null,{"$f":"NILSM1!B4","v":"Sri Hartati,S.T"}]
[null,null,null,null,null,null,null,null,null,null,null,null,null,null,null,{"$f":"IF(NILSM1!A5=\"NIP\",\"NIP \"&NILSM1!B5,\"\")","v":""}]
[null,null,null,null,null,null,null,null,null,"Mengetahui :"]
[null,null,null,null,null,null,null,null,null,"Kepala Sekolah,"]
[]
[]
[]
[]
[null,null,null,null,null,null,null,null,null,{"$f":"MENU!P8","v":"Drs. Agus Rukmawan, S.IP, MM"}]
[null,null,null,null,null,null,null,null,null,{"$f":"\"NIP \"&MENU!P9","v":"NIP 19611111 198603 1 008"}]

{"sheet":"CETSM2","index":20,"n_rows":93,"n_cols":24,"rows_kept":93,"cut":false,"hidden":false,"merged":[[10,1,12,1],[10,2,12,5],[10,6,12,17],[12,22,12,23],[13,22,14,22],[13,23,14,23],[5,22,5,23],[6,22,7,22],[6,23,7,23],[7,2,7,5],[7,6,7,17],[8,1,9,1],[8,2,9,5],[8,6,9,17],[8,22,9,22],[8,23,9,23],[17,22,17,23],[18,2,18,5],[18,9,18,11],[18,15,18,17],[18,22,18,23],[19,2,19,5],[19,9,19,11],[19,15,19,17],[15,1,16,1],[15,2,16,5],[15,6,15,11],[15,12,15,17],[16,9,16,11],[16,15,16,17],[17,1,17,2],[22,2,22,5],[22,9,22,11],[22,15,22,17],[23,2,23,5],[23,9,23,11],[23,15,23,17],[20,2,20,5],[20,9,20,11],[20,15,20,17],[21,2,21,5],[21,9,21,11],[21,15,21,17],[28,2,28,5],[28,9,28,11],[28,15,28,17],[29,1,29,5],[31,2,31,5],[31,9,31,11],[31,15,31,17],[24,1,24,5],[25,2,25,5],[25,9,25,11],[25,15,25,17],[26,2,26,5],[26,9,26,11],[26,15,26,17],[27,2,27,5],[27,9,27,11],[27,15,27,17],[35,2,35,5],[35,9,35,11],[35,15,35,17],[36,2,36,5],[36,9,36,11],[36,15,36,17],[32,2,32,5],[32,9,32,11],[32,15,32,17],[33,2,33,5],[33,9,33,11],[33,15,33,17],[40,2,40,5],[40,9,40,11],[40,15,40,17],[41,2,41,5],[41,9,41,11],[41,15,41,17],[37,2,37,5],[37,9,37,11],[37,15,37,17],[38,2,38,5],[38,9,38,11],[38,15,38,17],[44,2,44,5],[44,9,44,11],[44,15,44,17],[45,2,45,5],[45,9,45,11],[45,15,45,17],[42,2,42,5],[42,9,42,11],[42,15,42,17],[43,2,43,5],[43,9,43,11],[43,15,43,17],[50,2,50,7],[50,8,50,10],[50,12,50,17],[51,2,51,7],[51,8,51,10],[51,12,51,17],[46,2,46,6],[46,15,46,17],[47,2,47,6],[47,7,47,8],[47,13,47,14],[47,15,47,17],[52,2,52,7],[52,8,52,10],[52,12,52,17],[55,2,55,8],[55,9,55,17],[56,2,56,8],[56,9,56,17],[62,2,62,8],[62,9,62,17],[64,22,65,24],[66,4,66,6],[66,22,67,24],[67,4,67,6],[67,17,68,17],[68,4,68,6],[71,1,74,13],[57,2,57,8],[57,9,57,17],[58,2,58,8],[58,9,58,17],[61,2,61,8],[61,9,61,17],[63,2,63,8],[63,9,63,17]]}
[null,"Nama Sekolah",null,":","SMKN 1 KARAWANG",null,null,null,null,null,null,null,null,null,"Kelas",null,":",{"$f":"IF(OR(R2=\"1 (satu)\",R2=\"2 (dua)\"),\"X \"&MENU!I9,IF(OR(R2=\"3 (tiga)\",R2=\"4 (empat)\"),\"XI \"&MENU!I9,IF(OR(R2=\"5 (lima)\",R2=\"6 (enam)\"),\"XII \"&MENU!I9,\"\")))","v":"X TKRO 1"}]
[null,"Alamat",null,":","Jl. Pangkal Perjuangan By Pass Karawang",null,null,null,null,null,null,null,null,null,"Semester",null,":",{"$f":"NILSM2!B3","v":"2 (dua)"}]
[null,"Nama Siswa",null,":",{"$f":"VLOOKUP($X$14,TABNILSM2,NILSM2!B7)","v":"ALFIANA WAHYU ATMADJA"},null,null,null,null,null,null,null,null,null,"Tahun Pelajaran",null,":",{"$f":"RIGHT(NILSM2!A2,11)","v":"2017 / 2018"}]
[null,"Nomor Induk/NISN",null,":",{"$f":"IF(VLOOKUP($X$14,TABBIODATA,BIODATA!E4)=\"\",VLOOKUP($X$14,TABBIODATA,BIODATA!D4),VLOOKUP($X$14,TABBIODATA,BIODATA!D4)&\" / \"&VLOOKUP($X$14,TABBIODATA,BIODATA!E4))","v":"13140770 / 9984877758"}]
[]
[null,"CAPAIAN HASIL BELAJAR",null,null,null,null,null,null,null,null,null,null,null,null,null,null,null,null,null,null,null,null,"HALAMAN CETAK"]
[null,"A.  Sikap",null,null,null,null,null,null,null,null,null,null,null,null,null,null,null,null,null,null,null,null,"Dari data ke",2]
[null,"No.","Kompetensi Inti",null,null,null,"Deskripsi"]
[null,"1","Sikap Spiritual",null,null,null,{"$f":"IFERROR(VLOOKUP(S9,TABDESSPIRITUAL,2),\"-\")","v":"Baik, dapat menerima, menjalankan, menghargai, menghayati dan mengamalkan ajaran agama yang dianut."},null,null,null,null,null,null,null,null,null,null,null,{"$f":"VLOOKUP($X$14,TABNILSM2,NILSM2!DL7)","v":"B"},null,null,null,"Sampai data ke",2]
[]
[null,2,"Sikap Sosial",null,null,null,{"$f":"IFERROR(VLOOKUP(S11,TABDESSOSIAL,2),\"-\")","v":"Sudah menunjukkan konsisten menerapkan sikap jujur, santun dan toleran dalam pergaulan, disiplin, kerjasama dalam kelompok dan tanggungjawab dalam keseharian sebagai hasil pembelajaran di sekolah. Tingkatkan sikap-sikap positif tersebut agar lebih baik."},null,null,null,null,null,null,null,null,null,null,null,{"$f":"VLOOKUP($X$14,TABNILSM2,NILSM2!DM7)","v":"B"}]
[]
[null,null,null,null,null,null,null,null,null,null,null,null,null,null,null,null,null,null,null,null,null,null,"TAMPILAN DATA"]
[null,null,null,null,null,null,null,null,null,null,null,null,null,null,null,null,null,null,null,null,null,null,"Nomor Urut",4]
[null,"B.  Pengetahuan dan Keterampilan"]
["P","No.","Mata Pelajaran",null,null,null,"Pengetahuan",null,null,null,null,null,"Keterampilan"]
["K",null,null,null,null,null,"KKM","Angka","Predikat","Deskripsi",null,null,"KKM","Angka","Predikat","Deskripsi"]
[null,"Muatan Nasional",null,null,null,null,null,null,null,null,null,null,null,null,null,null,null,null,null,null,null,null,"PILIHAN DESKRIPSI"]
["A",1,{"$f":"IFERROR(HLOOKUP($R$2&A19&B19&$A$16,MAPELSM2,2,FALSE),\"-\")","v":"Pendidikan Agama dan Budi Pekerti"},null,null,null,{"$f":"IFERROR(HLOOKUP($R$2&A19&B19&$A$16,MAPELSM2,5,FALSE),\"-\")","v":75},{"$f":"VLOOKUP($X$14,TABNILSM2,NILSM2!D7)","v":75},{"$f":"IFERROR(VLOOKUP(H19,TABEL_NILAI,4),\"-\")","v":"D"},{"$f":"IFERROR(IF($W$19=DATABASE!$B$2,VLOOKUP(I19,TABDESPENGETAHUAN,2),IF($W$19=DATABASE!$B$3,VLOOKUP(I19,DESKPENGETAHUANSM2,DESKSM2!D3),\"-\")),\"-\")","v":"Kurang dapat memahami, hanya bisa menerapkan, menganalisis, dan mengeveluasi sebagian kecil kompetensi dasar."},null,null,{"$f":"IFERROR(HLOOKUP($R$2&A19&B19&$A$17,MAPELSM2,5,FALSE),\"-\")","v":75},{"$f":"VLOOKUP($X$14,TABNILSM2,NILSM2!E7)","v":75},{"$f":"IFERROR(VLOOKUP(N19,TABEL_NILAI,4),\"-\")","v":"D"},{"$f":"IFERROR(IF($W$19=DATABASE!$B$2,VLOOKUP(O19,TABDESKETERAMPILAN,2),IF($W$19=DATABASE!$B$3,VLOOKUP(O19,DESKKETERAMPILANSM2,DESKSM2!D3),\"-\")),\"-\")","v":"Kurang aktif bertanya, mencoba, menalar dan kreatif dalam menyelesaikan tugas praktek."},null,null,null,null,null,null,"OTOMATIS"]
["A",{"$f":"B19+1","v":2},"Pendidikan Pancasila dan Kewarganegaraan",null,null,null,75,{"$f":"VLOOKUP($X$14,TABNILSM2,NILSM2!G7)","v":83.25},{"$f":"IFERROR(VLOOKUP(H20,TABEL_NILAI,4),\"-\")","v":"C"},{"$f":"IFERROR(IF($W$19=DATABASE!$B$2,VLOOKUP(I20,TABDESPENGETAHUAN,2),IF($W$19=DATABASE!$B$3,VLOOKUP(I20,DESKPENGETAHUANSM2,DESKSM2!E3),\"-\")),\"-\")","v":"Cukup baik memahami sebagian kompetensi dasar, tetapi kurang bisa menerapkan, menganalisis dan mengevaluasinya."},null,null,75,{"$f":"VLOOKUP($X$14,TABNILSM2,NILSM2!H7)","v":83.25},"C",{"$f":"IFERROR(IF($W$19=DATABASE!$B$2,VLOOKUP(O20,TABDESKETERAMPILAN,2),IF($W$19=DATABASE!$B$3,VLOOKUP(O20,DESKKETERAMPILANSM2,DESKSM2!E3),\"-\")),\"-\")","v":"Cukup aktif bertanya, mencoba, menalar dan kreatif dalam menyelesaikan tugas praktek"}]
["A",3,"Bahasa Indonesia",null,null,null,75,{"$f":"VLOOKUP($X$14,TABNILSM2,NILSM2!J7)","v":75},"D",{"$f":"IFERROR(IF($W$19=DATABASE!$B$2,VLOOKUP(I21,TABDESPENGETAHUAN,2),IF($W$19=DATABASE!$B$3,VLOOKUP(I21,DESKPENGETAHUANSM2,DESKSM2!F3),\"-\")),\"-\")","v":"Kurang dapat memahami, hanya bisa menerapkan, menganalisis, dan mengeveluasi sebagian kecil kompetensi dasar."},null,null,75,{"$f":"VLOOKUP($X$14,TABNILSM2,NILSM2!K7)","v":75},"D",{"$f":"IFERROR(IF($W$19=DATABASE!$B$2,VLOOKUP(O21,TABDESKETERAMPILAN,2),IF($W$19=DATABASE!$B$3,VLOOKUP(O21,DESKKETERAMPILANSM2,DESKSM2!F3),\"-\")),\"-\")","v":"Kurang aktif bertanya, mencoba, menalar dan kreatif dalam menyelesaikan tugas praktek."}]
["A",{"$f":"B21+1","v":4},"Matematika",null,null,null,75,{"$f":"VLOOKUP($X$14,TABNILSM2,NILSM2!M7)","v":75},"D",{"$f":"IFERROR(IF($W$19=DATABASE!$B$2,VLOOKUP(I22,TABDESPENGETAHUAN,2),IF($W$19=DATABASE!$B$3,VLOOKUP(I22,DESKPENGETAHUANSM2,DESKSM2!G3),\"-\")),\"-\")","v":"Kurang dapat memahami, hanya bisa menerapkan, menganalisis, dan mengeveluasi sebagian kecil kompetensi dasar."},null,null,75,{"$f":"VLOOKUP($X$14,TABNILSM2,NILSM2!N7)","v":75},"D",{"$f":"IFERROR(IF($W$19=DATABASE!$B$2,VLOOKUP(O22,TABDESKETERAMPILAN,2),IF($W$19=DATABASE!$B$3,VLOOKUP(O22,DESKKETERAMPILANSM2,DESKSM2!G3),\"-\")),\"-\")","v":"Kurang aktif bertanya, mencoba, menalar dan kreatif dalam menyelesaikan tugas praktek."}]
["A",5,"Sejarah Indonesia",null,null,null,75,{"$f":"VLOOKUP($X$14,TABNILSM2,NILSM2!P7)","v":75},"D",{"$f":"IFERROR(IF($W$19=DATABASE!$B$2,VLOOKUP(I23,TABDESPENGETAHUAN,2),IF($W$19=DATABASE!$B$3,VLOOKUP(I23,DESKPENGETAHUANSM2,DESKSM2!H3),\"-\")),\"-\")","v":"Kurang dapat memahami, hanya bisa menerapkan, menganalisis, dan mengeveluasi sebagian kecil kompetensi dasar."},null,null,75,{"$f":"VLOOKUP($X$14,TABNILSM2,NILSM2!Q7)","v":75},"D",{"$f":"IFERROR(IF($W$19=DATABASE!$B$2,VLOOKUP(O23,TABDESKETERAMPILAN,2),IF($W$19=DATABASE!$B$3,VLOOKUP(O23,DESKKETERAMPILANSM2,DESKSM2!H3),\"-\")),\"-\")","v":"Kurang aktif bertanya, mencoba, menalar dan kreatif dalam menyelesaikan tugas praktek."}]
["A",6,"Bahasa Inggris",null,null,null,75,{"$f":"VLOOKUP($X$14,TABNILSM2,NILSM2!S7)","v":75},"D",{"$f":"IFERROR(IF($W$19=DATABASE!$B$2,VLOOKUP(I24,TABDESPENGETAHUAN,2),IF($W$19=DATABASE!$B$3,VLOOKUP(I24,DESKPENGETAHUANSM2,DESKSM2!I3),\"-\")),\"-\")","v":"Kurang dapat memahami, hanya bisa menerapkan, menganalisis, dan mengeveluasi sebagian kecil kompetensi dasar."},null,null,75,{"$f":"VLOOKUP($X$14,TABNILSM2,NILSM2!T7)","v":75},"D",{"$f":"IFERROR(IF($W$19=DATABASE!$B$2,VLOOKUP(O24,TABDESKETERAMPILAN,2),IF($W$19=DATABASE!$B$3,VLOOKUP(O24,DESKKETERAMPILANSM2,DESKSM2!I3),\"-\")),\"-\")","v":"Kurang aktif bertanya, mencoba, menalar dan kreatif dalam menyelesaikan tugas praktek."}]
[null,"Muatan Kewilayahan"]
["B",{"$f":"NILSM2!V4","v":1},{"$f":"IFERROR(HLOOKUP($R$2&A26&B26&$A$16,MAPELSM2,2,FALSE),\"-\")","v":"Seni Budaya"},null,null,null,{"$f":"IFERROR(HLOOKUP($R$2&A26&B26&$A$16,MAPELSM2,5,FALSE),\"-\")","v":75},{"$f":"VLOOKUP($X$14,TABNILSM2,NILSM2!V7)","v":91.5},{"$f":"IFERROR(VLOOKUP(H26,TABEL_NILAI,4),\"-\")","v":"B"},{"$f":"IFERROR(IF($W$19=DATABASE!$B$2,VLOOKUP(I26,TABDESPENGETAHUAN,2),IF($W$19=DATABASE!$B$3,VLOOKUP(I26,DESKPENGETAHUANSM2,DESKSM2!I5),\"-\")),\"-\")","v":"Baik dalam memahami, menerapkan, menganalisis dan mengevaluasi sebagian besar kompetensi dasar."},null,null,{"$f":"IFERROR(HLOOKUP($R$2&A26&B26&$A$17,MAPELSM2,5,FALSE),\"-\")","v":75},{"$f":"VLOOKUP($X$14,TABNILSM2,NILSM2!W7)","v":75},{"$f":"IFERROR(VLOOKUP(N26,TABEL_NILAI,4),\"-\")","v":"D"},{"$f":"IFERROR(IF($W$19=DATABASE!$B$2,VLOOKUP(O26,TABDESKETERAMPILAN,2),IF($W$19=DATABASE!$B$3,VLOOKUP(O26,DESKKETERAMPILANSM2,DESKSM2!I5),\"-\")),\"-\")","v":"Kurang aktif bertanya, mencoba, menalar dan kreatif dalam menyelesaikan tugas praktek."}]
["B",{"$f":"B26+1","v":2},{"$f":"IFERROR(HLOOKUP($R$2&A27&B27&$A$16,MAPELSM2,2,FALSE),\"-\")","v":"Pendidikan Jasmani, Olah Raga & Kesehatan"},null,null,null,{"$f":"IFERROR(HLOOKUP($R$2&A27&B27&$A$16,MAPELSM2,5,FALSE),\"-\")","v":75},{"$f":"VLOOKUP($X$14,TABNILSM2,NILSM2!Y7)","v":83.25},{"$f":"IFERROR(VLOOKUP(H27,TABEL_NILAI,4),\"-\")","v":"C"},{"$f":"IFERROR(IF($W$19=DATABASE!$B$2,VLOOKUP(I27,TABDESPENGETAHUAN,2),IF($W$19=DATABASE!$B$3,VLOOKUP(I27,DESKPENGETAHUANSM2,DESKSM2!I6),\"-\")),\"-\")","v":"Cukup baik memahami sebagian kompetensi dasar, tetapi kurang bisa menerapkan, menganalisis dan mengevaluasinya."},null,null,{"$f":"IFERROR(HLOOKUP($R$2&A27&B27&$A$17,MAPELSM2,5,FALSE),\"-\")","v":75},{"$f":"VLOOKUP($X$14,TABNILSM2,NILSM2!Z7)","v":83.25},{"$f":"IFERROR(VLOOKUP(N27,TABEL_NILAI,4),\"-\")","v":"C"},{"$f":"IFERROR(IF($W$19=DATABASE!$B$2,VLOOKUP(O27,TABDESKETERAMPILAN,2),IF($W$19=DATABASE!$B$3,VLOOKUP(O27,DESKKETERAMPILANSM2,DESKSM2!I6),\"-\")),\"-\")","v":"Cukup aktif bertanya, mencoba, menalar dan kreatif dalam menyelesaikan tugas praktek"}]
["B",3,{"$f":"IFERROR(HLOOKUP($R$2&A28&B28&$A$16,MAPELSM2,2,FALSE),\"-\")","v":"Bahasa dan Sastra Sunda"},null,null,null,{"$f":"IFERROR(HLOOKUP($R$2&A28&B28&$A$16,MAPELSM2,5,FALSE),\"-\")","v":75},{"$f":"VLOOKUP($X$14,TABNILSM2,NILSM2!AB7)","v":83.25},"C",{"$f":"IFERROR(IF($W$19=DATABASE!$B$2,VLOOKUP(I28,TABDESPENGETAHUAN,2),IF($W$19=DATABASE!$B$3,VLOOKUP(I28,DESKPENGETAHUANSM2,DESKSM2!I7),\"-\")),\"-\")","v":"Cukup baik memahami sebagian kompetensi dasar, tetapi kurang bisa menerapkan, menganalisis dan mengevaluasinya."},null,null,{"$f":"IFERROR(HLOOKUP($R$2&A28&B28&$A$17,MAPELSM2,5,FALSE),\"-\")","v":75},{"$f":"VLOOKUP($X$14,TABNILSM2,NILSM2!AC7)","v":91.5},"B",{"$f":"IFERROR(IF($W$19=DATABASE!$B$2,VLOOKUP(O28,TABDESKETERAMPILAN,2),IF($W$19=DATABASE!$B$3,VLOOKUP(O28,DESKKETERAMPILANSM2,DESKSM2!I7),\"-\")),\"-\")","v":"Baik dan aktif bertanya, mencoba, menalar dan kreatif dalam menyelesaikan sebagian besar tugas praktek."}]
["B",4,{"$f":"IFERROR(HLOOKUP($R$2&A29&B29&$A$16,MAPELSM2,2,FALSE),\"-\")","v":"PLH"},null,null,null,{"$f":"IFERROR(HLOOKUP($R$2&A29&B29&$A$16,MAPELSM2,5,FALSE),\"-\")","v":75},{"$f":"VLOOKUP($X$14,TABNILSM2,NILSM2!AE7)","v":75},{"$f":"IFERROR(VLOOKUP(H29,TABEL_NILAI,4),\"-\")","v":"D"},{"$f":"IFERROR(IF($W$19=DATABASE!$B$2,VLOOKUP(I29,TABDESPENGETAHUAN,2),IF($W$19=DATABASE!$B$3,VLOOKUP(I29,DESKPENGETAHUANSM2,DESKSM2!I8),\"-\")),\"-\")","v":"Kurang dapat memahami, hanya bisa menerapkan, menganalisis, dan mengeveluasi sebagian kecil kompetensi dasar."},null,null,{"$f":"IFERROR(HLOOKUP($R$2&A29&B29&$A$17,MAPELSM2,5,FALSE),\"-\")","v":75},{"$f":"VLOOKUP($X$14,TABNILSM2,NILSM2!AF7)","v":83.25},{"$f":"IFERROR(VLOOKUP(N29,TABEL_NILAI,4),\"-\")","v":"C"},{"$f":"IFERROR(IF($W$19=DATABASE!$B$2,VLOOKUP(O29,TABDESKETERAMPILAN,2),IF($W$19=DATABASE!$B$3,VLOOKUP(O29,DESKKETERAMPILANSM2,DESKSM2!I8),\"-\")),\"-\")","v":"Cukup aktif bertanya, mencoba, menalar dan kreatif dalam menyelesaikan tugas praktek"}]
[null,"Muatan Peminatan Kejuruan"]
[null,"C1","Dasar Bidang Keahlian"]
["C1",1,{"$f":"IFERROR(HLOOKUP($R$2&A32&B32&$A$16,MAPELSM2,2,FALSE),\"-\")","v":"Simulasi dan Komunikasi Digital"},null,null,null,{"$f":"IFERROR(HLOOKUP($R$2&A32&B32&$A$16,MAPELSM2,5,FALSE),\"-\")","v":75},{"$f":"VLOOKUP($X$14,TABNILSM2,NILSM2!AH7)","v":75},{"$f":"IFERROR(VLOOKUP(H32,TABEL_NILAI,4),\"-\")","v":"D"},{"$f":"IFERROR(IF($W$19=DATABASE!$B$2,VLOOKUP(I32,TABDESPENGETAHUAN,2),IF($W$19=DATABASE!$B$3,VLOOKUP(I32,DESKPENGETAHUANSM2,DESKSM2!I11),\"-\")),\"-\")","v":"Kurang dapat memahami, hanya bisa menerapkan, menganalisis, dan mengeveluasi sebagian kecil kompetensi dasar."},null,null,{"$f":"IFERROR(HLOOKUP($R$2&A32&B32&$A$17,MAPELSM2,5,FALSE),\"-\")","v":75},{"$f":"VLOOKUP($X$14,TABNILSM2,NILSM2!AI7)","v":75},{"$f":"IFERROR(VLOOKUP(N32,TABEL_NILAI,4),\"-\")","v":"D"},{"$f":"IFERROR(IF($W$19=DATABASE!$B$2,VLOOKUP(O32,TABDESKETERAMPILAN,2),IF($W$19=DATABASE!$B$3,VLOOKUP(O32,DESKKETERAMPILANSM2,DESKSM2!I11),\"-\")),\"-\")","v":"Kurang aktif bertanya, mencoba, menalar dan kreatif dalam menyelesaikan tugas praktek."}]
["C1",{"$f":"B32+1","v":2},{"$f":"IFERROR(HLOOKUP($R$2&A33&B33&$A$16,MAPELSM2,2,FALSE),\"-\")","v":"Fisika"},null,null,null,{"$f":"IFERROR(HLOOKUP($R$2&A33&B33&$A$16,MAPELSM2,5,FALSE),\"-\")","v":75},{"$f":"VLOOKUP($X$14,TABNILSM2,NILSM2!AK7)","v":83.25},"C",{"$f":"IFERROR(IF($W$19=DATABASE!$B$2,VLOOKUP(I33,TABDESPENGETAHUAN,2),IF($W$19=DATABASE!$B$3,VLOOKUP(I33,DESKPENGETAHUANSM2,DESKSM2!I12),\"-\")),\"-\")","v":"Cukup baik memahami sebagian kompetensi dasar, tetapi kurang bisa menerapkan, menganalisis dan mengevaluasinya."},null,null,{"$f":"IFERROR(HLOOKUP($R$2&A33&B33&$A$17,MAPELSM2,5,FALSE),\"-\")","v":75},{"$f":"VLOOKUP($X$14,TABNILSM2,NILSM2!AL7)","v":83.25},"C",{"$f":"IFERROR(IF($W$19=DATABASE!$B$2,VLOOKUP(O33,TABDESKETERAMPILAN,2),IF($W$19=DATABASE!$B$3,VLOOKUP(O33,DESKKETERAMPILANSM2,DESKSM2!I12),\"-\")),\"-\")","v":"Cukup aktif bertanya, mencoba, menalar dan kreatif dalam menyelesaikan tugas praktek"}]
["C1",3,{"$f":"IFERROR(HLOOKUP($R$2&A34&B34&$A$16,MAPELSM2,2,FALSE),\"-\")","v":"Kimia"},null,null,null,{"$f":"IFERROR(HLOOKUP($R$2&A34&B34&$A$16,MAPELSM2,5,FALSE),\"-\")","v":75},{"$f":"VLOOKUP($X$14,TABNILSM2,NILSM2!AN7)","v":83.25},"C",{"$f":"IFERROR(IF($W$19=DATABASE!$B$2,VLOOKUP(I34,TABDESPENGETAHUAN,2),IF($W$19=DATABASE!$B$3,VLOOKUP(I34,DESKPENGETAHUANSM2,DESKSM2!I13),\"-\")),\"-\")","v":"Cukup baik memahami sebagian kompetensi dasar, tetapi kurang bisa menerapkan, menganalisis dan mengevaluasinya."},null,null,{"$f":"IFERROR(HLOOKUP($R$2&A34&B34&$A$17,MAPELSM2,5,FALSE),\"-\")","v":75},{"$f":"VLOOKUP($X$14,TABNILSM2,NILSM2!AO7)","v":75},"D",{"$f":"IFERROR(IF($W$19=DATABASE!$B$2,VLOOKUP(O34,TABDESKETERAMPILAN,2),IF($W$19=DATABASE!$B$3,VLOOKUP(O34,DESKKETERAMPILANSM2,DESKSM2!I13),\"-\")),\"-\")","v":"Kurang aktif bertanya, mencoba, menalar dan kreatif dalam menyelesaikan tugas praktek."}]
[null,"C2","Dasar Program Keahlian"]
["C2",4,{"$f":"IFERROR(HLOOKUP($R$2&A36&B36&$A$16,MAPELSM2,2,FALSE),\"-\")","v":"Sistem Komputer"},null,null,null,{"$f":"IFERROR(HLOOKUP($R$2&A36&B36&$A$16,MAPELSM2,5,FALSE),\"-\")","v":75},{"$f":"VLOOKUP($X$14,TABNILSM2,NILSM2!AQ7)","v":75},{"$f":"IFERROR(VLOOKUP(H36,TABEL_NILAI,4),\"-\")","v":"D"},{"$f":"IFERROR(IF($W$19=DATABASE!$B$2,VLOOKUP(I36,TABDESPENGETAHUAN,2),IF($W$19=DATABASE!$B$3,VLOOKUP(I36,DESKPENGETAHUANSM2,DESKSM2!I15),\"-\")),\"-\")","v":"Kurang dapat memahami, hanya bisa menerapkan, menganalisis, dan mengeveluasi sebagian kecil kompetensi dasar."},null,null,{"$f":"IFERROR(HLOOKUP($R$2&A36&B36&$A$17,MAPELSM2,5,FALSE),\"-\")","v":75},{"$f":"VLOOKUP($X$14,TABNILSM2,NILSM2!AR7)","v":75},{"$f":"IFERROR(VLOOKUP(N36,TABEL_NILAI,4),\"-\")","v":"D"},{"$f":"IFERROR(IF($W$19=DATABASE!$B$2,VLOOKUP(O36,TABDESKETERAMPILAN,2),IF($W$19=DATABASE!$B$3,VLOOKUP(O36,DESKKETERAMPILANSM2,DESKSM2!I15),\"-\")),\"-\")","v":"Kurang aktif bertanya, mencoba, menalar dan kreatif dalam menyelesaikan tugas praktek."}]
["C2",{"$f":"B36+1","v":5},{"$f":"IFERROR(HLOOKUP($R$2&A37&B37&$A$16,MAPELSM2,2,FALSE),\"-\")","v":"Komputer dan Jaringan Dasar"},null,null,null,{"$f":"IFERROR(HLOOKUP($R$2&A37&B37&$A$16,MAPELSM2,5,FALSE),\"-\")","v":75},{"$f":"VLOOKUP($X$14,TABNILSM2,NILSM2!AT7)","v":75},"D",{"$f":"IFERROR(IF($W$19=DATABASE!$B$2,VLOOKUP(I37,TABDESPENGETAHUAN,2),IF($W$19=DATABASE!$B$3,VLOOKUP(I37,DESKPENGETAHUANSM2,DESKSM2!I16),\"-\")),\"-\")","v":"Kurang dapat memahami, hanya bisa menerapkan, menganalisis, dan mengeveluasi sebagian kecil kompetensi dasar."},null,null,{"$f":"IFERROR(HLOOKUP($R$2&A37&B37&$A$17,MAPELSM2,5,FALSE),\"-\")","v":75},{"$f":"VLOOKUP($X$14,TABNILSM2,NILSM2!AU7)","v":83.25},"C",{"$f":"IFERROR(IF($W$19=DATABASE!$B$2,VLOOKUP(O37,TABDESKETERAMPILAN,2),IF($W$19=DATABASE!$B$3,VLOOKUP(O37,DESKKETERAMPILANSM2,DESKSM2!I16),\"-\")),\"-\")","v":"Cukup aktif bertanya, mencoba, menalar dan kreatif dalam menyelesaikan tugas praktek"}]
["C2",6,{"$f":"IFERROR(HLOOKUP($R$2&A38&B38&$A$16,MAPELSM2,2,FALSE),\"-\")","v":"Pemrograman Dasar"},null,null,null,{"$f":"IFERROR(HLOOKUP($R$2&A38&B38&$A$16,MAPELSM2,5,FALSE),\"-\")","v":75},{"$f":"VLOOKUP($X$14,TABNILSM2,NILSM2!AW7)","v":75},"D",{"$f":"IFERROR(IF($W$19=DATABASE!$B$2,VLOOKUP(I38,TABDESPENGETAHUAN,2),IF($W$19=DATABASE!$B$3,VLOOKUP(I38,DESKPENGETAHUANSM2,DESKSM2!I17),\"-\")),\"-\")","v":"Kurang dapat memahami, hanya bisa menerapkan, menganalisis, dan mengeveluasi sebagian kecil kompetensi dasar."},null,null,{"$f":"IFERROR(HLOOKUP($R$2&A38&B38&$A$17,MAPELSM2,5,FALSE),\"-\")","v":75},{"$f":"VLOOKUP($X$14,TABNILSM2,NILSM2!AX7)","v":75},"D",{"$f":"IFERROR(IF($W$19=DATABASE!$B$2,VLOOKUP(O38,TABDESKETERAMPILAN,2),IF($W$19=DATABASE!$B$3,VLOOKUP(O38,DESKKETERAMPILANSM2,DESKSM2!I17),\"-\")),\"-\")","v":"Kurang aktif bertanya, mencoba, menalar dan kreatif dalam menyelesaikan tugas praktek."}]
["C2",7,{"$f":"IFERROR(HLOOKUP($R$2&A39&B39&$A$16,MAPELSM2,2,FALSE),\"-\")","v":"Dasar Desain Grafis"},null,null,null,{"$f":"IFERROR(HLOOKUP($R$2&A39&B39&$A$16,MAPELSM2,5,FALSE),\"-\")","v":75},{"$f":"VLOOKUP($X$14,TABNILSM2,NILSM2!AZ7)","v":"-"},{"$f":"IFERROR(VLOOKUP(H39,TABEL_NILAI,4),\"-\")","v":"-"},{"$f":"IFERROR(IF($W$19=DATABASE!$B$2,VLOOKUP(I39,TABDESPENGETAHUAN,2),IF($W$19=DATABASE!$B$3,VLOOKUP(I39,DESKPENGETAHUANSM2,DESKSM2!I18),\"-\")),\"-\")","v":"-"},null,null,{"$f":"IFERROR(HLOOKUP($R$2&A39&B39&$A$17,MAPELSM2,5,FALSE),\"-\")","v":75},{"$f":"VLOOKUP($X$14,TABNILSM2,NILSM2!BA7)","v":"-"},{"$f":"IFERROR(VLOOKUP(N39,TABEL_NILAI,4),\"-\")","v":"-"},{"$f":"IFERROR(IF($W$19=DATABASE!$B$2,VLOOKUP(O39,TABDESKETERAMPILAN,2),IF($W$19=DATABASE!$B$3,VLOOKUP(O39,DESKKETERAMPILANSM2,DESKSM2!I18),\"-\")),\"-\")","v":"-"}]
[null,"C3","Paket Keahlian"]
["C3",1,{"$f":"IFERROR(HLOOKUP($R$2&A41&B41&$A$16,MAPELSM2,2,FALSE),\"-\")","v":"-"},null,null,null,{"$f":"IFERROR(HLOOKUP($R$2&A41&B41&$A$16,MAPELSM2,5,FALSE),\"-\")","v":75},{"$f":"VLOOKUP($X$14,TABNILSM2,NILSM2!BC7)","v":"-"},{"$f":"IFERROR(VLOOKUP(H41,TABEL_NILAI,4),\"-\")","v":"-"},{"$f":"IFERROR(IF($W$19=DATABASE!$B$2,VLOOKUP(I41,TABDESPENGETAHUAN,2),IF($W$19=DATABASE!$B$3,VLOOKUP(I41,DESKPENGETAHUANSM2,DESKSM2!I20),\"-\")),\"-\")","v":"-"},null,null,{"$f":"IFERROR(HLOOKUP($R$2&A41&B41&$A$17,MAPELSM2,5,FALSE),\"-\")","v":75},{"$f":"VLOOKUP($X$14,TABNILSM2,NILSM2!BD7)","v":"-"},{"$f":"IFERROR(VLOOKUP(N41,TABEL_NILAI,4),\"-\")","v":"-"},{"$f":"IFERROR(IF($W$19=DATABASE!$B$2,VLOOKUP(O41,TABDESKETERAMPILAN,2),IF($W$19=DATABASE!$B$3,VLOOKUP(O41,DESKKETERAMPILANSM2,DESKSM2!I20),\"-\")),\"-\")","v":"-"}]
["C3",{"$f":"B41+1","v":2},"-",null,null,null,75,{"$f":"VLOOKUP($X$14,TABNILSM2,NILSM2!BF7)","v":"-"},"-",{"$f":"IFERROR(IF($W$19=DATABASE!$B$2,VLOOKUP(I42,TABDESPENGETAHUAN,2),IF($W$19=DATABASE!$B$3,VLOOKUP(I42,DESKPENGETAHUANSM2,DESKSM2!I21),\"-\")),\"-\")","v":"-"},null,null,75,{"$f":"VLOOKUP($X$14,TABNILSM2,NILSM2!BG7)","v":"-"},"-",{"$f":"IFERROR(IF($W$19=DATABASE!$B$2,VLOOKUP(O42,TABDESKETERAMPILAN,2),IF($W$19=DATABASE!$B$3,VLOOKUP(O42,DESKKETERAMPILANSM2,DESKSM2!I21),\"-\")),\"-\")","v":"-"}]
["C3",3,"-",null,null,null,75,{"$f":"VLOOKUP($X$14,TABNILSM2,NILSM2!BI7)","v":"-"},"-",{"$f":"IFERROR(IF($W$19=DATABASE!$B$2,VLOOKUP(I43,TABDESPENGETAHUAN,2),IF($W$19=DATABASE!$B$3,VLOOKUP(I43,DESKPENGETAHUANSM2,DESKSM2!I22),\"-\")),\"-\")","v":"-"},null,null,75,{"$f":"VLOOKUP($X$14,TABNILSM2,NILSM2!BJ7)","v":"-"},"-",{"$f":"IFERROR(IF($W$19=DATABASE!$B$2,VLOOKUP(O43,TABDESKETERAMPILAN,2),IF($W$19=DATABASE!$B$3,VLOOKUP(O43,DESKKETERAMPILANSM2,DESKSM2!I22),\"-\")),\"-\")","v":"-"}]
["C3",4,"-",null,null,null,75,{"$f":"VLOOKUP($X$14,TABNILSM2,NILSM2!BL7)","v":"-"},"-",{"$f":"IFERROR(IF($W$19=DATABASE!$B$2,VLOOKUP(I44,TABDESPENGETAHUAN,2),IF($W$19=DATABASE!$B$3,VLOOKUP(I44,DESKPENGETAHUANSM2,DESKSM2!I23),\"-\")),\"-\")","v":"-"},null,null,75,{"$f":"VLOOKUP($X$14,TABNILSM2,NILSM2!BM7)","v":"-"},"-",{"$f":"IFERROR(IF($W$19=DATABASE!$B$2,VLOOKUP(O44,TABDESKETERAMPILAN,2),IF($W$19=DATABASE!$B$3,VLOOKUP(O44,DESKKETERAMPILANSM2,DESKSM2!I23),\"-\")),\"-\")","v":"-"}]
["C3",5,"-",null,null,null,75,{"$f":"VLOOKUP($X$14,TABNILSM2,NILSM2!BO7)","v":"-"},"-",{"$f":"IFERROR(IF($W$19=DATABASE!$B$2,VLOOKUP(I45,TABDESPENGETAHUAN,2),IF($W$19=DATABASE!$B$3,VLOOKUP(I45,DESKPENGETAHUANSM2,DESKSM2!I24),\"-\")),\"-\")","v":"-"},null,null,75,{"$f":"VLOOKUP($X$14,TABNILSM2,NILSM2!BP7)","v":"-"},"-",{"$f":"IFERROR(IF($W$19=DATABASE!$B$2,VLOOKUP(O45,TABDESKETERAMPILAN,2),IF($W$19=DATABASE!$B$3,VLOOKUP(O45,DESKKETERAMPILANSM2,DESKSM2!I24),\"-\")),\"-\")","v":"-"}]
["C3",6,"-",null,null,null,75,{"$f":"VLOOKUP($X$14,TABNILSM2,NILSM2!BR7)","v":"-"},"-",{"$f":"IFERROR(IF($W$19=DATABASE!$B$2,VLOOKUP(I46,TABDESPENGETAHUAN,2),IF($W$19=DATABASE!$B$3,VLOOKUP(I46,DESKPENGETAHUANSM2,DESKSM2!I25),\"-\")),\"-\")","v":"-"},null,null,75,{"$f":"VLOOKUP($X$14,TABNILSM2,NILSM2!BS7)","v":"-"},"-",{"$f":"IFERROR(IF($W$19=DATABASE!$B$2,VLOOKUP(O46,TABDESKETERAMPILAN,2),IF($W$19=DATABASE!$B$3,VLOOKUP(O46,DESKKETERAMPILANSM2,DESKSM2!I25),\"-\")),\"-\")","v":"-"}]
[null,null,"Rata-rata",null,null,null,null,{"$f":"VLOOKUP($X$14,TABNILSM2,NILSM2!DO7)","v":79},{"$f":"VLOOKUP(H47,TABEL_NILAI,4)","v":"C"},null,null,null,null,{"$f":"VLOOKUP($X$14,TABNILSM2,NILSM2!DP7)","v":79},{"$f":"VLOOKUP(N47,TABEL_NILAI,4)","v":"C"},"Total Nilai :"]
[null,null,"Jumlah Nilai",null,null,null,null,{"$f":"VLOOKUP($X$14,TABNILSM2,NILSM2!DQ7)","v":1258},null,null,null,null,null,{"$f":"VLOOKUP($X$14,TABNILSM2,NILSM2!DR7)","v":1258},null,{"$f":"VLOOKUP($X$14,TABNILSM2,NILSM2!DS7)","v":2516}]
[]
[null,"C.  Praktek Kerja Lapangan"]
[null,"No.","Mitra DU/DI",null,null,null,null,null,"Lokasi",null,null,"Lamanya (Bulan)","Keterangan"]
[null,1,{"$f":"IF(VLOOKUP($X$14,TABNILSM2,NILSM2!CQ7)=\"\",\"-\",VLOOKUP($X$14,TABNILSM2,NILSM2!CQ7))","v":"Dinas Perhubungan"},null,null,null,null,null,{"$f":"IF(VLOOKUP($X$14,TABNILSM2,NILSM2!CR7)=\"\",\"-\",VLOOKUP($X$14,TABNILSM2,NILSM2!CR7))","v":"Karawang"},null,null,{"$f":"IF(VLOOKUP($X$14,TABNILSM2,NILSM2!CS7)=\"\",\"-\",VLOOKUP($X$14,TABNILSM2,NILSM2!CS7))","v":3},{"$f":"IF(VLOOKUP($X$14,TABNILSM2,NILSM2!CT7)=\"\",\"-\",VLOOKUP($X$14,TABNILSM2,NILSM2!CT7))","v":"Baik"},{"$f":"IF(VLOOKUP($X$14,TABNILSM2,NILSM2!CU7)=\"\",\"-\",VLOOKUP($X$14,TABNILSM2,NILSM2!CU7))","v":"PT. Astra Nippon Gasket Indonesia"},{"$f":"IF(VLOOKUP($X$14,TABNILSM2,NILSM2!CV7)=\"\",\"-\",VLOOKUP($X$14,TABNILSM2,NILSM2!CV7))","v":"KIIC, Karawang"},{"$f":"IF(VLOOKUP($X$14,TABNILSM2,NILSM2!CW7)=\"\",\"-\",VLOOKUP($X$14,TABNILSM2,NILSM2!CW7))","v":3},{"$f":"IF(VLOOKUP($X$14,TABNILSM2,NILSM2!CX7)=\"\",\"-\",VLOOKUP($X$14,TABNILSM2,NILSM2!CX7))","v":"Baik"},{"$f":"IF(VLOOKUP($X$14,TABNILSM2,NILSM2!CY7)=\"\",\"-\",VLOOKUP($X$14,TABNILSM2,NILSM2!CY7))","v":"Paskibra"}]
[null,2,{"$f":"IF(VLOOKUP($X$14,TABNILSM2,NILSM2!CU7)=\"\",\"-\",VLOOKUP($X$14,TABNILSM2,NILSM2!CU7))","v":"PT. Astra Nippon Gasket Indonesia"},null,null,null,null,null,{"$f":"IF(VLOOKUP($X$14,TABNILSM2,NILSM2!CV7)=\"\",\"-\",VLOOKUP($X$14,TABNILSM2,NILSM2!CV7))","v":"KIIC, Karawang"},null,null,{"$f":"IF(VLOOKUP($X$14,TABNILSM2,NILSM2!CW7)=\"\",\"-\",VLOOKUP($X$14,TABNILSM2,NILSM2!CW7))","v":3},{"$f":"IF(VLOOKUP($X$14,TABNILSM2,NILSM2!CX7)=\"\",\"-\",VLOOKUP($X$14,TABNILSM2,NILSM2!CX7))","v":"Baik"},{"$f":"IF(VLOOKUP($X$14,TABNILSM2,NILSM2!CY7)=\"\",\"-\",VLOOKUP($X$14,TABNILSM2,NILSM2!CY7))","v":"Paskibra"},{"$f":"IF(VLOOKUP($X$14,TABNILSM2,NILSM2!CZ7)=\"\",\"-\",VLOOKUP($X$14,TABNILSM2,NILSM2!CZ7))","v":"B"},{"$f":"IF(VLOOKUP($X$14,TABNILSM2,NILSM2!DA7)=\"\",\"-\",VLOOKUP($X$14,TABNILSM2,NILSM2!DA7))","v":"Volley"},{"$f":"IF(VLOOKUP($X$14,TABNILSM2,NILSM2!DB7)=\"\",\"-\",VLOOKUP($X$14,TABNILSM2,NILSM2!DB7))","v":"B"},{"$f":"IF(VLOOKUP($X$14,TABNILSM2,NILSM2!DC7)=\"\",\"-\",VLOOKUP($X$14,TABNILSM2,NILSM2!DC7))","v":"Paskibra"}]
[]
[null,"D.  Ekstrakurikuler"]
[null,"No.","Kegiatan Ekstrakurikuler",null,null,null,null,null,null,"Keterangan"]
[null,1,{"$f":"IF(VLOOKUP($X$14,TABNILSM2,NILSM2!CY7)=\"\",\"-\",VLOOKUP($X$14,TABNILSM2,NILSM2!CY7))","v":"Paskibra"},null,null,null,null,null,null,{"$f":"IF(VLOOKUP($X$14,TABNILSM2,NILSM2!CZ7)=\"\",\"-\",VLOOKUP(S57,TABNESKUL,2,FALSE))","v":"Baik, berprestasi, disiplin dan rajin berlatih"},null,null,null,null,null,null,null,null,{"$f":"VLOOKUP($X$14,TABNILSM2,NILSM2!CZ7)","v":"B"}]
[null,2,{"$f":"IF(VLOOKUP($X$14,TABNILSM2,NILSM2!DA7)=\"\",\"-\",VLOOKUP($X$14,TABNILSM2,NILSM2!DA7))","v":"Volley"},null,null,null,null,null,null,{"$f":"IF(VLOOKUP($X$14,TABNILSM2,NILSM2!DB7)=\"\",\"-\",VLOOKUP(S58,TABNESKUL,2,FALSE))","v":"Baik, berprestasi, disiplin dan rajin berlatih"},null,null,null,null,null,null,null,null,{"$f":"VLOOKUP($X$14,TABNILSM2,NILSM2!DB7)","v":"B"}]
[null,3,{"$f":"IF(VLOOKUP($X$14,TABNILSM2,NILSM2!DC7)=\"\",\"-\",VLOOKUP($X$14,TABNILSM2,NILSM2!DC7))","v":"Paskibra"},null,null,null,null,null,null,{"$f":"IF(VLOOKUP($X$14,TABNILSM2,NILSM2!DD7)=\"\",\"-\",VLOOKUP(S59,TABNESKUL,2,FALSE))","v":"Baik, berprestasi, disiplin dan rajin berlatih"},null,null,null,null,null,null,null,null,{"$f":"VLOOKUP($X$14,TABNILSM2,NILSM2!DD7)","v":"B"}]
[]
[null,"E.  Prestasi"]
[null,"No.","Jenis Prestasi",null,null,null,null,null,null,"Keterangan"]
[null,1,{"$f":"IF(VLOOKUP($X$14,TABNILSM2,NILSM2!DE7)=\"\",\"-\",VLOOKUP($X$14,TABNILSM2,NILSM2!DE7))","v":"-"}]
[null,2,{"$f":"IF(VLOOKUP($X$14,TABNILSM2,NILSM2!DG7)=\"\",\"-\",VLOOKUP($X$14,TABNILSM2,NILSM2!DG7))","v":"-"}]
[null,null,null,null,null,null,null,null,null,null,null,null,null,null,null,null,null,null,null,null,null,null,{"$f":"VLOOKUP($X$14,TABNILSM2,NILSM2!B7)","v":"ALFIANA WAHYU ATMADJA"}]
[null,"F.  Ketidakhadiran",null,null,null,null,null,null,"G.  Catatan Wali Kelas"]
[null,"Sakit",null,":",{"$f":"VLOOKUP($X$14,TABNILSM2,NILSM2!DI7)","v":1},null,null,null,null,null,null,null,null,null,null,null,null,"Peringkat di Kelas :",null,null,null,null,{"$f":"\"Nomor Urut \"&X14","v":"Nomor Urut 4"}]
[null,"Izin",null,":",{"$f":"VLOOKUP($X$14,TABNILSM2,NILSM2!DJ7)","v":2},null,null,null,null,null,null,null,null,null,null,null,null,{"$f":"IF(VLOOKUP($X$14,TABNILSM2,NILSM2!DU7)=\"\",\"-\",VLOOKUP($X$14,TABNILSM2,NILSM2!DU7)&\" dari \"&VLOOKUP($X$14,TABNILSM2,NILSM2!DV7))","v":"-"},{"$f":"VLOOKUP($X$14,TABNILSM2,NILSM2!DW7)","v":"NAIK KELAS"}]
[null,"Tanpa Keterangan",null,":",{"$f":"VLOOKUP($X$14,TABNILSM2,NILSM2!DK7)","v":3}]
[]
[null,"H.  Tanggapan Orang Tua/Wali",null,null,null,null,null,null,null,null,null,null,null,null,null,"KEPUTUSAN :"]
[null,null,null,null,null,null,null,null,null,null,null,null,null,null,null,"Berdasarkan hasil yang dicapai pada"]
[null,null,null,null,null,null,null,null,null,null,null,null,null,null,null,"semester 1 dan 2, Siswa ditetapkan"]
[null,null,null,null,null,null,null,null,null,null,null,null,null,null,"*","Naik ke kelas XI (Sebelas)"]
[null,null,null,null,null,null,null,null,null,null,null,null,null,null,"*","Tinggal di kelas X (Sepuluh)"]
[]
[]
[null,null,"Mengetahui,",null,null,null,null,null,null,null,null,null,null,null,null,{"$f":"NILSM2!DX4","v":"Karawang, 22 Juni 2018"}]
[null,null,"Orang Tua/Wali,",null,null,null,null,null,null,null,null,null,null,null,null,"Wali Kelas,"]
[]
[]
[]
[]
[null,null,null,null,null,null,null,null,null,null,null,null,null,null,null,{"$f":"NILSM2!B4","v":"Sri Hartati,S.T"}]
[null,null,null,null,null,null,null,null,null,null,null,null,null,null,null,{"$f":"IF(NILSM2!A5=\"NIP\",\"NIP \"&NILSM2!B5,\"\")","v":""}]
[null,null,null,null,null,null,null,null,null,"Mengetahui :"]
[null,null,null,null,null,null,null,null,null,"Kepala Sekolah,"]
[]
[]
[]
[]
[null,null,null,null,null,null,null,null,null,{"$f":"MENU!P8","v":"Drs. Agus Rukmawan, S.IP, MM"}]
[null,null,null,null,null,null,null,null,null,{"$f":"\"NIP \"&MENU!P9","v":"NIP 19611111 198603 1 008"}]

{"sheet":"CETSM3","index":21,"n_rows":94,"n_cols":24,"rows_kept":94,"cut":false,"hidden":false,"merged":[[10,1,12,1],[10,2,12,5],[10,6,12,17],[12,22,12,23],[13,22,14,22],[13,23,14,23],[5,22,5,23],[6,22,7,22],[6,23,7,23],[7,2,7,5],[7,6,7,17],[8,1,9,1],[8,2,9,5],[8,6,9,17],[8,22,9,22],[8,23,9,23],[17,22,17,23],[18,2,18,5],[18,9,18,11],[18,15,18,17],[18,22,18,23],[19,2,19,5],[19,9,19,11],[19,15,19,17],[15,1,16,1],[15,2,16,5],[15,6,15,11],[15,12,15,17],[16,9,16,11],[16,15,16,17],[22,2,22,5],[22,9,22,11],[22,15,22,17],[23,2,23,5],[23,9,23,11],[23,15,23,17],[20,2,20,5],[20,9,20,11],[20,15,20,17],[21,2,21,5],[21,9,21,11],[21,15,21,17],[28,2,28,5],[28,9,28,11],[28,15,28,17],[29,2,29,5],[29,9,29,11],[29,15,29,17],[24,1,24,5],[25,2,25,5],[25,9,25,11],[25,15,25,17],[26,2,26,5],[26,9,26,11],[26,15,26,17],[34,2,34,5],[34,9,34,11],[34,15,34,17],[36,2,36,5],[36,9,36,11],[36,15,36,17],[30,1,30,5],[32,2,32,5],[32,9,32,11],[32,15,32,17],[33,2,33,5],[33,9,33,11],[33,15,33,17],[39,2,39,5],[39,9,39,11],[39,15,39,17],[41,2,41,5],[41,9,41,11],[41,15,41,17],[37,2,37,5],[37,9,37,11],[37,15,37,17],[38,2,38,5],[38,9,38,11],[38,15,38,17],[44,2,44,5],[44,9,44,11],[44,15,44,17],[45,2,45,5],[45,9,45,11],[45,15,45,17],[42,2,42,5],[42,9,42,11],[42,15,42,17],[43,2,43,5],[43,9,43,11],[43,15,43,17],[51,2,51,7],[51,8,51,10],[51,12,51,17],[52,2,52,7],[52,8,52,10],[52,12,52,17],[46,2,46,5],[46,9,46,11],[46,15,46,17],[47,2,47,6],[47,15,47,17],[48,2,48,6],[48,7,48,8],[48,13,48,14],[48,15,48,17],[58,2,58,8],[58,9,58,17],[59,2,59,8],[59,9,59,17],[62,2,62,8],[62,9,62,17],[53,2,53,7],[53,8,53,10],[53,12,53,17],[56,2,56,8],[56,9,56,17],[57,2,57,8],[57,9,57,17],[72,1,75,17],[63,2,63,8],[63,9,63,17],[64,2,64,8],[64,9,64,17],[65,22,66,24],[67,4,67,6],[67,22,68,24],[68,4,68,6],[68,17,69,17],[69,4,69,6]]}
[null,"Nama Sekolah",null,":","SMKN 1 KARAWANG",null,null,null,null,null,null,null,null,null,"Kelas",null,":",{"$f":"IF(OR(R2=\"1 (satu)\",R2=\"2 (dua)\"),\"X \"&MENU!I9,IF(OR(R2=\"3 (tiga)\",R2=\"4 (empat)\"),\"XI \"&MENU!I9,IF(OR(R2=\"5 (lima)\",R2=\"6 (enam)\"),\"XII \"&MENU!I9,\"\")))","v":"XI TKRO 1"}]
[null,"Alamat",null,":","Jl. Pangkal Perjuangan By Pass Karawang",null,null,null,null,null,null,null,null,null,"Semester",null,":",{"$f":"NILSM3!B3","v":"3 (tiga)"}]
[null,"Nama Siswa",null,":",{"$f":"VLOOKUP($X$14,TABNILSM3,NILSM3!B7)","v":"BILLY RIZKI JHONATHAN"},null,null,null,null,null,null,null,null,null,"Tahun Pelajaran",null,":",{"$f":"RIGHT(NILSM3!A2,11)","v":"2018 / 2019"}]
[null,"Nomor Induk/NISN",null,":",{"$f":"IF(VLOOKUP($X$14,TABBIODATA,BIODATA!E4)=\"\",VLOOKUP($X$14,TABBIODATA,BIODATA!D4),VLOOKUP($X$14,TABBIODATA,BIODATA!D4)&\" / \"&VLOOKUP($X$14,TABBIODATA,BIODATA!E4))","v":"13140772 / 9975460320"}]
[]
[null,"CAPAIAN HASIL BELAJAR",null,null,null,null,null,null,null,null,null,null,null,null,null,null,null,null,null,null,null,null,"HALAMAN CETAK"]
[null,"A.  Sikap",null,null,null,null,null,null,null,null,null,null,null,null,null,null,null,null,null,null,null,null,"Dari data ke",2]
[null,"No.","Kompetensi Inti",null,null,null,"Deskripsi"]
[null,"1","Sikap Spiritual",null,null,null,{"$f":"IFERROR(VLOOKUP(S9,TABDESSPIRITUAL,2),\"-\")","v":"Baik, dapat menerima, menjalankan, menghargai, menghayati dan mengamalkan ajaran agama yang dianut."},null,null,null,null,null,null,null,null,null,null,null,{"$f":"VLOOKUP($X$14,TABNILSM3,NILSM3!DL7)","v":"B"},null,null,null,"Sampai data ke",2]
[]
[null,2,"Sikap Sosial",null,null,null,{"$f":"IFERROR(VLOOKUP(S11,TABDESSOSIAL,2),\"-\")","v":"Sudah menunjukkan konsisten menerapkan sikap jujur, santun dan toleran dalam pergaulan, disiplin, kerjasama dalam kelompok dan tanggungjawab dalam keseharian sebagai hasil pembelajaran di sekolah. Tingkatkan sikap-sikap positif tersebut agar lebih baik."},null,null,null,null,null,null,null,null,null,null,null,{"$f":"VLOOKUP($X$14,TABNILSM3,NILSM3!DM7)","v":"B"}]
[]
[null,null,null,null,null,null,null,null,null,null,null,null,null,null,null,null,null,null,null,null,null,null,"TAMPILAN DATA"]
[null,null,null,null,null,null,null,null,null,null,null,null,null,null,null,null,null,null,null,null,null,null,"Nomor Urut",6]
[null,"B.  Pengetahuan dan Keterampilan"]
["P","No.","Mata Pelajaran",null,null,null,"Pengetahuan",null,null,null,null,null,"Keterampilan"]
["K",null,null,null,null,null,"KKM","Angka","Predikat","Deskripsi",null,null,"KKM","Angka","Predikat","Deskripsi"]
[null,"Muatan Nasional",null,null,null,null,null,null,null,null,null,null,null,null,null,null,null,null,null,null,null,null,"PILIHAN DESKRIPSI"]
["A",{"$f":"NILSM3!D4","v":1},{"$f":"IFERROR(HLOOKUP($R$2&A19&B19&$A$16,MAPELSM3,2,FALSE),\"-\")","v":"Pendidikan Agama dan Budi Pekerti"},null,null,null,{"$f":"IFERROR(HLOOKUP($R$2&A19&B19&$A$16,MAPELSM3,5,FALSE),\"-\")","v":77},{"$f":"IFERROR(ROUND(VLOOKUP($X$14,TABNILSM3,NILSM3!D7),0),\"-\")","v":92},{"$f":"IFERROR(VLOOKUP(H19,TABEL_NILAI,4),\"-\")","v":"B"},{"$f":"IFERROR(IF($W$19=DATABASE!$B$2,VLOOKUP(I19,TABDESPENGETAHUAN,2),IF($W$19=DATABASE!$B$3,VLOOKUP(I19,DESKPENGETAHUANSM3,DESKSM3!D3),\"-\")),\"-\")","v":"Baik dalam memahami, menerapkan, menganalisis dan mengevaluasi sebagian besar kompetensi dasar."},null,null,{"$f":"IFERROR(HLOOKUP($R$2&A19&B19&$A$17,MAPELSM3,5,FALSE),\"-\")","v":77},{"$f":"ROUND(VLOOKUP($X$14,TABNILSM3,NILSM3!E7),0)","v":83},{"$f":"IFERROR(VLOOKUP(N19,TABEL_NILAI,4),\"-\")","v":"C"},{"$f":"IFERROR(IF($W$19=DATABASE!$B$2,VLOOKUP(O19,TABDESKETERAMPILAN,2),IF($W$19=DATABASE!$B$3,VLOOKUP(O19,DESKKETERAMPILANSM3,DESKSM3!D3),\"-\")),\"-\")","v":"Cukup aktif bertanya, mencoba, menalar dan kreatif dalam menyelesaikan tugas praktek"},null,null,null,null,null,null,"OTOMATIS"]
["A",{"$f":"NILSM3!G4","v":2},"Pendidikan Pancasila dan Kewarganegaraan",null,null,null,{"$f":"IFERROR(HLOOKUP($R$2&A20&B20&$A$16,MAPELSM3,5,FALSE),\"-\")","v":77},{"$f":"ROUND(VLOOKUP($X$14,TABNILSM3,NILSM3!G7),0)","v":92},{"$f":"IFERROR(VLOOKUP(H20,TABEL_NILAI,4),\"-\")","v":"B"},{"$f":"IFERROR(IF($W$19=DATABASE!$B$2,VLOOKUP(I20,TABDESPENGETAHUAN,2),IF($W$19=DATABASE!$B$3,VLOOKUP(I20,DESKPENGETAHUANSM3,DESKSM3!D4),\"-\")),\"-\")","v":"Baik dalam memahami, menerapkan, menganalisis dan mengevaluasi sebagian besar kompetensi dasar."},null,null,77,{"$f":"ROUND(VLOOKUP($X$14,TABNILSM3,NILSM3!H7),0)","v":88},"B",{"$f":"IFERROR(IF($W$19=DATABASE!$B$2,VLOOKUP(O20,TABDESKETERAMPILAN,2),IF($W$19=DATABASE!$B$3,VLOOKUP(O20,DESKKETERAMPILANSM3,DESKSM3!E3),\"-\")),\"-\")","v":"Baik dan aktif bertanya, mencoba, menalar dan kreatif dalam menyelesaikan sebagian besar tugas praktek."}]
["A",{"$f":"NILSM3!J4","v":3},"Bahasa Indonesia",null,null,null,77,{"$f":"ROUND(VLOOKUP($X$14,TABNILSM3,NILSM3!J7),0)","v":87},"B",{"$f":"IFERROR(IF($W$19=DATABASE!$B$2,VLOOKUP(I21,TABDESPENGETAHUAN,2),IF($W$19=DATABASE!$B$3,VLOOKUP(I21,DESKPENGETAHUANSM3,DESKSM3!D5),\"-\")),\"-\")","v":"Baik dalam memahami, menerapkan, menganalisis dan mengevaluasi sebagian besar kompetensi dasar."},null,null,77,{"$f":"ROUND(VLOOKUP($X$14,TABNILSM3,NILSM3!K7),0)","v":83},"C",{"$f":"IFERROR(IF($W$19=DATABASE!$B$2,VLOOKUP(O21,TABDESKETERAMPILAN,2),IF($W$19=DATABASE!$B$3,VLOOKUP(O21,DESKKETERAMPILANSM3,DESKSM3!F3),\"-\")),\"-\")","v":"Cukup aktif bertanya, mencoba, menalar dan kreatif dalam menyelesaikan tugas praktek"}]
["A",{"$f":"NILSM3!M4","v":4},"Matematika",null,null,null,77,{"$f":"ROUND(VLOOKUP($X$14,TABNILSM3,NILSM3!M7),0)","v":87},"B",{"$f":"IFERROR(IF($W$19=DATABASE!$B$2,VLOOKUP(I22,TABDESPENGETAHUAN,2),IF($W$19=DATABASE!$B$3,VLOOKUP(I22,DESKPENGETAHUANSM3,DESKSM3!D6),\"-\")),\"-\")","v":"Baik dalam memahami, menerapkan, menganalisis dan mengevaluasi sebagian besar kompetensi dasar."},null,null,77,{"$f":"ROUND(VLOOKUP($X$14,TABNILSM3,NILSM3!N7),0)","v":87},"B",{"$f":"IFERROR(IF($W$19=DATABASE!$B$2,VLOOKUP(O22,TABDESKETERAMPILAN,2),IF($W$19=DATABASE!$B$3,VLOOKUP(O22,DESKKETERAMPILANSM3,DESKSM3!G3),\"-\")),\"-\")","v":"Baik dan aktif bertanya, mencoba, menalar dan kreatif dalam menyelesaikan sebagian besar tugas praktek."}]
["A",{"$f":"NILSM3!P4","v":"-"},"-",null,null,null,77,{"$f":"IFERROR(ROUND(VLOOKUP($X$14,TABNILSM3,NILSM3!P7),0),\"-\")","v":"-"},"-",{"$f":"IFERROR(IF($W$19=DATABASE!$B$2,VLOOKUP(I23,TABDESPENGETAHUAN,2),IF($W$19=DATABASE!$B$3,VLOOKUP(I23,DESKPENGETAHUANSM3,DESKSM3!D7),\"-\")),\"-\")","v":"-"},null,null,77,{"$f":"IFERROR(ROUND(VLOOKUP($X$14,TABNILSM3,NILSM3!Q7),0),\"-\")","v":"-"},"-",{"$f":"IFERROR(IF($W$19=DATABASE!$B$2,VLOOKUP(O23,TABDESKETERAMPILAN,2),IF($W$19=DATABASE!$B$3,VLOOKUP(O23,DESKKETERAMPILANSM3,DESKSM3!H3),\"-\")),\"-\")","v":"-"}]
["A",{"$f":"NILSM3!S4","v":5},"Bahasa Inggris",null,null,null,77,{"$f":"ROUND(VLOOKUP($X$14,TABNILSM3,NILSM3!S7),0)","v":76},"D",{"$f":"IFERROR(IF($W$19=DATABASE!$B$2,VLOOKUP(I24,TABDESPENGETAHUAN,2),IF($W$19=DATABASE!$B$3,VLOOKUP(I24,DESKPENGETAHUANSM3,DESKSM3!D8),\"-\")),\"-\")","v":"Kurang dapat memahami, hanya bisa menerapkan, menganalisis, dan mengeveluasi sebagian kecil kompetensi dasar."},null,null,77,{"$f":"ROUND(VLOOKUP($X$14,TABNILSM3,NILSM3!T7),0)","v":98},"A",{"$f":"IFERROR(IF($W$19=DATABASE!$B$2,VLOOKUP(O24,TABDESKETERAMPILAN,2),IF($W$19=DATABASE!$B$3,VLOOKUP(O24,DESKKETERAMPILANSM3,DESKSM3!I3),\"-\")),\"-\")","v":"Sangat baik dan aktif bertanya, mencoba, menalar dan kreatif dalam menyelesaikan tugas praktek."}]
[null,"Muatan Kewilayahan"]
["B",{"$f":"NILSM3!V4","v":"-"},{"$f":"IFERROR(HLOOKUP($R$2&A26&B26&$A$16,MAPELSM3,2,FALSE),\"-\")","v":"-"},null,null,null,{"$f":"IFERROR(HLOOKUP($R$2&A26&B26&$A$16,MAPELSM3,5,FALSE),\"-\")","v":77},{"$f":"IFERROR(ROUND(VLOOKUP($X$14,TABNILSM3,NILSM3!V7),0),\"-\")","v":"-"},{"$f":"IFERROR(VLOOKUP(H26,TABEL_NILAI,4),\"-\")","v":"-"},{"$f":"IFERROR(IF($W$19=DATABASE!$B$2,VLOOKUP(I26,TABDESPENGETAHUAN,2),IF($W$19=DATABASE!$B$3,VLOOKUP(I26,DESKPENGETAHUANSM3,DESKSM3!J3),\"-\")),\"-\")","v":"-"},null,null,{"$f":"IFERROR(HLOOKUP($R$2&A26&B26&$A$17,MAPELSM3,5,FALSE),\"-\")","v":77},{"$f":"IFERROR(ROUND(VLOOKUP($X$14,TABNILSM3,NILSM3!W7),0),\"-\")","v":"-"},{"$f":"IFERROR(VLOOKUP(N26,TABEL_NILAI,4),\"-\")","v":"-"},{"$f":"IFERROR(IF($W$19=DATABASE!$B$2,VLOOKUP(O26,TABDESKETERAMPILAN,2),IF($W$19=DATABASE!$B$3,VLOOKUP(O26,DESKKETERAMPILANSM3,DESKSM3!J3),\"-\")),\"-\")","v":"-"}]
["B",{"$f":"NILSM3!Y4","v":1},{"$f":"IFERROR(HLOOKUP($R$2&A27&B27&$A$16,MAPELSM3,2,FALSE),\"-\")","v":"Pendidikan Jasmani, Olah Raga & Kesehatan"},null,null,null,{"$f":"IFERROR(HLOOKUP($R$2&A27&B27&$A$16,MAPELSM3,5,FALSE),\"-\")","v":77},{"$f":"ROUND(VLOOKUP($X$14,TABNILSM3,NILSM3!Y7),0)","v":94},{"$f":"IFERROR(VLOOKUP(H27,TABEL_NILAI,4),\"-\")","v":"A"},{"$f":"IFERROR(IF($W$19=DATABASE!$B$2,VLOOKUP(I27,TABDESPENGETAHUAN,2),IF($W$19=DATABASE!$B$3,VLOOKUP(I27,DESKPENGETAHUANSM3,DESKSM3!J4),\"-\")),\"-\")","v":"Sangat baik dalam memahami, menerapkan, menganalisis dan mengevaluasi semua kompetensi dasar."},null,null,{"$f":"IFERROR(HLOOKUP($R$2&A27&B27&$A$17,MAPELSM3,5,FALSE),\"-\")","v":77},{"$f":"ROUND(VLOOKUP($X$14,TABNILSM3,NILSM3!Z7),0)","v":90},{"$f":"IFERROR(VLOOKUP(N27,TABEL_NILAI,4),\"-\")","v":"B"},{"$f":"IFERROR(IF($W$19=DATABASE!$B$2,VLOOKUP(O27,TABDESKETERAMPILAN,2),IF($W$19=DATABASE!$B$3,VLOOKUP(O27,DESKKETERAMPILANSM3,DESKSM3!J4),\"-\")),\"-\")","v":"Baik dan aktif bertanya, mencoba, menalar dan kreatif dalam menyelesaikan sebagian besar tugas praktek."}]
[null,null,"Muatan Lokal"]
["B",{"$f":"NILSM3!AB4","v":"-"},{"$f":"IFERROR(HLOOKUP($R$2&A29&B29&$A$16,MAPELSM3,2,FALSE),\"-\")","v":"-"},null,null,null,{"$f":"IFERROR(HLOOKUP($R$2&A29&B29&$A$16,MAPELSM3,5,FALSE),\"-\")","v":77},{"$f":"IFERROR(ROUND(VLOOKUP($X$14,TABNILSM3,NILSM3!AB7),0),\"-\")","v":"-"},{"$f":"IFERROR(VLOOKUP(H29,TABEL_NILAI,4),\"-\")","v":"-"},{"$f":"IFERROR(IF($W$19=DATABASE!$B$2,VLOOKUP(I29,TABDESPENGETAHUAN,2),IF($W$19=DATABASE!$B$3,VLOOKUP(I29,DESKPENGETAHUANSM3,DESKSM3!J5),\"-\")),\"-\")","v":"-"},null,null,{"$f":"IFERROR(HLOOKUP($R$2&A29&B29&$A$17,MAPELSM3,5,FALSE),\"-\")","v":77},{"$f":"IFERROR(ROUND(VLOOKUP($X$14,TABNILSM3,NILSM3!AC7),0),\"-\")","v":"-"},{"$f":"IFERROR(VLOOKUP(N29,TABEL_NILAI,4),\"-\")","v":"-"},{"$f":"IFERROR(IF($W$19=DATABASE!$B$2,VLOOKUP(O29,TABDESKETERAMPILAN,2),IF($W$19=DATABASE!$B$3,VLOOKUP(O29,DESKKETERAMPILANSM3,DESKSM3!J5),\"-\")),\"-\")","v":"-"}]
["B",{"$f":"NILSM3!AE4","v":2},{"$f":"IFERROR(HLOOKUP($R$2&A30&B30&$A$16,MAPELSM3,2,FALSE),\"-\")","v":"Bahasa Jepang"},null,null,null,{"$f":"IFERROR(HLOOKUP($R$2&A30&B30&$A$16,MAPELSM3,5,FALSE),\"-\")","v":77},{"$f":"ROUND(VLOOKUP($X$14,TABNILSM3,NILSM3!AE7),0)","v":88},{"$f":"IFERROR(VLOOKUP(H30,TABEL_NILAI,4),\"-\")","v":"B"},{"$f":"IFERROR(IF($W$19=DATABASE!$B$2,VLOOKUP(I30,TABDESPENGETAHUAN,2),IF($W$19=DATABASE!$B$3,VLOOKUP(I30,DESKPENGETAHUANSM3,DESKSM3!J6),\"-\")),\"-\")","v":"Baik dalam memahami, menerapkan, menganalisis dan mengevaluasi sebagian besar kompetensi dasar."},null,null,{"$f":"IFERROR(HLOOKUP($R$2&A30&B30&$A$17,MAPELSM3,5,FALSE),\"-\")","v":77},{"$f":"ROUND(VLOOKUP($X$14,TABNILSM3,NILSM3!AF7),0)","v":88},{"$f":"IFERROR(VLOOKUP(N30,TABEL_NILAI,4),\"-\")","v":"B"},{"$f":"IFERROR(IF($W$19=DATABASE!$B$2,VLOOKUP(O30,TABDESKETERAMPILAN,2),IF($W$19=DATABASE!$B$3,VLOOKUP(O30,DESKKETERAMPILANSM3,DESKSM3!J6),\"-\")),\"-\")","v":"Baik dan aktif bertanya, mencoba, menalar dan kreatif dalam menyelesaikan sebagian besar tugas praktek."}]
[null,"Muatan Peminatan Kejuruan"]
[null,"C1","Dasar Bidang Keahlian"]
["C1",{"$f":"NILSM3!AH4","v":1},{"$f":"IFERROR(HLOOKUP($R$2&A33&B33&$A$16,MAPELSM3,2,FALSE),\"-\")","v":"-"},null,null,null,{"$f":"IFERROR(HLOOKUP($R$2&A33&B33&$A$16,MAPELSM3,5,FALSE),\"-\")","v":77},{"$f":"VLOOKUP($X$14,TABNILSM3,NILSM3!AH7)","v":"-"},{"$f":"IFERROR(VLOOKUP(H33,TABEL_NILAI,4),\"-\")","v":"-"},{"$f":"IFERROR(IF($W$19=DATABASE!$B$2,VLOOKUP(I33,TABDESPENGETAHUAN,2),IF($W$19=DATABASE!$B$3,VLOOKUP(I33,DESKPENGETAHUANSM3,DESKSM3!M3),\"-\")),\"-\")","v":"-"},null,null,{"$f":"IFERROR(HLOOKUP($R$2&A33&B33&$A$17,MAPELSM3,5,FALSE),\"-\")","v":77},{"$f":"VLOOKUP($X$14,TABNILSM3,NILSM3!AI7)","v":"-"},{"$f":"IFERROR(VLOOKUP(N33,TABEL_NILAI,4),\"-\")","v":"-"},{"$f":"IFERROR(IF($W$19=DATABASE!$B$2,VLOOKUP(O33,TABDESKETERAMPILAN,2),IF($W$19=DATABASE!$B$3,VLOOKUP(O33,DESKKETERAMPILANSM3,DESKSM3!M3),\"-\")),\"-\")","v":"-"}]
["C1",{"$f":"NILSM3!AK4","v":2},{"$f":"IFERROR(HLOOKUP($R$2&A34&B34&$A$16,MAPELSM3,2,FALSE),\"-\")","v":"-"},null,null,null,{"$f":"IFERROR(HLOOKUP($R$2&A34&B34&$A$16,MAPELSM3,5,FALSE),\"-\")","v":77},{"$f":"VLOOKUP($X$14,TABNILSM3,NILSM3!AK7)","v":"-"},{"$f":"IFERROR(VLOOKUP(H34,TABEL_NILAI,4),\"-\")","v":"-"},{"$f":"IFERROR(IF($W$19=DATABASE!$B$2,VLOOKUP(I34,TABDESPENGETAHUAN,2),IF($W$19=DATABASE!$B$3,VLOOKUP(I34,DESKPENGETAHUANSM3,DESKSM3!N3),\"-\")),\"-\")","v":"-"},null,null,{"$f":"IFERROR(HLOOKUP($R$2&A34&B34&$A$17,MAPELSM3,5,FALSE),\"-\")","v":77},{"$f":"VLOOKUP($X$14,TABNILSM3,NILSM3!AL7)","v":"-"},{"$f":"IFERROR(VLOOKUP(N34,TABEL_NILAI,4),\"-\")","v":"-"},{"$f":"IFERROR(IF($W$19=DATABASE!$B$2,VLOOKUP(O34,TABDESKETERAMPILAN,2),IF($W$19=DATABASE!$B$3,VLOOKUP(O34,DESKKETERAMPILANSM3,DESKSM3!N3),\"-\")),\"-\")","v":"-"}]
["C1",{"$f":"NILSM3!AN4","v":3},{"$f":"IFERROR(HLOOKUP($R$2&A35&B35&$A$16,MAPELSM3,2,FALSE),\"-\")","v":"-"},null,null,null,{"$f":"IFERROR(HLOOKUP($R$2&A35&B35&$A$16,MAPELSM3,5,FALSE),\"-\")","v":77},{"$f":"VLOOKUP($X$14,TABNILSM3,NILSM3!AN7)","v":"-"},{"$f":"IFERROR(VLOOKUP(H35,TABEL_NILAI,4),\"-\")","v":"-"},{"$f":"IFERROR(IF($W$19=DATABASE!$B$2,VLOOKUP(I35,TABDESPENGETAHUAN,2),IF($W$19=DATABASE!$B$3,VLOOKUP(I35,DESKPENGETAHUANSM3,DESKSM3!O3),\"-\")),\"-\")","v":"-"},null,null,{"$f":"IFERROR(HLOOKUP($R$2&A35&B35&$A$17,MAPELSM3,5,FALSE),\"-\")","v":77},{"$f":"VLOOKUP($X$14,TABNILSM3,NILSM3!AO7)","v":"-"},{"$f":"IFERROR(VLOOKUP(N35,TABEL_NILAI,4),\"-\")","v":"-"},{"$f":"IFERROR(IF($W$19=DATABASE!$B$2,VLOOKUP(O35,TABDESKETERAMPILAN,2),IF($W$19=DATABASE!$B$3,VLOOKUP(O35,DESKKETERAMPILANSM3,DESKSM3!O3),\"-\")),\"-\")","v":"-"}]
[null,"C2","Dasar Program Keahlian"]
["C2",{"$f":"NILSM3!AQ4","v":1},{"$f":"IFERROR(HLOOKUP($R$2&A37&B37&$A$16,MAPELSM3,2,FALSE),\"-\")","v":"-"},null,null,null,{"$f":"IFERROR(HLOOKUP($R$2&A37&B37&$A$16,MAPELSM3,5,FALSE),\"-\")","v":77},{"$f":"VLOOKUP($X$14,TABNILSM3,NILSM3!AQ7)","v":"-"},{"$f":"IFERROR(VLOOKUP(H37,TABEL_NILAI,4),\"-\")","v":"-"},{"$f":"IFERROR(IF($W$19=DATABASE!$B$2,VLOOKUP(I37,TABDESPENGETAHUAN,2),IF($W$19=DATABASE!$B$3,VLOOKUP(I37,DESKPENGETAHUANSM3,DESKSM3!P3),\"-\")),\"-\")","v":"-"},null,null,{"$f":"IFERROR(HLOOKUP($R$2&A37&B37&$A$17,MAPELSM3,5,FALSE),\"-\")","v":77},{"$f":"VLOOKUP($X$14,TABNILSM3,NILSM3!AR7)","v":"-"},{"$f":"IFERROR(VLOOKUP(N37,TABEL_NILAI,4),\"-\")","v":"-"},{"$f":"IFERROR(IF($W$19=DATABASE!$B$2,VLOOKUP(O37,TABDESKETERAMPILAN,2),IF($W$19=DATABASE!$B$3,VLOOKUP(O37,DESKKETERAMPILANSM3,DESKSM3!P3),\"-\")),\"-\")","v":"-"}]
["C2",{"$f":"NILSM3!AT4","v":2},{"$f":"IFERROR(HLOOKUP($R$2&A38&B38&$A$16,MAPELSM3,2,FALSE),\"-\")","v":"-"},null,null,null,{"$f":"IFERROR(HLOOKUP($R$2&A38&B38&$A$16,MAPELSM3,5,FALSE),\"-\")","v":77},{"$f":"VLOOKUP($X$14,TABNILSM3,NILSM3!AT7)","v":"-"},"-",{"$f":"IFERROR(IF($W$19=DATABASE!$B$2,VLOOKUP(I38,TABDESPENGETAHUAN,2),IF($W$19=DATABASE!$B$3,VLOOKUP(I38,DESKPENGETAHUANSM3,DESKSM3!Q3),\"-\")),\"-\")","v":"-"},null,null,{"$f":"IFERROR(HLOOKUP($R$2&A38&B38&$A$17,MAPELSM3,5,FALSE),\"-\")","v":77},{"$f":"VLOOKUP($X$14,TABNILSM3,NILSM3!AU7)","v":"-"},"-",{"$f":"IFERROR(IF($W$19=DATABASE!$B$2,VLOOKUP(O38,TABDESKETERAMPILAN,2),IF($W$19=DATABASE!$B$3,VLOOKUP(O38,DESKKETERAMPILANSM3,DESKSM3!Q3),\"-\")),\"-\")","v":"-"}]
["C2",{"$f":"NILSM3!AW4","v":3},{"$f":"IFERROR(HLOOKUP($R$2&A39&B39&$A$16,MAPELSM3,2,FALSE),\"-\")","v":"-"},null,null,null,{"$f":"IFERROR(HLOOKUP($R$2&A39&B39&$A$16,MAPELSM3,5,FALSE),\"-\")","v":77},{"$f":"VLOOKUP($X$14,TABNILSM3,NILSM3!AW7)","v":"-"},"-",{"$f":"IFERROR(IF($W$19=DATABASE!$B$2,VLOOKUP(I39,TABDESPENGETAHUAN,2),IF($W$19=DATABASE!$B$3,VLOOKUP(I39,DESKPENGETAHUANSM3,DESKSM3!R3),\"-\")),\"-\")","v":"-"},null,null,{"$f":"IFERROR(HLOOKUP($R$2&A39&B39&$A$17,MAPELSM3,5,FALSE),\"-\")","v":77},{"$f":"VLOOKUP($X$14,TABNILSM3,NILSM3!AX7)","v":"-"},"-",{"$f":"IFERROR(IF($W$19=DATABASE!$B$2,VLOOKUP(O39,TABDESKETERAMPILAN,2),IF($W$19=DATABASE!$B$3,VLOOKUP(O39,DESKKETERAMPILANSM3,DESKSM3!R3),\"-\")),\"-\")","v":"-"}]
["C2",{"$f":"NILSM3!AZ4","v":4},{"$f":"IFERROR(HLOOKUP($R$2&A40&B40&$A$16,MAPELSM3,2,FALSE),\"-\")","v":"-"},null,null,null,{"$f":"IFERROR(HLOOKUP($R$2&A40&B40&$A$16,MAPELSM3,5,FALSE),\"-\")","v":77},{"$f":"VLOOKUP($X$14,TABNILSM3,NILSM3!AZ7)","v":"-"},"-",{"$f":"IFERROR(IF($W$19=DATABASE!$B$2,VLOOKUP(I40,TABDESPENGETAHUAN,2),IF($W$19=DATABASE!$B$3,VLOOKUP(I40,DESKPENGETAHUANSM3,DESKSM3!S3),\"-\")),\"-\")","v":"-"},null,null,{"$f":"IFERROR(HLOOKUP($R$2&A40&B40&$A$17,MAPELSM3,5,FALSE),\"-\")","v":77},{"$f":"VLOOKUP($X$14,TABNILSM3,NILSM3!BA7)","v":"-"},{"$f":"IFERROR(VLOOKUP(N40,TABEL_NILAI,4),\"-\")","v":"-"},{"$f":"IFERROR(IF($W$19=DATABASE!$B$2,VLOOKUP(O40,TABDESKETERAMPILAN,2),IF($W$19=DATABASE!$B$3,VLOOKUP(O40,DESKKETERAMPILANSM3,DESKSM3!S3),\"-\")),\"-\")","v":"-"}]
[null,"C3","Kompetensi Keahlian"]
["C3",{"$f":"NILSM3!BC4","v":1},{"$f":"IFERROR(HLOOKUP($R$2&A42&B42&$A$16,MAPELSM3,2,FALSE),\"-\")","v":"Administrasi Infrastruktur Jaringan"},null,null,null,{"$f":"IFERROR(HLOOKUP($R$2&A42&B42&$A$16,MAPELSM3,5,FALSE),\"-\")","v":77},{"$f":"VLOOKUP($X$14,TABNILSM3,NILSM3!BC7)","v":82},{"$f":"IFERROR(VLOOKUP(H42,TABEL_NILAI,4),\"-\")","v":"C"},{"$f":"IFERROR(IF($W$19=DATABASE!$B$2,VLOOKUP(I42,TABDESPENGETAHUAN,2),IF($W$19=DATABASE!$B$3,VLOOKUP(I42,DESKPENGETAHUANSM3,DESKSM3!S5),\"-\")),\"-\")","v":"Cukup baik memahami sebagian kompetensi dasar, tetapi kurang bisa menerapkan, menganalisis dan mengevaluasinya."},null,null,{"$f":"IFERROR(HLOOKUP($R$2&A42&B42&$A$17,MAPELSM3,5,FALSE),\"-\")","v":77},{"$f":"VLOOKUP($X$14,TABNILSM3,NILSM3!BD7)","v":82.25},{"$f":"IFERROR(VLOOKUP(N42,TABEL_NILAI,4),\"-\")","v":"C"},{"$f":"IFERROR(IF($W$19=DATABASE!$B$2,VLOOKUP(O42,TABDESKETERAMPILAN,2),IF($W$19=DATABASE!$B$3,VLOOKUP(O42,DESKKETERAMPILANSM3,DESKSM3!S5),\"-\")),\"-\")","v":"Cukup aktif bertanya, mencoba, menalar dan kreatif dalam menyelesaikan tugas praktek"}]
["C3",{"$f":"NILSM3!BF4","v":2},"Administrasi Sistem Jaringan",null,null,null,77,{"$f":"VLOOKUP($X$14,TABNILSM3,NILSM3!BF7)","v":82},"C",{"$f":"IFERROR(IF($W$19=DATABASE!$B$2,VLOOKUP(I43,TABDESPENGETAHUAN,2),IF($W$19=DATABASE!$B$3,VLOOKUP(I43,DESKPENGETAHUANSM3,DESKSM3!S6),\"-\")),\"-\")","v":"Cukup baik memahami sebagian kompetensi dasar, tetapi kurang bisa menerapkan, menganalisis dan mengevaluasinya."},null,null,77,{"$f":"VLOOKUP($X$14,TABNILSM3,NILSM3!BG7)","v":82.25},"C",{"$f":"IFERROR(IF($W$19=DATABASE!$B$2,VLOOKUP(O43,TABDESKETERAMPILAN,2),IF($W$19=DATABASE!$B$3,VLOOKUP(O43,DESKKETERAMPILANSM3,DESKSM3!S6),\"-\")),\"-\")","v":"Cukup aktif bertanya, mencoba, menalar dan kreatif dalam menyelesaikan tugas praktek"}]
["C3",{"$f":"NILSM3!BI4","v":3},"Teknologi Layanan Jaringan",null,null,null,77,{"$f":"VLOOKUP($X$14,TABNILSM3,NILSM3!BI7)","v":82},"C",{"$f":"IFERROR(IF($W$19=DATABASE!$B$2,VLOOKUP(I44,TABDESPENGETAHUAN,2),IF($W$19=DATABASE!$B$3,VLOOKUP(I44,DESKPENGETAHUANSM3,DESKSM3!S7),\"-\")),\"-\")","v":"Cukup baik memahami sebagian kompetensi dasar, tetapi kurang bisa menerapkan, menganalisis dan mengevaluasinya."},null,null,77,{"$f":"VLOOKUP($X$14,TABNILSM3,NILSM3!BJ7)","v":82.25},"C",{"$f":"IFERROR(IF($W$19=DATABASE!$B$2,VLOOKUP(O44,TABDESKETERAMPILAN,2),IF($W$19=DATABASE!$B$3,VLOOKUP(O44,DESKKETERAMPILANSM3,DESKSM3!S7),\"-\")),\"-\")","v":"Cukup aktif bertanya, mencoba, menalar dan kreatif dalam menyelesaikan tugas praktek"}]
["C3",{"$f":"NILSM3!BL4","v":4},"-",null,null,null,77,{"$f":"VLOOKUP($X$14,TABNILSM3,NILSM3!BL7)","v":"-"},"-",{"$f":"IFERROR(IF($W$19=DATABASE!$B$2,VLOOKUP(I45,TABDESPENGETAHUAN,2),IF($W$19=DATABASE!$B$3,VLOOKUP(I45,DESKPENGETAHUANSM3,DESKSM3!S8),\"-\")),\"-\")","v":"-"},null,null,77,{"$f":"VLOOKUP($X$14,TABNILSM3,NILSM3!BM7)","v":"-"},"-",{"$f":"IFERROR(IF($W$19=DATABASE!$B$2,VLOOKUP(O45,TABDESKETERAMPILAN,2),IF($W$19=DATABASE!$B$3,VLOOKUP(O45,DESKKETERAMPILANSM3,DESKSM3!S8),\"-\")),\"-\")","v":"-"}]
["C3",{"$f":"NILSM3!BO4","v":5},"-",null,null,null,77,{"$f":"VLOOKUP($X$14,TABNILSM3,NILSM3!BO7)","v":"-"},"-",{"$f":"IFERROR(IF($W$19=DATABASE!$B$2,VLOOKUP(I46,TABDESPENGETAHUAN,2),IF($W$19=DATABASE!$B$3,VLOOKUP(I46,DESKPENGETAHUANSM3,DESKSM3!S9),\"-\")),\"-\")","v":"-"},null,null,77,{"$f":"VLOOKUP($X$14,TABNILSM3,NILSM3!BP7)","v":"-"},"-",{"$f":"IFERROR(IF($W$19=DATABASE!$B$2,VLOOKUP(O46,TABDESKETERAMPILAN,2),IF($W$19=DATABASE!$B$3,VLOOKUP(O46,DESKKETERAMPILANSM3,DESKSM3!S9),\"-\")),\"-\")","v":"-"}]
["C3",{"$f":"NILSM3!BR4","v":6},"Produk Kreatif dan Kewirausahaan ",null,null,null,77,{"$f":"VLOOKUP($X$14,TABNILSM3,NILSM3!BR7)","v":82.5},"C",{"$f":"IFERROR(IF($W$19=DATABASE!$B$2,VLOOKUP(I47,TABDESPENGETAHUAN,2),IF($W$19=DATABASE!$B$3,VLOOKUP(I47,DESKPENGETAHUANSM3,DESKSM3!S10),\"-\")),\"-\")","v":"Cukup baik memahami sebagian kompetensi dasar, tetapi kurang bisa menerapkan, menganalisis dan mengevaluasinya."},null,null,77,{"$f":"VLOOKUP($X$14,TABNILSM3,NILSM3!BS7)","v":95.25},"A",{"$f":"IFERROR(IF($W$19=DATABASE!$B$2,VLOOKUP(O47,TABDESKETERAMPILAN,2),IF($W$19=DATABASE!$B$3,VLOOKUP(O47,DESKKETERAMPILANSM3,DESKSM3!S10),\"-\")),\"-\")","v":"Sangat baik dan aktif bertanya, mencoba, menalar dan kreatif dalam menyelesaikan tugas praktek."}]
[null,null,"Rata-rata",null,null,null,null,{"$f":"VLOOKUP($X$14,TABNILSM3,NILSM3!DO7)","v":86},{"$f":"VLOOKUP(H48,TABEL_NILAI,4)","v":"B"},null,null,null,null,{"$f":"VLOOKUP($X$14,TABNILSM3,NILSM3!DP7)","v":87},{"$f":"VLOOKUP(N48,TABEL_NILAI,4)","v":"B"},"Total Nilai :"]
[null,null,"Jumlah Nilai",null,null,null,null,{"$f":"VLOOKUP($X$14,TABNILSM3,NILSM3!DQ7)","v":944},null,null,null,null,null,{"$f":"VLOOKUP($X$14,TABNILSM3,NILSM3!DR7)","v":961},null,{"$f":"VLOOKUP($X$14,TABNILSM3,NILSM3!DS7)","v":1905}]
[]
[null,"C.  Praktek Kerja Lapangan"]
[null,"No.","Mitra DU/DI",null,null,null,null,null,"Lokasi",null,null,"Lamanya (Bulan)","Keterangan"]
[null,1,{"$f":"IF(VLOOKUP($X$14,TABNILSM3,NILSM3!CQ7)=\"\",\"-\",VLOOKUP($X$14,TABNILSM3,NILSM3!CQ7))","v":"-"},null,null,null,null,null,{"$f":"IF(VLOOKUP($X$14,TABNILSM3,NILSM3!CR7)=\"\",\"-\",VLOOKUP($X$14,TABNILSM3,NILSM3!CR7))","v":"-"},null,null,{"$f":"IF(VLOOKUP($X$14,TABNILSM3,NILSM3!CS7)=\"\",\"-\",VLOOKUP($X$14,TABNILSM3,NILSM3!CS7))","v":"-"},{"$f":"IF(VLOOKUP($X$14,TABNILSM3,NILSM3!CT7)=\"\",\"-\",VLOOKUP($X$14,TABNILSM3,NILSM3!CT7))","v":"-"},{"$f":"IF(VLOOKUP($X$14,TABNILSM2,NILSM2!CU7)=\"\",\"-\",VLOOKUP($X$14,TABNILSM2,NILSM2!CU7))","v":"Badan Pertanahan Nasional Kab.Karawang"},{"$f":"IF(VLOOKUP($X$14,TABNILSM2,NILSM2!CV7)=\"\",\"-\",VLOOKUP($X$14,TABNILSM2,NILSM2!CV7))","v":"Karawang"},{"$f":"IF(VLOOKUP($X$14,TABNILSM2,NILSM2!CW7)=\"\",\"-\",VLOOKUP($X$14,TABNILSM2,NILSM2!CW7))","v":3},{"$f":"IF(VLOOKUP($X$14,TABNILSM2,NILSM2!CX7)=\"\",\"-\",VLOOKUP($X$14,TABNILSM2,NILSM2!CX7))","v":"Baik"},{"$f":"IF(VLOOKUP($X$14,TABNILSM2,NILSM2!CY7)=\"\",\"-\",VLOOKUP($X$14,TABNILSM2,NILSM2!CY7))","v":"Karate"}]
[null,2,{"$f":"IF(VLOOKUP($X$14,TABNILSM3,NILSM3!CU7)=\"\",\"-\",VLOOKUP($X$14,TABNILSM3,NILSM3!CU7))","v":"-"},null,null,null,null,null,{"$f":"IF(VLOOKUP($X$14,TABNILSM3,NILSM3!CV7)=\"\",\"-\",VLOOKUP($X$14,TABNILSM3,NILSM3!CV7))","v":"-"},null,null,{"$f":"IF(VLOOKUP($X$14,TABNILSM3,NILSM3!CW7)=\"\",\"-\",VLOOKUP($X$14,TABNILSM3,NILSM3!CW7))","v":"-"},{"$f":"IF(VLOOKUP($X$14,TABNILSM3,NILSM3!CX7)=\"\",\"-\",VLOOKUP($X$14,TABNILSM3,NILSM3!CX7))","v":"-"},{"$f":"IF(VLOOKUP($X$14,TABNILSM2,NILSM2!CY7)=\"\",\"-\",VLOOKUP($X$14,TABNILSM2,NILSM2!CY7))","v":"Karate"},{"$f":"IF(VLOOKUP($X$14,TABNILSM2,NILSM2!CZ7)=\"\",\"-\",VLOOKUP($X$14,TABNILSM2,NILSM2!CZ7))","v":"B"},{"$f":"IF(VLOOKUP($X$14,TABNILSM2,NILSM2!DA7)=\"\",\"-\",VLOOKUP($X$14,TABNILSM2,NILSM2!DA7))","v":"Palang Merah Remaja"},{"$f":"IF(VLOOKUP($X$14,TABNILSM2,NILSM2!DB7)=\"\",\"-\",VLOOKUP($X$14,TABNILSM2,NILSM2!DB7))","v":"B"},{"$f":"IF(VLOOKUP($X$14,TABNILSM2,NILSM2!DC7)=\"\",\"-\",VLOOKUP($X$14,TABNILSM2,NILSM2!DC7))","v":"Pramuka"}]
[]
[null,"D.  Ekstrakurikuler"]
[null,"No.","Kegiatan Ekstrakurikuler",null,null,null,null,null,null,"Keterangan"]
[null,1,{"$f":"IF(VLOOKUP($X$14,TABNILSM3,NILSM3!CY7)=\"\",\"-\",VLOOKUP($X$14,TABNILSM3,NILSM3!CY7))","v":"Karate"},null,null,null,null,null,null,{"$f":"IF(VLOOKUP($X$14,TABNILSM3,NILSM3!CZ7)=\"\",\"-\",VLOOKUP(S58,TABNESKUL,2,FALSE))","v":"Baik, berprestasi, disiplin dan rajin berlatih"},null,null,null,null,null,null,null,null,{"$f":"VLOOKUP($X$14,TABNILSM3,NILSM3!CZ7)","v":"B"}]
[null,2,{"$f":"IF(VLOOKUP($X$14,TABNILSM3,NILSM3!DA7)=\"\",\"-\",VLOOKUP($X$14,TABNILSM3,NILSM3!DA7))","v":"Palang Merah Remaja"},null,null,null,null,null,null,{"$f":"IF(VLOOKUP($X$14,TABNILSM3,NILSM3!DB7)=\"\",\"-\",VLOOKUP(S59,TABNESKUL,2,FALSE))","v":"Baik, berprestasi, disiplin dan rajin berlatih"},null,null,null,null,null,null,null,null,{"$f":"VLOOKUP($X$14,TABNILSM3,NILSM3!DB7)","v":"B"}]
[null,3,{"$f":"IF(VLOOKUP($X$14,TABNILSM3,NILSM3!DC7)=\"\",\"-\",VLOOKUP($X$14,TABNILSM3,NILSM3!DC7))","v":"Pramuka"},null,null,null,null,null,null,{"$f":"IF(VLOOKUP($X$14,TABNILSM3,NILSM3!DD7)=\"\",\"-\",VLOOKUP(S60,TABNESKUL,2,FALSE))","v":"Baik, berprestasi, disiplin dan rajin berlatih"},null,null,null,null,null,null,null,null,{"$f":"VLOOKUP($X$14,TABNILSM3,NILSM3!DD7)","v":"B"}]
[]
[null,"E.  Prestasi"]
[null,"No.","Jenis Prestasi",null,null,null,null,null,null,"Keterangan"]
[null,1,{"$f":"IF(VLOOKUP($X$14,TABNILSM3,NILSM3!DE7)=\"\",\"-\",VLOOKUP($X$14,TABNILSM3,NILSM3!DE7))","v":"-"}]
[null,2,{"$f":"IF(VLOOKUP($X$14,TABNILSM3,NILSM3!DG7)=\"\",\"-\",VLOOKUP($X$14,TABNILSM3,NILSM3!DG7))","v":"-"}]
[null,null,null,null,null,null,null,null,null,null,null,null,null,null,null,null,null,null,null,null,null,null,{"$f":"VLOOKUP($X$14,TABNILSM3,NILSM3!B7)","v":"BILLY RIZKI JHONATHAN"}]
[null,"F.  Ketidakhadiran",null,null,null,null,null,null,"G.  Catatan Wali Kelas"]
[null,"Sakit",null,":",{"$f":"VLOOKUP($X$14,TABNILSM3,NILSM3!DI7)","v":"-"},null,null,null,null,null,null,null,null,null,null,null,null,"Peringkat di Kelas :",null,null,null,null,{"$f":"\"Nomor Urut \"&X14","v":"Nomor Urut 6"}]
[null,"Izin",null,":",{"$f":"VLOOKUP($X$14,TABNILSM3,NILSM3!DJ7)","v":"-"},null,null,null,null,null,null,null,null,null,null,null,null,{"$f":"IF(VLOOKUP($X$14,TABNILSM3,NILSM3!DU7)=\"\",\"-\",VLOOKUP($X$14,TABNILSM3,NILSM3!DU7)&\" dari \"&VLOOKUP($X$14,TABNILSM3,NILSM3!DV7))","v":"2 dari 36"},{"$f":"VLOOKUP($X$14,TABNILSM3,NILSM3!DW7)","v":0}]
[null,"Tanpa Keterangan",null,":",{"$f":"VLOOKUP($X$14,TABNILSM3,NILSM3!DK7)","v":"-"}]
[]
[null,"H.  Tanggapan Orang Tua/Wali"]
[]
[]
[]
[]
[]
[]
[null,null,"Mengetahui,",null,null,null,null,null,null,null,null,null,null,null,null,{"$f":"NILSM3!DX4","v":"Karawang, 14 Desember 2018"}]
[null,null,"Orang Tua/Wali,",null,null,null,null,null,null,null,null,null,null,null,null,"Wali Kelas,"]
[]
[]
[]
[]
[null,null,null,null,null,null,null,null,null,null,null,null,null,null,null,{"$f":"NILSM3!B4","v":"Bimuka Jati Andromeda, S.Pd"}]
[null,null,null,null,null,null,null,null,null,null,null,null,null,null,null,{"$f":"IF(NILSM3!A5=\"NIP\",\"NIP \"&NILSM3!B5,\"\")","v":"NIP 19900202 201503 1 003"}]
[null,null,null,null,null,null,null,null,null,"Mengetahui :"]
[null,null,null,null,null,null,null,null,null,"Kepala Sekolah,"]
[]
[]
[]
[]
[null,null,null,null,null,null,null,null,null,{"$f":"MENU!P8","v":"Drs. Agus Rukmawan, S.IP, MM"}]
[null,null,null,null,null,null,null,null,null,{"$f":"\"NIP \"&MENU!P9","v":"NIP 19611111 198603 1 008"}]

{"sheet":"CETSM4","index":22,"n_rows":94,"n_cols":24,"rows_kept":94,"cut":false,"hidden":false,"merged":[[72,1,75,17],[63,2,63,8],[63,9,63,17],[64,2,64,8],[64,9,64,17],[65,22,66,24],[67,4,67,6],[67,22,68,24],[68,4,68,6],[68,17,69,17],[69,4,69,6],[58,2,58,8],[58,9,58,17],[59,2,59,8],[59,9,59,17],[62,2,62,8],[62,9,62,17],[53,2,53,7],[53,8,53,10],[53,12,53,17],[56,2,56,8],[56,9,56,17],[57,2,57,8],[57,9,57,17],[51,2,51,7],[51,8,51,10],[51,12,51,17],[52,2,52,7],[52,8,52,10],[52,12,52,17],[46,2,46,5],[46,9,46,11],[46,15,46,17],[47,2,47,6],[47,15,47,17],[48,2,48,6],[48,7,48,8],[48,13,48,14],[48,15,48,17],[44,2,44,5],[44,9,44,11],[44,15,44,17],[45,2,45,5],[45,9,45,11],[45,15,45,17],[42,2,42,5],[42,9,42,11],[42,15,42,17],[43,2,43,5],[43,9,43,11],[43,15,43,17],[39,2,39,5],[39,9,39,11],[39,15,39,17],[41,2,41,5],[41,9,41,11],[41,15,41,17],[37,2,37,5],[37,9,37,11],[37,15,37,17],[38,2,38,5],[38,9,38,11],[38,15,38,17],[34,2,34,5],[34,9,34,11],[34,15,34,17],[36,2,36,5],[36,9,36,11],[36,15,36,17],[30,1,30,5],[32,2,32,5],[32,9,32,11],[32,15,32,17],[33,2,33,5],[33,9,33,11],[33,15,33,17],[28,2,28,5],[28,9,28,11],[28,15,28,17],[29,2,29,5],[29,9,29,11],[29,15,29,17],[24,1,24,5],[25,2,25,5],[25,9,25,11],[25,15,25,17],[26,2,26,5],[26,9,26,11],[26,15,26,17],[27,2,27,6],[22,2,22,5],[22,9,22,11],[22,15,22,17],[23,2,23,5],[23,9,23,11],[23,15,23,17],[20,2,20,5],[20,9,20,11],[20,15,20,17],[21,2,21,5],[21,9,21,11],[21,15,21,17],[17,22,17,23],[18,2,18,5],[18,9,18,11],[18,15,18,17],[18,22,18,23],[19,2,19,5],[19,9,19,11],[19,15,19,17],[15,1,16,1],[15,2,16,5],[15,6,15,11],[15,12,15,17],[16,9,16,11],[16,15,16,17],[10,1,12,1],[10,2,12,5],[10,6,12,17],[12,22,12,23],[13,22,14,22],[13,23,14,23],[5,22,5,23],[6,22,7,22],[6,23,7,23],[7,2,7,5],[7,6,7,17],[8,1,9,1],[8,2,9,5],[8,6,9,17],[8,22,9,22],[8,23,9,23]]}
[null,"Nama Sekolah",null,":","SMKN 1 KARAWANG",null,null,null,null,null,null,null,null,null,"Kelas",null,":",{"$f":"IF(OR(R2=\"1 (satu)\",R2=\"2 (dua)\"),\"X \"&MENU!I9,IF(OR(R2=\"3 (tiga)\",R2=\"4 (empat)\"),\"XI \"&MENU!I9,IF(OR(R2=\"5 (lima)\",R2=\"6 (enam)\"),\"XII \"&MENU!I9,\"\")))","v":"XI TKRO 1"}]
[null,"Alamat",null,":","Jl. Pangkal Perjuangan By Pass Karawang",null,null,null,null,null,null,null,null,null,"Semester",null,":",{"$f":"NILSM4!B3","v":"4 (empat)"}]
[null,"Nama Siswa",null,":",{"$f":"VLOOKUP($X$14,TABNILSM4,NILSM4!B7)","v":"BILLY RIZKI JHONATHAN"},null,null,null,null,null,null,null,null,null,"Tahun Pelajaran",null,":",{"$f":"RIGHT(NILSM4!A2,11)","v":"2018 / 2019"}]
[null,"Nomor Induk/NISN",null,":",{"$f":"IF(VLOOKUP($X$14,TABBIODATA,BIODATA!E4)=\"\",VLOOKUP($X$14,TABBIODATA,BIODATA!D4),VLOOKUP($X$14,TABBIODATA,BIODATA!D4)&\" / \"&VLOOKUP($X$14,TABBIODATA,BIODATA!E4))","v":"13140772 / 9975460320"}]
[]
[null,"CAPAIAN HASIL BELAJAR",null,null,null,null,null,null,null,null,null,null,null,null,null,null,null,null,null,null,null,null,"HALAMAN CETAK"]
[null,"A.  Sikap",null,null,null,null,null,null,null,null,null,null,null,null,null,null,null,null,null,null,null,null,"Dari data ke",2]
[null,"No.","Kompetensi Inti",null,null,null,"Deskripsi"]
[null,"1","Sikap Spiritual",null,null,null,{"$f":"IFERROR(VLOOKUP(S9,TABDESSPIRITUAL,2),\"-\")","v":"Baik, dapat menerima, menjalankan, menghargai, menghayati dan mengamalkan ajaran agama yang dianut."},null,null,null,null,null,null,null,null,null,null,null,{"$f":"VLOOKUP($X$14,TABNILSM4,NILSM4!DL7)","v":"B"},null,null,null,"Sampai data ke",2]
[]
[null,2,"Sikap Sosial",null,null,null,{"$f":"IFERROR(VLOOKUP(S11,TABDESSOSIAL,2),\"-\")","v":"Sudah menunjukkan konsisten menerapkan sikap jujur, santun dan toleran dalam pergaulan, disiplin, kerjasama dalam kelompok dan tanggungjawab dalam keseharian sebagai hasil pembelajaran di sekolah. Tingkatkan sikap-sikap positif tersebut agar lebih baik."},null,null,null,null,null,null,null,null,null,null,null,{"$f":"VLOOKUP($X$14,TABNILSM4,NILSM4!DM7)","v":"B"}]
[]
[null,null,null,null,null,null,null,null,null,null,null,null,null,null,null,null,null,null,null,null,null,null,"TAMPILAN DATA"]
[null,null,null,null,null,null,null,null,null,null,null,null,null,null,null,null,null,null,null,null,null,null,"Nomor Urut",6]
[null,"B.  Pengetahuan dan Keterampilan"]
["P","No.","Mata Pelajaran",null,null,null,"Pengetahuan",null,null,null,null,null,"Keterampilan"]
["K",null,null,null,null,null,"KKM","Angka","Predikat","Deskripsi",null,null,"KKM","Angka","Predikat","Deskripsi"]
[null,"Muatan Nasional",null,null,null,null,null,null,null,null,null,null,null,null,null,null,null,null,null,null,null,null,"PILIHAN DESKRIPSI"]
["A",{"$f":"NILSM4!D4","v":1},{"$f":"IFERROR(HLOOKUP($R$2&A19&B19&$A$16,MAPELSM4,2,FALSE),\"-\")","v":"Pendidikan Agama dan Budi Pekerti"},null,null,null,{"$f":"IFERROR(HLOOKUP($R$2&A19&B19&$A$16,MAPELSM4,5,FALSE),\"-\")","v":77},{"$f":"IFERROR(ROUND(VLOOKUP($X$14,TABNILSM4,NILSM4!D7),0),\"-\")","v":92},{"$f":"IFERROR(VLOOKUP(H19,TABEL_NILAI,4),\"-\")","v":"B"},{"$f":"IFERROR(IF($W$19=DATABASE!$B$2,VLOOKUP(I19,TABDESPENGETAHUAN,2),IF($W$19=DATABASE!$B$3,VLOOKUP(I19,DESKPENGETAHUANSM4,DESKSM4!D3),\"-\")),\"-\")","v":"Baik dalam memahami, menerapkan, menganalisis dan mengevaluasi sebagian besar kompetensi dasar."},null,null,{"$f":"IFERROR(HLOOKUP($R$2&A19&B19&$A$17,MAPELSM4,5,FALSE),\"-\")","v":77},{"$f":"ROUND(VLOOKUP($X$14,TABNILSM4,NILSM4!E7),0)","v":83},{"$f":"IFERROR(VLOOKUP(N19,TABEL_NILAI,4),\"-\")","v":"C"},{"$f":"IFERROR(IF($W$19=DATABASE!$B$2,VLOOKUP(O19,TABDESKETERAMPILAN,2),IF($W$19=DATABASE!$B$3,VLOOKUP(O19,DESKKETERAMPILANSM4,DESKSM4!D3),\"-\")),\"-\")","v":"Cukup aktif bertanya, mencoba, menalar dan kreatif dalam menyelesaikan tugas praktek"},null,null,null,null,null,null,"OTOMATIS"]
["A",{"$f":"NILSM4!G4","v":2},"Pendidikan Pancasila dan Kewarganegaraan",null,null,null,77,{"$f":"ROUND(VLOOKUP($X$14,TABNILSM4,NILSM4!G7),0)","v":90},{"$f":"IFERROR(VLOOKUP(H20,TABEL_NILAI,4),\"-\")","v":"B"},{"$f":"IFERROR(IF($W$19=DATABASE!$B$2,VLOOKUP(I20,TABDESPENGETAHUAN,2),IF($W$19=DATABASE!$B$3,VLOOKUP(I20,DESKPENGETAHUANSM4,DESKSM4!D4),\"-\")),\"-\")","v":"Baik dalam memahami, menerapkan, menganalisis dan mengevaluasi sebagian besar kompetensi dasar."},null,null,77,{"$f":"ROUND(VLOOKUP($X$14,TABNILSM4,NILSM4!H7),0)","v":86},"B",{"$f":"IFERROR(IF($W$19=DATABASE!$B$2,VLOOKUP(O20,TABDESKETERAMPILAN,2),IF($W$19=DATABASE!$B$3,VLOOKUP(O20,DESKKETERAMPILANSM4,DESKSM4!E3),\"-\")),\"-\")","v":"Baik dan aktif bertanya, mencoba, menalar dan kreatif dalam menyelesaikan sebagian besar tugas praktek."}]
["A",{"$f":"NILSM4!J4","v":3},"Bahasa Indonesia",null,null,null,77,{"$f":"ROUND(VLOOKUP($X$14,TABNILSM4,NILSM4!J7),0)","v":89},"B",{"$f":"IFERROR(IF($W$19=DATABASE!$B$2,VLOOKUP(I21,TABDESPENGETAHUAN,2),IF($W$19=DATABASE!$B$3,VLOOKUP(I21,DESKPENGETAHUANSM4,DESKSM4!D5),\"-\")),\"-\")","v":"Baik dalam memahami, menerapkan, menganalisis dan mengevaluasi sebagian besar kompetensi dasar."},null,null,77,{"$f":"ROUND(VLOOKUP($X$14,TABNILSM4,NILSM4!K7),0)","v":98},"A",{"$f":"IFERROR(IF($W$19=DATABASE!$B$2,VLOOKUP(O21,TABDESKETERAMPILAN,2),IF($W$19=DATABASE!$B$3,VLOOKUP(O21,DESKKETERAMPILANSM4,DESKSM4!F3),\"-\")),\"-\")","v":"Sangat baik dan aktif bertanya, mencoba, menalar dan kreatif dalam menyelesaikan tugas praktek."}]
["A",{"$f":"NILSM4!M4","v":4},"Matematika",null,null,null,77,{"$f":"ROUND(VLOOKUP($X$14,TABNILSM4,NILSM4!M7),0)","v":78},"C",{"$f":"IFERROR(IF($W$19=DATABASE!$B$2,VLOOKUP(I22,TABDESPENGETAHUAN,2),IF($W$19=DATABASE!$B$3,VLOOKUP(I22,DESKPENGETAHUANSM4,DESKSM4!D6),\"-\")),\"-\")","v":"Cukup baik memahami sebagian kompetensi dasar, tetapi kurang bisa menerapkan, menganalisis dan mengevaluasinya."},null,null,77,{"$f":"ROUND(VLOOKUP($X$14,TABNILSM4,NILSM4!N7),0)","v":84},"C",{"$f":"IFERROR(IF($W$19=DATABASE!$B$2,VLOOKUP(O22,TABDESKETERAMPILAN,2),IF($W$19=DATABASE!$B$3,VLOOKUP(O22,DESKKETERAMPILANSM4,DESKSM4!G3),\"-\")),\"-\")","v":"Cukup aktif bertanya, mencoba, menalar dan kreatif dalam menyelesaikan tugas praktek"}]
["A",{"$f":"NILSM4!P4","v":"-"},"-",null,null,null,77,{"$f":"IFERROR(ROUND(VLOOKUP($X$14,TABNILSM4,NILSM4!P7),0),\"-\")","v":"-"},"-",{"$f":"IFERROR(IF($W$19=DATABASE!$B$2,VLOOKUP(I23,TABDESPENGETAHUAN,2),IF($W$19=DATABASE!$B$3,VLOOKUP(I23,DESKPENGETAHUANSM4,DESKSM4!D7),\"-\")),\"-\")","v":"-"},null,null,77,{"$f":"IFERROR(ROUND(VLOOKUP($X$14,TABNILSM4,NILSM4!Q7),0),\"-\")","v":"-"},"-",{"$f":"IFERROR(IF($W$19=DATABASE!$B$2,VLOOKUP(O23,TABDESKETERAMPILAN,2),IF($W$19=DATABASE!$B$3,VLOOKUP(O23,DESKKETERAMPILANSM4,DESKSM4!H3),\"-\")),\"-\")","v":"-"}]
["A",{"$f":"NILSM4!S4","v":5},"Bahasa Inggris",null,null,null,77,{"$f":"ROUND(VLOOKUP($X$14,TABNILSM4,NILSM4!S7),0)","v":93},"B",{"$f":"IFERROR(IF($W$19=DATABASE!$B$2,VLOOKUP(I24,TABDESPENGETAHUAN,2),IF($W$19=DATABASE!$B$3,VLOOKUP(I24,DESKPENGETAHUANSM4,DESKSM4!D8),\"-\")),\"-\")","v":"Baik dalam memahami, menerapkan, menganalisis dan mengevaluasi sebagian besar kompetensi dasar."},null,null,77,{"$f":"ROUND(VLOOKUP($X$14,TABNILSM4,NILSM4!T7),0)","v":93},"B",{"$f":"IFERROR(IF($W$19=DATABASE!$B$2,VLOOKUP(O24,TABDESKETERAMPILAN,2),IF($W$19=DATABASE!$B$3,VLOOKUP(O24,DESKKETERAMPILANSM4,DESKSM4!I3),\"-\")),\"-\")","v":"Baik dan aktif bertanya, mencoba, menalar dan kreatif dalam menyelesaikan sebagian besar tugas praktek."}]
[null,"Muatan Kewilayahan"]
["B",{"$f":"NILSM4!V4","v":"-"},{"$f":"IFERROR(HLOOKUP($R$2&A26&B26&$A$16,MAPELSM4,2,FALSE),\"-\")","v":"-"},null,null,null,{"$f":"IFERROR(HLOOKUP($R$2&A26&B26&$A$16,MAPELSM4,5,FALSE),\"-\")","v":77},{"$f":"IFERROR(ROUND(VLOOKUP($X$14,TABNILSM4,NILSM4!V7),0),\"-\")","v":"-"},{"$f":"IFERROR(VLOOKUP(H26,TABEL_NILAI,4),\"-\")","v":"-"},{"$f":"IFERROR(IF($W$19=DATABASE!$B$2,VLOOKUP(I26,TABDESPENGETAHUAN,2),IF($W$19=DATABASE!$B$3,VLOOKUP(I26,DESKPENGETAHUANSM4,DESKSM4!J3),\"-\")),\"-\")","v":"-"},null,null,{"$f":"IFERROR(HLOOKUP($R$2&A26&B26&$A$17,MAPELSM4,5,FALSE),\"-\")","v":77},{"$f":"IFERROR(ROUND(VLOOKUP($X$14,TABNILSM4,NILSM4!W7),0),\"-\")","v":"-"},{"$f":"IFERROR(VLOOKUP(N26,TABEL_NILAI,4),\"-\")","v":"-"},{"$f":"IFERROR(IF($W$19=DATABASE!$B$2,VLOOKUP(O26,TABDESKETERAMPILAN,2),IF($W$19=DATABASE!$B$3,VLOOKUP(O26,DESKKETERAMPILANSM4,DESKSM4!J3),\"-\")),\"-\")","v":"-"}]
["B",{"$f":"NILSM4!Y4","v":1},{"$f":"IFERROR(HLOOKUP($R$2&A27&B27&$A$16,MAPELSM4,2,FALSE),\"-\")","v":"Pendidikan Jasmani, Olah Raga & Kesehatan"},null,null,null,{"$f":"IFERROR(HLOOKUP($R$2&A27&B27&$A$16,MAPELSM4,5,FALSE),\"-\")","v":77},{"$f":"ROUND(VLOOKUP($X$14,TABNILSM4,NILSM4!Y7),0)","v":88},{"$f":"IFERROR(VLOOKUP(H27,TABEL_NILAI,4),\"-\")","v":"B"},{"$f":"IFERROR(IF($W$19=DATABASE!$B$2,VLOOKUP(I27,TABDESPENGETAHUAN,2),IF($W$19=DATABASE!$B$3,VLOOKUP(I27,DESKPENGETAHUANSM4,DESKSM4!J4),\"-\")),\"-\")","v":"Baik dalam memahami, menerapkan, menganalisis dan mengevaluasi sebagian besar kompetensi dasar."},null,null,{"$f":"IFERROR(HLOOKUP($R$2&A27&B27&$A$17,MAPELSM4,5,FALSE),\"-\")","v":77},{"$f":"ROUND(VLOOKUP($X$14,TABNILSM4,NILSM4!Z7),0)","v":90},{"$f":"IFERROR(VLOOKUP(N27,TABEL_NILAI,4),\"-\")","v":"B"},{"$f":"IFERROR(IF($W$19=DATABASE!$B$2,VLOOKUP(O27,TABDESKETERAMPILAN,2),IF($W$19=DATABASE!$B$3,VLOOKUP(O27,DESKKETERAMPILANSM4,DESKSM4!J4),\"-\")),\"-\")","v":"Baik dan aktif bertanya, mencoba, menalar dan kreatif dalam menyelesaikan sebagian besar tugas praktek."}]
[null,null,"Muatan Lokal"]
["B",{"$f":"NILSM4!AB4","v":"-"},{"$f":"IFERROR(HLOOKUP($R$2&A29&B29&$A$16,MAPELSM4,2,FALSE),\"-\")","v":"-"},null,null,null,{"$f":"IFERROR(HLOOKUP($R$2&A29&B29&$A$16,MAPELSM4,5,FALSE),\"-\")","v":77},{"$f":"IFERROR(ROUND(VLOOKUP($X$14,TABNILSM4,NILSM4!AB7),0),\"-\")","v":"-"},{"$f":"IFERROR(VLOOKUP(H29,TABEL_NILAI,4),\"-\")","v":"-"},{"$f":"IFERROR(IF($W$19=DATABASE!$B$2,VLOOKUP(I29,TABDESPENGETAHUAN,2),IF($W$19=DATABASE!$B$3,VLOOKUP(I29,DESKPENGETAHUANSM4,DESKSM4!J5),\"-\")),\"-\")","v":"-"},null,null,{"$f":"IFERROR(HLOOKUP($R$2&A29&B29&$A$17,MAPELSM4,5,FALSE),\"-\")","v":77},{"$f":"IFERROR(ROUND(VLOOKUP($X$14,TABNILSM4,NILSM4!AC7),0),\"-\")","v":"-"},{"$f":"IFERROR(VLOOKUP(N29,TABEL_NILAI,4),\"-\")","v":"-"},{"$f":"IFERROR(IF($W$19=DATABASE!$B$2,VLOOKUP(O29,TABDESKETERAMPILAN,2),IF($W$19=DATABASE!$B$3,VLOOKUP(O29,DESKKETERAMPILANSM4,DESKSM4!J5),\"-\")),\"-\")","v":"-"}]
["B",{"$f":"NILSM4!AE4","v":2},{"$f":"IFERROR(HLOOKUP($R$2&A30&B30&$A$16,MAPELSM4,2,FALSE),\"-\")","v":"Bahasa Jepang"},null,null,null,{"$f":"IFERROR(HLOOKUP($R$2&A30&B30&$A$16,MAPELSM4,5,FALSE),\"-\")","v":77},{"$f":"ROUND(VLOOKUP($X$14,TABNILSM4,NILSM4!AE7),0)","v":90},{"$f":"IFERROR(VLOOKUP(H30,TABEL_NILAI,4),\"-\")","v":"B"},{"$f":"IFERROR(IF($W$19=DATABASE!$B$2,VLOOKUP(I30,TABDESPENGETAHUAN,2),IF($W$19=DATABASE!$B$3,VLOOKUP(I30,DESKPENGETAHUANSM4,DESKSM4!J6),\"-\")),\"-\")","v":"Baik dalam memahami, menerapkan, menganalisis dan mengevaluasi sebagian besar kompetensi dasar."},null,null,{"$f":"IFERROR(HLOOKUP($R$2&A30&B30&$A$17,MAPELSM4,5,FALSE),\"-\")","v":77},{"$f":"ROUND(VLOOKUP($X$14,TABNILSM4,NILSM4!AF7),0)","v":88},{"$f":"IFERROR(VLOOKUP(N30,TABEL_NILAI,4),\"-\")","v":"B"},{"$f":"IFERROR(IF($W$19=DATABASE!$B$2,VLOOKUP(O30,TABDESKETERAMPILAN,2),IF($W$19=DATABASE!$B$3,VLOOKUP(O30,DESKKETERAMPILANSM4,DESKSM4!J6),\"-\")),\"-\")","v":"Baik dan aktif bertanya, mencoba, menalar dan kreatif dalam menyelesaikan sebagian besar tugas praktek."}]
[null,"Muatan Peminatan Kejuruan"]
[null,"C1","Dasar Bidang Keahlian"]
["C1",{"$f":"NILSM4!AH4","v":1},{"$f":"IFERROR(HLOOKUP($R$2&A33&B33&$A$16,MAPELSM4,2,FALSE),\"-\")","v":"-"},null,null,null,{"$f":"IFERROR(HLOOKUP($R$2&A33&B33&$A$16,MAPELSM4,5,FALSE),\"-\")","v":77},{"$f":"VLOOKUP($X$14,TABNILSM4,NILSM4!AH7)","v":"-"},{"$f":"IFERROR(VLOOKUP(H33,TABEL_NILAI,4),\"-\")","v":"-"},{"$f":"IFERROR(IF($W$19=DATABASE!$B$2,VLOOKUP(I33,TABDESPENGETAHUAN,2),IF($W$19=DATABASE!$B$3,VLOOKUP(I33,DESKPENGETAHUANSM4,DESKSM4!M3),\"-\")),\"-\")","v":"-"},null,null,{"$f":"IFERROR(HLOOKUP($R$2&A33&B33&$A$17,MAPELSM4,5,FALSE),\"-\")","v":77},{"$f":"VLOOKUP($X$14,TABNILSM4,NILSM4!AI7)","v":"-"},{"$f":"IFERROR(VLOOKUP(N33,TABEL_NILAI,4),\"-\")","v":"-"},{"$f":"IFERROR(IF($W$19=DATABASE!$B$2,VLOOKUP(O33,TABDESKETERAMPILAN,2),IF($W$19=DATABASE!$B$3,VLOOKUP(O33,DESKKETERAMPILANSM4,DESKSM4!M3),\"-\")),\"-\")","v":"-"}]
["C1",{"$f":"NILSM4!AK4","v":2},{"$f":"IFERROR(HLOOKUP($R$2&A34&B34&$A$16,MAPELSM4,2,FALSE),\"-\")","v":"-"},null,null,null,{"$f":"IFERROR(HLOOKUP($R$2&A34&B34&$A$16,MAPELSM4,5,FALSE),\"-\")","v":77},{"$f":"VLOOKUP($X$14,TABNILSM4,NILSM4!AK7)","v":"-"},{"$f":"IFERROR(VLOOKUP(H34,TABEL_NILAI,4),\"-\")","v":"-"},{"$f":"IFERROR(IF($W$19=DATABASE!$B$2,VLOOKUP(I34,TABDESPENGETAHUAN,2),IF($W$19=DATABASE!$B$3,VLOOKUP(I34,DESKPENGETAHUANSM4,DESKSM4!N3),\"-\")),\"-\")","v":"-"},null,null,{"$f":"IFERROR(HLOOKUP($R$2&A34&B34&$A$17,MAPELSM4,5,FALSE),\"-\")","v":77},{"$f":"VLOOKUP($X$14,TABNILSM4,NILSM4!AL7)","v":"-"},{"$f":"IFERROR(VLOOKUP(N34,TABEL_NILAI,4),\"-\")","v":"-"},{"$f":"IFERROR(IF($W$19=DATABASE!$B$2,VLOOKUP(O34,TABDESKETERAMPILAN,2),IF($W$19=DATABASE!$B$3,VLOOKUP(O34,DESKKETERAMPILANSM4,DESKSM4!N3),\"-\")),\"-\")","v":"-"}]
["C1",{"$f":"NILSM4!AN4","v":3},{"$f":"IFERROR(HLOOKUP($R$2&A35&B35&$A$16,MAPELSM4,2,FALSE),\"-\")","v":"-"},null,null,null,{"$f":"IFERROR(HLOOKUP($R$2&A35&B35&$A$16,MAPELSM4,5,FALSE),\"-\")","v":77},{"$f":"VLOOKUP($X$14,TABNILSM4,NILSM4!AN7)","v":"-"},{"$f":"IFERROR(VLOOKUP(H35,TABEL_NILAI,4),\"-\")","v":"-"},{"$f":"IFERROR(IF($W$19=DATABASE!$B$2,VLOOKUP(I35,TABDESPENGETAHUAN,2),IF($W$19=DATABASE!$B$3,VLOOKUP(I35,DESKPENGETAHUANSM4,DESKSM4!O3),\"-\")),\"-\")","v":"-"},null,null,{"$f":"IFERROR(HLOOKUP($R$2&A35&B35&$A$17,MAPELSM4,5,FALSE),\"-\")","v":77},{"$f":"VLOOKUP($X$14,TABNILSM4,NILSM4!AO7)","v":"-"},{"$f":"IFERROR(VLOOKUP(N35,TABEL_NILAI,4),\"-\")","v":"-"},{"$f":"IFERROR(IF($W$19=DATABASE!$B$2,VLOOKUP(O35,TABDESKETERAMPILAN,2),IF($W$19=DATABASE!$B$3,VLOOKUP(O35,DESKKETERAMPILANSM4,DESKSM4!O3),\"-\")),\"-\")","v":"-"}]
[null,"C2","Dasar Program Keahlian"]
["C2",{"$f":"NILSM4!AQ4","v":1},{"$f":"IFERROR(HLOOKUP($R$2&A37&B37&$A$16,MAPELSM4,2,FALSE),\"-\")","v":"-"},null,null,null,{"$f":"IFERROR(HLOOKUP($R$2&A37&B37&$A$16,MAPELSM4,5,FALSE),\"-\")","v":77},{"$f":"VLOOKUP($X$14,TABNILSM4,NILSM4!AQ7)","v":"-"},{"$f":"IFERROR(VLOOKUP(H37,TABEL_NILAI,4),\"-\")","v":"-"},{"$f":"IFERROR(IF($W$19=DATABASE!$B$2,VLOOKUP(I37,TABDESPENGETAHUAN,2),IF($W$19=DATABASE!$B$3,VLOOKUP(I37,DESKPENGETAHUANSM4,DESKSM4!P3),\"-\")),\"-\")","v":"-"},null,null,{"$f":"IFERROR(HLOOKUP($R$2&A37&B37&$A$17,MAPELSM4,5,FALSE),\"-\")","v":77},{"$f":"VLOOKUP($X$14,TABNILSM4,NILSM4!AR7)","v":"-"},{"$f":"IFERROR(VLOOKUP(N37,TABEL_NILAI,4),\"-\")","v":"-"},{"$f":"IFERROR(IF($W$19=DATABASE!$B$2,VLOOKUP(O37,TABDESKETERAMPILAN,2),IF($W$19=DATABASE!$B$3,VLOOKUP(O37,DESKKETERAMPILANSM4,DESKSM4!P3),\"-\")),\"-\")","v":"-"}]
["C2",{"$f":"NILSM4!AT4","v":2},{"$f":"IFERROR(HLOOKUP($R$2&A38&B38&$A$16,MAPELSM4,2,FALSE),\"-\")","v":"-"},null,null,null,{"$f":"IFERROR(HLOOKUP($R$2&A38&B38&$A$16,MAPELSM4,5,FALSE),\"-\")","v":77},{"$f":"VLOOKUP($X$14,TABNILSM4,NILSM4!AT7)","v":"-"},"-",{"$f":"IFERROR(IF($W$19=DATABASE!$B$2,VLOOKUP(I38,TABDESPENGETAHUAN,2),IF($W$19=DATABASE!$B$3,VLOOKUP(I38,DESKPENGETAHUANSM4,DESKSM4!Q3),\"-\")),\"-\")","v":"-"},null,null,{"$f":"IFERROR(HLOOKUP($R$2&A38&B38&$A$17,MAPELSM4,5,FALSE),\"-\")","v":77},{"$f":"VLOOKUP($X$14,TABNILSM4,NILSM4!AU7)","v":"-"},"-",{"$f":"IFERROR(IF($W$19=DATABASE!$B$2,VLOOKUP(O38,TABDESKETERAMPILAN,2),IF($W$19=DATABASE!$B$3,VLOOKUP(O38,DESKKETERAMPILANSM4,DESKSM4!Q3),\"-\")),\"-\")","v":"-"}]
["C2",{"$f":"NILSM4!AW4","v":3},{"$f":"IFERROR(HLOOKUP($R$2&A39&B39&$A$16,MAPELSM4,2,FALSE),\"-\")","v":"-"},null,null,null,{"$f":"IFERROR(HLOOKUP($R$2&A39&B39&$A$16,MAPELSM4,5,FALSE),\"-\")","v":77},{"$f":"VLOOKUP($X$14,TABNILSM4,NILSM4!AW7)","v":"-"},"-",{"$f":"IFERROR(IF($W$19=DATABASE!$B$2,VLOOKUP(I39,TABDESPENGETAHUAN,2),IF($W$19=DATABASE!$B$3,VLOOKUP(I39,DESKPENGETAHUANSM4,DESKSM4!R3),\"-\")),\"-\")","v":"-"},null,null,{"$f":"IFERROR(HLOOKUP($R$2&A39&B39&$A$17,MAPELSM4,5,FALSE),\"-\")","v":77},{"$f":"VLOOKUP($X$14,TABNILSM4,NILSM4!AX7)","v":"-"},"-",{"$f":"IFERROR(IF($W$19=DATABASE!$B$2,VLOOKUP(O39,TABDESKETERAMPILAN,2),IF($W$19=DATABASE!$B$3,VLOOKUP(O39,DESKKETERAMPILANSM4,DESKSM4!R3),\"-\")),\"-\")","v":"-"}]
["C2",{"$f":"NILSM4!AZ4","v":4},{"$f":"IFERROR(HLOOKUP($R$2&A40&B40&$A$16,MAPELSM4,2,FALSE),\"-\")","v":"-"},null,null,null,{"$f":"IFERROR(HLOOKUP($R$2&A40&B40&$A$16,MAPELSM4,5,FALSE),\"-\")","v":77},{"$f":"VLOOKUP($X$14,TABNILSM4,NILSM4!AZ7)","v":"-"},"-",{"$f":"IFERROR(IF($W$19=DATABASE!$B$2,VLOOKUP(I40,TABDESPENGETAHUAN,2),IF($W$19=DATABASE!$B$3,VLOOKUP(I40,DESKPENGETAHUANSM4,DESKSM4!S3),\"-\")),\"-\")","v":"-"},null,null,{"$f":"IFERROR(HLOOKUP($R$2&A40&B40&$A$17,MAPELSM4,5,FALSE),\"-\")","v":77},{"$f":"VLOOKUP($X$14,TABNILSM4,NILSM4!BA7)","v":"-"},{"$f":"IFERROR(VLOOKUP(N40,TABEL_NILAI,4),\"-\")","v":"-"},{"$f":"IFERROR(IF($W$19=DATABASE!$B$2,VLOOKUP(O40,TABDESKETERAMPILAN,2),IF($W$19=DATABASE!$B$3,VLOOKUP(O40,DESKKETERAMPILANSM4,DESKSM4!S3),\"-\")),\"-\")","v":"-"}]
[null,"C3","Kompetensi Keahlian"]
["C3",{"$f":"NILSM4!BC4","v":1},{"$f":"IFERROR(HLOOKUP($R$2&A42&B42&$A$16,MAPELSM4,2,FALSE),\"-\")","v":"Administrasi Infrastruktur Jaringan"},null,null,null,{"$f":"IFERROR(HLOOKUP($R$2&A42&B42&$A$16,MAPELSM4,5,FALSE),\"-\")","v":77},{"$f":"VLOOKUP($X$14,TABNILSM4,NILSM4!BC7)","v":82},{"$f":"IFERROR(VLOOKUP(H42,TABEL_NILAI,4),\"-\")","v":"C"},{"$f":"IFERROR(IF($W$19=DATABASE!$B$2,VLOOKUP(I42,TABDESPENGETAHUAN,2),IF($W$19=DATABASE!$B$3,VLOOKUP(I42,DESKPENGETAHUANSM4,DESKSM4!S5),\"-\")),\"-\")","v":"Cukup baik memahami sebagian kompetensi dasar, tetapi kurang bisa menerapkan, menganalisis dan mengevaluasinya."},null,null,{"$f":"IFERROR(HLOOKUP($R$2&A42&B42&$A$17,MAPELSM4,5,FALSE),\"-\")","v":77},{"$f":"VLOOKUP($X$14,TABNILSM4,NILSM4!BD7)","v":82.25},{"$f":"IFERROR(VLOOKUP(N42,TABEL_NILAI,4),\"-\")","v":"C"},{"$f":"IFERROR(IF($W$19=DATABASE!$B$2,VLOOKUP(O42,TABDESKETERAMPILAN,2),IF($W$19=DATABASE!$B$3,VLOOKUP(O42,DESKKETERAMPILANSM4,DESKSM4!S5),\"-\")),\"-\")","v":"Cukup aktif bertanya, mencoba, menalar dan kreatif dalam menyelesaikan tugas praktek"}]
["C3",{"$f":"NILSM4!BF4","v":2},"Administrasi Sistem Jaringan",null,null,null,77,{"$f":"VLOOKUP($X$14,TABNILSM4,NILSM4!BF7)","v":95},"A",{"$f":"IFERROR(IF($W$19=DATABASE!$B$2,VLOOKUP(I43,TABDESPENGETAHUAN,2),IF($W$19=DATABASE!$B$3,VLOOKUP(I43,DESKPENGETAHUANSM4,DESKSM4!S6),\"-\")),\"-\")","v":"Sangat baik dalam memahami, menerapkan, menganalisis dan mengevaluasi semua kompetensi dasar."},null,null,77,{"$f":"VLOOKUP($X$14,TABNILSM4,NILSM4!BG7)","v":96.25},"A",{"$f":"IFERROR(IF($W$19=DATABASE!$B$2,VLOOKUP(O43,TABDESKETERAMPILAN,2),IF($W$19=DATABASE!$B$3,VLOOKUP(O43,DESKKETERAMPILANSM4,DESKSM4!S6),\"-\")),\"-\")","v":"Sangat baik dan aktif bertanya, mencoba, menalar dan kreatif dalam menyelesaikan tugas praktek."}]
["C3",{"$f":"NILSM4!BI4","v":3},"Teknologi Layanan Jaringan",null,null,null,77,{"$f":"VLOOKUP($X$14,TABNILSM4,NILSM4!BI7)","v":88.75},"B",{"$f":"IFERROR(IF($W$19=DATABASE!$B$2,VLOOKUP(I44,TABDESPENGETAHUAN,2),IF($W$19=DATABASE!$B$3,VLOOKUP(I44,DESKPENGETAHUANSM4,DESKSM4!S7),\"-\")),\"-\")","v":"Baik dalam memahami, menerapkan, menganalisis dan mengevaluasi sebagian besar kompetensi dasar."},null,null,77,{"$f":"VLOOKUP($X$14,TABNILSM4,NILSM4!BJ7)","v":93.25},"B",{"$f":"IFERROR(IF($W$19=DATABASE!$B$2,VLOOKUP(O44,TABDESKETERAMPILAN,2),IF($W$19=DATABASE!$B$3,VLOOKUP(O44,DESKKETERAMPILANSM4,DESKSM4!S7),\"-\")),\"-\")","v":"Baik dan aktif bertanya, mencoba, menalar dan kreatif dalam menyelesaikan sebagian besar tugas praktek."}]
["C3",{"$f":"NILSM4!BL4","v":4},"-",null,null,null,77,{"$f":"VLOOKUP($X$14,TABNILSM4,NILSM4!BL7)","v":"-"},"-",{"$f":"IFERROR(IF($W$19=DATABASE!$B$2,VLOOKUP(I45,TABDESPENGETAHUAN,2),IF($W$19=DATABASE!$B$3,VLOOKUP(I45,DESKPENGETAHUANSM4,DESKSM4!S8),\"-\")),\"-\")","v":"-"},null,null,77,{"$f":"VLOOKUP($X$14,TABNILSM4,NILSM4!BM7)","v":"-"},"-",{"$f":"IFERROR(IF($W$19=DATABASE!$B$2,VLOOKUP(O45,TABDESKETERAMPILAN,2),IF($W$19=DATABASE!$B$3,VLOOKUP(O45,DESKKETERAMPILANSM4,DESKSM4!S8),\"-\")),\"-\")","v":"-"}]
["C3",{"$f":"NILSM4!BO4","v":5},"-",null,null,null,77,{"$f":"VLOOKUP($X$14,TABNILSM4,NILSM4!BO7)","v":"-"},"-",{"$f":"IFERROR(IF($W$19=DATABASE!$B$2,VLOOKUP(I46,TABDESPENGETAHUAN,2),IF($W$19=DATABASE!$B$3,VLOOKUP(I46,DESKPENGETAHUANSM4,DESKSM4!S9),\"-\")),\"-\")","v":"-"},null,null,77,{"$f":"VLOOKUP($X$14,TABNILSM4,NILSM4!BP7)","v":"-"},"-",{"$f":"IFERROR(IF($W$19=DATABASE!$B$2,VLOOKUP(O46,TABDESKETERAMPILAN,2),IF($W$19=DATABASE!$B$3,VLOOKUP(O46,DESKKETERAMPILANSM4,DESKSM4!S9),\"-\")),\"-\")","v":"-"}]
["C3",{"$f":"NILSM4!BR4","v":6},"Produk Kreatif dan Kewirausahaan ",null,null,null,77,{"$f":"VLOOKUP($X$14,TABNILSM4,NILSM4!BR7)","v":82.5},"C",{"$f":"IFERROR(IF($W$19=DATABASE!$B$2,VLOOKUP(I47,TABDESPENGETAHUAN,2),IF($W$19=DATABASE!$B$3,VLOOKUP(I47,DESKPENGETAHUANSM4,DESKSM4!S10),\"-\")),\"-\")","v":"Cukup baik memahami sebagian kompetensi dasar, tetapi kurang bisa menerapkan, menganalisis dan mengevaluasinya."},null,null,77,{"$f":"VLOOKUP($X$14,TABNILSM4,NILSM4!BS7)","v":82.25},"C",{"$f":"IFERROR(IF($W$19=DATABASE!$B$2,VLOOKUP(O47,TABDESKETERAMPILAN,2),IF($W$19=DATABASE!$B$3,VLOOKUP(O47,DESKKETERAMPILANSM4,DESKSM4!S10),\"-\")),\"-\")","v":"Cukup aktif bertanya, mencoba, menalar dan kreatif dalam menyelesaikan tugas praktek"}]
[null,null,"Rata-rata",null,null,null,null,{"$f":"VLOOKUP($X$14,TABNILSM4,NILSM4!DO7)","v":88},{"$f":"VLOOKUP(H48,TABEL_NILAI,4)","v":"B"},null,null,null,null,{"$f":"VLOOKUP($X$14,TABNILSM4,NILSM4!DP7)","v":89},{"$f":"VLOOKUP(N48,TABEL_NILAI,4)","v":"B"},"Total Nilai :"]
[null,null,"Jumlah Nilai",null,null,null,null,{"$f":"VLOOKUP($X$14,TABNILSM4,NILSM4!DQ7)","v":967},null,null,null,null,null,{"$f":"VLOOKUP($X$14,TABNILSM4,NILSM4!DR7)","v":977},null,{"$f":"VLOOKUP($X$14,TABNILSM4,NILSM4!DS7)","v":1944}]
[]
[null,"C.  Praktek Kerja Lapangan"]
[null,"No.","Mitra DU/DI",null,null,null,null,null,"Lokasi",null,null,"Lamanya (Bulan)","Keterangan"]
[null,1,{"$f":"IF(VLOOKUP($X$14,TABNILSM4,NILSM4!CQ7)=\"\",\"-\",VLOOKUP($X$14,TABNILSM4,NILSM4!CQ7))","v":"PT. Astra Nippon Gasket Indonesia"},null,null,null,null,null,{"$f":"IF(VLOOKUP($X$14,TABNILSM4,NILSM4!CR7)=\"\",\"-\",VLOOKUP($X$14,TABNILSM4,NILSM4!CR7))","v":"KIIC, Karawang"},null,null,{"$f":"IF(VLOOKUP($X$14,TABNILSM4,NILSM4!CS7)=\"\",\"-\",VLOOKUP($X$14,TABNILSM4,NILSM4!CS7))","v":3},{"$f":"IF(VLOOKUP($X$14,TABNILSM4,NILSM4!CT7)=\"\",\"-\",VLOOKUP($X$14,TABNILSM4,NILSM4!CT7))","v":"Baik"},{"$f":"IF(VLOOKUP($X$14,TABNILSM2,NILSM2!CU7)=\"\",\"-\",VLOOKUP($X$14,TABNILSM2,NILSM2!CU7))","v":"Badan Pertanahan Nasional Kab.Karawang"},{"$f":"IF(VLOOKUP($X$14,TABNILSM2,NILSM2!CV7)=\"\",\"-\",VLOOKUP($X$14,TABNILSM2,NILSM2!CV7))","v":"Karawang"},{"$f":"IF(VLOOKUP($X$14,TABNILSM2,NILSM2!CW7)=\"\",\"-\",VLOOKUP($X$14,TABNILSM2,NILSM2!CW7))","v":3},{"$f":"IF(VLOOKUP($X$14,TABNILSM2,NILSM2!CX7)=\"\",\"-\",VLOOKUP($X$14,TABNILSM2,NILSM2!CX7))","v":"Baik"},{"$f":"IF(VLOOKUP($X$14,TABNILSM2,NILSM2!CY7)=\"\",\"-\",VLOOKUP($X$14,TABNILSM2,NILSM2!CY7))","v":"Karate"}]
[null,2,{"$f":"IF(VLOOKUP($X$14,TABNILSM4,NILSM4!CU7)=\"\",\"-\",VLOOKUP($X$14,TABNILSM4,NILSM4!CU7))","v":"Badan Pertanahan Nasional Kab.Karawang"},null,null,null,null,null,{"$f":"IF(VLOOKUP($X$14,TABNILSM4,NILSM4!CV7)=\"\",\"-\",VLOOKUP($X$14,TABNILSM4,NILSM4!CV7))","v":"Karawang"},null,null,{"$f":"IF(VLOOKUP($X$14,TABNILSM4,NILSM4!CW7)=\"\",\"-\",VLOOKUP($X$14,TABNILSM4,NILSM4!CW7))","v":3},{"$f":"IF(VLOOKUP($X$14,TABNILSM4,NILSM4!CX7)=\"\",\"-\",VLOOKUP($X$14,TABNILSM4,NILSM4!CX7))","v":"Baik"},{"$f":"IF(VLOOKUP($X$14,TABNILSM2,NILSM2!CY7)=\"\",\"-\",VLOOKUP($X$14,TABNILSM2,NILSM2!CY7))","v":"Karate"},{"$f":"IF(VLOOKUP($X$14,TABNILSM2,NILSM2!CZ7)=\"\",\"-\",VLOOKUP($X$14,TABNILSM2,NILSM2!CZ7))","v":"B"},{"$f":"IF(VLOOKUP($X$14,TABNILSM2,NILSM2!DA7)=\"\",\"-\",VLOOKUP($X$14,TABNILSM2,NILSM2!DA7))","v":"Palang Merah Remaja"},{"$f":"IF(VLOOKUP($X$14,TABNILSM2,NILSM2!DB7)=\"\",\"-\",VLOOKUP($X$14,TABNILSM2,NILSM2!DB7))","v":"B"},{"$f":"IF(VLOOKUP($X$14,TABNILSM2,NILSM2!DC7)=\"\",\"-\",VLOOKUP($X$14,TABNILSM2,NILSM2!DC7))","v":"Pramuka"}]
[]
[null,"D.  Ekstrakurikuler"]
[null,"No.","Kegiatan Ekstrakurikuler",null,null,null,null,null,null,"Keterangan"]
[null,1,{"$f":"IF(VLOOKUP($X$14,TABNILSM4,NILSM4!CY7)=\"\",\"-\",VLOOKUP($X$14,TABNILSM4,NILSM4!CY7))","v":"Karate"},null,null,null,null,null,null,{"$f":"IF(VLOOKUP($X$14,TABNILSM4,NILSM4!CZ7)=\"\",\"-\",VLOOKUP(S58,TABNESKUL,2,FALSE))","v":"Baik, berprestasi, disiplin dan rajin berlatih"},null,null,null,null,null,null,null,null,{"$f":"VLOOKUP($X$14,TABNILSM4,NILSM4!CZ7)","v":"B"}]
[null,2,{"$f":"IF(VLOOKUP($X$14,TABNILSM4,NILSM4!DA7)=\"\",\"-\",VLOOKUP($X$14,TABNILSM4,NILSM4!DA7))","v":"Palang Merah Remaja"},null,null,null,null,null,null,{"$f":"IF(VLOOKUP($X$14,TABNILSM4,NILSM4!DB7)=\"\",\"-\",VLOOKUP(S59,TABNESKUL,2,FALSE))","v":"Baik, berprestasi, disiplin dan rajin berlatih"},null,null,null,null,null,null,null,null,{"$f":"VLOOKUP($X$14,TABNILSM4,NILSM4!DB7)","v":"B"}]
[null,3,{"$f":"IF(VLOOKUP($X$14,TABNILSM4,NILSM4!DC7)=\"\",\"-\",VLOOKUP($X$14,TABNILSM4,NILSM4!DC7))","v":"Pramuka"},null,null,null,null,null,null,{"$f":"IF(VLOOKUP($X$14,TABNILSM4,NILSM4!DD7)=\"\",\"-\",VLOOKUP(S60,TABNESKUL,2,FALSE))","v":"Baik, berprestasi, disiplin dan rajin berlatih"},null,null,null,null,null,null,null,null,{"$f":"VLOOKUP($X$14,TABNILSM4,NILSM4!DD7)","v":"B"}]
[]
[null,"E.  Prestasi"]
[null,"No.","Jenis Prestasi",null,null,null,null,null,null,"Keterangan"]
[null,1,{"$f":"IF(VLOOKUP($X$14,TABNILSM4,NILSM4!DE7)=\"\",\"-\",VLOOKUP($X$14,TABNILSM4,NILSM4!DE7))","v":"-"}]
[null,2,{"$f":"IF(VLOOKUP($X$14,TABNILSM4,NILSM4!DG7)=\"\",\"-\",VLOOKUP($X$14,TABNILSM4,NILSM4!DG7))","v":"-"}]
[null,null,null,null,null,null,null,null,null,null,null,null,null,null,null,null,null,null,null,null,null,null,{"$f":"VLOOKUP($X$14,TABNILSM4,NILSM4!B7)","v":"BILLY RIZKI JHONATHAN"}]
[null,"F.  Ketidakhadiran",null,null,null,null,null,null,"G.  Catatan Wali Kelas"]
[null,"Sakit",null,":",{"$f":"VLOOKUP($X$14,TABNILSM4,NILSM4!DI7)","v":"-"},null,null,null,null,null,null,null,null,null,null,null,null,"Peringkat di Kelas :",null,null,null,null,{"$f":"\"Nomor Urut \"&X14","v":"Nomor Urut 6"}]
[null,"Izin",null,":",{"$f":"VLOOKUP($X$14,TABNILSM4,NILSM4!DJ7)","v":"-"},null,null,null,null,null,null,null,null,null,null,null,null,{"$f":"IF(VLOOKUP($X$14,TABNILSM4,NILSM4!DU7)=\"\",\"-\",VLOOKUP($X$14,TABNILSM4,NILSM4!DU7)&\" dari \"&VLOOKUP($X$14,TABNILSM4,NILSM4!DV7))","v":"-"},{"$f":"VLOOKUP($X$14,TABNILSM4,NILSM4!DW7)","v":"NAIK KELAS"}]
[null,"Tanpa Keterangan",null,":",{"$f":"VLOOKUP($X$14,TABNILSM4,NILSM4!DK7)","v":"-"}]
[]
[null,"H.  Tanggapan Orang Tua/Wali"]
[]
[]
[]
[]
[]
[]
[null,null,"Mengetahui,",null,null,null,null,null,null,null,null,null,null,null,null,{"$f":"NILSM4!DX4","v":0}]
[null,null,"Orang Tua/Wali,",null,null,null,null,null,null,null,null,null,null,null,null,"Wali Kelas,"]
[]
[]
[]
[]
[null,null,null,null,null,null,null,null,null,null,null,null,null,null,null,{"$f":"NILSM4!B4","v":"Bimuka Jati Andromeda, S.Pd"}]
[null,null,null,null,null,null,null,null,null,null,null,null,null,null,null,{"$f":"IF(NILSM4!A5=\"NIP\",\"NIP \"&NILSM4!B5,\"\")","v":"NIP 19900202 201503 1 003"}]
[null,null,null,null,null,null,null,null,null,"Mengetahui :"]
[null,null,null,null,null,null,null,null,null,"Kepala Sekolah,"]
[]
[]
[]
[]
[null,null,null,null,null,null,null,null,null,{"$f":"MENU!P8","v":"Drs. Agus Rukmawan, S.IP, MM"}]
[null,null,null,null,null,null,null,null,null,{"$f":"\"NIP \"&MENU!P9","v":"NIP 19611111 198603 1 008"}]

{"sheet":"CETSM5","index":23,"n_rows":94,"n_cols":24,"rows_kept":94,"cut":false,"hidden":false,"merged":[[72,1,75,17],[63,2,63,8],[63,9,63,17],[64,2,64,8],[64,9,64,17],[65,22,66,24],[67,4,67,6],[67,22,68,24],[68,4,68,6],[68,17,69,17],[69,4,69,6],[58,2,58,8],[58,9,58,17],[59,2,59,8],[59,9,59,17],[62,2,62,8],[62,9,62,17],[53,2,53,7],[53,8,53,10],[53,12,53,17],[56,2,56,8],[56,9,56,17],[57,2,57,8],[57,9,57,17],[51,2,51,7],[51,8,51,10],[51,12,51,17],[52,2,52,7],[52,8,52,10],[52,12,52,17],[46,2,46,5],[46,9,46,11],[46,15,46,17],[47,2,47,6],[47,15,47,17],[48,2,48,6],[48,7,48,8],[48,13,48,14],[48,15,48,17],[44,2,44,5],[44,9,44,11],[44,15,44,17],[45,2,45,5],[45,9,45,11],[45,15,45,17],[42,2,42,5],[42,9,42,11],[42,15,42,17],[43,2,43,5],[43,9,43,11],[43,15,43,17],[39,2,39,5],[39,9,39,11],[39,15,39,17],[41,2,41,5],[41,9,41,11],[41,15,41,17],[37,2,37,5],[37,9,37,11],[37,15,37,17],[38,2,38,5],[38,9,38,11],[38,15,38,17],[34,2,34,5],[34,9,34,11],[34,15,34,17],[36,2,36,5],[36,9,36,11],[36,15,36,17],[30,1,30,5],[32,2,32,5],[32,9,32,11],[32,15,32,17],[33,2,33,5],[33,9,33,11],[33,15,33,17],[28,2,28,5],[28,9,28,11],[28,15,28,17],[29,2,29,5],[29,9,29,11],[29,15,29,17],[24,1,24,5],[25,2,25,5],[25,9,25,11],[25,15,25,17],[26,2,26,5],[26,9,26,11],[26,15,26,17],[27,2,27,6],[22,2,22,5],[22,9,22,11],[22,15,22,17],[23,2,23,5],[23,9,23,11],[23,15,23,17],[20,2,20,5],[20,9,20,11],[20,15,20,17],[21,2,21,5],[21,9,21,11],[21,15,21,17],[17,22,17,23],[18,2,18,5],[18,9,18,11],[18,15,18,17],[18,22,18,23],[19,2,19,5],[19,9,19,11],[19,15,19,17],[15,1,16,1],[15,2,16,5],[15,6,15,11],[15,12,15,17],[16,9,16,11],[16,15,16,17],[10,1,12,1],[10,2,12,5],[10,6,12,17],[12,22,12,23],[13,22,14,22],[13,23,14,23],[5,22,5,23],[6,22,7,22],[6,23,7,23],[7,2,7,5],[7,6,7,17],[8,1,9,1],[8,2,9,5],[8,6,9,17],[8,22,9,22],[8,23,9,23]]}
[null,"Nama Sekolah",null,":","SMKN 1 KARAWANG",null,null,null,null,null,null,null,null,null,"Kelas",null,":",{"$f":"IF(OR(R2=\"1 (satu)\",R2=\"2 (dua)\"),\"X \"&MENU!I9,IF(OR(R2=\"3 (tiga)\",R2=\"4 (empat)\"),\"XI \"&MENU!I9,IF(OR(R2=\"5 (lima)\",R2=\"6 (enam)\"),\"XII \"&MENU!I9,\"\")))","v":"XII TKRO 1"}]
[null,"Alamat",null,":","Jl. Pangkal Perjuangan By Pass Karawang",null,null,null,null,null,null,null,null,null,"Semester",null,":",{"$f":"NILSM5!B3","v":"5 (lima)"}]
[null,"Nama Siswa",null,":",{"$f":"VLOOKUP($X$14,TABNILSM5,NILSM5!B7)","v":"BILLY RIZKI JHONATHAN"},null,null,null,null,null,null,null,null,null,"Tahun Pelajaran",null,":",{"$f":"RIGHT(NILSM5!A2,11)","v":"2019 / 2020"}]
[null,"Nomor Induk/NISN",null,":",{"$f":"IF(VLOOKUP($X$14,TABBIODATA,BIODATA!E4)=\"\",VLOOKUP($X$14,TABBIODATA,BIODATA!D4),VLOOKUP($X$14,TABBIODATA,BIODATA!D4)&\" / \"&VLOOKUP($X$14,TABBIODATA,BIODATA!E4))","v":"13140772 / 9975460320"}]
[]
[null,"CAPAIAN HASIL BELAJAR",null,null,null,null,null,null,null,null,null,null,null,null,null,null,null,null,null,null,null,null,"HALAMAN CETAK"]
[null,"A.  Sikap",null,null,null,null,null,null,null,null,null,null,null,null,null,null,null,null,null,null,null,null,"Dari data ke",2]
[null,"No.","Kompetensi Inti",null,null,null,"Deskripsi"]
[null,"1","Sikap Spiritual",null,null,null,{"$f":"IFERROR(VLOOKUP(S9,TABDESSPIRITUAL,2),\"-\")","v":"Baik, dapat menerima, menjalankan, menghargai, menghayati dan mengamalkan ajaran agama yang dianut."},null,null,null,null,null,null,null,null,null,null,null,{"$f":"VLOOKUP($X$14,TABNILSM5,NILSM5!DL7)","v":"B"},null,null,null,"Sampai data ke",2]
[]
[null,2,"Sikap Sosial",null,null,null,{"$f":"IFERROR(VLOOKUP(S11,TABDESSOSIAL,2),\"-\")","v":"Sudah menunjukkan konsisten menerapkan sikap jujur, santun dan toleran dalam pergaulan, disiplin, kerjasama dalam kelompok dan tanggungjawab dalam keseharian sebagai hasil pembelajaran di sekolah. Tingkatkan sikap-sikap positif tersebut agar lebih baik."},null,null,null,null,null,null,null,null,null,null,null,{"$f":"VLOOKUP($X$14,TABNILSM5,NILSM5!DM7)","v":"B"}]
[]
[null,null,null,null,null,null,null,null,null,null,null,null,null,null,null,null,null,null,null,null,null,null,"TAMPILAN DATA"]
[null,null,null,null,null,null,null,null,null,null,null,null,null,null,null,null,null,null,null,null,null,null,"Nomor Urut",6]
[null,"B.  Pengetahuan dan Keterampilan"]
["P","No.","Mata Pelajaran",null,null,null,"Pengetahuan",null,null,null,null,null,"Keterampilan"]
["K",null,null,null,null,null,"KKM","Angka","Predikat","Deskripsi",null,null,"KKM","Angka","Predikat","Deskripsi"]
[null,"Muatan Nasional",null,null,null,null,null,null,null,null,null,null,null,null,null,null,null,null,null,null,null,null,"PILIHAN DESKRIPSI"]
["A",{"$f":"NILSM5!D4","v":1},{"$f":"IFERROR(HLOOKUP($R$2&A19&B19&$A$16,MAPELSM5,2,FALSE),\"-\")","v":"Pendidikan Agama dan Budi Pekerti"},null,null,null,{"$f":"IFERROR(HLOOKUP($R$2&A19&B19&$A$16,MAPELSM5,5,FALSE),\"-\")","v":75},{"$f":"IFERROR(ROUND(VLOOKUP($X$14,TABNILSM5,NILSM5!D7),0),\"-\")","v":75},{"$f":"IFERROR(VLOOKUP(H19,TABEL_NILAI,4),\"-\")","v":"D"},{"$f":"IFERROR(IF($W$19=DATABASE!$B$2,VLOOKUP(I19,TABDESPENGETAHUAN,2),IF($W$19=DATABASE!$B$3,VLOOKUP(I19,DESKPENGETAHUANSM5,DESKSM5!D3),\"-\")),\"-\")","v":"Kurang dapat memahami, hanya bisa menerapkan, menganalisis, dan mengeveluasi sebagian kecil kompetensi dasar."},null,null,{"$f":"IFERROR(HLOOKUP($R$2&A19&B19&$A$17,MAPELSM5,5,FALSE),\"-\")","v":75},{"$f":"ROUND(VLOOKUP($X$14,TABNILSM5,NILSM5!E7),0)","v":76},{"$f":"IFERROR(VLOOKUP(N19,TABEL_NILAI,4),\"-\")","v":"D"},{"$f":"IFERROR(IF($W$19=DATABASE!$B$2,VLOOKUP(O19,TABDESKETERAMPILAN,2),IF($W$19=DATABASE!$B$3,VLOOKUP(O19,DESKKETERAMPILANSM5,DESKSM5!D3),\"-\")),\"-\")","v":"Kurang aktif bertanya, mencoba, menalar dan kreatif dalam menyelesaikan tugas praktek."},null,null,null,null,null,null,"OTOMATIS"]
["A",{"$f":"NILSM5!G4","v":2},"Pendidikan Pancasila dan Kewarganegaraan",null,null,null,75,{"$f":"ROUND(VLOOKUP($X$14,TABNILSM5,NILSM5!G7),0)","v":77},{"$f":"IFERROR(VLOOKUP(H20,TABEL_NILAI,4),\"-\")","v":"D"},{"$f":"IFERROR(IF($W$19=DATABASE!$B$2,VLOOKUP(I20,TABDESPENGETAHUAN,2),IF($W$19=DATABASE!$B$3,VLOOKUP(I20,DESKPENGETAHUANSM5,DESKSM5!D4),\"-\")),\"-\")","v":"Kurang dapat memahami, hanya bisa menerapkan, menganalisis, dan mengeveluasi sebagian kecil kompetensi dasar."},null,null,75,{"$f":"ROUND(VLOOKUP($X$14,TABNILSM5,NILSM5!H7),0)","v":78},"C",{"$f":"IFERROR(IF($W$19=DATABASE!$B$2,VLOOKUP(O20,TABDESKETERAMPILAN,2),IF($W$19=DATABASE!$B$3,VLOOKUP(O20,DESKKETERAMPILANSM5,DESKSM5!E3),\"-\")),\"-\")","v":"Cukup aktif bertanya, mencoba, menalar dan kreatif dalam menyelesaikan tugas praktek"}]
["A",{"$f":"NILSM5!J4","v":3},"Bahasa Indonesia",null,null,null,75,{"$f":"ROUND(VLOOKUP($X$14,TABNILSM5,NILSM5!J7),0)","v":79},"C",{"$f":"IFERROR(IF($W$19=DATABASE!$B$2,VLOOKUP(I21,TABDESPENGETAHUAN,2),IF($W$19=DATABASE!$B$3,VLOOKUP(I21,DESKPENGETAHUANSM5,DESKSM5!D5),\"-\")),\"-\")","v":"Cukup baik memahami sebagian kompetensi dasar, tetapi kurang bisa menerapkan, menganalisis dan mengevaluasinya."},null,null,75,{"$f":"ROUND(VLOOKUP($X$14,TABNILSM5,NILSM5!K7),0)","v":80},"C",{"$f":"IFERROR(IF($W$19=DATABASE!$B$2,VLOOKUP(O21,TABDESKETERAMPILAN,2),IF($W$19=DATABASE!$B$3,VLOOKUP(O21,DESKKETERAMPILANSM5,DESKSM5!F3),\"-\")),\"-\")","v":"Cukup aktif bertanya, mencoba, menalar dan kreatif dalam menyelesaikan tugas praktek"}]
["A",{"$f":"NILSM5!M4","v":4},"Matematika",null,null,null,75,{"$f":"ROUND(VLOOKUP($X$14,TABNILSM5,NILSM5!M7),0)","v":81},"C",{"$f":"IFERROR(IF($W$19=DATABASE!$B$2,VLOOKUP(I22,TABDESPENGETAHUAN,2),IF($W$19=DATABASE!$B$3,VLOOKUP(I22,DESKPENGETAHUANSM5,DESKSM5!D6),\"-\")),\"-\")","v":"Cukup baik memahami sebagian kompetensi dasar, tetapi kurang bisa menerapkan, menganalisis dan mengevaluasinya."},null,null,75,{"$f":"ROUND(VLOOKUP($X$14,TABNILSM5,NILSM5!N7),0)","v":82},"C",{"$f":"IFERROR(IF($W$19=DATABASE!$B$2,VLOOKUP(O22,TABDESKETERAMPILAN,2),IF($W$19=DATABASE!$B$3,VLOOKUP(O22,DESKKETERAMPILANSM5,DESKSM5!G3),\"-\")),\"-\")","v":"Cukup aktif bertanya, mencoba, menalar dan kreatif dalam menyelesaikan tugas praktek"}]
["A",{"$f":"NILSM5!P4","v":"-"},"-",null,null,null,75,{"$f":"IFERROR(ROUND(VLOOKUP($X$14,TABNILSM5,NILSM5!P7),0),\"-\")","v":"-"},"-",{"$f":"IFERROR(IF($W$19=DATABASE!$B$2,VLOOKUP(I23,TABDESPENGETAHUAN,2),IF($W$19=DATABASE!$B$3,VLOOKUP(I23,DESKPENGETAHUANSM5,DESKSM5!D7),\"-\")),\"-\")","v":"-"},null,null,75,{"$f":"IFERROR(ROUND(VLOOKUP($X$14,TABNILSM5,NILSM5!Q7),0),\"-\")","v":"-"},"-",{"$f":"IFERROR(IF($W$19=DATABASE!$B$2,VLOOKUP(O23,TABDESKETERAMPILAN,2),IF($W$19=DATABASE!$B$3,VLOOKUP(O23,DESKKETERAMPILANSM5,DESKSM5!H3),\"-\")),\"-\")","v":"-"}]
["A",{"$f":"NILSM5!S4","v":5},"Bahasa Inggris",null,null,null,75,{"$f":"ROUND(VLOOKUP($X$14,TABNILSM5,NILSM5!S7),0)","v":85},"C",{"$f":"IFERROR(IF($W$19=DATABASE!$B$2,VLOOKUP(I24,TABDESPENGETAHUAN,2),IF($W$19=DATABASE!$B$3,VLOOKUP(I24,DESKPENGETAHUANSM5,DESKSM5!D8),\"-\")),\"-\")","v":"Cukup baik memahami sebagian kompetensi dasar, tetapi kurang bisa menerapkan, menganalisis dan mengevaluasinya."},null,null,75,{"$f":"ROUND(VLOOKUP($X$14,TABNILSM5,NILSM5!T7),0)","v":86},"B",{"$f":"IFERROR(IF($W$19=DATABASE!$B$2,VLOOKUP(O24,TABDESKETERAMPILAN,2),IF($W$19=DATABASE!$B$3,VLOOKUP(O24,DESKKETERAMPILANSM5,DESKSM5!I3),\"-\")),\"-\")","v":"Baik dan aktif bertanya, mencoba, menalar dan kreatif dalam menyelesaikan sebagian besar tugas praktek."}]
[null,"Muatan Kewilayahan"]
["B",{"$f":"NILSM5!V4","v":"-"},{"$f":"IFERROR(HLOOKUP($R$2&A26&B26&$A$16,MAPELSM5,2,FALSE),\"-\")","v":"-"},null,null,null,{"$f":"IFERROR(HLOOKUP($R$2&A26&B26&$A$16,MAPELSM5,5,FALSE),\"-\")","v":75},{"$f":"IFERROR(ROUND(VLOOKUP($X$14,TABNILSM5,NILSM5!V7),0),\"-\")","v":"-"},{"$f":"IFERROR(VLOOKUP(H26,TABEL_NILAI,4),\"-\")","v":"-"},{"$f":"IFERROR(IF($W$19=DATABASE!$B$2,VLOOKUP(I26,TABDESPENGETAHUAN,2),IF($W$19=DATABASE!$B$3,VLOOKUP(I26,DESKPENGETAHUANSM5,DESKSM5!J3),\"-\")),\"-\")","v":"-"},null,null,{"$f":"IFERROR(HLOOKUP($R$2&A26&B26&$A$17,MAPELSM5,5,FALSE),\"-\")","v":75},{"$f":"IFERROR(ROUND(VLOOKUP($X$14,TABNILSM5,NILSM5!W7),0),\"-\")","v":"-"},{"$f":"IFERROR(VLOOKUP(N26,TABEL_NILAI,4),\"-\")","v":"-"},{"$f":"IFERROR(IF($W$19=DATABASE!$B$2,VLOOKUP(O26,TABDESKETERAMPILAN,2),IF($W$19=DATABASE!$B$3,VLOOKUP(O26,DESKKETERAMPILANSM5,DESKSM5!J3),\"-\")),\"-\")","v":"-"}]
["B",{"$f":"NILSM5!Y4","v":1},{"$f":"IFERROR(HLOOKUP($R$2&A27&B27&$A$16,MAPELSM5,2,FALSE),\"-\")","v":"-"},null,null,null,{"$f":"IFERROR(HLOOKUP($R$2&A27&B27&$A$16,MAPELSM5,5,FALSE),\"-\")","v":75},{"$f":"ROUND(VLOOKUP($X$14,TABNILSM5,NILSM5!Y7),0)","v":{"$error":"#VALUE!"}},{"$f":"IFERROR(VLOOKUP(H27,TABEL_NILAI,4),\"-\")","v":"-"},{"$f":"IFERROR(IF($W$19=DATABASE!$B$2,VLOOKUP(I27,TABDESPENGETAHUAN,2),IF($W$19=DATABASE!$B$3,VLOOKUP(I27,DESKPENGETAHUANSM5,DESKSM5!J4),\"-\")),\"-\")","v":"-"},null,null,{"$f":"IFERROR(HLOOKUP($R$2&A27&B27&$A$17,MAPELSM5,5,FALSE),\"-\")","v":75},{"$f":"ROUND(VLOOKUP($X$14,TABNILSM5,NILSM5!Z7),0)","v":{"$error":"#VALUE!"}},{"$f":"IFERROR(VLOOKUP(N27,TABEL_NILAI,4),\"-\")","v":"-"},{"$f":"IFERROR(IF($W$19=DATABASE!$B$2,VLOOKUP(O27,TABDESKETERAMPILAN,2),IF($W$19=DATABASE!$B$3,VLOOKUP(O27,DESKKETERAMPILANSM5,DESKSM5!J4),\"-\")),\"-\")","v":"-"}]
[null,null,"Muatan Lokal"]
["B",{"$f":"NILSM5!AB4","v":"-"},{"$f":"IFERROR(HLOOKUP($R$2&A29&B29&$A$16,MAPELSM5,2,FALSE),\"-\")","v":"-"},null,null,null,{"$f":"IFERROR(HLOOKUP($R$2&A29&B29&$A$16,MAPELSM5,5,FALSE),\"-\")","v":75},{"$f":"IFERROR(ROUND(VLOOKUP($X$14,TABNILSM5,NILSM5!AB7),0),\"-\")","v":"-"},{"$f":"IFERROR(VLOOKUP(H29,TABEL_NILAI,4),\"-\")","v":"-"},{"$f":"IFERROR(IF($W$19=DATABASE!$B$2,VLOOKUP(I29,TABDESPENGETAHUAN,2),IF($W$19=DATABASE!$B$3,VLOOKUP(I29,DESKPENGETAHUANSM5,DESKSM5!J5),\"-\")),\"-\")","v":"-"},null,null,{"$f":"IFERROR(HLOOKUP($R$2&A29&B29&$A$17,MAPELSM5,5,FALSE),\"-\")","v":75},{"$f":"IFERROR(ROUND(VLOOKUP($X$14,TABNILSM5,NILSM5!AC7),0),\"-\")","v":"-"},{"$f":"IFERROR(VLOOKUP(N29,TABEL_NILAI,4),\"-\")","v":"-"},{"$f":"IFERROR(IF($W$19=DATABASE!$B$2,VLOOKUP(O29,TABDESKETERAMPILAN,2),IF($W$19=DATABASE!$B$3,VLOOKUP(O29,DESKKETERAMPILANSM5,DESKSM5!J5),\"-\")),\"-\")","v":"-"}]
["B",{"$f":"NILSM5!AE4","v":2},{"$f":"IFERROR(HLOOKUP($R$2&A30&B30&$A$16,MAPELSM5,2,FALSE),\"-\")","v":"Bahasa Jepang"},null,null,null,{"$f":"IFERROR(HLOOKUP($R$2&A30&B30&$A$16,MAPELSM5,5,FALSE),\"-\")","v":75},{"$f":"ROUND(VLOOKUP($X$14,TABNILSM5,NILSM5!AE7),0)","v":93},{"$f":"IFERROR(VLOOKUP(H30,TABEL_NILAI,4),\"-\")","v":"B"},{"$f":"IFERROR(IF($W$19=DATABASE!$B$2,VLOOKUP(I30,TABDESPENGETAHUAN,2),IF($W$19=DATABASE!$B$3,VLOOKUP(I30,DESKPENGETAHUANSM5,DESKSM5!J6),\"-\")),\"-\")","v":"Baik dalam memahami, menerapkan, menganalisis dan mengevaluasi sebagian besar kompetensi dasar."},null,null,{"$f":"IFERROR(HLOOKUP($R$2&A30&B30&$A$17,MAPELSM5,5,FALSE),\"-\")","v":75},{"$f":"ROUND(VLOOKUP($X$14,TABNILSM5,NILSM5!AF7),0)","v":94},{"$f":"IFERROR(VLOOKUP(N30,TABEL_NILAI,4),\"-\")","v":"A"},{"$f":"IFERROR(IF($W$19=DATABASE!$B$2,VLOOKUP(O30,TABDESKETERAMPILAN,2),IF($W$19=DATABASE!$B$3,VLOOKUP(O30,DESKKETERAMPILANSM5,DESKSM5!J6),\"-\")),\"-\")","v":"Sangat baik dan aktif bertanya, mencoba, menalar dan kreatif dalam menyelesaikan tugas praktek."}]
[null,"Muatan Peminatan Kejuruan"]
[null,"C1","Dasar Bidang Keahlian"]
["C1",{"$f":"NILSM5!AH4","v":1},{"$f":"IFERROR(HLOOKUP($R$2&A33&B33&$A$16,MAPELSM5,2,FALSE),\"-\")","v":"-"},null,null,null,{"$f":"IFERROR(HLOOKUP($R$2&A33&B33&$A$16,MAPELSM5,5,FALSE),\"-\")","v":75},{"$f":"VLOOKUP($X$14,TABNILSM5,NILSM5!AH7)","v":"-"},{"$f":"IFERROR(VLOOKUP(H33,TABEL_NILAI,4),\"-\")","v":"-"},{"$f":"IFERROR(IF($W$19=DATABASE!$B$2,VLOOKUP(I33,TABDESPENGETAHUAN,2),IF($W$19=DATABASE!$B$3,VLOOKUP(I33,DESKPENGETAHUANSM5,DESKSM5!M3),\"-\")),\"-\")","v":"-"},null,null,{"$f":"IFERROR(HLOOKUP($R$2&A33&B33&$A$17,MAPELSM5,5,FALSE),\"-\")","v":75},{"$f":"VLOOKUP($X$14,TABNILSM5,NILSM5!AI7)","v":"-"},{"$f":"IFERROR(VLOOKUP(N33,TABEL_NILAI,4),\"-\")","v":"-"},{"$f":"IFERROR(IF($W$19=DATABASE!$B$2,VLOOKUP(O33,TABDESKETERAMPILAN,2),IF($W$19=DATABASE!$B$3,VLOOKUP(O33,DESKKETERAMPILANSM5,DESKSM5!M3),\"-\")),\"-\")","v":"-"}]
["C1",{"$f":"NILSM5!AK4","v":2},{"$f":"IFERROR(HLOOKUP($R$2&A34&B34&$A$16,MAPELSM5,2,FALSE),\"-\")","v":"-"},null,null,null,{"$f":"IFERROR(HLOOKUP($R$2&A34&B34&$A$16,MAPELSM5,5,FALSE),\"-\")","v":75},{"$f":"VLOOKUP($X$14,TABNILSM5,NILSM5!AK7)","v":"-"},{"$f":"IFERROR(VLOOKUP(H34,TABEL_NILAI,4),\"-\")","v":"-"},{"$f":"IFERROR(IF($W$19=DATABASE!$B$2,VLOOKUP(I34,TABDESPENGETAHUAN,2),IF($W$19=DATABASE!$B$3,VLOOKUP(I34,DESKPENGETAHUANSM5,DESKSM5!N3),\"-\")),\"-\")","v":"-"},null,null,{"$f":"IFERROR(HLOOKUP($R$2&A34&B34&$A$17,MAPELSM5,5,FALSE),\"-\")","v":75},{"$f":"VLOOKUP($X$14,TABNILSM5,NILSM5!AL7)","v":"-"},{"$f":"IFERROR(VLOOKUP(N34,TABEL_NILAI,4),\"-\")","v":"-"},{"$f":"IFERROR(IF($W$19=DATABASE!$B$2,VLOOKUP(O34,TABDESKETERAMPILAN,2),IF($W$19=DATABASE!$B$3,VLOOKUP(O34,DESKKETERAMPILANSM5,DESKSM5!N3),\"-\")),\"-\")","v":"-"}]
["C1",{"$f":"NILSM5!AN4","v":3},{"$f":"IFERROR(HLOOKUP($R$2&A35&B35&$A$16,MAPELSM5,2,FALSE),\"-\")","v":"-"},null,null,null,{"$f":"IFERROR(HLOOKUP($R$2&A35&B35&$A$16,MAPELSM5,5,FALSE),\"-\")","v":75},{"$f":"VLOOKUP($X$14,TABNILSM5,NILSM5!AN7)","v":"-"},{"$f":"IFERROR(VLOOKUP(H35,TABEL_NILAI,4),\"-\")","v":"-"},{"$f":"IFERROR(IF($W$19=DATABASE!$B$2,VLOOKUP(I35,TABDESPENGETAHUAN,2),IF($W$19=DATABASE!$B$3,VLOOKUP(I35,DESKPENGETAHUANSM5,DESKSM5!O3),\"-\")),\"-\")","v":"-"},null,null,{"$f":"IFERROR(HLOOKUP($R$2&A35&B35&$A$17,MAPELSM5,5,FALSE),\"-\")","v":75},{"$f":"VLOOKUP($X$14,TABNILSM5,NILSM5!AO7)","v":"-"},{"$f":"IFERROR(VLOOKUP(N35,TABEL_NILAI,4),\"-\")","v":"-"},{"$f":"IFERROR(IF($W$19=DATABASE!$B$2,VLOOKUP(O35,TABDESKETERAMPILAN,2),IF($W$19=DATABASE!$B$3,VLOOKUP(O35,DESKKETERAMPILANSM5,DESKSM5!O3),\"-\")),\"-\")","v":"-"}]
[null,"C2","Dasar Program Keahlian"]
["C2",{"$f":"NILSM5!AQ4","v":1},{"$f":"IFERROR(HLOOKUP($R$2&A37&B37&$A$16,MAPELSM5,2,FALSE),\"-\")","v":"-"},null,null,null,{"$f":"IFERROR(HLOOKUP($R$2&A37&B37&$A$16,MAPELSM5,5,FALSE),\"-\")","v":75},{"$f":"VLOOKUP($X$14,TABNILSM5,NILSM5!AQ7)","v":"-"},{"$f":"IFERROR(VLOOKUP(H37,TABEL_NILAI,4),\"-\")","v":"-"},{"$f":"IFERROR(IF($W$19=DATABASE!$B$2,VLOOKUP(I37,TABDESPENGETAHUAN,2),IF($W$19=DATABASE!$B$3,VLOOKUP(I37,DESKPENGETAHUANSM5,DESKSM5!P3),\"-\")),\"-\")","v":"-"},null,null,{"$f":"IFERROR(HLOOKUP($R$2&A37&B37&$A$17,MAPELSM5,5,FALSE),\"-\")","v":75},{"$f":"VLOOKUP($X$14,TABNILSM5,NILSM5!AR7)","v":"-"},{"$f":"IFERROR(VLOOKUP(N37,TABEL_NILAI,4),\"-\")","v":"-"},{"$f":"IFERROR(IF($W$19=DATABASE!$B$2,VLOOKUP(O37,TABDESKETERAMPILAN,2),IF($W$19=DATABASE!$B$3,VLOOKUP(O37,DESKKETERAMPILANSM5,DESKSM5!P3),\"-\")),\"-\")","v":"-"}]
["C2",{"$f":"NILSM5!AT4","v":2},{"$f":"IFERROR(HLOOKUP($R$2&A38&B38&$A$16,MAPELSM5,2,FALSE),\"-\")","v":"-"},null,null,null,{"$f":"IFERROR(HLOOKUP($R$2&A38&B38&$A$16,MAPELSM5,5,FALSE),\"-\")","v":75},{"$f":"VLOOKUP($X$14,TABNILSM5,NILSM5!AT7)","v":"-"},"-",{"$f":"IFERROR(IF($W$19=DATABASE!$B$2,VLOOKUP(I38,TABDESPENGETAHUAN,2),IF($W$19=DATABASE!$B$3,VLOOKUP(I38,DESKPENGETAHUANSM5,DESKSM5!Q3),\"-\")),\"-\")","v":"-"},null,null,{"$f":"IFERROR(HLOOKUP($R$2&A38&B38&$A$17,MAPELSM5,5,FALSE),\"-\")","v":75},{"$f":"VLOOKUP($X$14,TABNILSM5,NILSM5!AU7)","v":"-"},"-",{"$f":"IFERROR(IF($W$19=DATABASE!$B$2,VLOOKUP(O38,TABDESKETERAMPILAN,2),IF($W$19=DATABASE!$B$3,VLOOKUP(O38,DESKKETERAMPILANSM5,DESKSM5!Q3),\"-\")),\"-\")","v":"-"}]
["C2",{"$f":"NILSM5!AW4","v":3},{"$f":"IFERROR(HLOOKUP($R$2&A39&B39&$A$16,MAPELSM5,2,FALSE),\"-\")","v":"-"},null,null,null,{"$f":"IFERROR(HLOOKUP($R$2&A39&B39&$A$16,MAPELSM5,5,FALSE),\"-\")","v":75},{"$f":"VLOOKUP($X$14,TABNILSM5,NILSM5!AW7)","v":"-"},"-",{"$f":"IFERROR(IF($W$19=DATABASE!$B$2,VLOOKUP(I39,TABDESPENGETAHUAN,2),IF($W$19=DATABASE!$B$3,VLOOKUP(I39,DESKPENGETAHUANSM5,DESKSM5!R3),\"-\")),\"-\")","v":"-"},null,null,{"$f":"IFERROR(HLOOKUP($R$2&A39&B39&$A$17,MAPELSM5,5,FALSE),\"-\")","v":75},{"$f":"VLOOKUP($X$14,TABNILSM5,NILSM5!AX7)","v":"-"},"-",{"$f":"IFERROR(IF($W$19=DATABASE!$B$2,VLOOKUP(O39,TABDESKETERAMPILAN,2),IF($W$19=DATABASE!$B$3,VLOOKUP(O39,DESKKETERAMPILANSM5,DESKSM5!R3),\"-\")),\"-\")","v":"-"}]
["C2",{"$f":"NILSM5!AZ4","v":4},{"$f":"IFERROR(HLOOKUP($R$2&A40&B40&$A$16,MAPELSM5,2,FALSE),\"-\")","v":"-"},null,null,null,{"$f":"IFERROR(HLOOKUP($R$2&A40&B40&$A$16,MAPELSM5,5,FALSE),\"-\")","v":75},{"$f":"VLOOKUP($X$14,TABNILSM5,NILSM5!AZ7)","v":"-"},"-",{"$f":"IFERROR(IF($W$19=DATABASE!$B$2,VLOOKUP(I40,TABDESPENGETAHUAN,2),IF($W$19=DATABASE!$B$3,VLOOKUP(I40,DESKPENGETAHUANSM5,DESKSM5!S3),\"-\")),\"-\")","v":"-"},null,null,{"$f":"IFERROR(HLOOKUP($R$2&A40&B40&$A$17,MAPELSM5,5,FALSE),\"-\")","v":75},{"$f":"VLOOKUP($X$14,TABNILSM5,NILSM5!BA7)","v":"-"},{"$f":"IFERROR(VLOOKUP(N40,TABEL_NILAI,4),\"-\")","v":"-"},{"$f":"IFERROR(IF($W$19=DATABASE!$B$2,VLOOKUP(O40,TABDESKETERAMPILAN,2),IF($W$19=DATABASE!$B$3,VLOOKUP(O40,DESKKETERAMPILANSM5,DESKSM5!S3),\"-\")),\"-\")","v":"-"}]
[null,"C3","Kompetensi Keahlian"]
["C3",{"$f":"NILSM5!BC4","v":1},{"$f":"IFERROR(HLOOKUP($R$2&A42&B42&$A$16,MAPELSM5,2,FALSE),\"-\")","v":"Administrasi Infrastruktur Jaringan"},null,null,null,{"$f":"IFERROR(HLOOKUP($R$2&A42&B42&$A$16,MAPELSM5,5,FALSE),\"-\")","v":75},{"$f":"VLOOKUP($X$14,TABNILSM5,NILSM5!BC7)","v":77},{"$f":"IFERROR(VLOOKUP(H42,TABEL_NILAI,4),\"-\")","v":"D"},{"$f":"IFERROR(IF($W$19=DATABASE!$B$2,VLOOKUP(I42,TABDESPENGETAHUAN,2),IF($W$19=DATABASE!$B$3,VLOOKUP(I42,DESKPENGETAHUANSM5,DESKSM5!S5),\"-\")),\"-\")","v":"Kurang dapat memahami, hanya bisa menerapkan, menganalisis, dan mengeveluasi sebagian kecil kompetensi dasar."},null,null,{"$f":"IFERROR(HLOOKUP($R$2&A42&B42&$A$17,MAPELSM5,5,FALSE),\"-\")","v":75},{"$f":"VLOOKUP($X$14,TABNILSM5,NILSM5!BD7)","v":78},{"$f":"IFERROR(VLOOKUP(N42,TABEL_NILAI,4),\"-\")","v":"C"},{"$f":"IFERROR(IF($W$19=DATABASE!$B$2,VLOOKUP(O42,TABDESKETERAMPILAN,2),IF($W$19=DATABASE!$B$3,VLOOKUP(O42,DESKKETERAMPILANSM5,DESKSM5!S5),\"-\")),\"-\")","v":"Cukup aktif bertanya, mencoba, menalar dan kreatif dalam menyelesaikan tugas praktek"}]
["C3",{"$f":"NILSM5!BF4","v":2},"Administrasi Sistem Jaringan",null,null,null,75,{"$f":"VLOOKUP($X$14,TABNILSM5,NILSM5!BF7)","v":79},"C",{"$f":"IFERROR(IF($W$19=DATABASE!$B$2,VLOOKUP(I43,TABDESPENGETAHUAN,2),IF($W$19=DATABASE!$B$3,VLOOKUP(I43,DESKPENGETAHUANSM5,DESKSM5!S6),\"-\")),\"-\")","v":"Cukup baik memahami sebagian kompetensi dasar, tetapi kurang bisa menerapkan, menganalisis dan mengevaluasinya."},null,null,75,{"$f":"VLOOKUP($X$14,TABNILSM5,NILSM5!BG7)","v":80},"C",{"$f":"IFERROR(IF($W$19=DATABASE!$B$2,VLOOKUP(O43,TABDESKETERAMPILAN,2),IF($W$19=DATABASE!$B$3,VLOOKUP(O43,DESKKETERAMPILANSM5,DESKSM5!S6),\"-\")),\"-\")","v":"Cukup aktif bertanya, mencoba, menalar dan kreatif dalam menyelesaikan tugas praktek"}]
["C3",{"$f":"NILSM5!BI4","v":3},"Teknologi Layanan Jaringan",null,null,null,75,{"$f":"VLOOKUP($X$14,TABNILSM5,NILSM5!BI7)","v":81},"C",{"$f":"IFERROR(IF($W$19=DATABASE!$B$2,VLOOKUP(I44,TABDESPENGETAHUAN,2),IF($W$19=DATABASE!$B$3,VLOOKUP(I44,DESKPENGETAHUANSM5,DESKSM5!S7),\"-\")),\"-\")","v":"Cukup baik memahami sebagian kompetensi dasar, tetapi kurang bisa menerapkan, menganalisis dan mengevaluasinya."},null,null,75,{"$f":"VLOOKUP($X$14,TABNILSM5,NILSM5!BJ7)","v":82},"C",{"$f":"IFERROR(IF($W$19=DATABASE!$B$2,VLOOKUP(O44,TABDESKETERAMPILAN,2),IF($W$19=DATABASE!$B$3,VLOOKUP(O44,DESKKETERAMPILANSM5,DESKSM5!S7),\"-\")),\"-\")","v":"Cukup aktif bertanya, mencoba, menalar dan kreatif dalam menyelesaikan tugas praktek"}]
["C3",{"$f":"NILSM5!BL4","v":4},"-",null,null,null,75,{"$f":"VLOOKUP($X$14,TABNILSM5,NILSM5!BL7)","v":"-"},"-",{"$f":"IFERROR(IF($W$19=DATABASE!$B$2,VLOOKUP(I45,TABDESPENGETAHUAN,2),IF($W$19=DATABASE!$B$3,VLOOKUP(I45,DESKPENGETAHUANSM5,DESKSM5!S8),\"-\")),\"-\")","v":"-"},null,null,75,{"$f":"VLOOKUP($X$14,TABNILSM5,NILSM5!BM7)","v":"-"},"-",{"$f":"IFERROR(IF($W$19=DATABASE!$B$2,VLOOKUP(O45,TABDESKETERAMPILAN,2),IF($W$19=DATABASE!$B$3,VLOOKUP(O45,DESKKETERAMPILANSM5,DESKSM5!S8),\"-\")),\"-\")","v":"-"}]
["C3",{"$f":"NILSM5!BO4","v":5},"-",null,null,null,75,{"$f":"VLOOKUP($X$14,TABNILSM5,NILSM5!BO7)","v":"-"},"-",{"$f":"IFERROR(IF($W$19=DATABASE!$B$2,VLOOKUP(I46,TABDESPENGETAHUAN,2),IF($W$19=DATABASE!$B$3,VLOOKUP(I46,DESKPENGETAHUANSM5,DESKSM5!S9),\"-\")),\"-\")","v":"-"},null,null,75,{"$f":"VLOOKUP($X$14,TABNILSM5,NILSM5!BP7)","v":"-"},"-",{"$f":"IFERROR(IF($W$19=DATABASE!$B$2,VLOOKUP(O46,TABDESKETERAMPILAN,2),IF($W$19=DATABASE!$B$3,VLOOKUP(O46,DESKKETERAMPILANSM5,DESKSM5!S9),\"-\")),\"-\")","v":"-"}]
["C3",{"$f":"NILSM5!BR4","v":6},"Produk Kreatif dan Kewirausahaan ",null,null,null,75,{"$f":"VLOOKUP($X$14,TABNILSM5,NILSM5!BR7)","v":77},"D",{"$f":"IFERROR(IF($W$19=DATABASE!$B$2,VLOOKUP(I47,TABDESPENGETAHUAN,2),IF($W$19=DATABASE!$B$3,VLOOKUP(I47,DESKPENGETAHUANSM5,DESKSM5!S10),\"-\")),\"-\")","v":"Kurang dapat memahami, hanya bisa menerapkan, menganalisis, dan mengeveluasi sebagian kecil kompetensi dasar."},null,null,75,{"$f":"VLOOKUP($X$14,TABNILSM5,NILSM5!BS7)","v":78},"C",{"$f":"IFERROR(IF($W$19=DATABASE!$B$2,VLOOKUP(O47,TABDESKETERAMPILAN,2),IF($W$19=DATABASE!$B$3,VLOOKUP(O47,DESKKETERAMPILANSM5,DESKSM5!S10),\"-\")),\"-\")","v":"Cukup aktif bertanya, mencoba, menalar dan kreatif dalam menyelesaikan tugas praktek"}]
[null,null,"Rata-rata",null,null,null,null,{"$f":"VLOOKUP($X$14,TABNILSM5,NILSM5!DO7)","v":80},{"$f":"VLOOKUP(H48,TABEL_NILAI,4)","v":"C"},null,null,null,null,{"$f":"VLOOKUP($X$14,TABNILSM5,NILSM5!DP7)","v":81},{"$f":"VLOOKUP(N48,TABEL_NILAI,4)","v":"C"},"Total Nilai :"]
[null,null,"Jumlah Nilai",null,null,null,null,{"$f":"VLOOKUP($X$14,TABNILSM5,NILSM5!DQ7)","v":804},null,null,null,null,null,{"$f":"VLOOKUP($X$14,TABNILSM5,NILSM5!DR7)","v":814},null,{"$f":"VLOOKUP($X$14,TABNILSM5,NILSM5!DS7)","v":1618}]
[]
[null,"C.  Praktek Kerja Lapangan"]
[null,"No.","Mitra DU/DI",null,null,null,null,null,"Lokasi",null,null,"Lamanya (Bulan)","Keterangan"]
[null,1,{"$f":"IF(VLOOKUP($X$14,TABNILSM5,NILSM5!CQ7)=\"\",\"-\",VLOOKUP($X$14,TABNILSM5,NILSM5!CQ7))","v":"-"},null,null,null,null,null,{"$f":"IF(VLOOKUP($X$14,TABNILSM5,NILSM5!CR7)=\"\",\"-\",VLOOKUP($X$14,TABNILSM5,NILSM5!CR7))","v":"-"},null,null,{"$f":"IF(VLOOKUP($X$14,TABNILSM5,NILSM5!CS7)=\"\",\"-\",VLOOKUP($X$14,TABNILSM5,NILSM5!CS7))","v":"-"},{"$f":"IF(VLOOKUP($X$14,TABNILSM5,NILSM5!CT7)=\"\",\"-\",VLOOKUP($X$14,TABNILSM5,NILSM5!CT7))","v":"-"},{"$f":"IF(VLOOKUP($X$14,TABNILSM2,NILSM2!CU7)=\"\",\"-\",VLOOKUP($X$14,TABNILSM2,NILSM2!CU7))","v":"Badan Pertanahan Nasional Kab.Karawang"},{"$f":"IF(VLOOKUP($X$14,TABNILSM2,NILSM2!CV7)=\"\",\"-\",VLOOKUP($X$14,TABNILSM2,NILSM2!CV7))","v":"Karawang"},{"$f":"IF(VLOOKUP($X$14,TABNILSM2,NILSM2!CW7)=\"\",\"-\",VLOOKUP($X$14,TABNILSM2,NILSM2!CW7))","v":3},{"$f":"IF(VLOOKUP($X$14,TABNILSM2,NILSM2!CX7)=\"\",\"-\",VLOOKUP($X$14,TABNILSM2,NILSM2!CX7))","v":"Baik"},{"$f":"IF(VLOOKUP($X$14,TABNILSM2,NILSM2!CY7)=\"\",\"-\",VLOOKUP($X$14,TABNILSM2,NILSM2!CY7))","v":"Karate"}]
[null,2,{"$f":"IF(VLOOKUP($X$14,TABNILSM5,NILSM5!CU7)=\"\",\"-\",VLOOKUP($X$14,TABNILSM5,NILSM5!CU7))","v":"-"},null,null,null,null,null,{"$f":"IF(VLOOKUP($X$14,TABNILSM5,NILSM5!CV7)=\"\",\"-\",VLOOKUP($X$14,TABNILSM5,NILSM5!CV7))","v":"-"},null,null,{"$f":"IF(VLOOKUP($X$14,TABNILSM5,NILSM5!CW7)=\"\",\"-\",VLOOKUP($X$14,TABNILSM5,NILSM5!CW7))","v":"-"},{"$f":"IF(VLOOKUP($X$14,TABNILSM5,NILSM5!CX7)=\"\",\"-\",VLOOKUP($X$14,TABNILSM5,NILSM5!CX7))","v":"-"},{"$f":"IF(VLOOKUP($X$14,TABNILSM2,NILSM2!CY7)=\"\",\"-\",VLOOKUP($X$14,TABNILSM2,NILSM2!CY7))","v":"Karate"},{"$f":"IF(VLOOKUP($X$14,TABNILSM2,NILSM2!CZ7)=\"\",\"-\",VLOOKUP($X$14,TABNILSM2,NILSM2!CZ7))","v":"B"},{"$f":"IF(VLOOKUP($X$14,TABNILSM2,NILSM2!DA7)=\"\",\"-\",VLOOKUP($X$14,TABNILSM2,NILSM2!DA7))","v":"Palang Merah Remaja"},{"$f":"IF(VLOOKUP($X$14,TABNILSM2,NILSM2!DB7)=\"\",\"-\",VLOOKUP($X$14,TABNILSM2,NILSM2!DB7))","v":"B"},{"$f":"IF(VLOOKUP($X$14,TABNILSM2,NILSM2!DC7)=\"\",\"-\",VLOOKUP($X$14,TABNILSM2,NILSM2!DC7))","v":"Pramuka"}]
[]
[null,"D.  Ekstrakurikuler"]
[null,"No.","Kegiatan Ekstrakurikuler",null,null,null,null,null,null,"Keterangan"]
[null,1,{"$f":"IF(VLOOKUP($X$14,TABNILSM5,NILSM5!CY7)=\"\",\"-\",VLOOKUP($X$14,TABNILSM5,NILSM5!CY7))","v":"Karate"},null,null,null,null,null,null,{"$f":"IF(VLOOKUP($X$14,TABNILSM5,NILSM5!CZ7)=\"\",\"-\",VLOOKUP(S58,TABNESKUL,2,FALSE))","v":"Baik, berprestasi, disiplin dan rajin berlatih"},null,null,null,null,null,null,null,null,{"$f":"VLOOKUP($X$14,TABNILSM5,NILSM5!CZ7)","v":"B"}]
[null,2,{"$f":"IF(VLOOKUP($X$14,TABNILSM5,NILSM5!DA7)=\"\",\"-\",VLOOKUP($X$14,TABNILSM5,NILSM5!DA7))","v":"Palang Merah Remaja"},null,null,null,null,null,null,{"$f":"IF(VLOOKUP($X$14,TABNILSM5,NILSM5!DB7)=\"\",\"-\",VLOOKUP(S59,TABNESKUL,2,FALSE))","v":"Baik, berprestasi, disiplin dan rajin berlatih"},null,null,null,null,null,null,null,null,{"$f":"VLOOKUP($X$14,TABNILSM5,NILSM5!DB7)","v":"B"}]
[null,3,{"$f":"IF(VLOOKUP($X$14,TABNILSM5,NILSM5!DC7)=\"\",\"-\",VLOOKUP($X$14,TABNILSM5,NILSM5!DC7))","v":"Pramuka"},null,null,null,null,null,null,{"$f":"IF(VLOOKUP($X$14,TABNILSM5,NILSM5!DD7)=\"\",\"-\",VLOOKUP(S60,TABNESKUL,2,FALSE))","v":"Baik, berprestasi, disiplin dan rajin berlatih"},null,null,null,null,null,null,null,null,{"$f":"VLOOKUP($X$14,TABNILSM5,NILSM5!DD7)","v":"B"}]
[]
[null,"E.  Prestasi"]
[null,"No.","Jenis Prestasi",null,null,null,null,null,null,"Keterangan"]
[null,1,{"$f":"IF(VLOOKUP($X$14,TABNILSM5,NILSM5!DE7)=\"\",\"-\",VLOOKUP($X$14,TABNILSM5,NILSM5!DE7))","v":"-"}]
[null,2,{"$f":"IF(VLOOKUP($X$14,TABNILSM5,NILSM5!DG7)=\"\",\"-\",VLOOKUP($X$14,TABNILSM5,NILSM5!DG7))","v":"-"}]
[null,null,null,null,null,null,null,null,null,null,null,null,null,null,null,null,null,null,null,null,null,null,{"$f":"VLOOKUP($X$14,TABNILSM5,NILSM5!B7)","v":"BILLY RIZKI JHONATHAN"}]
[null,"F.  Ketidakhadiran",null,null,null,null,null,null,"G.  Catatan Wali Kelas"]
[null,"Sakit",null,":",{"$f":"VLOOKUP($X$14,TABNILSM5,NILSM5!DI7)","v":"-"},null,null,null,null,null,null,null,null,null,null,null,null,"Peringkat di Kelas :",null,null,null,null,{"$f":"\"Nomor Urut \"&X14","v":"Nomor Urut 6"}]
[null,"Izin",null,":",{"$f":"VLOOKUP($X$14,TABNILSM5,NILSM5!DJ7)","v":"-"},null,null,null,null,null,null,null,null,null,null,null,null,{"$f":"IF(VLOOKUP($X$14,TABNILSM5,NILSM5!DU7)=\"\",\"-\",VLOOKUP($X$14,TABNILSM5,NILSM5!DU7)&\" dari \"&VLOOKUP($X$14,TABNILSM5,NILSM5!DV7))","v":"-"},{"$f":"VLOOKUP($X$14,TABNILSM5,NILSM5!DW7)","v":0}]
[null,"Tanpa Keterangan",null,":",{"$f":"VLOOKUP($X$14,TABNILSM5,NILSM5!DK7)","v":"-"}]
[]
[null,"H.  Tanggapan Orang Tua/Wali"]
[]
[]
[]
[]
[]
[]
[null,null,"Mengetahui,",null,null,null,null,null,null,null,null,null,null,null,null,{"$f":"NILSM5!DX4","v":0}]
[null,null,"Orang Tua/Wali,",null,null,null,null,null,null,null,null,null,null,null,null,"Wali Kelas,"]
[]
[]
[]
[]
[null,null,null,null,null,null,null,null,null,null,null,null,null,null,null,{"$f":"NILSM5!B4","v":"Amo Sisdianto, S.Kom"}]
[null,null,null,null,null,null,null,null,null,null,null,null,null,null,null,{"$f":"IF(NILSM5!A5=\"NIP\",\"NIP \"&NILSM5!B5,\"\")","v":""}]
[null,null,null,null,null,null,null,null,null,"Mengetahui :"]
[null,null,null,null,null,null,null,null,null,"Kepala Sekolah,"]
[]
[]
[]
[]
[null,null,null,null,null,null,null,null,null,{"$f":"MENU!P8","v":"Drs. Agus Rukmawan, S.IP, MM"}]
[null,null,null,null,null,null,null,null,null,{"$f":"\"NIP \"&MENU!P9","v":"NIP 19611111 198603 1 008"}]

{"sheet":"CETSM6","index":24,"n_rows":94,"n_cols":24,"rows_kept":94,"cut":false,"hidden":false,"merged":[[10,1,12,1],[10,2,12,5],[10,6,12,17],[12,22,12,23],[13,22,14,22],[13,23,14,23],[5,22,5,23],[6,22,7,22],[6,23,7,23],[7,2,7,5],[7,6,7,17],[8,1,9,1],[8,2,9,5],[8,6,9,17],[8,22,9,22],[8,23,9,23],[17,22,17,23],[18,2,18,5],[18,9,18,11],[18,15,18,17],[18,22,18,23],[19,2,19,5],[19,9,19,11],[19,15,19,17],[15,1,16,1],[15,2,16,5],[15,6,15,11],[15,12,15,17],[16,9,16,11],[16,15,16,17],[22,2,22,5],[22,9,22,11],[22,15,22,17],[23,2,23,5],[23,9,23,11],[23,15,23,17],[20,2,20,5],[20,9,20,11],[20,15,20,17],[21,2,21,5],[21,9,21,11],[21,15,21,17],[27,2,27,6],[28,2,28,5],[28,9,28,11],[28,15,28,17],[29,2,29,5],[29,9,29,11],[29,15,29,17],[24,1,24,5],[25,2,25,5],[25,9,25,11],[25,15,25,17],[26,2,26,5],[26,9,26,11],[26,15,26,17],[34,2,34,5],[34,9,34,11],[34,15,34,17],[36,2,36,5],[36,9,36,11],[36,15,36,17],[30,1,30,5],[32,2,32,5],[32,9,32,11],[32,15,32,17],[33,2,33,5],[33,9,33,11],[33,15,33,17],[39,2,39,5],[39,9,39,11],[39,15,39,17],[41,2,41,5],[41,9,41,11],[41,15,41,17],[37,2,37,5],[37,9,37,11],[37,15,37,17],[38,2,38,5],[38,9,38,11],[38,15,38,17],[44,2,44,5],[44,9,44,11],[44,15,44,17],[45,2,45,5],[45,9,45,11],[45,15,45,17],[42,2,42,5],[42,9,42,11],[42,15,42,17],[43,2,43,5],[43,9,43,11],[43,15,43,17],[51,2,51,7],[51,8,51,10],[51,12,51,17],[52,2,52,7],[52,8,52,10],[52,12,52,17],[46,2,46,5],[46,9,46,11],[46,15,46,17],[47,2,47,6],[47,15,47,17],[48,2,48,6],[48,7,48,8],[48,13,48,14],[48,15,48,17],[58,2,58,8],[58,9,58,17],[59,2,59,8],[59,9,59,17],[62,2,62,8],[62,9,62,17],[53,2,53,7],[53,8,53,10],[53,12,53,17],[56,2,56,8],[56,9,56,17],[57,2,57,8],[57,9,57,17],[72,1,75,17],[63,2,63,8],[63,9,63,17],[64,2,64,8],[64,9,64,17],[65,22,66,24],[67,4,67,6],[67,22,68,24],[68,4,68,6],[68,17,69,17],[69,4,69,6]]}
[null,"Nama Sekolah",null,":","SMKN 1 KARAWANG",null,null,null,null,null,null,null,null,null,"Kelas",null,":",{"$f":"IF(OR(R2=\"1 (satu)\",R2=\"2 (dua)\"),\"X \"&MENU!I9,IF(OR(R2=\"3 (tiga)\",R2=\"4 (empat)\"),\"XI \"&MENU!I9,IF(OR(R2=\"5 (lima)\",R2=\"6 (enam)\"),\"XII \"&MENU!I9,\"\")))","v":"XII TKRO 1"}]
[null,"Alamat",null,":","Jl. Pangkal Perjuangan By Pass Karawang",null,null,null,null,null,null,null,null,null,"Semester",null,":",{"$f":"NILSM6!B3","v":"6 (enam)"}]
[null,"Nama Siswa",null,":",{"$f":"VLOOKUP($X$14,TABNILSM6,NILSM6!B7)","v":"BILLY RIZKI JHONATHAN"},null,null,null,null,null,null,null,null,null,"Tahun Pelajaran",null,":",{"$f":"RIGHT(NILSM6!A2,11)","v":"2019 / 2020"}]
[null,"Nomor Induk/NISN",null,":",{"$f":"IF(VLOOKUP($X$14,TABBIODATA,BIODATA!E4)=\"\",VLOOKUP($X$14,TABBIODATA,BIODATA!D4),VLOOKUP($X$14,TABBIODATA,BIODATA!D4)&\" / \"&VLOOKUP($X$14,TABBIODATA,BIODATA!E4))","v":"13140772 / 9975460320"}]
[]
[null,"CAPAIAN HASIL BELAJAR",null,null,null,null,null,null,null,null,null,null,null,null,null,null,null,null,null,null,null,null,"HALAMAN CETAK"]
[null,"A.  Sikap",null,null,null,null,null,null,null,null,null,null,null,null,null,null,null,null,null,null,null,null,"Dari data ke",2]
[null,"No.","Kompetensi Inti",null,null,null,"Deskripsi"]
[null,"1","Sikap Spiritual",null,null,null,{"$f":"IFERROR(VLOOKUP(S9,TABDESSPIRITUAL,2),\"-\")","v":"Baik, dapat menerima, menjalankan, menghargai, menghayati dan mengamalkan ajaran agama yang dianut."},null,null,null,null,null,null,null,null,null,null,null,{"$f":"VLOOKUP($X$14,TABNILSM6,NILSM6!DL7)","v":"B"},null,null,null,"Sampai data ke",2]
[]
[null,2,"Sikap Sosial",null,null,null,{"$f":"IFERROR(VLOOKUP(S11,TABDESSOSIAL,2),\"-\")","v":"Sudah menunjukkan konsisten menerapkan sikap jujur, santun dan toleran dalam pergaulan, disiplin, kerjasama dalam kelompok dan tanggungjawab dalam keseharian sebagai hasil pembelajaran di sekolah. Tingkatkan sikap-sikap positif tersebut agar lebih baik."},null,null,null,null,null,null,null,null,null,null,null,{"$f":"VLOOKUP($X$14,TABNILSM6,NILSM6!DM7)","v":"B"}]
[]
[null,null,null,null,null,null,null,null,null,null,null,null,null,null,null,null,null,null,null,null,null,null,"TAMPILAN DATA"]
[null,null,null,null,null,null,null,null,null,null,null,null,null,null,null,null,null,null,null,null,null,null,"Nomor Urut",6]
[null,"B.  Pengetahuan dan Keterampilan"]
["P","No.","Mata Pelajaran",null,null,null,"Pengetahuan",null,null,null,null,null,"Keterampilan"]
["K",null,null,null,null,null,"KKM","Angka","Predikat","Deskripsi",null,null,"KKM","Angka","Predikat","Deskripsi"]
[null,"Muatan Nasional",null,null,null,null,null,null,null,null,null,null,null,null,null,null,null,null,null,null,null,null,"PILIHAN DESKRIPSI"]
["A",{"$f":"NILSM6!D4","v":1},{"$f":"IFERROR(HLOOKUP($R$2&A19&B19&$A$16,MAPELSM6,2,FALSE),\"-\")","v":"Pendidikan Agama dan Budi Pekerti"},null,null,null,{"$f":"IFERROR(HLOOKUP($R$2&A19&B19&$A$16,MAPELSM6,5,FALSE),\"-\")","v":75},{"$f":"IFERROR(ROUND(VLOOKUP($X$14,TABNILSM6,NILSM6!D7),0),\"-\")","v":79},{"$f":"IFERROR(VLOOKUP(H19,TABEL_NILAI,4),\"-\")","v":"C"},{"$f":"IFERROR(IF($W$19=DATABASE!$B$2,VLOOKUP(I19,TABDESPENGETAHUAN,2),IF($W$19=DATABASE!$B$3,VLOOKUP(I19,DESKPENGETAHUANSM6,DESKSM6!D3),\"-\")),\"-\")","v":"Cukup baik memahami sebagian kompetensi dasar, tetapi kurang bisa menerapkan, menganalisis dan mengevaluasinya."},null,null,{"$f":"IFERROR(HLOOKUP($R$2&A19&B19&$A$17,MAPELSM6,5,FALSE),\"-\")","v":75},{"$f":"ROUND(VLOOKUP($X$14,TABNILSM6,NILSM6!E7),0)","v":80},{"$f":"IFERROR(VLOOKUP(N19,TABEL_NILAI,4),\"-\")","v":"C"},{"$f":"IFERROR(IF($W$19=DATABASE!$B$2,VLOOKUP(O19,TABDESKETERAMPILAN,2),IF($W$19=DATABASE!$B$3,VLOOKUP(O19,DESKKETERAMPILANSM6,DESKSM6!D3),\"-\")),\"-\")","v":"Cukup aktif bertanya, mencoba, menalar dan kreatif dalam menyelesaikan tugas praktek"},null,null,null,null,null,null,"OTOMATIS"]
["A",{"$f":"NILSM6!G4","v":2},"Pendidikan Pancasila dan Kewarganegaraan",null,null,null,75,{"$f":"ROUND(VLOOKUP($X$14,TABNILSM6,NILSM6!G7),0)","v":81},{"$f":"IFERROR(VLOOKUP(H20,TABEL_NILAI,4),\"-\")","v":"C"},{"$f":"IFERROR(IF($W$19=DATABASE!$B$2,VLOOKUP(I20,TABDESPENGETAHUAN,2),IF($W$19=DATABASE!$B$3,VLOOKUP(I20,DESKPENGETAHUANSM6,DESKSM6!D4),\"-\")),\"-\")","v":"Cukup baik memahami sebagian kompetensi dasar, tetapi kurang bisa menerapkan, menganalisis dan mengevaluasinya."},null,null,75,{"$f":"ROUND(VLOOKUP($X$14,TABNILSM6,NILSM6!H7),0)","v":82},"C",{"$f":"IFERROR(IF($W$19=DATABASE!$B$2,VLOOKUP(O20,TABDESKETERAMPILAN,2),IF($W$19=DATABASE!$B$3,VLOOKUP(O20,DESKKETERAMPILANSM6,DESKSM6!E3),\"-\")),\"-\")","v":"Cukup aktif bertanya, mencoba, menalar dan kreatif dalam menyelesaikan tugas praktek"}]
["A",{"$f":"NILSM6!J4","v":3},"Bahasa Indonesia",null,null,null,75,{"$f":"ROUND(VLOOKUP($X$14,TABNILSM6,NILSM6!J7),0)","v":83},"C",{"$f":"IFERROR(IF($W$19=DATABASE!$B$2,VLOOKUP(I21,TABDESPENGETAHUAN,2),IF($W$19=DATABASE!$B$3,VLOOKUP(I21,DESKPENGETAHUANSM6,DESKSM6!D5),\"-\")),\"-\")","v":"Cukup baik memahami sebagian kompetensi dasar, tetapi kurang bisa menerapkan, menganalisis dan mengevaluasinya."},null,null,75,{"$f":"ROUND(VLOOKUP($X$14,TABNILSM6,NILSM6!K7),0)","v":84},"C",{"$f":"IFERROR(IF($W$19=DATABASE!$B$2,VLOOKUP(O21,TABDESKETERAMPILAN,2),IF($W$19=DATABASE!$B$3,VLOOKUP(O21,DESKKETERAMPILANSM6,DESKSM6!F3),\"-\")),\"-\")","v":"Cukup aktif bertanya, mencoba, menalar dan kreatif dalam menyelesaikan tugas praktek"}]
["A",{"$f":"NILSM6!M4","v":4},"Matematika",null,null,null,75,{"$f":"ROUND(VLOOKUP($X$14,TABNILSM6,NILSM6!M7),0)","v":85},"C",{"$f":"IFERROR(IF($W$19=DATABASE!$B$2,VLOOKUP(I22,TABDESPENGETAHUAN,2),IF($W$19=DATABASE!$B$3,VLOOKUP(I22,DESKPENGETAHUANSM6,DESKSM6!D6),\"-\")),\"-\")","v":"Cukup baik memahami sebagian kompetensi dasar, tetapi kurang bisa menerapkan, menganalisis dan mengevaluasinya."},null,null,75,{"$f":"ROUND(VLOOKUP($X$14,TABNILSM6,NILSM6!N7),0)","v":86},"B",{"$f":"IFERROR(IF($W$19=DATABASE!$B$2,VLOOKUP(O22,TABDESKETERAMPILAN,2),IF($W$19=DATABASE!$B$3,VLOOKUP(O22,DESKKETERAMPILANSM6,DESKSM6!G3),\"-\")),\"-\")","v":"Baik dan aktif bertanya, mencoba, menalar dan kreatif dalam menyelesaikan sebagian besar tugas praktek."}]
["A",{"$f":"NILSM6!P4","v":"-"},"-",null,null,null,75,{"$f":"IFERROR(ROUND(VLOOKUP($X$14,TABNILSM6,NILSM6!P7),0),\"-\")","v":"-"},"-",{"$f":"IFERROR(IF($W$19=DATABASE!$B$2,VLOOKUP(I23,TABDESPENGETAHUAN,2),IF($W$19=DATABASE!$B$3,VLOOKUP(I23,DESKPENGETAHUANSM6,DESKSM6!D7),\"-\")),\"-\")","v":"-"},null,null,75,{"$f":"IFERROR(ROUND(VLOOKUP($X$14,TABNILSM6,NILSM6!Q7),0),\"-\")","v":"-"},"-",{"$f":"IFERROR(IF($W$19=DATABASE!$B$2,VLOOKUP(O23,TABDESKETERAMPILAN,2),IF($W$19=DATABASE!$B$3,VLOOKUP(O23,DESKKETERAMPILANSM6,DESKSM6!H3),\"-\")),\"-\")","v":"-"}]
["A",{"$f":"NILSM6!S4","v":5},"Bahasa Inggris",null,null,null,75,{"$f":"ROUND(VLOOKUP($X$14,TABNILSM6,NILSM6!S7),0)","v":89},"B",{"$f":"IFERROR(IF($W$19=DATABASE!$B$2,VLOOKUP(I24,TABDESPENGETAHUAN,2),IF($W$19=DATABASE!$B$3,VLOOKUP(I24,DESKPENGETAHUANSM6,DESKSM6!D8),\"-\")),\"-\")","v":"Baik dalam memahami, menerapkan, menganalisis dan mengevaluasi sebagian besar kompetensi dasar."},null,null,75,{"$f":"ROUND(VLOOKUP($X$14,TABNILSM6,NILSM6!T7),0)","v":90},"B",{"$f":"IFERROR(IF($W$19=DATABASE!$B$2,VLOOKUP(O24,TABDESKETERAMPILAN,2),IF($W$19=DATABASE!$B$3,VLOOKUP(O24,DESKKETERAMPILANSM6,DESKSM6!I3),\"-\")),\"-\")","v":"Baik dan aktif bertanya, mencoba, menalar dan kreatif dalam menyelesaikan sebagian besar tugas praktek."}]
[null,"Muatan Kewilayahan"]
["B",{"$f":"NILSM6!V4","v":"-"},{"$f":"IFERROR(HLOOKUP($R$2&A26&B26&$A$16,MAPELSM6,2,FALSE),\"-\")","v":"-"},null,null,null,{"$f":"IFERROR(HLOOKUP($R$2&A26&B26&$A$16,MAPELSM6,5,FALSE),\"-\")","v":75},{"$f":"IFERROR(ROUND(VLOOKUP($X$14,TABNILSM6,NILSM6!V7),0),\"-\")","v":"-"},{"$f":"IFERROR(VLOOKUP(H26,TABEL_NILAI,4),\"-\")","v":"-"},{"$f":"IFERROR(IF($W$19=DATABASE!$B$2,VLOOKUP(I26,TABDESPENGETAHUAN,2),IF($W$19=DATABASE!$B$3,VLOOKUP(I26,DESKPENGETAHUANSM6,DESKSM6!J3),\"-\")),\"-\")","v":"-"},null,null,{"$f":"IFERROR(HLOOKUP($R$2&A26&B26&$A$17,MAPELSM6,5,FALSE),\"-\")","v":75},{"$f":"IFERROR(ROUND(VLOOKUP($X$14,TABNILSM6,NILSM6!W7),0),\"-\")","v":"-"},{"$f":"IFERROR(VLOOKUP(N26,TABEL_NILAI,4),\"-\")","v":"-"},{"$f":"IFERROR(IF($W$19=DATABASE!$B$2,VLOOKUP(O26,TABDESKETERAMPILAN,2),IF($W$19=DATABASE!$B$3,VLOOKUP(O26,DESKKETERAMPILANSM6,DESKSM6!J3),\"-\")),\"-\")","v":"-"}]
["B",{"$f":"NILSM6!Y4","v":1},{"$f":"IFERROR(HLOOKUP($R$2&A27&B27&$A$16,MAPELSM6,2,FALSE),\"-\")","v":"-"},null,null,null,{"$f":"IFERROR(HLOOKUP($R$2&A27&B27&$A$16,MAPELSM6,5,FALSE),\"-\")","v":75},{"$f":"ROUND(VLOOKUP($X$14,TABNILSM6,NILSM6!Y7),0)","v":{"$error":"#VALUE!"}},{"$f":"IFERROR(VLOOKUP(H27,TABEL_NILAI,4),\"-\")","v":"-"},{"$f":"IFERROR(IF($W$19=DATABASE!$B$2,VLOOKUP(I27,TABDESPENGETAHUAN,2),IF($W$19=DATABASE!$B$3,VLOOKUP(I27,DESKPENGETAHUANSM6,DESKSM6!J4),\"-\")),\"-\")","v":"-"},null,null,{"$f":"IFERROR(HLOOKUP($R$2&A27&B27&$A$17,MAPELSM6,5,FALSE),\"-\")","v":75},{"$f":"ROUND(VLOOKUP($X$14,TABNILSM6,NILSM6!Z7),0)","v":{"$error":"#VALUE!"}},{"$f":"IFERROR(VLOOKUP(N27,TABEL_NILAI,4),\"-\")","v":"-"},{"$f":"IFERROR(IF($W$19=DATABASE!$B$2,VLOOKUP(O27,TABDESKETERAMPILAN,2),IF($W$19=DATABASE!$B$3,VLOOKUP(O27,DESKKETERAMPILANSM6,DESKSM6!J4),\"-\")),\"-\")","v":"-"}]
[null,null,"Muatan Lokal"]
["B",{"$f":"NILSM6!AB4","v":"-"},{"$f":"IFERROR(HLOOKUP($R$2&A29&B29&$A$16,MAPELSM6,2,FALSE),\"-\")","v":"-"},null,null,null,{"$f":"IFERROR(HLOOKUP($R$2&A29&B29&$A$16,MAPELSM6,5,FALSE),\"-\")","v":75},{"$f":"IFERROR(ROUND(VLOOKUP($X$14,TABNILSM6,NILSM6!AB7),0),\"-\")","v":"-"},{"$f":"IFERROR(VLOOKUP(H29,TABEL_NILAI,4),\"-\")","v":"-"},{"$f":"IFERROR(IF($W$19=DATABASE!$B$2,VLOOKUP(I29,TABDESPENGETAHUAN,2),IF($W$19=DATABASE!$B$3,VLOOKUP(I29,DESKPENGETAHUANSM6,DESKSM6!J5),\"-\")),\"-\")","v":"-"},null,null,{"$f":"IFERROR(HLOOKUP($R$2&A29&B29&$A$17,MAPELSM6,5,FALSE),\"-\")","v":75},{"$f":"IFERROR(ROUND(VLOOKUP($X$14,TABNILSM6,NILSM6!AC7),0),\"-\")","v":"-"},{"$f":"IFERROR(VLOOKUP(N29,TABEL_NILAI,4),\"-\")","v":"-"},{"$f":"IFERROR(IF($W$19=DATABASE!$B$2,VLOOKUP(O29,TABDESKETERAMPILAN,2),IF($W$19=DATABASE!$B$3,VLOOKUP(O29,DESKKETERAMPILANSM6,DESKSM6!J5),\"-\")),\"-\")","v":"-"}]
["B",{"$f":"NILSM6!AE4","v":2},{"$f":"IFERROR(HLOOKUP($R$2&A30&B30&$A$16,MAPELSM6,2,FALSE),\"-\")","v":"Bahasa Jepang"},null,null,null,{"$f":"IFERROR(HLOOKUP($R$2&A30&B30&$A$16,MAPELSM6,5,FALSE),\"-\")","v":75},{"$f":"ROUND(VLOOKUP($X$14,TABNILSM6,NILSM6!AE7),0)","v":97},{"$f":"IFERROR(VLOOKUP(H30,TABEL_NILAI,4),\"-\")","v":"A"},{"$f":"IFERROR(IF($W$19=DATABASE!$B$2,VLOOKUP(I30,TABDESPENGETAHUAN,2),IF($W$19=DATABASE!$B$3,VLOOKUP(I30,DESKPENGETAHUANSM6,DESKSM6!J6),\"-\")),\"-\")","v":"Sangat baik dalam memahami, menerapkan, menganalisis dan mengevaluasi semua kompetensi dasar."},null,null,{"$f":"IFERROR(HLOOKUP($R$2&A30&B30&$A$17,MAPELSM6,5,FALSE),\"-\")","v":75},{"$f":"ROUND(VLOOKUP($X$14,TABNILSM6,NILSM6!AF7),0)","v":98},{"$f":"IFERROR(VLOOKUP(N30,TABEL_NILAI,4),\"-\")","v":"A"},{"$f":"IFERROR(IF($W$19=DATABASE!$B$2,VLOOKUP(O30,TABDESKETERAMPILAN,2),IF($W$19=DATABASE!$B$3,VLOOKUP(O30,DESKKETERAMPILANSM6,DESKSM6!J6),\"-\")),\"-\")","v":"Sangat baik dan aktif bertanya, mencoba, menalar dan kreatif dalam menyelesaikan tugas praktek."}]
[null,"Muatan Peminatan Kejuruan"]
[null,"C1","Dasar Bidang Keahlian"]
["C1",{"$f":"NILSM6!AH4","v":1},{"$f":"IFERROR(HLOOKUP($R$2&A33&B33&$A$16,MAPELSM6,2,FALSE),\"-\")","v":"-"},null,null,null,{"$f":"IFERROR(HLOOKUP($R$2&A33&B33&$A$16,MAPELSM6,5,FALSE),\"-\")","v":75},{"$f":"VLOOKUP($X$14,TABNILSM6,NILSM6!AH7)","v":"-"},{"$f":"IFERROR(VLOOKUP(H33,TABEL_NILAI,4),\"-\")","v":"-"},{"$f":"IFERROR(IF($W$19=DATABASE!$B$2,VLOOKUP(I33,TABDESPENGETAHUAN,2),IF($W$19=DATABASE!$B$3,VLOOKUP(I33,DESKPENGETAHUANSM6,DESKSM6!M3),\"-\")),\"-\")","v":"-"},null,null,{"$f":"IFERROR(HLOOKUP($R$2&A33&B33&$A$17,MAPELSM6,5,FALSE),\"-\")","v":75},{"$f":"VLOOKUP($X$14,TABNILSM6,NILSM6!AI7)","v":"-"},{"$f":"IFERROR(VLOOKUP(N33,TABEL_NILAI,4),\"-\")","v":"-"},{"$f":"IFERROR(IF($W$19=DATABASE!$B$2,VLOOKUP(O33,TABDESKETERAMPILAN,2),IF($W$19=DATABASE!$B$3,VLOOKUP(O33,DESKKETERAMPILANSM6,DESKSM6!M3),\"-\")),\"-\")","v":"-"}]
["C1",{"$f":"NILSM6!AK4","v":2},{"$f":"IFERROR(HLOOKUP($R$2&A34&B34&$A$16,MAPELSM6,2,FALSE),\"-\")","v":"-"},null,null,null,{"$f":"IFERROR(HLOOKUP($R$2&A34&B34&$A$16,MAPELSM6,5,FALSE),\"-\")","v":75},{"$f":"VLOOKUP($X$14,TABNILSM6,NILSM6!AK7)","v":"-"},{"$f":"IFERROR(VLOOKUP(H34,TABEL_NILAI,4),\"-\")","v":"-"},{"$f":"IFERROR(IF($W$19=DATABASE!$B$2,VLOOKUP(I34,TABDESPENGETAHUAN,2),IF($W$19=DATABASE!$B$3,VLOOKUP(I34,DESKPENGETAHUANSM6,DESKSM6!N3),\"-\")),\"-\")","v":"-"},null,null,{"$f":"IFERROR(HLOOKUP($R$2&A34&B34&$A$17,MAPELSM6,5,FALSE),\"-\")","v":75},{"$f":"VLOOKUP($X$14,TABNILSM6,NILSM6!AL7)","v":"-"},{"$f":"IFERROR(VLOOKUP(N34,TABEL_NILAI,4),\"-\")","v":"-"},{"$f":"IFERROR(IF($W$19=DATABASE!$B$2,VLOOKUP(O34,TABDESKETERAMPILAN,2),IF($W$19=DATABASE!$B$3,VLOOKUP(O34,DESKKETERAMPILANSM6,DESKSM6!N3),\"-\")),\"-\")","v":"-"}]
["C1",{"$f":"NILSM6!AN4","v":3},{"$f":"IFERROR(HLOOKUP($R$2&A35&B35&$A$16,MAPELSM6,2,FALSE),\"-\")","v":"-"},null,null,null,{"$f":"IFERROR(HLOOKUP($R$2&A35&B35&$A$16,MAPELSM6,5,FALSE),\"-\")","v":75},{"$f":"VLOOKUP($X$14,TABNILSM6,NILSM6!AN7)","v":"-"},{"$f":"IFERROR(VLOOKUP(H35,TABEL_NILAI,4),\"-\")","v":"-"},{"$f":"IFERROR(IF($W$19=DATABASE!$B$2,VLOOKUP(I35,TABDESPENGETAHUAN,2),IF($W$19=DATABASE!$B$3,VLOOKUP(I35,DESKPENGETAHUANSM6,DESKSM6!O3),\"-\")),\"-\")","v":"-"},null,null,{"$f":"IFERROR(HLOOKUP($R$2&A35&B35&$A$17,MAPELSM6,5,FALSE),\"-\")","v":75},{"$f":"VLOOKUP($X$14,TABNILSM6,NILSM6!AO7)","v":"-"},{"$f":"IFERROR(VLOOKUP(N35,TABEL_NILAI,4),\"-\")","v":"-"},{"$f":"IFERROR(IF($W$19=DATABASE!$B$2,VLOOKUP(O35,TABDESKETERAMPILAN,2),IF($W$19=DATABASE!$B$3,VLOOKUP(O35,DESKKETERAMPILANSM6,DESKSM6!O3),\"-\")),\"-\")","v":"-"}]
[null,"C2","Dasar Program Keahlian"]
["C2",{"$f":"NILSM6!AQ4","v":1},{"$f":"IFERROR(HLOOKUP($R$2&A37&B37&$A$16,MAPELSM6,2,FALSE),\"-\")","v":"-"},null,null,null,{"$f":"IFERROR(HLOOKUP($R$2&A37&B37&$A$16,MAPELSM6,5,FALSE),\"-\")","v":75},{"$f":"VLOOKUP($X$14,TABNILSM6,NILSM6!AQ7)","v":"-"},{"$f":"IFERROR(VLOOKUP(H37,TABEL_NILAI,4),\"-\")","v":"-"},{"$f":"IFERROR(IF($W$19=DATABASE!$B$2,VLOOKUP(I37,TABDESPENGETAHUAN,2),IF($W$19=DATABASE!$B$3,VLOOKUP(I37,DESKPENGETAHUANSM6,DESKSM6!P3),\"-\")),\"-\")","v":"-"},null,null,{"$f":"IFERROR(HLOOKUP($R$2&A37&B37&$A$17,MAPELSM6,5,FALSE),\"-\")","v":75},{"$f":"VLOOKUP($X$14,TABNILSM6,NILSM6!AR7)","v":"-"},{"$f":"IFERROR(VLOOKUP(N37,TABEL_NILAI,4),\"-\")","v":"-"},{"$f":"IFERROR(IF($W$19=DATABASE!$B$2,VLOOKUP(O37,TABDESKETERAMPILAN,2),IF($W$19=DATABASE!$B$3,VLOOKUP(O37,DESKKETERAMPILANSM6,DESKSM6!P3),\"-\")),\"-\")","v":"-"}]
["C2",{"$f":"NILSM6!AT4","v":2},{"$f":"IFERROR(HLOOKUP($R$2&A38&B38&$A$16,MAPELSM6,2,FALSE),\"-\")","v":"-"},null,null,null,{"$f":"IFERROR(HLOOKUP($R$2&A38&B38&$A$16,MAPELSM6,5,FALSE),\"-\")","v":75},{"$f":"VLOOKUP($X$14,TABNILSM6,NILSM6!AT7)","v":"-"},"-",{"$f":"IFERROR(IF($W$19=DATABASE!$B$2,VLOOKUP(I38,TABDESPENGETAHUAN,2),IF($W$19=DATABASE!$B$3,VLOOKUP(I38,DESKPENGETAHUANSM6,DESKSM6!Q3),\"-\")),\"-\")","v":"-"},null,null,{"$f":"IFERROR(HLOOKUP($R$2&A38&B38&$A$17,MAPELSM6,5,FALSE),\"-\")","v":75},{"$f":"VLOOKUP($X$14,TABNILSM6,NILSM6!AU7)","v":"-"},"-",{"$f":"IFERROR(IF($W$19=DATABASE!$B$2,VLOOKUP(O38,TABDESKETERAMPILAN,2),IF($W$19=DATABASE!$B$3,VLOOKUP(O38,DESKKETERAMPILANSM6,DESKSM6!Q3),\"-\")),\"-\")","v":"-"}]
["C2",{"$f":"NILSM6!AW4","v":3},{"$f":"IFERROR(HLOOKUP($R$2&A39&B39&$A$16,MAPELSM6,2,FALSE),\"-\")","v":"-"},null,null,null,{"$f":"IFERROR(HLOOKUP($R$2&A39&B39&$A$16,MAPELSM6,5,FALSE),\"-\")","v":75},{"$f":"VLOOKUP($X$14,TABNILSM6,NILSM6!AW7)","v":"-"},"-",{"$f":"IFERROR(IF($W$19=DATABASE!$B$2,VLOOKUP(I39,TABDESPENGETAHUAN,2),IF($W$19=DATABASE!$B$3,VLOOKUP(I39,DESKPENGETAHUANSM6,DESKSM6!R3),\"-\")),\"-\")","v":"-"},null,null,{"$f":"IFERROR(HLOOKUP($R$2&A39&B39&$A$17,MAPELSM6,5,FALSE),\"-\")","v":75},{"$f":"VLOOKUP($X$14,TABNILSM6,NILSM6!AX7)","v":"-"},"-",{"$f":"IFERROR(IF($W$19=DATABASE!$B$2,VLOOKUP(O39,TABDESKETERAMPILAN,2),IF($W$19=DATABASE!$B$3,VLOOKUP(O39,DESKKETERAMPILANSM6,DESKSM6!R3),\"-\")),\"-\")","v":"-"}]
["C2",{"$f":"NILSM6!AZ4","v":4},{"$f":"IFERROR(HLOOKUP($R$2&A40&B40&$A$16,MAPELSM6,2,FALSE),\"-\")","v":"-"},null,null,null,{"$f":"IFERROR(HLOOKUP($R$2&A40&B40&$A$16,MAPELSM6,5,FALSE),\"-\")","v":75},{"$f":"VLOOKUP($X$14,TABNILSM6,NILSM6!AZ7)","v":"-"},"-",{"$f":"IFERROR(IF($W$19=DATABASE!$B$2,VLOOKUP(I40,TABDESPENGETAHUAN,2),IF($W$19=DATABASE!$B$3,VLOOKUP(I40,DESKPENGETAHUANSM6,DESKSM6!S3),\"-\")),\"-\")","v":"-"},null,null,{"$f":"IFERROR(HLOOKUP($R$2&A40&B40&$A$17,MAPELSM6,5,FALSE),\"-\")","v":75},{"$f":"VLOOKUP($X$14,TABNILSM6,NILSM6!BA7)","v":"-"},{"$f":"IFERROR(VLOOKUP(N40,TABEL_NILAI,4),\"-\")","v":"-"},{"$f":"IFERROR(IF($W$19=DATABASE!$B$2,VLOOKUP(O40,TABDESKETERAMPILAN,2),IF($W$19=DATABASE!$B$3,VLOOKUP(O40,DESKKETERAMPILANSM6,DESKSM6!S3),\"-\")),\"-\")","v":"-"}]
[null,"C3","Kompetensi Keahlian"]
["C3",{"$f":"NILSM6!BC4","v":1},{"$f":"IFERROR(HLOOKUP($R$2&A42&B42&$A$16,MAPELSM6,2,FALSE),\"-\")","v":"Administrasi Infrastruktur Jaringan"},null,null,null,{"$f":"IFERROR(HLOOKUP($R$2&A42&B42&$A$16,MAPELSM6,5,FALSE),\"-\")","v":75},{"$f":"VLOOKUP($X$14,TABNILSM6,NILSM6!BC7)","v":91},{"$f":"IFERROR(VLOOKUP(H42,TABEL_NILAI,4),\"-\")","v":"B"},{"$f":"IFERROR(IF($W$19=DATABASE!$B$2,VLOOKUP(I42,TABDESPENGETAHUAN,2),IF($W$19=DATABASE!$B$3,VLOOKUP(I42,DESKPENGETAHUANSM6,DESKSM6!S5),\"-\")),\"-\")","v":"Baik dalam memahami, menerapkan, menganalisis dan mengevaluasi sebagian besar kompetensi dasar."},null,null,{"$f":"IFERROR(HLOOKUP($R$2&A42&B42&$A$17,MAPELSM6,5,FALSE),\"-\")","v":75},{"$f":"VLOOKUP($X$14,TABNILSM6,NILSM6!BD7)","v":92},{"$f":"IFERROR(VLOOKUP(N42,TABEL_NILAI,4),\"-\")","v":"B"},{"$f":"IFERROR(IF($W$19=DATABASE!$B$2,VLOOKUP(O42,TABDESKETERAMPILAN,2),IF($W$19=DATABASE!$B$3,VLOOKUP(O42,DESKKETERAMPILANSM6,DESKSM6!S5),\"-\")),\"-\")","v":"Baik dan aktif bertanya, mencoba, menalar dan kreatif dalam menyelesaikan sebagian besar tugas praktek."}]
["C3",{"$f":"NILSM6!BF4","v":2},"Administrasi Sistem Jaringan",null,null,null,75,{"$f":"VLOOKUP($X$14,TABNILSM6,NILSM6!BF7)","v":93},"B",{"$f":"IFERROR(IF($W$19=DATABASE!$B$2,VLOOKUP(I43,TABDESPENGETAHUAN,2),IF($W$19=DATABASE!$B$3,VLOOKUP(I43,DESKPENGETAHUANSM6,DESKSM6!S6),\"-\")),\"-\")","v":"Baik dalam memahami, menerapkan, menganalisis dan mengevaluasi sebagian besar kompetensi dasar."},null,null,75,{"$f":"VLOOKUP($X$14,TABNILSM6,NILSM6!BG7)","v":94},"A",{"$f":"IFERROR(IF($W$19=DATABASE!$B$2,VLOOKUP(O43,TABDESKETERAMPILAN,2),IF($W$19=DATABASE!$B$3,VLOOKUP(O43,DESKKETERAMPILANSM6,DESKSM6!S6),\"-\")),\"-\")","v":"Sangat baik dan aktif bertanya, mencoba, menalar dan kreatif dalam menyelesaikan tugas praktek."}]
["C3",{"$f":"NILSM6!BI4","v":3},"Teknologi Layanan Jaringan",null,null,null,75,{"$f":"VLOOKUP($X$14,TABNILSM6,NILSM6!BI7)","v":95},"A",{"$f":"IFERROR(IF($W$19=DATABASE!$B$2,VLOOKUP(I44,TABDESPENGETAHUAN,2),IF($W$19=DATABASE!$B$3,VLOOKUP(I44,DESKPENGETAHUANSM6,DESKSM6!S7),\"-\")),\"-\")","v":"Sangat baik dalam memahami, menerapkan, menganalisis dan mengevaluasi semua kompetensi dasar."},null,null,75,{"$f":"VLOOKUP($X$14,TABNILSM6,NILSM6!BJ7)","v":96},"A",{"$f":"IFERROR(IF($W$19=DATABASE!$B$2,VLOOKUP(O44,TABDESKETERAMPILAN,2),IF($W$19=DATABASE!$B$3,VLOOKUP(O44,DESKKETERAMPILANSM6,DESKSM6!S7),\"-\")),\"-\")","v":"Sangat baik dan aktif bertanya, mencoba, menalar dan kreatif dalam menyelesaikan tugas praktek."}]
["C3",{"$f":"NILSM6!BL4","v":4},"-",null,null,null,75,{"$f":"VLOOKUP($X$14,TABNILSM6,NILSM6!BL7)","v":"-"},"-",{"$f":"IFERROR(IF($W$19=DATABASE!$B$2,VLOOKUP(I45,TABDESPENGETAHUAN,2),IF($W$19=DATABASE!$B$3,VLOOKUP(I45,DESKPENGETAHUANSM6,DESKSM6!S8),\"-\")),\"-\")","v":"-"},null,null,75,{"$f":"VLOOKUP($X$14,TABNILSM6,NILSM6!BM7)","v":"-"},"-",{"$f":"IFERROR(IF($W$19=DATABASE!$B$2,VLOOKUP(O45,TABDESKETERAMPILAN,2),IF($W$19=DATABASE!$B$3,VLOOKUP(O45,DESKKETERAMPILANSM6,DESKSM6!S8),\"-\")),\"-\")","v":"-"}]
["C3",{"$f":"NILSM6!BO4","v":5},"-",null,null,null,75,{"$f":"VLOOKUP($X$14,TABNILSM6,NILSM6!BO7)","v":"-"},"-",{"$f":"IFERROR(IF($W$19=DATABASE!$B$2,VLOOKUP(I46,TABDESPENGETAHUAN,2),IF($W$19=DATABASE!$B$3,VLOOKUP(I46,DESKPENGETAHUANSM6,DESKSM6!S9),\"-\")),\"-\")","v":"-"},null,null,75,{"$f":"VLOOKUP($X$14,TABNILSM6,NILSM6!BP7)","v":"-"},"-",{"$f":"IFERROR(IF($W$19=DATABASE!$B$2,VLOOKUP(O46,TABDESKETERAMPILAN,2),IF($W$19=DATABASE!$B$3,VLOOKUP(O46,DESKKETERAMPILANSM6,DESKSM6!S9),\"-\")),\"-\")","v":"-"}]
["C3",{"$f":"NILSM6!BR4","v":6},"Produk Kreatif dan Kewirausahaan ",null,null,null,75,{"$f":"VLOOKUP($X$14,TABNILSM6,NILSM6!BR7)","v":85},"C",{"$f":"IFERROR(IF($W$19=DATABASE!$B$2,VLOOKUP(I47,TABDESPENGETAHUAN,2),IF($W$19=DATABASE!$B$3,VLOOKUP(I47,DESKPENGETAHUANSM6,DESKSM6!S10),\"-\")),\"-\")","v":"Cukup baik memahami sebagian kompetensi dasar, tetapi kurang bisa menerapkan, menganalisis dan mengevaluasinya."},null,null,75,{"$f":"VLOOKUP($X$14,TABNILSM6,NILSM6!BS7)","v":86},"B",{"$f":"IFERROR(IF($W$19=DATABASE!$B$2,VLOOKUP(O47,TABDESKETERAMPILAN,2),IF($W$19=DATABASE!$B$3,VLOOKUP(O47,DESKKETERAMPILANSM6,DESKSM6!S10),\"-\")),\"-\")","v":"Baik dan aktif bertanya, mencoba, menalar dan kreatif dalam menyelesaikan sebagian besar tugas praktek."}]
[null,null,"Rata-rata",null,null,null,null,{"$f":"VLOOKUP($X$14,TABNILSM6,NILSM6!DO7)","v":88},{"$f":"VLOOKUP(H48,TABEL_NILAI,4)","v":"B"},null,null,null,null,{"$f":"VLOOKUP($X$14,TABNILSM6,NILSM6!DP7)","v":89},{"$f":"VLOOKUP(N48,TABEL_NILAI,4)","v":"B"},"Total Nilai :"]
[null,null,"Jumlah Nilai",null,null,null,null,{"$f":"VLOOKUP($X$14,TABNILSM6,NILSM6!DQ7)","v":878},null,null,null,null,null,{"$f":"VLOOKUP($X$14,TABNILSM6,NILSM6!DR7)","v":888},null,{"$f":"VLOOKUP($X$14,TABNILSM6,NILSM6!DS7)","v":1766}]
[]
[null,"C.  Praktek Kerja Lapangan"]
[null,"No.","Mitra DU/DI",null,null,null,null,null,"Lokasi",null,null,"Lamanya (Bulan)","Keterangan"]
[null,1,{"$f":"IF(VLOOKUP($X$14,TABNILSM6,NILSM6!CQ7)=\"\",\"-\",VLOOKUP($X$14,TABNILSM6,NILSM6!CQ7))","v":"-"},null,null,null,null,null,{"$f":"IF(VLOOKUP($X$14,TABNILSM6,NILSM6!CR7)=\"\",\"-\",VLOOKUP($X$14,TABNILSM6,NILSM6!CR7))","v":"-"},null,null,{"$f":"IF(VLOOKUP($X$14,TABNILSM6,NILSM6!CS7)=\"\",\"-\",VLOOKUP($X$14,TABNILSM6,NILSM6!CS7))","v":"-"},{"$f":"IF(VLOOKUP($X$14,TABNILSM6,NILSM6!CT7)=\"\",\"-\",VLOOKUP($X$14,TABNILSM6,NILSM6!CT7))","v":"-"},{"$f":"IF(VLOOKUP($X$14,TABNILSM2,NILSM2!CU7)=\"\",\"-\",VLOOKUP($X$14,TABNILSM2,NILSM2!CU7))","v":"Badan Pertanahan Nasional Kab.Karawang"},{"$f":"IF(VLOOKUP($X$14,TABNILSM2,NILSM2!CV7)=\"\",\"-\",VLOOKUP($X$14,TABNILSM2,NILSM2!CV7))","v":"Karawang"},{"$f":"IF(VLOOKUP($X$14,TABNILSM2,NILSM2!CW7)=\"\",\"-\",VLOOKUP($X$14,TABNILSM2,NILSM2!CW7))","v":3},{"$f":"IF(VLOOKUP($X$14,TABNILSM2,NILSM2!CX7)=\"\",\"-\",VLOOKUP($X$14,TABNILSM2,NILSM2!CX7))","v":"Baik"},{"$f":"IF(VLOOKUP($X$14,TABNILSM2,NILSM2!CY7)=\"\",\"-\",VLOOKUP($X$14,TABNILSM2,NILSM2!CY7))","v":"Karate"}]
[null,2,{"$f":"IF(VLOOKUP($X$14,TABNILSM6,NILSM6!CU7)=\"\",\"-\",VLOOKUP($X$14,TABNILSM6,NILSM6!CU7))","v":"-"},null,null,null,null,null,{"$f":"IF(VLOOKUP($X$14,TABNILSM6,NILSM6!CV7)=\"\",\"-\",VLOOKUP($X$14,TABNILSM6,NILSM6!CV7))","v":"-"},null,null,{"$f":"IF(VLOOKUP($X$14,TABNILSM6,NILSM6!CW7)=\"\",\"-\",VLOOKUP($X$14,TABNILSM6,NILSM6!CW7))","v":"-"},{"$f":"IF(VLOOKUP($X$14,TABNILSM6,NILSM6!CX7)=\"\",\"-\",VLOOKUP($X$14,TABNILSM6,NILSM6!CX7))","v":"-"},{"$f":"IF(VLOOKUP($X$14,TABNILSM2,NILSM2!CY7)=\"\",\"-\",VLOOKUP($X$14,TABNILSM2,NILSM2!CY7))","v":"Karate"},{"$f":"IF(VLOOKUP($X$14,TABNILSM2,NILSM2!CZ7)=\"\",\"-\",VLOOKUP($X$14,TABNILSM2,NILSM2!CZ7))","v":"B"},{"$f":"IF(VLOOKUP($X$14,TABNILSM2,NILSM2!DA7)=\"\",\"-\",VLOOKUP($X$14,TABNILSM2,NILSM2!DA7))","v":"Palang Merah Remaja"},{"$f":"IF(VLOOKUP($X$14,TABNILSM2,NILSM2!DB7)=\"\",\"-\",VLOOKUP($X$14,TABNILSM2,NILSM2!DB7))","v":"B"},{"$f":"IF(VLOOKUP($X$14,TABNILSM2,NILSM2!DC7)=\"\",\"-\",VLOOKUP($X$14,TABNILSM2,NILSM2!DC7))","v":"Pramuka"}]
[]
[null,"D.  Ekstrakurikuler"]
[null,"No.","Kegiatan Ekstrakurikuler",null,null,null,null,null,null,"Keterangan"]
[null,1,{"$f":"IF(VLOOKUP($X$14,TABNILSM6,NILSM6!CY7)=\"\",\"-\",VLOOKUP($X$14,TABNILSM6,NILSM6!CY7))","v":"-"},null,null,null,null,null,null,{"$f":"IF(VLOOKUP($X$14,TABNILSM6,NILSM6!CZ7)=\"\",\"-\",VLOOKUP(S58,TABNESKUL,2,FALSE))","v":"-"},null,null,null,null,null,null,null,null,{"$f":"VLOOKUP($X$14,TABNILSM6,NILSM6!CZ7)","v":0}]
[null,2,{"$f":"IF(VLOOKUP($X$14,TABNILSM6,NILSM6!DA7)=\"\",\"-\",VLOOKUP($X$14,TABNILSM6,NILSM6!DA7))","v":"-"},null,null,null,null,null,null,{"$f":"IF(VLOOKUP($X$14,TABNILSM6,NILSM6!DB7)=\"\",\"-\",VLOOKUP(S59,TABNESKUL,2,FALSE))","v":"-"},null,null,null,null,null,null,null,null,{"$f":"VLOOKUP($X$14,TABNILSM6,NILSM6!DB7)","v":0}]
[null,3,{"$f":"IF(VLOOKUP($X$14,TABNILSM6,NILSM6!DC7)=\"\",\"-\",VLOOKUP($X$14,TABNILSM6,NILSM6!DC7))","v":"-"},null,null,null,null,null,null,{"$f":"IF(VLOOKUP($X$14,TABNILSM6,NILSM6!DD7)=\"\",\"-\",VLOOKUP(S60,TABNESKUL,2,FALSE))","v":"-"},null,null,null,null,null,null,null,null,{"$f":"VLOOKUP($X$14,TABNILSM6,NILSM6!DD7)","v":0}]
[]
[null,"E.  Prestasi"]
[null,"No.","Jenis Prestasi",null,null,null,null,null,null,"Keterangan"]
[null,1,{"$f":"IF(VLOOKUP($X$14,TABNILSM6,NILSM6!DE7)=\"\",\"-\",VLOOKUP($X$14,TABNILSM6,NILSM6!DE7))","v":"-"}]
[null,2,{"$f":"IF(VLOOKUP($X$14,TABNILSM6,NILSM6!DG7)=\"\",\"-\",VLOOKUP($X$14,TABNILSM6,NILSM6!DG7))","v":"-"}]
[null,null,null,null,null,null,null,null,null,null,null,null,null,null,null,null,null,null,null,null,null,null,{"$f":"VLOOKUP($X$14,TABNILSM6,NILSM6!B7)","v":"BILLY RIZKI JHONATHAN"}]
[null,"F.  Ketidakhadiran",null,null,null,null,null,null,"G.  Catatan Wali Kelas"]
[null,"Sakit",null,":",{"$f":"VLOOKUP($X$14,TABNILSM6,NILSM6!DI7)","v":"-"},null,null,null,null,null,null,null,null,null,null,null,null,"Peringkat di Kelas :",null,null,null,null,{"$f":"\"Nomor Urut \"&X14","v":"Nomor Urut 6"}]
[null,"Izin",null,":",{"$f":"VLOOKUP($X$14,TABNILSM6,NILSM6!DJ7)","v":"-"},null,null,null,null,null,null,null,null,null,null,null,null,{"$f":"IF(VLOOKUP($X$14,TABNILSM6,NILSM6!DU7)=\"\",\"-\",VLOOKUP($X$14,TABNILSM6,NILSM6!DU7)&\" dari \"&VLOOKUP($X$14,TABNILSM6,NILSM6!DV7))","v":"-"},{"$f":"VLOOKUP($X$14,TABNILSM6,NILSM6!DW7)","v":0}]
[null,"Tanpa Keterangan",null,":",{"$f":"VLOOKUP($X$14,TABNILSM6,NILSM6!DK7)","v":"-"}]
[]
[null,"H.  Tanggapan Orang Tua/Wali"]
[]
[]
[]
[]
[]
[]
[null,null,"Mengetahui,",null,null,null,null,null,null,null,null,null,null,null,null,{"$f":"NILSM6!DX4","v":0}]
[null,null,"Orang Tua/Wali,",null,null,null,null,null,null,null,null,null,null,null,null,"Wali Kelas,"]
[]
[]
[]
[]
[null,null,null,null,null,null,null,null,null,null,null,null,null,null,null,{"$f":"NILSM6!B4","v":"Amo Sisdianto, S.Kom"}]
[null,null,null,null,null,null,null,null,null,null,null,null,null,null,null,{"$f":"IF(NILSM6!A5=\"NIP\",\"NIP \"&NILSM6!B5,\"\")","v":""}]
[null,null,null,null,null,null,null,null,null,"Mengetahui :"]
[null,null,null,null,null,null,null,null,null,"Kepala Sekolah,"]
[]
[]
[]
[]
[null,null,null,null,null,null,null,null,null,{"$f":"MENU!P8","v":"Drs. Agus Rukmawan, S.IP, MM"}]
[null,null,null,null,null,null,null,null,null,{"$f":"\"NIP \"&MENU!P9","v":"NIP 19611111 198603 1 008"}]

{"sheet":"PDSSX","index":25,"n_rows":76,"n_cols":67,"rows_kept":76,"cut":false,"hidden":false,"merged":[[1,34,1,35],[1,0,1,1]]}
[null,null,null,{"$f":"$B$3&D3&D4&D6","v":"1 (satu)A1P"},{"$f":"$B$3&E3&E4&E6","v":"1 (satu)A2P"},"1 (satu)A3P","1 (satu)A4P","1 (satu)A5P","1 (satu)A6P","1 (satu)B1P","1 (satu)B2P","1 (satu)B3P","1 (satu)B4P","1 (satu)C11P","1 (satu)C12P","1 (satu)C13P","1 (satu)C24P","1 (satu)C25P","1 (satu)C26P","1 (satu)C27P","1 (satu)C31P","1 (satu)C32P","1 (satu)C33P","1 (satu)C34P","1 (satu)C35P",{"$f":"$B$3&Z3&Z4&Z6","v":"1 (satu)C36P"},"1 (satu)C3-P","1 (satu)C3-P","1 (satu)C3-P","1 (satu)C3-P","1 (satu)C3-P","1 (satu)C3-P","1 (satu)C3-P"]
[{"$f":"\"PENGOLAHAN NILAI PDSS TAHUN PELAJARAN \"&MENU!I12","v":"PENGOLAHAN NILAI PDSS TAHUN PELAJARAN 2017 / 2018"},null,"                    NAMA MAPEL",{"$f":"HLOOKUP(MENU!$I$8&\" \"&$B$3,DATABASE!$X$2:$CK$92,DATABASE!W3,FALSE)","v":"Pendidikan Agama dan Budi Pekerti"},{"$f":"HLOOKUP(MENU!$I$8&\" \"&$B$3,DATABASE!$X$2:$CK$92,DATABASE!W6,FALSE)","v":"Pendidikan Pancasila dan Kewarganegaraan"},{"$f":"HLOOKUP(MENU!$I$8&\" \"&$B$3,DATABASE!$X$2:$CK$92,DATABASE!W9,FALSE)","v":"Bahasa Indonesia"},{"$f":"HLOOKUP(MENU!$I$8&\" \"&$B$3,DATABASE!$X$2:$CK$92,DATABASE!W12,FALSE)","v":"Matematika"},{"$f":"HLOOKUP(MENU!$I$8&\" \"&$B$3,DATABASE!$X$2:$CK$92,DATABASE!W15,FALSE)","v":"Sejarah Indonesia"},{"$f":"HLOOKUP(MENU!$I$8&\" \"&$B$3,DATABASE!$X$2:$CK$92,DATABASE!W18,FALSE)","v":"Bahasa Inggris"},{"$f":"HLOOKUP(MENU!$I$8&\" \"&$B$3,DATABASE!$X$2:$CK$92,DATABASE!W21,FALSE)","v":"Seni Budaya"},{"$f":"HLOOKUP(MENU!$I$8&\" \"&$B$3,DATABASE!$X$2:$CK$92,DATABASE!W24,FALSE)","v":"Pendidikan Jasmani, Olah Raga & Kesehatan"},{"$f":"HLOOKUP(MENU!$I$8&\" \"&$B$3,DATABASE!$X$2:$CK$92,DATABASE!W27,FALSE)","v":"Bahasa dan Sastra Sunda"},{"$f":"HLOOKUP(MENU!$I$8&\" \"&$B$3,DATABASE!$X$2:$CK$92,DATABASE!W30,FALSE)","v":"PLH"},{"$f":"HLOOKUP(MENU!$I$8&\" \"&$B$3,DATABASE!$X$2:$CK$92,DATABASE!W33,FALSE)","v":"Simulasi dan Komunikasi Digital"},{"$f":"HLOOKUP(MENU!$I$8&\" \"&$B$3,DATABASE!$X$2:$CK$92,DATABASE!W36,FALSE)","v":"Fisika"},{"$f":"HLOOKUP(MENU!$I$8&\" \"&$B$3,DATABASE!$X$2:$CK$92,DATABASE!W39,FALSE)","v":"Kimia"},{"$f":"HLOOKUP(MENU!$I$8&\" \"&$B$3,DATABASE!$X$2:$CK$92,DATABASE!W42,FALSE)","v":"Sistem Komputer"},{"$f":"HLOOKUP(MENU!$I$8&\" \"&$B$3,DATABASE!$X$2:$CK$92,DATABASE!W45,FALSE)","v":"Komputer dan Jaringan Dasar"},{"$f":"HLOOKUP(MENU!$I$8&\" \"&$B$3,DATABASE!$X$2:$CK$92,DATABASE!W48,FALSE)","v":"Pemrograman Dasar"},{"$f":"HLOOKUP(MENU!$I$8&\" \"&$B$3,DATABASE!$X$2:$CK$92,DATABASE!W51,FALSE)","v":"Dasar Desain Grafis"},{"$f":"HLOOKUP(MENU!$I$8&\" \"&$B$3,DATABASE!$X$2:$CK$92,DATABASE!W54,FALSE)","v":"-"},{"$f":"HLOOKUP(MENU!$I$8&\" \"&$B$3,DATABASE!$X$2:$CK$92,DATABASE!W57,FALSE)","v":"-"},{"$f":"HLOOKUP(MENU!$I$8&\" \"&$B$3,DATABASE!$X$2:$CK$92,DATABASE!W60,FALSE)","v":"-"},{"$f":"HLOOKUP(MENU!$I$8&\" \"&$B$3,DATABASE!$X$2:$CK$92,DATABASE!W63,FALSE)","v":"-"},{"$f":"HLOOKUP(MENU!$I$8&\" \"&$B$3,DATABASE!$X$2:$CK$92,DATABASE!W66,FALSE)","v":"-"},{"$f":"HLOOKUP(MENU!$I$8&\" \"&$B$3,DATABASE!$X$2:$CK$92,DATABASE!W69,FALSE)","v":"-"},{"$f":"HLOOKUP(MENU!$I$8&\" \"&$B$3,DATABASE!$X$2:$CK$92,DATABASE!W72,FALSE)","v":"-"},{"$f":"HLOOKUP(MENU!$I$8&\" \"&$B$3,DATABASE!$X$2:$CK$92,DATABASE!W75,FALSE)","v":"-"},{"$f":"HLOOKUP(MENU!$I$8&\" \"&$B$3,DATABASE!$X$2:$CK$92,DATABASE!W78,FALSE)","v":"-"},{"$f":"HLOOKUP(MENU!$I$8&\" \"&$B$3,DATABASE!$X$2:$CK$92,DATABASE!W81,FALSE)","v":"-"},{"$f":"HLOOKUP(MENU!$I$8&\" \"&$B$3,DATABASE!$X$2:$CK$92,DATABASE!W84,FALSE)","v":"-"},{"$f":"HLOOKUP(MENU!$I$8&\" \"&$B$3,DATABASE!$X$2:$CK$92,DATABASE!W87,FALSE)","v":"-"},{"$f":"HLOOKUP(MENU!$I$8&\" \"&$B$3,DATABASE!$X$2:$CK$92,DATABASE!W90,FALSE)","v":"-"},null,null,null,"                    NAMA MAPEL",{"$f":"HLOOKUP(MENU!$I$8&\" \"&$B$3,DATABASE!$X$2:$CK$92,DATABASE!W3,FALSE)","v":"Pendidikan Agama dan Budi Pekerti"},{"$f":"HLOOKUP(MENU!$I$8&\" \"&$B$3,DATABASE!$X$2:$CK$92,DATABASE!W6,FALSE)","v":"Pendidikan Pancasila dan Kewarganegaraan"},{"$f":"HLOOKUP(MENU!$I$8&\" \"&$B$3,DATABASE!$X$2:$CK$92,DATABASE!W9,FALSE)","v":"Bahasa Indonesia"},{"$f":"HLOOKUP(MENU!$I$8&\" \"&$B$3,DATABASE!$X$2:$CK$92,DATABASE!W12,FALSE)","v":"Matematika"},{"$f":"HLOOKUP(MENU!$I$8&\" \"&$B$3,DATABASE!$X$2:$CK$92,DATABASE!W15,FALSE)","v":"Sejarah Indonesia"},{"$f":"HLOOKUP(MENU!$I$8&\" \"&$B$3,DATABASE!$X$2:$CK$92,DATABASE!W18,FALSE)","v":"Bahasa Inggris"},{"$f":"HLOOKUP(MENU!$I$8&\" \"&$B$3,DATABASE!$X$2:$CK$92,DATABASE!W21,FALSE)","v":"Seni Budaya"},{"$f":"HLOOKUP(MENU!$I$8&\" \"&$B$3,DATABASE!$X$2:$CK$92,DATABASE!W24,FALSE)","v":"Pendidikan Jasmani, Olah Raga & Kesehatan"},{"$f":"HLOOKUP(MENU!$I$8&\" \"&$B$3,DATABASE!$X$2:$CK$92,DATABASE!W27,FALSE)","v":"Bahasa dan Sastra Sunda"},{"$f":"HLOOKUP(MENU!$I$8&\" \"&$B$3,DATABASE!$X$2:$CK$92,DATABASE!W30,FALSE)","v":"PLH"},{"$f":"HLOOKUP(MENU!$I$8&\" \"&$B$3,DATABASE!$X$2:$CK$92,DATABASE!W33,FALSE)","v":"Simulasi dan Komunikasi Digital"},{"$f":"HLOOKUP(MENU!$I$8&\" \"&$B$3,DATABASE!$X$2:$CK$92,DATABASE!W36,FALSE)","v":"Fisika"},{"$f":"HLOOKUP(MENU!$I$8&\" \"&$B$3,DATABASE!$X$2:$CK$92,DATABASE!W39,FALSE)","v":"Kimia"},{"$f":"HLOOKUP(MENU!$I$8&\" \"&$B$3,DATABASE!$X$2:$CK$92,DATABASE!W42,FALSE)","v":"Sistem Komputer"},{"$f":"HLOOKUP(MENU!$I$8&\" \"&$B$3,DATABASE!$X$2:$CK$92,DATABASE!W45,FALSE)","v":"Komputer dan Jaringan Dasar"},{"$f":"HLOOKUP(MENU!$I$8&\" \"&$B$3,DATABASE!$X$2:$CK$92,DATABASE!W48,FALSE)","v":"Pemrograman Dasar"},{"$f":"HLOOKUP(MENU!$I$8&\" \"&$B$3,DATABASE!$X$2:$CK$92,DATABASE!W51,FALSE)","v":"Dasar Desain Grafis"},{"$f":"HLOOKUP(MENU!$I$8&\" \"&$B$3,DATABASE!$X$2:$CK$92,DATABASE!W54,FALSE)","v":"-"},{"$f":"HLOOKUP(MENU!$I$8&\" \"&$B$3,DATABASE!$X$2:$CK$92,DATABASE!W57,FALSE)","v":"-"},{"$f":"HLOOKUP(MENU!$I$8&\" \"&$B$3,DATABASE!$X$2:$CK$92,DATABASE!W60,FALSE)","v":"-"},{"$f":"HLOOKUP(MENU!$I$8&\" \"&$B$3,DATABASE!$X$2:$CK$92,DATABASE!W63,FALSE)","v":"-"},{"$f":"HLOOKUP(MENU!$I$8&\" \"&$B$3,DATABASE!$X$2:$CK$92,DATABASE!W66,FALSE)","v":"-"},{"$f":"HLOOKUP(MENU!$I$8&\" \"&$B$3,DATABASE!$X$2:$CK$92,DATABASE!W69,FALSE)","v":"-"},{"$f":"HLOOKUP(MENU!$I$8&\" \"&$B$3,DATABASE!$X$2:$CK$92,DATABASE!W72,FALSE)","v":"-"},{"$f":"HLOOKUP(MENU!$I$8&\" \"&$B$3,DATABASE!$X$2:$CK$92,DATABASE!W75,FALSE)","v":"-"},{"$f":"HLOOKUP(MENU!$I$8&\" \"&$B$3,DATABASE!$X$2:$CK$92,DATABASE!W78,FALSE)","v":"-"},{"$f":"HLOOKUP(MENU!$I$8&\" \"&$B$3,DATABASE!$X$2:$CK$92,DATABASE!W81,FALSE)","v":"-"},{"$f":"HLOOKUP(MENU!$I$8&\" \"&$B$3,DATABASE!$X$2:$CK$92,DATABASE!W84,FALSE)","v":"-"},{"$f":"HLOOKUP(MENU!$I$8&\" \"&$B$3,DATABASE!$X$2:$CK$92,DATABASE!W87,FALSE)","v":"-"},{"$f":"HLOOKUP(MENU!$I$8&\" \"&$B$3,DATABASE!$X$2:$CK$92,DATABASE!W90,FALSE)","v":"-"}]
["Semester  :","1 (satu)","KELOMPOK MAPEL","A","A","A","A","A","A","B","B","B","B","C1","C1","C1","C2","C2","C2","C2","C3","C3","C3","C3","C3","C3","C3","C3","C3","C3","C3","C3","C3",null,"Semester  :","2 (dua)","KELOMPOK MAPEL","A","A","A","A","A","A","B","B","B","B","C1","C1","C1","C2","C2","C2","C2","C3","C3","C3","C3","C3","C3","-","-","-","-","-","-","-"]
["Wali Kelas :",{"$f":"NILSM1!B4","v":"Sri Hartati,S.T"},"URUTAN MAPEL",1,2,3,4,5,6,1,2,3,4,1,2,3,4,5,6,7,1,2,3,4,5,6,"-","-","-","-","-","-","-",null,"Wali Kelas :",{"$f":"NILSM2!B4","v":"Sri Hartati,S.T"},"URUTAN MAPEL",1,2,3,4,5,6,1,2,3,4,1,2,3,4,5,6,7,1,2,3,4,5,6,"-","-","-","-","-","-","-"]
[{"$f":"NILSM1!A5","v":"PegId"},{"$f":"NILSM1!B5","v":"20217802184001"},"KKM",75,75,75,75,75,75,75,75,75,75,75,75,75,75,75,75,75,75,75,75,75,75,75,75,75,75,75,75,75,75,null,{"$f":"NILSM2!A5","v":"PegId"},{"$f":"NILSM2!B5","v":"20217802184001"},"KKM",75,75,75,75,75,75,75,75,75,75,75,75,75,75,75,75,75,75,75,75,75,75,75,75,75,75,75,75,75,75]
["NO. URUT","NAMA SISWA","NIS","P","P","P","P","P","P","P","P","P","P","P","P","P","P","P","P","P","P","P","P","P","P","P","P","P","P","P","P","P","P",null,"NO. URUT","NAMA SISWA","NIS","P","P","P","P","P","P","P","P","P","P","P","P","P","P","P","P","P","P","P","P","P","P","P","P","P","P","P","P","P","P"]
[1,2,3,4,7,10,13,16,19,22,25,28,31,34,37,40,43,46,49,52,55,58,61,64,67,70,73,76,79,82,85,88,91,null,1,2,3,4,7,10,13,16,19,22,25,28,31,34,37,40,43,46,49,52,55,58,61,64,67,70,73,76,79,82,85,88,91]
[{"$f":"BIODATA!A5","v":1},{"$f":"NILSM1!B8","v":"AGHNIA SYAFIRA"},{"$f":"NILSM1!C8","v":13140767},{"$f":"NILSM1!D8","v":75},{"$f":"NILSM1!G8","v":84},{"$f":"NILSM1!J8","v":93},{"$f":"NILSM1!M8","v":75},{"$f":"NILSM1!P8","v":75},{"$f":"NILSM1!S8","v":75},{"$f":"NILSM1!V8","v":75},{"$f":"NILSM1!Y8","v":75},{"$f":"NILSM1!AB8","v":91.5},{"$f":"NILSM1!AE8","v":75},{"$f":"NILSM1!AH8","v":75},{"$f":"NILSM1!AK8","v":75},{"$f":"NILSM1!AN8","v":83.25},{"$f":"NILSM1!AQ8","v":75},{"$f":"NILSM1!AT8","v":75},{"$f":"NILSM1!AW8","v":75},{"$f":"NILSM1!AZ8","v":"-"},{"$f":"NILSM1!BC8","v":"-"},{"$f":"NILSM1!BF8","v":"-"},{"$f":"NILSM1!BI8","v":"-"},{"$f":"NILSM1!BL8","v":"-"},{"$f":"NILSM1!BO8","v":"-"},{"$f":"NILSM1!BR8","v":"-"},{"$f":"NILSM1!BU8","v":"-"},{"$f":"NILSM1!BX8","v":"-"},{"$f":"NILSM1!CA8","v":"-"},{"$f":"NILSM1!CD8","v":"-"},{"$f":"NILSM1!CG8","v":"-"},{"$f":"NILSM1!CJ8","v":"-"},{"$f":"NILSM1!CM8","v":"-"},null,{"$f":"A8","v":1},{"$f":"NILSM2!B8","v":"AGHNIA SYAFIRA"},{"$f":"NILSM2!C8","v":13140767},{"$f":"NILSM2!D8","v":75},{"$f":"NILSM2!G8","v":83.25},{"$f":"NILSM2!J8","v":75},{"$f":"NILSM2!M8","v":75},{"$f":"NILSM2!P8","v":75},{"$f":"NILSM2!S8","v":75},{"$f":"NILSM2!V8","v":91.75},{"$f":"NILSM2!Y8","v":83.25},{"$f":"NILSM2!AB8","v":91.5},{"$f":"NILSM2!AE8","v":75},{"$f":"NILSM2!AH8","v":75},{"$f":"NILSM2!AK8","v":83.25},{"$f":"NILSM2!AN8","v":83.25},{"$f":"NILSM2!AQ8","v":75},{"$f":"NILSM2!AT8","v":75},{"$f":"NILSM2!AW8","v":75},{"$f":"NILSM2!AZ8","v":"-"},{"$f":"NILSM2!BC8","v":"-"},{"$f":"NILSM2!BF8","v":"-"},{"$f":"NILSM2!BI8","v":"-"},{"$f":"NILSM2!BL8","v":"-"},{"$f":"NILSM2!BO8","v":"-"},{"$f":"NILSM2!BR8","v":"-"},{"$f":"NILSM2!BU8","v":"-"},{"$f":"NILSM2!BX8","v":"-"},{"$f":"NILSM2!CA8","v":"-"},{"$f":"NILSM2!CD8","v":"-"},{"$f":"NILSM2!CG8","v":"-"},{"$f":"NILSM2!CJ8","v":"-"},{"$f":"NILSM2!CM8","v":"-"}]
[{"$f":"BIODATA!A6","v":2},{"$f":"BIODATA!C6","v":"AL KINDI"},{"$f":"BIODATA!D6","v":13140768},{"$f":"NILSM1!D9","v":75},{"$f":"NILSM1!G9","v":84},{"$f":"NILSM1!J9","v":93},{"$f":"NILSM1!M9","v":75},{"$f":"NILSM1!P9","v":83.25},{"$f":"NILSM1!S9","v":75},{"$f":"NILSM1!V9","v":75},{"$f":"NILSM1!Y9","v":75},{"$f":"NILSM1!AB9","v":83.25},{"$f":"NILSM1!AE9","v":75},{"$f":"NILSM1!AH9","v":83.25},{"$f":"NILSM1!AK9","v":75},{"$f":"NILSM1!AN9","v":83.25},{"$f":"NILSM1!AQ9","v":75},{"$f":"NILSM1!AT9","v":75},{"$f":"NILSM1!AW9","v":75},{"$f":"NILSM1!AZ9","v":"-"},{"$f":"NILSM1!BC9","v":"-"},{"$f":"NILSM1!BF9","v":"-"},{"$f":"NILSM1!BI9","v":"-"},{"$f":"NILSM1!BL9","v":"-"},{"$f":"NILSM1!BO9","v":"-"},{"$f":"NILSM1!BR9","v":"-"},{"$f":"NILSM1!BU9","v":"-"},{"$f":"NILSM1!BX9","v":"-"},{"$f":"NILSM1!CA9","v":"-"},{"$f":"NILSM1!CD9","v":"-"},{"$f":"NILSM1!CG9","v":"-"},{"$f":"NILSM1!CJ9","v":"-"},{"$f":"NILSM1!CM9","v":"-"},null,{"$f":"A9","v":2},{"$f":"NILSM2!B9","v":"AL KINDI"},{"$f":"NILSM2!C9","v":13140768},{"$f":"NILSM2!D9","v":75},{"$f":"NILSM2!G9","v":83.25},{"$f":"NILSM2!J9","v":75},{"$f":"NILSM2!M9","v":75},{"$f":"NILSM2!P9","v":75},{"$f":"NILSM2!S9","v":83.25},{"$f":"NILSM2!V9","v":91.75},{"$f":"NILSM2!Y9","v":75},{"$f":"NILSM2!AB9","v":83.25},{"$f":"NILSM2!AE9","v":75},{"$f":"NILSM2!AH9","v":75},{"$f":"NILSM2!AK9","v":83.25},{"$f":"NILSM2!AN9","v":83.25},{"$f":"NILSM2!AQ9","v":75},{"$f":"NILSM2!AT9","v":83.25},{"$f":"NILSM2!AW9","v":75},{"$f":"NILSM2!AZ9","v":"-"},{"$f":"NILSM2!BC9","v":"-"},{"$f":"NILSM2!BF9","v":"-"},{"$f":"NILSM2!BI9","v":"-"},{"$f":"NILSM2!BL9","v":"-"},{"$f":"NILSM2!BO9","v":"-"},{"$f":"NILSM2!BR9","v":"-"},{"$f":"NILSM2!BU9","v":"-"},{"$f":"NILSM2!BX9","v":"-"},{"$f":"NILSM2!CA9","v":"-"},{"$f":"NILSM2!CD9","v":"-"},{"$f":"NILSM2!CG9","v":"-"},{"$f":"NILSM2!CJ9","v":"-"},{"$f":"NILSM2!CM9","v":"-"}]
[{"$f":"BIODATA!A7","v":3},{"$f":"BIODATA!C7","v":"ALFIAN MULYADI NATA"},{"$f":"BIODATA!D7","v":13140769},{"$f":"NILSM1!D10","v":91.5},{"$f":"NILSM1!G10","v":83.25},{"$f":"NILSM1!J10","v":75},{"$f":"NILSM1!M10","v":75},{"$f":"NILSM1!P10","v":83.25},{"$f":"NILSM1!S10","v":83.25},{"$f":"NILSM1!V10","v":83.25},{"$f":"NILSM1!Y10","v":75},{"$f":"NILSM1!AB10","v":83.25},{"$f":"NILSM1!AE10","v":75},{"$f":"NILSM1!AH10","v":83.25},{"$f":"NILSM1!AK10","v":75},{"$f":"NILSM1!AN10","v":91.5},{"$f":"NILSM1!AQ10","v":75},{"$f":"NILSM1!AT10","v":75},{"$f":"NILSM1!AW10","v":75},{"$f":"NILSM1!AZ10","v":"-"},{"$f":"NILSM1!BC10","v":"-"},{"$f":"NILSM1!BF10","v":"-"},{"$f":"NILSM1!BI10","v":"-"},{"$f":"NILSM1!BL10","v":"-"},{"$f":"NILSM1!BO10","v":"-"},{"$f":"NILSM1!BR10","v":"-"},{"$f":"NILSM1!BU10","v":"-"},{"$f":"NILSM1!BX10","v":"-"},{"$f":"NILSM1!CA10","v":"-"},{"$f":"NILSM1!CD10","v":"-"},{"$f":"NILSM1!CG10","v":"-"},{"$f":"NILSM1!CJ10","v":"-"},{"$f":"NILSM1!CM10","v":"-"},null,3,{"$f":"NILSM2!B10","v":"ALFIAN MULYADI NATA"},{"$f":"NILSM2!C10","v":13140769},{"$f":"NILSM2!D10","v":75},{"$f":"NILSM2!G10","v":91.5},{"$f":"NILSM2!J10","v":75},{"$f":"NILSM2!M10","v":75},{"$f":"NILSM2!P10","v":83.25},{"$f":"NILSM2!S10","v":91.5},{"$f":"NILSM2!V10","v":91.5},{"$f":"NILSM2!Y10","v":83.25},{"$f":"NILSM2!AB10","v":91.5},{"$f":"NILSM2!AE10","v":75},{"$f":"NILSM2!AH10","v":75},{"$f":"NILSM2!AK10","v":83.25},{"$f":"NILSM2!AN10","v":83.25},{"$f":"NILSM2!AQ10","v":75},{"$f":"NILSM2!AT10","v":83.25},{"$f":"NILSM2!AW10","v":83.25},{"$f":"NILSM2!AZ10","v":"-"},{"$f":"NILSM2!BC10","v":"-"},{"$f":"NILSM2!BF10","v":"-"},{"$f":"NILSM2!BI10","v":"-"},{"$f":"NILSM2!BL10","v":"-"},{"$f":"NILSM2!BO10","v":"-"},{"$f":"NILSM2!BR10","v":"-"},{"$f":"NILSM2!BU10","v":"-"},{"$f":"NILSM2!BX10","v":"-"},{"$f":"NILSM2!CA10","v":"-"},{"$f":"NILSM2!CD10","v":"-"},{"$f":"NILSM2!CG10","v":"-"},{"$f":"NILSM2!CJ10","v":"-"},{"$f":"NILSM2!CM10","v":"-"}]
[{"$f":"BIODATA!A8","v":4},{"$f":"BIODATA!C8","v":"ALFIANA WAHYU ATMADJA"},{"$f":"BIODATA!D8","v":13140770},{"$f":"NILSM1!D11","v":75},{"$f":"NILSM1!G11","v":75},{"$f":"NILSM1!J11","v":75},{"$f":"NILSM1!M11","v":75},{"$f":"NILSM1!P11","v":75},{"$f":"NILSM1!S11","v":75},{"$f":"NILSM1!V11","v":75},{"$f":"NILSM1!Y11","v":83.25},{"$f":"NILSM1!AB11","v":75},{"$f":"NILSM1!AE11","v":75},{"$f":"NILSM1!AH11","v":75},{"$f":"NILSM1!AK11","v":75},{"$f":"NILSM1!AN11","v":75},{"$f":"NILSM1!AQ11","v":75},{"$f":"NILSM1!AT11","v":75},{"$f":"NILSM1!AW11","v":75},{"$f":"NILSM1!AZ11","v":"-"},{"$f":"NILSM1!BC11","v":"-"},{"$f":"NILSM1!BF11","v":"-"},{"$f":"NILSM1!BI11","v":"-"},{"$f":"NILSM1!BL11","v":"-"},{"$f":"NILSM1!BO11","v":"-"},{"$f":"NILSM1!BR11","v":"-"},{"$f":"NILSM1!BU11","v":"-"},{"$f":"NILSM1!BX11","v":"-"},{"$f":"NILSM1!CA11","v":"-"},{"$f":"NILSM1!CD11","v":"-"},{"$f":"NILSM1!CG11","v":"-"},{"$f":"NILSM1!CJ11","v":"-"},{"$f":"NILSM1!CM11","v":"-"},null,4,{"$f":"NILSM2!B11","v":"ALFIANA WAHYU ATMADJA"},{"$f":"NILSM2!C11","v":13140770},{"$f":"NILSM2!D11","v":75},{"$f":"NILSM2!G11","v":83.25},{"$f":"NILSM2!J11","v":75},{"$f":"NILSM2!M11","v":75},{"$f":"NILSM2!P11","v":75},{"$f":"NILSM2!S11","v":75},{"$f":"NILSM2!V11","v":91.5},{"$f":"NILSM2!Y11","v":83.25},{"$f":"NILSM2!AB11","v":83.25},{"$f":"NILSM2!AE11","v":75},{"$f":"NILSM2!AH11","v":75},{"$f":"NILSM2!AK11","v":83.25},{"$f":"NILSM2!AN11","v":83.25},{"$f":"NILSM2!AQ11","v":75},{"$f":"NILSM2!AT11","v":75},{"$f":"NILSM2!AW11","v":75},{"$f":"NILSM2!AZ11","v":"-"},{"$f":"NILSM2!BC11","v":"-"},{"$f":"NILSM2!BF11","v":"-"},{"$f":"NILSM2!BI11","v":"-"},{"$f":"NILSM2!BL11","v":"-"},{"$f":"NILSM2!BO11","v":"-"},{"$f":"NILSM2!BR11","v":"-"},{"$f":"NILSM2!BU11","v":"-"},{"$f":"NILSM2!BX11","v":"-"},{"$f":"NILSM2!CA11","v":"-"},{"$f":"NILSM2!CD11","v":"-"},{"$f":"NILSM2!CG11","v":"-"},{"$f":"NILSM2!CJ11","v":"-"},{"$f":"NILSM2!CM11","v":"-"}]
[{"$f":"BIODATA!A9","v":5},{"$f":"BIODATA!C9","v":"ASEP DODO ROHENDI"},{"$f":"BIODATA!D9","v":13140771},{"$f":"NILSM1!D12","v":75},{"$f":"NILSM1!G12","v":83.25},{"$f":"NILSM1!J12","v":75},{"$f":"NILSM1!M12","v":75},{"$f":"NILSM1!P12","v":75},{"$f":"NILSM1!S12","v":75},{"$f":"NILSM1!V12","v":83.25},{"$f":"NILSM1!Y12","v":83.25},{"$f":"NILSM1!AB12","v":75},{"$f":"NILSM1!AE12","v":75},{"$f":"NILSM1!AH12","v":75},{"$f":"NILSM1!AK12","v":75},{"$f":"NILSM1!AN12","v":75},{"$f":"NILSM1!AQ12","v":75},{"$f":"NILSM1!AT12","v":75},{"$f":"NILSM1!AW12","v":75},{"$f":"NILSM1!AZ12","v":"-"},{"$f":"NILSM1!BC12","v":"-"},{"$f":"NILSM1!BF12","v":"-"},{"$f":"NILSM1!BI12","v":"-"},{"$f":"NILSM1!BL12","v":"-"},{"$f":"NILSM1!BO12","v":"-"},{"$f":"NILSM1!BR12","v":"-"},{"$f":"NILSM1!BU12","v":"-"},{"$f":"NILSM1!BX12","v":"-"},{"$f":"NILSM1!CA12","v":"-"},{"$f":"NILSM1!CD12","v":"-"},{"$f":"NILSM1!CG12","v":"-"},{"$f":"NILSM1!CJ12","v":"-"},{"$f":"NILSM1!CM12","v":"-"},null,5,{"$f":"NILSM2!B12","v":"ASEP DODO ROHENDI"},{"$f":"NILSM2!C12","v":13140771},{"$f":"NILSM2!D12","v":75},{"$f":"NILSM2!G12","v":83.25},{"$f":"NILSM2!J12","v":75},{"$f":"NILSM2!M12","v":75},{"$f":"NILSM2!P12","v":75},{"$f":"NILSM2!S12","v":83.25},{"$f":"NILSM2!V12","v":91.5},{"$f":"NILSM2!Y12","v":83.25},{"$f":"NILSM2!AB12","v":83.25},{"$f":"NILSM2!AE12","v":75},{"$f":"NILSM2!AH12","v":75},{"$f":"NILSM2!AK12","v":75},{"$f":"NILSM2!AN12","v":83.25},{"$f":"NILSM2!AQ12","v":75},{"$f":"NILSM2!AT12","v":75},{"$f":"NILSM2!AW12","v":83.25},{"$f":"NILSM2!AZ12","v":"-"},{"$f":"NILSM2!BC12","v":"-"},{"$f":"NILSM2!BF12","v":"-"},{"$f":"NILSM2!BI12","v":"-"},{"$f":"NILSM2!BL12","v":"-"},{"$f":"NILSM2!BO12","v":"-"},{"$f":"NILSM2!BR12","v":"-"},{"$f":"NILSM2!BU12","v":"-"},{"$f":"NILSM2!BX12","v":"-"},{"$f":"NILSM2!CA12","v":"-"},{"$f":"NILSM2!CD12","v":"-"},{"$f":"NILSM2!CG12","v":"-"},{"$f":"NILSM2!CJ12","v":"-"},{"$f":"NILSM2!CM12","v":"-"}]
[{"$f":"BIODATA!A10","v":6},{"$f":"BIODATA!C10","v":"BILLY RIZKI JHONATHAN"},{"$f":"BIODATA!D10","v":13140772},{"$f":"NILSM1!D13","v":91.5},{"$f":"NILSM1!G13","v":83.25},{"$f":"NILSM1!J13","v":75},{"$f":"NILSM1!M13","v":91.5},{"$f":"NILSM1!P13","v":83.25},{"$f":"NILSM1!S13","v":91.5},{"$f":"NILSM1!V13","v":83.25},{"$f":"NILSM1!Y13","v":75},{"$f":"NILSM1!AB13","v":83.25},{"$f":"NILSM1!AE13","v":83.25},{"$f":"NILSM1!AH13","v":91.5},{"$f":"NILSM1!AK13","v":83.25},{"$f":"NILSM1!AN13","v":91.5},{"$f":"NILSM1!AQ13","v":75},{"$f":"NILSM1!AT13","v":91.5},{"$f":"NILSM1!AW13","v":83.25},{"$f":"NILSM1!AZ13","v":"-"},{"$f":"NILSM1!BC13","v":"-"},{"$f":"NILSM1!BF13","v":"-"},{"$f":"NILSM1!BI13","v":"-"},{"$f":"NILSM1!BL13","v":"-"},{"$f":"NILSM1!BO13","v":"-"},{"$f":"NILSM1!BR13","v":"-"},{"$f":"NILSM1!BU13","v":"-"},{"$f":"NILSM1!BX13","v":"-"},{"$f":"NILSM1!CA13","v":"-"},{"$f":"NILSM1!CD13","v":"-"},{"$f":"NILSM1!CG13","v":"-"},{"$f":"NILSM1!CJ13","v":"-"},{"$f":"NILSM1!CM13","v":"-"},null,6,{"$f":"NILSM2!B13","v":"BILLY RIZKI JHONATHAN"},{"$f":"NILSM2!C13","v":13140772},{"$f":"NILSM2!D13","v":83.25},{"$f":"NILSM2!G13","v":91.5},{"$f":"NILSM2!J13","v":83.25},{"$f":"NILSM2!M13","v":83.25},{"$f":"NILSM2!P13","v":83.25},{"$f":"NILSM2!S13","v":91.75},{"$f":"NILSM2!V13","v":83.25},{"$f":"NILSM2!Y13","v":83.25},{"$f":"NILSM2!AB13","v":91.5},{"$f":"NILSM2!AE13","v":83.25},{"$f":"NILSM2!AH13","v":91.5},{"$f":"NILSM2!AK13","v":75},{"$f":"NILSM2!AN13","v":91.5},{"$f":"NILSM2!AQ13","v":75},{"$f":"NILSM2!AT13","v":83.25},{"$f":"NILSM2!AW13","v":83.25},{"$f":"NILSM2!AZ13","v":"-"},{"$f":"NILSM2!BC13","v":"-"},{"$f":"NILSM2!BF13","v":"-"},{"$f":"NILSM2!BI13","v":"-"},{"$f":"NILSM2!BL13","v":"-"},{"$f":"NILSM2!BO13","v":"-"},{"$f":"NILSM2!BR13","v":"-"},{"$f":"NILSM2!BU13","v":"-"},{"$f":"NILSM2!BX13","v":"-"},{"$f":"NILSM2!CA13","v":"-"},{"$f":"NILSM2!CD13","v":"-"},{"$f":"NILSM2!CG13","v":"-"},{"$f":"NILSM2!CJ13","v":"-"},{"$f":"NILSM2!CM13","v":"-"}]
[{"$f":"BIODATA!A11","v":7},{"$f":"BIODATA!C11","v":"CAHYASARI RAMADHANTY"},{"$f":"BIODATA!D11","v":13140773},{"$f":"NILSM1!D14","v":75},{"$f":"NILSM1!G14","v":75},{"$f":"NILSM1!J14","v":75},{"$f":"NILSM1!M14","v":75},{"$f":"NILSM1!P14","v":75},{"$f":"NILSM1!S14","v":75},{"$f":"NILSM1!V14","v":75},{"$f":"NILSM1!Y14","v":75},{"$f":"NILSM1!AB14","v":83.25},{"$f":"NILSM1!AE14","v":75},{"$f":"NILSM1!AH14","v":75},{"$f":"NILSM1!AK14","v":75},{"$f":"NILSM1!AN14","v":75},{"$f":"NILSM1!AQ14","v":75},{"$f":"NILSM1!AT14","v":75},{"$f":"NILSM1!AW14","v":75},{"$f":"NILSM1!AZ14","v":"-"},{"$f":"NILSM1!BC14","v":"-"},{"$f":"NILSM1!BF14","v":"-"},{"$f":"NILSM1!BI14","v":"-"},{"$f":"NILSM1!BL14","v":"-"},{"$f":"NILSM1!BO14","v":"-"},{"$f":"NILSM1!BR14","v":"-"},{"$f":"NILSM1!BU14","v":"-"},{"$f":"NILSM1!BX14","v":"-"},{"$f":"NILSM1!CA14","v":"-"},{"$f":"NILSM1!CD14","v":"-"},{"$f":"NILSM1!CG14","v":"-"},{"$f":"NILSM1!CJ14","v":"-"},{"$f":"NILSM1!CM14","v":"-"},null,7,{"$f":"NILSM2!B14","v":"CAHYASARI RAMADHANTY"},{"$f":"NILSM2!C14","v":13140773},{"$f":"NILSM2!D14","v":75},{"$f":"NILSM2!G14","v":83.25},{"$f":"NILSM2!J14","v":75},{"$f":"NILSM2!M14","v":75},{"$f":"NILSM2!P14","v":75},{"$f":"NILSM2!S14","v":75},{"$f":"NILSM2!V14","v":91.75},{"$f":"NILSM2!Y14","v":83.25},{"$f":"NILSM2!AB14","v":83.25},{"$f":"NILSM2!AE14","v":75},{"$f":"NILSM2!AH14","v":75},{"$f":"NILSM2!AK14","v":75},{"$f":"NILSM2!AN14","v":83.25},{"$f":"NILSM2!AQ14","v":75},{"$f":"NILSM2!AT14","v":75},{"$f":"NILSM2!AW14","v":75},{"$f":"NILSM2!AZ14","v":"-"},{"$f":"NILSM2!BC14","v":"-"},{"$f":"NILSM2!BF14","v":"-"},{"$f":"NILSM2!BI14","v":"-"},{"$f":"NILSM2!BL14","v":"-"},{"$f":"NILSM2!BO14","v":"-"},{"$f":"NILSM2!BR14","v":"-"},{"$f":"NILSM2!BU14","v":"-"},{"$f":"NILSM2!BX14","v":"-"},{"$f":"NILSM2!CA14","v":"-"},{"$f":"NILSM2!CD14","v":"-"},{"$f":"NILSM2!CG14","v":"-"},{"$f":"NILSM2!CJ14","v":"-"},{"$f":"NILSM2!CM14","v":"-"}]
[{"$f":"BIODATA!A12","v":8},{"$f":"BIODATA!C12","v":0},{"$f":"BIODATA!D12","v":0},{"$f":"NILSM1!D15","v":0},{"$f":"NILSM1!G15","v":0},{"$f":"NILSM1!J15","v":0},{"$f":"NILSM1!M15","v":0},{"$f":"NILSM1!P15","v":0},{"$f":"NILSM1!S15","v":0},{"$f":"NILSM1!V15","v":0},{"$f":"NILSM1!Y15","v":0},{"$f":"NILSM1!AB15","v":0},{"$f":"NILSM1!AE15","v":0},{"$f":"NILSM1!AH15","v":0},{"$f":"NILSM1!AK15","v":0},{"$f":"NILSM1!AN15","v":0},{"$f":"NILSM1!AQ15","v":0},{"$f":"NILSM1!AT15","v":0},{"$f":"NILSM1!AW15","v":0},{"$f":"NILSM1!AZ15","v":0},{"$f":"NILSM1!BC15","v":0},{"$f":"NILSM1!BF15","v":0},{"$f":"NILSM1!BI15","v":0},{"$f":"NILSM1!BL15","v":0},{"$f":"NILSM1!BO15","v":0},{"$f":"NILSM1!BR15","v":0},{"$f":"NILSM1!BU15","v":0},{"$f":"NILSM1!BX15","v":0},{"$f":"NILSM1!CA15","v":0},{"$f":"NILSM1!CD15","v":0},{"$f":"NILSM1!CG15","v":0},{"$f":"NILSM1!CJ15","v":0},{"$f":"NILSM1!CM15","v":0},null,8,{"$f":"NILSM2!B15","v":0},{"$f":"NILSM2!C15","v":0},{"$f":"NILSM2!D15","v":0},{"$f":"NILSM2!G15","v":0},{"$f":"NILSM2!J15","v":0},{"$f":"NILSM2!M15","v":0},{"$f":"NILSM2!P15","v":0},{"$f":"NILSM2!S15","v":0},{"$f":"NILSM2!V15","v":0},{"$f":"NILSM2!Y15","v":0},{"$f":"NILSM2!AB15","v":0},{"$f":"NILSM2!AE15","v":0},{"$f":"NILSM2!AH15","v":0},{"$f":"NILSM2!AK15","v":0},{"$f":"NILSM2!AN15","v":0},{"$f":"NILSM2!AQ15","v":0},{"$f":"NILSM2!AT15","v":0},{"$f":"NILSM2!AW15","v":0},{"$f":"NILSM2!AZ15","v":0},{"$f":"NILSM2!BC15","v":0},{"$f":"NILSM2!BF15","v":0},{"$f":"NILSM2!BI15","v":0},{"$f":"NILSM2!BL15","v":0},{"$f":"NILSM2!BO15","v":0},{"$f":"NILSM2!BR15","v":0},{"$f":"NILSM2!BU15","v":0},{"$f":"NILSM2!BX15","v":0},{"$f":"NILSM2!CA15","v":0},{"$f":"NILSM2!CD15","v":0},{"$f":"NILSM2!CG15","v":0},{"$f":"NILSM2!CJ15","v":0},{"$f":"NILSM2!CM15","v":0}]
[{"$f":"BIODATA!A13","v":9},{"$f":"BIODATA!C13","v":0},{"$f":"BIODATA!D13","v":0},{"$f":"NILSM1!D16","v":0},{"$f":"NILSM1!G16","v":0},{"$f":"NILSM1!J16","v":0},{"$f":"NILSM1!M16","v":0},{"$f":"NILSM1!P16","v":0},{"$f":"NILSM1!S16","v":0},{"$f":"NILSM1!V16","v":0},{"$f":"NILSM1!Y16","v":0},{"$f":"NILSM1!AB16","v":0},{"$f":"NILSM1!AE16","v":0},{"$f":"NILSM1!AH16","v":0},{"$f":"NILSM1!AK16","v":0},{"$f":"NILSM1!AN16","v":0},{"$f":"NILSM1!AQ16","v":0},{"$f":"NILSM1!AT16","v":0},{"$f":"NILSM1!AW16","v":0},{"$f":"NILSM1!AZ16","v":0},{"$f":"NILSM1!BC16","v":0},{"$f":"NILSM1!BF16","v":0},{"$f":"NILSM1!BI16","v":0},{"$f":"NILSM1!BL16","v":0},{"$f":"NILSM1!BO16","v":0},{"$f":"NILSM1!BR16","v":0},{"$f":"NILSM1!BU16","v":0},{"$f":"NILSM1!BX16","v":0},{"$f":"NILSM1!CA16","v":0},{"$f":"NILSM1!CD16","v":0},{"$f":"NILSM1!CG16","v":0},{"$f":"NILSM1!CJ16","v":0},{"$f":"NILSM1!CM16","v":0},null,9,{"$f":"NILSM2!B16","v":0},{"$f":"NILSM2!C16","v":0},{"$f":"NILSM2!D16","v":0},{"$f":"NILSM2!G16","v":0},{"$f":"NILSM2!J16","v":0},{"$f":"NILSM2!M16","v":0},{"$f":"NILSM2!P16","v":0},{"$f":"NILSM2!S16","v":0},{"$f":"NILSM2!V16","v":0},{"$f":"NILSM2!Y16","v":0},{"$f":"NILSM2!AB16","v":0},{"$f":"NILSM2!AE16","v":0},{"$f":"NILSM2!AH16","v":0},{"$f":"NILSM2!AK16","v":0},{"$f":"NILSM2!AN16","v":0},{"$f":"NILSM2!AQ16","v":0},{"$f":"NILSM2!AT16","v":0},{"$f":"NILSM2!AW16","v":0},{"$f":"NILSM2!AZ16","v":0},{"$f":"NILSM2!BC16","v":0},{"$f":"NILSM2!BF16","v":0},{"$f":"NILSM2!BI16","v":0},{"$f":"NILSM2!BL16","v":0},{"$f":"NILSM2!BO16","v":0},{"$f":"NILSM2!BR16","v":0},{"$f":"NILSM2!BU16","v":0},{"$f":"NILSM2!BX16","v":0},{"$f":"NILSM2!CA16","v":0},{"$f":"NILSM2!CD16","v":0},{"$f":"NILSM2!CG16","v":0},{"$f":"NILSM2!CJ16","v":0},{"$f":"NILSM2!CM16","v":0}]
[{"$f":"BIODATA!A14","v":10},{"$f":"BIODATA!C14","v":0},{"$f":"BIODATA!D14","v":0},{"$f":"NILSM1!D17","v":0},{"$f":"NILSM1!G17","v":0},{"$f":"NILSM1!J17","v":0},{"$f":"NILSM1!M17","v":0},{"$f":"NILSM1!P17","v":0},{"$f":"NILSM1!S17","v":0},{"$f":"NILSM1!V17","v":0},{"$f":"NILSM1!Y17","v":0},{"$f":"NILSM1!AB17","v":0},{"$f":"NILSM1!AE17","v":0},{"$f":"NILSM1!AH17","v":0},{"$f":"NILSM1!AK17","v":0},{"$f":"NILSM1!AN17","v":0},{"$f":"NILSM1!AQ17","v":0},{"$f":"NILSM1!AT17","v":0},{"$f":"NILSM1!AW17","v":0},{"$f":"NILSM1!AZ17","v":0},{"$f":"NILSM1!BC17","v":0},{"$f":"NILSM1!BF17","v":0},{"$f":"NILSM1!BI17","v":0},{"$f":"NILSM1!BL17","v":0},{"$f":"NILSM1!BO17","v":0},{"$f":"NILSM1!BR17","v":0},{"$f":"NILSM1!BU17","v":0},{"$f":"NILSM1!BX17","v":0},{"$f":"NILSM1!CA17","v":0},{"$f":"NILSM1!CD17","v":0},{"$f":"NILSM1!CG17","v":0},{"$f":"NILSM1!CJ17","v":0},{"$f":"NILSM1!CM17","v":0},null,10,{"$f":"NILSM2!B17","v":0},{"$f":"NILSM2!C17","v":0},{"$f":"NILSM2!D17","v":0},{"$f":"NILSM2!G17","v":0},{"$f":"NILSM2!J17","v":0},{"$f":"NILSM2!M17","v":0},{"$f":"NILSM2!P17","v":0},{"$f":"NILSM2!S17","v":0},{"$f":"NILSM2!V17","v":0},{"$f":"NILSM2!Y17","v":0},{"$f":"NILSM2!AB17","v":0},{"$f":"NILSM2!AE17","v":0},{"$f":"NILSM2!AH17","v":0},{"$f":"NILSM2!AK17","v":0},{"$f":"NILSM2!AN17","v":0},{"$f":"NILSM2!AQ17","v":0},{"$f":"NILSM2!AT17","v":0},{"$f":"NILSM2!AW17","v":0},{"$f":"NILSM2!AZ17","v":0},{"$f":"NILSM2!BC17","v":0},{"$f":"NILSM2!BF17","v":0},{"$f":"NILSM2!BI17","v":0},{"$f":"NILSM2!BL17","v":0},{"$f":"NILSM2!BO17","v":0},{"$f":"NILSM2!BR17","v":0},{"$f":"NILSM2!BU17","v":0},{"$f":"NILSM2!BX17","v":0},{"$f":"NILSM2!CA17","v":0},{"$f":"NILSM2!CD17","v":0},{"$f":"NILSM2!CG17","v":0},{"$f":"NILSM2!CJ17","v":0},{"$f":"NILSM2!CM17","v":0}]
[{"$f":"BIODATA!A15","v":11},{"$f":"BIODATA!C15","v":0},{"$f":"BIODATA!D15","v":0},{"$f":"NILSM1!D18","v":0},{"$f":"NILSM1!G18","v":0},{"$f":"NILSM1!J18","v":0},{"$f":"NILSM1!M18","v":0},{"$f":"NILSM1!P18","v":0},{"$f":"NILSM1!S18","v":0},{"$f":"NILSM1!V18","v":0},{"$f":"NILSM1!Y18","v":0},{"$f":"NILSM1!AB18","v":0},{"$f":"NILSM1!AE18","v":0},{"$f":"NILSM1!AH18","v":0},{"$f":"NILSM1!AK18","v":0},{"$f":"NILSM1!AN18","v":0},{"$f":"NILSM1!AQ18","v":0},{"$f":"NILSM1!AT18","v":0},{"$f":"NILSM1!AW18","v":0},{"$f":"NILSM1!AZ18","v":0},{"$f":"NILSM1!BC18","v":0},{"$f":"NILSM1!BF18","v":0},{"$f":"NILSM1!BI18","v":0},{"$f":"NILSM1!BL18","v":0},{"$f":"NILSM1!BO18","v":0},{"$f":"NILSM1!BR18","v":0},{"$f":"NILSM1!BU18","v":0},{"$f":"NILSM1!BX18","v":0},{"$f":"NILSM1!CA18","v":0},{"$f":"NILSM1!CD18","v":0},{"$f":"NILSM1!CG18","v":0},{"$f":"NILSM1!CJ18","v":0},{"$f":"NILSM1!CM18","v":0},null,11,{"$f":"NILSM2!B18","v":0},{"$f":"NILSM2!C18","v":0},{"$f":"NILSM2!D18","v":0},{"$f":"NILSM2!G18","v":0},{"$f":"NILSM2!J18","v":0},{"$f":"NILSM2!M18","v":0},{"$f":"NILSM2!P18","v":0},{"$f":"NILSM2!S18","v":0},{"$f":"NILSM2!V18","v":0},{"$f":"NILSM2!Y18","v":0},{"$f":"NILSM2!AB18","v":0},{"$f":"NILSM2!AE18","v":0},{"$f":"NILSM2!AH18","v":0},{"$f":"NILSM2!AK18","v":0},{"$f":"NILSM2!AN18","v":0},{"$f":"NILSM2!AQ18","v":0},{"$f":"NILSM2!AT18","v":0},{"$f":"NILSM2!AW18","v":0},{"$f":"NILSM2!AZ18","v":0},{"$f":"NILSM2!BC18","v":0},{"$f":"NILSM2!BF18","v":0},{"$f":"NILSM2!BI18","v":0},{"$f":"NILSM2!BL18","v":0},{"$f":"NILSM2!BO18","v":0},{"$f":"NILSM2!BR18","v":0},{"$f":"NILSM2!BU18","v":0},{"$f":"NILSM2!BX18","v":0},{"$f":"NILSM2!CA18","v":0},{"$f":"NILSM2!CD18","v":0},{"$f":"NILSM2!CG18","v":0},{"$f":"NILSM2!CJ18","v":0},{"$f":"NILSM2!CM18","v":0}]
[{"$f":"BIODATA!A16","v":12},{"$f":"BIODATA!C16","v":0},{"$f":"BIODATA!D16","v":0},{"$f":"NILSM1!D19","v":0},{"$f":"NILSM1!G19","v":0},{"$f":"NILSM1!J19","v":0},{"$f":"NILSM1!M19","v":0},{"$f":"NILSM1!P19","v":0},{"$f":"NILSM1!S19","v":0},{"$f":"NILSM1!V19","v":0},{"$f":"NILSM1!Y19","v":0},{"$f":"NILSM1!AB19","v":0},{"$f":"NILSM1!AE19","v":0},{"$f":"NILSM1!AH19","v":0},{"$f":"NILSM1!AK19","v":0},{"$f":"NILSM1!AN19","v":0},{"$f":"NILSM1!AQ19","v":0},{"$f":"NILSM1!AT19","v":0},{"$f":"NILSM1!AW19","v":0},{"$f":"NILSM1!AZ19","v":0},{"$f":"NILSM1!BC19","v":0},{"$f":"NILSM1!BF19","v":0},{"$f":"NILSM1!BI19","v":0},{"$f":"NILSM1!BL19","v":0},{"$f":"NILSM1!BO19","v":0},{"$f":"NILSM1!BR19","v":0},{"$f":"NILSM1!BU19","v":0},{"$f":"NILSM1!BX19","v":0},{"$f":"NILSM1!CA19","v":0},{"$f":"NILSM1!CD19","v":0},{"$f":"NILSM1!CG19","v":0},{"$f":"NILSM1!CJ19","v":0},{"$f":"NILSM1!CM19","v":0},null,12,{"$f":"NILSM2!B19","v":0},{"$f":"NILSM2!C19","v":0},{"$f":"NILSM2!D19","v":0},{"$f":"NILSM2!G19","v":0},{"$f":"NILSM2!J19","v":0},{"$f":"NILSM2!M19","v":0},{"$f":"NILSM2!P19","v":0},{"$f":"NILSM2!S19","v":0},{"$f":"NILSM2!V19","v":0},{"$f":"NILSM2!Y19","v":0},{"$f":"NILSM2!AB19","v":0},{"$f":"NILSM2!AE19","v":0},{"$f":"NILSM2!AH19","v":0},{"$f":"NILSM2!AK19","v":0},{"$f":"NILSM2!AN19","v":0},{"$f":"NILSM2!AQ19","v":0},{"$f":"NILSM2!AT19","v":0},{"$f":"NILSM2!AW19","v":0},{"$f":"NILSM2!AZ19","v":0},{"$f":"NILSM2!BC19","v":0},{"$f":"NILSM2!BF19","v":0},{"$f":"NILSM2!BI19","v":0},{"$f":"NILSM2!BL19","v":0},{"$f":"NILSM2!BO19","v":0},{"$f":"NILSM2!BR19","v":0},{"$f":"NILSM2!BU19","v":0},{"$f":"NILSM2!BX19","v":0},{"$f":"NILSM2!CA19","v":0},{"$f":"NILSM2!CD19","v":0},{"$f":"NILSM2!CG19","v":0},{"$f":"NILSM2!CJ19","v":0},{"$f":"NILSM2!CM19","v":0}]
[{"$f":"BIODATA!A17","v":13},{"$f":"BIODATA!C17","v":0},{"$f":"BIODATA!D17","v":0},{"$f":"NILSM1!D20","v":0},{"$f":"NILSM1!G20","v":0},{"$f":"NILSM1!J20","v":0},{"$f":"NILSM1!M20","v":0},{"$f":"NILSM1!P20","v":0},{"$f":"NILSM1!S20","v":0},{"$f":"NILSM1!V20","v":0},{"$f":"NILSM1!Y20","v":0},{"$f":"NILSM1!AB20","v":0},{"$f":"NILSM1!AE20","v":0},{"$f":"NILSM1!AH20","v":0},{"$f":"NILSM1!AK20","v":0},{"$f":"NILSM1!AN20","v":0},{"$f":"NILSM1!AQ20","v":0},{"$f":"NILSM1!AT20","v":0},{"$f":"NILSM1!AW20","v":0},{"$f":"NILSM1!AZ20","v":0},{"$f":"NILSM1!BC20","v":0},{"$f":"NILSM1!BF20","v":0},{"$f":"NILSM1!BI20","v":0},{"$f":"NILSM1!BL20","v":0},{"$f":"NILSM1!BO20","v":0},{"$f":"NILSM1!BR20","v":0},{"$f":"NILSM1!BU20","v":0},{"$f":"NILSM1!BX20","v":0},{"$f":"NILSM1!CA20","v":0},{"$f":"NILSM1!CD20","v":0},{"$f":"NILSM1!CG20","v":0},{"$f":"NILSM1!CJ20","v":0},{"$f":"NILSM1!CM20","v":0},null,13,{"$f":"NILSM2!B20","v":0},{"$f":"NILSM2!C20","v":0},{"$f":"NILSM2!D20","v":0},{"$f":"NILSM2!G20","v":0},{"$f":"NILSM2!J20","v":0},{"$f":"NILSM2!M20","v":0},{"$f":"NILSM2!P20","v":0},{"$f":"NILSM2!S20","v":0},{"$f":"NILSM2!V20","v":0},{"$f":"NILSM2!Y20","v":0},{"$f":"NILSM2!AB20","v":0},{"$f":"NILSM2!AE20","v":0},{"$f":"NILSM2!AH20","v":0},{"$f":"NILSM2!AK20","v":0},{"$f":"NILSM2!AN20","v":0},{"$f":"NILSM2!AQ20","v":0},{"$f":"NILSM2!AT20","v":0},{"$f":"NILSM2!AW20","v":0},{"$f":"NILSM2!AZ20","v":0},{"$f":"NILSM2!BC20","v":0},{"$f":"NILSM2!BF20","v":0},{"$f":"NILSM2!BI20","v":0},{"$f":"NILSM2!BL20","v":0},{"$f":"NILSM2!BO20","v":0},{"$f":"NILSM2!BR20","v":0},{"$f":"NILSM2!BU20","v":0},{"$f":"NILSM2!BX20","v":0},{"$f":"NILSM2!CA20","v":0},{"$f":"NILSM2!CD20","v":0},{"$f":"NILSM2!CG20","v":0},{"$f":"NILSM2!CJ20","v":0},{"$f":"NILSM2!CM20","v":0}]
[{"$f":"BIODATA!A18","v":14},{"$f":"BIODATA!C18","v":0},{"$f":"BIODATA!D18","v":0},{"$f":"NILSM1!D21","v":0},{"$f":"NILSM1!G21","v":0},{"$f":"NILSM1!J21","v":0},{"$f":"NILSM1!M21","v":0},{"$f":"NILSM1!P21","v":0},{"$f":"NILSM1!S21","v":0},{"$f":"NILSM1!V21","v":0},{"$f":"NILSM1!Y21","v":0},{"$f":"NILSM1!AB21","v":0},{"$f":"NILSM1!AE21","v":0},{"$f":"NILSM1!AH21","v":0},{"$f":"NILSM1!AK21","v":0},{"$f":"NILSM1!AN21","v":0},{"$f":"NILSM1!AQ21","v":0},{"$f":"NILSM1!AT21","v":0},{"$f":"NILSM1!AW21","v":0},{"$f":"NILSM1!AZ21","v":0},{"$f":"NILSM1!BC21","v":0},{"$f":"NILSM1!BF21","v":0},{"$f":"NILSM1!BI21","v":0},{"$f":"NILSM1!BL21","v":0},{"$f":"NILSM1!BO21","v":0},{"$f":"NILSM1!BR21","v":0},{"$f":"NILSM1!BU21","v":0},{"$f":"NILSM1!BX21","v":0},{"$f":"NILSM1!CA21","v":0},{"$f":"NILSM1!CD21","v":0},{"$f":"NILSM1!CG21","v":0},{"$f":"NILSM1!CJ21","v":0},{"$f":"NILSM1!CM21","v":0},null,14,{"$f":"NILSM2!B21","v":0},{"$f":"NILSM2!C21","v":0},{"$f":"NILSM2!D21","v":0},{"$f":"NILSM2!G21","v":0},{"$f":"NILSM2!J21","v":0},{"$f":"NILSM2!M21","v":0},{"$f":"NILSM2!P21","v":0},{"$f":"NILSM2!S21","v":0},{"$f":"NILSM2!V21","v":0},{"$f":"NILSM2!Y21","v":0},{"$f":"NILSM2!AB21","v":0},{"$f":"NILSM2!AE21","v":0},{"$f":"NILSM2!AH21","v":0},{"$f":"NILSM2!AK21","v":0},{"$f":"NILSM2!AN21","v":0},{"$f":"NILSM2!AQ21","v":0},{"$f":"NILSM2!AT21","v":0},{"$f":"NILSM2!AW21","v":0},{"$f":"NILSM2!AZ21","v":0},{"$f":"NILSM2!BC21","v":0},{"$f":"NILSM2!BF21","v":0},{"$f":"NILSM2!BI21","v":0},{"$f":"NILSM2!BL21","v":0},{"$f":"NILSM2!BO21","v":0},{"$f":"NILSM2!BR21","v":0},{"$f":"NILSM2!BU21","v":0},{"$f":"NILSM2!BX21","v":0},{"$f":"NILSM2!CA21","v":0},{"$f":"NILSM2!CD21","v":0},{"$f":"NILSM2!CG21","v":0},{"$f":"NILSM2!CJ21","v":0},{"$f":"NILSM2!CM21","v":0}]
[{"$f":"BIODATA!A19","v":15},{"$f":"BIODATA!C19","v":0},{"$f":"BIODATA!D19","v":0},{"$f":"NILSM1!D22","v":0},{"$f":"NILSM1!G22","v":0},{"$f":"NILSM1!J22","v":0},{"$f":"NILSM1!M22","v":0},{"$f":"NILSM1!P22","v":0},{"$f":"NILSM1!S22","v":0},{"$f":"NILSM1!V22","v":0},{"$f":"NILSM1!Y22","v":0},{"$f":"NILSM1!AB22","v":0},{"$f":"NILSM1!AE22","v":0},{"$f":"NILSM1!AH22","v":0},{"$f":"NILSM1!AK22","v":0},{"$f":"NILSM1!AN22","v":0},{"$f":"NILSM1!AQ22","v":0},{"$f":"NILSM1!AT22","v":0},{"$f":"NILSM1!AW22","v":0},{"$f":"NILSM1!AZ22","v":0},{"$f":"NILSM1!BC22","v":0},{"$f":"NILSM1!BF22","v":0},{"$f":"NILSM1!BI22","v":0},{"$f":"NILSM1!BL22","v":0},{"$f":"NILSM1!BO22","v":0},{"$f":"NILSM1!BR22","v":0},{"$f":"NILSM1!BU22","v":0},{"$f":"NILSM1!BX22","v":0},{"$f":"NILSM1!CA22","v":0},{"$f":"NILSM1!CD22","v":0},{"$f":"NILSM1!CG22","v":0},{"$f":"NILSM1!CJ22","v":0},{"$f":"NILSM1!CM22","v":0},null,15,{"$f":"NILSM2!B22","v":0},{"$f":"NILSM2!C22","v":0},{"$f":"NILSM2!D22","v":0},{"$f":"NILSM2!G22","v":0},{"$f":"NILSM2!J22","v":0},{"$f":"NILSM2!M22","v":0},{"$f":"NILSM2!P22","v":0},{"$f":"NILSM2!S22","v":0},{"$f":"NILSM2!V22","v":0},{"$f":"NILSM2!Y22","v":0},{"$f":"NILSM2!AB22","v":0},{"$f":"NILSM2!AE22","v":0},{"$f":"NILSM2!AH22","v":0},{"$f":"NILSM2!AK22","v":0},{"$f":"NILSM2!AN22","v":0},{"$f":"NILSM2!AQ22","v":0},{"$f":"NILSM2!AT22","v":0},{"$f":"NILSM2!AW22","v":0},{"$f":"NILSM2!AZ22","v":0},{"$f":"NILSM2!BC22","v":0},{"$f":"NILSM2!BF22","v":0},{"$f":"NILSM2!BI22","v":0},{"$f":"NILSM2!BL22","v":0},{"$f":"NILSM2!BO22","v":0},{"$f":"NILSM2!BR22","v":0},{"$f":"NILSM2!BU22","v":0},{"$f":"NILSM2!BX22","v":0},{"$f":"NILSM2!CA22","v":0},{"$f":"NILSM2!CD22","v":0},{"$f":"NILSM2!CG22","v":0},{"$f":"NILSM2!CJ22","v":0},{"$f":"NILSM2!CM22","v":0}]
[{"$f":"BIODATA!A20","v":16},{"$f":"BIODATA!C20","v":0},{"$f":"BIODATA!D20","v":0},{"$f":"NILSM1!D23","v":0},{"$f":"NILSM1!G23","v":0},{"$f":"NILSM1!J23","v":0},{"$f":"NILSM1!M23","v":0},{"$f":"NILSM1!P23","v":0},{"$f":"NILSM1!S23","v":0},{"$f":"NILSM1!V23","v":0},{"$f":"NILSM1!Y23","v":0},{"$f":"NILSM1!AB23","v":0},{"$f":"NILSM1!AE23","v":0},{"$f":"NILSM1!AH23","v":0},{"$f":"NILSM1!AK23","v":0},{"$f":"NILSM1!AN23","v":0},{"$f":"NILSM1!AQ23","v":0},{"$f":"NILSM1!AT23","v":0},{"$f":"NILSM1!AW23","v":0},{"$f":"NILSM1!AZ23","v":0},{"$f":"NILSM1!BC23","v":0},{"$f":"NILSM1!BF23","v":0},{"$f":"NILSM1!BI23","v":0},{"$f":"NILSM1!BL23","v":0},{"$f":"NILSM1!BO23","v":0},{"$f":"NILSM1!BR23","v":0},{"$f":"NILSM1!BU23","v":0},{"$f":"NILSM1!BX23","v":0},{"$f":"NILSM1!CA23","v":0},{"$f":"NILSM1!CD23","v":0},{"$f":"NILSM1!CG23","v":0},{"$f":"NILSM1!CJ23","v":0},{"$f":"NILSM1!CM23","v":0},null,16,{"$f":"NILSM2!B23","v":0},{"$f":"NILSM2!C23","v":0},{"$f":"NILSM2!D23","v":0},{"$f":"NILSM2!G23","v":0},{"$f":"NILSM2!J23","v":0},{"$f":"NILSM2!M23","v":0},{"$f":"NILSM2!P23","v":0},{"$f":"NILSM2!S23","v":0},{"$f":"NILSM2!V23","v":0},{"$f":"NILSM2!Y23","v":0},{"$f":"NILSM2!AB23","v":0},{"$f":"NILSM2!AE23","v":0},{"$f":"NILSM2!AH23","v":0},{"$f":"NILSM2!AK23","v":0},{"$f":"NILSM2!AN23","v":0},{"$f":"NILSM2!AQ23","v":0},{"$f":"NILSM2!AT23","v":0},{"$f":"NILSM2!AW23","v":0},{"$f":"NILSM2!AZ23","v":0},{"$f":"NILSM2!BC23","v":0},{"$f":"NILSM2!BF23","v":0},{"$f":"NILSM2!BI23","v":0},{"$f":"NILSM2!BL23","v":0},{"$f":"NILSM2!BO23","v":0},{"$f":"NILSM2!BR23","v":0},{"$f":"NILSM2!BU23","v":0},{"$f":"NILSM2!BX23","v":0},{"$f":"NILSM2!CA23","v":0},{"$f":"NILSM2!CD23","v":0},{"$f":"NILSM2!CG23","v":0},{"$f":"NILSM2!CJ23","v":0},{"$f":"NILSM2!CM23","v":0}]
[{"$f":"BIODATA!A21","v":17},{"$f":"BIODATA!C21","v":0},{"$f":"BIODATA!D21","v":0},{"$f":"NILSM1!D24","v":0},{"$f":"NILSM1!G24","v":0},{"$f":"NILSM1!J24","v":0},{"$f":"NILSM1!M24","v":0},{"$f":"NILSM1!P24","v":0},{"$f":"NILSM1!S24","v":0},{"$f":"NILSM1!V24","v":0},{"$f":"NILSM1!Y24","v":0},{"$f":"NILSM1!AB24","v":0},{"$f":"NILSM1!AE24","v":0},{"$f":"NILSM1!AH24","v":0},{"$f":"NILSM1!AK24","v":0},{"$f":"NILSM1!AN24","v":0},{"$f":"NILSM1!AQ24","v":0},{"$f":"NILSM1!AT24","v":0},{"$f":"NILSM1!AW24","v":0},{"$f":"NILSM1!AZ24","v":0},{"$f":"NILSM1!BC24","v":0},{"$f":"NILSM1!BF24","v":0},{"$f":"NILSM1!BI24","v":0},{"$f":"NILSM1!BL24","v":0},{"$f":"NILSM1!BO24","v":0},{"$f":"NILSM1!BR24","v":0},{"$f":"NILSM1!BU24","v":0},{"$f":"NILSM1!BX24","v":0},{"$f":"NILSM1!CA24","v":0},{"$f":"NILSM1!CD24","v":0},{"$f":"NILSM1!CG24","v":0},{"$f":"NILSM1!CJ24","v":0},{"$f":"NILSM1!CM24","v":0},null,17,{"$f":"NILSM2!B24","v":0},{"$f":"NILSM2!C24","v":0},{"$f":"NILSM2!D24","v":0},{"$f":"NILSM2!G24","v":0},{"$f":"NILSM2!J24","v":0},{"$f":"NILSM2!M24","v":0},{"$f":"NILSM2!P24","v":0},{"$f":"NILSM2!S24","v":0},{"$f":"NILSM2!V24","v":0},{"$f":"NILSM2!Y24","v":0},{"$f":"NILSM2!AB24","v":0},{"$f":"NILSM2!AE24","v":0},{"$f":"NILSM2!AH24","v":0},{"$f":"NILSM2!AK24","v":0},{"$f":"NILSM2!AN24","v":0},{"$f":"NILSM2!AQ24","v":0},{"$f":"NILSM2!AT24","v":0},{"$f":"NILSM2!AW24","v":0},{"$f":"NILSM2!AZ24","v":0},{"$f":"NILSM2!BC24","v":0},{"$f":"NILSM2!BF24","v":0},{"$f":"NILSM2!BI24","v":0},{"$f":"NILSM2!BL24","v":0},{"$f":"NILSM2!BO24","v":0},{"$f":"NILSM2!BR24","v":0},{"$f":"NILSM2!BU24","v":0},{"$f":"NILSM2!BX24","v":0},{"$f":"NILSM2!CA24","v":0},{"$f":"NILSM2!CD24","v":0},{"$f":"NILSM2!CG24","v":0},{"$f":"NILSM2!CJ24","v":0},{"$f":"NILSM2!CM24","v":0}]
[{"$f":"BIODATA!A22","v":18},{"$f":"BIODATA!C22","v":0},{"$f":"BIODATA!D22","v":0},{"$f":"NILSM1!D25","v":0},{"$f":"NILSM1!G25","v":0},{"$f":"NILSM1!J25","v":0},{"$f":"NILSM1!M25","v":0},{"$f":"NILSM1!P25","v":0},{"$f":"NILSM1!S25","v":0},{"$f":"NILSM1!V25","v":0},{"$f":"NILSM1!Y25","v":0},{"$f":"NILSM1!AB25","v":0},{"$f":"NILSM1!AE25","v":0},{"$f":"NILSM1!AH25","v":0},{"$f":"NILSM1!AK25","v":0},{"$f":"NILSM1!AN25","v":0},{"$f":"NILSM1!AQ25","v":0},{"$f":"NILSM1!AT25","v":0},{"$f":"NILSM1!AW25","v":0},{"$f":"NILSM1!AZ25","v":0},{"$f":"NILSM1!BC25","v":0},{"$f":"NILSM1!BF25","v":0},{"$f":"NILSM1!BI25","v":0},{"$f":"NILSM1!BL25","v":0},{"$f":"NILSM1!BO25","v":0},{"$f":"NILSM1!BR25","v":0},{"$f":"NILSM1!BU25","v":0},{"$f":"NILSM1!BX25","v":0},{"$f":"NILSM1!CA25","v":0},{"$f":"NILSM1!CD25","v":0},{"$f":"NILSM1!CG25","v":0},{"$f":"NILSM1!CJ25","v":0},{"$f":"NILSM1!CM25","v":0},null,18,{"$f":"NILSM2!B25","v":0},{"$f":"NILSM2!C25","v":0},{"$f":"NILSM2!D25","v":0},{"$f":"NILSM2!G25","v":0},{"$f":"NILSM2!J25","v":0},{"$f":"NILSM2!M25","v":0},{"$f":"NILSM2!P25","v":0},{"$f":"NILSM2!S25","v":0},{"$f":"NILSM2!V25","v":0},{"$f":"NILSM2!Y25","v":0},{"$f":"NILSM2!AB25","v":0},{"$f":"NILSM2!AE25","v":0},{"$f":"NILSM2!AH25","v":0},{"$f":"NILSM2!AK25","v":0},{"$f":"NILSM2!AN25","v":0},{"$f":"NILSM2!AQ25","v":0},{"$f":"NILSM2!AT25","v":0},{"$f":"NILSM2!AW25","v":0},{"$f":"NILSM2!AZ25","v":0},{"$f":"NILSM2!BC25","v":0},{"$f":"NILSM2!BF25","v":0},{"$f":"NILSM2!BI25","v":0},{"$f":"NILSM2!BL25","v":0},{"$f":"NILSM2!BO25","v":0},{"$f":"NILSM2!BR25","v":0},{"$f":"NILSM2!BU25","v":0},{"$f":"NILSM2!BX25","v":0},{"$f":"NILSM2!CA25","v":0},{"$f":"NILSM2!CD25","v":0},{"$f":"NILSM2!CG25","v":0},{"$f":"NILSM2!CJ25","v":0},{"$f":"NILSM2!CM25","v":0}]
[{"$f":"BIODATA!A23","v":19},{"$f":"BIODATA!C23","v":0},{"$f":"BIODATA!D23","v":0},{"$f":"NILSM1!D26","v":0},{"$f":"NILSM1!G26","v":0},{"$f":"NILSM1!J26","v":0},{"$f":"NILSM1!M26","v":0},{"$f":"NILSM1!P26","v":0},{"$f":"NILSM1!S26","v":0},{"$f":"NILSM1!V26","v":0},{"$f":"NILSM1!Y26","v":0},{"$f":"NILSM1!AB26","v":0},{"$f":"NILSM1!AE26","v":0},{"$f":"NILSM1!AH26","v":0},{"$f":"NILSM1!AK26","v":0},{"$f":"NILSM1!AN26","v":0},{"$f":"NILSM1!AQ26","v":0},{"$f":"NILSM1!AT26","v":0},{"$f":"NILSM1!AW26","v":0},{"$f":"NILSM1!AZ26","v":0},{"$f":"NILSM1!BC26","v":0},{"$f":"NILSM1!BF26","v":0},{"$f":"NILSM1!BI26","v":0},{"$f":"NILSM1!BL26","v":0},{"$f":"NILSM1!BO26","v":0},{"$f":"NILSM1!BR26","v":0},{"$f":"NILSM1!BU26","v":0},{"$f":"NILSM1!BX26","v":0},{"$f":"NILSM1!CA26","v":0},{"$f":"NILSM1!CD26","v":0},{"$f":"NILSM1!CG26","v":0},{"$f":"NILSM1!CJ26","v":0},{"$f":"NILSM1!CM26","v":0},null,19,{"$f":"NILSM2!B26","v":0},{"$f":"NILSM2!C26","v":0},{"$f":"NILSM2!D26","v":0},{"$f":"NILSM2!G26","v":0},{"$f":"NILSM2!J26","v":0},{"$f":"NILSM2!M26","v":0},{"$f":"NILSM2!P26","v":0},{"$f":"NILSM2!S26","v":0},{"$f":"NILSM2!V26","v":0},{"$f":"NILSM2!Y26","v":0},{"$f":"NILSM2!AB26","v":0},{"$f":"NILSM2!AE26","v":0},{"$f":"NILSM2!AH26","v":0},{"$f":"NILSM2!AK26","v":0},{"$f":"NILSM2!AN26","v":0},{"$f":"NILSM2!AQ26","v":0},{"$f":"NILSM2!AT26","v":0},{"$f":"NILSM2!AW26","v":0},{"$f":"NILSM2!AZ26","v":0},{"$f":"NILSM2!BC26","v":0},{"$f":"NILSM2!BF26","v":0},{"$f":"NILSM2!BI26","v":0},{"$f":"NILSM2!BL26","v":0},{"$f":"NILSM2!BO26","v":0},{"$f":"NILSM2!BR26","v":0},{"$f":"NILSM2!BU26","v":0},{"$f":"NILSM2!BX26","v":0},{"$f":"NILSM2!CA26","v":0},{"$f":"NILSM2!CD26","v":0},{"$f":"NILSM2!CG26","v":0},{"$f":"NILSM2!CJ26","v":0},{"$f":"NILSM2!CM26","v":0}]
[{"$f":"BIODATA!A24","v":20},{"$f":"BIODATA!C24","v":0},{"$f":"BIODATA!D24","v":0},{"$f":"NILSM1!D27","v":0},{"$f":"NILSM1!G27","v":0},{"$f":"NILSM1!J27","v":0},{"$f":"NILSM1!M27","v":0},{"$f":"NILSM1!P27","v":0},{"$f":"NILSM1!S27","v":0},{"$f":"NILSM1!V27","v":0},{"$f":"NILSM1!Y27","v":0},{"$f":"NILSM1!AB27","v":0},{"$f":"NILSM1!AE27","v":0},{"$f":"NILSM1!AH27","v":0},{"$f":"NILSM1!AK27","v":0},{"$f":"NILSM1!AN27","v":0},{"$f":"NILSM1!AQ27","v":0},{"$f":"NILSM1!AT27","v":0},{"$f":"NILSM1!AW27","v":0},{"$f":"NILSM1!AZ27","v":0},{"$f":"NILSM1!BC27","v":0},{"$f":"NILSM1!BF27","v":0},{"$f":"NILSM1!BI27","v":0},{"$f":"NILSM1!BL27","v":0},{"$f":"NILSM1!BO27","v":0},{"$f":"NILSM1!BR27","v":0},{"$f":"NILSM1!BU27","v":0},{"$f":"NILSM1!BX27","v":0},{"$f":"NILSM1!CA27","v":0},{"$f":"NILSM1!CD27","v":0},{"$f":"NILSM1!CG27","v":0},{"$f":"NILSM1!CJ27","v":0},{"$f":"NILSM1!CM27","v":0},null,20,{"$f":"NILSM2!B27","v":0},{"$f":"NILSM2!C27","v":0},{"$f":"NILSM2!D27","v":0},{"$f":"NILSM2!G27","v":0},{"$f":"NILSM2!J27","v":0},{"$f":"NILSM2!M27","v":0},{"$f":"NILSM2!P27","v":0},{"$f":"NILSM2!S27","v":0},{"$f":"NILSM2!V27","v":0},{"$f":"NILSM2!Y27","v":0},{"$f":"NILSM2!AB27","v":0},{"$f":"NILSM2!AE27","v":0},{"$f":"NILSM2!AH27","v":0},{"$f":"NILSM2!AK27","v":0},{"$f":"NILSM2!AN27","v":0},{"$f":"NILSM2!AQ27","v":0},{"$f":"NILSM2!AT27","v":0},{"$f":"NILSM2!AW27","v":0},{"$f":"NILSM2!AZ27","v":0},{"$f":"NILSM2!BC27","v":0},{"$f":"NILSM2!BF27","v":0},{"$f":"NILSM2!BI27","v":0},{"$f":"NILSM2!BL27","v":0},{"$f":"NILSM2!BO27","v":0},{"$f":"NILSM2!BR27","v":0},{"$f":"NILSM2!BU27","v":0},{"$f":"NILSM2!BX27","v":0},{"$f":"NILSM2!CA27","v":0},{"$f":"NILSM2!CD27","v":0},{"$f":"NILSM2!CG27","v":0},{"$f":"NILSM2!CJ27","v":0},{"$f":"NILSM2!CM27","v":0}]
[{"$f":"BIODATA!A25","v":21},{"$f":"BIODATA!C25","v":0},{"$f":"BIODATA!D25","v":0},{"$f":"NILSM1!D28","v":0},{"$f":"NILSM1!G28","v":0},{"$f":"NILSM1!J28","v":0},{"$f":"NILSM1!M28","v":0},{"$f":"NILSM1!P28","v":0},{"$f":"NILSM1!S28","v":0},{"$f":"NILSM1!V28","v":0},{"$f":"NILSM1!Y28","v":0},{"$f":"NILSM1!AB28","v":0},{"$f":"NILSM1!AE28","v":0},{"$f":"NILSM1!AH28","v":0},{"$f":"NILSM1!AK28","v":0},{"$f":"NILSM1!AN28","v":0},{"$f":"NILSM1!AQ28","v":0},{"$f":"NILSM1!AT28","v":0},{"$f":"NILSM1!AW28","v":0},{"$f":"NILSM1!AZ28","v":0},{"$f":"NILSM1!BC28","v":0},{"$f":"NILSM1!BF28","v":0},{"$f":"NILSM1!BI28","v":0},{"$f":"NILSM1!BL28","v":0},{"$f":"NILSM1!BO28","v":0},{"$f":"NILSM1!BR28","v":0},{"$f":"NILSM1!BU28","v":0},{"$f":"NILSM1!BX28","v":0},{"$f":"NILSM1!CA28","v":0},{"$f":"NILSM1!CD28","v":0},{"$f":"NILSM1!CG28","v":0},{"$f":"NILSM1!CJ28","v":0},{"$f":"NILSM1!CM28","v":0},null,21,{"$f":"NILSM2!B28","v":0},{"$f":"NILSM2!C28","v":0},{"$f":"NILSM2!D28","v":0},{"$f":"NILSM2!G28","v":0},{"$f":"NILSM2!J28","v":0},{"$f":"NILSM2!M28","v":0},{"$f":"NILSM2!P28","v":0},{"$f":"NILSM2!S28","v":0},{"$f":"NILSM2!V28","v":0},{"$f":"NILSM2!Y28","v":0},{"$f":"NILSM2!AB28","v":0},{"$f":"NILSM2!AE28","v":0},{"$f":"NILSM2!AH28","v":0},{"$f":"NILSM2!AK28","v":0},{"$f":"NILSM2!AN28","v":0},{"$f":"NILSM2!AQ28","v":0},{"$f":"NILSM2!AT28","v":0},{"$f":"NILSM2!AW28","v":0},{"$f":"NILSM2!AZ28","v":0},{"$f":"NILSM2!BC28","v":0},{"$f":"NILSM2!BF28","v":0},{"$f":"NILSM2!BI28","v":0},{"$f":"NILSM2!BL28","v":0},{"$f":"NILSM2!BO28","v":0},{"$f":"NILSM2!BR28","v":0},{"$f":"NILSM2!BU28","v":0},{"$f":"NILSM2!BX28","v":0},{"$f":"NILSM2!CA28","v":0},{"$f":"NILSM2!CD28","v":0},{"$f":"NILSM2!CG28","v":0},{"$f":"NILSM2!CJ28","v":0},{"$f":"NILSM2!CM28","v":0}]
[{"$f":"BIODATA!A26","v":22},{"$f":"BIODATA!C26","v":0},{"$f":"BIODATA!D26","v":0},{"$f":"NILSM1!D29","v":0},{"$f":"NILSM1!G29","v":0},{"$f":"NILSM1!J29","v":0},{"$f":"NILSM1!M29","v":0},{"$f":"NILSM1!P29","v":0},{"$f":"NILSM1!S29","v":0},{"$f":"NILSM1!V29","v":0},{"$f":"NILSM1!Y29","v":0},{"$f":"NILSM1!AB29","v":0},{"$f":"NILSM1!AE29","v":0},{"$f":"NILSM1!AH29","v":0},{"$f":"NILSM1!AK29","v":0},{"$f":"NILSM1!AN29","v":0},{"$f":"NILSM1!AQ29","v":0},{"$f":"NILSM1!AT29","v":0},{"$f":"NILSM1!AW29","v":0},{"$f":"NILSM1!AZ29","v":0},{"$f":"NILSM1!BC29","v":0},{"$f":"NILSM1!BF29","v":0},{"$f":"NILSM1!BI29","v":0},{"$f":"NILSM1!BL29","v":0},{"$f":"NILSM1!BO29","v":0},{"$f":"NILSM1!BR29","v":0},{"$f":"NILSM1!BU29","v":0},{"$f":"NILSM1!BX29","v":0},{"$f":"NILSM1!CA29","v":0},{"$f":"NILSM1!CD29","v":0},{"$f":"NILSM1!CG29","v":0},{"$f":"NILSM1!CJ29","v":0},{"$f":"NILSM1!CM29","v":0},null,22,{"$f":"NILSM2!B29","v":0},{"$f":"NILSM2!C29","v":0},{"$f":"NILSM2!D29","v":0},{"$f":"NILSM2!G29","v":0},{"$f":"NILSM2!J29","v":0},{"$f":"NILSM2!M29","v":0},{"$f":"NILSM2!P29","v":0},{"$f":"NILSM2!S29","v":0},{"$f":"NILSM2!V29","v":0},{"$f":"NILSM2!Y29","v":0},{"$f":"NILSM2!AB29","v":0},{"$f":"NILSM2!AE29","v":0},{"$f":"NILSM2!AH29","v":0},{"$f":"NILSM2!AK29","v":0},{"$f":"NILSM2!AN29","v":0},{"$f":"NILSM2!AQ29","v":0},{"$f":"NILSM2!AT29","v":0},{"$f":"NILSM2!AW29","v":0},{"$f":"NILSM2!AZ29","v":0},{"$f":"NILSM2!BC29","v":0},{"$f":"NILSM2!BF29","v":0},{"$f":"NILSM2!BI29","v":0},{"$f":"NILSM2!BL29","v":0},{"$f":"NILSM2!BO29","v":0},{"$f":"NILSM2!BR29","v":0},{"$f":"NILSM2!BU29","v":0},{"$f":"NILSM2!BX29","v":0},{"$f":"NILSM2!CA29","v":0},{"$f":"NILSM2!CD29","v":0},{"$f":"NILSM2!CG29","v":0},{"$f":"NILSM2!CJ29","v":0},{"$f":"NILSM2!CM29","v":0}]
[{"$f":"BIODATA!A27","v":23},{"$f":"BIODATA!C27","v":0},{"$f":"BIODATA!D27","v":0},{"$f":"NILSM1!D30","v":0},{"$f":"NILSM1!G30","v":0},{"$f":"NILSM1!J30","v":0},{"$f":"NILSM1!M30","v":0},{"$f":"NILSM1!P30","v":0},{"$f":"NILSM1!S30","v":0},{"$f":"NILSM1!V30","v":0},{"$f":"NILSM1!Y30","v":0},{"$f":"NILSM1!AB30","v":0},{"$f":"NILSM1!AE30","v":0},{"$f":"NILSM1!AH30","v":0},{"$f":"NILSM1!AK30","v":0},{"$f":"NILSM1!AN30","v":0},{"$f":"NILSM1!AQ30","v":0},{"$f":"NILSM1!AT30","v":0},{"$f":"NILSM1!AW30","v":0},{"$f":"NILSM1!AZ30","v":0},{"$f":"NILSM1!BC30","v":0},{"$f":"NILSM1!BF30","v":0},{"$f":"NILSM1!BI30","v":0},{"$f":"NILSM1!BL30","v":0},{"$f":"NILSM1!BO30","v":0},{"$f":"NILSM1!BR30","v":0},{"$f":"NILSM1!BU30","v":0},{"$f":"NILSM1!BX30","v":0},{"$f":"NILSM1!CA30","v":0},{"$f":"NILSM1!CD30","v":0},{"$f":"NILSM1!CG30","v":0},{"$f":"NILSM1!CJ30","v":0},{"$f":"NILSM1!CM30","v":0},null,23,{"$f":"NILSM2!B30","v":0},{"$f":"NILSM2!C30","v":0},{"$f":"NILSM2!D30","v":0},{"$f":"NILSM2!G30","v":0},{"$f":"NILSM2!J30","v":0},{"$f":"NILSM2!M30","v":0},{"$f":"NILSM2!P30","v":0},{"$f":"NILSM2!S30","v":0},{"$f":"NILSM2!V30","v":0},{"$f":"NILSM2!Y30","v":0},{"$f":"NILSM2!AB30","v":0},{"$f":"NILSM2!AE30","v":0},{"$f":"NILSM2!AH30","v":0},{"$f":"NILSM2!AK30","v":0},{"$f":"NILSM2!AN30","v":0},{"$f":"NILSM2!AQ30","v":0},{"$f":"NILSM2!AT30","v":0},{"$f":"NILSM2!AW30","v":0},{"$f":"NILSM2!AZ30","v":0},{"$f":"NILSM2!BC30","v":0},{"$f":"NILSM2!BF30","v":0},{"$f":"NILSM2!BI30","v":0},{"$f":"NILSM2!BL30","v":0},{"$f":"NILSM2!BO30","v":0},{"$f":"NILSM2!BR30","v":0},{"$f":"NILSM2!BU30","v":0},{"$f":"NILSM2!BX30","v":0},{"$f":"NILSM2!CA30","v":0},{"$f":"NILSM2!CD30","v":0},{"$f":"NILSM2!CG30","v":0},{"$f":"NILSM2!CJ30","v":0},{"$f":"NILSM2!CM30","v":0}]
[{"$f":"BIODATA!A28","v":24},{"$f":"BIODATA!C28","v":0},{"$f":"BIODATA!D28","v":0},{"$f":"NILSM1!D31","v":0},{"$f":"NILSM1!G31","v":0},{"$f":"NILSM1!J31","v":0},{"$f":"NILSM1!M31","v":0},{"$f":"NILSM1!P31","v":0},{"$f":"NILSM1!S31","v":0},{"$f":"NILSM1!V31","v":0},{"$f":"NILSM1!Y31","v":0},{"$f":"NILSM1!AB31","v":0},{"$f":"NILSM1!AE31","v":0},{"$f":"NILSM1!AH31","v":0},{"$f":"NILSM1!AK31","v":0},{"$f":"NILSM1!AN31","v":0},{"$f":"NILSM1!AQ31","v":0},{"$f":"NILSM1!AT31","v":0},{"$f":"NILSM1!AW31","v":0},{"$f":"NILSM1!AZ31","v":0},{"$f":"NILSM1!BC31","v":0},{"$f":"NILSM1!BF31","v":0},{"$f":"NILSM1!BI31","v":0},{"$f":"NILSM1!BL31","v":0},{"$f":"NILSM1!BO31","v":0},{"$f":"NILSM1!BR31","v":0},{"$f":"NILSM1!BU31","v":0},{"$f":"NILSM1!BX31","v":0},{"$f":"NILSM1!CA31","v":0},{"$f":"NILSM1!CD31","v":0},{"$f":"NILSM1!CG31","v":0},{"$f":"NILSM1!CJ31","v":0},{"$f":"NILSM1!CM31","v":0},null,24,{"$f":"NILSM2!B31","v":0},{"$f":"NILSM2!C31","v":0},{"$f":"NILSM2!D31","v":0},{"$f":"NILSM2!G31","v":0},{"$f":"NILSM2!J31","v":0},{"$f":"NILSM2!M31","v":0},{"$f":"NILSM2!P31","v":0},{"$f":"NILSM2!S31","v":0},{"$f":"NILSM2!V31","v":0},{"$f":"NILSM2!Y31","v":0},{"$f":"NILSM2!AB31","v":0},{"$f":"NILSM2!AE31","v":0},{"$f":"NILSM2!AH31","v":0},{"$f":"NILSM2!AK31","v":0},{"$f":"NILSM2!AN31","v":0},{"$f":"NILSM2!AQ31","v":0},{"$f":"NILSM2!AT31","v":0},{"$f":"NILSM2!AW31","v":0},{"$f":"NILSM2!AZ31","v":0},{"$f":"NILSM2!BC31","v":0},{"$f":"NILSM2!BF31","v":0},{"$f":"NILSM2!BI31","v":0},{"$f":"NILSM2!BL31","v":0},{"$f":"NILSM2!BO31","v":0},{"$f":"NILSM2!BR31","v":0},{"$f":"NILSM2!BU31","v":0},{"$f":"NILSM2!BX31","v":0},{"$f":"NILSM2!CA31","v":0},{"$f":"NILSM2!CD31","v":0},{"$f":"NILSM2!CG31","v":0},{"$f":"NILSM2!CJ31","v":0},{"$f":"NILSM2!CM31","v":0}]
[{"$f":"BIODATA!A29","v":25},{"$f":"BIODATA!C29","v":0},{"$f":"BIODATA!D29","v":0},{"$f":"NILSM1!D32","v":0},{"$f":"NILSM1!G32","v":0},{"$f":"NILSM1!J32","v":0},{"$f":"NILSM1!M32","v":0},{"$f":"NILSM1!P32","v":0},{"$f":"NILSM1!S32","v":0},{"$f":"NILSM1!V32","v":0},{"$f":"NILSM1!Y32","v":0},{"$f":"NILSM1!AB32","v":0},{"$f":"NILSM1!AE32","v":0},{"$f":"NILSM1!AH32","v":0},{"$f":"NILSM1!AK32","v":0},{"$f":"NILSM1!AN32","v":0},{"$f":"NILSM1!AQ32","v":0},{"$f":"NILSM1!AT32","v":0},{"$f":"NILSM1!AW32","v":0},{"$f":"NILSM1!AZ32","v":0},{"$f":"NILSM1!BC32","v":0},{"$f":"NILSM1!BF32","v":0},{"$f":"NILSM1!BI32","v":0},{"$f":"NILSM1!BL32","v":0},{"$f":"NILSM1!BO32","v":0},{"$f":"NILSM1!BR32","v":0},{"$f":"NILSM1!BU32","v":0},{"$f":"NILSM1!BX32","v":0},{"$f":"NILSM1!CA32","v":0},{"$f":"NILSM1!CD32","v":0},{"$f":"NILSM1!CG32","v":0},{"$f":"NILSM1!CJ32","v":0},{"$f":"NILSM1!CM32","v":0},null,25,{"$f":"NILSM2!B32","v":0},{"$f":"NILSM2!C32","v":0},{"$f":"NILSM2!D32","v":0},{"$f":"NILSM2!G32","v":0},{"$f":"NILSM2!J32","v":0},{"$f":"NILSM2!M32","v":0},{"$f":"NILSM2!P32","v":0},{"$f":"NILSM2!S32","v":0},{"$f":"NILSM2!V32","v":0},{"$f":"NILSM2!Y32","v":0},{"$f":"NILSM2!AB32","v":0},{"$f":"NILSM2!AE32","v":0},{"$f":"NILSM2!AH32","v":0},{"$f":"NILSM2!AK32","v":0},{"$f":"NILSM2!AN32","v":0},{"$f":"NILSM2!AQ32","v":0},{"$f":"NILSM2!AT32","v":0},{"$f":"NILSM2!AW32","v":0},{"$f":"NILSM2!AZ32","v":0},{"$f":"NILSM2!BC32","v":0},{"$f":"NILSM2!BF32","v":0},{"$f":"NILSM2!BI32","v":0},{"$f":"NILSM2!BL32","v":0},{"$f":"NILSM2!BO32","v":0},{"$f":"NILSM2!BR32","v":0},{"$f":"NILSM2!BU32","v":0},{"$f":"NILSM2!BX32","v":0},{"$f":"NILSM2!CA32","v":0},{"$f":"NILSM2!CD32","v":0},{"$f":"NILSM2!CG32","v":0},{"$f":"NILSM2!CJ32","v":0},{"$f":"NILSM2!CM32","v":0}]
[{"$f":"BIODATA!A30","v":26},{"$f":"BIODATA!C30","v":0},{"$f":"BIODATA!D30","v":0},{"$f":"NILSM1!D33","v":0},{"$f":"NILSM1!G33","v":0},{"$f":"NILSM1!J33","v":0},{"$f":"NILSM1!M33","v":0},{"$f":"NILSM1!P33","v":0},{"$f":"NILSM1!S33","v":0},{"$f":"NILSM1!V33","v":0},{"$f":"NILSM1!Y33","v":0},{"$f":"NILSM1!AB33","v":0},{"$f":"NILSM1!AE33","v":0},{"$f":"NILSM1!AH33","v":0},{"$f":"NILSM1!AK33","v":0},{"$f":"NILSM1!AN33","v":0},{"$f":"NILSM1!AQ33","v":0},{"$f":"NILSM1!AT33","v":0},{"$f":"NILSM1!AW33","v":0},{"$f":"NILSM1!AZ33","v":0},{"$f":"NILSM1!BC33","v":0},{"$f":"NILSM1!BF33","v":0},{"$f":"NILSM1!BI33","v":0},{"$f":"NILSM1!BL33","v":0},{"$f":"NILSM1!BO33","v":0},{"$f":"NILSM1!BR33","v":0},{"$f":"NILSM1!BU33","v":0},{"$f":"NILSM1!BX33","v":0},{"$f":"NILSM1!CA33","v":0},{"$f":"NILSM1!CD33","v":0},{"$f":"NILSM1!CG33","v":0},{"$f":"NILSM1!CJ33","v":0},{"$f":"NILSM1!CM33","v":0},null,26,{"$f":"NILSM2!B33","v":0},{"$f":"NILSM2!C33","v":0},{"$f":"NILSM2!D33","v":0},{"$f":"NILSM2!G33","v":0},{"$f":"NILSM2!J33","v":0},{"$f":"NILSM2!M33","v":0},{"$f":"NILSM2!P33","v":0},{"$f":"NILSM2!S33","v":0},{"$f":"NILSM2!V33","v":0},{"$f":"NILSM2!Y33","v":0},{"$f":"NILSM2!AB33","v":0},{"$f":"NILSM2!AE33","v":0},{"$f":"NILSM2!AH33","v":0},{"$f":"NILSM2!AK33","v":0},{"$f":"NILSM2!AN33","v":0},{"$f":"NILSM2!AQ33","v":0},{"$f":"NILSM2!AT33","v":0},{"$f":"NILSM2!AW33","v":0},{"$f":"NILSM2!AZ33","v":0},{"$f":"NILSM2!BC33","v":0},{"$f":"NILSM2!BF33","v":0},{"$f":"NILSM2!BI33","v":0},{"$f":"NILSM2!BL33","v":0},{"$f":"NILSM2!BO33","v":0},{"$f":"NILSM2!BR33","v":0},{"$f":"NILSM2!BU33","v":0},{"$f":"NILSM2!BX33","v":0},{"$f":"NILSM2!CA33","v":0},{"$f":"NILSM2!CD33","v":0},{"$f":"NILSM2!CG33","v":0},{"$f":"NILSM2!CJ33","v":0},{"$f":"NILSM2!CM33","v":0}]
[{"$f":"BIODATA!A31","v":27},{"$f":"BIODATA!C31","v":0},{"$f":"BIODATA!D31","v":0},{"$f":"NILSM1!D34","v":0},{"$f":"NILSM1!G34","v":0},{"$f":"NILSM1!J34","v":0},{"$f":"NILSM1!M34","v":0},{"$f":"NILSM1!P34","v":0},{"$f":"NILSM1!S34","v":0},{"$f":"NILSM1!V34","v":0},{"$f":"NILSM1!Y34","v":0},{"$f":"NILSM1!AB34","v":0},{"$f":"NILSM1!AE34","v":0},{"$f":"NILSM1!AH34","v":0},{"$f":"NILSM1!AK34","v":0},{"$f":"NILSM1!AN34","v":0},{"$f":"NILSM1!AQ34","v":0},{"$f":"NILSM1!AT34","v":0},{"$f":"NILSM1!AW34","v":0},{"$f":"NILSM1!AZ34","v":0},{"$f":"NILSM1!BC34","v":0},{"$f":"NILSM1!BF34","v":0},{"$f":"NILSM1!BI34","v":0},{"$f":"NILSM1!BL34","v":0},{"$f":"NILSM1!BO34","v":0},{"$f":"NILSM1!BR34","v":0},{"$f":"NILSM1!BU34","v":0},{"$f":"NILSM1!BX34","v":0},{"$f":"NILSM1!CA34","v":0},{"$f":"NILSM1!CD34","v":0},{"$f":"NILSM1!CG34","v":0},{"$f":"NILSM1!CJ34","v":0},{"$f":"NILSM1!CM34","v":0},null,27,{"$f":"NILSM2!B34","v":0},{"$f":"NILSM2!C34","v":0},{"$f":"NILSM2!D34","v":0},{"$f":"NILSM2!G34","v":0},{"$f":"NILSM2!J34","v":0},{"$f":"NILSM2!M34","v":0},{"$f":"NILSM2!P34","v":0},{"$f":"NILSM2!S34","v":0},{"$f":"NILSM2!V34","v":0},{"$f":"NILSM2!Y34","v":0},{"$f":"NILSM2!AB34","v":0},{"$f":"NILSM2!AE34","v":0},{"$f":"NILSM2!AH34","v":0},{"$f":"NILSM2!AK34","v":0},{"$f":"NILSM2!AN34","v":0},{"$f":"NILSM2!AQ34","v":0},{"$f":"NILSM2!AT34","v":0},{"$f":"NILSM2!AW34","v":0},{"$f":"NILSM2!AZ34","v":0},{"$f":"NILSM2!BC34","v":0},{"$f":"NILSM2!BF34","v":0},{"$f":"NILSM2!BI34","v":0},{"$f":"NILSM2!BL34","v":0},{"$f":"NILSM2!BO34","v":0},{"$f":"NILSM2!BR34","v":0},{"$f":"NILSM2!BU34","v":0},{"$f":"NILSM2!BX34","v":0},{"$f":"NILSM2!CA34","v":0},{"$f":"NILSM2!CD34","v":0},{"$f":"NILSM2!CG34","v":0},{"$f":"NILSM2!CJ34","v":0},{"$f":"NILSM2!CM34","v":0}]
[{"$f":"BIODATA!A32","v":28},{"$f":"BIODATA!C32","v":0},{"$f":"BIODATA!D32","v":0},{"$f":"NILSM1!D35","v":0},{"$f":"NILSM1!G35","v":0},{"$f":"NILSM1!J35","v":0},{"$f":"NILSM1!M35","v":0},{"$f":"NILSM1!P35","v":0},{"$f":"NILSM1!S35","v":0},{"$f":"NILSM1!V35","v":0},{"$f":"NILSM1!Y35","v":0},{"$f":"NILSM1!AB35","v":0},{"$f":"NILSM1!AE35","v":0},{"$f":"NILSM1!AH35","v":0},{"$f":"NILSM1!AK35","v":0},{"$f":"NILSM1!AN35","v":0},{"$f":"NILSM1!AQ35","v":0},{"$f":"NILSM1!AT35","v":0},{"$f":"NILSM1!AW35","v":0},{"$f":"NILSM1!AZ35","v":0},{"$f":"NILSM1!BC35","v":0},{"$f":"NILSM1!BF35","v":0},{"$f":"NILSM1!BI35","v":0},{"$f":"NILSM1!BL35","v":0},{"$f":"NILSM1!BO35","v":0},{"$f":"NILSM1!BR35","v":0},{"$f":"NILSM1!BU35","v":0},{"$f":"NILSM1!BX35","v":0},{"$f":"NILSM1!CA35","v":0},{"$f":"NILSM1!CD35","v":0},{"$f":"NILSM1!CG35","v":0},{"$f":"NILSM1!CJ35","v":0},{"$f":"NILSM1!CM35","v":0},null,28,{"$f":"NILSM2!B35","v":0},{"$f":"NILSM2!C35","v":0},{"$f":"NILSM2!D35","v":0},{"$f":"NILSM2!G35","v":0},{"$f":"NILSM2!J35","v":0},{"$f":"NILSM2!M35","v":0},{"$f":"NILSM2!P35","v":0},{"$f":"NILSM2!S35","v":0},{"$f":"NILSM2!V35","v":0},{"$f":"NILSM2!Y35","v":0},{"$f":"NILSM2!AB35","v":0},{"$f":"NILSM2!AE35","v":0},{"$f":"NILSM2!AH35","v":0},{"$f":"NILSM2!AK35","v":0},{"$f":"NILSM2!AN35","v":0},{"$f":"NILSM2!AQ35","v":0},{"$f":"NILSM2!AT35","v":0},{"$f":"NILSM2!AW35","v":0},{"$f":"NILSM2!AZ35","v":0},{"$f":"NILSM2!BC35","v":0},{"$f":"NILSM2!BF35","v":0},{"$f":"NILSM2!BI35","v":0},{"$f":"NILSM2!BL35","v":0},{"$f":"NILSM2!BO35","v":0},{"$f":"NILSM2!BR35","v":0},{"$f":"NILSM2!BU35","v":0},{"$f":"NILSM2!BX35","v":0},{"$f":"NILSM2!CA35","v":0},{"$f":"NILSM2!CD35","v":0},{"$f":"NILSM2!CG35","v":0},{"$f":"NILSM2!CJ35","v":0},{"$f":"NILSM2!CM35","v":0}]
[{"$f":"BIODATA!A33","v":29},{"$f":"BIODATA!C33","v":0},{"$f":"BIODATA!D33","v":0},{"$f":"NILSM1!D36","v":0},{"$f":"NILSM1!G36","v":0},{"$f":"NILSM1!J36","v":0},{"$f":"NILSM1!M36","v":0},{"$f":"NILSM1!P36","v":0},{"$f":"NILSM1!S36","v":0},{"$f":"NILSM1!V36","v":0},{"$f":"NILSM1!Y36","v":0},{"$f":"NILSM1!AB36","v":0},{"$f":"NILSM1!AE36","v":0},{"$f":"NILSM1!AH36","v":0},{"$f":"NILSM1!AK36","v":0},{"$f":"NILSM1!AN36","v":0},{"$f":"NILSM1!AQ36","v":0},{"$f":"NILSM1!AT36","v":0},{"$f":"NILSM1!AW36","v":0},{"$f":"NILSM1!AZ36","v":0},{"$f":"NILSM1!BC36","v":0},{"$f":"NILSM1!BF36","v":0},{"$f":"NILSM1!BI36","v":0},{"$f":"NILSM1!BL36","v":0},{"$f":"NILSM1!BO36","v":0},{"$f":"NILSM1!BR36","v":0},{"$f":"NILSM1!BU36","v":0},{"$f":"NILSM1!BX36","v":0},{"$f":"NILSM1!CA36","v":0},{"$f":"NILSM1!CD36","v":0},{"$f":"NILSM1!CG36","v":0},{"$f":"NILSM1!CJ36","v":0},{"$f":"NILSM1!CM36","v":0},null,29,{"$f":"NILSM2!B36","v":0},{"$f":"NILSM2!C36","v":0},{"$f":"NILSM2!D36","v":0},{"$f":"NILSM2!G36","v":0},{"$f":"NILSM2!J36","v":0},{"$f":"NILSM2!M36","v":0},{"$f":"NILSM2!P36","v":0},{"$f":"NILSM2!S36","v":0},{"$f":"NILSM2!V36","v":0},{"$f":"NILSM2!Y36","v":0},{"$f":"NILSM2!AB36","v":0},{"$f":"NILSM2!AE36","v":0},{"$f":"NILSM2!AH36","v":0},{"$f":"NILSM2!AK36","v":0},{"$f":"NILSM2!AN36","v":0},{"$f":"NILSM2!AQ36","v":0},{"$f":"NILSM2!AT36","v":0},{"$f":"NILSM2!AW36","v":0},{"$f":"NILSM2!AZ36","v":0},{"$f":"NILSM2!BC36","v":0},{"$f":"NILSM2!BF36","v":0},{"$f":"NILSM2!BI36","v":0},{"$f":"NILSM2!BL36","v":0},{"$f":"NILSM2!BO36","v":0},{"$f":"NILSM2!BR36","v":0},{"$f":"NILSM2!BU36","v":0},{"$f":"NILSM2!BX36","v":0},{"$f":"NILSM2!CA36","v":0},{"$f":"NILSM2!CD36","v":0},{"$f":"NILSM2!CG36","v":0},{"$f":"NILSM2!CJ36","v":0},{"$f":"NILSM2!CM36","v":0}]
[{"$f":"BIODATA!A34","v":30},{"$f":"BIODATA!C34","v":0},{"$f":"BIODATA!D34","v":0},{"$f":"NILSM1!D37","v":0},{"$f":"NILSM1!G37","v":0},{"$f":"NILSM1!J37","v":0},{"$f":"NILSM1!M37","v":0},{"$f":"NILSM1!P37","v":0},{"$f":"NILSM1!S37","v":0},{"$f":"NILSM1!V37","v":0},{"$f":"NILSM1!Y37","v":0},{"$f":"NILSM1!AB37","v":0},{"$f":"NILSM1!AE37","v":0},{"$f":"NILSM1!AH37","v":0},{"$f":"NILSM1!AK37","v":0},{"$f":"NILSM1!AN37","v":0},{"$f":"NILSM1!AQ37","v":0},{"$f":"NILSM1!AT37","v":0},{"$f":"NILSM1!AW37","v":0},{"$f":"NILSM1!AZ37","v":0},{"$f":"NILSM1!BC37","v":0},{"$f":"NILSM1!BF37","v":0},{"$f":"NILSM1!BI37","v":0},{"$f":"NILSM1!BL37","v":0},{"$f":"NILSM1!BO37","v":0},{"$f":"NILSM1!BR37","v":0},{"$f":"NILSM1!BU37","v":0},{"$f":"NILSM1!BX37","v":0},{"$f":"NILSM1!CA37","v":0},{"$f":"NILSM1!CD37","v":0},{"$f":"NILSM1!CG37","v":0},{"$f":"NILSM1!CJ37","v":0},{"$f":"NILSM1!CM37","v":0},null,30,{"$f":"NILSM2!B37","v":0},{"$f":"NILSM2!C37","v":0},{"$f":"NILSM2!D37","v":0},{"$f":"NILSM2!G37","v":0},{"$f":"NILSM2!J37","v":0},{"$f":"NILSM2!M37","v":0},{"$f":"NILSM2!P37","v":0},{"$f":"NILSM2!S37","v":0},{"$f":"NILSM2!V37","v":0},{"$f":"NILSM2!Y37","v":0},{"$f":"NILSM2!AB37","v":0},{"$f":"NILSM2!AE37","v":0},{"$f":"NILSM2!AH37","v":0},{"$f":"NILSM2!AK37","v":0},{"$f":"NILSM2!AN37","v":0},{"$f":"NILSM2!AQ37","v":0},{"$f":"NILSM2!AT37","v":0},{"$f":"NILSM2!AW37","v":0},{"$f":"NILSM2!AZ37","v":0},{"$f":"NILSM2!BC37","v":0},{"$f":"NILSM2!BF37","v":0},{"$f":"NILSM2!BI37","v":0},{"$f":"NILSM2!BL37","v":0},{"$f":"NILSM2!BO37","v":0},{"$f":"NILSM2!BR37","v":0},{"$f":"NILSM2!BU37","v":0},{"$f":"NILSM2!BX37","v":0},{"$f":"NILSM2!CA37","v":0},{"$f":"NILSM2!CD37","v":0},{"$f":"NILSM2!CG37","v":0},{"$f":"NILSM2!CJ37","v":0},{"$f":"NILSM2!CM37","v":0}]
[{"$f":"BIODATA!A35","v":31},{"$f":"BIODATA!C35","v":0},{"$f":"BIODATA!D35","v":0},{"$f":"NILSM1!D38","v":0},{"$f":"NILSM1!G38","v":0},{"$f":"NILSM1!J38","v":0},{"$f":"NILSM1!M38","v":0},{"$f":"NILSM1!P38","v":0},{"$f":"NILSM1!S38","v":0},{"$f":"NILSM1!V38","v":0},{"$f":"NILSM1!Y38","v":0},{"$f":"NILSM1!AB38","v":0},{"$f":"NILSM1!AE38","v":0},{"$f":"NILSM1!AH38","v":0},{"$f":"NILSM1!AK38","v":0},{"$f":"NILSM1!AN38","v":0},{"$f":"NILSM1!AQ38","v":0},{"$f":"NILSM1!AT38","v":0},{"$f":"NILSM1!AW38","v":0},{"$f":"NILSM1!AZ38","v":0},{"$f":"NILSM1!BC38","v":0},{"$f":"NILSM1!BF38","v":0},{"$f":"NILSM1!BI38","v":0},{"$f":"NILSM1!BL38","v":0},{"$f":"NILSM1!BO38","v":0},{"$f":"NILSM1!BR38","v":0},{"$f":"NILSM1!BU38","v":0},{"$f":"NILSM1!BX38","v":0},{"$f":"NILSM1!CA38","v":0},{"$f":"NILSM1!CD38","v":0},{"$f":"NILSM1!CG38","v":0},{"$f":"NILSM1!CJ38","v":0},{"$f":"NILSM1!CM38","v":0},null,31,{"$f":"NILSM2!B38","v":0},{"$f":"NILSM2!C38","v":0},{"$f":"NILSM2!D38","v":0},{"$f":"NILSM2!G38","v":0},{"$f":"NILSM2!J38","v":0},{"$f":"NILSM2!M38","v":0},{"$f":"NILSM2!P38","v":0},{"$f":"NILSM2!S38","v":0},{"$f":"NILSM2!V38","v":0},{"$f":"NILSM2!Y38","v":0},{"$f":"NILSM2!AB38","v":0},{"$f":"NILSM2!AE38","v":0},{"$f":"NILSM2!AH38","v":0},{"$f":"NILSM2!AK38","v":0},{"$f":"NILSM2!AN38","v":0},{"$f":"NILSM2!AQ38","v":0},{"$f":"NILSM2!AT38","v":0},{"$f":"NILSM2!AW38","v":0},{"$f":"NILSM2!AZ38","v":0},{"$f":"NILSM2!BC38","v":0},{"$f":"NILSM2!BF38","v":0},{"$f":"NILSM2!BI38","v":0},{"$f":"NILSM2!BL38","v":0},{"$f":"NILSM2!BO38","v":0},{"$f":"NILSM2!BR38","v":0},{"$f":"NILSM2!BU38","v":0},{"$f":"NILSM2!BX38","v":0},{"$f":"NILSM2!CA38","v":0},{"$f":"NILSM2!CD38","v":0},{"$f":"NILSM2!CG38","v":0},{"$f":"NILSM2!CJ38","v":0},{"$f":"NILSM2!CM38","v":0}]
[{"$f":"BIODATA!A36","v":32},{"$f":"BIODATA!C36","v":0},{"$f":"BIODATA!D36","v":0},{"$f":"NILSM1!D39","v":0},{"$f":"NILSM1!G39","v":0},{"$f":"NILSM1!J39","v":0},{"$f":"NILSM1!M39","v":0},{"$f":"NILSM1!P39","v":0},{"$f":"NILSM1!S39","v":0},{"$f":"NILSM1!V39","v":0},{"$f":"NILSM1!Y39","v":0},{"$f":"NILSM1!AB39","v":0},{"$f":"NILSM1!AE39","v":0},{"$f":"NILSM1!AH39","v":0},{"$f":"NILSM1!AK39","v":0},{"$f":"NILSM1!AN39","v":0},{"$f":"NILSM1!AQ39","v":0},{"$f":"NILSM1!AT39","v":0},{"$f":"NILSM1!AW39","v":0},{"$f":"NILSM1!AZ39","v":0},{"$f":"NILSM1!BC39","v":0},{"$f":"NILSM1!BF39","v":0},{"$f":"NILSM1!BI39","v":0},{"$f":"NILSM1!BL39","v":0},{"$f":"NILSM1!BO39","v":0},{"$f":"NILSM1!BR39","v":0},{"$f":"NILSM1!BU39","v":0},{"$f":"NILSM1!BX39","v":0},{"$f":"NILSM1!CA39","v":0},{"$f":"NILSM1!CD39","v":0},{"$f":"NILSM1!CG39","v":0},{"$f":"NILSM1!CJ39","v":0},{"$f":"NILSM1!CM39","v":0},null,32,{"$f":"NILSM2!B39","v":0},{"$f":"NILSM2!C39","v":0},{"$f":"NILSM2!D39","v":0},{"$f":"NILSM2!G39","v":0},{"$f":"NILSM2!J39","v":0},{"$f":"NILSM2!M39","v":0},{"$f":"NILSM2!P39","v":0},{"$f":"NILSM2!S39","v":0},{"$f":"NILSM2!V39","v":0},{"$f":"NILSM2!Y39","v":0},{"$f":"NILSM2!AB39","v":0},{"$f":"NILSM2!AE39","v":0},{"$f":"NILSM2!AH39","v":0},{"$f":"NILSM2!AK39","v":0},{"$f":"NILSM2!AN39","v":0},{"$f":"NILSM2!AQ39","v":0},{"$f":"NILSM2!AT39","v":0},{"$f":"NILSM2!AW39","v":0},{"$f":"NILSM2!AZ39","v":0},{"$f":"NILSM2!BC39","v":0},{"$f":"NILSM2!BF39","v":0},{"$f":"NILSM2!BI39","v":0},{"$f":"NILSM2!BL39","v":0},{"$f":"NILSM2!BO39","v":0},{"$f":"NILSM2!BR39","v":0},{"$f":"NILSM2!BU39","v":0},{"$f":"NILSM2!BX39","v":0},{"$f":"NILSM2!CA39","v":0},{"$f":"NILSM2!CD39","v":0},{"$f":"NILSM2!CG39","v":0},{"$f":"NILSM2!CJ39","v":0},{"$f":"NILSM2!CM39","v":0}]
[{"$f":"BIODATA!A37","v":33},{"$f":"BIODATA!C37","v":0},{"$f":"BIODATA!D37","v":0},{"$f":"NILSM1!D40","v":0},{"$f":"NILSM1!G40","v":0},{"$f":"NILSM1!J40","v":0},{"$f":"NILSM1!M40","v":0},{"$f":"NILSM1!P40","v":0},{"$f":"NILSM1!S40","v":0},{"$f":"NILSM1!V40","v":0},{"$f":"NILSM1!Y40","v":0},{"$f":"NILSM1!AB40","v":0},{"$f":"NILSM1!AE40","v":0},{"$f":"NILSM1!AH40","v":0},{"$f":"NILSM1!AK40","v":0},{"$f":"NILSM1!AN40","v":0},{"$f":"NILSM1!AQ40","v":0},{"$f":"NILSM1!AT40","v":0},{"$f":"NILSM1!AW40","v":0},{"$f":"NILSM1!AZ40","v":0},{"$f":"NILSM1!BC40","v":0},{"$f":"NILSM1!BF40","v":0},{"$f":"NILSM1!BI40","v":0},{"$f":"NILSM1!BL40","v":0},{"$f":"NILSM1!BO40","v":0},{"$f":"NILSM1!BR40","v":0},{"$f":"NILSM1!BU40","v":0},{"$f":"NILSM1!BX40","v":0},{"$f":"NILSM1!CA40","v":0},{"$f":"NILSM1!CD40","v":0},{"$f":"NILSM1!CG40","v":0},{"$f":"NILSM1!CJ40","v":0},{"$f":"NILSM1!CM40","v":0},null,33,{"$f":"NILSM2!B40","v":0},{"$f":"NILSM2!C40","v":0},{"$f":"NILSM2!D40","v":0},{"$f":"NILSM2!G40","v":0},{"$f":"NILSM2!J40","v":0},{"$f":"NILSM2!M40","v":0},{"$f":"NILSM2!P40","v":0},{"$f":"NILSM2!S40","v":0},{"$f":"NILSM2!V40","v":0},{"$f":"NILSM2!Y40","v":0},{"$f":"NILSM2!AB40","v":0},{"$f":"NILSM2!AE40","v":0},{"$f":"NILSM2!AH40","v":0},{"$f":"NILSM2!AK40","v":0},{"$f":"NILSM2!AN40","v":0},{"$f":"NILSM2!AQ40","v":0},{"$f":"NILSM2!AT40","v":0},{"$f":"NILSM2!AW40","v":0},{"$f":"NILSM2!AZ40","v":0},{"$f":"NILSM2!BC40","v":0},{"$f":"NILSM2!BF40","v":0},{"$f":"NILSM2!BI40","v":0},{"$f":"NILSM2!BL40","v":0},{"$f":"NILSM2!BO40","v":0},{"$f":"NILSM2!BR40","v":0},{"$f":"NILSM2!BU40","v":0},{"$f":"NILSM2!BX40","v":0},{"$f":"NILSM2!CA40","v":0},{"$f":"NILSM2!CD40","v":0},{"$f":"NILSM2!CG40","v":0},{"$f":"NILSM2!CJ40","v":0},{"$f":"NILSM2!CM40","v":0}]
[{"$f":"BIODATA!A38","v":34},{"$f":"BIODATA!C38","v":0},{"$f":"BIODATA!D38","v":0},{"$f":"NILSM1!D41","v":0},{"$f":"NILSM1!G41","v":0},{"$f":"NILSM1!J41","v":0},{"$f":"NILSM1!M41","v":0},{"$f":"NILSM1!P41","v":0},{"$f":"NILSM1!S41","v":0},{"$f":"NILSM1!V41","v":0},{"$f":"NILSM1!Y41","v":0},{"$f":"NILSM1!AB41","v":0},{"$f":"NILSM1!AE41","v":0},{"$f":"NILSM1!AH41","v":0},{"$f":"NILSM1!AK41","v":0},{"$f":"NILSM1!AN41","v":0},{"$f":"NILSM1!AQ41","v":0},{"$f":"NILSM1!AT41","v":0},{"$f":"NILSM1!AW41","v":0},{"$f":"NILSM1!AZ41","v":0},{"$f":"NILSM1!BC41","v":0},{"$f":"NILSM1!BF41","v":0},{"$f":"NILSM1!BI41","v":0},{"$f":"NILSM1!BL41","v":0},{"$f":"NILSM1!BO41","v":0},{"$f":"NILSM1!BR41","v":0},{"$f":"NILSM1!BU41","v":0},{"$f":"NILSM1!BX41","v":0},{"$f":"NILSM1!CA41","v":0},{"$f":"NILSM1!CD41","v":0},{"$f":"NILSM1!CG41","v":0},{"$f":"NILSM1!CJ41","v":0},{"$f":"NILSM1!CM41","v":0},null,34,{"$f":"NILSM2!B41","v":0},{"$f":"NILSM2!C41","v":0},{"$f":"NILSM2!D41","v":0},{"$f":"NILSM2!G41","v":0},{"$f":"NILSM2!J41","v":0},{"$f":"NILSM2!M41","v":0},{"$f":"NILSM2!P41","v":0},{"$f":"NILSM2!S41","v":0},{"$f":"NILSM2!V41","v":0},{"$f":"NILSM2!Y41","v":0},{"$f":"NILSM2!AB41","v":0},{"$f":"NILSM2!AE41","v":0},{"$f":"NILSM2!AH41","v":0},{"$f":"NILSM2!AK41","v":0},{"$f":"NILSM2!AN41","v":0},{"$f":"NILSM2!AQ41","v":0},{"$f":"NILSM2!AT41","v":0},{"$f":"NILSM2!AW41","v":0},{"$f":"NILSM2!AZ41","v":0},{"$f":"NILSM2!BC41","v":0},{"$f":"NILSM2!BF41","v":0},{"$f":"NILSM2!BI41","v":0},{"$f":"NILSM2!BL41","v":0},{"$f":"NILSM2!BO41","v":0},{"$f":"NILSM2!BR41","v":0},{"$f":"NILSM2!BU41","v":0},{"$f":"NILSM2!BX41","v":0},{"$f":"NILSM2!CA41","v":0},{"$f":"NILSM2!CD41","v":0},{"$f":"NILSM2!CG41","v":0},{"$f":"NILSM2!CJ41","v":0},{"$f":"NILSM2!CM41","v":0}]
[{"$f":"BIODATA!A39","v":35},{"$f":"BIODATA!C39","v":0},{"$f":"BIODATA!D39","v":0},{"$f":"NILSM1!D42","v":0},{"$f":"NILSM1!G42","v":0},{"$f":"NILSM1!J42","v":0},{"$f":"NILSM1!M42","v":0},{"$f":"NILSM1!P42","v":0},{"$f":"NILSM1!S42","v":0},{"$f":"NILSM1!V42","v":0},{"$f":"NILSM1!Y42","v":0},{"$f":"NILSM1!AB42","v":0},{"$f":"NILSM1!AE42","v":0},{"$f":"NILSM1!AH42","v":0},{"$f":"NILSM1!AK42","v":0},{"$f":"NILSM1!AN42","v":0},{"$f":"NILSM1!AQ42","v":0},{"$f":"NILSM1!AT42","v":0},{"$f":"NILSM1!AW42","v":0},{"$f":"NILSM1!AZ42","v":0},{"$f":"NILSM1!BC42","v":0},{"$f":"NILSM1!BF42","v":0},{"$f":"NILSM1!BI42","v":0},{"$f":"NILSM1!BL42","v":0},{"$f":"NILSM1!BO42","v":0},{"$f":"NILSM1!BR42","v":0},{"$f":"NILSM1!BU42","v":0},{"$f":"NILSM1!BX42","v":0},{"$f":"NILSM1!CA42","v":0},{"$f":"NILSM1!CD42","v":0},{"$f":"NILSM1!CG42","v":0},{"$f":"NILSM1!CJ42","v":0},{"$f":"NILSM1!CM42","v":0},null,35,{"$f":"NILSM2!B42","v":0},{"$f":"NILSM2!C42","v":0},{"$f":"NILSM2!D42","v":0},{"$f":"NILSM2!G42","v":0},{"$f":"NILSM2!J42","v":0},{"$f":"NILSM2!M42","v":0},{"$f":"NILSM2!P42","v":0},{"$f":"NILSM2!S42","v":0},{"$f":"NILSM2!V42","v":0},{"$f":"NILSM2!Y42","v":0},{"$f":"NILSM2!AB42","v":0},{"$f":"NILSM2!AE42","v":0},{"$f":"NILSM2!AH42","v":0},{"$f":"NILSM2!AK42","v":0},{"$f":"NILSM2!AN42","v":0},{"$f":"NILSM2!AQ42","v":0},{"$f":"NILSM2!AT42","v":0},{"$f":"NILSM2!AW42","v":0},{"$f":"NILSM2!AZ42","v":0},{"$f":"NILSM2!BC42","v":0},{"$f":"NILSM2!BF42","v":0},{"$f":"NILSM2!BI42","v":0},{"$f":"NILSM2!BL42","v":0},{"$f":"NILSM2!BO42","v":0},{"$f":"NILSM2!BR42","v":0},{"$f":"NILSM2!BU42","v":0},{"$f":"NILSM2!BX42","v":0},{"$f":"NILSM2!CA42","v":0},{"$f":"NILSM2!CD42","v":0},{"$f":"NILSM2!CG42","v":0},{"$f":"NILSM2!CJ42","v":0},{"$f":"NILSM2!CM42","v":0}]
[{"$f":"BIODATA!A40","v":36},{"$f":"BIODATA!C40","v":0},{"$f":"BIODATA!D40","v":0},{"$f":"NILSM1!D43","v":0},{"$f":"NILSM1!G43","v":0},{"$f":"NILSM1!J43","v":0},{"$f":"NILSM1!M43","v":0},{"$f":"NILSM1!P43","v":0},{"$f":"NILSM1!S43","v":0},{"$f":"NILSM1!V43","v":0},{"$f":"NILSM1!Y43","v":0},{"$f":"NILSM1!AB43","v":0},{"$f":"NILSM1!AE43","v":0},{"$f":"NILSM1!AH43","v":0},{"$f":"NILSM1!AK43","v":0},{"$f":"NILSM1!AN43","v":0},{"$f":"NILSM1!AQ43","v":0},{"$f":"NILSM1!AT43","v":0},{"$f":"NILSM1!AW43","v":0},{"$f":"NILSM1!AZ43","v":0},{"$f":"NILSM1!BC43","v":0},{"$f":"NILSM1!BF43","v":0},{"$f":"NILSM1!BI43","v":0},{"$f":"NILSM1!BL43","v":0},{"$f":"NILSM1!BO43","v":0},{"$f":"NILSM1!BR43","v":0},{"$f":"NILSM1!BU43","v":0},{"$f":"NILSM1!BX43","v":0},{"$f":"NILSM1!CA43","v":0},{"$f":"NILSM1!CD43","v":0},{"$f":"NILSM1!CG43","v":0},{"$f":"NILSM1!CJ43","v":0},{"$f":"NILSM1!CM43","v":0},null,36,{"$f":"NILSM2!B43","v":0},{"$f":"NILSM2!C43","v":0},{"$f":"NILSM2!D43","v":0},{"$f":"NILSM2!G43","v":0},{"$f":"NILSM2!J43","v":0},{"$f":"NILSM2!M43","v":0},{"$f":"NILSM2!P43","v":0},{"$f":"NILSM2!S43","v":0},{"$f":"NILSM2!V43","v":0},{"$f":"NILSM2!Y43","v":0},{"$f":"NILSM2!AB43","v":0},{"$f":"NILSM2!AE43","v":0},{"$f":"NILSM2!AH43","v":0},{"$f":"NILSM2!AK43","v":0},{"$f":"NILSM2!AN43","v":0},{"$f":"NILSM2!AQ43","v":0},{"$f":"NILSM2!AT43","v":0},{"$f":"NILSM2!AW43","v":0},{"$f":"NILSM2!AZ43","v":0},{"$f":"NILSM2!BC43","v":0},{"$f":"NILSM2!BF43","v":0},{"$f":"NILSM2!BI43","v":0},{"$f":"NILSM2!BL43","v":0},{"$f":"NILSM2!BO43","v":0},{"$f":"NILSM2!BR43","v":0},{"$f":"NILSM2!BU43","v":0},{"$f":"NILSM2!BX43","v":0},{"$f":"NILSM2!CA43","v":0},{"$f":"NILSM2!CD43","v":0},{"$f":"NILSM2!CG43","v":0},{"$f":"NILSM2!CJ43","v":0},{"$f":"NILSM2!CM43","v":0}]
[{"$f":"BIODATA!A41","v":"-"},{"$f":"BIODATA!C41","v":0},{"$f":"BIODATA!D41","v":0},{"$f":"NILSM1!D44","v":"-"},{"$f":"NILSM1!G44","v":"-"},{"$f":"NILSM1!J44","v":"-"},{"$f":"NILSM1!M44","v":"-"},{"$f":"NILSM1!P44","v":"-"},{"$f":"NILSM1!S44","v":"-"},{"$f":"NILSM1!V44","v":"-"},{"$f":"NILSM1!Y44","v":"-"},{"$f":"NILSM1!AB44","v":"-"},{"$f":"NILSM1!AE44","v":"-"},{"$f":"NILSM1!AH44","v":"-"},{"$f":"NILSM1!AK44","v":"-"},{"$f":"NILSM1!AN44","v":"-"},{"$f":"NILSM1!AQ44","v":"-"},{"$f":"NILSM1!AT44","v":"-"},{"$f":"NILSM1!AW44","v":"-"},{"$f":"NILSM1!AZ44","v":"-"},{"$f":"NILSM1!BC44","v":"-"},{"$f":"NILSM1!BF44","v":"-"},{"$f":"NILSM1!BI44","v":"-"},{"$f":"NILSM1!BL44","v":"-"},{"$f":"NILSM1!BO44","v":"-"},{"$f":"NILSM1!BR44","v":"-"},{"$f":"NILSM1!BU44","v":"-"},{"$f":"NILSM1!BX44","v":"-"},{"$f":"NILSM1!CA44","v":"-"},{"$f":"NILSM1!CD44","v":"-"},{"$f":"NILSM1!CG44","v":"-"},{"$f":"NILSM1!CJ44","v":"-"},{"$f":"NILSM1!CM44","v":"-"},null,"-",{"$f":"NILSM2!B44","v":0},{"$f":"NILSM2!C44","v":0},{"$f":"NILSM2!D44","v":"-"},{"$f":"NILSM2!G44","v":"-"},{"$f":"NILSM2!J44","v":"-"},{"$f":"NILSM2!M44","v":"-"},{"$f":"NILSM2!P44","v":"-"},{"$f":"NILSM2!S44","v":"-"},{"$f":"NILSM2!V44","v":"-"},{"$f":"NILSM2!Y44","v":"-"},{"$f":"NILSM2!AB44","v":"-"},{"$f":"NILSM2!AE44","v":"-"},{"$f":"NILSM2!AH44","v":"-"},{"$f":"NILSM2!AK44","v":"-"},{"$f":"NILSM2!AN44","v":"-"},{"$f":"NILSM2!AQ44","v":"-"},{"$f":"NILSM2!AT44","v":"-"},{"$f":"NILSM2!AW44","v":"-"},{"$f":"NILSM2!AZ44","v":"-"},{"$f":"NILSM2!BC44","v":"-"},{"$f":"NILSM2!BF44","v":"-"},{"$f":"NILSM2!BI44","v":"-"},{"$f":"NILSM2!BL44","v":"-"},{"$f":"NILSM2!BO44","v":"-"},{"$f":"NILSM2!BR44","v":"-"},{"$f":"NILSM2!BU44","v":"-"},{"$f":"NILSM2!BX44","v":"-"},{"$f":"NILSM2!CA44","v":"-"},{"$f":"NILSM2!CD44","v":"-"},{"$f":"NILSM2!CG44","v":"-"},{"$f":"NILSM2!CJ44","v":"-"},{"$f":"NILSM2!CM44","v":"-"}]
[{"$f":"BIODATA!A42","v":"-"},{"$f":"BIODATA!C42","v":0},{"$f":"BIODATA!D42","v":0},{"$f":"NILSM1!D45","v":"-"},{"$f":"NILSM1!G45","v":"-"},{"$f":"NILSM1!J45","v":"-"},{"$f":"NILSM1!M45","v":"-"},{"$f":"NILSM1!P45","v":"-"},{"$f":"NILSM1!S45","v":"-"},{"$f":"NILSM1!V45","v":"-"},{"$f":"NILSM1!Y45","v":"-"},{"$f":"NILSM1!AB45","v":"-"},{"$f":"NILSM1!AE45","v":"-"},{"$f":"NILSM1!AH45","v":"-"},{"$f":"NILSM1!AK45","v":"-"},{"$f":"NILSM1!AN45","v":"-"},{"$f":"NILSM1!AQ45","v":"-"},{"$f":"NILSM1!AT45","v":"-"},{"$f":"NILSM1!AW45","v":"-"},{"$f":"NILSM1!AZ45","v":"-"},{"$f":"NILSM1!BC45","v":"-"},{"$f":"NILSM1!BF45","v":"-"},{"$f":"NILSM1!BI45","v":"-"},{"$f":"NILSM1!BL45","v":"-"},{"$f":"NILSM1!BO45","v":"-"},{"$f":"NILSM1!BR45","v":"-"},{"$f":"NILSM1!BU45","v":"-"},{"$f":"NILSM1!BX45","v":"-"},{"$f":"NILSM1!CA45","v":"-"},{"$f":"NILSM1!CD45","v":"-"},{"$f":"NILSM1!CG45","v":"-"},{"$f":"NILSM1!CJ45","v":"-"},{"$f":"NILSM1!CM45","v":"-"},null,"-",{"$f":"NILSM2!B45","v":0},{"$f":"NILSM2!C45","v":0},{"$f":"NILSM2!D45","v":"-"},{"$f":"NILSM2!G45","v":"-"},{"$f":"NILSM2!J45","v":"-"},{"$f":"NILSM2!M45","v":"-"},{"$f":"NILSM2!P45","v":"-"},{"$f":"NILSM2!S45","v":"-"},{"$f":"NILSM2!V45","v":"-"},{"$f":"NILSM2!Y45","v":"-"},{"$f":"NILSM2!AB45","v":"-"},{"$f":"NILSM2!AE45","v":"-"},{"$f":"NILSM2!AH45","v":"-"},{"$f":"NILSM2!AK45","v":"-"},{"$f":"NILSM2!AN45","v":"-"},{"$f":"NILSM2!AQ45","v":"-"},{"$f":"NILSM2!AT45","v":"-"},{"$f":"NILSM2!AW45","v":"-"},{"$f":"NILSM2!AZ45","v":"-"},{"$f":"NILSM2!BC45","v":"-"},{"$f":"NILSM2!BF45","v":"-"},{"$f":"NILSM2!BI45","v":"-"},{"$f":"NILSM2!BL45","v":"-"},{"$f":"NILSM2!BO45","v":"-"},{"$f":"NILSM2!BR45","v":"-"},{"$f":"NILSM2!BU45","v":"-"},{"$f":"NILSM2!BX45","v":"-"},{"$f":"NILSM2!CA45","v":"-"},{"$f":"NILSM2!CD45","v":"-"},{"$f":"NILSM2!CG45","v":"-"},{"$f":"NILSM2!CJ45","v":"-"},{"$f":"NILSM2!CM45","v":"-"}]
[{"$f":"BIODATA!A43","v":"-"},{"$f":"BIODATA!C43","v":0},{"$f":"BIODATA!D43","v":0},{"$f":"NILSM1!D46","v":"-"},{"$f":"NILSM1!G46","v":"-"},{"$f":"NILSM1!J46","v":"-"},{"$f":"NILSM1!M46","v":"-"},{"$f":"NILSM1!P46","v":"-"},{"$f":"NILSM1!S46","v":"-"},{"$f":"NILSM1!V46","v":"-"},{"$f":"NILSM1!Y46","v":"-"},{"$f":"NILSM1!AB46","v":"-"},{"$f":"NILSM1!AE46","v":"-"},{"$f":"NILSM1!AH46","v":"-"},{"$f":"NILSM1!AK46","v":"-"},{"$f":"NILSM1!AN46","v":"-"},{"$f":"NILSM1!AQ46","v":"-"},{"$f":"NILSM1!AT46","v":"-"},{"$f":"NILSM1!AW46","v":"-"},{"$f":"NILSM1!AZ46","v":"-"},{"$f":"NILSM1!BC46","v":"-"},{"$f":"NILSM1!BF46","v":"-"},{"$f":"NILSM1!BI46","v":"-"},{"$f":"NILSM1!BL46","v":"-"},{"$f":"NILSM1!BO46","v":"-"},{"$f":"NILSM1!BR46","v":"-"},{"$f":"NILSM1!BU46","v":"-"},{"$f":"NILSM1!BX46","v":"-"},{"$f":"NILSM1!CA46","v":"-"},{"$f":"NILSM1!CD46","v":"-"},{"$f":"NILSM1!CG46","v":"-"},{"$f":"NILSM1!CJ46","v":"-"},{"$f":"NILSM1!CM46","v":"-"},null,"-",{"$f":"NILSM2!B46","v":0},{"$f":"NILSM2!C46","v":0},{"$f":"NILSM2!D46","v":"-"},{"$f":"NILSM2!G46","v":"-"},{"$f":"NILSM2!J46","v":"-"},{"$f":"NILSM2!M46","v":"-"},{"$f":"NILSM2!P46","v":"-"},{"$f":"NILSM2!S46","v":"-"},{"$f":"NILSM2!V46","v":"-"},{"$f":"NILSM2!Y46","v":"-"},{"$f":"NILSM2!AB46","v":"-"},{"$f":"NILSM2!AE46","v":"-"},{"$f":"NILSM2!AH46","v":"-"},{"$f":"NILSM2!AK46","v":"-"},{"$f":"NILSM2!AN46","v":"-"},{"$f":"NILSM2!AQ46","v":"-"},{"$f":"NILSM2!AT46","v":"-"},{"$f":"NILSM2!AW46","v":"-"},{"$f":"NILSM2!AZ46","v":"-"},{"$f":"NILSM2!BC46","v":"-"},{"$f":"NILSM2!BF46","v":"-"},{"$f":"NILSM2!BI46","v":"-"},{"$f":"NILSM2!BL46","v":"-"},{"$f":"NILSM2!BO46","v":"-"},{"$f":"NILSM2!BR46","v":"-"},{"$f":"NILSM2!BU46","v":"-"},{"$f":"NILSM2!BX46","v":"-"},{"$f":"NILSM2!CA46","v":"-"},{"$f":"NILSM2!CD46","v":"-"},{"$f":"NILSM2!CG46","v":"-"},{"$f":"NILSM2!CJ46","v":"-"},{"$f":"NILSM2!CM46","v":"-"}]
[{"$f":"BIODATA!A44","v":"-"},{"$f":"BIODATA!C44","v":0},{"$f":"BIODATA!D44","v":0},{"$f":"NILSM1!D47","v":"-"},{"$f":"NILSM1!G47","v":"-"},{"$f":"NILSM1!J47","v":"-"},{"$f":"NILSM1!M47","v":"-"},{"$f":"NILSM1!P47","v":"-"},{"$f":"NILSM1!S47","v":"-"},{"$f":"NILSM1!V47","v":"-"},{"$f":"NILSM1!Y47","v":"-"},{"$f":"NILSM1!AB47","v":"-"},{"$f":"NILSM1!AE47","v":"-"},{"$f":"NILSM1!AH47","v":"-"},{"$f":"NILSM1!AK47","v":"-"},{"$f":"NILSM1!AN47","v":"-"},{"$f":"NILSM1!AQ47","v":"-"},{"$f":"NILSM1!AT47","v":"-"},{"$f":"NILSM1!AW47","v":"-"},{"$f":"NILSM1!AZ47","v":"-"},{"$f":"NILSM1!BC47","v":"-"},{"$f":"NILSM1!BF47","v":"-"},{"$f":"NILSM1!BI47","v":"-"},{"$f":"NILSM1!BL47","v":"-"},{"$f":"NILSM1!BO47","v":"-"},{"$f":"NILSM1!BR47","v":"-"},{"$f":"NILSM1!BU47","v":"-"},{"$f":"NILSM1!BX47","v":"-"},{"$f":"NILSM1!CA47","v":"-"},{"$f":"NILSM1!CD47","v":"-"},{"$f":"NILSM1!CG47","v":"-"},{"$f":"NILSM1!CJ47","v":"-"},{"$f":"NILSM1!CM47","v":"-"},null,"-",{"$f":"NILSM2!B47","v":0},{"$f":"NILSM2!C47","v":0},{"$f":"NILSM2!D47","v":"-"},{"$f":"NILSM2!G47","v":"-"},{"$f":"NILSM2!J47","v":"-"},{"$f":"NILSM2!M47","v":"-"},{"$f":"NILSM2!P47","v":"-"},{"$f":"NILSM2!S47","v":"-"},{"$f":"NILSM2!V47","v":"-"},{"$f":"NILSM2!Y47","v":"-"},{"$f":"NILSM2!AB47","v":"-"},{"$f":"NILSM2!AE47","v":"-"},{"$f":"NILSM2!AH47","v":"-"},{"$f":"NILSM2!AK47","v":"-"},{"$f":"NILSM2!AN47","v":"-"},{"$f":"NILSM2!AQ47","v":"-"},{"$f":"NILSM2!AT47","v":"-"},{"$f":"NILSM2!AW47","v":"-"},{"$f":"NILSM2!AZ47","v":"-"},{"$f":"NILSM2!BC47","v":"-"},{"$f":"NILSM2!BF47","v":"-"},{"$f":"NILSM2!BI47","v":"-"},{"$f":"NILSM2!BL47","v":"-"},{"$f":"NILSM2!BO47","v":"-"},{"$f":"NILSM2!BR47","v":"-"},{"$f":"NILSM2!BU47","v":"-"},{"$f":"NILSM2!BX47","v":"-"},{"$f":"NILSM2!CA47","v":"-"},{"$f":"NILSM2!CD47","v":"-"},{"$f":"NILSM2!CG47","v":"-"},{"$f":"NILSM2!CJ47","v":"-"},{"$f":"NILSM2!CM47","v":"-"}]
[{"$f":"BIODATA!A45","v":"-"},{"$f":"BIODATA!C45","v":0},{"$f":"BIODATA!D45","v":0},{"$f":"NILSM1!D48","v":"-"},{"$f":"NILSM1!G48","v":"-"},{"$f":"NILSM1!J48","v":"-"},{"$f":"NILSM1!M48","v":"-"},{"$f":"NILSM1!P48","v":"-"},{"$f":"NILSM1!S48","v":"-"},{"$f":"NILSM1!V48","v":"-"},{"$f":"NILSM1!Y48","v":"-"},{"$f":"NILSM1!AB48","v":"-"},{"$f":"NILSM1!AE48","v":"-"},{"$f":"NILSM1!AH48","v":"-"},{"$f":"NILSM1!AK48","v":"-"},{"$f":"NILSM1!AN48","v":"-"},{"$f":"NILSM1!AQ48","v":"-"},{"$f":"NILSM1!AT48","v":"-"},{"$f":"NILSM1!AW48","v":"-"},{"$f":"NILSM1!AZ48","v":"-"},{"$f":"NILSM1!BC48","v":"-"},{"$f":"NILSM1!BF48","v":"-"},{"$f":"NILSM1!BI48","v":"-"},{"$f":"NILSM1!BL48","v":"-"},{"$f":"NILSM1!BO48","v":"-"},{"$f":"NILSM1!BR48","v":"-"},{"$f":"NILSM1!BU48","v":"-"},{"$f":"NILSM1!BX48","v":"-"},{"$f":"NILSM1!CA48","v":"-"},{"$f":"NILSM1!CD48","v":"-"},{"$f":"NILSM1!CG48","v":"-"},{"$f":"NILSM1!CJ48","v":"-"},{"$f":"NILSM1!CM48","v":"-"},null,"-",{"$f":"NILSM2!B48","v":0},{"$f":"NILSM2!C48","v":0},{"$f":"NILSM2!D48","v":"-"},{"$f":"NILSM2!G48","v":"-"},{"$f":"NILSM2!J48","v":"-"},{"$f":"NILSM2!M48","v":"-"},{"$f":"NILSM2!P48","v":"-"},{"$f":"NILSM2!S48","v":"-"},{"$f":"NILSM2!V48","v":"-"},{"$f":"NILSM2!Y48","v":"-"},{"$f":"NILSM2!AB48","v":"-"},{"$f":"NILSM2!AE48","v":"-"},{"$f":"NILSM2!AH48","v":"-"},{"$f":"NILSM2!AK48","v":"-"},{"$f":"NILSM2!AN48","v":"-"},{"$f":"NILSM2!AQ48","v":"-"},{"$f":"NILSM2!AT48","v":"-"},{"$f":"NILSM2!AW48","v":"-"},{"$f":"NILSM2!AZ48","v":"-"},{"$f":"NILSM2!BC48","v":"-"},{"$f":"NILSM2!BF48","v":"-"},{"$f":"NILSM2!BI48","v":"-"},{"$f":"NILSM2!BL48","v":"-"},{"$f":"NILSM2!BO48","v":"-"},{"$f":"NILSM2!BR48","v":"-"},{"$f":"NILSM2!BU48","v":"-"},{"$f":"NILSM2!BX48","v":"-"},{"$f":"NILSM2!CA48","v":"-"},{"$f":"NILSM2!CD48","v":"-"},{"$f":"NILSM2!CG48","v":"-"},{"$f":"NILSM2!CJ48","v":"-"},{"$f":"NILSM2!CM48","v":"-"}]
[{"$f":"BIODATA!A46","v":"-"},{"$f":"BIODATA!C46","v":0},{"$f":"BIODATA!D46","v":0},{"$f":"NILSM1!D49","v":"-"},{"$f":"NILSM1!G49","v":"-"},{"$f":"NILSM1!J49","v":"-"},{"$f":"NILSM1!M49","v":"-"},{"$f":"NILSM1!P49","v":"-"},{"$f":"NILSM1!S49","v":"-"},{"$f":"NILSM1!V49","v":"-"},{"$f":"NILSM1!Y49","v":"-"},{"$f":"NILSM1!AB49","v":"-"},{"$f":"NILSM1!AE49","v":"-"},{"$f":"NILSM1!AH49","v":"-"},{"$f":"NILSM1!AK49","v":"-"},{"$f":"NILSM1!AN49","v":"-"},{"$f":"NILSM1!AQ49","v":"-"},{"$f":"NILSM1!AT49","v":"-"},{"$f":"NILSM1!AW49","v":"-"},{"$f":"NILSM1!AZ49","v":"-"},{"$f":"NILSM1!BC49","v":"-"},{"$f":"NILSM1!BF49","v":"-"},{"$f":"NILSM1!BI49","v":"-"},{"$f":"NILSM1!BL49","v":"-"},{"$f":"NILSM1!BO49","v":"-"},{"$f":"NILSM1!BR49","v":"-"},{"$f":"NILSM1!BU49","v":"-"},{"$f":"NILSM1!BX49","v":"-"},{"$f":"NILSM1!CA49","v":"-"},{"$f":"NILSM1!CD49","v":"-"},{"$f":"NILSM1!CG49","v":"-"},{"$f":"NILSM1!CJ49","v":"-"},{"$f":"NILSM1!CM49","v":"-"},null,"-",{"$f":"NILSM2!B49","v":0},{"$f":"NILSM2!C49","v":0},{"$f":"NILSM2!D49","v":"-"},{"$f":"NILSM2!G49","v":"-"},{"$f":"NILSM2!J49","v":"-"},{"$f":"NILSM2!M49","v":"-"},{"$f":"NILSM2!P49","v":"-"},{"$f":"NILSM2!S49","v":"-"},{"$f":"NILSM2!V49","v":"-"},{"$f":"NILSM2!Y49","v":"-"},{"$f":"NILSM2!AB49","v":"-"},{"$f":"NILSM2!AE49","v":"-"},{"$f":"NILSM2!AH49","v":"-"},{"$f":"NILSM2!AK49","v":"-"},{"$f":"NILSM2!AN49","v":"-"},{"$f":"NILSM2!AQ49","v":"-"},{"$f":"NILSM2!AT49","v":"-"},{"$f":"NILSM2!AW49","v":"-"},{"$f":"NILSM2!AZ49","v":"-"},{"$f":"NILSM2!BC49","v":"-"},{"$f":"NILSM2!BF49","v":"-"},{"$f":"NILSM2!BI49","v":"-"},{"$f":"NILSM2!BL49","v":"-"},{"$f":"NILSM2!BO49","v":"-"},{"$f":"NILSM2!BR49","v":"-"},{"$f":"NILSM2!BU49","v":"-"},{"$f":"NILSM2!BX49","v":"-"},{"$f":"NILSM2!CA49","v":"-"},{"$f":"NILSM2!CD49","v":"-"},{"$f":"NILSM2!CG49","v":"-"},{"$f":"NILSM2!CJ49","v":"-"},{"$f":"NILSM2!CM49","v":"-"}]
[{"$f":"BIODATA!A47","v":"-"},{"$f":"BIODATA!C47","v":0},{"$f":"BIODATA!D47","v":0},{"$f":"NILSM1!D50","v":"-"},{"$f":"NILSM1!G50","v":"-"},{"$f":"NILSM1!J50","v":"-"},{"$f":"NILSM1!M50","v":"-"},{"$f":"NILSM1!P50","v":"-"},{"$f":"NILSM1!S50","v":"-"},{"$f":"NILSM1!V50","v":"-"},{"$f":"NILSM1!Y50","v":"-"},{"$f":"NILSM1!AB50","v":"-"},{"$f":"NILSM1!AE50","v":"-"},{"$f":"NILSM1!AH50","v":"-"},{"$f":"NILSM1!AK50","v":"-"},{"$f":"NILSM1!AN50","v":"-"},{"$f":"NILSM1!AQ50","v":"-"},{"$f":"NILSM1!AT50","v":"-"},{"$f":"NILSM1!AW50","v":"-"},{"$f":"NILSM1!AZ50","v":"-"},{"$f":"NILSM1!BC50","v":"-"},{"$f":"NILSM1!BF50","v":"-"},{"$f":"NILSM1!BI50","v":"-"},{"$f":"NILSM1!BL50","v":"-"},{"$f":"NILSM1!BO50","v":"-"},{"$f":"NILSM1!BR50","v":"-"},{"$f":"NILSM1!BU50","v":"-"},{"$f":"NILSM1!BX50","v":"-"},{"$f":"NILSM1!CA50","v":"-"},{"$f":"NILSM1!CD50","v":"-"},{"$f":"NILSM1!CG50","v":"-"},{"$f":"NILSM1!CJ50","v":"-"},{"$f":"NILSM1!CM50","v":"-"},null,"-",{"$f":"NILSM2!B50","v":0},{"$f":"NILSM2!C50","v":0},{"$f":"NILSM2!D50","v":"-"},{"$f":"NILSM2!G50","v":"-"},{"$f":"NILSM2!J50","v":"-"},{"$f":"NILSM2!M50","v":"-"},{"$f":"NILSM2!P50","v":"-"},{"$f":"NILSM2!S50","v":"-"},{"$f":"NILSM2!V50","v":"-"},{"$f":"NILSM2!Y50","v":"-"},{"$f":"NILSM2!AB50","v":"-"},{"$f":"NILSM2!AE50","v":"-"},{"$f":"NILSM2!AH50","v":"-"},{"$f":"NILSM2!AK50","v":"-"},{"$f":"NILSM2!AN50","v":"-"},{"$f":"NILSM2!AQ50","v":"-"},{"$f":"NILSM2!AT50","v":"-"},{"$f":"NILSM2!AW50","v":"-"},{"$f":"NILSM2!AZ50","v":"-"},{"$f":"NILSM2!BC50","v":"-"},{"$f":"NILSM2!BF50","v":"-"},{"$f":"NILSM2!BI50","v":"-"},{"$f":"NILSM2!BL50","v":"-"},{"$f":"NILSM2!BO50","v":"-"},{"$f":"NILSM2!BR50","v":"-"},{"$f":"NILSM2!BU50","v":"-"},{"$f":"NILSM2!BX50","v":"-"},{"$f":"NILSM2!CA50","v":"-"},{"$f":"NILSM2!CD50","v":"-"},{"$f":"NILSM2!CG50","v":"-"},{"$f":"NILSM2!CJ50","v":"-"},{"$f":"NILSM2!CM50","v":"-"}]
[{"$f":"BIODATA!A48","v":"-"},{"$f":"BIODATA!C48","v":0},{"$f":"BIODATA!D48","v":0},{"$f":"NILSM1!D51","v":"-"},{"$f":"NILSM1!G51","v":"-"},{"$f":"NILSM1!J51","v":"-"},{"$f":"NILSM1!M51","v":"-"},{"$f":"NILSM1!P51","v":"-"},{"$f":"NILSM1!S51","v":"-"},{"$f":"NILSM1!V51","v":"-"},{"$f":"NILSM1!Y51","v":"-"},{"$f":"NILSM1!AB51","v":"-"},{"$f":"NILSM1!AE51","v":"-"},{"$f":"NILSM1!AH51","v":"-"},{"$f":"NILSM1!AK51","v":"-"},{"$f":"NILSM1!AN51","v":"-"},{"$f":"NILSM1!AQ51","v":"-"},{"$f":"NILSM1!AT51","v":"-"},{"$f":"NILSM1!AW51","v":"-"},{"$f":"NILSM1!AZ51","v":"-"},{"$f":"NILSM1!BC51","v":"-"},{"$f":"NILSM1!BF51","v":"-"},{"$f":"NILSM1!BI51","v":"-"},{"$f":"NILSM1!BL51","v":"-"},{"$f":"NILSM1!BO51","v":"-"},{"$f":"NILSM1!BR51","v":"-"},{"$f":"NILSM1!BU51","v":"-"},{"$f":"NILSM1!BX51","v":"-"},{"$f":"NILSM1!CA51","v":"-"},{"$f":"NILSM1!CD51","v":"-"},{"$f":"NILSM1!CG51","v":"-"},{"$f":"NILSM1!CJ51","v":"-"},{"$f":"NILSM1!CM51","v":"-"},null,"-",{"$f":"NILSM2!B51","v":0},{"$f":"NILSM2!C51","v":0},{"$f":"NILSM2!D51","v":"-"},{"$f":"NILSM2!G51","v":"-"},{"$f":"NILSM2!J51","v":"-"},{"$f":"NILSM2!M51","v":"-"},{"$f":"NILSM2!P51","v":"-"},{"$f":"NILSM2!S51","v":"-"},{"$f":"NILSM2!V51","v":"-"},{"$f":"NILSM2!Y51","v":"-"},{"$f":"NILSM2!AB51","v":"-"},{"$f":"NILSM2!AE51","v":"-"},{"$f":"NILSM2!AH51","v":"-"},{"$f":"NILSM2!AK51","v":"-"},{"$f":"NILSM2!AN51","v":"-"},{"$f":"NILSM2!AQ51","v":"-"},{"$f":"NILSM2!AT51","v":"-"},{"$f":"NILSM2!AW51","v":"-"},{"$f":"NILSM2!AZ51","v":"-"},{"$f":"NILSM2!BC51","v":"-"},{"$f":"NILSM2!BF51","v":"-"},{"$f":"NILSM2!BI51","v":"-"},{"$f":"NILSM2!BL51","v":"-"},{"$f":"NILSM2!BO51","v":"-"},{"$f":"NILSM2!BR51","v":"-"},{"$f":"NILSM2!BU51","v":"-"},{"$f":"NILSM2!BX51","v":"-"},{"$f":"NILSM2!CA51","v":"-"},{"$f":"NILSM2!CD51","v":"-"},{"$f":"NILSM2!CG51","v":"-"},{"$f":"NILSM2!CJ51","v":"-"},{"$f":"NILSM2!CM51","v":"-"}]
[{"$f":"BIODATA!A49","v":"-"},{"$f":"BIODATA!C49","v":0},{"$f":"BIODATA!D49","v":0},{"$f":"NILSM1!D52","v":"-"},{"$f":"NILSM1!G52","v":"-"},{"$f":"NILSM1!J52","v":"-"},{"$f":"NILSM1!M52","v":"-"},{"$f":"NILSM1!P52","v":"-"},{"$f":"NILSM1!S52","v":"-"},{"$f":"NILSM1!V52","v":"-"},{"$f":"NILSM1!Y52","v":"-"},{"$f":"NILSM1!AB52","v":"-"},{"$f":"NILSM1!AE52","v":"-"},{"$f":"NILSM1!AH52","v":"-"},{"$f":"NILSM1!AK52","v":"-"},{"$f":"NILSM1!AN52","v":"-"},{"$f":"NILSM1!AQ52","v":"-"},{"$f":"NILSM1!AT52","v":"-"},{"$f":"NILSM1!AW52","v":"-"},{"$f":"NILSM1!AZ52","v":"-"},{"$f":"NILSM1!BC52","v":"-"},{"$f":"NILSM1!BF52","v":"-"},{"$f":"NILSM1!BI52","v":"-"},{"$f":"NILSM1!BL52","v":"-"},{"$f":"NILSM1!BO52","v":"-"},{"$f":"NILSM1!BR52","v":"-"},{"$f":"NILSM1!BU52","v":"-"},{"$f":"NILSM1!BX52","v":"-"},{"$f":"NILSM1!CA52","v":"-"},{"$f":"NILSM1!CD52","v":"-"},{"$f":"NILSM1!CG52","v":"-"},{"$f":"NILSM1!CJ52","v":"-"},{"$f":"NILSM1!CM52","v":"-"},null,"-",{"$f":"NILSM2!B52","v":0},{"$f":"NILSM2!C52","v":0},{"$f":"NILSM2!D52","v":"-"},{"$f":"NILSM2!G52","v":"-"},{"$f":"NILSM2!J52","v":"-"},{"$f":"NILSM2!M52","v":"-"},{"$f":"NILSM2!P52","v":"-"},{"$f":"NILSM2!S52","v":"-"},{"$f":"NILSM2!V52","v":"-"},{"$f":"NILSM2!Y52","v":"-"},{"$f":"NILSM2!AB52","v":"-"},{"$f":"NILSM2!AE52","v":"-"},{"$f":"NILSM2!AH52","v":"-"},{"$f":"NILSM2!AK52","v":"-"},{"$f":"NILSM2!AN52","v":"-"},{"$f":"NILSM2!AQ52","v":"-"},{"$f":"NILSM2!AT52","v":"-"},{"$f":"NILSM2!AW52","v":"-"},{"$f":"NILSM2!AZ52","v":"-"},{"$f":"NILSM2!BC52","v":"-"},{"$f":"NILSM2!BF52","v":"-"},{"$f":"NILSM2!BI52","v":"-"},{"$f":"NILSM2!BL52","v":"-"},{"$f":"NILSM2!BO52","v":"-"},{"$f":"NILSM2!BR52","v":"-"},{"$f":"NILSM2!BU52","v":"-"},{"$f":"NILSM2!BX52","v":"-"},{"$f":"NILSM2!CA52","v":"-"},{"$f":"NILSM2!CD52","v":"-"},{"$f":"NILSM2!CG52","v":"-"},{"$f":"NILSM2!CJ52","v":"-"},{"$f":"NILSM2!CM52","v":"-"}]
[]
[]
[]
[]
[]
[]
[]
[]
[]
[]
[]
[]
[null,null,null,3.59]
[null,null,null,3.59]
[null,null,null,3.5]
[null,null,null,3.48]
[null,null,null,3.54]
[null,null,null,3.39]
[null,null,null,3.45]
[null,null,null,3.45]
[null,null,null,3.29]
[null,null,null,3.45]
[null,null,null,3.45]
[null,null,null,3.45]

{"sheet":"PDSSXI","index":26,"n_rows":76,"n_cols":67,"rows_kept":76,"cut":false,"hidden":false,"merged":[[1,0,1,1],[1,34,1,35]]}
[null,null,null,{"$f":"$B$3&D3&D4&D6","v":"3 (tiga)A1P"},{"$f":"$B$3&E3&E4&E6","v":"3 (tiga)A2P"},"3 (tiga)A3P","3 (tiga)A4P","3 (tiga)A5P","3 (tiga)A6P","3 (tiga)B1P","3 (tiga)B2P","3 (tiga)B3P","3 (tiga)B4P","3 (tiga)C11P","3 (tiga)C12P","3 (tiga)C13P","3 (tiga)C24P","3 (tiga)C25P","3 (tiga)C26P","3 (tiga)C27P","3 (tiga)C31P","3 (tiga)C32P","3 (tiga)C33P","3 (tiga)C34P","3 (tiga)C35P","3 (tiga)C36P","3 (tiga)C3-P","3 (tiga)C3-P","3 (tiga)C3-P","3 (tiga)C3-P","3 (tiga)C3-P","3 (tiga)C3-P","3 (tiga)C3-P"]
[{"$f":"\"PENGOLAHAN NILAI PDSS TAHUN PELAJARAN \"&MENU!P12","v":"PENGOLAHAN NILAI PDSS TAHUN PELAJARAN 2018 / 2019"},null,"                    NAMA MAPEL",{"$f":"HLOOKUP(MENU!$I$8&\" \"&$B$3,DATABASE!$X$2:$CK$92,DATABASE!W3,FALSE)","v":"Pendidikan Agama dan Budi Pekerti"},{"$f":"HLOOKUP(MENU!$I$8&\" \"&$B$3,DATABASE!$X$2:$CK$92,DATABASE!W6,FALSE)","v":"Pendidikan Pancasila dan Kewarganegaraan"},{"$f":"HLOOKUP(MENU!$I$8&\" \"&$B$3,DATABASE!$X$2:$CK$92,DATABASE!W9,FALSE)","v":"Bahasa Indonesia"},{"$f":"HLOOKUP(MENU!$I$8&\" \"&$B$3,DATABASE!$X$2:$CK$92,DATABASE!W12,FALSE)","v":"Matematika"},{"$f":"HLOOKUP(MENU!$I$8&\" \"&$B$3,DATABASE!$X$2:$CK$92,DATABASE!W15,FALSE)","v":"-"},{"$f":"HLOOKUP(MENU!$I$8&\" \"&$B$3,DATABASE!$X$2:$CK$92,DATABASE!W18,FALSE)","v":"Bahasa Inggris"},{"$f":"HLOOKUP(MENU!$I$8&\" \"&$B$3,DATABASE!$X$2:$CK$92,DATABASE!W21,FALSE)","v":"-"},{"$f":"HLOOKUP(MENU!$I$8&\" \"&$B$3,DATABASE!$X$2:$CK$92,DATABASE!W24,FALSE)","v":"Pendidikan Jasmani, Olah Raga & Kesehatan"},{"$f":"HLOOKUP(MENU!$I$8&\" \"&$B$3,DATABASE!$X$2:$CK$92,DATABASE!W27,FALSE)","v":"-"},{"$f":"HLOOKUP(MENU!$I$8&\" \"&$B$3,DATABASE!$X$2:$CK$92,DATABASE!W30,FALSE)","v":"Bahasa Jepang"},{"$f":"HLOOKUP(MENU!$I$8&\" \"&$B$3,DATABASE!$X$2:$CK$92,DATABASE!W33,FALSE)","v":"-"},{"$f":"HLOOKUP(MENU!$I$8&\" \"&$B$3,DATABASE!$X$2:$CK$92,DATABASE!W36,FALSE)","v":"-"},{"$f":"HLOOKUP(MENU!$I$8&\" \"&$B$3,DATABASE!$X$2:$CK$92,DATABASE!W39,FALSE)","v":"-"},{"$f":"HLOOKUP(MENU!$I$8&\" \"&$B$3,DATABASE!$X$2:$CK$92,DATABASE!W42,FALSE)","v":"-"},{"$f":"HLOOKUP(MENU!$I$8&\" \"&$B$3,DATABASE!$X$2:$CK$92,DATABASE!W45,FALSE)","v":"-"},{"$f":"HLOOKUP(MENU!$I$8&\" \"&$B$3,DATABASE!$X$2:$CK$92,DATABASE!W48,FALSE)","v":"-"},{"$f":"HLOOKUP(MENU!$I$8&\" \"&$B$3,DATABASE!$X$2:$CK$92,DATABASE!W51,FALSE)","v":"-"},{"$f":"HLOOKUP(MENU!$I$8&\" \"&$B$3,DATABASE!$X$2:$CK$92,DATABASE!W54,FALSE)","v":"Administrasi Infrastruktur Jaringan"},{"$f":"HLOOKUP(MENU!$I$8&\" \"&$B$3,DATABASE!$X$2:$CK$92,DATABASE!W57,FALSE)","v":"Administrasi Sistem Jaringan"},{"$f":"HLOOKUP(MENU!$I$8&\" \"&$B$3,DATABASE!$X$2:$CK$92,DATABASE!W60,FALSE)","v":"Teknologi Layanan Jaringan"},{"$f":"HLOOKUP(MENU!$I$8&\" \"&$B$3,DATABASE!$X$2:$CK$92,DATABASE!W63,FALSE)","v":"-"},{"$f":"HLOOKUP(MENU!$I$8&\" \"&$B$3,DATABASE!$X$2:$CK$92,DATABASE!W66,FALSE)","v":"-"},{"$f":"HLOOKUP(MENU!$I$8&\" \"&$B$3,DATABASE!$X$2:$CK$92,DATABASE!W69,FALSE)","v":"Produk Kreatif dan Kewirausahaan "},{"$f":"HLOOKUP(MENU!$I$8&\" \"&$B$3,DATABASE!$X$2:$CK$92,DATABASE!W72,FALSE)","v":"-"},{"$f":"HLOOKUP(MENU!$I$8&\" \"&$B$3,DATABASE!$X$2:$CK$92,DATABASE!W75,FALSE)","v":"-"},{"$f":"HLOOKUP(MENU!$I$8&\" \"&$B$3,DATABASE!$X$2:$CK$92,DATABASE!W78,FALSE)","v":"-"},{"$f":"HLOOKUP(MENU!$I$8&\" \"&$B$3,DATABASE!$X$2:$CK$92,DATABASE!W81,FALSE)","v":"-"},{"$f":"HLOOKUP(MENU!$I$8&\" \"&$B$3,DATABASE!$X$2:$CK$92,DATABASE!W84,FALSE)","v":"-"},{"$f":"HLOOKUP(MENU!$I$8&\" \"&$B$3,DATABASE!$X$2:$CK$92,DATABASE!W87,FALSE)","v":"-"},{"$f":"HLOOKUP(MENU!$I$8&\" \"&$B$3,DATABASE!$X$2:$CK$92,DATABASE!W90,FALSE)","v":"-"},null,null,null,"                    NAMA MAPEL",{"$f":"HLOOKUP(MENU!$I$8&\" \"&$B$3,DATABASE!$X$2:$CK$92,DATABASE!W3,FALSE)","v":"Pendidikan Agama dan Budi Pekerti"},{"$f":"HLOOKUP(MENU!$I$8&\" \"&$B$3,DATABASE!$X$2:$CK$92,DATABASE!W6,FALSE)","v":"Pendidikan Pancasila dan Kewarganegaraan"},{"$f":"HLOOKUP(MENU!$I$8&\" \"&$B$3,DATABASE!$X$2:$CK$92,DATABASE!W9,FALSE)","v":"Bahasa Indonesia"},{"$f":"HLOOKUP(MENU!$I$8&\" \"&$B$3,DATABASE!$X$2:$CK$92,DATABASE!W12,FALSE)","v":"Matematika"},{"$f":"HLOOKUP(MENU!$I$8&\" \"&$B$3,DATABASE!$X$2:$CK$92,DATABASE!W15,FALSE)","v":"-"},{"$f":"HLOOKUP(MENU!$I$8&\" \"&$B$3,DATABASE!$X$2:$CK$92,DATABASE!W18,FALSE)","v":"Bahasa Inggris"},{"$f":"HLOOKUP(MENU!$I$8&\" \"&$B$3,DATABASE!$X$2:$CK$92,DATABASE!W21,FALSE)","v":"-"},{"$f":"HLOOKUP(MENU!$I$8&\" \"&$B$3,DATABASE!$X$2:$CK$92,DATABASE!W24,FALSE)","v":"Pendidikan Jasmani, Olah Raga & Kesehatan"},{"$f":"HLOOKUP(MENU!$I$8&\" \"&$B$3,DATABASE!$X$2:$CK$92,DATABASE!W27,FALSE)","v":"-"},{"$f":"HLOOKUP(MENU!$I$8&\" \"&$B$3,DATABASE!$X$2:$CK$92,DATABASE!W30,FALSE)","v":"Bahasa Jepang"},{"$f":"HLOOKUP(MENU!$I$8&\" \"&$B$3,DATABASE!$X$2:$CK$92,DATABASE!W33,FALSE)","v":"-"},{"$f":"HLOOKUP(MENU!$I$8&\" \"&$B$3,DATABASE!$X$2:$CK$92,DATABASE!W36,FALSE)","v":"-"},{"$f":"HLOOKUP(MENU!$I$8&\" \"&$B$3,DATABASE!$X$2:$CK$92,DATABASE!W39,FALSE)","v":"-"},{"$f":"HLOOKUP(MENU!$I$8&\" \"&$B$3,DATABASE!$X$2:$CK$92,DATABASE!W42,FALSE)","v":"-"},{"$f":"HLOOKUP(MENU!$I$8&\" \"&$B$3,DATABASE!$X$2:$CK$92,DATABASE!W45,FALSE)","v":"-"},{"$f":"HLOOKUP(MENU!$I$8&\" \"&$B$3,DATABASE!$X$2:$CK$92,DATABASE!W48,FALSE)","v":"-"},{"$f":"HLOOKUP(MENU!$I$8&\" \"&$B$3,DATABASE!$X$2:$CK$92,DATABASE!W51,FALSE)","v":"-"},{"$f":"HLOOKUP(MENU!$I$8&\" \"&$B$3,DATABASE!$X$2:$CK$92,DATABASE!W54,FALSE)","v":"Administrasi Infrastruktur Jaringan"},{"$f":"HLOOKUP(MENU!$I$8&\" \"&$B$3,DATABASE!$X$2:$CK$92,DATABASE!W57,FALSE)","v":"Administrasi Sistem Jaringan"},{"$f":"HLOOKUP(MENU!$I$8&\" \"&$B$3,DATABASE!$X$2:$CK$92,DATABASE!W60,FALSE)","v":"Teknologi Layanan Jaringan"},{"$f":"HLOOKUP(MENU!$I$8&\" \"&$B$3,DATABASE!$X$2:$CK$92,DATABASE!W63,FALSE)","v":"-"},{"$f":"HLOOKUP(MENU!$I$8&\" \"&$B$3,DATABASE!$X$2:$CK$92,DATABASE!W66,FALSE)","v":"-"},{"$f":"HLOOKUP(MENU!$I$8&\" \"&$B$3,DATABASE!$X$2:$CK$92,DATABASE!W69,FALSE)","v":"Produk Kreatif dan Kewirausahaan "},{"$f":"HLOOKUP(MENU!$I$8&\" \"&$B$3,DATABASE!$X$2:$CK$92,DATABASE!W72,FALSE)","v":"-"},{"$f":"HLOOKUP(MENU!$I$8&\" \"&$B$3,DATABASE!$X$2:$CK$92,DATABASE!W75,FALSE)","v":"-"},{"$f":"HLOOKUP(MENU!$I$8&\" \"&$B$3,DATABASE!$X$2:$CK$92,DATABASE!W78,FALSE)","v":"-"},{"$f":"HLOOKUP(MENU!$I$8&\" \"&$B$3,DATABASE!$X$2:$CK$92,DATABASE!W81,FALSE)","v":"-"},{"$f":"HLOOKUP(MENU!$I$8&\" \"&$B$3,DATABASE!$X$2:$CK$92,DATABASE!W84,FALSE)","v":"-"},{"$f":"HLOOKUP(MENU!$I$8&\" \"&$B$3,DATABASE!$X$2:$CK$92,DATABASE!W87,FALSE)","v":"-"},{"$f":"HLOOKUP(MENU!$I$8&\" \"&$B$3,DATABASE!$X$2:$CK$92,DATABASE!W90,FALSE)","v":"-"}]
["Semester  :",{"$f":"NILSM3!B3","v":"3 (tiga)"},"KELOMPOK MAPEL","A","A","A","A","A","A","B","B","B","B","C1","C1","C1","C2","C2","C2","C2","C3","C3","C3","C3","C3","C3","C3","C3","C3","C3","C3","C3","C3",null,"Semester  :",{"$f":"NILSM4!B3","v":"4 (empat)"},"KELOMPOK MAPEL","A","A","A","A","A","A","B","B","B","B","C1","C1","C1","C2","C2","C2","C2","C3","C3","C3","C3","C3","C3","-","-","-","-","-","-","-"]
["Wali Kelas :",{"$f":"NILSM3!B4","v":"Bimuka Jati Andromeda, S.Pd"},"URUTAN MAPEL",1,2,3,4,5,6,1,2,3,4,1,2,3,4,5,6,7,1,2,3,4,5,6,"-","-","-","-","-","-","-",null,"Wali Kelas :",{"$f":"NILSM4!B4","v":"Bimuka Jati Andromeda, S.Pd"},"URUTAN MAPEL",1,2,3,4,5,6,1,2,3,4,1,2,3,4,5,6,7,1,2,3,4,5,6,"-","-","-","-","-","-","-"]
[{"$f":"NILSM3!A5","v":"NIP"},{"$f":"NILSM3!B5","v":"19900202 201503 1 003"},"KKM",75,75,75,75,75,75,75,75,75,75,75,75,75,75,75,75,75,75,75,75,75,75,75,75,75,75,75,75,75,75,null,{"$f":"NILSM4!A5","v":"NIP"},{"$f":"NILSM4!B5","v":"19900202 201503 1 003"},"KKM",75,75,75,75,75,75,75,75,75,75,75,75,75,75,75,75,75,75,75,75,75,75,75,75,75,75,75,75,75,75]
["NO. URUT","NAMA SISWA","NIS","P","P","P","P","P","P","P","P","P","P","P","P","P","P","P","P","P","P","P","P","P","P","P","P","P","P","P","P","P","P",null,"NO. URUT","NAMA SISWA","NIS","P","P","P","P","P","P","P","P","P","P","P","P","P","P","P","P","P","P","P","P","P","P","P","P","P","P","P","P","P","P"]
[1,2,3,4,7,10,13,16,19,22,25,28,31,34,37,40,43,46,49,52,55,58,61,64,67,70,73,76,79,82,85,88,91,null,1,2,3,4,7,10,13,16,19,22,25,28,31,34,37,40,43,46,49,52,55,58,61,64,67,70,73,76,79,82,85,88,91]
[{"$f":"BIODATA!A5","v":1},{"$f":"NILSM3!B8","v":"AGHNIA SYAFIRA"},{"$f":"NILSM3!C8","v":13140767},{"$f":"NILSM3!D8","v":91.5},{"$f":"NILSM3!G8","v":92.25},{"$f":"NILSM3!J8","v":90},{"$f":"NILSM3!M8","v":87.5},{"$f":"NILSM3!P8","v":"-"},{"$f":"NILSM3!S8","v":90.25},{"$f":"NILSM3!V8","v":"-"},{"$f":"NILSM3!Y8","v":91.75},{"$f":"NILSM3!AB8","v":"-"},{"$f":"NILSM3!AE8","v":80.5},{"$f":"NILSM3!AH8","v":"-"},{"$f":"NILSM3!AK8","v":"-"},{"$f":"NILSM3!AN8","v":"-"},{"$f":"NILSM3!AQ8","v":"-"},{"$f":"NILSM3!AT8","v":"-"},{"$f":"NILSM3!AW8","v":"-"},{"$f":"NILSM3!AZ8","v":"-"},{"$f":"NILSM3!BC8","v":82.25},{"$f":"NILSM3!BF8","v":82.25},{"$f":"NILSM3!BI8","v":82.25},{"$f":"NILSM3!BL8","v":"-"},{"$f":"NILSM3!BO8","v":"-"},{"$f":"NILSM3!BR8","v":82},{"$f":"NILSM3!BU8","v":"-"},{"$f":"NILSM3!BX8","v":"-"},{"$f":"NILSM3!CA8","v":"-"},{"$f":"NILSM3!CD8","v":"-"},{"$f":"NILSM3!CG8","v":"-"},{"$f":"NILSM3!CJ8","v":"-"},{"$f":"NILSM3!CM8","v":"-"},null,{"$f":"A8","v":1},{"$f":"NILSM4!B8","v":"AGHNIA SYAFIRA"},{"$f":"NILSM4!C8","v":13140767},{"$f":"NILSM4!D8","v":91.5},{"$f":"NILSM4!G8","v":89},{"$f":"NILSM4!J8","v":91.25},{"$f":"NILSM4!M8","v":83.25},{"$f":"NILSM4!P8","v":"-"},{"$f":"NILSM4!S8","v":91.25},{"$f":"NILSM4!V8","v":"-"},{"$f":"NILSM4!Y8","v":93.25},{"$f":"NILSM4!AB8","v":"-"},{"$f":"NILSM4!AE8","v":82},{"$f":"NILSM4!AH8","v":"-"},{"$f":"NILSM4!AK8","v":"-"},{"$f":"NILSM4!AN8","v":"-"},{"$f":"NILSM4!AQ8","v":"-"},{"$f":"NILSM4!AT8","v":"-"},{"$f":"NILSM4!AW8","v":"-"},{"$f":"NILSM4!AZ8","v":"-"},{"$f":"NILSM4!BC8","v":82.25},{"$f":"NILSM4!BF8","v":84.25},{"$f":"NILSM4!BI8","v":85},{"$f":"NILSM4!BL8","v":"-"},{"$f":"NILSM4!BO8","v":"-"},{"$f":"NILSM4!BR8","v":83.25},{"$f":"NILSM4!BU8","v":"-"},{"$f":"NILSM4!BX8","v":"-"},{"$f":"NILSM4!CA8","v":"-"},{"$f":"NILSM4!CD8","v":"-"},{"$f":"NILSM4!CG8","v":"-"},{"$f":"NILSM4!CJ8","v":"-"},{"$f":"NILSM4!CM8","v":"-"}]
[{"$f":"BIODATA!A6","v":2},{"$f":"NILSM3!B9","v":"AL KINDI"},{"$f":"NILSM3!C9","v":13140768},{"$f":"NILSM3!D9","v":91.5},{"$f":"NILSM3!G9","v":92.5},{"$f":"NILSM3!J9","v":88.75},{"$f":"NILSM3!M9","v":87.5},{"$f":"NILSM3!P9","v":"-"},{"$f":"NILSM3!S9","v":80},{"$f":"NILSM3!V9","v":"-"},{"$f":"NILSM3!Y9","v":88.75},{"$f":"NILSM3!AB9","v":"-"},{"$f":"NILSM3!AE9","v":78.75},{"$f":"NILSM3!AH9","v":"-"},{"$f":"NILSM3!AK9","v":"-"},{"$f":"NILSM3!AN9","v":"-"},{"$f":"NILSM3!AQ9","v":"-"},{"$f":"NILSM3!AT9","v":"-"},{"$f":"NILSM3!AW9","v":"-"},{"$f":"NILSM3!AZ9","v":"-"},{"$f":"NILSM3!BC9","v":81},{"$f":"NILSM3!BF9","v":81},{"$f":"NILSM3!BI9","v":81},{"$f":"NILSM3!BL9","v":"-"},{"$f":"NILSM3!BO9","v":"-"},{"$f":"NILSM3!BR9","v":86.25},{"$f":"NILSM3!BU9","v":"-"},{"$f":"NILSM3!BX9","v":"-"},{"$f":"NILSM3!CA9","v":"-"},{"$f":"NILSM3!CD9","v":"-"},{"$f":"NILSM3!CG9","v":"-"},{"$f":"NILSM3!CJ9","v":"-"},{"$f":"NILSM3!CM9","v":"-"},null,{"$f":"A9","v":2},{"$f":"NILSM4!B9","v":"AL KINDI"},{"$f":"NILSM4!C9","v":13140768},{"$f":"NILSM4!D9","v":91.5},{"$f":"NILSM4!G9","v":90.25},{"$f":"NILSM4!J9","v":89.25},{"$f":"NILSM4!M9","v":83.25},{"$f":"NILSM4!P9","v":"-"},{"$f":"NILSM4!S9","v":83.25},{"$f":"NILSM4!V9","v":"-"},{"$f":"NILSM4!Y9","v":94.5},{"$f":"NILSM4!AB9","v":"-"},{"$f":"NILSM4!AE9","v":80.25},{"$f":"NILSM4!AH9","v":"-"},{"$f":"NILSM4!AK9","v":"-"},{"$f":"NILSM4!AN9","v":"-"},{"$f":"NILSM4!AQ9","v":"-"},{"$f":"NILSM4!AT9","v":"-"},{"$f":"NILSM4!AW9","v":"-"},{"$f":"NILSM4!AZ9","v":"-"},{"$f":"NILSM4!BC9","v":81},{"$f":"NILSM4!BF9","v":83},{"$f":"NILSM4!BI9","v":85},{"$f":"NILSM4!BL9","v":"-"},{"$f":"NILSM4!BO9","v":"-"},{"$f":"NILSM4!BR9","v":82},{"$f":"NILSM4!BU9","v":"-"},{"$f":"NILSM4!BX9","v":"-"},{"$f":"NILSM4!CA9","v":"-"},{"$f":"NILSM4!CD9","v":"-"},{"$f":"NILSM4!CG9","v":"-"},{"$f":"NILSM4!CJ9","v":"-"},{"$f":"NILSM4!CM9","v":"-"}]
[{"$f":"BIODATA!A7","v":3},{"$f":"NILSM3!B10","v":"ALFIAN MULYADI NATA"},{"$f":"NILSM3!C10","v":13140769},{"$f":"NILSM3!D10","v":83.25},{"$f":"NILSM3!G10","v":92.5},{"$f":"NILSM3!J10","v":94.25},{"$f":"NILSM3!M10","v":87.25},{"$f":"NILSM3!P10","v":"-"},{"$f":"NILSM3!S10","v":97.75},{"$f":"NILSM3!V10","v":"-"},{"$f":"NILSM3!Y10","v":92},{"$f":"NILSM3!AB10","v":"-"},{"$f":"NILSM3!AE10","v":92.5},{"$f":"NILSM3!AH10","v":"-"},{"$f":"NILSM3!AK10","v":"-"},{"$f":"NILSM3!AN10","v":"-"},{"$f":"NILSM3!AQ10","v":"-"},{"$f":"NILSM3!AT10","v":"-"},{"$f":"NILSM3!AW10","v":"-"},{"$f":"NILSM3!AZ10","v":"-"},{"$f":"NILSM3!BC10","v":82.5},{"$f":"NILSM3!BF10","v":82.5},{"$f":"NILSM3!BI10","v":82.5},{"$f":"NILSM3!BL10","v":"-"},{"$f":"NILSM3!BO10","v":"-"},{"$f":"NILSM3!BR10","v":84.75},{"$f":"NILSM3!BU10","v":"-"},{"$f":"NILSM3!BX10","v":"-"},{"$f":"NILSM3!CA10","v":"-"},{"$f":"NILSM3!CD10","v":"-"},{"$f":"NILSM3!CG10","v":"-"},{"$f":"NILSM3!CJ10","v":"-"},{"$f":"NILSM3!CM10","v":"-"},null,3,{"$f":"NILSM4!B10","v":"ALFIAN MULYADI NATA"},{"$f":"NILSM4!C10","v":13140769},{"$f":"NILSM4!D10","v":83.25},{"$f":"NILSM4!G10","v":91},{"$f":"NILSM4!J10","v":95},{"$f":"NILSM4!M10","v":83.25},{"$f":"NILSM4!P10","v":"-"},{"$f":"NILSM4!S10","v":97.75},{"$f":"NILSM4!V10","v":"-"},{"$f":"NILSM4!Y10","v":92.75},{"$f":"NILSM4!AB10","v":"-"},{"$f":"NILSM4!AE10","v":89.75},{"$f":"NILSM4!AH10","v":"-"},{"$f":"NILSM4!AK10","v":"-"},{"$f":"NILSM4!AN10","v":"-"},{"$f":"NILSM4!AQ10","v":"-"},{"$f":"NILSM4!AT10","v":"-"},{"$f":"NILSM4!AW10","v":"-"},{"$f":"NILSM4!AZ10","v":"-"},{"$f":"NILSM4!BC10","v":99.25},{"$f":"NILSM4!BF10","v":91.5},{"$f":"NILSM4!BI10","v":84.75},{"$f":"NILSM4!BL10","v":"-"},{"$f":"NILSM4!BO10","v":"-"},{"$f":"NILSM4!BR10","v":82.5},{"$f":"NILSM4!BU10","v":"-"},{"$f":"NILSM4!BX10","v":"-"},{"$f":"NILSM4!CA10","v":"-"},{"$f":"NILSM4!CD10","v":"-"},{"$f":"NILSM4!CG10","v":"-"},{"$f":"NILSM4!CJ10","v":"-"},{"$f":"NILSM4!CM10","v":"-"}]
[{"$f":"BIODATA!A8","v":4},{"$f":"NILSM3!B11","v":"ALFIANA WAHYU ATMADJA"},{"$f":"NILSM3!C11","v":13140770},{"$f":"NILSM3!D11","v":91.5},{"$f":"NILSM3!G11","v":92.25},{"$f":"NILSM3!J11","v":88.5},{"$f":"NILSM3!M11","v":87.25},{"$f":"NILSM3!P11","v":"-"},{"$f":"NILSM3!S11","v":80.75},{"$f":"NILSM3!V11","v":"-"},{"$f":"NILSM3!Y11","v":91.5},{"$f":"NILSM3!AB11","v":"-"},{"$f":"NILSM3!AE11","v":78.25},{"$f":"NILSM3!AH11","v":"-"},{"$f":"NILSM3!AK11","v":"-"},{"$f":"NILSM3!AN11","v":"-"},{"$f":"NILSM3!AQ11","v":"-"},{"$f":"NILSM3!AT11","v":"-"},{"$f":"NILSM3!AW11","v":"-"},{"$f":"NILSM3!AZ11","v":"-"},{"$f":"NILSM3!BC11","v":80.5},{"$f":"NILSM3!BF11","v":80.5},{"$f":"NILSM3!BI11","v":80.5},{"$f":"NILSM3!BL11","v":"-"},{"$f":"NILSM3!BO11","v":"-"},{"$f":"NILSM3!BR11","v":81.5},{"$f":"NILSM3!BU11","v":"-"},{"$f":"NILSM3!BX11","v":"-"},{"$f":"NILSM3!CA11","v":"-"},{"$f":"NILSM3!CD11","v":"-"},{"$f":"NILSM3!CG11","v":"-"},{"$f":"NILSM3!CJ11","v":"-"},{"$f":"NILSM3!CM11","v":"-"},null,4,{"$f":"NILSM4!B11","v":"ALFIANA WAHYU ATMADJA"},{"$f":"NILSM4!C11","v":13140770},{"$f":"NILSM4!D11","v":91.5},{"$f":"NILSM4!G11","v":88.75},{"$f":"NILSM4!J11","v":89.5},{"$f":"NILSM4!M11","v":83.25},{"$f":"NILSM4!P11","v":"-"},{"$f":"NILSM4!S11","v":89.5},{"$f":"NILSM4!V11","v":"-"},{"$f":"NILSM4!Y11","v":93.5},{"$f":"NILSM4!AB11","v":"-"},{"$f":"NILSM4!AE11","v":79.75},{"$f":"NILSM4!AH11","v":"-"},{"$f":"NILSM4!AK11","v":"-"},{"$f":"NILSM4!AN11","v":"-"},{"$f":"NILSM4!AQ11","v":"-"},{"$f":"NILSM4!AT11","v":"-"},{"$f":"NILSM4!AW11","v":"-"},{"$f":"NILSM4!AZ11","v":"-"},{"$f":"NILSM4!BC11","v":80.5},{"$f":"NILSM4!BF11","v":83.5},{"$f":"NILSM4!BI11","v":84},{"$f":"NILSM4!BL11","v":"-"},{"$f":"NILSM4!BO11","v":"-"},{"$f":"NILSM4!BR11","v":82.25},{"$f":"NILSM4!BU11","v":"-"},{"$f":"NILSM4!BX11","v":"-"},{"$f":"NILSM4!CA11","v":"-"},{"$f":"NILSM4!CD11","v":"-"},{"$f":"NILSM4!CG11","v":"-"},{"$f":"NILSM4!CJ11","v":"-"},{"$f":"NILSM4!CM11","v":"-"}]
[{"$f":"BIODATA!A9","v":5},{"$f":"NILSM3!B12","v":"ASEP DODO ROHENDI"},{"$f":"NILSM3!C12","v":13140771},{"$f":"NILSM3!D12","v":91.5},{"$f":"NILSM3!G12","v":92.25},{"$f":"NILSM3!J12","v":88.5},{"$f":"NILSM3!M12","v":87.5},{"$f":"NILSM3!P12","v":"-"},{"$f":"NILSM3!S12","v":90.75},{"$f":"NILSM3!V12","v":"-"},{"$f":"NILSM3!Y12","v":91.5},{"$f":"NILSM3!AB12","v":"-"},{"$f":"NILSM3!AE12","v":78.75},{"$f":"NILSM3!AH12","v":"-"},{"$f":"NILSM3!AK12","v":"-"},{"$f":"NILSM3!AN12","v":"-"},{"$f":"NILSM3!AQ12","v":"-"},{"$f":"NILSM3!AT12","v":"-"},{"$f":"NILSM3!AW12","v":"-"},{"$f":"NILSM3!AZ12","v":"-"},{"$f":"NILSM3!BC12","v":80.5},{"$f":"NILSM3!BF12","v":80.5},{"$f":"NILSM3!BI12","v":80.5},{"$f":"NILSM3!BL12","v":"-"},{"$f":"NILSM3!BO12","v":"-"},{"$f":"NILSM3!BR12","v":87.5},{"$f":"NILSM3!BU12","v":"-"},{"$f":"NILSM3!BX12","v":"-"},{"$f":"NILSM3!CA12","v":"-"},{"$f":"NILSM3!CD12","v":"-"},{"$f":"NILSM3!CG12","v":"-"},{"$f":"NILSM3!CJ12","v":"-"},{"$f":"NILSM3!CM12","v":"-"},null,5,{"$f":"NILSM4!B12","v":"ASEP DODO ROHENDI"},{"$f":"NILSM4!C12","v":13140771},{"$f":"NILSM4!D12","v":91.5},{"$f":"NILSM4!G12","v":88.75},{"$f":"NILSM4!J12","v":89},{"$f":"NILSM4!M12","v":83.25},{"$f":"NILSM4!P12","v":"-"},{"$f":"NILSM4!S12","v":95.25},{"$f":"NILSM4!V12","v":"-"},{"$f":"NILSM4!Y12","v":89.25},{"$f":"NILSM4!AB12","v":"-"},{"$f":"NILSM4!AE12","v":79.75},{"$f":"NILSM4!AH12","v":"-"},{"$f":"NILSM4!AK12","v":"-"},{"$f":"NILSM4!AN12","v":"-"},{"$f":"NILSM4!AQ12","v":"-"},{"$f":"NILSM4!AT12","v":"-"},{"$f":"NILSM4!AW12","v":"-"},{"$f":"NILSM4!AZ12","v":"-"},{"$f":"NILSM4!BC12","v":80.5},{"$f":"NILSM4!BF12","v":88.25},{"$f":"NILSM4!BI12","v":84.75},{"$f":"NILSM4!BL12","v":"-"},{"$f":"NILSM4!BO12","v":"-"},{"$f":"NILSM4!BR12","v":82},{"$f":"NILSM4!BU12","v":"-"},{"$f":"NILSM4!BX12","v":"-"},{"$f":"NILSM4!CA12","v":"-"},{"$f":"NILSM4!CD12","v":"-"},{"$f":"NILSM4!CG12","v":"-"},{"$f":"NILSM4!CJ12","v":"-"},{"$f":"NILSM4!CM12","v":"-"}]
[{"$f":"BIODATA!A10","v":6},{"$f":"NILSM3!B13","v":"BILLY RIZKI JHONATHAN"},{"$f":"NILSM3!C13","v":13140772},{"$f":"NILSM3!D13","v":91.5},{"$f":"NILSM3!G13","v":92.25},{"$f":"NILSM3!J13","v":86.75},{"$f":"NILSM3!M13","v":87.25},{"$f":"NILSM3!P13","v":"-"},{"$f":"NILSM3!S13","v":76},{"$f":"NILSM3!V13","v":"-"},{"$f":"NILSM3!Y13","v":93.5},{"$f":"NILSM3!AB13","v":"-"},{"$f":"NILSM3!AE13","v":88.25},{"$f":"NILSM3!AH13","v":"-"},{"$f":"NILSM3!AK13","v":"-"},{"$f":"NILSM3!AN13","v":"-"},{"$f":"NILSM3!AQ13","v":"-"},{"$f":"NILSM3!AT13","v":"-"},{"$f":"NILSM3!AW13","v":"-"},{"$f":"NILSM3!AZ13","v":"-"},{"$f":"NILSM3!BC13","v":82},{"$f":"NILSM3!BF13","v":82},{"$f":"NILSM3!BI13","v":82},{"$f":"NILSM3!BL13","v":"-"},{"$f":"NILSM3!BO13","v":"-"},{"$f":"NILSM3!BR13","v":82.5},{"$f":"NILSM3!BU13","v":"-"},{"$f":"NILSM3!BX13","v":"-"},{"$f":"NILSM3!CA13","v":"-"},{"$f":"NILSM3!CD13","v":"-"},{"$f":"NILSM3!CG13","v":"-"},{"$f":"NILSM3!CJ13","v":"-"},{"$f":"NILSM3!CM13","v":"-"},null,6,{"$f":"NILSM4!B13","v":"BILLY RIZKI JHONATHAN"},{"$f":"NILSM4!C13","v":13140772},{"$f":"NILSM4!D13","v":91.5},{"$f":"NILSM4!G13","v":89.5},{"$f":"NILSM4!J13","v":88.5},{"$f":"NILSM4!M13","v":78.25},{"$f":"NILSM4!P13","v":"-"},{"$f":"NILSM4!S13","v":92.5},{"$f":"NILSM4!V13","v":"-"},{"$f":"NILSM4!Y13","v":88.25},{"$f":"NILSM4!AB13","v":"-"},{"$f":"NILSM4!AE13","v":89.75},{"$f":"NILSM4!AH13","v":"-"},{"$f":"NILSM4!AK13","v":"-"},{"$f":"NILSM4!AN13","v":"-"},{"$f":"NILSM4!AQ13","v":"-"},{"$f":"NILSM4!AT13","v":"-"},{"$f":"NILSM4!AW13","v":"-"},{"$f":"NILSM4!AZ13","v":"-"},{"$f":"NILSM4!BC13","v":82},{"$f":"NILSM4!BF13","v":95},{"$f":"NILSM4!BI13","v":88.75},{"$f":"NILSM4!BL13","v":"-"},{"$f":"NILSM4!BO13","v":"-"},{"$f":"NILSM4!BR13","v":82.5},{"$f":"NILSM4!BU13","v":"-"},{"$f":"NILSM4!BX13","v":"-"},{"$f":"NILSM4!CA13","v":"-"},{"$f":"NILSM4!CD13","v":"-"},{"$f":"NILSM4!CG13","v":"-"},{"$f":"NILSM4!CJ13","v":"-"},{"$f":"NILSM4!CM13","v":"-"}]
[{"$f":"BIODATA!A11","v":7},{"$f":"NILSM3!B14","v":"CAHYASARI RAMADHANTY"},{"$f":"NILSM3!C14","v":13140773},{"$f":"NILSM3!D14","v":91.5},{"$f":"NILSM3!G14","v":92},{"$f":"NILSM3!J14","v":88},{"$f":"NILSM3!M14","v":87.5},{"$f":"NILSM3!P14","v":"-"},{"$f":"NILSM3!S14","v":88.25},{"$f":"NILSM3!V14","v":"-"},{"$f":"NILSM3!Y14","v":93.75},{"$f":"NILSM3!AB14","v":"-"},{"$f":"NILSM3!AE14","v":83.25},{"$f":"NILSM3!AH14","v":"-"},{"$f":"NILSM3!AK14","v":"-"},{"$f":"NILSM3!AN14","v":"-"},{"$f":"NILSM3!AQ14","v":"-"},{"$f":"NILSM3!AT14","v":"-"},{"$f":"NILSM3!AW14","v":"-"},{"$f":"NILSM3!AZ14","v":"-"},{"$f":"NILSM3!BC14","v":82},{"$f":"NILSM3!BF14","v":82},{"$f":"NILSM3!BI14","v":82},{"$f":"NILSM3!BL14","v":"-"},{"$f":"NILSM3!BO14","v":"-"},{"$f":"NILSM3!BR14","v":82},{"$f":"NILSM3!BU14","v":"-"},{"$f":"NILSM3!BX14","v":"-"},{"$f":"NILSM3!CA14","v":"-"},{"$f":"NILSM3!CD14","v":"-"},{"$f":"NILSM3!CG14","v":"-"},{"$f":"NILSM3!CJ14","v":"-"},{"$f":"NILSM3!CM14","v":"-"},null,7,{"$f":"NILSM4!B14","v":"CAHYASARI RAMADHANTY"},{"$f":"NILSM4!C14","v":13140773},{"$f":"NILSM4!D14","v":91.5},{"$f":"NILSM4!G14","v":88.5},{"$f":"NILSM4!J14","v":89.75},{"$f":"NILSM4!M14","v":78.25},{"$f":"NILSM4!P14","v":"-"},{"$f":"NILSM4!S14","v":89.75},{"$f":"NILSM4!V14","v":"-"},{"$f":"NILSM4!Y14","v":91},{"$f":"NILSM4!AB14","v":"-"},{"$f":"NILSM4!AE14","v":84},{"$f":"NILSM4!AH14","v":"-"},{"$f":"NILSM4!AK14","v":"-"},{"$f":"NILSM4!AN14","v":"-"},{"$f":"NILSM4!AQ14","v":"-"},{"$f":"NILSM4!AT14","v":"-"},{"$f":"NILSM4!AW14","v":"-"},{"$f":"NILSM4!AZ14","v":"-"},{"$f":"NILSM4!BC14","v":82},{"$f":"NILSM4!BF14","v":86.75},{"$f":"NILSM4!BI14","v":85.25},{"$f":"NILSM4!BL14","v":"-"},{"$f":"NILSM4!BO14","v":"-"},{"$f":"NILSM4!BR14","v":82.5},{"$f":"NILSM4!BU14","v":"-"},{"$f":"NILSM4!BX14","v":"-"},{"$f":"NILSM4!CA14","v":"-"},{"$f":"NILSM4!CD14","v":"-"},{"$f":"NILSM4!CG14","v":"-"},{"$f":"NILSM4!CJ14","v":"-"},{"$f":"NILSM4!CM14","v":"-"}]
[{"$f":"BIODATA!A12","v":8},{"$f":"NILSM3!B15","v":0},{"$f":"NILSM3!C15","v":0},{"$f":"NILSM3!D15","v":0},{"$f":"NILSM3!G15","v":0},{"$f":"NILSM3!J15","v":0},{"$f":"NILSM3!M15","v":0},{"$f":"NILSM3!P15","v":0},{"$f":"NILSM3!S15","v":0},{"$f":"NILSM3!V15","v":0},{"$f":"NILSM3!Y15","v":0},{"$f":"NILSM3!AB15","v":0},{"$f":"NILSM3!AE15","v":0},{"$f":"NILSM3!AH15","v":0},{"$f":"NILSM3!AK15","v":0},{"$f":"NILSM3!AN15","v":0},{"$f":"NILSM3!AQ15","v":0},{"$f":"NILSM3!AT15","v":0},{"$f":"NILSM3!AW15","v":0},{"$f":"NILSM3!AZ15","v":0},{"$f":"NILSM3!BC15","v":0},{"$f":"NILSM3!BF15","v":0},{"$f":"NILSM3!BI15","v":0},{"$f":"NILSM3!BL15","v":0},{"$f":"NILSM3!BO15","v":0},{"$f":"NILSM3!BR15","v":0},{"$f":"NILSM3!BU15","v":0},{"$f":"NILSM3!BX15","v":0},{"$f":"NILSM3!CA15","v":0},{"$f":"NILSM3!CD15","v":0},{"$f":"NILSM3!CG15","v":0},{"$f":"NILSM3!CJ15","v":0},{"$f":"NILSM3!CM15","v":0},null,8,{"$f":"NILSM4!B15","v":0},{"$f":"NILSM4!C15","v":0},{"$f":"NILSM4!D15","v":0},{"$f":"NILSM4!G15","v":0},{"$f":"NILSM4!J15","v":0},{"$f":"NILSM4!M15","v":0},{"$f":"NILSM4!P15","v":0},{"$f":"NILSM4!S15","v":0},{"$f":"NILSM4!V15","v":0},{"$f":"NILSM4!Y15","v":0},{"$f":"NILSM4!AB15","v":0},{"$f":"NILSM4!AE15","v":0},{"$f":"NILSM4!AH15","v":0},{"$f":"NILSM4!AK15","v":0},{"$f":"NILSM4!AN15","v":0},{"$f":"NILSM4!AQ15","v":0},{"$f":"NILSM4!AT15","v":0},{"$f":"NILSM4!AW15","v":0},{"$f":"NILSM4!AZ15","v":0},{"$f":"NILSM4!BC15","v":0},{"$f":"NILSM4!BF15","v":0},{"$f":"NILSM4!BI15","v":0},{"$f":"NILSM4!BL15","v":0},{"$f":"NILSM4!BO15","v":0},{"$f":"NILSM4!BR15","v":0},{"$f":"NILSM4!BU15","v":0},{"$f":"NILSM4!BX15","v":0},{"$f":"NILSM4!CA15","v":0},{"$f":"NILSM4!CD15","v":0},{"$f":"NILSM4!CG15","v":0},{"$f":"NILSM4!CJ15","v":0},{"$f":"NILSM4!CM15","v":0}]
[{"$f":"BIODATA!A13","v":9},{"$f":"NILSM3!B16","v":0},{"$f":"NILSM3!C16","v":0},{"$f":"NILSM3!D16","v":0},{"$f":"NILSM3!G16","v":0},{"$f":"NILSM3!J16","v":0},{"$f":"NILSM3!M16","v":0},{"$f":"NILSM3!P16","v":0},{"$f":"NILSM3!S16","v":0},{"$f":"NILSM3!V16","v":0},{"$f":"NILSM3!Y16","v":0},{"$f":"NILSM3!AB16","v":0},{"$f":"NILSM3!AE16","v":0},{"$f":"NILSM3!AH16","v":0},{"$f":"NILSM3!AK16","v":0},{"$f":"NILSM3!AN16","v":0},{"$f":"NILSM3!AQ16","v":0},{"$f":"NILSM3!AT16","v":0},{"$f":"NILSM3!AW16","v":0},{"$f":"NILSM3!AZ16","v":0},{"$f":"NILSM3!BC16","v":0},{"$f":"NILSM3!BF16","v":0},{"$f":"NILSM3!BI16","v":0},{"$f":"NILSM3!BL16","v":0},{"$f":"NILSM3!BO16","v":0},{"$f":"NILSM3!BR16","v":0},{"$f":"NILSM3!BU16","v":0},{"$f":"NILSM3!BX16","v":0},{"$f":"NILSM3!CA16","v":0},{"$f":"NILSM3!CD16","v":0},{"$f":"NILSM3!CG16","v":0},{"$f":"NILSM3!CJ16","v":0},{"$f":"NILSM3!CM16","v":0},null,9,{"$f":"NILSM4!B16","v":0},{"$f":"NILSM4!C16","v":0},{"$f":"NILSM4!D16","v":0},{"$f":"NILSM4!G16","v":0},{"$f":"NILSM4!J16","v":0},{"$f":"NILSM4!M16","v":0},{"$f":"NILSM4!P16","v":0},{"$f":"NILSM4!S16","v":0},{"$f":"NILSM4!V16","v":0},{"$f":"NILSM4!Y16","v":0},{"$f":"NILSM4!AB16","v":0},{"$f":"NILSM4!AE16","v":0},{"$f":"NILSM4!AH16","v":0},{"$f":"NILSM4!AK16","v":0},{"$f":"NILSM4!AN16","v":0},{"$f":"NILSM4!AQ16","v":0},{"$f":"NILSM4!AT16","v":0},{"$f":"NILSM4!AW16","v":0},{"$f":"NILSM4!AZ16","v":0},{"$f":"NILSM4!BC16","v":0},{"$f":"NILSM4!BF16","v":0},{"$f":"NILSM4!BI16","v":0},{"$f":"NILSM4!BL16","v":0},{"$f":"NILSM4!BO16","v":0},{"$f":"NILSM4!BR16","v":0},{"$f":"NILSM4!BU16","v":0},{"$f":"NILSM4!BX16","v":0},{"$f":"NILSM4!CA16","v":0},{"$f":"NILSM4!CD16","v":0},{"$f":"NILSM4!CG16","v":0},{"$f":"NILSM4!CJ16","v":0},{"$f":"NILSM4!CM16","v":0}]
[{"$f":"BIODATA!A14","v":10},{"$f":"NILSM3!B17","v":0},{"$f":"NILSM3!C17","v":0},{"$f":"NILSM3!D17","v":0},{"$f":"NILSM3!G17","v":0},{"$f":"NILSM3!J17","v":0},{"$f":"NILSM3!M17","v":0},{"$f":"NILSM3!P17","v":0},{"$f":"NILSM3!S17","v":0},{"$f":"NILSM3!V17","v":0},{"$f":"NILSM3!Y17","v":0},{"$f":"NILSM3!AB17","v":0},{"$f":"NILSM3!AE17","v":0},{"$f":"NILSM3!AH17","v":0},{"$f":"NILSM3!AK17","v":0},{"$f":"NILSM3!AN17","v":0},{"$f":"NILSM3!AQ17","v":0},{"$f":"NILSM3!AT17","v":0},{"$f":"NILSM3!AW17","v":0},{"$f":"NILSM3!AZ17","v":0},{"$f":"NILSM3!BC17","v":0},{"$f":"NILSM3!BF17","v":0},{"$f":"NILSM3!BI17","v":0},{"$f":"NILSM3!BL17","v":0},{"$f":"NILSM3!BO17","v":0},{"$f":"NILSM3!BR17","v":0},{"$f":"NILSM3!BU17","v":0},{"$f":"NILSM3!BX17","v":0},{"$f":"NILSM3!CA17","v":0},{"$f":"NILSM3!CD17","v":0},{"$f":"NILSM3!CG17","v":0},{"$f":"NILSM3!CJ17","v":0},{"$f":"NILSM3!CM17","v":0},null,10,{"$f":"NILSM4!B17","v":0},{"$f":"NILSM4!C17","v":0},{"$f":"NILSM4!D17","v":0},{"$f":"NILSM4!G17","v":0},{"$f":"NILSM4!J17","v":0},{"$f":"NILSM4!M17","v":0},{"$f":"NILSM4!P17","v":0},{"$f":"NILSM4!S17","v":0},{"$f":"NILSM4!V17","v":0},{"$f":"NILSM4!Y17","v":0},{"$f":"NILSM4!AB17","v":0},{"$f":"NILSM4!AE17","v":0},{"$f":"NILSM4!AH17","v":0},{"$f":"NILSM4!AK17","v":0},{"$f":"NILSM4!AN17","v":0},{"$f":"NILSM4!AQ17","v":0},{"$f":"NILSM4!AT17","v":0},{"$f":"NILSM4!AW17","v":0},{"$f":"NILSM4!AZ17","v":0},{"$f":"NILSM4!BC17","v":0},{"$f":"NILSM4!BF17","v":0},{"$f":"NILSM4!BI17","v":0},{"$f":"NILSM4!BL17","v":0},{"$f":"NILSM4!BO17","v":0},{"$f":"NILSM4!BR17","v":0},{"$f":"NILSM4!BU17","v":0},{"$f":"NILSM4!BX17","v":0},{"$f":"NILSM4!CA17","v":0},{"$f":"NILSM4!CD17","v":0},{"$f":"NILSM4!CG17","v":0},{"$f":"NILSM4!CJ17","v":0},{"$f":"NILSM4!CM17","v":0}]
[{"$f":"BIODATA!A15","v":11},{"$f":"NILSM3!B18","v":0},{"$f":"NILSM3!C18","v":0},{"$f":"NILSM3!D18","v":0},{"$f":"NILSM3!G18","v":0},{"$f":"NILSM3!J18","v":0},{"$f":"NILSM3!M18","v":0},{"$f":"NILSM3!P18","v":0},{"$f":"NILSM3!S18","v":0},{"$f":"NILSM3!V18","v":0},{"$f":"NILSM3!Y18","v":0},{"$f":"NILSM3!AB18","v":0},{"$f":"NILSM3!AE18","v":0},{"$f":"NILSM3!AH18","v":0},{"$f":"NILSM3!AK18","v":0},{"$f":"NILSM3!AN18","v":0},{"$f":"NILSM3!AQ18","v":0},{"$f":"NILSM3!AT18","v":0},{"$f":"NILSM3!AW18","v":0},{"$f":"NILSM3!AZ18","v":0},{"$f":"NILSM3!BC18","v":0},{"$f":"NILSM3!BF18","v":0},{"$f":"NILSM3!BI18","v":0},{"$f":"NILSM3!BL18","v":0},{"$f":"NILSM3!BO18","v":0},{"$f":"NILSM3!BR18","v":0},{"$f":"NILSM3!BU18","v":0},{"$f":"NILSM3!BX18","v":0},{"$f":"NILSM3!CA18","v":0},{"$f":"NILSM3!CD18","v":0},{"$f":"NILSM3!CG18","v":0},{"$f":"NILSM3!CJ18","v":0},{"$f":"NILSM3!CM18","v":0},null,11,{"$f":"NILSM4!B18","v":0},{"$f":"NILSM4!C18","v":0},{"$f":"NILSM4!D18","v":0},{"$f":"NILSM4!G18","v":0},{"$f":"NILSM4!J18","v":0},{"$f":"NILSM4!M18","v":0},{"$f":"NILSM4!P18","v":0},{"$f":"NILSM4!S18","v":0},{"$f":"NILSM4!V18","v":0},{"$f":"NILSM4!Y18","v":0},{"$f":"NILSM4!AB18","v":0},{"$f":"NILSM4!AE18","v":0},{"$f":"NILSM4!AH18","v":0},{"$f":"NILSM4!AK18","v":0},{"$f":"NILSM4!AN18","v":0},{"$f":"NILSM4!AQ18","v":0},{"$f":"NILSM4!AT18","v":0},{"$f":"NILSM4!AW18","v":0},{"$f":"NILSM4!AZ18","v":0},{"$f":"NILSM4!BC18","v":0},{"$f":"NILSM4!BF18","v":0},{"$f":"NILSM4!BI18","v":0},{"$f":"NILSM4!BL18","v":0},{"$f":"NILSM4!BO18","v":0},{"$f":"NILSM4!BR18","v":0},{"$f":"NILSM4!BU18","v":0},{"$f":"NILSM4!BX18","v":0},{"$f":"NILSM4!CA18","v":0},{"$f":"NILSM4!CD18","v":0},{"$f":"NILSM4!CG18","v":0},{"$f":"NILSM4!CJ18","v":0},{"$f":"NILSM4!CM18","v":0}]
[{"$f":"BIODATA!A16","v":12},{"$f":"NILSM3!B19","v":0},{"$f":"NILSM3!C19","v":0},{"$f":"NILSM3!D19","v":0},{"$f":"NILSM3!G19","v":0},{"$f":"NILSM3!J19","v":0},{"$f":"NILSM3!M19","v":0},{"$f":"NILSM3!P19","v":0},{"$f":"NILSM3!S19","v":0},{"$f":"NILSM3!V19","v":0},{"$f":"NILSM3!Y19","v":0},{"$f":"NILSM3!AB19","v":0},{"$f":"NILSM3!AE19","v":0},{"$f":"NILSM3!AH19","v":0},{"$f":"NILSM3!AK19","v":0},{"$f":"NILSM3!AN19","v":0},{"$f":"NILSM3!AQ19","v":0},{"$f":"NILSM3!AT19","v":0},{"$f":"NILSM3!AW19","v":0},{"$f":"NILSM3!AZ19","v":0},{"$f":"NILSM3!BC19","v":0},{"$f":"NILSM3!BF19","v":0},{"$f":"NILSM3!BI19","v":0},{"$f":"NILSM3!BL19","v":0},{"$f":"NILSM3!BO19","v":0},{"$f":"NILSM3!BR19","v":0},{"$f":"NILSM3!BU19","v":0},{"$f":"NILSM3!BX19","v":0},{"$f":"NILSM3!CA19","v":0},{"$f":"NILSM3!CD19","v":0},{"$f":"NILSM3!CG19","v":0},{"$f":"NILSM3!CJ19","v":0},{"$f":"NILSM3!CM19","v":0},null,12,{"$f":"NILSM4!B19","v":0},{"$f":"NILSM4!C19","v":0},{"$f":"NILSM4!D19","v":0},{"$f":"NILSM4!G19","v":0},{"$f":"NILSM4!J19","v":0},{"$f":"NILSM4!M19","v":0},{"$f":"NILSM4!P19","v":0},{"$f":"NILSM4!S19","v":0},{"$f":"NILSM4!V19","v":0},{"$f":"NILSM4!Y19","v":0},{"$f":"NILSM4!AB19","v":0},{"$f":"NILSM4!AE19","v":0},{"$f":"NILSM4!AH19","v":0},{"$f":"NILSM4!AK19","v":0},{"$f":"NILSM4!AN19","v":0},{"$f":"NILSM4!AQ19","v":0},{"$f":"NILSM4!AT19","v":0},{"$f":"NILSM4!AW19","v":0},{"$f":"NILSM4!AZ19","v":0},{"$f":"NILSM4!BC19","v":0},{"$f":"NILSM4!BF19","v":0},{"$f":"NILSM4!BI19","v":0},{"$f":"NILSM4!BL19","v":0},{"$f":"NILSM4!BO19","v":0},{"$f":"NILSM4!BR19","v":0},{"$f":"NILSM4!BU19","v":0},{"$f":"NILSM4!BX19","v":0},{"$f":"NILSM4!CA19","v":0},{"$f":"NILSM4!CD19","v":0},{"$f":"NILSM4!CG19","v":0},{"$f":"NILSM4!CJ19","v":0},{"$f":"NILSM4!CM19","v":0}]
[{"$f":"BIODATA!A17","v":13},{"$f":"NILSM3!B20","v":0},{"$f":"NILSM3!C20","v":0},{"$f":"NILSM3!D20","v":0},{"$f":"NILSM3!G20","v":0},{"$f":"NILSM3!J20","v":0},{"$f":"NILSM3!M20","v":0},{"$f":"NILSM3!P20","v":0},{"$f":"NILSM3!S20","v":0},{"$f":"NILSM3!V20","v":0},{"$f":"NILSM3!Y20","v":0},{"$f":"NILSM3!AB20","v":0},{"$f":"NILSM3!AE20","v":0},{"$f":"NILSM3!AH20","v":0},{"$f":"NILSM3!AK20","v":0},{"$f":"NILSM3!AN20","v":0},{"$f":"NILSM3!AQ20","v":0},{"$f":"NILSM3!AT20","v":0},{"$f":"NILSM3!AW20","v":0},{"$f":"NILSM3!AZ20","v":0},{"$f":"NILSM3!BC20","v":0},{"$f":"NILSM3!BF20","v":0},{"$f":"NILSM3!BI20","v":0},{"$f":"NILSM3!BL20","v":0},{"$f":"NILSM3!BO20","v":0},{"$f":"NILSM3!BR20","v":0},{"$f":"NILSM3!BU20","v":0},{"$f":"NILSM3!BX20","v":0},{"$f":"NILSM3!CA20","v":0},{"$f":"NILSM3!CD20","v":0},{"$f":"NILSM3!CG20","v":0},{"$f":"NILSM3!CJ20","v":0},{"$f":"NILSM3!CM20","v":0},null,13,{"$f":"NILSM4!B20","v":0},{"$f":"NILSM4!C20","v":0},{"$f":"NILSM4!D20","v":0},{"$f":"NILSM4!G20","v":0},{"$f":"NILSM4!J20","v":0},{"$f":"NILSM4!M20","v":0},{"$f":"NILSM4!P20","v":0},{"$f":"NILSM4!S20","v":0},{"$f":"NILSM4!V20","v":0},{"$f":"NILSM4!Y20","v":0},{"$f":"NILSM4!AB20","v":0},{"$f":"NILSM4!AE20","v":0},{"$f":"NILSM4!AH20","v":0},{"$f":"NILSM4!AK20","v":0},{"$f":"NILSM4!AN20","v":0},{"$f":"NILSM4!AQ20","v":0},{"$f":"NILSM4!AT20","v":0},{"$f":"NILSM4!AW20","v":0},{"$f":"NILSM4!AZ20","v":0},{"$f":"NILSM4!BC20","v":0},{"$f":"NILSM4!BF20","v":0},{"$f":"NILSM4!BI20","v":0},{"$f":"NILSM4!BL20","v":0},{"$f":"NILSM4!BO20","v":0},{"$f":"NILSM4!BR20","v":0},{"$f":"NILSM4!BU20","v":0},{"$f":"NILSM4!BX20","v":0},{"$f":"NILSM4!CA20","v":0},{"$f":"NILSM4!CD20","v":0},{"$f":"NILSM4!CG20","v":0},{"$f":"NILSM4!CJ20","v":0},{"$f":"NILSM4!CM20","v":0}]
[{"$f":"BIODATA!A18","v":14},{"$f":"NILSM3!B21","v":0},{"$f":"NILSM3!C21","v":0},{"$f":"NILSM3!D21","v":0},{"$f":"NILSM3!G21","v":0},{"$f":"NILSM3!J21","v":0},{"$f":"NILSM3!M21","v":0},{"$f":"NILSM3!P21","v":0},{"$f":"NILSM3!S21","v":0},{"$f":"NILSM3!V21","v":0},{"$f":"NILSM3!Y21","v":0},{"$f":"NILSM3!AB21","v":0},{"$f":"NILSM3!AE21","v":0},{"$f":"NILSM3!AH21","v":0},{"$f":"NILSM3!AK21","v":0},{"$f":"NILSM3!AN21","v":0},{"$f":"NILSM3!AQ21","v":0},{"$f":"NILSM3!AT21","v":0},{"$f":"NILSM3!AW21","v":0},{"$f":"NILSM3!AZ21","v":0},{"$f":"NILSM3!BC21","v":0},{"$f":"NILSM3!BF21","v":0},{"$f":"NILSM3!BI21","v":0},{"$f":"NILSM3!BL21","v":0},{"$f":"NILSM3!BO21","v":0},{"$f":"NILSM3!BR21","v":0},{"$f":"NILSM3!BU21","v":0},{"$f":"NILSM3!BX21","v":0},{"$f":"NILSM3!CA21","v":0},{"$f":"NILSM3!CD21","v":0},{"$f":"NILSM3!CG21","v":0},{"$f":"NILSM3!CJ21","v":0},{"$f":"NILSM3!CM21","v":0},null,14,{"$f":"NILSM4!B21","v":0},{"$f":"NILSM4!C21","v":0},{"$f":"NILSM4!D21","v":0},{"$f":"NILSM4!G21","v":0},{"$f":"NILSM4!J21","v":0},{"$f":"NILSM4!M21","v":0},{"$f":"NILSM4!P21","v":0},{"$f":"NILSM4!S21","v":0},{"$f":"NILSM4!V21","v":0},{"$f":"NILSM4!Y21","v":0},{"$f":"NILSM4!AB21","v":0},{"$f":"NILSM4!AE21","v":0},{"$f":"NILSM4!AH21","v":0},{"$f":"NILSM4!AK21","v":0},{"$f":"NILSM4!AN21","v":0},{"$f":"NILSM4!AQ21","v":0},{"$f":"NILSM4!AT21","v":0},{"$f":"NILSM4!AW21","v":0},{"$f":"NILSM4!AZ21","v":0},{"$f":"NILSM4!BC21","v":0},{"$f":"NILSM4!BF21","v":0},{"$f":"NILSM4!BI21","v":0},{"$f":"NILSM4!BL21","v":0},{"$f":"NILSM4!BO21","v":0},{"$f":"NILSM4!BR21","v":0},{"$f":"NILSM4!BU21","v":0},{"$f":"NILSM4!BX21","v":0},{"$f":"NILSM4!CA21","v":0},{"$f":"NILSM4!CD21","v":0},{"$f":"NILSM4!CG21","v":0},{"$f":"NILSM4!CJ21","v":0},{"$f":"NILSM4!CM21","v":0}]
[{"$f":"BIODATA!A19","v":15},{"$f":"NILSM3!B22","v":0},{"$f":"NILSM3!C22","v":0},{"$f":"NILSM3!D22","v":0},{"$f":"NILSM3!G22","v":0},{"$f":"NILSM3!J22","v":0},{"$f":"NILSM3!M22","v":0},{"$f":"NILSM3!P22","v":0},{"$f":"NILSM3!S22","v":0},{"$f":"NILSM3!V22","v":0},{"$f":"NILSM3!Y22","v":0},{"$f":"NILSM3!AB22","v":0},{"$f":"NILSM3!AE22","v":0},{"$f":"NILSM3!AH22","v":0},{"$f":"NILSM3!AK22","v":0},{"$f":"NILSM3!AN22","v":0},{"$f":"NILSM3!AQ22","v":0},{"$f":"NILSM3!AT22","v":0},{"$f":"NILSM3!AW22","v":0},{"$f":"NILSM3!AZ22","v":0},{"$f":"NILSM3!BC22","v":0},{"$f":"NILSM3!BF22","v":0},{"$f":"NILSM3!BI22","v":0},{"$f":"NILSM3!BL22","v":0},{"$f":"NILSM3!BO22","v":0},{"$f":"NILSM3!BR22","v":0},{"$f":"NILSM3!BU22","v":0},{"$f":"NILSM3!BX22","v":0},{"$f":"NILSM3!CA22","v":0},{"$f":"NILSM3!CD22","v":0},{"$f":"NILSM3!CG22","v":0},{"$f":"NILSM3!CJ22","v":0},{"$f":"NILSM3!CM22","v":0},null,15,{"$f":"NILSM4!B22","v":0},{"$f":"NILSM4!C22","v":0},{"$f":"NILSM4!D22","v":0},{"$f":"NILSM4!G22","v":0},{"$f":"NILSM4!J22","v":0},{"$f":"NILSM4!M22","v":0},{"$f":"NILSM4!P22","v":0},{"$f":"NILSM4!S22","v":0},{"$f":"NILSM4!V22","v":0},{"$f":"NILSM4!Y22","v":0},{"$f":"NILSM4!AB22","v":0},{"$f":"NILSM4!AE22","v":0},{"$f":"NILSM4!AH22","v":0},{"$f":"NILSM4!AK22","v":0},{"$f":"NILSM4!AN22","v":0},{"$f":"NILSM4!AQ22","v":0},{"$f":"NILSM4!AT22","v":0},{"$f":"NILSM4!AW22","v":0},{"$f":"NILSM4!AZ22","v":0},{"$f":"NILSM4!BC22","v":0},{"$f":"NILSM4!BF22","v":0},{"$f":"NILSM4!BI22","v":0},{"$f":"NILSM4!BL22","v":0},{"$f":"NILSM4!BO22","v":0},{"$f":"NILSM4!BR22","v":0},{"$f":"NILSM4!BU22","v":0},{"$f":"NILSM4!BX22","v":0},{"$f":"NILSM4!CA22","v":0},{"$f":"NILSM4!CD22","v":0},{"$f":"NILSM4!CG22","v":0},{"$f":"NILSM4!CJ22","v":0},{"$f":"NILSM4!CM22","v":0}]
[{"$f":"BIODATA!A20","v":16},{"$f":"NILSM3!B23","v":0},{"$f":"NILSM3!C23","v":0},{"$f":"NILSM3!D23","v":0},{"$f":"NILSM3!G23","v":0},{"$f":"NILSM3!J23","v":0},{"$f":"NILSM3!M23","v":0},{"$f":"NILSM3!P23","v":0},{"$f":"NILSM3!S23","v":0},{"$f":"NILSM3!V23","v":0},{"$f":"NILSM3!Y23","v":0},{"$f":"NILSM3!AB23","v":0},{"$f":"NILSM3!AE23","v":0},{"$f":"NILSM3!AH23","v":0},{"$f":"NILSM3!AK23","v":0},{"$f":"NILSM3!AN23","v":0},{"$f":"NILSM3!AQ23","v":0},{"$f":"NILSM3!AT23","v":0},{"$f":"NILSM3!AW23","v":0},{"$f":"NILSM3!AZ23","v":0},{"$f":"NILSM3!BC23","v":0},{"$f":"NILSM3!BF23","v":0},{"$f":"NILSM3!BI23","v":0},{"$f":"NILSM3!BL23","v":0},{"$f":"NILSM3!BO23","v":0},{"$f":"NILSM3!BR23","v":0},{"$f":"NILSM3!BU23","v":0},{"$f":"NILSM3!BX23","v":0},{"$f":"NILSM3!CA23","v":0},{"$f":"NILSM3!CD23","v":0},{"$f":"NILSM3!CG23","v":0},{"$f":"NILSM3!CJ23","v":0},{"$f":"NILSM3!CM23","v":0},null,16,{"$f":"NILSM4!B23","v":0},{"$f":"NILSM4!C23","v":0},{"$f":"NILSM4!D23","v":0},{"$f":"NILSM4!G23","v":0},{"$f":"NILSM4!J23","v":0},{"$f":"NILSM4!M23","v":0},{"$f":"NILSM4!P23","v":0},{"$f":"NILSM4!S23","v":0},{"$f":"NILSM4!V23","v":0},{"$f":"NILSM4!Y23","v":0},{"$f":"NILSM4!AB23","v":0},{"$f":"NILSM4!AE23","v":0},{"$f":"NILSM4!AH23","v":0},{"$f":"NILSM4!AK23","v":0},{"$f":"NILSM4!AN23","v":0},{"$f":"NILSM4!AQ23","v":0},{"$f":"NILSM4!AT23","v":0},{"$f":"NILSM4!AW23","v":0},{"$f":"NILSM4!AZ23","v":0},{"$f":"NILSM4!BC23","v":0},{"$f":"NILSM4!BF23","v":0},{"$f":"NILSM4!BI23","v":0},{"$f":"NILSM4!BL23","v":0},{"$f":"NILSM4!BO23","v":0},{"$f":"NILSM4!BR23","v":0},{"$f":"NILSM4!BU23","v":0},{"$f":"NILSM4!BX23","v":0},{"$f":"NILSM4!CA23","v":0},{"$f":"NILSM4!CD23","v":0},{"$f":"NILSM4!CG23","v":0},{"$f":"NILSM4!CJ23","v":0},{"$f":"NILSM4!CM23","v":0}]
[{"$f":"BIODATA!A21","v":17},{"$f":"NILSM3!B24","v":0},{"$f":"NILSM3!C24","v":0},{"$f":"NILSM3!D24","v":0},{"$f":"NILSM3!G24","v":0},{"$f":"NILSM3!J24","v":0},{"$f":"NILSM3!M24","v":0},{"$f":"NILSM3!P24","v":0},{"$f":"NILSM3!S24","v":0},{"$f":"NILSM3!V24","v":0},{"$f":"NILSM3!Y24","v":0},{"$f":"NILSM3!AB24","v":0},{"$f":"NILSM3!AE24","v":0},{"$f":"NILSM3!AH24","v":0},{"$f":"NILSM3!AK24","v":0},{"$f":"NILSM3!AN24","v":0},{"$f":"NILSM3!AQ24","v":0},{"$f":"NILSM3!AT24","v":0},{"$f":"NILSM3!AW24","v":0},{"$f":"NILSM3!AZ24","v":0},{"$f":"NILSM3!BC24","v":0},{"$f":"NILSM3!BF24","v":0},{"$f":"NILSM3!BI24","v":0},{"$f":"NILSM3!BL24","v":0},{"$f":"NILSM3!BO24","v":0},{"$f":"NILSM3!BR24","v":0},{"$f":"NILSM3!BU24","v":0},{"$f":"NILSM3!BX24","v":0},{"$f":"NILSM3!CA24","v":0},{"$f":"NILSM3!CD24","v":0},{"$f":"NILSM3!CG24","v":0},{"$f":"NILSM3!CJ24","v":0},{"$f":"NILSM3!CM24","v":0},null,17,{"$f":"NILSM4!B24","v":0},{"$f":"NILSM4!C24","v":0},{"$f":"NILSM4!D24","v":0},{"$f":"NILSM4!G24","v":0},{"$f":"NILSM4!J24","v":0},{"$f":"NILSM4!M24","v":0},{"$f":"NILSM4!P24","v":0},{"$f":"NILSM4!S24","v":0},{"$f":"NILSM4!V24","v":0},{"$f":"NILSM4!Y24","v":0},{"$f":"NILSM4!AB24","v":0},{"$f":"NILSM4!AE24","v":0},{"$f":"NILSM4!AH24","v":0},{"$f":"NILSM4!AK24","v":0},{"$f":"NILSM4!AN24","v":0},{"$f":"NILSM4!AQ24","v":0},{"$f":"NILSM4!AT24","v":0},{"$f":"NILSM4!AW24","v":0},{"$f":"NILSM4!AZ24","v":0},{"$f":"NILSM4!BC24","v":0},{"$f":"NILSM4!BF24","v":0},{"$f":"NILSM4!BI24","v":0},{"$f":"NILSM4!BL24","v":0},{"$f":"NILSM4!BO24","v":0},{"$f":"NILSM4!BR24","v":0},{"$f":"NILSM4!BU24","v":0},{"$f":"NILSM4!BX24","v":0},{"$f":"NILSM4!CA24","v":0},{"$f":"NILSM4!CD24","v":0},{"$f":"NILSM4!CG24","v":0},{"$f":"NILSM4!CJ24","v":0},{"$f":"NILSM4!CM24","v":0}]
[{"$f":"BIODATA!A22","v":18},{"$f":"NILSM3!B25","v":0},{"$f":"NILSM3!C25","v":0},{"$f":"NILSM3!D25","v":0},{"$f":"NILSM3!G25","v":0},{"$f":"NILSM3!J25","v":0},{"$f":"NILSM3!M25","v":0},{"$f":"NILSM3!P25","v":0},{"$f":"NILSM3!S25","v":0},{"$f":"NILSM3!V25","v":0},{"$f":"NILSM3!Y25","v":0},{"$f":"NILSM3!AB25","v":0},{"$f":"NILSM3!AE25","v":0},{"$f":"NILSM3!AH25","v":0},{"$f":"NILSM3!AK25","v":0},{"$f":"NILSM3!AN25","v":0},{"$f":"NILSM3!AQ25","v":0},{"$f":"NILSM3!AT25","v":0},{"$f":"NILSM3!AW25","v":0},{"$f":"NILSM3!AZ25","v":0},{"$f":"NILSM3!BC25","v":0},{"$f":"NILSM3!BF25","v":0},{"$f":"NILSM3!BI25","v":0},{"$f":"NILSM3!BL25","v":0},{"$f":"NILSM3!BO25","v":0},{"$f":"NILSM3!BR25","v":0},{"$f":"NILSM3!BU25","v":0},{"$f":"NILSM3!BX25","v":0},{"$f":"NILSM3!CA25","v":0},{"$f":"NILSM3!CD25","v":0},{"$f":"NILSM3!CG25","v":0},{"$f":"NILSM3!CJ25","v":0},{"$f":"NILSM3!CM25","v":0},null,18,{"$f":"NILSM4!B25","v":0},{"$f":"NILSM4!C25","v":0},{"$f":"NILSM4!D25","v":0},{"$f":"NILSM4!G25","v":0},{"$f":"NILSM4!J25","v":0},{"$f":"NILSM4!M25","v":0},{"$f":"NILSM4!P25","v":0},{"$f":"NILSM4!S25","v":0},{"$f":"NILSM4!V25","v":0},{"$f":"NILSM4!Y25","v":0},{"$f":"NILSM4!AB25","v":0},{"$f":"NILSM4!AE25","v":0},{"$f":"NILSM4!AH25","v":0},{"$f":"NILSM4!AK25","v":0},{"$f":"NILSM4!AN25","v":0},{"$f":"NILSM4!AQ25","v":0},{"$f":"NILSM4!AT25","v":0},{"$f":"NILSM4!AW25","v":0},{"$f":"NILSM4!AZ25","v":0},{"$f":"NILSM4!BC25","v":0},{"$f":"NILSM4!BF25","v":0},{"$f":"NILSM4!BI25","v":0},{"$f":"NILSM4!BL25","v":0},{"$f":"NILSM4!BO25","v":0},{"$f":"NILSM4!BR25","v":0},{"$f":"NILSM4!BU25","v":0},{"$f":"NILSM4!BX25","v":0},{"$f":"NILSM4!CA25","v":0},{"$f":"NILSM4!CD25","v":0},{"$f":"NILSM4!CG25","v":0},{"$f":"NILSM4!CJ25","v":0},{"$f":"NILSM4!CM25","v":0}]
[{"$f":"BIODATA!A23","v":19},{"$f":"NILSM3!B26","v":0},{"$f":"NILSM3!C26","v":0},{"$f":"NILSM3!D26","v":0},{"$f":"NILSM3!G26","v":0},{"$f":"NILSM3!J26","v":0},{"$f":"NILSM3!M26","v":0},{"$f":"NILSM3!P26","v":0},{"$f":"NILSM3!S26","v":0},{"$f":"NILSM3!V26","v":0},{"$f":"NILSM3!Y26","v":0},{"$f":"NILSM3!AB26","v":0},{"$f":"NILSM3!AE26","v":0},{"$f":"NILSM3!AH26","v":0},{"$f":"NILSM3!AK26","v":0},{"$f":"NILSM3!AN26","v":0},{"$f":"NILSM3!AQ26","v":0},{"$f":"NILSM3!AT26","v":0},{"$f":"NILSM3!AW26","v":0},{"$f":"NILSM3!AZ26","v":0},{"$f":"NILSM3!BC26","v":0},{"$f":"NILSM3!BF26","v":0},{"$f":"NILSM3!BI26","v":0},{"$f":"NILSM3!BL26","v":0},{"$f":"NILSM3!BO26","v":0},{"$f":"NILSM3!BR26","v":0},{"$f":"NILSM3!BU26","v":0},{"$f":"NILSM3!BX26","v":0},{"$f":"NILSM3!CA26","v":0},{"$f":"NILSM3!CD26","v":0},{"$f":"NILSM3!CG26","v":0},{"$f":"NILSM3!CJ26","v":0},{"$f":"NILSM3!CM26","v":0},null,19,{"$f":"NILSM4!B26","v":0},{"$f":"NILSM4!C26","v":0},{"$f":"NILSM4!D26","v":0},{"$f":"NILSM4!G26","v":0},{"$f":"NILSM4!J26","v":0},{"$f":"NILSM4!M26","v":0},{"$f":"NILSM4!P26","v":0},{"$f":"NILSM4!S26","v":0},{"$f":"NILSM4!V26","v":0},{"$f":"NILSM4!Y26","v":0},{"$f":"NILSM4!AB26","v":0},{"$f":"NILSM4!AE26","v":0},{"$f":"NILSM4!AH26","v":0},{"$f":"NILSM4!AK26","v":0},{"$f":"NILSM4!AN26","v":0},{"$f":"NILSM4!AQ26","v":0},{"$f":"NILSM4!AT26","v":0},{"$f":"NILSM4!AW26","v":0},{"$f":"NILSM4!AZ26","v":0},{"$f":"NILSM4!BC26","v":0},{"$f":"NILSM4!BF26","v":0},{"$f":"NILSM4!BI26","v":0},{"$f":"NILSM4!BL26","v":0},{"$f":"NILSM4!BO26","v":0},{"$f":"NILSM4!BR26","v":0},{"$f":"NILSM4!BU26","v":0},{"$f":"NILSM4!BX26","v":0},{"$f":"NILSM4!CA26","v":0},{"$f":"NILSM4!CD26","v":0},{"$f":"NILSM4!CG26","v":0},{"$f":"NILSM4!CJ26","v":0},{"$f":"NILSM4!CM26","v":0}]
[{"$f":"BIODATA!A24","v":20},{"$f":"NILSM3!B27","v":0},{"$f":"NILSM3!C27","v":0},{"$f":"NILSM3!D27","v":0},{"$f":"NILSM3!G27","v":0},{"$f":"NILSM3!J27","v":0},{"$f":"NILSM3!M27","v":0},{"$f":"NILSM3!P27","v":0},{"$f":"NILSM3!S27","v":0},{"$f":"NILSM3!V27","v":0},{"$f":"NILSM3!Y27","v":0},{"$f":"NILSM3!AB27","v":0},{"$f":"NILSM3!AE27","v":0},{"$f":"NILSM3!AH27","v":0},{"$f":"NILSM3!AK27","v":0},{"$f":"NILSM3!AN27","v":0},{"$f":"NILSM3!AQ27","v":0},{"$f":"NILSM3!AT27","v":0},{"$f":"NILSM3!AW27","v":0},{"$f":"NILSM3!AZ27","v":0},{"$f":"NILSM3!BC27","v":0},{"$f":"NILSM3!BF27","v":0},{"$f":"NILSM3!BI27","v":0},{"$f":"NILSM3!BL27","v":0},{"$f":"NILSM3!BO27","v":0},{"$f":"NILSM3!BR27","v":0},{"$f":"NILSM3!BU27","v":0},{"$f":"NILSM3!BX27","v":0},{"$f":"NILSM3!CA27","v":0},{"$f":"NILSM3!CD27","v":0},{"$f":"NILSM3!CG27","v":0},{"$f":"NILSM3!CJ27","v":0},{"$f":"NILSM3!CM27","v":0},null,20,{"$f":"NILSM4!B27","v":0},{"$f":"NILSM4!C27","v":0},{"$f":"NILSM4!D27","v":0},{"$f":"NILSM4!G27","v":0},{"$f":"NILSM4!J27","v":0},{"$f":"NILSM4!M27","v":0},{"$f":"NILSM4!P27","v":0},{"$f":"NILSM4!S27","v":0},{"$f":"NILSM4!V27","v":0},{"$f":"NILSM4!Y27","v":0},{"$f":"NILSM4!AB27","v":0},{"$f":"NILSM4!AE27","v":0},{"$f":"NILSM4!AH27","v":0},{"$f":"NILSM4!AK27","v":0},{"$f":"NILSM4!AN27","v":0},{"$f":"NILSM4!AQ27","v":0},{"$f":"NILSM4!AT27","v":0},{"$f":"NILSM4!AW27","v":0},{"$f":"NILSM4!AZ27","v":0},{"$f":"NILSM4!BC27","v":0},{"$f":"NILSM4!BF27","v":0},{"$f":"NILSM4!BI27","v":0},{"$f":"NILSM4!BL27","v":0},{"$f":"NILSM4!BO27","v":0},{"$f":"NILSM4!BR27","v":0},{"$f":"NILSM4!BU27","v":0},{"$f":"NILSM4!BX27","v":0},{"$f":"NILSM4!CA27","v":0},{"$f":"NILSM4!CD27","v":0},{"$f":"NILSM4!CG27","v":0},{"$f":"NILSM4!CJ27","v":0},{"$f":"NILSM4!CM27","v":0}]
[{"$f":"BIODATA!A25","v":21},{"$f":"NILSM3!B28","v":0},{"$f":"NILSM3!C28","v":0},{"$f":"NILSM3!D28","v":0},{"$f":"NILSM3!G28","v":0},{"$f":"NILSM3!J28","v":0},{"$f":"NILSM3!M28","v":0},{"$f":"NILSM3!P28","v":0},{"$f":"NILSM3!S28","v":0},{"$f":"NILSM3!V28","v":0},{"$f":"NILSM3!Y28","v":0},{"$f":"NILSM3!AB28","v":0},{"$f":"NILSM3!AE28","v":0},{"$f":"NILSM3!AH28","v":0},{"$f":"NILSM3!AK28","v":0},{"$f":"NILSM3!AN28","v":0},{"$f":"NILSM3!AQ28","v":0},{"$f":"NILSM3!AT28","v":0},{"$f":"NILSM3!AW28","v":0},{"$f":"NILSM3!AZ28","v":0},{"$f":"NILSM3!BC28","v":0},{"$f":"NILSM3!BF28","v":0},{"$f":"NILSM3!BI28","v":0},{"$f":"NILSM3!BL28","v":0},{"$f":"NILSM3!BO28","v":0},{"$f":"NILSM3!BR28","v":0},{"$f":"NILSM3!BU28","v":0},{"$f":"NILSM3!BX28","v":0},{"$f":"NILSM3!CA28","v":0},{"$f":"NILSM3!CD28","v":0},{"$f":"NILSM3!CG28","v":0},{"$f":"NILSM3!CJ28","v":0},{"$f":"NILSM3!CM28","v":0},null,21,{"$f":"NILSM4!B28","v":0},{"$f":"NILSM4!C28","v":0},{"$f":"NILSM4!D28","v":0},{"$f":"NILSM4!G28","v":0},{"$f":"NILSM4!J28","v":0},{"$f":"NILSM4!M28","v":0},{"$f":"NILSM4!P28","v":0},{"$f":"NILSM4!S28","v":0},{"$f":"NILSM4!V28","v":0},{"$f":"NILSM4!Y28","v":0},{"$f":"NILSM4!AB28","v":0},{"$f":"NILSM4!AE28","v":0},{"$f":"NILSM4!AH28","v":0},{"$f":"NILSM4!AK28","v":0},{"$f":"NILSM4!AN28","v":0},{"$f":"NILSM4!AQ28","v":0},{"$f":"NILSM4!AT28","v":0},{"$f":"NILSM4!AW28","v":0},{"$f":"NILSM4!AZ28","v":0},{"$f":"NILSM4!BC28","v":0},{"$f":"NILSM4!BF28","v":0},{"$f":"NILSM4!BI28","v":0},{"$f":"NILSM4!BL28","v":0},{"$f":"NILSM4!BO28","v":0},{"$f":"NILSM4!BR28","v":0},{"$f":"NILSM4!BU28","v":0},{"$f":"NILSM4!BX28","v":0},{"$f":"NILSM4!CA28","v":0},{"$f":"NILSM4!CD28","v":0},{"$f":"NILSM4!CG28","v":0},{"$f":"NILSM4!CJ28","v":0},{"$f":"NILSM4!CM28","v":0}]
[{"$f":"BIODATA!A26","v":22},{"$f":"NILSM3!B29","v":0},{"$f":"NILSM3!C29","v":0},{"$f":"NILSM3!D29","v":0},{"$f":"NILSM3!G29","v":0},{"$f":"NILSM3!J29","v":0},{"$f":"NILSM3!M29","v":0},{"$f":"NILSM3!P29","v":0},{"$f":"NILSM3!S29","v":0},{"$f":"NILSM3!V29","v":0},{"$f":"NILSM3!Y29","v":0},{"$f":"NILSM3!AB29","v":0},{"$f":"NILSM3!AE29","v":0},{"$f":"NILSM3!AH29","v":0},{"$f":"NILSM3!AK29","v":0},{"$f":"NILSM3!AN29","v":0},{"$f":"NILSM3!AQ29","v":0},{"$f":"NILSM3!AT29","v":0},{"$f":"NILSM3!AW29","v":0},{"$f":"NILSM3!AZ29","v":0},{"$f":"NILSM3!BC29","v":0},{"$f":"NILSM3!BF29","v":0},{"$f":"NILSM3!BI29","v":0},{"$f":"NILSM3!BL29","v":0},{"$f":"NILSM3!BO29","v":0},{"$f":"NILSM3!BR29","v":0},{"$f":"NILSM3!BU29","v":0},{"$f":"NILSM3!BX29","v":0},{"$f":"NILSM3!CA29","v":0},{"$f":"NILSM3!CD29","v":0},{"$f":"NILSM3!CG29","v":0},{"$f":"NILSM3!CJ29","v":0},{"$f":"NILSM3!CM29","v":0},null,22,{"$f":"NILSM4!B29","v":0},{"$f":"NILSM4!C29","v":0},{"$f":"NILSM4!D29","v":0},{"$f":"NILSM4!G29","v":0},{"$f":"NILSM4!J29","v":0},{"$f":"NILSM4!M29","v":0},{"$f":"NILSM4!P29","v":0},{"$f":"NILSM4!S29","v":0},{"$f":"NILSM4!V29","v":0},{"$f":"NILSM4!Y29","v":0},{"$f":"NILSM4!AB29","v":0},{"$f":"NILSM4!AE29","v":0},{"$f":"NILSM4!AH29","v":0},{"$f":"NILSM4!AK29","v":0},{"$f":"NILSM4!AN29","v":0},{"$f":"NILSM4!AQ29","v":0},{"$f":"NILSM4!AT29","v":0},{"$f":"NILSM4!AW29","v":0},{"$f":"NILSM4!AZ29","v":0},{"$f":"NILSM4!BC29","v":0},{"$f":"NILSM4!BF29","v":0},{"$f":"NILSM4!BI29","v":0},{"$f":"NILSM4!BL29","v":0},{"$f":"NILSM4!BO29","v":0},{"$f":"NILSM4!BR29","v":0},{"$f":"NILSM4!BU29","v":0},{"$f":"NILSM4!BX29","v":0},{"$f":"NILSM4!CA29","v":0},{"$f":"NILSM4!CD29","v":0},{"$f":"NILSM4!CG29","v":0},{"$f":"NILSM4!CJ29","v":0},{"$f":"NILSM4!CM29","v":0}]
[{"$f":"BIODATA!A27","v":23},{"$f":"NILSM3!B30","v":0},{"$f":"NILSM3!C30","v":0},{"$f":"NILSM3!D30","v":0},{"$f":"NILSM3!G30","v":0},{"$f":"NILSM3!J30","v":0},{"$f":"NILSM3!M30","v":0},{"$f":"NILSM3!P30","v":0},{"$f":"NILSM3!S30","v":0},{"$f":"NILSM3!V30","v":0},{"$f":"NILSM3!Y30","v":0},{"$f":"NILSM3!AB30","v":0},{"$f":"NILSM3!AE30","v":0},{"$f":"NILSM3!AH30","v":0},{"$f":"NILSM3!AK30","v":0},{"$f":"NILSM3!AN30","v":0},{"$f":"NILSM3!AQ30","v":0},{"$f":"NILSM3!AT30","v":0},{"$f":"NILSM3!AW30","v":0},{"$f":"NILSM3!AZ30","v":0},{"$f":"NILSM3!BC30","v":0},{"$f":"NILSM3!BF30","v":0},{"$f":"NILSM3!BI30","v":0},{"$f":"NILSM3!BL30","v":0},{"$f":"NILSM3!BO30","v":0},{"$f":"NILSM3!BR30","v":0},{"$f":"NILSM3!BU30","v":0},{"$f":"NILSM3!BX30","v":0},{"$f":"NILSM3!CA30","v":0},{"$f":"NILSM3!CD30","v":0},{"$f":"NILSM3!CG30","v":0},{"$f":"NILSM3!CJ30","v":0},{"$f":"NILSM3!CM30","v":0},null,23,{"$f":"NILSM4!B30","v":0},{"$f":"NILSM4!C30","v":0},{"$f":"NILSM4!D30","v":0},{"$f":"NILSM4!G30","v":0},{"$f":"NILSM4!J30","v":0},{"$f":"NILSM4!M30","v":0},{"$f":"NILSM4!P30","v":0},{"$f":"NILSM4!S30","v":0},{"$f":"NILSM4!V30","v":0},{"$f":"NILSM4!Y30","v":0},{"$f":"NILSM4!AB30","v":0},{"$f":"NILSM4!AE30","v":0},{"$f":"NILSM4!AH30","v":0},{"$f":"NILSM4!AK30","v":0},{"$f":"NILSM4!AN30","v":0},{"$f":"NILSM4!AQ30","v":0},{"$f":"NILSM4!AT30","v":0},{"$f":"NILSM4!AW30","v":0},{"$f":"NILSM4!AZ30","v":0},{"$f":"NILSM4!BC30","v":0},{"$f":"NILSM4!BF30","v":0},{"$f":"NILSM4!BI30","v":0},{"$f":"NILSM4!BL30","v":0},{"$f":"NILSM4!BO30","v":0},{"$f":"NILSM4!BR30","v":0},{"$f":"NILSM4!BU30","v":0},{"$f":"NILSM4!BX30","v":0},{"$f":"NILSM4!CA30","v":0},{"$f":"NILSM4!CD30","v":0},{"$f":"NILSM4!CG30","v":0},{"$f":"NILSM4!CJ30","v":0},{"$f":"NILSM4!CM30","v":0}]
[{"$f":"BIODATA!A28","v":24},{"$f":"NILSM3!B31","v":0},{"$f":"NILSM3!C31","v":0},{"$f":"NILSM3!D31","v":0},{"$f":"NILSM3!G31","v":0},{"$f":"NILSM3!J31","v":0},{"$f":"NILSM3!M31","v":0},{"$f":"NILSM3!P31","v":0},{"$f":"NILSM3!S31","v":0},{"$f":"NILSM3!V31","v":0},{"$f":"NILSM3!Y31","v":0},{"$f":"NILSM3!AB31","v":0},{"$f":"NILSM3!AE31","v":0},{"$f":"NILSM3!AH31","v":0},{"$f":"NILSM3!AK31","v":0},{"$f":"NILSM3!AN31","v":0},{"$f":"NILSM3!AQ31","v":0},{"$f":"NILSM3!AT31","v":0},{"$f":"NILSM3!AW31","v":0},{"$f":"NILSM3!AZ31","v":0},{"$f":"NILSM3!BC31","v":0},{"$f":"NILSM3!BF31","v":0},{"$f":"NILSM3!BI31","v":0},{"$f":"NILSM3!BL31","v":0},{"$f":"NILSM3!BO31","v":0},{"$f":"NILSM3!BR31","v":0},{"$f":"NILSM3!BU31","v":0},{"$f":"NILSM3!BX31","v":0},{"$f":"NILSM3!CA31","v":0},{"$f":"NILSM3!CD31","v":0},{"$f":"NILSM3!CG31","v":0},{"$f":"NILSM3!CJ31","v":0},{"$f":"NILSM3!CM31","v":0},null,24,{"$f":"NILSM4!B31","v":0},{"$f":"NILSM4!C31","v":0},{"$f":"NILSM4!D31","v":0},{"$f":"NILSM4!G31","v":0},{"$f":"NILSM4!J31","v":0},{"$f":"NILSM4!M31","v":0},{"$f":"NILSM4!P31","v":0},{"$f":"NILSM4!S31","v":0},{"$f":"NILSM4!V31","v":0},{"$f":"NILSM4!Y31","v":0},{"$f":"NILSM4!AB31","v":0},{"$f":"NILSM4!AE31","v":0},{"$f":"NILSM4!AH31","v":0},{"$f":"NILSM4!AK31","v":0},{"$f":"NILSM4!AN31","v":0},{"$f":"NILSM4!AQ31","v":0},{"$f":"NILSM4!AT31","v":0},{"$f":"NILSM4!AW31","v":0},{"$f":"NILSM4!AZ31","v":0},{"$f":"NILSM4!BC31","v":0},{"$f":"NILSM4!BF31","v":0},{"$f":"NILSM4!BI31","v":0},{"$f":"NILSM4!BL31","v":0},{"$f":"NILSM4!BO31","v":0},{"$f":"NILSM4!BR31","v":0},{"$f":"NILSM4!BU31","v":0},{"$f":"NILSM4!BX31","v":0},{"$f":"NILSM4!CA31","v":0},{"$f":"NILSM4!CD31","v":0},{"$f":"NILSM4!CG31","v":0},{"$f":"NILSM4!CJ31","v":0},{"$f":"NILSM4!CM31","v":0}]
[{"$f":"BIODATA!A29","v":25},{"$f":"NILSM3!B32","v":0},{"$f":"NILSM3!C32","v":0},{"$f":"NILSM3!D32","v":0},{"$f":"NILSM3!G32","v":0},{"$f":"NILSM3!J32","v":0},{"$f":"NILSM3!M32","v":0},{"$f":"NILSM3!P32","v":0},{"$f":"NILSM3!S32","v":0},{"$f":"NILSM3!V32","v":0},{"$f":"NILSM3!Y32","v":0},{"$f":"NILSM3!AB32","v":0},{"$f":"NILSM3!AE32","v":0},{"$f":"NILSM3!AH32","v":0},{"$f":"NILSM3!AK32","v":0},{"$f":"NILSM3!AN32","v":0},{"$f":"NILSM3!AQ32","v":0},{"$f":"NILSM3!AT32","v":0},{"$f":"NILSM3!AW32","v":0},{"$f":"NILSM3!AZ32","v":0},{"$f":"NILSM3!BC32","v":0},{"$f":"NILSM3!BF32","v":0},{"$f":"NILSM3!BI32","v":0},{"$f":"NILSM3!BL32","v":0},{"$f":"NILSM3!BO32","v":0},{"$f":"NILSM3!BR32","v":0},{"$f":"NILSM3!BU32","v":0},{"$f":"NILSM3!BX32","v":0},{"$f":"NILSM3!CA32","v":0},{"$f":"NILSM3!CD32","v":0},{"$f":"NILSM3!CG32","v":0},{"$f":"NILSM3!CJ32","v":0},{"$f":"NILSM3!CM32","v":0},null,25,{"$f":"NILSM4!B32","v":0},{"$f":"NILSM4!C32","v":0},{"$f":"NILSM4!D32","v":0},{"$f":"NILSM4!G32","v":0},{"$f":"NILSM4!J32","v":0},{"$f":"NILSM4!M32","v":0},{"$f":"NILSM4!P32","v":0},{"$f":"NILSM4!S32","v":0},{"$f":"NILSM4!V32","v":0},{"$f":"NILSM4!Y32","v":0},{"$f":"NILSM4!AB32","v":0},{"$f":"NILSM4!AE32","v":0},{"$f":"NILSM4!AH32","v":0},{"$f":"NILSM4!AK32","v":0},{"$f":"NILSM4!AN32","v":0},{"$f":"NILSM4!AQ32","v":0},{"$f":"NILSM4!AT32","v":0},{"$f":"NILSM4!AW32","v":0},{"$f":"NILSM4!AZ32","v":0},{"$f":"NILSM4!BC32","v":0},{"$f":"NILSM4!BF32","v":0},{"$f":"NILSM4!BI32","v":0},{"$f":"NILSM4!BL32","v":0},{"$f":"NILSM4!BO32","v":0},{"$f":"NILSM4!BR32","v":0},{"$f":"NILSM4!BU32","v":0},{"$f":"NILSM4!BX32","v":0},{"$f":"NILSM4!CA32","v":0},{"$f":"NILSM4!CD32","v":0},{"$f":"NILSM4!CG32","v":0},{"$f":"NILSM4!CJ32","v":0},{"$f":"NILSM4!CM32","v":0}]
[{"$f":"BIODATA!A30","v":26},{"$f":"NILSM3!B33","v":0},{"$f":"NILSM3!C33","v":0},{"$f":"NILSM3!D33","v":0},{"$f":"NILSM3!G33","v":0},{"$f":"NILSM3!J33","v":0},{"$f":"NILSM3!M33","v":0},{"$f":"NILSM3!P33","v":0},{"$f":"NILSM3!S33","v":0},{"$f":"NILSM3!V33","v":0},{"$f":"NILSM3!Y33","v":0},{"$f":"NILSM3!AB33","v":0},{"$f":"NILSM3!AE33","v":0},{"$f":"NILSM3!AH33","v":0},{"$f":"NILSM3!AK33","v":0},{"$f":"NILSM3!AN33","v":0},{"$f":"NILSM3!AQ33","v":0},{"$f":"NILSM3!AT33","v":0},{"$f":"NILSM3!AW33","v":0},{"$f":"NILSM3!AZ33","v":0},{"$f":"NILSM3!BC33","v":0},{"$f":"NILSM3!BF33","v":0},{"$f":"NILSM3!BI33","v":0},{"$f":"NILSM3!BL33","v":0},{"$f":"NILSM3!BO33","v":0},{"$f":"NILSM3!BR33","v":0},{"$f":"NILSM3!BU33","v":0},{"$f":"NILSM3!BX33","v":0},{"$f":"NILSM3!CA33","v":0},{"$f":"NILSM3!CD33","v":0},{"$f":"NILSM3!CG33","v":0},{"$f":"NILSM3!CJ33","v":0},{"$f":"NILSM3!CM33","v":0},null,26,{"$f":"NILSM4!B33","v":0},{"$f":"NILSM4!C33","v":0},{"$f":"NILSM4!D33","v":0},{"$f":"NILSM4!G33","v":0},{"$f":"NILSM4!J33","v":0},{"$f":"NILSM4!M33","v":0},{"$f":"NILSM4!P33","v":0},{"$f":"NILSM4!S33","v":0},{"$f":"NILSM4!V33","v":0},{"$f":"NILSM4!Y33","v":0},{"$f":"NILSM4!AB33","v":0},{"$f":"NILSM4!AE33","v":0},{"$f":"NILSM4!AH33","v":0},{"$f":"NILSM4!AK33","v":0},{"$f":"NILSM4!AN33","v":0},{"$f":"NILSM4!AQ33","v":0},{"$f":"NILSM4!AT33","v":0},{"$f":"NILSM4!AW33","v":0},{"$f":"NILSM4!AZ33","v":0},{"$f":"NILSM4!BC33","v":0},{"$f":"NILSM4!BF33","v":0},{"$f":"NILSM4!BI33","v":0},{"$f":"NILSM4!BL33","v":0},{"$f":"NILSM4!BO33","v":0},{"$f":"NILSM4!BR33","v":0},{"$f":"NILSM4!BU33","v":0},{"$f":"NILSM4!BX33","v":0},{"$f":"NILSM4!CA33","v":0},{"$f":"NILSM4!CD33","v":0},{"$f":"NILSM4!CG33","v":0},{"$f":"NILSM4!CJ33","v":0},{"$f":"NILSM4!CM33","v":0}]
[{"$f":"BIODATA!A31","v":27},{"$f":"NILSM3!B34","v":0},{"$f":"NILSM3!C34","v":0},{"$f":"NILSM3!D34","v":0},{"$f":"NILSM3!G34","v":0},{"$f":"NILSM3!J34","v":0},{"$f":"NILSM3!M34","v":0},{"$f":"NILSM3!P34","v":0},{"$f":"NILSM3!S34","v":0},{"$f":"NILSM3!V34","v":0},{"$f":"NILSM3!Y34","v":0},{"$f":"NILSM3!AB34","v":0},{"$f":"NILSM3!AE34","v":0},{"$f":"NILSM3!AH34","v":0},{"$f":"NILSM3!AK34","v":0},{"$f":"NILSM3!AN34","v":0},{"$f":"NILSM3!AQ34","v":0},{"$f":"NILSM3!AT34","v":0},{"$f":"NILSM3!AW34","v":0},{"$f":"NILSM3!AZ34","v":0},{"$f":"NILSM3!BC34","v":0},{"$f":"NILSM3!BF34","v":0},{"$f":"NILSM3!BI34","v":0},{"$f":"NILSM3!BL34","v":0},{"$f":"NILSM3!BO34","v":0},{"$f":"NILSM3!BR34","v":0},{"$f":"NILSM3!BU34","v":0},{"$f":"NILSM3!BX34","v":0},{"$f":"NILSM3!CA34","v":0},{"$f":"NILSM3!CD34","v":0},{"$f":"NILSM3!CG34","v":0},{"$f":"NILSM3!CJ34","v":0},{"$f":"NILSM3!CM34","v":0},null,27,{"$f":"NILSM4!B34","v":0},{"$f":"NILSM4!C34","v":0},{"$f":"NILSM4!D34","v":0},{"$f":"NILSM4!G34","v":0},{"$f":"NILSM4!J34","v":0},{"$f":"NILSM4!M34","v":0},{"$f":"NILSM4!P34","v":0},{"$f":"NILSM4!S34","v":0},{"$f":"NILSM4!V34","v":0},{"$f":"NILSM4!Y34","v":0},{"$f":"NILSM4!AB34","v":0},{"$f":"NILSM4!AE34","v":0},{"$f":"NILSM4!AH34","v":0},{"$f":"NILSM4!AK34","v":0},{"$f":"NILSM4!AN34","v":0},{"$f":"NILSM4!AQ34","v":0},{"$f":"NILSM4!AT34","v":0},{"$f":"NILSM4!AW34","v":0},{"$f":"NILSM4!AZ34","v":0},{"$f":"NILSM4!BC34","v":0},{"$f":"NILSM4!BF34","v":0},{"$f":"NILSM4!BI34","v":0},{"$f":"NILSM4!BL34","v":0},{"$f":"NILSM4!BO34","v":0},{"$f":"NILSM4!BR34","v":0},{"$f":"NILSM4!BU34","v":0},{"$f":"NILSM4!BX34","v":0},{"$f":"NILSM4!CA34","v":0},{"$f":"NILSM4!CD34","v":0},{"$f":"NILSM4!CG34","v":0},{"$f":"NILSM4!CJ34","v":0},{"$f":"NILSM4!CM34","v":0}]
[{"$f":"BIODATA!A32","v":28},{"$f":"NILSM3!B35","v":0},{"$f":"NILSM3!C35","v":0},{"$f":"NILSM3!D35","v":0},{"$f":"NILSM3!G35","v":0},{"$f":"NILSM3!J35","v":0},{"$f":"NILSM3!M35","v":0},{"$f":"NILSM3!P35","v":0},{"$f":"NILSM3!S35","v":0},{"$f":"NILSM3!V35","v":0},{"$f":"NILSM3!Y35","v":0},{"$f":"NILSM3!AB35","v":0},{"$f":"NILSM3!AE35","v":0},{"$f":"NILSM3!AH35","v":0},{"$f":"NILSM3!AK35","v":0},{"$f":"NILSM3!AN35","v":0},{"$f":"NILSM3!AQ35","v":0},{"$f":"NILSM3!AT35","v":0},{"$f":"NILSM3!AW35","v":0},{"$f":"NILSM3!AZ35","v":0},{"$f":"NILSM3!BC35","v":0},{"$f":"NILSM3!BF35","v":0},{"$f":"NILSM3!BI35","v":0},{"$f":"NILSM3!BL35","v":0},{"$f":"NILSM3!BO35","v":0},{"$f":"NILSM3!BR35","v":0},{"$f":"NILSM3!BU35","v":0},{"$f":"NILSM3!BX35","v":0},{"$f":"NILSM3!CA35","v":0},{"$f":"NILSM3!CD35","v":0},{"$f":"NILSM3!CG35","v":0},{"$f":"NILSM3!CJ35","v":0},{"$f":"NILSM3!CM35","v":0},null,28,{"$f":"NILSM4!B35","v":0},{"$f":"NILSM4!C35","v":0},{"$f":"NILSM4!D35","v":0},{"$f":"NILSM4!G35","v":0},{"$f":"NILSM4!J35","v":0},{"$f":"NILSM4!M35","v":0},{"$f":"NILSM4!P35","v":0},{"$f":"NILSM4!S35","v":0},{"$f":"NILSM4!V35","v":0},{"$f":"NILSM4!Y35","v":0},{"$f":"NILSM4!AB35","v":0},{"$f":"NILSM4!AE35","v":0},{"$f":"NILSM4!AH35","v":0},{"$f":"NILSM4!AK35","v":0},{"$f":"NILSM4!AN35","v":0},{"$f":"NILSM4!AQ35","v":0},{"$f":"NILSM4!AT35","v":0},{"$f":"NILSM4!AW35","v":0},{"$f":"NILSM4!AZ35","v":0},{"$f":"NILSM4!BC35","v":0},{"$f":"NILSM4!BF35","v":0},{"$f":"NILSM4!BI35","v":0},{"$f":"NILSM4!BL35","v":0},{"$f":"NILSM4!BO35","v":0},{"$f":"NILSM4!BR35","v":0},{"$f":"NILSM4!BU35","v":0},{"$f":"NILSM4!BX35","v":0},{"$f":"NILSM4!CA35","v":0},{"$f":"NILSM4!CD35","v":0},{"$f":"NILSM4!CG35","v":0},{"$f":"NILSM4!CJ35","v":0},{"$f":"NILSM4!CM35","v":0}]
[{"$f":"BIODATA!A33","v":29},{"$f":"NILSM3!B36","v":0},{"$f":"NILSM3!C36","v":0},{"$f":"NILSM3!D36","v":0},{"$f":"NILSM3!G36","v":0},{"$f":"NILSM3!J36","v":0},{"$f":"NILSM3!M36","v":0},{"$f":"NILSM3!P36","v":0},{"$f":"NILSM3!S36","v":0},{"$f":"NILSM3!V36","v":0},{"$f":"NILSM3!Y36","v":0},{"$f":"NILSM3!AB36","v":0},{"$f":"NILSM3!AE36","v":0},{"$f":"NILSM3!AH36","v":0},{"$f":"NILSM3!AK36","v":0},{"$f":"NILSM3!AN36","v":0},{"$f":"NILSM3!AQ36","v":0},{"$f":"NILSM3!AT36","v":0},{"$f":"NILSM3!AW36","v":0},{"$f":"NILSM3!AZ36","v":0},{"$f":"NILSM3!BC36","v":0},{"$f":"NILSM3!BF36","v":0},{"$f":"NILSM3!BI36","v":0},{"$f":"NILSM3!BL36","v":0},{"$f":"NILSM3!BO36","v":0},{"$f":"NILSM3!BR36","v":0},{"$f":"NILSM3!BU36","v":0},{"$f":"NILSM3!BX36","v":0},{"$f":"NILSM3!CA36","v":0},{"$f":"NILSM3!CD36","v":0},{"$f":"NILSM3!CG36","v":0},{"$f":"NILSM3!CJ36","v":0},{"$f":"NILSM3!CM36","v":0},null,29,{"$f":"NILSM4!B36","v":0},{"$f":"NILSM4!C36","v":0},{"$f":"NILSM4!D36","v":0},{"$f":"NILSM4!G36","v":0},{"$f":"NILSM4!J36","v":0},{"$f":"NILSM4!M36","v":0},{"$f":"NILSM4!P36","v":0},{"$f":"NILSM4!S36","v":0},{"$f":"NILSM4!V36","v":0},{"$f":"NILSM4!Y36","v":0},{"$f":"NILSM4!AB36","v":0},{"$f":"NILSM4!AE36","v":0},{"$f":"NILSM4!AH36","v":0},{"$f":"NILSM4!AK36","v":0},{"$f":"NILSM4!AN36","v":0},{"$f":"NILSM4!AQ36","v":0},{"$f":"NILSM4!AT36","v":0},{"$f":"NILSM4!AW36","v":0},{"$f":"NILSM4!AZ36","v":0},{"$f":"NILSM4!BC36","v":0},{"$f":"NILSM4!BF36","v":0},{"$f":"NILSM4!BI36","v":0},{"$f":"NILSM4!BL36","v":0},{"$f":"NILSM4!BO36","v":0},{"$f":"NILSM4!BR36","v":0},{"$f":"NILSM4!BU36","v":0},{"$f":"NILSM4!BX36","v":0},{"$f":"NILSM4!CA36","v":0},{"$f":"NILSM4!CD36","v":0},{"$f":"NILSM4!CG36","v":0},{"$f":"NILSM4!CJ36","v":0},{"$f":"NILSM4!CM36","v":0}]
[{"$f":"BIODATA!A34","v":30},{"$f":"NILSM3!B37","v":0},{"$f":"NILSM3!C37","v":0},{"$f":"NILSM3!D37","v":0},{"$f":"NILSM3!G37","v":0},{"$f":"NILSM3!J37","v":0},{"$f":"NILSM3!M37","v":0},{"$f":"NILSM3!P37","v":0},{"$f":"NILSM3!S37","v":0},{"$f":"NILSM3!V37","v":0},{"$f":"NILSM3!Y37","v":0},{"$f":"NILSM3!AB37","v":0},{"$f":"NILSM3!AE37","v":0},{"$f":"NILSM3!AH37","v":0},{"$f":"NILSM3!AK37","v":0},{"$f":"NILSM3!AN37","v":0},{"$f":"NILSM3!AQ37","v":0},{"$f":"NILSM3!AT37","v":0},{"$f":"NILSM3!AW37","v":0},{"$f":"NILSM3!AZ37","v":0},{"$f":"NILSM3!BC37","v":0},{"$f":"NILSM3!BF37","v":0},{"$f":"NILSM3!BI37","v":0},{"$f":"NILSM3!BL37","v":0},{"$f":"NILSM3!BO37","v":0},{"$f":"NILSM3!BR37","v":0},{"$f":"NILSM3!BU37","v":0},{"$f":"NILSM3!BX37","v":0},{"$f":"NILSM3!CA37","v":0},{"$f":"NILSM3!CD37","v":0},{"$f":"NILSM3!CG37","v":0},{"$f":"NILSM3!CJ37","v":0},{"$f":"NILSM3!CM37","v":0},null,30,{"$f":"NILSM4!B37","v":0},{"$f":"NILSM4!C37","v":0},{"$f":"NILSM4!D37","v":0},{"$f":"NILSM4!G37","v":0},{"$f":"NILSM4!J37","v":0},{"$f":"NILSM4!M37","v":0},{"$f":"NILSM4!P37","v":0},{"$f":"NILSM4!S37","v":0},{"$f":"NILSM4!V37","v":0},{"$f":"NILSM4!Y37","v":0},{"$f":"NILSM4!AB37","v":0},{"$f":"NILSM4!AE37","v":0},{"$f":"NILSM4!AH37","v":0},{"$f":"NILSM4!AK37","v":0},{"$f":"NILSM4!AN37","v":0},{"$f":"NILSM4!AQ37","v":0},{"$f":"NILSM4!AT37","v":0},{"$f":"NILSM4!AW37","v":0},{"$f":"NILSM4!AZ37","v":0},{"$f":"NILSM4!BC37","v":0},{"$f":"NILSM4!BF37","v":0},{"$f":"NILSM4!BI37","v":0},{"$f":"NILSM4!BL37","v":0},{"$f":"NILSM4!BO37","v":0},{"$f":"NILSM4!BR37","v":0},{"$f":"NILSM4!BU37","v":0},{"$f":"NILSM4!BX37","v":0},{"$f":"NILSM4!CA37","v":0},{"$f":"NILSM4!CD37","v":0},{"$f":"NILSM4!CG37","v":0},{"$f":"NILSM4!CJ37","v":0},{"$f":"NILSM4!CM37","v":0}]
[{"$f":"BIODATA!A35","v":31},{"$f":"NILSM3!B38","v":0},{"$f":"NILSM3!C38","v":0},{"$f":"NILSM3!D38","v":0},{"$f":"NILSM3!G38","v":0},{"$f":"NILSM3!J38","v":0},{"$f":"NILSM3!M38","v":0},{"$f":"NILSM3!P38","v":0},{"$f":"NILSM3!S38","v":0},{"$f":"NILSM3!V38","v":0},{"$f":"NILSM3!Y38","v":0},{"$f":"NILSM3!AB38","v":0},{"$f":"NILSM3!AE38","v":0},{"$f":"NILSM3!AH38","v":0},{"$f":"NILSM3!AK38","v":0},{"$f":"NILSM3!AN38","v":0},{"$f":"NILSM3!AQ38","v":0},{"$f":"NILSM3!AT38","v":0},{"$f":"NILSM3!AW38","v":0},{"$f":"NILSM3!AZ38","v":0},{"$f":"NILSM3!BC38","v":0},{"$f":"NILSM3!BF38","v":0},{"$f":"NILSM3!BI38","v":0},{"$f":"NILSM3!BL38","v":0},{"$f":"NILSM3!BO38","v":0},{"$f":"NILSM3!BR38","v":0},{"$f":"NILSM3!BU38","v":0},{"$f":"NILSM3!BX38","v":0},{"$f":"NILSM3!CA38","v":0},{"$f":"NILSM3!CD38","v":0},{"$f":"NILSM3!CG38","v":0},{"$f":"NILSM3!CJ38","v":0},{"$f":"NILSM3!CM38","v":0},null,31,{"$f":"NILSM4!B38","v":0},{"$f":"NILSM4!C38","v":0},{"$f":"NILSM4!D38","v":0},{"$f":"NILSM4!G38","v":0},{"$f":"NILSM4!J38","v":0},{"$f":"NILSM4!M38","v":0},{"$f":"NILSM4!P38","v":0},{"$f":"NILSM4!S38","v":0},{"$f":"NILSM4!V38","v":0},{"$f":"NILSM4!Y38","v":0},{"$f":"NILSM4!AB38","v":0},{"$f":"NILSM4!AE38","v":0},{"$f":"NILSM4!AH38","v":0},{"$f":"NILSM4!AK38","v":0},{"$f":"NILSM4!AN38","v":0},{"$f":"NILSM4!AQ38","v":0},{"$f":"NILSM4!AT38","v":0},{"$f":"NILSM4!AW38","v":0},{"$f":"NILSM4!AZ38","v":0},{"$f":"NILSM4!BC38","v":0},{"$f":"NILSM4!BF38","v":0},{"$f":"NILSM4!BI38","v":0},{"$f":"NILSM4!BL38","v":0},{"$f":"NILSM4!BO38","v":0},{"$f":"NILSM4!BR38","v":0},{"$f":"NILSM4!BU38","v":0},{"$f":"NILSM4!BX38","v":0},{"$f":"NILSM4!CA38","v":0},{"$f":"NILSM4!CD38","v":0},{"$f":"NILSM4!CG38","v":0},{"$f":"NILSM4!CJ38","v":0},{"$f":"NILSM4!CM38","v":0}]
[{"$f":"BIODATA!A36","v":32},{"$f":"NILSM3!B39","v":0},{"$f":"NILSM3!C39","v":0},{"$f":"NILSM3!D39","v":0},{"$f":"NILSM3!G39","v":0},{"$f":"NILSM3!J39","v":0},{"$f":"NILSM3!M39","v":0},{"$f":"NILSM3!P39","v":0},{"$f":"NILSM3!S39","v":0},{"$f":"NILSM3!V39","v":0},{"$f":"NILSM3!Y39","v":0},{"$f":"NILSM3!AB39","v":0},{"$f":"NILSM3!AE39","v":0},{"$f":"NILSM3!AH39","v":0},{"$f":"NILSM3!AK39","v":0},{"$f":"NILSM3!AN39","v":0},{"$f":"NILSM3!AQ39","v":0},{"$f":"NILSM3!AT39","v":0},{"$f":"NILSM3!AW39","v":0},{"$f":"NILSM3!AZ39","v":0},{"$f":"NILSM3!BC39","v":0},{"$f":"NILSM3!BF39","v":0},{"$f":"NILSM3!BI39","v":0},{"$f":"NILSM3!BL39","v":0},{"$f":"NILSM3!BO39","v":0},{"$f":"NILSM3!BR39","v":0},{"$f":"NILSM3!BU39","v":0},{"$f":"NILSM3!BX39","v":0},{"$f":"NILSM3!CA39","v":0},{"$f":"NILSM3!CD39","v":0},{"$f":"NILSM3!CG39","v":0},{"$f":"NILSM3!CJ39","v":0},{"$f":"NILSM3!CM39","v":0},null,32,{"$f":"NILSM4!B39","v":0},{"$f":"NILSM4!C39","v":0},{"$f":"NILSM4!D39","v":0},{"$f":"NILSM4!G39","v":0},{"$f":"NILSM4!J39","v":0},{"$f":"NILSM4!M39","v":0},{"$f":"NILSM4!P39","v":0},{"$f":"NILSM4!S39","v":0},{"$f":"NILSM4!V39","v":0},{"$f":"NILSM4!Y39","v":0},{"$f":"NILSM4!AB39","v":0},{"$f":"NILSM4!AE39","v":0},{"$f":"NILSM4!AH39","v":0},{"$f":"NILSM4!AK39","v":0},{"$f":"NILSM4!AN39","v":0},{"$f":"NILSM4!AQ39","v":0},{"$f":"NILSM4!AT39","v":0},{"$f":"NILSM4!AW39","v":0},{"$f":"NILSM4!AZ39","v":0},{"$f":"NILSM4!BC39","v":0},{"$f":"NILSM4!BF39","v":0},{"$f":"NILSM4!BI39","v":0},{"$f":"NILSM4!BL39","v":0},{"$f":"NILSM4!BO39","v":0},{"$f":"NILSM4!BR39","v":0},{"$f":"NILSM4!BU39","v":0},{"$f":"NILSM4!BX39","v":0},{"$f":"NILSM4!CA39","v":0},{"$f":"NILSM4!CD39","v":0},{"$f":"NILSM4!CG39","v":0},{"$f":"NILSM4!CJ39","v":0},{"$f":"NILSM4!CM39","v":0}]
[{"$f":"BIODATA!A37","v":33},{"$f":"NILSM3!B40","v":0},{"$f":"NILSM3!C40","v":0},{"$f":"NILSM3!D40","v":0},{"$f":"NILSM3!G40","v":0},{"$f":"NILSM3!J40","v":0},{"$f":"NILSM3!M40","v":0},{"$f":"NILSM3!P40","v":0},{"$f":"NILSM3!S40","v":0},{"$f":"NILSM3!V40","v":0},{"$f":"NILSM3!Y40","v":0},{"$f":"NILSM3!AB40","v":0},{"$f":"NILSM3!AE40","v":0},{"$f":"NILSM3!AH40","v":0},{"$f":"NILSM3!AK40","v":0},{"$f":"NILSM3!AN40","v":0},{"$f":"NILSM3!AQ40","v":0},{"$f":"NILSM3!AT40","v":0},{"$f":"NILSM3!AW40","v":0},{"$f":"NILSM3!AZ40","v":0},{"$f":"NILSM3!BC40","v":0},{"$f":"NILSM3!BF40","v":0},{"$f":"NILSM3!BI40","v":0},{"$f":"NILSM3!BL40","v":0},{"$f":"NILSM3!BO40","v":0},{"$f":"NILSM3!BR40","v":0},{"$f":"NILSM3!BU40","v":0},{"$f":"NILSM3!BX40","v":0},{"$f":"NILSM3!CA40","v":0},{"$f":"NILSM3!CD40","v":0},{"$f":"NILSM3!CG40","v":0},{"$f":"NILSM3!CJ40","v":0},{"$f":"NILSM3!CM40","v":0},null,33,{"$f":"NILSM4!B40","v":0},{"$f":"NILSM4!C40","v":0},{"$f":"NILSM4!D40","v":0},{"$f":"NILSM4!G40","v":0},{"$f":"NILSM4!J40","v":0},{"$f":"NILSM4!M40","v":0},{"$f":"NILSM4!P40","v":0},{"$f":"NILSM4!S40","v":0},{"$f":"NILSM4!V40","v":0},{"$f":"NILSM4!Y40","v":0},{"$f":"NILSM4!AB40","v":0},{"$f":"NILSM4!AE40","v":0},{"$f":"NILSM4!AH40","v":0},{"$f":"NILSM4!AK40","v":0},{"$f":"NILSM4!AN40","v":0},{"$f":"NILSM4!AQ40","v":0},{"$f":"NILSM4!AT40","v":0},{"$f":"NILSM4!AW40","v":0},{"$f":"NILSM4!AZ40","v":0},{"$f":"NILSM4!BC40","v":0},{"$f":"NILSM4!BF40","v":0},{"$f":"NILSM4!BI40","v":0},{"$f":"NILSM4!BL40","v":0},{"$f":"NILSM4!BO40","v":0},{"$f":"NILSM4!BR40","v":0},{"$f":"NILSM4!BU40","v":0},{"$f":"NILSM4!BX40","v":0},{"$f":"NILSM4!CA40","v":0},{"$f":"NILSM4!CD40","v":0},{"$f":"NILSM4!CG40","v":0},{"$f":"NILSM4!CJ40","v":0},{"$f":"NILSM4!CM40","v":0}]
[{"$f":"BIODATA!A38","v":34},{"$f":"NILSM3!B41","v":0},{"$f":"NILSM3!C41","v":0},{"$f":"NILSM3!D41","v":0},{"$f":"NILSM3!G41","v":0},{"$f":"NILSM3!J41","v":0},{"$f":"NILSM3!M41","v":0},{"$f":"NILSM3!P41","v":0},{"$f":"NILSM3!S41","v":0},{"$f":"NILSM3!V41","v":0},{"$f":"NILSM3!Y41","v":0},{"$f":"NILSM3!AB41","v":0},{"$f":"NILSM3!AE41","v":0},{"$f":"NILSM3!AH41","v":0},{"$f":"NILSM3!AK41","v":0},{"$f":"NILSM3!AN41","v":0},{"$f":"NILSM3!AQ41","v":0},{"$f":"NILSM3!AT41","v":0},{"$f":"NILSM3!AW41","v":0},{"$f":"NILSM3!AZ41","v":0},{"$f":"NILSM3!BC41","v":0},{"$f":"NILSM3!BF41","v":0},{"$f":"NILSM3!BI41","v":0},{"$f":"NILSM3!BL41","v":0},{"$f":"NILSM3!BO41","v":0},{"$f":"NILSM3!BR41","v":0},{"$f":"NILSM3!BU41","v":0},{"$f":"NILSM3!BX41","v":0},{"$f":"NILSM3!CA41","v":0},{"$f":"NILSM3!CD41","v":0},{"$f":"NILSM3!CG41","v":0},{"$f":"NILSM3!CJ41","v":0},{"$f":"NILSM3!CM41","v":0},null,34,{"$f":"NILSM4!B41","v":0},{"$f":"NILSM4!C41","v":0},{"$f":"NILSM4!D41","v":0},{"$f":"NILSM4!G41","v":0},{"$f":"NILSM4!J41","v":0},{"$f":"NILSM4!M41","v":0},{"$f":"NILSM4!P41","v":0},{"$f":"NILSM4!S41","v":0},{"$f":"NILSM4!V41","v":0},{"$f":"NILSM4!Y41","v":0},{"$f":"NILSM4!AB41","v":0},{"$f":"NILSM4!AE41","v":0},{"$f":"NILSM4!AH41","v":0},{"$f":"NILSM4!AK41","v":0},{"$f":"NILSM4!AN41","v":0},{"$f":"NILSM4!AQ41","v":0},{"$f":"NILSM4!AT41","v":0},{"$f":"NILSM4!AW41","v":0},{"$f":"NILSM4!AZ41","v":0},{"$f":"NILSM4!BC41","v":0},{"$f":"NILSM4!BF41","v":0},{"$f":"NILSM4!BI41","v":0},{"$f":"NILSM4!BL41","v":0},{"$f":"NILSM4!BO41","v":0},{"$f":"NILSM4!BR41","v":0},{"$f":"NILSM4!BU41","v":0},{"$f":"NILSM4!BX41","v":0},{"$f":"NILSM4!CA41","v":0},{"$f":"NILSM4!CD41","v":0},{"$f":"NILSM4!CG41","v":0},{"$f":"NILSM4!CJ41","v":0},{"$f":"NILSM4!CM41","v":0}]
[{"$f":"BIODATA!A39","v":35},{"$f":"NILSM3!B42","v":0},{"$f":"NILSM3!C42","v":0},{"$f":"NILSM3!D42","v":0},{"$f":"NILSM3!G42","v":0},{"$f":"NILSM3!J42","v":0},{"$f":"NILSM3!M42","v":0},{"$f":"NILSM3!P42","v":0},{"$f":"NILSM3!S42","v":0},{"$f":"NILSM3!V42","v":0},{"$f":"NILSM3!Y42","v":0},{"$f":"NILSM3!AB42","v":0},{"$f":"NILSM3!AE42","v":0},{"$f":"NILSM3!AH42","v":0},{"$f":"NILSM3!AK42","v":0},{"$f":"NILSM3!AN42","v":0},{"$f":"NILSM3!AQ42","v":0},{"$f":"NILSM3!AT42","v":0},{"$f":"NILSM3!AW42","v":0},{"$f":"NILSM3!AZ42","v":0},{"$f":"NILSM3!BC42","v":0},{"$f":"NILSM3!BF42","v":0},{"$f":"NILSM3!BI42","v":0},{"$f":"NILSM3!BL42","v":0},{"$f":"NILSM3!BO42","v":0},{"$f":"NILSM3!BR42","v":0},{"$f":"NILSM3!BU42","v":0},{"$f":"NILSM3!BX42","v":0},{"$f":"NILSM3!CA42","v":0},{"$f":"NILSM3!CD42","v":0},{"$f":"NILSM3!CG42","v":0},{"$f":"NILSM3!CJ42","v":0},{"$f":"NILSM3!CM42","v":0},null,35,{"$f":"NILSM4!B42","v":0},{"$f":"NILSM4!C42","v":0},{"$f":"NILSM4!D42","v":0},{"$f":"NILSM4!G42","v":0},{"$f":"NILSM4!J42","v":0},{"$f":"NILSM4!M42","v":0},{"$f":"NILSM4!P42","v":0},{"$f":"NILSM4!S42","v":0},{"$f":"NILSM4!V42","v":0},{"$f":"NILSM4!Y42","v":0},{"$f":"NILSM4!AB42","v":0},{"$f":"NILSM4!AE42","v":0},{"$f":"NILSM4!AH42","v":0},{"$f":"NILSM4!AK42","v":0},{"$f":"NILSM4!AN42","v":0},{"$f":"NILSM4!AQ42","v":0},{"$f":"NILSM4!AT42","v":0},{"$f":"NILSM4!AW42","v":0},{"$f":"NILSM4!AZ42","v":0},{"$f":"NILSM4!BC42","v":0},{"$f":"NILSM4!BF42","v":0},{"$f":"NILSM4!BI42","v":0},{"$f":"NILSM4!BL42","v":0},{"$f":"NILSM4!BO42","v":0},{"$f":"NILSM4!BR42","v":0},{"$f":"NILSM4!BU42","v":0},{"$f":"NILSM4!BX42","v":0},{"$f":"NILSM4!CA42","v":0},{"$f":"NILSM4!CD42","v":0},{"$f":"NILSM4!CG42","v":0},{"$f":"NILSM4!CJ42","v":0},{"$f":"NILSM4!CM42","v":0}]
[{"$f":"BIODATA!A40","v":36},{"$f":"NILSM3!B43","v":0},{"$f":"NILSM3!C43","v":0},{"$f":"NILSM3!D43","v":0},{"$f":"NILSM3!G43","v":0},{"$f":"NILSM3!J43","v":0},{"$f":"NILSM3!M43","v":0},{"$f":"NILSM3!P43","v":0},{"$f":"NILSM3!S43","v":0},{"$f":"NILSM3!V43","v":0},{"$f":"NILSM3!Y43","v":0},{"$f":"NILSM3!AB43","v":0},{"$f":"NILSM3!AE43","v":0},{"$f":"NILSM3!AH43","v":0},{"$f":"NILSM3!AK43","v":0},{"$f":"NILSM3!AN43","v":0},{"$f":"NILSM3!AQ43","v":0},{"$f":"NILSM3!AT43","v":0},{"$f":"NILSM3!AW43","v":0},{"$f":"NILSM3!AZ43","v":0},{"$f":"NILSM3!BC43","v":0},{"$f":"NILSM3!BF43","v":0},{"$f":"NILSM3!BI43","v":0},{"$f":"NILSM3!BL43","v":0},{"$f":"NILSM3!BO43","v":0},{"$f":"NILSM3!BR43","v":0},{"$f":"NILSM3!BU43","v":0},{"$f":"NILSM3!BX43","v":0},{"$f":"NILSM3!CA43","v":0},{"$f":"NILSM3!CD43","v":0},{"$f":"NILSM3!CG43","v":0},{"$f":"NILSM3!CJ43","v":0},{"$f":"NILSM3!CM43","v":0},null,36,{"$f":"NILSM4!B43","v":0},{"$f":"NILSM4!C43","v":0},{"$f":"NILSM4!D43","v":0},{"$f":"NILSM4!G43","v":0},{"$f":"NILSM4!J43","v":0},{"$f":"NILSM4!M43","v":0},{"$f":"NILSM4!P43","v":0},{"$f":"NILSM4!S43","v":0},{"$f":"NILSM4!V43","v":0},{"$f":"NILSM4!Y43","v":0},{"$f":"NILSM4!AB43","v":0},{"$f":"NILSM4!AE43","v":0},{"$f":"NILSM4!AH43","v":0},{"$f":"NILSM4!AK43","v":0},{"$f":"NILSM4!AN43","v":0},{"$f":"NILSM4!AQ43","v":0},{"$f":"NILSM4!AT43","v":0},{"$f":"NILSM4!AW43","v":0},{"$f":"NILSM4!AZ43","v":0},{"$f":"NILSM4!BC43","v":0},{"$f":"NILSM4!BF43","v":0},{"$f":"NILSM4!BI43","v":0},{"$f":"NILSM4!BL43","v":0},{"$f":"NILSM4!BO43","v":0},{"$f":"NILSM4!BR43","v":0},{"$f":"NILSM4!BU43","v":0},{"$f":"NILSM4!BX43","v":0},{"$f":"NILSM4!CA43","v":0},{"$f":"NILSM4!CD43","v":0},{"$f":"NILSM4!CG43","v":0},{"$f":"NILSM4!CJ43","v":0},{"$f":"NILSM4!CM43","v":0}]
[{"$f":"BIODATA!A41","v":"-"},{"$f":"NILSM3!B44","v":0},{"$f":"NILSM3!C44","v":0},{"$f":"NILSM3!D44","v":"-"},{"$f":"NILSM3!G44","v":"-"},{"$f":"NILSM3!J44","v":"-"},{"$f":"NILSM3!M44","v":"-"},{"$f":"NILSM3!P44","v":"-"},{"$f":"NILSM3!S44","v":"-"},{"$f":"NILSM3!V44","v":"-"},{"$f":"NILSM3!Y44","v":"-"},{"$f":"NILSM3!AB44","v":"-"},{"$f":"NILSM3!AE44","v":"-"},{"$f":"NILSM3!AH44","v":"-"},{"$f":"NILSM3!AK44","v":"-"},{"$f":"NILSM3!AN44","v":"-"},{"$f":"NILSM3!AQ44","v":"-"},{"$f":"NILSM3!AT44","v":"-"},{"$f":"NILSM3!AW44","v":"-"},{"$f":"NILSM3!AZ44","v":"-"},{"$f":"NILSM3!BC44","v":"-"},{"$f":"NILSM3!BF44","v":"-"},{"$f":"NILSM3!BI44","v":"-"},{"$f":"NILSM3!BL44","v":"-"},{"$f":"NILSM3!BO44","v":"-"},{"$f":"NILSM3!BR44","v":"-"},{"$f":"NILSM3!BU44","v":"-"},{"$f":"NILSM3!BX44","v":"-"},{"$f":"NILSM3!CA44","v":"-"},{"$f":"NILSM3!CD44","v":"-"},{"$f":"NILSM3!CG44","v":"-"},{"$f":"NILSM3!CJ44","v":"-"},{"$f":"NILSM3!CM44","v":"-"},null,"-",{"$f":"NILSM4!B44","v":0},{"$f":"NILSM4!C44","v":0},{"$f":"NILSM4!D44","v":"-"},{"$f":"NILSM4!G44","v":"-"},{"$f":"NILSM4!J44","v":"-"},{"$f":"NILSM4!M44","v":"-"},{"$f":"NILSM4!P44","v":"-"},{"$f":"NILSM4!S44","v":"-"},{"$f":"NILSM4!V44","v":"-"},{"$f":"NILSM4!Y44","v":"-"},{"$f":"NILSM4!AB44","v":"-"},{"$f":"NILSM4!AE44","v":"-"},{"$f":"NILSM4!AH44","v":"-"},{"$f":"NILSM4!AK44","v":"-"},{"$f":"NILSM4!AN44","v":"-"},{"$f":"NILSM4!AQ44","v":"-"},{"$f":"NILSM4!AT44","v":"-"},{"$f":"NILSM4!AW44","v":"-"},{"$f":"NILSM4!AZ44","v":"-"},{"$f":"NILSM4!BC44","v":"-"},{"$f":"NILSM4!BF44","v":"-"},{"$f":"NILSM4!BI44","v":"-"},{"$f":"NILSM4!BL44","v":"-"},{"$f":"NILSM4!BO44","v":"-"},{"$f":"NILSM4!BR44","v":"-"},{"$f":"NILSM4!BU44","v":"-"},{"$f":"NILSM4!BX44","v":"-"},{"$f":"NILSM4!CA44","v":"-"},{"$f":"NILSM4!CD44","v":"-"},{"$f":"NILSM4!CG44","v":"-"},{"$f":"NILSM4!CJ44","v":"-"},{"$f":"NILSM4!CM44","v":"-"}]
[{"$f":"BIODATA!A42","v":"-"},{"$f":"NILSM3!B45","v":0},{"$f":"NILSM3!C45","v":0},{"$f":"NILSM3!D45","v":"-"},{"$f":"NILSM3!G45","v":"-"},{"$f":"NILSM3!J45","v":"-"},{"$f":"NILSM3!M45","v":"-"},{"$f":"NILSM3!P45","v":"-"},{"$f":"NILSM3!S45","v":"-"},{"$f":"NILSM3!V45","v":"-"},{"$f":"NILSM3!Y45","v":"-"},{"$f":"NILSM3!AB45","v":"-"},{"$f":"NILSM3!AE45","v":"-"},{"$f":"NILSM3!AH45","v":"-"},{"$f":"NILSM3!AK45","v":"-"},{"$f":"NILSM3!AN45","v":"-"},{"$f":"NILSM3!AQ45","v":"-"},{"$f":"NILSM3!AT45","v":"-"},{"$f":"NILSM3!AW45","v":"-"},{"$f":"NILSM3!AZ45","v":"-"},{"$f":"NILSM3!BC45","v":"-"},{"$f":"NILSM3!BF45","v":"-"},{"$f":"NILSM3!BI45","v":"-"},{"$f":"NILSM3!BL45","v":"-"},{"$f":"NILSM3!BO45","v":"-"},{"$f":"NILSM3!BR45","v":"-"},{"$f":"NILSM3!BU45","v":"-"},{"$f":"NILSM3!BX45","v":"-"},{"$f":"NILSM3!CA45","v":"-"},{"$f":"NILSM3!CD45","v":"-"},{"$f":"NILSM3!CG45","v":"-"},{"$f":"NILSM3!CJ45","v":"-"},{"$f":"NILSM3!CM45","v":"-"},null,"-",{"$f":"NILSM4!B45","v":0},{"$f":"NILSM4!C45","v":0},{"$f":"NILSM4!D45","v":"-"},{"$f":"NILSM4!G45","v":"-"},{"$f":"NILSM4!J45","v":"-"},{"$f":"NILSM4!M45","v":"-"},{"$f":"NILSM4!P45","v":"-"},{"$f":"NILSM4!S45","v":"-"},{"$f":"NILSM4!V45","v":"-"},{"$f":"NILSM4!Y45","v":"-"},{"$f":"NILSM4!AB45","v":"-"},{"$f":"NILSM4!AE45","v":"-"},{"$f":"NILSM4!AH45","v":"-"},{"$f":"NILSM4!AK45","v":"-"},{"$f":"NILSM4!AN45","v":"-"},{"$f":"NILSM4!AQ45","v":"-"},{"$f":"NILSM4!AT45","v":"-"},{"$f":"NILSM4!AW45","v":"-"},{"$f":"NILSM4!AZ45","v":"-"},{"$f":"NILSM4!BC45","v":"-"},{"$f":"NILSM4!BF45","v":"-"},{"$f":"NILSM4!BI45","v":"-"},{"$f":"NILSM4!BL45","v":"-"},{"$f":"NILSM4!BO45","v":"-"},{"$f":"NILSM4!BR45","v":"-"},{"$f":"NILSM4!BU45","v":"-"},{"$f":"NILSM4!BX45","v":"-"},{"$f":"NILSM4!CA45","v":"-"},{"$f":"NILSM4!CD45","v":"-"},{"$f":"NILSM4!CG45","v":"-"},{"$f":"NILSM4!CJ45","v":"-"},{"$f":"NILSM4!CM45","v":"-"}]
[{"$f":"BIODATA!A43","v":"-"},{"$f":"NILSM3!B46","v":0},{"$f":"NILSM3!C46","v":0},{"$f":"NILSM3!D46","v":"-"},{"$f":"NILSM3!G46","v":"-"},{"$f":"NILSM3!J46","v":"-"},{"$f":"NILSM3!M46","v":"-"},{"$f":"NILSM3!P46","v":"-"},{"$f":"NILSM3!S46","v":"-"},{"$f":"NILSM3!V46","v":"-"},{"$f":"NILSM3!Y46","v":"-"},{"$f":"NILSM3!AB46","v":"-"},{"$f":"NILSM3!AE46","v":"-"},{"$f":"NILSM3!AH46","v":"-"},{"$f":"NILSM3!AK46","v":"-"},{"$f":"NILSM3!AN46","v":"-"},{"$f":"NILSM3!AQ46","v":"-"},{"$f":"NILSM3!AT46","v":"-"},{"$f":"NILSM3!AW46","v":"-"},{"$f":"NILSM3!AZ46","v":"-"},{"$f":"NILSM3!BC46","v":"-"},{"$f":"NILSM3!BF46","v":"-"},{"$f":"NILSM3!BI46","v":"-"},{"$f":"NILSM3!BL46","v":"-"},{"$f":"NILSM3!BO46","v":"-"},{"$f":"NILSM3!BR46","v":"-"},{"$f":"NILSM3!BU46","v":"-"},{"$f":"NILSM3!BX46","v":"-"},{"$f":"NILSM3!CA46","v":"-"},{"$f":"NILSM3!CD46","v":"-"},{"$f":"NILSM3!CG46","v":"-"},{"$f":"NILSM3!CJ46","v":"-"},{"$f":"NILSM3!CM46","v":"-"},null,"-",{"$f":"NILSM4!B46","v":0},{"$f":"NILSM4!C46","v":0},{"$f":"NILSM4!D46","v":"-"},{"$f":"NILSM4!G46","v":"-"},{"$f":"NILSM4!J46","v":"-"},{"$f":"NILSM4!M46","v":"-"},{"$f":"NILSM4!P46","v":"-"},{"$f":"NILSM4!S46","v":"-"},{"$f":"NILSM4!V46","v":"-"},{"$f":"NILSM4!Y46","v":"-"},{"$f":"NILSM4!AB46","v":"-"},{"$f":"NILSM4!AE46","v":"-"},{"$f":"NILSM4!AH46","v":"-"},{"$f":"NILSM4!AK46","v":"-"},{"$f":"NILSM4!AN46","v":"-"},{"$f":"NILSM4!AQ46","v":"-"},{"$f":"NILSM4!AT46","v":"-"},{"$f":"NILSM4!AW46","v":"-"},{"$f":"NILSM4!AZ46","v":"-"},{"$f":"NILSM4!BC46","v":"-"},{"$f":"NILSM4!BF46","v":"-"},{"$f":"NILSM4!BI46","v":"-"},{"$f":"NILSM4!BL46","v":"-"},{"$f":"NILSM4!BO46","v":"-"},{"$f":"NILSM4!BR46","v":"-"},{"$f":"NILSM4!BU46","v":"-"},{"$f":"NILSM4!BX46","v":"-"},{"$f":"NILSM4!CA46","v":"-"},{"$f":"NILSM4!CD46","v":"-"},{"$f":"NILSM4!CG46","v":"-"},{"$f":"NILSM4!CJ46","v":"-"},{"$f":"NILSM4!CM46","v":"-"}]
[{"$f":"BIODATA!A44","v":"-"},{"$f":"NILSM3!B47","v":0},{"$f":"NILSM3!C47","v":0},{"$f":"NILSM3!D47","v":"-"},{"$f":"NILSM3!G47","v":"-"},{"$f":"NILSM3!J47","v":"-"},{"$f":"NILSM3!M47","v":"-"},{"$f":"NILSM3!P47","v":"-"},{"$f":"NILSM3!S47","v":"-"},{"$f":"NILSM3!V47","v":"-"},{"$f":"NILSM3!Y47","v":"-"},{"$f":"NILSM3!AB47","v":"-"},{"$f":"NILSM3!AE47","v":"-"},{"$f":"NILSM3!AH47","v":"-"},{"$f":"NILSM3!AK47","v":"-"},{"$f":"NILSM3!AN47","v":"-"},{"$f":"NILSM3!AQ47","v":"-"},{"$f":"NILSM3!AT47","v":"-"},{"$f":"NILSM3!AW47","v":"-"},{"$f":"NILSM3!AZ47","v":"-"},{"$f":"NILSM3!BC47","v":"-"},{"$f":"NILSM3!BF47","v":"-"},{"$f":"NILSM3!BI47","v":"-"},{"$f":"NILSM3!BL47","v":"-"},{"$f":"NILSM3!BO47","v":"-"},{"$f":"NILSM3!BR47","v":"-"},{"$f":"NILSM3!BU47","v":"-"},{"$f":"NILSM3!BX47","v":"-"},{"$f":"NILSM3!CA47","v":"-"},{"$f":"NILSM3!CD47","v":"-"},{"$f":"NILSM3!CG47","v":"-"},{"$f":"NILSM3!CJ47","v":"-"},{"$f":"NILSM3!CM47","v":"-"},null,"-",{"$f":"NILSM4!B47","v":0},{"$f":"NILSM4!C47","v":0},{"$f":"NILSM4!D47","v":"-"},{"$f":"NILSM4!G47","v":"-"},{"$f":"NILSM4!J47","v":"-"},{"$f":"NILSM4!M47","v":"-"},{"$f":"NILSM4!P47","v":"-"},{"$f":"NILSM4!S47","v":"-"},{"$f":"NILSM4!V47","v":"-"},{"$f":"NILSM4!Y47","v":"-"},{"$f":"NILSM4!AB47","v":"-"},{"$f":"NILSM4!AE47","v":"-"},{"$f":"NILSM4!AH47","v":"-"},{"$f":"NILSM4!AK47","v":"-"},{"$f":"NILSM4!AN47","v":"-"},{"$f":"NILSM4!AQ47","v":"-"},{"$f":"NILSM4!AT47","v":"-"},{"$f":"NILSM4!AW47","v":"-"},{"$f":"NILSM4!AZ47","v":"-"},{"$f":"NILSM4!BC47","v":"-"},{"$f":"NILSM4!BF47","v":"-"},{"$f":"NILSM4!BI47","v":"-"},{"$f":"NILSM4!BL47","v":"-"},{"$f":"NILSM4!BO47","v":"-"},{"$f":"NILSM4!BR47","v":"-"},{"$f":"NILSM4!BU47","v":"-"},{"$f":"NILSM4!BX47","v":"-"},{"$f":"NILSM4!CA47","v":"-"},{"$f":"NILSM4!CD47","v":"-"},{"$f":"NILSM4!CG47","v":"-"},{"$f":"NILSM4!CJ47","v":"-"},{"$f":"NILSM4!CM47","v":"-"}]
[{"$f":"BIODATA!A45","v":"-"},{"$f":"NILSM3!B48","v":0},{"$f":"NILSM3!C48","v":0},{"$f":"NILSM3!D48","v":"-"},{"$f":"NILSM3!G48","v":"-"},{"$f":"NILSM3!J48","v":"-"},{"$f":"NILSM3!M48","v":"-"},{"$f":"NILSM3!P48","v":"-"},{"$f":"NILSM3!S48","v":"-"},{"$f":"NILSM3!V48","v":"-"},{"$f":"NILSM3!Y48","v":"-"},{"$f":"NILSM3!AB48","v":"-"},{"$f":"NILSM3!AE48","v":"-"},{"$f":"NILSM3!AH48","v":"-"},{"$f":"NILSM3!AK48","v":"-"},{"$f":"NILSM3!AN48","v":"-"},{"$f":"NILSM3!AQ48","v":"-"},{"$f":"NILSM3!AT48","v":"-"},{"$f":"NILSM3!AW48","v":"-"},{"$f":"NILSM3!AZ48","v":"-"},{"$f":"NILSM3!BC48","v":"-"},{"$f":"NILSM3!BF48","v":"-"},{"$f":"NILSM3!BI48","v":"-"},{"$f":"NILSM3!BL48","v":"-"},{"$f":"NILSM3!BO48","v":"-"},{"$f":"NILSM3!BR48","v":"-"},{"$f":"NILSM3!BU48","v":"-"},{"$f":"NILSM3!BX48","v":"-"},{"$f":"NILSM3!CA48","v":"-"},{"$f":"NILSM3!CD48","v":"-"},{"$f":"NILSM3!CG48","v":"-"},{"$f":"NILSM3!CJ48","v":"-"},{"$f":"NILSM3!CM48","v":"-"},null,"-",{"$f":"NILSM4!B48","v":0},{"$f":"NILSM4!C48","v":0},{"$f":"NILSM4!D48","v":"-"},{"$f":"NILSM4!G48","v":"-"},{"$f":"NILSM4!J48","v":"-"},{"$f":"NILSM4!M48","v":"-"},{"$f":"NILSM4!P48","v":"-"},{"$f":"NILSM4!S48","v":"-"},{"$f":"NILSM4!V48","v":"-"},{"$f":"NILSM4!Y48","v":"-"},{"$f":"NILSM4!AB48","v":"-"},{"$f":"NILSM4!AE48","v":"-"},{"$f":"NILSM4!AH48","v":"-"},{"$f":"NILSM4!AK48","v":"-"},{"$f":"NILSM4!AN48","v":"-"},{"$f":"NILSM4!AQ48","v":"-"},{"$f":"NILSM4!AT48","v":"-"},{"$f":"NILSM4!AW48","v":"-"},{"$f":"NILSM4!AZ48","v":"-"},{"$f":"NILSM4!BC48","v":"-"},{"$f":"NILSM4!BF48","v":"-"},{"$f":"NILSM4!BI48","v":"-"},{"$f":"NILSM4!BL48","v":"-"},{"$f":"NILSM4!BO48","v":"-"},{"$f":"NILSM4!BR48","v":"-"},{"$f":"NILSM4!BU48","v":"-"},{"$f":"NILSM4!BX48","v":"-"},{"$f":"NILSM4!CA48","v":"-"},{"$f":"NILSM4!CD48","v":"-"},{"$f":"NILSM4!CG48","v":"-"},{"$f":"NILSM4!CJ48","v":"-"},{"$f":"NILSM4!CM48","v":"-"}]
[{"$f":"BIODATA!A46","v":"-"},{"$f":"NILSM3!B49","v":0},{"$f":"NILSM3!C49","v":0},{"$f":"NILSM3!D49","v":"-"},{"$f":"NILSM3!G49","v":"-"},{"$f":"NILSM3!J49","v":"-"},{"$f":"NILSM3!M49","v":"-"},{"$f":"NILSM3!P49","v":"-"},{"$f":"NILSM3!S49","v":"-"},{"$f":"NILSM3!V49","v":"-"},{"$f":"NILSM3!Y49","v":"-"},{"$f":"NILSM3!AB49","v":"-"},{"$f":"NILSM3!AE49","v":"-"},{"$f":"NILSM3!AH49","v":"-"},{"$f":"NILSM3!AK49","v":"-"},{"$f":"NILSM3!AN49","v":"-"},{"$f":"NILSM3!AQ49","v":"-"},{"$f":"NILSM3!AT49","v":"-"},{"$f":"NILSM3!AW49","v":"-"},{"$f":"NILSM3!AZ49","v":"-"},{"$f":"NILSM3!BC49","v":"-"},{"$f":"NILSM3!BF49","v":"-"},{"$f":"NILSM3!BI49","v":"-"},{"$f":"NILSM3!BL49","v":"-"},{"$f":"NILSM3!BO49","v":"-"},{"$f":"NILSM3!BR49","v":"-"},{"$f":"NILSM3!BU49","v":"-"},{"$f":"NILSM3!BX49","v":"-"},{"$f":"NILSM3!CA49","v":"-"},{"$f":"NILSM3!CD49","v":"-"},{"$f":"NILSM3!CG49","v":"-"},{"$f":"NILSM3!CJ49","v":"-"},{"$f":"NILSM3!CM49","v":"-"},null,"-",{"$f":"NILSM4!B49","v":0},{"$f":"NILSM4!C49","v":0},{"$f":"NILSM4!D49","v":"-"},{"$f":"NILSM4!G49","v":"-"},{"$f":"NILSM4!J49","v":"-"},{"$f":"NILSM4!M49","v":"-"},{"$f":"NILSM4!P49","v":"-"},{"$f":"NILSM4!S49","v":"-"},{"$f":"NILSM4!V49","v":"-"},{"$f":"NILSM4!Y49","v":"-"},{"$f":"NILSM4!AB49","v":"-"},{"$f":"NILSM4!AE49","v":"-"},{"$f":"NILSM4!AH49","v":"-"},{"$f":"NILSM4!AK49","v":"-"},{"$f":"NILSM4!AN49","v":"-"},{"$f":"NILSM4!AQ49","v":"-"},{"$f":"NILSM4!AT49","v":"-"},{"$f":"NILSM4!AW49","v":"-"},{"$f":"NILSM4!AZ49","v":"-"},{"$f":"NILSM4!BC49","v":"-"},{"$f":"NILSM4!BF49","v":"-"},{"$f":"NILSM4!BI49","v":"-"},{"$f":"NILSM4!BL49","v":"-"},{"$f":"NILSM4!BO49","v":"-"},{"$f":"NILSM4!BR49","v":"-"},{"$f":"NILSM4!BU49","v":"-"},{"$f":"NILSM4!BX49","v":"-"},{"$f":"NILSM4!CA49","v":"-"},{"$f":"NILSM4!CD49","v":"-"},{"$f":"NILSM4!CG49","v":"-"},{"$f":"NILSM4!CJ49","v":"-"},{"$f":"NILSM4!CM49","v":"-"}]
[{"$f":"BIODATA!A47","v":"-"},{"$f":"NILSM3!B50","v":0},{"$f":"NILSM3!C50","v":0},{"$f":"NILSM3!D50","v":"-"},{"$f":"NILSM3!G50","v":"-"},{"$f":"NILSM3!J50","v":"-"},{"$f":"NILSM3!M50","v":"-"},{"$f":"NILSM3!P50","v":"-"},{"$f":"NILSM3!S50","v":"-"},{"$f":"NILSM3!V50","v":"-"},{"$f":"NILSM3!Y50","v":"-"},{"$f":"NILSM3!AB50","v":"-"},{"$f":"NILSM3!AE50","v":"-"},{"$f":"NILSM3!AH50","v":"-"},{"$f":"NILSM3!AK50","v":"-"},{"$f":"NILSM3!AN50","v":"-"},{"$f":"NILSM3!AQ50","v":"-"},{"$f":"NILSM3!AT50","v":"-"},{"$f":"NILSM3!AW50","v":"-"},{"$f":"NILSM3!AZ50","v":"-"},{"$f":"NILSM3!BC50","v":"-"},{"$f":"NILSM3!BF50","v":"-"},{"$f":"NILSM3!BI50","v":"-"},{"$f":"NILSM3!BL50","v":"-"},{"$f":"NILSM3!BO50","v":"-"},{"$f":"NILSM3!BR50","v":"-"},{"$f":"NILSM3!BU50","v":"-"},{"$f":"NILSM3!BX50","v":"-"},{"$f":"NILSM3!CA50","v":"-"},{"$f":"NILSM3!CD50","v":"-"},{"$f":"NILSM3!CG50","v":"-"},{"$f":"NILSM3!CJ50","v":"-"},{"$f":"NILSM3!CM50","v":"-"},null,"-",{"$f":"NILSM4!B50","v":0},{"$f":"NILSM4!C50","v":0},{"$f":"NILSM4!D50","v":"-"},{"$f":"NILSM4!G50","v":"-"},{"$f":"NILSM4!J50","v":"-"},{"$f":"NILSM4!M50","v":"-"},{"$f":"NILSM4!P50","v":"-"},{"$f":"NILSM4!S50","v":"-"},{"$f":"NILSM4!V50","v":"-"},{"$f":"NILSM4!Y50","v":"-"},{"$f":"NILSM4!AB50","v":"-"},{"$f":"NILSM4!AE50","v":"-"},{"$f":"NILSM4!AH50","v":"-"},{"$f":"NILSM4!AK50","v":"-"},{"$f":"NILSM4!AN50","v":"-"},{"$f":"NILSM4!AQ50","v":"-"},{"$f":"NILSM4!AT50","v":"-"},{"$f":"NILSM4!AW50","v":"-"},{"$f":"NILSM4!AZ50","v":"-"},{"$f":"NILSM4!BC50","v":"-"},{"$f":"NILSM4!BF50","v":"-"},{"$f":"NILSM4!BI50","v":"-"},{"$f":"NILSM4!BL50","v":"-"},{"$f":"NILSM4!BO50","v":"-"},{"$f":"NILSM4!BR50","v":"-"},{"$f":"NILSM4!BU50","v":"-"},{"$f":"NILSM4!BX50","v":"-"},{"$f":"NILSM4!CA50","v":"-"},{"$f":"NILSM4!CD50","v":"-"},{"$f":"NILSM4!CG50","v":"-"},{"$f":"NILSM4!CJ50","v":"-"},{"$f":"NILSM4!CM50","v":"-"}]
[{"$f":"BIODATA!A48","v":"-"},{"$f":"NILSM3!B51","v":0},{"$f":"NILSM3!C51","v":0},{"$f":"NILSM3!D51","v":"-"},{"$f":"NILSM3!G51","v":"-"},{"$f":"NILSM3!J51","v":"-"},{"$f":"NILSM3!M51","v":"-"},{"$f":"NILSM3!P51","v":"-"},{"$f":"NILSM3!S51","v":"-"},{"$f":"NILSM3!V51","v":"-"},{"$f":"NILSM3!Y51","v":"-"},{"$f":"NILSM3!AB51","v":"-"},{"$f":"NILSM3!AE51","v":"-"},{"$f":"NILSM3!AH51","v":"-"},{"$f":"NILSM3!AK51","v":"-"},{"$f":"NILSM3!AN51","v":"-"},{"$f":"NILSM3!AQ51","v":"-"},{"$f":"NILSM3!AT51","v":"-"},{"$f":"NILSM3!AW51","v":"-"},{"$f":"NILSM3!AZ51","v":"-"},{"$f":"NILSM3!BC51","v":"-"},{"$f":"NILSM3!BF51","v":"-"},{"$f":"NILSM3!BI51","v":"-"},{"$f":"NILSM3!BL51","v":"-"},{"$f":"NILSM3!BO51","v":"-"},{"$f":"NILSM3!BR51","v":"-"},{"$f":"NILSM3!BU51","v":"-"},{"$f":"NILSM3!BX51","v":"-"},{"$f":"NILSM3!CA51","v":"-"},{"$f":"NILSM3!CD51","v":"-"},{"$f":"NILSM3!CG51","v":"-"},{"$f":"NILSM3!CJ51","v":"-"},{"$f":"NILSM3!CM51","v":"-"},null,"-",{"$f":"NILSM4!B51","v":0},{"$f":"NILSM4!C51","v":0},{"$f":"NILSM4!D51","v":"-"},{"$f":"NILSM4!G51","v":"-"},{"$f":"NILSM4!J51","v":"-"},{"$f":"NILSM4!M51","v":"-"},{"$f":"NILSM4!P51","v":"-"},{"$f":"NILSM4!S51","v":"-"},{"$f":"NILSM4!V51","v":"-"},{"$f":"NILSM4!Y51","v":"-"},{"$f":"NILSM4!AB51","v":"-"},{"$f":"NILSM4!AE51","v":"-"},{"$f":"NILSM4!AH51","v":"-"},{"$f":"NILSM4!AK51","v":"-"},{"$f":"NILSM4!AN51","v":"-"},{"$f":"NILSM4!AQ51","v":"-"},{"$f":"NILSM4!AT51","v":"-"},{"$f":"NILSM4!AW51","v":"-"},{"$f":"NILSM4!AZ51","v":"-"},{"$f":"NILSM4!BC51","v":"-"},{"$f":"NILSM4!BF51","v":"-"},{"$f":"NILSM4!BI51","v":"-"},{"$f":"NILSM4!BL51","v":"-"},{"$f":"NILSM4!BO51","v":"-"},{"$f":"NILSM4!BR51","v":"-"},{"$f":"NILSM4!BU51","v":"-"},{"$f":"NILSM4!BX51","v":"-"},{"$f":"NILSM4!CA51","v":"-"},{"$f":"NILSM4!CD51","v":"-"},{"$f":"NILSM4!CG51","v":"-"},{"$f":"NILSM4!CJ51","v":"-"},{"$f":"NILSM4!CM51","v":"-"}]
[{"$f":"BIODATA!A49","v":"-"},{"$f":"NILSM3!B52","v":0},{"$f":"NILSM3!C52","v":0},{"$f":"NILSM3!D52","v":"-"},{"$f":"NILSM3!G52","v":"-"},{"$f":"NILSM3!J52","v":"-"},{"$f":"NILSM3!M52","v":"-"},{"$f":"NILSM3!P52","v":"-"},{"$f":"NILSM3!S52","v":"-"},{"$f":"NILSM3!V52","v":"-"},{"$f":"NILSM3!Y52","v":"-"},{"$f":"NILSM3!AB52","v":"-"},{"$f":"NILSM3!AE52","v":"-"},{"$f":"NILSM3!AH52","v":"-"},{"$f":"NILSM3!AK52","v":"-"},{"$f":"NILSM3!AN52","v":"-"},{"$f":"NILSM3!AQ52","v":"-"},{"$f":"NILSM3!AT52","v":"-"},{"$f":"NILSM3!AW52","v":"-"},{"$f":"NILSM3!AZ52","v":"-"},{"$f":"NILSM3!BC52","v":"-"},{"$f":"NILSM3!BF52","v":"-"},{"$f":"NILSM3!BI52","v":"-"},{"$f":"NILSM3!BL52","v":"-"},{"$f":"NILSM3!BO52","v":"-"},{"$f":"NILSM3!BR52","v":"-"},{"$f":"NILSM3!BU52","v":"-"},{"$f":"NILSM3!BX52","v":"-"},{"$f":"NILSM3!CA52","v":"-"},{"$f":"NILSM3!CD52","v":"-"},{"$f":"NILSM3!CG52","v":"-"},{"$f":"NILSM3!CJ52","v":"-"},{"$f":"NILSM3!CM52","v":"-"},null,"-",{"$f":"NILSM4!B52","v":0},{"$f":"NILSM4!C52","v":0},{"$f":"NILSM4!D52","v":"-"},{"$f":"NILSM4!G52","v":"-"},{"$f":"NILSM4!J52","v":"-"},{"$f":"NILSM4!M52","v":"-"},{"$f":"NILSM4!P52","v":"-"},{"$f":"NILSM4!S52","v":"-"},{"$f":"NILSM4!V52","v":"-"},{"$f":"NILSM4!Y52","v":"-"},{"$f":"NILSM4!AB52","v":"-"},{"$f":"NILSM4!AE52","v":"-"},{"$f":"NILSM4!AH52","v":"-"},{"$f":"NILSM4!AK52","v":"-"},{"$f":"NILSM4!AN52","v":"-"},{"$f":"NILSM4!AQ52","v":"-"},{"$f":"NILSM4!AT52","v":"-"},{"$f":"NILSM4!AW52","v":"-"},{"$f":"NILSM4!AZ52","v":"-"},{"$f":"NILSM4!BC52","v":"-"},{"$f":"NILSM4!BF52","v":"-"},{"$f":"NILSM4!BI52","v":"-"},{"$f":"NILSM4!BL52","v":"-"},{"$f":"NILSM4!BO52","v":"-"},{"$f":"NILSM4!BR52","v":"-"},{"$f":"NILSM4!BU52","v":"-"},{"$f":"NILSM4!BX52","v":"-"},{"$f":"NILSM4!CA52","v":"-"},{"$f":"NILSM4!CD52","v":"-"},{"$f":"NILSM4!CG52","v":"-"},{"$f":"NILSM4!CJ52","v":"-"},{"$f":"NILSM4!CM52","v":"-"}]
[]
[]
[]
[]
[]
[]
[]
[]
[]
[]
[]
[]
[null,null,null,3.59]
[null,null,null,3.59]
[null,null,null,3.5]
[null,null,null,3.48]
[null,null,null,3.54]
[null,null,null,3.39]
[null,null,null,3.45]
[null,null,null,3.45]
[null,null,null,3.29]
[null,null,null,3.45]
[null,null,null,3.45]
[null,null,null,3.45]

{"sheet":"PDSSXII","index":27,"n_rows":76,"n_cols":67,"rows_kept":76,"cut":false,"hidden":false,"merged":[[1,0,1,1],[1,34,1,35]]}
[null,null,null,{"$f":"$B$3&D3&D4&D6","v":"5 (lima)A1P"},{"$f":"$B$3&E3&E4&E6","v":"5 (lima)A2P"},"5 (lima)A3P","5 (lima)A4P","5 (lima)A5P","5 (lima)A6P","5 (lima)B1P","5 (lima)B2P","5 (lima)B3P","5 (lima)B4P","5 (lima)C11P","5 (lima)C12P","5 (lima)C13P","5 (lima)C24P","5 (lima)C25P","5 (lima)C26P","5 (lima)C27P","5 (lima)C31P","5 (lima)C32P","5 (lima)C33P","5 (lima)C34P","5 (lima)C35P","5 (lima)C36P","5 (lima)C3-P","5 (lima)C3-P","5 (lima)C3-P","5 (lima)C3-P","5 (lima)C3-P","5 (lima)C3-P","5 (lima)C3-P"]
[{"$f":"\"PENGOLAHAN NILAI PDSS TAHUN PELAJARAN \"&MENU!I21","v":"PENGOLAHAN NILAI PDSS TAHUN PELAJARAN 2019 / 2020"},null,"                    NAMA MAPEL",{"$f":"HLOOKUP(MENU!$I$8&\" \"&$B$3,DATABASE!$X$2:$CK$92,DATABASE!W3,FALSE)","v":"Pendidikan Agama dan Budi Pekerti"},{"$f":"HLOOKUP(MENU!$I$8&\" \"&$B$3,DATABASE!$X$2:$CK$92,DATABASE!W6,FALSE)","v":"Pendidikan Pancasila dan Kewarganegaraan"},{"$f":"HLOOKUP(MENU!$I$8&\" \"&$B$3,DATABASE!$X$2:$CK$92,DATABASE!W9,FALSE)","v":"Bahasa Indonesia"},{"$f":"HLOOKUP(MENU!$I$8&\" \"&$B$3,DATABASE!$X$2:$CK$92,DATABASE!W12,FALSE)","v":"Matematika"},{"$f":"HLOOKUP(MENU!$I$8&\" \"&$B$3,DATABASE!$X$2:$CK$92,DATABASE!W15,FALSE)","v":"-"},{"$f":"HLOOKUP(MENU!$I$8&\" \"&$B$3,DATABASE!$X$2:$CK$92,DATABASE!W18,FALSE)","v":"Bahasa Inggris"},{"$f":"HLOOKUP(MENU!$I$8&\" \"&$B$3,DATABASE!$X$2:$CK$92,DATABASE!W21,FALSE)","v":"-"},{"$f":"HLOOKUP(MENU!$I$8&\" \"&$B$3,DATABASE!$X$2:$CK$92,DATABASE!W24,FALSE)","v":"-"},{"$f":"HLOOKUP(MENU!$I$8&\" \"&$B$3,DATABASE!$X$2:$CK$92,DATABASE!W27,FALSE)","v":"-"},{"$f":"HLOOKUP(MENU!$I$8&\" \"&$B$3,DATABASE!$X$2:$CK$92,DATABASE!W30,FALSE)","v":"Bahasa Jepang"},{"$f":"HLOOKUP(MENU!$I$8&\" \"&$B$3,DATABASE!$X$2:$CK$92,DATABASE!W33,FALSE)","v":"-"},{"$f":"HLOOKUP(MENU!$I$8&\" \"&$B$3,DATABASE!$X$2:$CK$92,DATABASE!W36,FALSE)","v":"-"},{"$f":"HLOOKUP(MENU!$I$8&\" \"&$B$3,DATABASE!$X$2:$CK$92,DATABASE!W39,FALSE)","v":"-"},{"$f":"HLOOKUP(MENU!$I$8&\" \"&$B$3,DATABASE!$X$2:$CK$92,DATABASE!W42,FALSE)","v":"-"},{"$f":"HLOOKUP(MENU!$I$8&\" \"&$B$3,DATABASE!$X$2:$CK$92,DATABASE!W45,FALSE)","v":"-"},{"$f":"HLOOKUP(MENU!$I$8&\" \"&$B$3,DATABASE!$X$2:$CK$92,DATABASE!W48,FALSE)","v":"-"},{"$f":"HLOOKUP(MENU!$I$8&\" \"&$B$3,DATABASE!$X$2:$CK$92,DATABASE!W51,FALSE)","v":"-"},{"$f":"HLOOKUP(MENU!$I$8&\" \"&$B$3,DATABASE!$X$2:$CK$92,DATABASE!W54,FALSE)","v":"Administrasi Infrastruktur Jaringan"},{"$f":"HLOOKUP(MENU!$I$8&\" \"&$B$3,DATABASE!$X$2:$CK$92,DATABASE!W57,FALSE)","v":"Administrasi Sistem Jaringan"},{"$f":"HLOOKUP(MENU!$I$8&\" \"&$B$3,DATABASE!$X$2:$CK$92,DATABASE!W60,FALSE)","v":"Teknologi Layanan Jaringan"},{"$f":"HLOOKUP(MENU!$I$8&\" \"&$B$3,DATABASE!$X$2:$CK$92,DATABASE!W63,FALSE)","v":"-"},{"$f":"HLOOKUP(MENU!$I$8&\" \"&$B$3,DATABASE!$X$2:$CK$92,DATABASE!W66,FALSE)","v":"-"},{"$f":"HLOOKUP(MENU!$I$8&\" \"&$B$3,DATABASE!$X$2:$CK$92,DATABASE!W69,FALSE)","v":"Produk Kreatif dan Kewirausahaan "},{"$f":"HLOOKUP(MENU!$I$8&\" \"&$B$3,DATABASE!$X$2:$CK$92,DATABASE!W72,FALSE)","v":"-"},{"$f":"HLOOKUP(MENU!$I$8&\" \"&$B$3,DATABASE!$X$2:$CK$92,DATABASE!W75,FALSE)","v":"-"},{"$f":"HLOOKUP(MENU!$I$8&\" \"&$B$3,DATABASE!$X$2:$CK$92,DATABASE!W78,FALSE)","v":"-"},{"$f":"HLOOKUP(MENU!$I$8&\" \"&$B$3,DATABASE!$X$2:$CK$92,DATABASE!W81,FALSE)","v":"-"},{"$f":"HLOOKUP(MENU!$I$8&\" \"&$B$3,DATABASE!$X$2:$CK$92,DATABASE!W84,FALSE)","v":"-"},{"$f":"HLOOKUP(MENU!$I$8&\" \"&$B$3,DATABASE!$X$2:$CK$92,DATABASE!W87,FALSE)","v":"-"},{"$f":"HLOOKUP(MENU!$I$8&\" \"&$B$3,DATABASE!$X$2:$CK$92,DATABASE!W90,FALSE)","v":"-"},null,null,null,"                    NAMA MAPEL",{"$f":"HLOOKUP(MENU!$I$8&\" \"&$B$3,DATABASE!$X$2:$CK$92,DATABASE!W3,FALSE)","v":"Pendidikan Agama dan Budi Pekerti"},{"$f":"HLOOKUP(MENU!$I$8&\" \"&$B$3,DATABASE!$X$2:$CK$92,DATABASE!W6,FALSE)","v":"Pendidikan Pancasila dan Kewarganegaraan"},{"$f":"HLOOKUP(MENU!$I$8&\" \"&$B$3,DATABASE!$X$2:$CK$92,DATABASE!W9,FALSE)","v":"Bahasa Indonesia"},{"$f":"HLOOKUP(MENU!$I$8&\" \"&$B$3,DATABASE!$X$2:$CK$92,DATABASE!W12,FALSE)","v":"Matematika"},{"$f":"HLOOKUP(MENU!$I$8&\" \"&$B$3,DATABASE!$X$2:$CK$92,DATABASE!W15,FALSE)","v":"-"},{"$f":"HLOOKUP(MENU!$I$8&\" \"&$B$3,DATABASE!$X$2:$CK$92,DATABASE!W18,FALSE)","v":"Bahasa Inggris"},{"$f":"HLOOKUP(MENU!$I$8&\" \"&$B$3,DATABASE!$X$2:$CK$92,DATABASE!W21,FALSE)","v":"-"},{"$f":"HLOOKUP(MENU!$I$8&\" \"&$B$3,DATABASE!$X$2:$CK$92,DATABASE!W24,FALSE)","v":"-"},{"$f":"HLOOKUP(MENU!$I$8&\" \"&$B$3,DATABASE!$X$2:$CK$92,DATABASE!W27,FALSE)","v":"-"},{"$f":"HLOOKUP(MENU!$I$8&\" \"&$B$3,DATABASE!$X$2:$CK$92,DATABASE!W30,FALSE)","v":"Bahasa Jepang"},{"$f":"HLOOKUP(MENU!$I$8&\" \"&$B$3,DATABASE!$X$2:$CK$92,DATABASE!W33,FALSE)","v":"-"},{"$f":"HLOOKUP(MENU!$I$8&\" \"&$B$3,DATABASE!$X$2:$CK$92,DATABASE!W36,FALSE)","v":"-"},{"$f":"HLOOKUP(MENU!$I$8&\" \"&$B$3,DATABASE!$X$2:$CK$92,DATABASE!W39,FALSE)","v":"-"},{"$f":"HLOOKUP(MENU!$I$8&\" \"&$B$3,DATABASE!$X$2:$CK$92,DATABASE!W42,FALSE)","v":"-"},{"$f":"HLOOKUP(MENU!$I$8&\" \"&$B$3,DATABASE!$X$2:$CK$92,DATABASE!W45,FALSE)","v":"-"},{"$f":"HLOOKUP(MENU!$I$8&\" \"&$B$3,DATABASE!$X$2:$CK$92,DATABASE!W48,FALSE)","v":"-"},{"$f":"HLOOKUP(MENU!$I$8&\" \"&$B$3,DATABASE!$X$2:$CK$92,DATABASE!W51,FALSE)","v":"-"},{"$f":"HLOOKUP(MENU!$I$8&\" \"&$B$3,DATABASE!$X$2:$CK$92,DATABASE!W54,FALSE)","v":"Administrasi Infrastruktur Jaringan"},{"$f":"HLOOKUP(MENU!$I$8&\" \"&$B$3,DATABASE!$X$2:$CK$92,DATABASE!W57,FALSE)","v":"Administrasi Sistem Jaringan"},{"$f":"HLOOKUP(MENU!$I$8&\" \"&$B$3,DATABASE!$X$2:$CK$92,DATABASE!W60,FALSE)","v":"Teknologi Layanan Jaringan"},{"$f":"HLOOKUP(MENU!$I$8&\" \"&$B$3,DATABASE!$X$2:$CK$92,DATABASE!W63,FALSE)","v":"-"},{"$f":"HLOOKUP(MENU!$I$8&\" \"&$B$3,DATABASE!$X$2:$CK$92,DATABASE!W66,FALSE)","v":"-"},{"$f":"HLOOKUP(MENU!$I$8&\" \"&$B$3,DATABASE!$X$2:$CK$92,DATABASE!W69,FALSE)","v":"Produk Kreatif dan Kewirausahaan "},{"$f":"HLOOKUP(MENU!$I$8&\" \"&$B$3,DATABASE!$X$2:$CK$92,DATABASE!W72,FALSE)","v":"-"},{"$f":"HLOOKUP(MENU!$I$8&\" \"&$B$3,DATABASE!$X$2:$CK$92,DATABASE!W75,FALSE)","v":"-"},{"$f":"HLOOKUP(MENU!$I$8&\" \"&$B$3,DATABASE!$X$2:$CK$92,DATABASE!W78,FALSE)","v":"-"},{"$f":"HLOOKUP(MENU!$I$8&\" \"&$B$3,DATABASE!$X$2:$CK$92,DATABASE!W81,FALSE)","v":"-"},{"$f":"HLOOKUP(MENU!$I$8&\" \"&$B$3,DATABASE!$X$2:$CK$92,DATABASE!W84,FALSE)","v":"-"},{"$f":"HLOOKUP(MENU!$I$8&\" \"&$B$3,DATABASE!$X$2:$CK$92,DATABASE!W87,FALSE)","v":"-"},{"$f":"HLOOKUP(MENU!$I$8&\" \"&$B$3,DATABASE!$X$2:$CK$92,DATABASE!W90,FALSE)","v":"-"}]
["Semester  :",{"$f":"NILSM5!B3","v":"5 (lima)"},"KELOMPOK MAPEL","A","A","A","A","A","A","B","B","B","B","C1","C1","C1","C2","C2","C2","C2","C3","C3","C3","C3","C3","C3","C3","C3","C3","C3","C3","C3","C3",null,"Semester  :",{"$f":"NILSM6!B3","v":"6 (enam)"},"KELOMPOK MAPEL","A","A","A","A","A","A","B","B","B","B","C1","C1","C1","C2","C2","C2","C2","C3","C3","C3","C3","C3","C3","-","-","-","-","-","-","-"]
["Wali Kelas :",{"$f":"NILSM5!B4","v":"Amo Sisdianto, S.Kom"},"URUTAN MAPEL",1,2,3,4,5,6,1,2,3,4,1,2,3,4,5,6,7,1,2,3,4,5,6,"-","-","-","-","-","-","-",null,"Wali Kelas :",{"$f":"NILSM6!B4","v":"Amo Sisdianto, S.Kom"},"URUTAN MAPEL",1,2,3,4,5,6,1,2,3,4,1,2,3,4,5,6,7,1,2,3,4,5,6,"-","-","-","-","-","-","-"]
[{"$f":"NILSM5!A5","v":"PegId"},{"$f":"NILSM5!B5","v":"20217802182001"},"KKM",75,75,75,75,75,75,75,75,75,75,75,75,75,75,75,75,75,75,75,75,75,75,75,75,75,75,75,75,75,75,null,{"$f":"NILSM6!A5","v":"PegId"},{"$f":"NILSM6!B5","v":"20217802182001"},"KKM",75,75,75,75,75,75,75,75,75,75,75,75,75,75,75,75,75,75,75,75,75,75,75,75,75,75,75,75,75,75]
["NO. URUT","NAMA SISWA","NIS","P","P","P","P","P","P","P","P","P","P","P","P","P","P","P","P","P","P","P","P","P","P","P","P","P","P","P","P","P","P",null,"NO. URUT","NAMA SISWA","NIS","P","P","P","P","P","P","P","P","P","P","P","P","P","P","P","P","P","P","P","P","P","P","P","P","P","P","P","P","P","P"]
[1,2,3,4,7,10,13,16,19,22,25,28,31,34,37,40,43,46,49,52,55,58,61,64,67,70,73,76,79,82,85,88,91,null,1,2,3,4,7,10,13,16,19,22,25,28,31,34,37,40,43,46,49,52,55,58,61,64,67,70,73,76,79,82,85,88,91]
[{"$f":"BIODATA!A5","v":1},{"$f":"NILSM5!B8","v":"AGHNIA SYAFIRA"},{"$f":"NILSM5!C8","v":13140767},{"$f":"NILSM5!D8","v":75},{"$f":"NILSM5!G8","v":77},{"$f":"NILSM5!J8","v":79},{"$f":"NILSM5!M8","v":81},{"$f":"NILSM5!P8","v":"-"},{"$f":"NILSM5!S8","v":85},{"$f":"NILSM5!V8","v":"-"},{"$f":"NILSM5!Y8","v":"-"},{"$f":"NILSM5!AB8","v":"-"},{"$f":"NILSM5!AE8","v":93},{"$f":"NILSM5!AH8","v":"-"},{"$f":"NILSM5!AK8","v":"-"},{"$f":"NILSM5!AN8","v":"-"},{"$f":"NILSM5!AQ8","v":"-"},{"$f":"NILSM5!AT8","v":"-"},{"$f":"NILSM5!AW8","v":"-"},{"$f":"NILSM5!AZ8","v":"-"},{"$f":"NILSM5!BC8","v":77},{"$f":"NILSM5!BF8","v":79},{"$f":"NILSM5!BI8","v":81},{"$f":"NILSM5!BL8","v":"-"},{"$f":"NILSM5!BO8","v":"-"},{"$f":"NILSM5!BR8","v":77},{"$f":"NILSM5!BU8","v":"-"},{"$f":"NILSM5!BX8","v":"-"},{"$f":"NILSM5!CA8","v":"-"},{"$f":"NILSM5!CD8","v":"-"},{"$f":"NILSM5!CG8","v":"-"},{"$f":"NILSM5!CJ8","v":"-"},{"$f":"NILSM5!CM8","v":"-"},null,{"$f":"A8","v":1},{"$f":"NILSM6!B8","v":"AGHNIA SYAFIRA"},{"$f":"NILSM6!C8","v":13140767},{"$f":"NILSM6!D8","v":75},{"$f":"NILSM6!G8","v":77},{"$f":"NILSM6!J8","v":79},{"$f":"NILSM6!M8","v":81},{"$f":"NILSM6!P8","v":"-"},{"$f":"NILSM6!S8","v":85},{"$f":"NILSM6!V8","v":"-"},{"$f":"NILSM6!Y8","v":"-"},{"$f":"NILSM6!AB8","v":"-"},{"$f":"NILSM6!AE8","v":93},{"$f":"NILSM6!AH8","v":"-"},{"$f":"NILSM6!AK8","v":"-"},{"$f":"NILSM6!AN8","v":"-"},{"$f":"NILSM6!AQ8","v":"-"},{"$f":"NILSM6!AT8","v":"-"},{"$f":"NILSM6!AW8","v":"-"},{"$f":"NILSM6!AZ8","v":"-"},{"$f":"NILSM6!BC8","v":87},{"$f":"NILSM6!BF8","v":89},{"$f":"NILSM6!BI8","v":91},{"$f":"NILSM6!BL8","v":"-"},{"$f":"NILSM6!BO8","v":"-"},{"$f":"NILSM6!BR8","v":81},{"$f":"NILSM6!BU8","v":"-"},{"$f":"NILSM6!BX8","v":"-"},{"$f":"NILSM6!CA8","v":"-"},{"$f":"NILSM6!CD8","v":"-"},{"$f":"NILSM6!CG8","v":"-"},{"$f":"NILSM6!CJ8","v":"-"},{"$f":"NILSM6!CM8","v":"-"}]
[{"$f":"BIODATA!A6","v":2},{"$f":"BIODATA!C6","v":"AL KINDI"},{"$f":"BIODATA!D6","v":13140768},{"$f":"NILSM5!D9","v":90},{"$f":"NILSM5!G9","v":90},{"$f":"NILSM5!J9","v":90},{"$f":"NILSM5!M9","v":90},{"$f":"NILSM5!P9","v":"-"},{"$f":"NILSM5!S9","v":87},{"$f":"NILSM5!V9","v":"-"},{"$f":"NILSM5!Y9","v":"-"},{"$f":"NILSM5!AB9","v":"-"},{"$f":"NILSM5!AE9","v":95},{"$f":"NILSM5!AH9","v":"-"},{"$f":"NILSM5!AK9","v":"-"},{"$f":"NILSM5!AN9","v":"-"},{"$f":"NILSM5!AQ9","v":"-"},{"$f":"NILSM5!AT9","v":"-"},{"$f":"NILSM5!AW9","v":"-"},{"$f":"NILSM5!AZ9","v":"-"},{"$f":"NILSM5!BC9","v":79},{"$f":"NILSM5!BF9","v":81},{"$f":"NILSM5!BI9","v":83},{"$f":"NILSM5!BL9","v":"-"},{"$f":"NILSM5!BO9","v":"-"},{"$f":"NILSM5!BR9","v":79},{"$f":"NILSM5!BU9","v":"-"},{"$f":"NILSM5!BX9","v":"-"},{"$f":"NILSM5!CA9","v":"-"},{"$f":"NILSM5!CD9","v":"-"},{"$f":"NILSM5!CG9","v":"-"},{"$f":"NILSM5!CJ9","v":"-"},{"$f":"NILSM5!CM9","v":"-"},null,{"$f":"A9","v":2},{"$f":"NILSM6!B9","v":"AL KINDI"},{"$f":"NILSM6!C9","v":13140768},{"$f":"NILSM6!D9","v":90},{"$f":"NILSM6!G9","v":90},{"$f":"NILSM6!J9","v":90},{"$f":"NILSM6!M9","v":90},{"$f":"NILSM6!P9","v":"-"},{"$f":"NILSM6!S9","v":87},{"$f":"NILSM6!V9","v":"-"},{"$f":"NILSM6!Y9","v":"-"},{"$f":"NILSM6!AB9","v":"-"},{"$f":"NILSM6!AE9","v":95},{"$f":"NILSM6!AH9","v":"-"},{"$f":"NILSM6!AK9","v":"-"},{"$f":"NILSM6!AN9","v":"-"},{"$f":"NILSM6!AQ9","v":"-"},{"$f":"NILSM6!AT9","v":"-"},{"$f":"NILSM6!AW9","v":"-"},{"$f":"NILSM6!AZ9","v":"-"},{"$f":"NILSM6!BC9","v":89},{"$f":"NILSM6!BF9","v":91},{"$f":"NILSM6!BI9","v":93},{"$f":"NILSM6!BL9","v":"-"},{"$f":"NILSM6!BO9","v":"-"},{"$f":"NILSM6!BR9","v":83},{"$f":"NILSM6!BU9","v":"-"},{"$f":"NILSM6!BX9","v":"-"},{"$f":"NILSM6!CA9","v":"-"},{"$f":"NILSM6!CD9","v":"-"},{"$f":"NILSM6!CG9","v":"-"},{"$f":"NILSM6!CJ9","v":"-"},{"$f":"NILSM6!CM9","v":"-"}]
[{"$f":"BIODATA!A7","v":3},{"$f":"BIODATA!C7","v":"ALFIAN MULYADI NATA"},{"$f":"BIODATA!D7","v":13140769},{"$f":"NILSM5!D10","v":79},{"$f":"NILSM5!G10","v":81},{"$f":"NILSM5!J10","v":83},{"$f":"NILSM5!M10","v":85},{"$f":"NILSM5!P10","v":"-"},{"$f":"NILSM5!S10","v":89},{"$f":"NILSM5!V10","v":"-"},{"$f":"NILSM5!Y10","v":"-"},{"$f":"NILSM5!AB10","v":"-"},{"$f":"NILSM5!AE10","v":97},{"$f":"NILSM5!AH10","v":"-"},{"$f":"NILSM5!AK10","v":"-"},{"$f":"NILSM5!AN10","v":"-"},{"$f":"NILSM5!AQ10","v":"-"},{"$f":"NILSM5!AT10","v":"-"},{"$f":"NILSM5!AW10","v":"-"},{"$f":"NILSM5!AZ10","v":"-"},{"$f":"NILSM5!BC10","v":81},{"$f":"NILSM5!BF10","v":83},{"$f":"NILSM5!BI10","v":85},{"$f":"NILSM5!BL10","v":"-"},{"$f":"NILSM5!BO10","v":"-"},{"$f":"NILSM5!BR10","v":81},{"$f":"NILSM5!BU10","v":"-"},{"$f":"NILSM5!BX10","v":"-"},{"$f":"NILSM5!CA10","v":"-"},{"$f":"NILSM5!CD10","v":"-"},{"$f":"NILSM5!CG10","v":"-"},{"$f":"NILSM5!CJ10","v":"-"},{"$f":"NILSM5!CM10","v":"-"},null,3,{"$f":"NILSM6!B10","v":"ALFIAN MULYADI NATA"},{"$f":"NILSM6!C10","v":13140769},{"$f":"NILSM6!D10","v":79},{"$f":"NILSM6!G10","v":81},{"$f":"NILSM6!J10","v":83},{"$f":"NILSM6!M10","v":85},{"$f":"NILSM6!P10","v":"-"},{"$f":"NILSM6!S10","v":89},{"$f":"NILSM6!V10","v":"-"},{"$f":"NILSM6!Y10","v":"-"},{"$f":"NILSM6!AB10","v":"-"},{"$f":"NILSM6!AE10","v":97},{"$f":"NILSM6!AH10","v":"-"},{"$f":"NILSM6!AK10","v":"-"},{"$f":"NILSM6!AN10","v":"-"},{"$f":"NILSM6!AQ10","v":"-"},{"$f":"NILSM6!AT10","v":"-"},{"$f":"NILSM6!AW10","v":"-"},{"$f":"NILSM6!AZ10","v":"-"},{"$f":"NILSM6!BC10","v":91},{"$f":"NILSM6!BF10","v":93},{"$f":"NILSM6!BI10","v":95},{"$f":"NILSM6!BL10","v":"-"},{"$f":"NILSM6!BO10","v":"-"},{"$f":"NILSM6!BR10","v":85},{"$f":"NILSM6!BU10","v":"-"},{"$f":"NILSM6!BX10","v":"-"},{"$f":"NILSM6!CA10","v":"-"},{"$f":"NILSM6!CD10","v":"-"},{"$f":"NILSM6!CG10","v":"-"},{"$f":"NILSM6!CJ10","v":"-"},{"$f":"NILSM6!CM10","v":"-"}]
[{"$f":"BIODATA!A8","v":4},{"$f":"BIODATA!C8","v":"ALFIANA WAHYU ATMADJA"},{"$f":"BIODATA!D8","v":13140770},{"$f":"NILSM5!D11","v":81},{"$f":"NILSM5!G11","v":83},{"$f":"NILSM5!J11","v":85},{"$f":"NILSM5!M11","v":87},{"$f":"NILSM5!P11","v":"-"},{"$f":"NILSM5!S11","v":91},{"$f":"NILSM5!V11","v":"-"},{"$f":"NILSM5!Y11","v":"-"},{"$f":"NILSM5!AB11","v":"-"},{"$f":"NILSM5!AE11","v":99},{"$f":"NILSM5!AH11","v":"-"},{"$f":"NILSM5!AK11","v":"-"},{"$f":"NILSM5!AN11","v":"-"},{"$f":"NILSM5!AQ11","v":"-"},{"$f":"NILSM5!AT11","v":"-"},{"$f":"NILSM5!AW11","v":"-"},{"$f":"NILSM5!AZ11","v":"-"},{"$f":"NILSM5!BC11","v":83},{"$f":"NILSM5!BF11","v":85},{"$f":"NILSM5!BI11","v":87},{"$f":"NILSM5!BL11","v":"-"},{"$f":"NILSM5!BO11","v":"-"},{"$f":"NILSM5!BR11","v":83},{"$f":"NILSM5!BU11","v":"-"},{"$f":"NILSM5!BX11","v":"-"},{"$f":"NILSM5!CA11","v":"-"},{"$f":"NILSM5!CD11","v":"-"},{"$f":"NILSM5!CG11","v":"-"},{"$f":"NILSM5!CJ11","v":"-"},{"$f":"NILSM5!CM11","v":"-"},null,4,{"$f":"NILSM6!B11","v":"ALFIANA WAHYU ATMADJA"},{"$f":"NILSM6!C11","v":13140770},{"$f":"NILSM6!D11","v":81},{"$f":"NILSM6!G11","v":83},{"$f":"NILSM6!J11","v":85},{"$f":"NILSM6!M11","v":87},{"$f":"NILSM6!P11","v":"-"},{"$f":"NILSM6!S11","v":91},{"$f":"NILSM6!V11","v":"-"},{"$f":"NILSM6!Y11","v":"-"},{"$f":"NILSM6!AB11","v":"-"},{"$f":"NILSM6!AE11","v":99},{"$f":"NILSM6!AH11","v":"-"},{"$f":"NILSM6!AK11","v":"-"},{"$f":"NILSM6!AN11","v":"-"},{"$f":"NILSM6!AQ11","v":"-"},{"$f":"NILSM6!AT11","v":"-"},{"$f":"NILSM6!AW11","v":"-"},{"$f":"NILSM6!AZ11","v":"-"},{"$f":"NILSM6!BC11","v":93},{"$f":"NILSM6!BF11","v":95},{"$f":"NILSM6!BI11","v":97},{"$f":"NILSM6!BL11","v":"-"},{"$f":"NILSM6!BO11","v":"-"},{"$f":"NILSM6!BR11","v":87},{"$f":"NILSM6!BU11","v":"-"},{"$f":"NILSM6!BX11","v":"-"},{"$f":"NILSM6!CA11","v":"-"},{"$f":"NILSM6!CD11","v":"-"},{"$f":"NILSM6!CG11","v":"-"},{"$f":"NILSM6!CJ11","v":"-"},{"$f":"NILSM6!CM11","v":"-"}]
[{"$f":"BIODATA!A9","v":5},{"$f":"BIODATA!C9","v":"ASEP DODO ROHENDI"},{"$f":"BIODATA!D9","v":13140771},{"$f":"NILSM5!D12","v":83},{"$f":"NILSM5!G12","v":85},{"$f":"NILSM5!J12","v":87},{"$f":"NILSM5!M12","v":89},{"$f":"NILSM5!P12","v":"-"},{"$f":"NILSM5!S12","v":93},{"$f":"NILSM5!V12","v":"-"},{"$f":"NILSM5!Y12","v":"-"},{"$f":"NILSM5!AB12","v":"-"},{"$f":"NILSM5!AE12","v":75},{"$f":"NILSM5!AH12","v":"-"},{"$f":"NILSM5!AK12","v":"-"},{"$f":"NILSM5!AN12","v":"-"},{"$f":"NILSM5!AQ12","v":"-"},{"$f":"NILSM5!AT12","v":"-"},{"$f":"NILSM5!AW12","v":"-"},{"$f":"NILSM5!AZ12","v":"-"},{"$f":"NILSM5!BC12","v":85},{"$f":"NILSM5!BF12","v":87},{"$f":"NILSM5!BI12","v":89},{"$f":"NILSM5!BL12","v":"-"},{"$f":"NILSM5!BO12","v":"-"},{"$f":"NILSM5!BR12","v":85},{"$f":"NILSM5!BU12","v":"-"},{"$f":"NILSM5!BX12","v":"-"},{"$f":"NILSM5!CA12","v":"-"},{"$f":"NILSM5!CD12","v":"-"},{"$f":"NILSM5!CG12","v":"-"},{"$f":"NILSM5!CJ12","v":"-"},{"$f":"NILSM5!CM12","v":"-"},null,5,{"$f":"NILSM6!B12","v":"ASEP DODO ROHENDI"},{"$f":"NILSM6!C12","v":13140771},{"$f":"NILSM6!D12","v":83},{"$f":"NILSM6!G12","v":85},{"$f":"NILSM6!J12","v":87},{"$f":"NILSM6!M12","v":89},{"$f":"NILSM6!P12","v":"-"},{"$f":"NILSM6!S12","v":93},{"$f":"NILSM6!V12","v":"-"},{"$f":"NILSM6!Y12","v":"-"},{"$f":"NILSM6!AB12","v":"-"},{"$f":"NILSM6!AE12","v":75},{"$f":"NILSM6!AH12","v":"-"},{"$f":"NILSM6!AK12","v":"-"},{"$f":"NILSM6!AN12","v":"-"},{"$f":"NILSM6!AQ12","v":"-"},{"$f":"NILSM6!AT12","v":"-"},{"$f":"NILSM6!AW12","v":"-"},{"$f":"NILSM6!AZ12","v":"-"},{"$f":"NILSM6!BC12","v":95},{"$f":"NILSM6!BF12","v":97},{"$f":"NILSM6!BI12","v":99},{"$f":"NILSM6!BL12","v":"-"},{"$f":"NILSM6!BO12","v":"-"},{"$f":"NILSM6!BR12","v":89},{"$f":"NILSM6!BU12","v":"-"},{"$f":"NILSM6!BX12","v":"-"},{"$f":"NILSM6!CA12","v":"-"},{"$f":"NILSM6!CD12","v":"-"},{"$f":"NILSM6!CG12","v":"-"},{"$f":"NILSM6!CJ12","v":"-"},{"$f":"NILSM6!CM12","v":"-"}]
[{"$f":"BIODATA!A10","v":6},{"$f":"BIODATA!C10","v":"BILLY RIZKI JHONATHAN"},{"$f":"BIODATA!D10","v":13140772},{"$f":"NILSM5!D13","v":75},{"$f":"NILSM5!G13","v":77},{"$f":"NILSM5!J13","v":79},{"$f":"NILSM5!M13","v":81},{"$f":"NILSM5!P13","v":"-"},{"$f":"NILSM5!S13","v":85},{"$f":"NILSM5!V13","v":"-"},{"$f":"NILSM5!Y13","v":"-"},{"$f":"NILSM5!AB13","v":"-"},{"$f":"NILSM5!AE13","v":93},{"$f":"NILSM5!AH13","v":"-"},{"$f":"NILSM5!AK13","v":"-"},{"$f":"NILSM5!AN13","v":"-"},{"$f":"NILSM5!AQ13","v":"-"},{"$f":"NILSM5!AT13","v":"-"},{"$f":"NILSM5!AW13","v":"-"},{"$f":"NILSM5!AZ13","v":"-"},{"$f":"NILSM5!BC13","v":77},{"$f":"NILSM5!BF13","v":79},{"$f":"NILSM5!BI13","v":81},{"$f":"NILSM5!BL13","v":"-"},{"$f":"NILSM5!BO13","v":"-"},{"$f":"NILSM5!BR13","v":77},{"$f":"NILSM5!BU13","v":"-"},{"$f":"NILSM5!BX13","v":"-"},{"$f":"NILSM5!CA13","v":"-"},{"$f":"NILSM5!CD13","v":"-"},{"$f":"NILSM5!CG13","v":"-"},{"$f":"NILSM5!CJ13","v":"-"},{"$f":"NILSM5!CM13","v":"-"},null,6,{"$f":"NILSM6!B13","v":"BILLY RIZKI JHONATHAN"},{"$f":"NILSM6!C13","v":13140772},{"$f":"NILSM6!D13","v":79},{"$f":"NILSM6!G13","v":81},{"$f":"NILSM6!J13","v":83},{"$f":"NILSM6!M13","v":85},{"$f":"NILSM6!P13","v":"-"},{"$f":"NILSM6!S13","v":89},{"$f":"NILSM6!V13","v":"-"},{"$f":"NILSM6!Y13","v":"-"},{"$f":"NILSM6!AB13","v":"-"},{"$f":"NILSM6!AE13","v":97},{"$f":"NILSM6!AH13","v":"-"},{"$f":"NILSM6!AK13","v":"-"},{"$f":"NILSM6!AN13","v":"-"},{"$f":"NILSM6!AQ13","v":"-"},{"$f":"NILSM6!AT13","v":"-"},{"$f":"NILSM6!AW13","v":"-"},{"$f":"NILSM6!AZ13","v":"-"},{"$f":"NILSM6!BC13","v":91},{"$f":"NILSM6!BF13","v":93},{"$f":"NILSM6!BI13","v":95},{"$f":"NILSM6!BL13","v":"-"},{"$f":"NILSM6!BO13","v":"-"},{"$f":"NILSM6!BR13","v":85},{"$f":"NILSM6!BU13","v":"-"},{"$f":"NILSM6!BX13","v":"-"},{"$f":"NILSM6!CA13","v":"-"},{"$f":"NILSM6!CD13","v":"-"},{"$f":"NILSM6!CG13","v":"-"},{"$f":"NILSM6!CJ13","v":"-"},{"$f":"NILSM6!CM13","v":"-"}]
[{"$f":"BIODATA!A11","v":7},{"$f":"BIODATA!C11","v":"CAHYASARI RAMADHANTY"},{"$f":"BIODATA!D11","v":13140773},{"$f":"NILSM5!D14","v":77},{"$f":"NILSM5!G14","v":79},{"$f":"NILSM5!J14","v":81},{"$f":"NILSM5!M14","v":83},{"$f":"NILSM5!P14","v":"-"},{"$f":"NILSM5!S14","v":87},{"$f":"NILSM5!V14","v":"-"},{"$f":"NILSM5!Y14","v":"-"},{"$f":"NILSM5!AB14","v":"-"},{"$f":"NILSM5!AE14","v":95},{"$f":"NILSM5!AH14","v":"-"},{"$f":"NILSM5!AK14","v":"-"},{"$f":"NILSM5!AN14","v":"-"},{"$f":"NILSM5!AQ14","v":"-"},{"$f":"NILSM5!AT14","v":"-"},{"$f":"NILSM5!AW14","v":"-"},{"$f":"NILSM5!AZ14","v":"-"},{"$f":"NILSM5!BC14","v":79},{"$f":"NILSM5!BF14","v":81},{"$f":"NILSM5!BI14","v":83},{"$f":"NILSM5!BL14","v":"-"},{"$f":"NILSM5!BO14","v":"-"},{"$f":"NILSM5!BR14","v":79},{"$f":"NILSM5!BU14","v":"-"},{"$f":"NILSM5!BX14","v":"-"},{"$f":"NILSM5!CA14","v":"-"},{"$f":"NILSM5!CD14","v":"-"},{"$f":"NILSM5!CG14","v":"-"},{"$f":"NILSM5!CJ14","v":"-"},{"$f":"NILSM5!CM14","v":"-"},null,7,{"$f":"NILSM6!B14","v":"CAHYASARI RAMADHANTY"},{"$f":"NILSM6!C14","v":13140773},{"$f":"NILSM6!D14","v":81},{"$f":"NILSM6!G14","v":83},{"$f":"NILSM6!J14","v":85},{"$f":"NILSM6!M14","v":87},{"$f":"NILSM6!P14","v":"-"},{"$f":"NILSM6!S14","v":91},{"$f":"NILSM6!V14","v":"-"},{"$f":"NILSM6!Y14","v":"-"},{"$f":"NILSM6!AB14","v":"-"},{"$f":"NILSM6!AE14","v":99},{"$f":"NILSM6!AH14","v":"-"},{"$f":"NILSM6!AK14","v":"-"},{"$f":"NILSM6!AN14","v":"-"},{"$f":"NILSM6!AQ14","v":"-"},{"$f":"NILSM6!AT14","v":"-"},{"$f":"NILSM6!AW14","v":"-"},{"$f":"NILSM6!AZ14","v":"-"},{"$f":"NILSM6!BC14","v":93},{"$f":"NILSM6!BF14","v":95},{"$f":"NILSM6!BI14","v":97},{"$f":"NILSM6!BL14","v":"-"},{"$f":"NILSM6!BO14","v":"-"},{"$f":"NILSM6!BR14","v":87},{"$f":"NILSM6!BU14","v":"-"},{"$f":"NILSM6!BX14","v":"-"},{"$f":"NILSM6!CA14","v":"-"},{"$f":"NILSM6!CD14","v":"-"},{"$f":"NILSM6!CG14","v":"-"},{"$f":"NILSM6!CJ14","v":"-"},{"$f":"NILSM6!CM14","v":"-"}]
[{"$f":"BIODATA!A12","v":8},{"$f":"BIODATA!C12","v":0},{"$f":"BIODATA!D12","v":0},{"$f":"NILSM5!D15","v":0},{"$f":"NILSM5!G15","v":0},{"$f":"NILSM5!J15","v":0},{"$f":"NILSM5!M15","v":0},{"$f":"NILSM5!P15","v":0},{"$f":"NILSM5!S15","v":0},{"$f":"NILSM5!V15","v":0},{"$f":"NILSM5!Y15","v":0},{"$f":"NILSM5!AB15","v":0},{"$f":"NILSM5!AE15","v":0},{"$f":"NILSM5!AH15","v":0},{"$f":"NILSM5!AK15","v":0},{"$f":"NILSM5!AN15","v":0},{"$f":"NILSM5!AQ15","v":0},{"$f":"NILSM5!AT15","v":0},{"$f":"NILSM5!AW15","v":0},{"$f":"NILSM5!AZ15","v":0},{"$f":"NILSM5!BC15","v":0},{"$f":"NILSM5!BF15","v":0},{"$f":"NILSM5!BI15","v":0},{"$f":"NILSM5!BL15","v":0},{"$f":"NILSM5!BO15","v":0},{"$f":"NILSM5!BR15","v":0},{"$f":"NILSM5!BU15","v":0},{"$f":"NILSM5!BX15","v":0},{"$f":"NILSM5!CA15","v":0},{"$f":"NILSM5!CD15","v":0},{"$f":"NILSM5!CG15","v":0},{"$f":"NILSM5!CJ15","v":0},{"$f":"NILSM5!CM15","v":0},null,8,{"$f":"NILSM6!B15","v":0},{"$f":"NILSM6!C15","v":0},{"$f":"NILSM6!D15","v":0},{"$f":"NILSM6!G15","v":0},{"$f":"NILSM6!J15","v":0},{"$f":"NILSM6!M15","v":0},{"$f":"NILSM6!P15","v":0},{"$f":"NILSM6!S15","v":0},{"$f":"NILSM6!V15","v":0},{"$f":"NILSM6!Y15","v":0},{"$f":"NILSM6!AB15","v":0},{"$f":"NILSM6!AE15","v":0},{"$f":"NILSM6!AH15","v":0},{"$f":"NILSM6!AK15","v":0},{"$f":"NILSM6!AN15","v":0},{"$f":"NILSM6!AQ15","v":0},{"$f":"NILSM6!AT15","v":0},{"$f":"NILSM6!AW15","v":0},{"$f":"NILSM6!AZ15","v":0},{"$f":"NILSM6!BC15","v":0},{"$f":"NILSM6!BF15","v":0},{"$f":"NILSM6!BI15","v":0},{"$f":"NILSM6!BL15","v":0},{"$f":"NILSM6!BO15","v":0},{"$f":"NILSM6!BR15","v":0},{"$f":"NILSM6!BU15","v":0},{"$f":"NILSM6!BX15","v":0},{"$f":"NILSM6!CA15","v":0},{"$f":"NILSM6!CD15","v":0},{"$f":"NILSM6!CG15","v":0},{"$f":"NILSM6!CJ15","v":0},{"$f":"NILSM6!CM15","v":0}]
[{"$f":"BIODATA!A13","v":9},{"$f":"BIODATA!C13","v":0},{"$f":"BIODATA!D13","v":0},{"$f":"NILSM5!D16","v":0},{"$f":"NILSM5!G16","v":0},{"$f":"NILSM5!J16","v":0},{"$f":"NILSM5!M16","v":0},{"$f":"NILSM5!P16","v":0},{"$f":"NILSM5!S16","v":0},{"$f":"NILSM5!V16","v":0},{"$f":"NILSM5!Y16","v":0},{"$f":"NILSM5!AB16","v":0},{"$f":"NILSM5!AE16","v":0},{"$f":"NILSM5!AH16","v":0},{"$f":"NILSM5!AK16","v":0},{"$f":"NILSM5!AN16","v":0},{"$f":"NILSM5!AQ16","v":0},{"$f":"NILSM5!AT16","v":0},{"$f":"NILSM5!AW16","v":0},{"$f":"NILSM5!AZ16","v":0},{"$f":"NILSM5!BC16","v":0},{"$f":"NILSM5!BF16","v":0},{"$f":"NILSM5!BI16","v":0},{"$f":"NILSM5!BL16","v":0},{"$f":"NILSM5!BO16","v":0},{"$f":"NILSM5!BR16","v":0},{"$f":"NILSM5!BU16","v":0},{"$f":"NILSM5!BX16","v":0},{"$f":"NILSM5!CA16","v":0},{"$f":"NILSM5!CD16","v":0},{"$f":"NILSM5!CG16","v":0},{"$f":"NILSM5!CJ16","v":0},{"$f":"NILSM5!CM16","v":0},null,9,{"$f":"NILSM6!B16","v":0},{"$f":"NILSM6!C16","v":0},{"$f":"NILSM6!D16","v":0},{"$f":"NILSM6!G16","v":0},{"$f":"NILSM6!J16","v":0},{"$f":"NILSM6!M16","v":0},{"$f":"NILSM6!P16","v":0},{"$f":"NILSM6!S16","v":0},{"$f":"NILSM6!V16","v":0},{"$f":"NILSM6!Y16","v":0},{"$f":"NILSM6!AB16","v":0},{"$f":"NILSM6!AE16","v":0},{"$f":"NILSM6!AH16","v":0},{"$f":"NILSM6!AK16","v":0},{"$f":"NILSM6!AN16","v":0},{"$f":"NILSM6!AQ16","v":0},{"$f":"NILSM6!AT16","v":0},{"$f":"NILSM6!AW16","v":0},{"$f":"NILSM6!AZ16","v":0},{"$f":"NILSM6!BC16","v":0},{"$f":"NILSM6!BF16","v":0},{"$f":"NILSM6!BI16","v":0},{"$f":"NILSM6!BL16","v":0},{"$f":"NILSM6!BO16","v":0},{"$f":"NILSM6!BR16","v":0},{"$f":"NILSM6!BU16","v":0},{"$f":"NILSM6!BX16","v":0},{"$f":"NILSM6!CA16","v":0},{"$f":"NILSM6!CD16","v":0},{"$f":"NILSM6!CG16","v":0},{"$f":"NILSM6!CJ16","v":0},{"$f":"NILSM6!CM16","v":0}]
[{"$f":"BIODATA!A14","v":10},{"$f":"BIODATA!C14","v":0},{"$f":"BIODATA!D14","v":0},{"$f":"NILSM5!D17","v":0},{"$f":"NILSM5!G17","v":0},{"$f":"NILSM5!J17","v":0},{"$f":"NILSM5!M17","v":0},{"$f":"NILSM5!P17","v":0},{"$f":"NILSM5!S17","v":0},{"$f":"NILSM5!V17","v":0},{"$f":"NILSM5!Y17","v":0},{"$f":"NILSM5!AB17","v":0},{"$f":"NILSM5!AE17","v":0},{"$f":"NILSM5!AH17","v":0},{"$f":"NILSM5!AK17","v":0},{"$f":"NILSM5!AN17","v":0},{"$f":"NILSM5!AQ17","v":0},{"$f":"NILSM5!AT17","v":0},{"$f":"NILSM5!AW17","v":0},{"$f":"NILSM5!AZ17","v":0},{"$f":"NILSM5!BC17","v":0},{"$f":"NILSM5!BF17","v":0},{"$f":"NILSM5!BI17","v":0},{"$f":"NILSM5!BL17","v":0},{"$f":"NILSM5!BO17","v":0},{"$f":"NILSM5!BR17","v":0},{"$f":"NILSM5!BU17","v":0},{"$f":"NILSM5!BX17","v":0},{"$f":"NILSM5!CA17","v":0},{"$f":"NILSM5!CD17","v":0},{"$f":"NILSM5!CG17","v":0},{"$f":"NILSM5!CJ17","v":0},{"$f":"NILSM5!CM17","v":0},null,10,{"$f":"NILSM6!B17","v":0},{"$f":"NILSM6!C17","v":0},{"$f":"NILSM6!D17","v":0},{"$f":"NILSM6!G17","v":0},{"$f":"NILSM6!J17","v":0},{"$f":"NILSM6!M17","v":0},{"$f":"NILSM6!P17","v":0},{"$f":"NILSM6!S17","v":0},{"$f":"NILSM6!V17","v":0},{"$f":"NILSM6!Y17","v":0},{"$f":"NILSM6!AB17","v":0},{"$f":"NILSM6!AE17","v":0},{"$f":"NILSM6!AH17","v":0},{"$f":"NILSM6!AK17","v":0},{"$f":"NILSM6!AN17","v":0},{"$f":"NILSM6!AQ17","v":0},{"$f":"NILSM6!AT17","v":0},{"$f":"NILSM6!AW17","v":0},{"$f":"NILSM6!AZ17","v":0},{"$f":"NILSM6!BC17","v":0},{"$f":"NILSM6!BF17","v":0},{"$f":"NILSM6!BI17","v":0},{"$f":"NILSM6!BL17","v":0},{"$f":"NILSM6!BO17","v":0},{"$f":"NILSM6!BR17","v":0},{"$f":"NILSM6!BU17","v":0},{"$f":"NILSM6!BX17","v":0},{"$f":"NILSM6!CA17","v":0},{"$f":"NILSM6!CD17","v":0},{"$f":"NILSM6!CG17","v":0},{"$f":"NILSM6!CJ17","v":0},{"$f":"NILSM6!CM17","v":0}]
[{"$f":"BIODATA!A15","v":11},{"$f":"BIODATA!C15","v":0},{"$f":"BIODATA!D15","v":0},{"$f":"NILSM5!D18","v":0},{"$f":"NILSM5!G18","v":0},{"$f":"NILSM5!J18","v":0},{"$f":"NILSM5!M18","v":0},{"$f":"NILSM5!P18","v":0},{"$f":"NILSM5!S18","v":0},{"$f":"NILSM5!V18","v":0},{"$f":"NILSM5!Y18","v":0},{"$f":"NILSM5!AB18","v":0},{"$f":"NILSM5!AE18","v":0},{"$f":"NILSM5!AH18","v":0},{"$f":"NILSM5!AK18","v":0},{"$f":"NILSM5!AN18","v":0},{"$f":"NILSM5!AQ18","v":0},{"$f":"NILSM5!AT18","v":0},{"$f":"NILSM5!AW18","v":0},{"$f":"NILSM5!AZ18","v":0},{"$f":"NILSM5!BC18","v":0},{"$f":"NILSM5!BF18","v":0},{"$f":"NILSM5!BI18","v":0},{"$f":"NILSM5!BL18","v":0},{"$f":"NILSM5!BO18","v":0},{"$f":"NILSM5!BR18","v":0},{"$f":"NILSM5!BU18","v":0},{"$f":"NILSM5!BX18","v":0},{"$f":"NILSM5!CA18","v":0},{"$f":"NILSM5!CD18","v":0},{"$f":"NILSM5!CG18","v":0},{"$f":"NILSM5!CJ18","v":0},{"$f":"NILSM5!CM18","v":0},null,11,{"$f":"NILSM6!B18","v":0},{"$f":"NILSM6!C18","v":0},{"$f":"NILSM6!D18","v":0},{"$f":"NILSM6!G18","v":0},{"$f":"NILSM6!J18","v":0},{"$f":"NILSM6!M18","v":0},{"$f":"NILSM6!P18","v":0},{"$f":"NILSM6!S18","v":0},{"$f":"NILSM6!V18","v":0},{"$f":"NILSM6!Y18","v":0},{"$f":"NILSM6!AB18","v":0},{"$f":"NILSM6!AE18","v":0},{"$f":"NILSM6!AH18","v":0},{"$f":"NILSM6!AK18","v":0},{"$f":"NILSM6!AN18","v":0},{"$f":"NILSM6!AQ18","v":0},{"$f":"NILSM6!AT18","v":0},{"$f":"NILSM6!AW18","v":0},{"$f":"NILSM6!AZ18","v":0},{"$f":"NILSM6!BC18","v":0},{"$f":"NILSM6!BF18","v":0},{"$f":"NILSM6!BI18","v":0},{"$f":"NILSM6!BL18","v":0},{"$f":"NILSM6!BO18","v":0},{"$f":"NILSM6!BR18","v":0},{"$f":"NILSM6!BU18","v":0},{"$f":"NILSM6!BX18","v":0},{"$f":"NILSM6!CA18","v":0},{"$f":"NILSM6!CD18","v":0},{"$f":"NILSM6!CG18","v":0},{"$f":"NILSM6!CJ18","v":0},{"$f":"NILSM6!CM18","v":0}]
[{"$f":"BIODATA!A16","v":12},{"$f":"BIODATA!C16","v":0},{"$f":"BIODATA!D16","v":0},{"$f":"NILSM5!D19","v":0},{"$f":"NILSM5!G19","v":0},{"$f":"NILSM5!J19","v":0},{"$f":"NILSM5!M19","v":0},{"$f":"NILSM5!P19","v":0},{"$f":"NILSM5!S19","v":0},{"$f":"NILSM5!V19","v":0},{"$f":"NILSM5!Y19","v":0},{"$f":"NILSM5!AB19","v":0},{"$f":"NILSM5!AE19","v":0},{"$f":"NILSM5!AH19","v":0},{"$f":"NILSM5!AK19","v":0},{"$f":"NILSM5!AN19","v":0},{"$f":"NILSM5!AQ19","v":0},{"$f":"NILSM5!AT19","v":0},{"$f":"NILSM5!AW19","v":0},{"$f":"NILSM5!AZ19","v":0},{"$f":"NILSM5!BC19","v":0},{"$f":"NILSM5!BF19","v":0},{"$f":"NILSM5!BI19","v":0},{"$f":"NILSM5!BL19","v":0},{"$f":"NILSM5!BO19","v":0},{"$f":"NILSM5!BR19","v":0},{"$f":"NILSM5!BU19","v":0},{"$f":"NILSM5!BX19","v":0},{"$f":"NILSM5!CA19","v":0},{"$f":"NILSM5!CD19","v":0},{"$f":"NILSM5!CG19","v":0},{"$f":"NILSM5!CJ19","v":0},{"$f":"NILSM5!CM19","v":0},null,12,{"$f":"NILSM6!B19","v":0},{"$f":"NILSM6!C19","v":0},{"$f":"NILSM6!D19","v":0},{"$f":"NILSM6!G19","v":0},{"$f":"NILSM6!J19","v":0},{"$f":"NILSM6!M19","v":0},{"$f":"NILSM6!P19","v":0},{"$f":"NILSM6!S19","v":0},{"$f":"NILSM6!V19","v":0},{"$f":"NILSM6!Y19","v":0},{"$f":"NILSM6!AB19","v":0},{"$f":"NILSM6!AE19","v":0},{"$f":"NILSM6!AH19","v":0},{"$f":"NILSM6!AK19","v":0},{"$f":"NILSM6!AN19","v":0},{"$f":"NILSM6!AQ19","v":0},{"$f":"NILSM6!AT19","v":0},{"$f":"NILSM6!AW19","v":0},{"$f":"NILSM6!AZ19","v":0},{"$f":"NILSM6!BC19","v":0},{"$f":"NILSM6!BF19","v":0},{"$f":"NILSM6!BI19","v":0},{"$f":"NILSM6!BL19","v":0},{"$f":"NILSM6!BO19","v":0},{"$f":"NILSM6!BR19","v":0},{"$f":"NILSM6!BU19","v":0},{"$f":"NILSM6!BX19","v":0},{"$f":"NILSM6!CA19","v":0},{"$f":"NILSM6!CD19","v":0},{"$f":"NILSM6!CG19","v":0},{"$f":"NILSM6!CJ19","v":0},{"$f":"NILSM6!CM19","v":0}]
[{"$f":"BIODATA!A17","v":13},{"$f":"BIODATA!C17","v":0},{"$f":"BIODATA!D17","v":0},{"$f":"NILSM5!D20","v":0},{"$f":"NILSM5!G20","v":0},{"$f":"NILSM5!J20","v":0},{"$f":"NILSM5!M20","v":0},{"$f":"NILSM5!P20","v":0},{"$f":"NILSM5!S20","v":0},{"$f":"NILSM5!V20","v":0},{"$f":"NILSM5!Y20","v":0},{"$f":"NILSM5!AB20","v":0},{"$f":"NILSM5!AE20","v":0},{"$f":"NILSM5!AH20","v":0},{"$f":"NILSM5!AK20","v":0},{"$f":"NILSM5!AN20","v":0},{"$f":"NILSM5!AQ20","v":0},{"$f":"NILSM5!AT20","v":0},{"$f":"NILSM5!AW20","v":0},{"$f":"NILSM5!AZ20","v":0},{"$f":"NILSM5!BC20","v":0},{"$f":"NILSM5!BF20","v":0},{"$f":"NILSM5!BI20","v":0},{"$f":"NILSM5!BL20","v":0},{"$f":"NILSM5!BO20","v":0},{"$f":"NILSM5!BR20","v":0},{"$f":"NILSM5!BU20","v":0},{"$f":"NILSM5!BX20","v":0},{"$f":"NILSM5!CA20","v":0},{"$f":"NILSM5!CD20","v":0},{"$f":"NILSM5!CG20","v":0},{"$f":"NILSM5!CJ20","v":0},{"$f":"NILSM5!CM20","v":0},null,13,{"$f":"NILSM6!B20","v":0},{"$f":"NILSM6!C20","v":0},{"$f":"NILSM6!D20","v":0},{"$f":"NILSM6!G20","v":0},{"$f":"NILSM6!J20","v":0},{"$f":"NILSM6!M20","v":0},{"$f":"NILSM6!P20","v":0},{"$f":"NILSM6!S20","v":0},{"$f":"NILSM6!V20","v":0},{"$f":"NILSM6!Y20","v":0},{"$f":"NILSM6!AB20","v":0},{"$f":"NILSM6!AE20","v":0},{"$f":"NILSM6!AH20","v":0},{"$f":"NILSM6!AK20","v":0},{"$f":"NILSM6!AN20","v":0},{"$f":"NILSM6!AQ20","v":0},{"$f":"NILSM6!AT20","v":0},{"$f":"NILSM6!AW20","v":0},{"$f":"NILSM6!AZ20","v":0},{"$f":"NILSM6!BC20","v":0},{"$f":"NILSM6!BF20","v":0},{"$f":"NILSM6!BI20","v":0},{"$f":"NILSM6!BL20","v":0},{"$f":"NILSM6!BO20","v":0},{"$f":"NILSM6!BR20","v":0},{"$f":"NILSM6!BU20","v":0},{"$f":"NILSM6!BX20","v":0},{"$f":"NILSM6!CA20","v":0},{"$f":"NILSM6!CD20","v":0},{"$f":"NILSM6!CG20","v":0},{"$f":"NILSM6!CJ20","v":0},{"$f":"NILSM6!CM20","v":0}]
[{"$f":"BIODATA!A18","v":14},{"$f":"BIODATA!C18","v":0},{"$f":"BIODATA!D18","v":0},{"$f":"NILSM5!D21","v":0},{"$f":"NILSM5!G21","v":0},{"$f":"NILSM5!J21","v":0},{"$f":"NILSM5!M21","v":0},{"$f":"NILSM5!P21","v":0},{"$f":"NILSM5!S21","v":0},{"$f":"NILSM5!V21","v":0},{"$f":"NILSM5!Y21","v":0},{"$f":"NILSM5!AB21","v":0},{"$f":"NILSM5!AE21","v":0},{"$f":"NILSM5!AH21","v":0},{"$f":"NILSM5!AK21","v":0},{"$f":"NILSM5!AN21","v":0},{"$f":"NILSM5!AQ21","v":0},{"$f":"NILSM5!AT21","v":0},{"$f":"NILSM5!AW21","v":0},{"$f":"NILSM5!AZ21","v":0},{"$f":"NILSM5!BC21","v":0},{"$f":"NILSM5!BF21","v":0},{"$f":"NILSM5!BI21","v":0},{"$f":"NILSM5!BL21","v":0},{"$f":"NILSM5!BO21","v":0},{"$f":"NILSM5!BR21","v":0},{"$f":"NILSM5!BU21","v":0},{"$f":"NILSM5!BX21","v":0},{"$f":"NILSM5!CA21","v":0},{"$f":"NILSM5!CD21","v":0},{"$f":"NILSM5!CG21","v":0},{"$f":"NILSM5!CJ21","v":0},{"$f":"NILSM5!CM21","v":0},null,14,{"$f":"NILSM6!B21","v":0},{"$f":"NILSM6!C21","v":0},{"$f":"NILSM6!D21","v":0},{"$f":"NILSM6!G21","v":0},{"$f":"NILSM6!J21","v":0},{"$f":"NILSM6!M21","v":0},{"$f":"NILSM6!P21","v":0},{"$f":"NILSM6!S21","v":0},{"$f":"NILSM6!V21","v":0},{"$f":"NILSM6!Y21","v":0},{"$f":"NILSM6!AB21","v":0},{"$f":"NILSM6!AE21","v":0},{"$f":"NILSM6!AH21","v":0},{"$f":"NILSM6!AK21","v":0},{"$f":"NILSM6!AN21","v":0},{"$f":"NILSM6!AQ21","v":0},{"$f":"NILSM6!AT21","v":0},{"$f":"NILSM6!AW21","v":0},{"$f":"NILSM6!AZ21","v":0},{"$f":"NILSM6!BC21","v":0},{"$f":"NILSM6!BF21","v":0},{"$f":"NILSM6!BI21","v":0},{"$f":"NILSM6!BL21","v":0},{"$f":"NILSM6!BO21","v":0},{"$f":"NILSM6!BR21","v":0},{"$f":"NILSM6!BU21","v":0},{"$f":"NILSM6!BX21","v":0},{"$f":"NILSM6!CA21","v":0},{"$f":"NILSM6!CD21","v":0},{"$f":"NILSM6!CG21","v":0},{"$f":"NILSM6!CJ21","v":0},{"$f":"NILSM6!CM21","v":0}]
[{"$f":"BIODATA!A19","v":15},{"$f":"BIODATA!C19","v":0},{"$f":"BIODATA!D19","v":0},{"$f":"NILSM5!D22","v":0},{"$f":"NILSM5!G22","v":0},{"$f":"NILSM5!J22","v":0},{"$f":"NILSM5!M22","v":0},{"$f":"NILSM5!P22","v":0},{"$f":"NILSM5!S22","v":0},{"$f":"NILSM5!V22","v":0},{"$f":"NILSM5!Y22","v":0},{"$f":"NILSM5!AB22","v":0},{"$f":"NILSM5!AE22","v":0},{"$f":"NILSM5!AH22","v":0},{"$f":"NILSM5!AK22","v":0},{"$f":"NILSM5!AN22","v":0},{"$f":"NILSM5!AQ22","v":0},{"$f":"NILSM5!AT22","v":0},{"$f":"NILSM5!AW22","v":0},{"$f":"NILSM5!AZ22","v":0},{"$f":"NILSM5!BC22","v":0},{"$f":"NILSM5!BF22","v":0},{"$f":"NILSM5!BI22","v":0},{"$f":"NILSM5!BL22","v":0},{"$f":"NILSM5!BO22","v":0},{"$f":"NILSM5!BR22","v":0},{"$f":"NILSM5!BU22","v":0},{"$f":"NILSM5!BX22","v":0},{"$f":"NILSM5!CA22","v":0},{"$f":"NILSM5!CD22","v":0},{"$f":"NILSM5!CG22","v":0},{"$f":"NILSM5!CJ22","v":0},{"$f":"NILSM5!CM22","v":0},null,15,{"$f":"NILSM6!B22","v":0},{"$f":"NILSM6!C22","v":0},{"$f":"NILSM6!D22","v":0},{"$f":"NILSM6!G22","v":0},{"$f":"NILSM6!J22","v":0},{"$f":"NILSM6!M22","v":0},{"$f":"NILSM6!P22","v":0},{"$f":"NILSM6!S22","v":0},{"$f":"NILSM6!V22","v":0},{"$f":"NILSM6!Y22","v":0},{"$f":"NILSM6!AB22","v":0},{"$f":"NILSM6!AE22","v":0},{"$f":"NILSM6!AH22","v":0},{"$f":"NILSM6!AK22","v":0},{"$f":"NILSM6!AN22","v":0},{"$f":"NILSM6!AQ22","v":0},{"$f":"NILSM6!AT22","v":0},{"$f":"NILSM6!AW22","v":0},{"$f":"NILSM6!AZ22","v":0},{"$f":"NILSM6!BC22","v":0},{"$f":"NILSM6!BF22","v":0},{"$f":"NILSM6!BI22","v":0},{"$f":"NILSM6!BL22","v":0},{"$f":"NILSM6!BO22","v":0},{"$f":"NILSM6!BR22","v":0},{"$f":"NILSM6!BU22","v":0},{"$f":"NILSM6!BX22","v":0},{"$f":"NILSM6!CA22","v":0},{"$f":"NILSM6!CD22","v":0},{"$f":"NILSM6!CG22","v":0},{"$f":"NILSM6!CJ22","v":0},{"$f":"NILSM6!CM22","v":0}]
[{"$f":"BIODATA!A20","v":16},{"$f":"BIODATA!C20","v":0},{"$f":"BIODATA!D20","v":0},{"$f":"NILSM5!D23","v":0},{"$f":"NILSM5!G23","v":0},{"$f":"NILSM5!J23","v":0},{"$f":"NILSM5!M23","v":0},{"$f":"NILSM5!P23","v":0},{"$f":"NILSM5!S23","v":0},{"$f":"NILSM5!V23","v":0},{"$f":"NILSM5!Y23","v":0},{"$f":"NILSM5!AB23","v":0},{"$f":"NILSM5!AE23","v":0},{"$f":"NILSM5!AH23","v":0},{"$f":"NILSM5!AK23","v":0},{"$f":"NILSM5!AN23","v":0},{"$f":"NILSM5!AQ23","v":0},{"$f":"NILSM5!AT23","v":0},{"$f":"NILSM5!AW23","v":0},{"$f":"NILSM5!AZ23","v":0},{"$f":"NILSM5!BC23","v":0},{"$f":"NILSM5!BF23","v":0},{"$f":"NILSM5!BI23","v":0},{"$f":"NILSM5!BL23","v":0},{"$f":"NILSM5!BO23","v":0},{"$f":"NILSM5!BR23","v":0},{"$f":"NILSM5!BU23","v":0},{"$f":"NILSM5!BX23","v":0},{"$f":"NILSM5!CA23","v":0},{"$f":"NILSM5!CD23","v":0},{"$f":"NILSM5!CG23","v":0},{"$f":"NILSM5!CJ23","v":0},{"$f":"NILSM5!CM23","v":0},null,16,{"$f":"NILSM6!B23","v":0},{"$f":"NILSM6!C23","v":0},{"$f":"NILSM6!D23","v":0},{"$f":"NILSM6!G23","v":0},{"$f":"NILSM6!J23","v":0},{"$f":"NILSM6!M23","v":0},{"$f":"NILSM6!P23","v":0},{"$f":"NILSM6!S23","v":0},{"$f":"NILSM6!V23","v":0},{"$f":"NILSM6!Y23","v":0},{"$f":"NILSM6!AB23","v":0},{"$f":"NILSM6!AE23","v":0},{"$f":"NILSM6!AH23","v":0},{"$f":"NILSM6!AK23","v":0},{"$f":"NILSM6!AN23","v":0},{"$f":"NILSM6!AQ23","v":0},{"$f":"NILSM6!AT23","v":0},{"$f":"NILSM6!AW23","v":0},{"$f":"NILSM6!AZ23","v":0},{"$f":"NILSM6!BC23","v":0},{"$f":"NILSM6!BF23","v":0},{"$f":"NILSM6!BI23","v":0},{"$f":"NILSM6!BL23","v":0},{"$f":"NILSM6!BO23","v":0},{"$f":"NILSM6!BR23","v":0},{"$f":"NILSM6!BU23","v":0},{"$f":"NILSM6!BX23","v":0},{"$f":"NILSM6!CA23","v":0},{"$f":"NILSM6!CD23","v":0},{"$f":"NILSM6!CG23","v":0},{"$f":"NILSM6!CJ23","v":0},{"$f":"NILSM6!CM23","v":0}]
[{"$f":"BIODATA!A21","v":17},{"$f":"BIODATA!C21","v":0},{"$f":"BIODATA!D21","v":0},{"$f":"NILSM5!D24","v":0},{"$f":"NILSM5!G24","v":0},{"$f":"NILSM5!J24","v":0},{"$f":"NILSM5!M24","v":0},{"$f":"NILSM5!P24","v":0},{"$f":"NILSM5!S24","v":0},{"$f":"NILSM5!V24","v":0},{"$f":"NILSM5!Y24","v":0},{"$f":"NILSM5!AB24","v":0},{"$f":"NILSM5!AE24","v":0},{"$f":"NILSM5!AH24","v":0},{"$f":"NILSM5!AK24","v":0},{"$f":"NILSM5!AN24","v":0},{"$f":"NILSM5!AQ24","v":0},{"$f":"NILSM5!AT24","v":0},{"$f":"NILSM5!AW24","v":0},{"$f":"NILSM5!AZ24","v":0},{"$f":"NILSM5!BC24","v":0},{"$f":"NILSM5!BF24","v":0},{"$f":"NILSM5!BI24","v":0},{"$f":"NILSM5!BL24","v":0},{"$f":"NILSM5!BO24","v":0},{"$f":"NILSM5!BR24","v":0},{"$f":"NILSM5!BU24","v":0},{"$f":"NILSM5!BX24","v":0},{"$f":"NILSM5!CA24","v":0},{"$f":"NILSM5!CD24","v":0},{"$f":"NILSM5!CG24","v":0},{"$f":"NILSM5!CJ24","v":0},{"$f":"NILSM5!CM24","v":0},null,17,{"$f":"NILSM6!B24","v":0},{"$f":"NILSM6!C24","v":0},{"$f":"NILSM6!D24","v":0},{"$f":"NILSM6!G24","v":0},{"$f":"NILSM6!J24","v":0},{"$f":"NILSM6!M24","v":0},{"$f":"NILSM6!P24","v":0},{"$f":"NILSM6!S24","v":0},{"$f":"NILSM6!V24","v":0},{"$f":"NILSM6!Y24","v":0},{"$f":"NILSM6!AB24","v":0},{"$f":"NILSM6!AE24","v":0},{"$f":"NILSM6!AH24","v":0},{"$f":"NILSM6!AK24","v":0},{"$f":"NILSM6!AN24","v":0},{"$f":"NILSM6!AQ24","v":0},{"$f":"NILSM6!AT24","v":0},{"$f":"NILSM6!AW24","v":0},{"$f":"NILSM6!AZ24","v":0},{"$f":"NILSM6!BC24","v":0},{"$f":"NILSM6!BF24","v":0},{"$f":"NILSM6!BI24","v":0},{"$f":"NILSM6!BL24","v":0},{"$f":"NILSM6!BO24","v":0},{"$f":"NILSM6!BR24","v":0},{"$f":"NILSM6!BU24","v":0},{"$f":"NILSM6!BX24","v":0},{"$f":"NILSM6!CA24","v":0},{"$f":"NILSM6!CD24","v":0},{"$f":"NILSM6!CG24","v":0},{"$f":"NILSM6!CJ24","v":0},{"$f":"NILSM6!CM24","v":0}]
[{"$f":"BIODATA!A22","v":18},{"$f":"BIODATA!C22","v":0},{"$f":"BIODATA!D22","v":0},{"$f":"NILSM5!D25","v":0},{"$f":"NILSM5!G25","v":0},{"$f":"NILSM5!J25","v":0},{"$f":"NILSM5!M25","v":0},{"$f":"NILSM5!P25","v":0},{"$f":"NILSM5!S25","v":0},{"$f":"NILSM5!V25","v":0},{"$f":"NILSM5!Y25","v":0},{"$f":"NILSM5!AB25","v":0},{"$f":"NILSM5!AE25","v":0},{"$f":"NILSM5!AH25","v":0},{"$f":"NILSM5!AK25","v":0},{"$f":"NILSM5!AN25","v":0},{"$f":"NILSM5!AQ25","v":0},{"$f":"NILSM5!AT25","v":0},{"$f":"NILSM5!AW25","v":0},{"$f":"NILSM5!AZ25","v":0},{"$f":"NILSM5!BC25","v":0},{"$f":"NILSM5!BF25","v":0},{"$f":"NILSM5!BI25","v":0},{"$f":"NILSM5!BL25","v":0},{"$f":"NILSM5!BO25","v":0},{"$f":"NILSM5!BR25","v":0},{"$f":"NILSM5!BU25","v":0},{"$f":"NILSM5!BX25","v":0},{"$f":"NILSM5!CA25","v":0},{"$f":"NILSM5!CD25","v":0},{"$f":"NILSM5!CG25","v":0},{"$f":"NILSM5!CJ25","v":0},{"$f":"NILSM5!CM25","v":0},null,18,{"$f":"NILSM6!B25","v":0},{"$f":"NILSM6!C25","v":0},{"$f":"NILSM6!D25","v":0},{"$f":"NILSM6!G25","v":0},{"$f":"NILSM6!J25","v":0},{"$f":"NILSM6!M25","v":0},{"$f":"NILSM6!P25","v":0},{"$f":"NILSM6!S25","v":0},{"$f":"NILSM6!V25","v":0},{"$f":"NILSM6!Y25","v":0},{"$f":"NILSM6!AB25","v":0},{"$f":"NILSM6!AE25","v":0},{"$f":"NILSM6!AH25","v":0},{"$f":"NILSM6!AK25","v":0},{"$f":"NILSM6!AN25","v":0},{"$f":"NILSM6!AQ25","v":0},{"$f":"NILSM6!AT25","v":0},{"$f":"NILSM6!AW25","v":0},{"$f":"NILSM6!AZ25","v":0},{"$f":"NILSM6!BC25","v":0},{"$f":"NILSM6!BF25","v":0},{"$f":"NILSM6!BI25","v":0},{"$f":"NILSM6!BL25","v":0},{"$f":"NILSM6!BO25","v":0},{"$f":"NILSM6!BR25","v":0},{"$f":"NILSM6!BU25","v":0},{"$f":"NILSM6!BX25","v":0},{"$f":"NILSM6!CA25","v":0},{"$f":"NILSM6!CD25","v":0},{"$f":"NILSM6!CG25","v":0},{"$f":"NILSM6!CJ25","v":0},{"$f":"NILSM6!CM25","v":0}]
[{"$f":"BIODATA!A23","v":19},{"$f":"BIODATA!C23","v":0},{"$f":"BIODATA!D23","v":0},{"$f":"NILSM5!D26","v":0},{"$f":"NILSM5!G26","v":0},{"$f":"NILSM5!J26","v":0},{"$f":"NILSM5!M26","v":0},{"$f":"NILSM5!P26","v":0},{"$f":"NILSM5!S26","v":0},{"$f":"NILSM5!V26","v":0},{"$f":"NILSM5!Y26","v":0},{"$f":"NILSM5!AB26","v":0},{"$f":"NILSM5!AE26","v":0},{"$f":"NILSM5!AH26","v":0},{"$f":"NILSM5!AK26","v":0},{"$f":"NILSM5!AN26","v":0},{"$f":"NILSM5!AQ26","v":0},{"$f":"NILSM5!AT26","v":0},{"$f":"NILSM5!AW26","v":0},{"$f":"NILSM5!AZ26","v":0},{"$f":"NILSM5!BC26","v":0},{"$f":"NILSM5!BF26","v":0},{"$f":"NILSM5!BI26","v":0},{"$f":"NILSM5!BL26","v":0},{"$f":"NILSM5!BO26","v":0},{"$f":"NILSM5!BR26","v":0},{"$f":"NILSM5!BU26","v":0},{"$f":"NILSM5!BX26","v":0},{"$f":"NILSM5!CA26","v":0},{"$f":"NILSM5!CD26","v":0},{"$f":"NILSM5!CG26","v":0},{"$f":"NILSM5!CJ26","v":0},{"$f":"NILSM5!CM26","v":0},null,19,{"$f":"NILSM6!B26","v":0},{"$f":"NILSM6!C26","v":0},{"$f":"NILSM6!D26","v":0},{"$f":"NILSM6!G26","v":0},{"$f":"NILSM6!J26","v":0},{"$f":"NILSM6!M26","v":0},{"$f":"NILSM6!P26","v":0},{"$f":"NILSM6!S26","v":0},{"$f":"NILSM6!V26","v":0},{"$f":"NILSM6!Y26","v":0},{"$f":"NILSM6!AB26","v":0},{"$f":"NILSM6!AE26","v":0},{"$f":"NILSM6!AH26","v":0},{"$f":"NILSM6!AK26","v":0},{"$f":"NILSM6!AN26","v":0},{"$f":"NILSM6!AQ26","v":0},{"$f":"NILSM6!AT26","v":0},{"$f":"NILSM6!AW26","v":0},{"$f":"NILSM6!AZ26","v":0},{"$f":"NILSM6!BC26","v":0},{"$f":"NILSM6!BF26","v":0},{"$f":"NILSM6!BI26","v":0},{"$f":"NILSM6!BL26","v":0},{"$f":"NILSM6!BO26","v":0},{"$f":"NILSM6!BR26","v":0},{"$f":"NILSM6!BU26","v":0},{"$f":"NILSM6!BX26","v":0},{"$f":"NILSM6!CA26","v":0},{"$f":"NILSM6!CD26","v":0},{"$f":"NILSM6!CG26","v":0},{"$f":"NILSM6!CJ26","v":0},{"$f":"NILSM6!CM26","v":0}]
[{"$f":"BIODATA!A24","v":20},{"$f":"BIODATA!C24","v":0},{"$f":"BIODATA!D24","v":0},{"$f":"NILSM5!D27","v":0},{"$f":"NILSM5!G27","v":0},{"$f":"NILSM5!J27","v":0},{"$f":"NILSM5!M27","v":0},{"$f":"NILSM5!P27","v":0},{"$f":"NILSM5!S27","v":0},{"$f":"NILSM5!V27","v":0},{"$f":"NILSM5!Y27","v":0},{"$f":"NILSM5!AB27","v":0},{"$f":"NILSM5!AE27","v":0},{"$f":"NILSM5!AH27","v":0},{"$f":"NILSM5!AK27","v":0},{"$f":"NILSM5!AN27","v":0},{"$f":"NILSM5!AQ27","v":0},{"$f":"NILSM5!AT27","v":0},{"$f":"NILSM5!AW27","v":0},{"$f":"NILSM5!AZ27","v":0},{"$f":"NILSM5!BC27","v":0},{"$f":"NILSM5!BF27","v":0},{"$f":"NILSM5!BI27","v":0},{"$f":"NILSM5!BL27","v":0},{"$f":"NILSM5!BO27","v":0},{"$f":"NILSM5!BR27","v":0},{"$f":"NILSM5!BU27","v":0},{"$f":"NILSM5!BX27","v":0},{"$f":"NILSM5!CA27","v":0},{"$f":"NILSM5!CD27","v":0},{"$f":"NILSM5!CG27","v":0},{"$f":"NILSM5!CJ27","v":0},{"$f":"NILSM5!CM27","v":0},null,20,{"$f":"NILSM6!B27","v":0},{"$f":"NILSM6!C27","v":0},{"$f":"NILSM6!D27","v":0},{"$f":"NILSM6!G27","v":0},{"$f":"NILSM6!J27","v":0},{"$f":"NILSM6!M27","v":0},{"$f":"NILSM6!P27","v":0},{"$f":"NILSM6!S27","v":0},{"$f":"NILSM6!V27","v":0},{"$f":"NILSM6!Y27","v":0},{"$f":"NILSM6!AB27","v":0},{"$f":"NILSM6!AE27","v":0},{"$f":"NILSM6!AH27","v":0},{"$f":"NILSM6!AK27","v":0},{"$f":"NILSM6!AN27","v":0},{"$f":"NILSM6!AQ27","v":0},{"$f":"NILSM6!AT27","v":0},{"$f":"NILSM6!AW27","v":0},{"$f":"NILSM6!AZ27","v":0},{"$f":"NILSM6!BC27","v":0},{"$f":"NILSM6!BF27","v":0},{"$f":"NILSM6!BI27","v":0},{"$f":"NILSM6!BL27","v":0},{"$f":"NILSM6!BO27","v":0},{"$f":"NILSM6!BR27","v":0},{"$f":"NILSM6!BU27","v":0},{"$f":"NILSM6!BX27","v":0},{"$f":"NILSM6!CA27","v":0},{"$f":"NILSM6!CD27","v":0},{"$f":"NILSM6!CG27","v":0},{"$f":"NILSM6!CJ27","v":0},{"$f":"NILSM6!CM27","v":0}]
[{"$f":"BIODATA!A25","v":21},{"$f":"BIODATA!C25","v":0},{"$f":"BIODATA!D25","v":0},{"$f":"NILSM5!D28","v":0},{"$f":"NILSM5!G28","v":0},{"$f":"NILSM5!J28","v":0},{"$f":"NILSM5!M28","v":0},{"$f":"NILSM5!P28","v":0},{"$f":"NILSM5!S28","v":0},{"$f":"NILSM5!V28","v":0},{"$f":"NILSM5!Y28","v":0},{"$f":"NILSM5!AB28","v":0},{"$f":"NILSM5!AE28","v":0},{"$f":"NILSM5!AH28","v":0},{"$f":"NILSM5!AK28","v":0},{"$f":"NILSM5!AN28","v":0},{"$f":"NILSM5!AQ28","v":0},{"$f":"NILSM5!AT28","v":0},{"$f":"NILSM5!AW28","v":0},{"$f":"NILSM5!AZ28","v":0},{"$f":"NILSM5!BC28","v":0},{"$f":"NILSM5!BF28","v":0},{"$f":"NILSM5!BI28","v":0},{"$f":"NILSM5!BL28","v":0},{"$f":"NILSM5!BO28","v":0},{"$f":"NILSM5!BR28","v":0},{"$f":"NILSM5!BU28","v":0},{"$f":"NILSM5!BX28","v":0},{"$f":"NILSM5!CA28","v":0},{"$f":"NILSM5!CD28","v":0},{"$f":"NILSM5!CG28","v":0},{"$f":"NILSM5!CJ28","v":0},{"$f":"NILSM5!CM28","v":0},null,21,{"$f":"NILSM6!B28","v":0},{"$f":"NILSM6!C28","v":0},{"$f":"NILSM6!D28","v":0},{"$f":"NILSM6!G28","v":0},{"$f":"NILSM6!J28","v":0},{"$f":"NILSM6!M28","v":0},{"$f":"NILSM6!P28","v":0},{"$f":"NILSM6!S28","v":0},{"$f":"NILSM6!V28","v":0},{"$f":"NILSM6!Y28","v":0},{"$f":"NILSM6!AB28","v":0},{"$f":"NILSM6!AE28","v":0},{"$f":"NILSM6!AH28","v":0},{"$f":"NILSM6!AK28","v":0},{"$f":"NILSM6!AN28","v":0},{"$f":"NILSM6!AQ28","v":0},{"$f":"NILSM6!AT28","v":0},{"$f":"NILSM6!AW28","v":0},{"$f":"NILSM6!AZ28","v":0},{"$f":"NILSM6!BC28","v":0},{"$f":"NILSM6!BF28","v":0},{"$f":"NILSM6!BI28","v":0},{"$f":"NILSM6!BL28","v":0},{"$f":"NILSM6!BO28","v":0},{"$f":"NILSM6!BR28","v":0},{"$f":"NILSM6!BU28","v":0},{"$f":"NILSM6!BX28","v":0},{"$f":"NILSM6!CA28","v":0},{"$f":"NILSM6!CD28","v":0},{"$f":"NILSM6!CG28","v":0},{"$f":"NILSM6!CJ28","v":0},{"$f":"NILSM6!CM28","v":0}]
[{"$f":"BIODATA!A26","v":22},{"$f":"BIODATA!C26","v":0},{"$f":"BIODATA!D26","v":0},{"$f":"NILSM5!D29","v":0},{"$f":"NILSM5!G29","v":0},{"$f":"NILSM5!J29","v":0},{"$f":"NILSM5!M29","v":0},{"$f":"NILSM5!P29","v":0},{"$f":"NILSM5!S29","v":0},{"$f":"NILSM5!V29","v":0},{"$f":"NILSM5!Y29","v":0},{"$f":"NILSM5!AB29","v":0},{"$f":"NILSM5!AE29","v":0},{"$f":"NILSM5!AH29","v":0},{"$f":"NILSM5!AK29","v":0},{"$f":"NILSM5!AN29","v":0},{"$f":"NILSM5!AQ29","v":0},{"$f":"NILSM5!AT29","v":0},{"$f":"NILSM5!AW29","v":0},{"$f":"NILSM5!AZ29","v":0},{"$f":"NILSM5!BC29","v":0},{"$f":"NILSM5!BF29","v":0},{"$f":"NILSM5!BI29","v":0},{"$f":"NILSM5!BL29","v":0},{"$f":"NILSM5!BO29","v":0},{"$f":"NILSM5!BR29","v":0},{"$f":"NILSM5!BU29","v":0},{"$f":"NILSM5!BX29","v":0},{"$f":"NILSM5!CA29","v":0},{"$f":"NILSM5!CD29","v":0},{"$f":"NILSM5!CG29","v":0},{"$f":"NILSM5!CJ29","v":0},{"$f":"NILSM5!CM29","v":0},null,22,{"$f":"NILSM6!B29","v":0},{"$f":"NILSM6!C29","v":0},{"$f":"NILSM6!D29","v":0},{"$f":"NILSM6!G29","v":0},{"$f":"NILSM6!J29","v":0},{"$f":"NILSM6!M29","v":0},{"$f":"NILSM6!P29","v":0},{"$f":"NILSM6!S29","v":0},{"$f":"NILSM6!V29","v":0},{"$f":"NILSM6!Y29","v":0},{"$f":"NILSM6!AB29","v":0},{"$f":"NILSM6!AE29","v":0},{"$f":"NILSM6!AH29","v":0},{"$f":"NILSM6!AK29","v":0},{"$f":"NILSM6!AN29","v":0},{"$f":"NILSM6!AQ29","v":0},{"$f":"NILSM6!AT29","v":0},{"$f":"NILSM6!AW29","v":0},{"$f":"NILSM6!AZ29","v":0},{"$f":"NILSM6!BC29","v":0},{"$f":"NILSM6!BF29","v":0},{"$f":"NILSM6!BI29","v":0},{"$f":"NILSM6!BL29","v":0},{"$f":"NILSM6!BO29","v":0},{"$f":"NILSM6!BR29","v":0},{"$f":"NILSM6!BU29","v":0},{"$f":"NILSM6!BX29","v":0},{"$f":"NILSM6!CA29","v":0},{"$f":"NILSM6!CD29","v":0},{"$f":"NILSM6!CG29","v":0},{"$f":"NILSM6!CJ29","v":0},{"$f":"NILSM6!CM29","v":0}]
[{"$f":"BIODATA!A27","v":23},{"$f":"BIODATA!C27","v":0},{"$f":"BIODATA!D27","v":0},{"$f":"NILSM5!D30","v":0},{"$f":"NILSM5!G30","v":0},{"$f":"NILSM5!J30","v":0},{"$f":"NILSM5!M30","v":0},{"$f":"NILSM5!P30","v":0},{"$f":"NILSM5!S30","v":0},{"$f":"NILSM5!V30","v":0},{"$f":"NILSM5!Y30","v":0},{"$f":"NILSM5!AB30","v":0},{"$f":"NILSM5!AE30","v":0},{"$f":"NILSM5!AH30","v":0},{"$f":"NILSM5!AK30","v":0},{"$f":"NILSM5!AN30","v":0},{"$f":"NILSM5!AQ30","v":0},{"$f":"NILSM5!AT30","v":0},{"$f":"NILSM5!AW30","v":0},{"$f":"NILSM5!AZ30","v":0},{"$f":"NILSM5!BC30","v":0},{"$f":"NILSM5!BF30","v":0},{"$f":"NILSM5!BI30","v":0},{"$f":"NILSM5!BL30","v":0},{"$f":"NILSM5!BO30","v":0},{"$f":"NILSM5!BR30","v":0},{"$f":"NILSM5!BU30","v":0},{"$f":"NILSM5!BX30","v":0},{"$f":"NILSM5!CA30","v":0},{"$f":"NILSM5!CD30","v":0},{"$f":"NILSM5!CG30","v":0},{"$f":"NILSM5!CJ30","v":0},{"$f":"NILSM5!CM30","v":0},null,23,{"$f":"NILSM6!B30","v":0},{"$f":"NILSM6!C30","v":0},{"$f":"NILSM6!D30","v":0},{"$f":"NILSM6!G30","v":0},{"$f":"NILSM6!J30","v":0},{"$f":"NILSM6!M30","v":0},{"$f":"NILSM6!P30","v":0},{"$f":"NILSM6!S30","v":0},{"$f":"NILSM6!V30","v":0},{"$f":"NILSM6!Y30","v":0},{"$f":"NILSM6!AB30","v":0},{"$f":"NILSM6!AE30","v":0},{"$f":"NILSM6!AH30","v":0},{"$f":"NILSM6!AK30","v":0},{"$f":"NILSM6!AN30","v":0},{"$f":"NILSM6!AQ30","v":0},{"$f":"NILSM6!AT30","v":0},{"$f":"NILSM6!AW30","v":0},{"$f":"NILSM6!AZ30","v":0},{"$f":"NILSM6!BC30","v":0},{"$f":"NILSM6!BF30","v":0},{"$f":"NILSM6!BI30","v":0},{"$f":"NILSM6!BL30","v":0},{"$f":"NILSM6!BO30","v":0},{"$f":"NILSM6!BR30","v":0},{"$f":"NILSM6!BU30","v":0},{"$f":"NILSM6!BX30","v":0},{"$f":"NILSM6!CA30","v":0},{"$f":"NILSM6!CD30","v":0},{"$f":"NILSM6!CG30","v":0},{"$f":"NILSM6!CJ30","v":0},{"$f":"NILSM6!CM30","v":0}]
[{"$f":"BIODATA!A28","v":24},{"$f":"BIODATA!C28","v":0},{"$f":"BIODATA!D28","v":0},{"$f":"NILSM5!D31","v":0},{"$f":"NILSM5!G31","v":0},{"$f":"NILSM5!J31","v":0},{"$f":"NILSM5!M31","v":0},{"$f":"NILSM5!P31","v":0},{"$f":"NILSM5!S31","v":0},{"$f":"NILSM5!V31","v":0},{"$f":"NILSM5!Y31","v":0},{"$f":"NILSM5!AB31","v":0},{"$f":"NILSM5!AE31","v":0},{"$f":"NILSM5!AH31","v":0},{"$f":"NILSM5!AK31","v":0},{"$f":"NILSM5!AN31","v":0},{"$f":"NILSM5!AQ31","v":0},{"$f":"NILSM5!AT31","v":0},{"$f":"NILSM5!AW31","v":0},{"$f":"NILSM5!AZ31","v":0},{"$f":"NILSM5!BC31","v":0},{"$f":"NILSM5!BF31","v":0},{"$f":"NILSM5!BI31","v":0},{"$f":"NILSM5!BL31","v":0},{"$f":"NILSM5!BO31","v":0},{"$f":"NILSM5!BR31","v":0},{"$f":"NILSM5!BU31","v":0},{"$f":"NILSM5!BX31","v":0},{"$f":"NILSM5!CA31","v":0},{"$f":"NILSM5!CD31","v":0},{"$f":"NILSM5!CG31","v":0},{"$f":"NILSM5!CJ31","v":0},{"$f":"NILSM5!CM31","v":0},null,24,{"$f":"NILSM6!B31","v":0},{"$f":"NILSM6!C31","v":0},{"$f":"NILSM6!D31","v":0},{"$f":"NILSM6!G31","v":0},{"$f":"NILSM6!J31","v":0},{"$f":"NILSM6!M31","v":0},{"$f":"NILSM6!P31","v":0},{"$f":"NILSM6!S31","v":0},{"$f":"NILSM6!V31","v":0},{"$f":"NILSM6!Y31","v":0},{"$f":"NILSM6!AB31","v":0},{"$f":"NILSM6!AE31","v":0},{"$f":"NILSM6!AH31","v":0},{"$f":"NILSM6!AK31","v":0},{"$f":"NILSM6!AN31","v":0},{"$f":"NILSM6!AQ31","v":0},{"$f":"NILSM6!AT31","v":0},{"$f":"NILSM6!AW31","v":0},{"$f":"NILSM6!AZ31","v":0},{"$f":"NILSM6!BC31","v":0},{"$f":"NILSM6!BF31","v":0},{"$f":"NILSM6!BI31","v":0},{"$f":"NILSM6!BL31","v":0},{"$f":"NILSM6!BO31","v":0},{"$f":"NILSM6!BR31","v":0},{"$f":"NILSM6!BU31","v":0},{"$f":"NILSM6!BX31","v":0},{"$f":"NILSM6!CA31","v":0},{"$f":"NILSM6!CD31","v":0},{"$f":"NILSM6!CG31","v":0},{"$f":"NILSM6!CJ31","v":0},{"$f":"NILSM6!CM31","v":0}]
[{"$f":"BIODATA!A29","v":25},{"$f":"BIODATA!C29","v":0},{"$f":"BIODATA!D29","v":0},{"$f":"NILSM5!D32","v":0},{"$f":"NILSM5!G32","v":0},{"$f":"NILSM5!J32","v":0},{"$f":"NILSM5!M32","v":0},{"$f":"NILSM5!P32","v":0},{"$f":"NILSM5!S32","v":0},{"$f":"NILSM5!V32","v":0},{"$f":"NILSM5!Y32","v":0},{"$f":"NILSM5!AB32","v":0},{"$f":"NILSM5!AE32","v":0},{"$f":"NILSM5!AH32","v":0},{"$f":"NILSM5!AK32","v":0},{"$f":"NILSM5!AN32","v":0},{"$f":"NILSM5!AQ32","v":0},{"$f":"NILSM5!AT32","v":0},{"$f":"NILSM5!AW32","v":0},{"$f":"NILSM5!AZ32","v":0},{"$f":"NILSM5!BC32","v":0},{"$f":"NILSM5!BF32","v":0},{"$f":"NILSM5!BI32","v":0},{"$f":"NILSM5!BL32","v":0},{"$f":"NILSM5!BO32","v":0},{"$f":"NILSM5!BR32","v":0},{"$f":"NILSM5!BU32","v":0},{"$f":"NILSM5!BX32","v":0},{"$f":"NILSM5!CA32","v":0},{"$f":"NILSM5!CD32","v":0},{"$f":"NILSM5!CG32","v":0},{"$f":"NILSM5!CJ32","v":0},{"$f":"NILSM5!CM32","v":0},null,25,{"$f":"NILSM6!B32","v":0},{"$f":"NILSM6!C32","v":0},{"$f":"NILSM6!D32","v":0},{"$f":"NILSM6!G32","v":0},{"$f":"NILSM6!J32","v":0},{"$f":"NILSM6!M32","v":0},{"$f":"NILSM6!P32","v":0},{"$f":"NILSM6!S32","v":0},{"$f":"NILSM6!V32","v":0},{"$f":"NILSM6!Y32","v":0},{"$f":"NILSM6!AB32","v":0},{"$f":"NILSM6!AE32","v":0},{"$f":"NILSM6!AH32","v":0},{"$f":"NILSM6!AK32","v":0},{"$f":"NILSM6!AN32","v":0},{"$f":"NILSM6!AQ32","v":0},{"$f":"NILSM6!AT32","v":0},{"$f":"NILSM6!AW32","v":0},{"$f":"NILSM6!AZ32","v":0},{"$f":"NILSM6!BC32","v":0},{"$f":"NILSM6!BF32","v":0},{"$f":"NILSM6!BI32","v":0},{"$f":"NILSM6!BL32","v":0},{"$f":"NILSM6!BO32","v":0},{"$f":"NILSM6!BR32","v":0},{"$f":"NILSM6!BU32","v":0},{"$f":"NILSM6!BX32","v":0},{"$f":"NILSM6!CA32","v":0},{"$f":"NILSM6!CD32","v":0},{"$f":"NILSM6!CG32","v":0},{"$f":"NILSM6!CJ32","v":0},{"$f":"NILSM6!CM32","v":0}]
[{"$f":"BIODATA!A30","v":26},{"$f":"BIODATA!C30","v":0},{"$f":"BIODATA!D30","v":0},{"$f":"NILSM5!D33","v":0},{"$f":"NILSM5!G33","v":0},{"$f":"NILSM5!J33","v":0},{"$f":"NILSM5!M33","v":0},{"$f":"NILSM5!P33","v":0},{"$f":"NILSM5!S33","v":0},{"$f":"NILSM5!V33","v":0},{"$f":"NILSM5!Y33","v":0},{"$f":"NILSM5!AB33","v":0},{"$f":"NILSM5!AE33","v":0},{"$f":"NILSM5!AH33","v":0},{"$f":"NILSM5!AK33","v":0},{"$f":"NILSM5!AN33","v":0},{"$f":"NILSM5!AQ33","v":0},{"$f":"NILSM5!AT33","v":0},{"$f":"NILSM5!AW33","v":0},{"$f":"NILSM5!AZ33","v":0},{"$f":"NILSM5!BC33","v":0},{"$f":"NILSM5!BF33","v":0},{"$f":"NILSM5!BI33","v":0},{"$f":"NILSM5!BL33","v":0},{"$f":"NILSM5!BO33","v":0},{"$f":"NILSM5!BR33","v":0},{"$f":"NILSM5!BU33","v":0},{"$f":"NILSM5!BX33","v":0},{"$f":"NILSM5!CA33","v":0},{"$f":"NILSM5!CD33","v":0},{"$f":"NILSM5!CG33","v":0},{"$f":"NILSM5!CJ33","v":0},{"$f":"NILSM5!CM33","v":0},null,26,{"$f":"NILSM6!B33","v":0},{"$f":"NILSM6!C33","v":0},{"$f":"NILSM6!D33","v":0},{"$f":"NILSM6!G33","v":0},{"$f":"NILSM6!J33","v":0},{"$f":"NILSM6!M33","v":0},{"$f":"NILSM6!P33","v":0},{"$f":"NILSM6!S33","v":0},{"$f":"NILSM6!V33","v":0},{"$f":"NILSM6!Y33","v":0},{"$f":"NILSM6!AB33","v":0},{"$f":"NILSM6!AE33","v":0},{"$f":"NILSM6!AH33","v":0},{"$f":"NILSM6!AK33","v":0},{"$f":"NILSM6!AN33","v":0},{"$f":"NILSM6!AQ33","v":0},{"$f":"NILSM6!AT33","v":0},{"$f":"NILSM6!AW33","v":0},{"$f":"NILSM6!AZ33","v":0},{"$f":"NILSM6!BC33","v":0},{"$f":"NILSM6!BF33","v":0},{"$f":"NILSM6!BI33","v":0},{"$f":"NILSM6!BL33","v":0},{"$f":"NILSM6!BO33","v":0},{"$f":"NILSM6!BR33","v":0},{"$f":"NILSM6!BU33","v":0},{"$f":"NILSM6!BX33","v":0},{"$f":"NILSM6!CA33","v":0},{"$f":"NILSM6!CD33","v":0},{"$f":"NILSM6!CG33","v":0},{"$f":"NILSM6!CJ33","v":0},{"$f":"NILSM6!CM33","v":0}]
[{"$f":"BIODATA!A31","v":27},{"$f":"BIODATA!C31","v":0},{"$f":"BIODATA!D31","v":0},{"$f":"NILSM5!D34","v":0},{"$f":"NILSM5!G34","v":0},{"$f":"NILSM5!J34","v":0},{"$f":"NILSM5!M34","v":0},{"$f":"NILSM5!P34","v":0},{"$f":"NILSM5!S34","v":0},{"$f":"NILSM5!V34","v":0},{"$f":"NILSM5!Y34","v":0},{"$f":"NILSM5!AB34","v":0},{"$f":"NILSM5!AE34","v":0},{"$f":"NILSM5!AH34","v":0},{"$f":"NILSM5!AK34","v":0},{"$f":"NILSM5!AN34","v":0},{"$f":"NILSM5!AQ34","v":0},{"$f":"NILSM5!AT34","v":0},{"$f":"NILSM5!AW34","v":0},{"$f":"NILSM5!AZ34","v":0},{"$f":"NILSM5!BC34","v":0},{"$f":"NILSM5!BF34","v":0},{"$f":"NILSM5!BI34","v":0},{"$f":"NILSM5!BL34","v":0},{"$f":"NILSM5!BO34","v":0},{"$f":"NILSM5!BR34","v":0},{"$f":"NILSM5!BU34","v":0},{"$f":"NILSM5!BX34","v":0},{"$f":"NILSM5!CA34","v":0},{"$f":"NILSM5!CD34","v":0},{"$f":"NILSM5!CG34","v":0},{"$f":"NILSM5!CJ34","v":0},{"$f":"NILSM5!CM34","v":0},null,27,{"$f":"NILSM6!B34","v":0},{"$f":"NILSM6!C34","v":0},{"$f":"NILSM6!D34","v":0},{"$f":"NILSM6!G34","v":0},{"$f":"NILSM6!J34","v":0},{"$f":"NILSM6!M34","v":0},{"$f":"NILSM6!P34","v":0},{"$f":"NILSM6!S34","v":0},{"$f":"NILSM6!V34","v":0},{"$f":"NILSM6!Y34","v":0},{"$f":"NILSM6!AB34","v":0},{"$f":"NILSM6!AE34","v":0},{"$f":"NILSM6!AH34","v":0},{"$f":"NILSM6!AK34","v":0},{"$f":"NILSM6!AN34","v":0},{"$f":"NILSM6!AQ34","v":0},{"$f":"NILSM6!AT34","v":0},{"$f":"NILSM6!AW34","v":0},{"$f":"NILSM6!AZ34","v":0},{"$f":"NILSM6!BC34","v":0},{"$f":"NILSM6!BF34","v":0},{"$f":"NILSM6!BI34","v":0},{"$f":"NILSM6!BL34","v":0},{"$f":"NILSM6!BO34","v":0},{"$f":"NILSM6!BR34","v":0},{"$f":"NILSM6!BU34","v":0},{"$f":"NILSM6!BX34","v":0},{"$f":"NILSM6!CA34","v":0},{"$f":"NILSM6!CD34","v":0},{"$f":"NILSM6!CG34","v":0},{"$f":"NILSM6!CJ34","v":0},{"$f":"NILSM6!CM34","v":0}]
[{"$f":"BIODATA!A32","v":28},{"$f":"BIODATA!C32","v":0},{"$f":"BIODATA!D32","v":0},{"$f":"NILSM5!D35","v":0},{"$f":"NILSM5!G35","v":0},{"$f":"NILSM5!J35","v":0},{"$f":"NILSM5!M35","v":0},{"$f":"NILSM5!P35","v":0},{"$f":"NILSM5!S35","v":0},{"$f":"NILSM5!V35","v":0},{"$f":"NILSM5!Y35","v":0},{"$f":"NILSM5!AB35","v":0},{"$f":"NILSM5!AE35","v":0},{"$f":"NILSM5!AH35","v":0},{"$f":"NILSM5!AK35","v":0},{"$f":"NILSM5!AN35","v":0},{"$f":"NILSM5!AQ35","v":0},{"$f":"NILSM5!AT35","v":0},{"$f":"NILSM5!AW35","v":0},{"$f":"NILSM5!AZ35","v":0},{"$f":"NILSM5!BC35","v":0},{"$f":"NILSM5!BF35","v":0},{"$f":"NILSM5!BI35","v":0},{"$f":"NILSM5!BL35","v":0},{"$f":"NILSM5!BO35","v":0},{"$f":"NILSM5!BR35","v":0},{"$f":"NILSM5!BU35","v":0},{"$f":"NILSM5!BX35","v":0},{"$f":"NILSM5!CA35","v":0},{"$f":"NILSM5!CD35","v":0},{"$f":"NILSM5!CG35","v":0},{"$f":"NILSM5!CJ35","v":0},{"$f":"NILSM5!CM35","v":0},null,28,{"$f":"NILSM6!B35","v":0},{"$f":"NILSM6!C35","v":0},{"$f":"NILSM6!D35","v":0},{"$f":"NILSM6!G35","v":0},{"$f":"NILSM6!J35","v":0},{"$f":"NILSM6!M35","v":0},{"$f":"NILSM6!P35","v":0},{"$f":"NILSM6!S35","v":0},{"$f":"NILSM6!V35","v":0},{"$f":"NILSM6!Y35","v":0},{"$f":"NILSM6!AB35","v":0},{"$f":"NILSM6!AE35","v":0},{"$f":"NILSM6!AH35","v":0},{"$f":"NILSM6!AK35","v":0},{"$f":"NILSM6!AN35","v":0},{"$f":"NILSM6!AQ35","v":0},{"$f":"NILSM6!AT35","v":0},{"$f":"NILSM6!AW35","v":0},{"$f":"NILSM6!AZ35","v":0},{"$f":"NILSM6!BC35","v":0},{"$f":"NILSM6!BF35","v":0},{"$f":"NILSM6!BI35","v":0},{"$f":"NILSM6!BL35","v":0},{"$f":"NILSM6!BO35","v":0},{"$f":"NILSM6!BR35","v":0},{"$f":"NILSM6!BU35","v":0},{"$f":"NILSM6!BX35","v":0},{"$f":"NILSM6!CA35","v":0},{"$f":"NILSM6!CD35","v":0},{"$f":"NILSM6!CG35","v":0},{"$f":"NILSM6!CJ35","v":0},{"$f":"NILSM6!CM35","v":0}]
[{"$f":"BIODATA!A33","v":29},{"$f":"BIODATA!C33","v":0},{"$f":"BIODATA!D33","v":0},{"$f":"NILSM5!D36","v":0},{"$f":"NILSM5!G36","v":0},{"$f":"NILSM5!J36","v":0},{"$f":"NILSM5!M36","v":0},{"$f":"NILSM5!P36","v":0},{"$f":"NILSM5!S36","v":0},{"$f":"NILSM5!V36","v":0},{"$f":"NILSM5!Y36","v":0},{"$f":"NILSM5!AB36","v":0},{"$f":"NILSM5!AE36","v":0},{"$f":"NILSM5!AH36","v":0},{"$f":"NILSM5!AK36","v":0},{"$f":"NILSM5!AN36","v":0},{"$f":"NILSM5!AQ36","v":0},{"$f":"NILSM5!AT36","v":0},{"$f":"NILSM5!AW36","v":0},{"$f":"NILSM5!AZ36","v":0},{"$f":"NILSM5!BC36","v":0},{"$f":"NILSM5!BF36","v":0},{"$f":"NILSM5!BI36","v":0},{"$f":"NILSM5!BL36","v":0},{"$f":"NILSM5!BO36","v":0},{"$f":"NILSM5!BR36","v":0},{"$f":"NILSM5!BU36","v":0},{"$f":"NILSM5!BX36","v":0},{"$f":"NILSM5!CA36","v":0},{"$f":"NILSM5!CD36","v":0},{"$f":"NILSM5!CG36","v":0},{"$f":"NILSM5!CJ36","v":0},{"$f":"NILSM5!CM36","v":0},null,29,{"$f":"NILSM6!B36","v":0},{"$f":"NILSM6!C36","v":0},{"$f":"NILSM6!D36","v":0},{"$f":"NILSM6!G36","v":0},{"$f":"NILSM6!J36","v":0},{"$f":"NILSM6!M36","v":0},{"$f":"NILSM6!P36","v":0},{"$f":"NILSM6!S36","v":0},{"$f":"NILSM6!V36","v":0},{"$f":"NILSM6!Y36","v":0},{"$f":"NILSM6!AB36","v":0},{"$f":"NILSM6!AE36","v":0},{"$f":"NILSM6!AH36","v":0},{"$f":"NILSM6!AK36","v":0},{"$f":"NILSM6!AN36","v":0},{"$f":"NILSM6!AQ36","v":0},{"$f":"NILSM6!AT36","v":0},{"$f":"NILSM6!AW36","v":0},{"$f":"NILSM6!AZ36","v":0},{"$f":"NILSM6!BC36","v":0},{"$f":"NILSM6!BF36","v":0},{"$f":"NILSM6!BI36","v":0},{"$f":"NILSM6!BL36","v":0},{"$f":"NILSM6!BO36","v":0},{"$f":"NILSM6!BR36","v":0},{"$f":"NILSM6!BU36","v":0},{"$f":"NILSM6!BX36","v":0},{"$f":"NILSM6!CA36","v":0},{"$f":"NILSM6!CD36","v":0},{"$f":"NILSM6!CG36","v":0},{"$f":"NILSM6!CJ36","v":0},{"$f":"NILSM6!CM36","v":0}]
[{"$f":"BIODATA!A34","v":30},{"$f":"BIODATA!C34","v":0},{"$f":"BIODATA!D34","v":0},{"$f":"NILSM5!D37","v":0},{"$f":"NILSM5!G37","v":0},{"$f":"NILSM5!J37","v":0},{"$f":"NILSM5!M37","v":0},{"$f":"NILSM5!P37","v":0},{"$f":"NILSM5!S37","v":0},{"$f":"NILSM5!V37","v":0},{"$f":"NILSM5!Y37","v":0},{"$f":"NILSM5!AB37","v":0},{"$f":"NILSM5!AE37","v":0},{"$f":"NILSM5!AH37","v":0},{"$f":"NILSM5!AK37","v":0},{"$f":"NILSM5!AN37","v":0},{"$f":"NILSM5!AQ37","v":0},{"$f":"NILSM5!AT37","v":0},{"$f":"NILSM5!AW37","v":0},{"$f":"NILSM5!AZ37","v":0},{"$f":"NILSM5!BC37","v":0},{"$f":"NILSM5!BF37","v":0},{"$f":"NILSM5!BI37","v":0},{"$f":"NILSM5!BL37","v":0},{"$f":"NILSM5!BO37","v":0},{"$f":"NILSM5!BR37","v":0},{"$f":"NILSM5!BU37","v":0},{"$f":"NILSM5!BX37","v":0},{"$f":"NILSM5!CA37","v":0},{"$f":"NILSM5!CD37","v":0},{"$f":"NILSM5!CG37","v":0},{"$f":"NILSM5!CJ37","v":0},{"$f":"NILSM5!CM37","v":0},null,30,{"$f":"NILSM6!B37","v":0},{"$f":"NILSM6!C37","v":0},{"$f":"NILSM6!D37","v":0},{"$f":"NILSM6!G37","v":0},{"$f":"NILSM6!J37","v":0},{"$f":"NILSM6!M37","v":0},{"$f":"NILSM6!P37","v":0},{"$f":"NILSM6!S37","v":0},{"$f":"NILSM6!V37","v":0},{"$f":"NILSM6!Y37","v":0},{"$f":"NILSM6!AB37","v":0},{"$f":"NILSM6!AE37","v":0},{"$f":"NILSM6!AH37","v":0},{"$f":"NILSM6!AK37","v":0},{"$f":"NILSM6!AN37","v":0},{"$f":"NILSM6!AQ37","v":0},{"$f":"NILSM6!AT37","v":0},{"$f":"NILSM6!AW37","v":0},{"$f":"NILSM6!AZ37","v":0},{"$f":"NILSM6!BC37","v":0},{"$f":"NILSM6!BF37","v":0},{"$f":"NILSM6!BI37","v":0},{"$f":"NILSM6!BL37","v":0},{"$f":"NILSM6!BO37","v":0},{"$f":"NILSM6!BR37","v":0},{"$f":"NILSM6!BU37","v":0},{"$f":"NILSM6!BX37","v":0},{"$f":"NILSM6!CA37","v":0},{"$f":"NILSM6!CD37","v":0},{"$f":"NILSM6!CG37","v":0},{"$f":"NILSM6!CJ37","v":0},{"$f":"NILSM6!CM37","v":0}]
[{"$f":"BIODATA!A35","v":31},{"$f":"BIODATA!C35","v":0},{"$f":"BIODATA!D35","v":0},{"$f":"NILSM5!D38","v":0},{"$f":"NILSM5!G38","v":0},{"$f":"NILSM5!J38","v":0},{"$f":"NILSM5!M38","v":0},{"$f":"NILSM5!P38","v":0},{"$f":"NILSM5!S38","v":0},{"$f":"NILSM5!V38","v":0},{"$f":"NILSM5!Y38","v":0},{"$f":"NILSM5!AB38","v":0},{"$f":"NILSM5!AE38","v":0},{"$f":"NILSM5!AH38","v":0},{"$f":"NILSM5!AK38","v":0},{"$f":"NILSM5!AN38","v":0},{"$f":"NILSM5!AQ38","v":0},{"$f":"NILSM5!AT38","v":0},{"$f":"NILSM5!AW38","v":0},{"$f":"NILSM5!AZ38","v":0},{"$f":"NILSM5!BC38","v":0},{"$f":"NILSM5!BF38","v":0},{"$f":"NILSM5!BI38","v":0},{"$f":"NILSM5!BL38","v":0},{"$f":"NILSM5!BO38","v":0},{"$f":"NILSM5!BR38","v":0},{"$f":"NILSM5!BU38","v":0},{"$f":"NILSM5!BX38","v":0},{"$f":"NILSM5!CA38","v":0},{"$f":"NILSM5!CD38","v":0},{"$f":"NILSM5!CG38","v":0},{"$f":"NILSM5!CJ38","v":0},{"$f":"NILSM5!CM38","v":0},null,31,{"$f":"NILSM6!B38","v":0},{"$f":"NILSM6!C38","v":0},{"$f":"NILSM6!D38","v":0},{"$f":"NILSM6!G38","v":0},{"$f":"NILSM6!J38","v":0},{"$f":"NILSM6!M38","v":0},{"$f":"NILSM6!P38","v":0},{"$f":"NILSM6!S38","v":0},{"$f":"NILSM6!V38","v":0},{"$f":"NILSM6!Y38","v":0},{"$f":"NILSM6!AB38","v":0},{"$f":"NILSM6!AE38","v":0},{"$f":"NILSM6!AH38","v":0},{"$f":"NILSM6!AK38","v":0},{"$f":"NILSM6!AN38","v":0},{"$f":"NILSM6!AQ38","v":0},{"$f":"NILSM6!AT38","v":0},{"$f":"NILSM6!AW38","v":0},{"$f":"NILSM6!AZ38","v":0},{"$f":"NILSM6!BC38","v":0},{"$f":"NILSM6!BF38","v":0},{"$f":"NILSM6!BI38","v":0},{"$f":"NILSM6!BL38","v":0},{"$f":"NILSM6!BO38","v":0},{"$f":"NILSM6!BR38","v":0},{"$f":"NILSM6!BU38","v":0},{"$f":"NILSM6!BX38","v":0},{"$f":"NILSM6!CA38","v":0},{"$f":"NILSM6!CD38","v":0},{"$f":"NILSM6!CG38","v":0},{"$f":"NILSM6!CJ38","v":0},{"$f":"NILSM6!CM38","v":0}]
[{"$f":"BIODATA!A36","v":32},{"$f":"BIODATA!C36","v":0},{"$f":"BIODATA!D36","v":0},{"$f":"NILSM5!D39","v":0},{"$f":"NILSM5!G39","v":0},{"$f":"NILSM5!J39","v":0},{"$f":"NILSM5!M39","v":0},{"$f":"NILSM5!P39","v":0},{"$f":"NILSM5!S39","v":0},{"$f":"NILSM5!V39","v":0},{"$f":"NILSM5!Y39","v":0},{"$f":"NILSM5!AB39","v":0},{"$f":"NILSM5!AE39","v":0},{"$f":"NILSM5!AH39","v":0},{"$f":"NILSM5!AK39","v":0},{"$f":"NILSM5!AN39","v":0},{"$f":"NILSM5!AQ39","v":0},{"$f":"NILSM5!AT39","v":0},{"$f":"NILSM5!AW39","v":0},{"$f":"NILSM5!AZ39","v":0},{"$f":"NILSM5!BC39","v":0},{"$f":"NILSM5!BF39","v":0},{"$f":"NILSM5!BI39","v":0},{"$f":"NILSM5!BL39","v":0},{"$f":"NILSM5!BO39","v":0},{"$f":"NILSM5!BR39","v":0},{"$f":"NILSM5!BU39","v":0},{"$f":"NILSM5!BX39","v":0},{"$f":"NILSM5!CA39","v":0},{"$f":"NILSM5!CD39","v":0},{"$f":"NILSM5!CG39","v":0},{"$f":"NILSM5!CJ39","v":0},{"$f":"NILSM5!CM39","v":0},null,32,{"$f":"NILSM6!B39","v":0},{"$f":"NILSM6!C39","v":0},{"$f":"NILSM6!D39","v":0},{"$f":"NILSM6!G39","v":0},{"$f":"NILSM6!J39","v":0},{"$f":"NILSM6!M39","v":0},{"$f":"NILSM6!P39","v":0},{"$f":"NILSM6!S39","v":0},{"$f":"NILSM6!V39","v":0},{"$f":"NILSM6!Y39","v":0},{"$f":"NILSM6!AB39","v":0},{"$f":"NILSM6!AE39","v":0},{"$f":"NILSM6!AH39","v":0},{"$f":"NILSM6!AK39","v":0},{"$f":"NILSM6!AN39","v":0},{"$f":"NILSM6!AQ39","v":0},{"$f":"NILSM6!AT39","v":0},{"$f":"NILSM6!AW39","v":0},{"$f":"NILSM6!AZ39","v":0},{"$f":"NILSM6!BC39","v":0},{"$f":"NILSM6!BF39","v":0},{"$f":"NILSM6!BI39","v":0},{"$f":"NILSM6!BL39","v":0},{"$f":"NILSM6!BO39","v":0},{"$f":"NILSM6!BR39","v":0},{"$f":"NILSM6!BU39","v":0},{"$f":"NILSM6!BX39","v":0},{"$f":"NILSM6!CA39","v":0},{"$f":"NILSM6!CD39","v":0},{"$f":"NILSM6!CG39","v":0},{"$f":"NILSM6!CJ39","v":0},{"$f":"NILSM6!CM39","v":0}]
[{"$f":"BIODATA!A37","v":33},{"$f":"BIODATA!C37","v":0},{"$f":"BIODATA!D37","v":0},{"$f":"NILSM5!D40","v":0},{"$f":"NILSM5!G40","v":0},{"$f":"NILSM5!J40","v":0},{"$f":"NILSM5!M40","v":0},{"$f":"NILSM5!P40","v":0},{"$f":"NILSM5!S40","v":0},{"$f":"NILSM5!V40","v":0},{"$f":"NILSM5!Y40","v":0},{"$f":"NILSM5!AB40","v":0},{"$f":"NILSM5!AE40","v":0},{"$f":"NILSM5!AH40","v":0},{"$f":"NILSM5!AK40","v":0},{"$f":"NILSM5!AN40","v":0},{"$f":"NILSM5!AQ40","v":0},{"$f":"NILSM5!AT40","v":0},{"$f":"NILSM5!AW40","v":0},{"$f":"NILSM5!AZ40","v":0},{"$f":"NILSM5!BC40","v":0},{"$f":"NILSM5!BF40","v":0},{"$f":"NILSM5!BI40","v":0},{"$f":"NILSM5!BL40","v":0},{"$f":"NILSM5!BO40","v":0},{"$f":"NILSM5!BR40","v":0},{"$f":"NILSM5!BU40","v":0},{"$f":"NILSM5!BX40","v":0},{"$f":"NILSM5!CA40","v":0},{"$f":"NILSM5!CD40","v":0},{"$f":"NILSM5!CG40","v":0},{"$f":"NILSM5!CJ40","v":0},{"$f":"NILSM5!CM40","v":0},null,33,{"$f":"NILSM6!B40","v":0},{"$f":"NILSM6!C40","v":0},{"$f":"NILSM6!D40","v":0},{"$f":"NILSM6!G40","v":0},{"$f":"NILSM6!J40","v":0},{"$f":"NILSM6!M40","v":0},{"$f":"NILSM6!P40","v":0},{"$f":"NILSM6!S40","v":0},{"$f":"NILSM6!V40","v":0},{"$f":"NILSM6!Y40","v":0},{"$f":"NILSM6!AB40","v":0},{"$f":"NILSM6!AE40","v":0},{"$f":"NILSM6!AH40","v":0},{"$f":"NILSM6!AK40","v":0},{"$f":"NILSM6!AN40","v":0},{"$f":"NILSM6!AQ40","v":0},{"$f":"NILSM6!AT40","v":0},{"$f":"NILSM6!AW40","v":0},{"$f":"NILSM6!AZ40","v":0},{"$f":"NILSM6!BC40","v":0},{"$f":"NILSM6!BF40","v":0},{"$f":"NILSM6!BI40","v":0},{"$f":"NILSM6!BL40","v":0},{"$f":"NILSM6!BO40","v":0},{"$f":"NILSM6!BR40","v":0},{"$f":"NILSM6!BU40","v":0},{"$f":"NILSM6!BX40","v":0},{"$f":"NILSM6!CA40","v":0},{"$f":"NILSM6!CD40","v":0},{"$f":"NILSM6!CG40","v":0},{"$f":"NILSM6!CJ40","v":0},{"$f":"NILSM6!CM40","v":0}]
[{"$f":"BIODATA!A38","v":34},{"$f":"BIODATA!C38","v":0},{"$f":"BIODATA!D38","v":0},{"$f":"NILSM5!D41","v":0},{"$f":"NILSM5!G41","v":0},{"$f":"NILSM5!J41","v":0},{"$f":"NILSM5!M41","v":0},{"$f":"NILSM5!P41","v":0},{"$f":"NILSM5!S41","v":0},{"$f":"NILSM5!V41","v":0},{"$f":"NILSM5!Y41","v":0},{"$f":"NILSM5!AB41","v":0},{"$f":"NILSM5!AE41","v":0},{"$f":"NILSM5!AH41","v":0},{"$f":"NILSM5!AK41","v":0},{"$f":"NILSM5!AN41","v":0},{"$f":"NILSM5!AQ41","v":0},{"$f":"NILSM5!AT41","v":0},{"$f":"NILSM5!AW41","v":0},{"$f":"NILSM5!AZ41","v":0},{"$f":"NILSM5!BC41","v":0},{"$f":"NILSM5!BF41","v":0},{"$f":"NILSM5!BI41","v":0},{"$f":"NILSM5!BL41","v":0},{"$f":"NILSM5!BO41","v":0},{"$f":"NILSM5!BR41","v":0},{"$f":"NILSM5!BU41","v":0},{"$f":"NILSM5!BX41","v":0},{"$f":"NILSM5!CA41","v":0},{"$f":"NILSM5!CD41","v":0},{"$f":"NILSM5!CG41","v":0},{"$f":"NILSM5!CJ41","v":0},{"$f":"NILSM5!CM41","v":0},null,34,{"$f":"NILSM6!B41","v":0},{"$f":"NILSM6!C41","v":0},{"$f":"NILSM6!D41","v":0},{"$f":"NILSM6!G41","v":0},{"$f":"NILSM6!J41","v":0},{"$f":"NILSM6!M41","v":0},{"$f":"NILSM6!P41","v":0},{"$f":"NILSM6!S41","v":0},{"$f":"NILSM6!V41","v":0},{"$f":"NILSM6!Y41","v":0},{"$f":"NILSM6!AB41","v":0},{"$f":"NILSM6!AE41","v":0},{"$f":"NILSM6!AH41","v":0},{"$f":"NILSM6!AK41","v":0},{"$f":"NILSM6!AN41","v":0},{"$f":"NILSM6!AQ41","v":0},{"$f":"NILSM6!AT41","v":0},{"$f":"NILSM6!AW41","v":0},{"$f":"NILSM6!AZ41","v":0},{"$f":"NILSM6!BC41","v":0},{"$f":"NILSM6!BF41","v":0},{"$f":"NILSM6!BI41","v":0},{"$f":"NILSM6!BL41","v":0},{"$f":"NILSM6!BO41","v":0},{"$f":"NILSM6!BR41","v":0},{"$f":"NILSM6!BU41","v":0},{"$f":"NILSM6!BX41","v":0},{"$f":"NILSM6!CA41","v":0},{"$f":"NILSM6!CD41","v":0},{"$f":"NILSM6!CG41","v":0},{"$f":"NILSM6!CJ41","v":0},{"$f":"NILSM6!CM41","v":0}]
[{"$f":"BIODATA!A39","v":35},{"$f":"BIODATA!C39","v":0},{"$f":"BIODATA!D39","v":0},{"$f":"NILSM5!D42","v":0},{"$f":"NILSM5!G42","v":0},{"$f":"NILSM5!J42","v":0},{"$f":"NILSM5!M42","v":0},{"$f":"NILSM5!P42","v":0},{"$f":"NILSM5!S42","v":0},{"$f":"NILSM5!V42","v":0},{"$f":"NILSM5!Y42","v":0},{"$f":"NILSM5!AB42","v":0},{"$f":"NILSM5!AE42","v":0},{"$f":"NILSM5!AH42","v":0},{"$f":"NILSM5!AK42","v":0},{"$f":"NILSM5!AN42","v":0},{"$f":"NILSM5!AQ42","v":0},{"$f":"NILSM5!AT42","v":0},{"$f":"NILSM5!AW42","v":0},{"$f":"NILSM5!AZ42","v":0},{"$f":"NILSM5!BC42","v":0},{"$f":"NILSM5!BF42","v":0},{"$f":"NILSM5!BI42","v":0},{"$f":"NILSM5!BL42","v":0},{"$f":"NILSM5!BO42","v":0},{"$f":"NILSM5!BR42","v":0},{"$f":"NILSM5!BU42","v":0},{"$f":"NILSM5!BX42","v":0},{"$f":"NILSM5!CA42","v":0},{"$f":"NILSM5!CD42","v":0},{"$f":"NILSM5!CG42","v":0},{"$f":"NILSM5!CJ42","v":0},{"$f":"NILSM5!CM42","v":0},null,35,{"$f":"NILSM6!B42","v":0},{"$f":"NILSM6!C42","v":0},{"$f":"NILSM6!D42","v":0},{"$f":"NILSM6!G42","v":0},{"$f":"NILSM6!J42","v":0},{"$f":"NILSM6!M42","v":0},{"$f":"NILSM6!P42","v":0},{"$f":"NILSM6!S42","v":0},{"$f":"NILSM6!V42","v":0},{"$f":"NILSM6!Y42","v":0},{"$f":"NILSM6!AB42","v":0},{"$f":"NILSM6!AE42","v":0},{"$f":"NILSM6!AH42","v":0},{"$f":"NILSM6!AK42","v":0},{"$f":"NILSM6!AN42","v":0},{"$f":"NILSM6!AQ42","v":0},{"$f":"NILSM6!AT42","v":0},{"$f":"NILSM6!AW42","v":0},{"$f":"NILSM6!AZ42","v":0},{"$f":"NILSM6!BC42","v":0},{"$f":"NILSM6!BF42","v":0},{"$f":"NILSM6!BI42","v":0},{"$f":"NILSM6!BL42","v":0},{"$f":"NILSM6!BO42","v":0},{"$f":"NILSM6!BR42","v":0},{"$f":"NILSM6!BU42","v":0},{"$f":"NILSM6!BX42","v":0},{"$f":"NILSM6!CA42","v":0},{"$f":"NILSM6!CD42","v":0},{"$f":"NILSM6!CG42","v":0},{"$f":"NILSM6!CJ42","v":0},{"$f":"NILSM6!CM42","v":0}]
[{"$f":"BIODATA!A40","v":36},{"$f":"BIODATA!C40","v":0},{"$f":"BIODATA!D40","v":0},{"$f":"NILSM5!D43","v":0},{"$f":"NILSM5!G43","v":0},{"$f":"NILSM5!J43","v":0},{"$f":"NILSM5!M43","v":0},{"$f":"NILSM5!P43","v":0},{"$f":"NILSM5!S43","v":0},{"$f":"NILSM5!V43","v":0},{"$f":"NILSM5!Y43","v":0},{"$f":"NILSM5!AB43","v":0},{"$f":"NILSM5!AE43","v":0},{"$f":"NILSM5!AH43","v":0},{"$f":"NILSM5!AK43","v":0},{"$f":"NILSM5!AN43","v":0},{"$f":"NILSM5!AQ43","v":0},{"$f":"NILSM5!AT43","v":0},{"$f":"NILSM5!AW43","v":0},{"$f":"NILSM5!AZ43","v":0},{"$f":"NILSM5!BC43","v":0},{"$f":"NILSM5!BF43","v":0},{"$f":"NILSM5!BI43","v":0},{"$f":"NILSM5!BL43","v":0},{"$f":"NILSM5!BO43","v":0},{"$f":"NILSM5!BR43","v":0},{"$f":"NILSM5!BU43","v":0},{"$f":"NILSM5!BX43","v":0},{"$f":"NILSM5!CA43","v":0},{"$f":"NILSM5!CD43","v":0},{"$f":"NILSM5!CG43","v":0},{"$f":"NILSM5!CJ43","v":0},{"$f":"NILSM5!CM43","v":0},null,36,{"$f":"NILSM6!B43","v":0},{"$f":"NILSM6!C43","v":0},{"$f":"NILSM6!D43","v":0},{"$f":"NILSM6!G43","v":0},{"$f":"NILSM6!J43","v":0},{"$f":"NILSM6!M43","v":0},{"$f":"NILSM6!P43","v":0},{"$f":"NILSM6!S43","v":0},{"$f":"NILSM6!V43","v":0},{"$f":"NILSM6!Y43","v":0},{"$f":"NILSM6!AB43","v":0},{"$f":"NILSM6!AE43","v":0},{"$f":"NILSM6!AH43","v":0},{"$f":"NILSM6!AK43","v":0},{"$f":"NILSM6!AN43","v":0},{"$f":"NILSM6!AQ43","v":0},{"$f":"NILSM6!AT43","v":0},{"$f":"NILSM6!AW43","v":0},{"$f":"NILSM6!AZ43","v":0},{"$f":"NILSM6!BC43","v":0},{"$f":"NILSM6!BF43","v":0},{"$f":"NILSM6!BI43","v":0},{"$f":"NILSM6!BL43","v":0},{"$f":"NILSM6!BO43","v":0},{"$f":"NILSM6!BR43","v":0},{"$f":"NILSM6!BU43","v":0},{"$f":"NILSM6!BX43","v":0},{"$f":"NILSM6!CA43","v":0},{"$f":"NILSM6!CD43","v":0},{"$f":"NILSM6!CG43","v":0},{"$f":"NILSM6!CJ43","v":0},{"$f":"NILSM6!CM43","v":0}]
[{"$f":"BIODATA!A41","v":"-"},{"$f":"BIODATA!C41","v":0},{"$f":"BIODATA!D41","v":0},{"$f":"NILSM5!D44","v":"-"},{"$f":"NILSM5!G44","v":"-"},{"$f":"NILSM5!J44","v":"-"},{"$f":"NILSM5!M44","v":"-"},{"$f":"NILSM5!P44","v":"-"},{"$f":"NILSM5!S44","v":"-"},{"$f":"NILSM5!V44","v":"-"},{"$f":"NILSM5!Y44","v":"-"},{"$f":"NILSM5!AB44","v":"-"},{"$f":"NILSM5!AE44","v":"-"},{"$f":"NILSM5!AH44","v":"-"},{"$f":"NILSM5!AK44","v":"-"},{"$f":"NILSM5!AN44","v":"-"},{"$f":"NILSM5!AQ44","v":"-"},{"$f":"NILSM5!AT44","v":"-"},{"$f":"NILSM5!AW44","v":"-"},{"$f":"NILSM5!AZ44","v":"-"},{"$f":"NILSM5!BC44","v":"-"},{"$f":"NILSM5!BF44","v":"-"},{"$f":"NILSM5!BI44","v":"-"},{"$f":"NILSM5!BL44","v":"-"},{"$f":"NILSM5!BO44","v":"-"},{"$f":"NILSM5!BR44","v":"-"},{"$f":"NILSM5!BU44","v":"-"},{"$f":"NILSM5!BX44","v":"-"},{"$f":"NILSM5!CA44","v":"-"},{"$f":"NILSM5!CD44","v":"-"},{"$f":"NILSM5!CG44","v":"-"},{"$f":"NILSM5!CJ44","v":"-"},{"$f":"NILSM5!CM44","v":"-"},null,"-",{"$f":"NILSM6!B44","v":0},{"$f":"NILSM6!C44","v":0},{"$f":"NILSM6!D44","v":"-"},{"$f":"NILSM6!G44","v":"-"},{"$f":"NILSM6!J44","v":"-"},{"$f":"NILSM6!M44","v":"-"},{"$f":"NILSM6!P44","v":"-"},{"$f":"NILSM6!S44","v":"-"},{"$f":"NILSM6!V44","v":"-"},{"$f":"NILSM6!Y44","v":"-"},{"$f":"NILSM6!AB44","v":"-"},{"$f":"NILSM6!AE44","v":"-"},{"$f":"NILSM6!AH44","v":"-"},{"$f":"NILSM6!AK44","v":"-"},{"$f":"NILSM6!AN44","v":"-"},{"$f":"NILSM6!AQ44","v":"-"},{"$f":"NILSM6!AT44","v":"-"},{"$f":"NILSM6!AW44","v":"-"},{"$f":"NILSM6!AZ44","v":"-"},{"$f":"NILSM6!BC44","v":"-"},{"$f":"NILSM6!BF44","v":"-"},{"$f":"NILSM6!BI44","v":"-"},{"$f":"NILSM6!BL44","v":"-"},{"$f":"NILSM6!BO44","v":"-"},{"$f":"NILSM6!BR44","v":"-"},{"$f":"NILSM6!BU44","v":"-"},{"$f":"NILSM6!BX44","v":"-"},{"$f":"NILSM6!CA44","v":"-"},{"$f":"NILSM6!CD44","v":"-"},{"$f":"NILSM6!CG44","v":"-"},{"$f":"NILSM6!CJ44","v":"-"},{"$f":"NILSM6!CM44","v":"-"}]
[{"$f":"BIODATA!A42","v":"-"},{"$f":"BIODATA!C42","v":0},{"$f":"BIODATA!D42","v":0},{"$f":"NILSM5!D45","v":"-"},{"$f":"NILSM5!G45","v":"-"},{"$f":"NILSM5!J45","v":"-"},{"$f":"NILSM5!M45","v":"-"},{"$f":"NILSM5!P45","v":"-"},{"$f":"NILSM5!S45","v":"-"},{"$f":"NILSM5!V45","v":"-"},{"$f":"NILSM5!Y45","v":"-"},{"$f":"NILSM5!AB45","v":"-"},{"$f":"NILSM5!AE45","v":"-"},{"$f":"NILSM5!AH45","v":"-"},{"$f":"NILSM5!AK45","v":"-"},{"$f":"NILSM5!AN45","v":"-"},{"$f":"NILSM5!AQ45","v":"-"},{"$f":"NILSM5!AT45","v":"-"},{"$f":"NILSM5!AW45","v":"-"},{"$f":"NILSM5!AZ45","v":"-"},{"$f":"NILSM5!BC45","v":"-"},{"$f":"NILSM5!BF45","v":"-"},{"$f":"NILSM5!BI45","v":"-"},{"$f":"NILSM5!BL45","v":"-"},{"$f":"NILSM5!BO45","v":"-"},{"$f":"NILSM5!BR45","v":"-"},{"$f":"NILSM5!BU45","v":"-"},{"$f":"NILSM5!BX45","v":"-"},{"$f":"NILSM5!CA45","v":"-"},{"$f":"NILSM5!CD45","v":"-"},{"$f":"NILSM5!CG45","v":"-"},{"$f":"NILSM5!CJ45","v":"-"},{"$f":"NILSM5!CM45","v":"-"},null,"-",{"$f":"NILSM6!B45","v":0},{"$f":"NILSM6!C45","v":0},{"$f":"NILSM6!D45","v":"-"},{"$f":"NILSM6!G45","v":"-"},{"$f":"NILSM6!J45","v":"-"},{"$f":"NILSM6!M45","v":"-"},{"$f":"NILSM6!P45","v":"-"},{"$f":"NILSM6!S45","v":"-"},{"$f":"NILSM6!V45","v":"-"},{"$f":"NILSM6!Y45","v":"-"},{"$f":"NILSM6!AB45","v":"-"},{"$f":"NILSM6!AE45","v":"-"},{"$f":"NILSM6!AH45","v":"-"},{"$f":"NILSM6!AK45","v":"-"},{"$f":"NILSM6!AN45","v":"-"},{"$f":"NILSM6!AQ45","v":"-"},{"$f":"NILSM6!AT45","v":"-"},{"$f":"NILSM6!AW45","v":"-"},{"$f":"NILSM6!AZ45","v":"-"},{"$f":"NILSM6!BC45","v":"-"},{"$f":"NILSM6!BF45","v":"-"},{"$f":"NILSM6!BI45","v":"-"},{"$f":"NILSM6!BL45","v":"-"},{"$f":"NILSM6!BO45","v":"-"},{"$f":"NILSM6!BR45","v":"-"},{"$f":"NILSM6!BU45","v":"-"},{"$f":"NILSM6!BX45","v":"-"},{"$f":"NILSM6!CA45","v":"-"},{"$f":"NILSM6!CD45","v":"-"},{"$f":"NILSM6!CG45","v":"-"},{"$f":"NILSM6!CJ45","v":"-"},{"$f":"NILSM6!CM45","v":"-"}]
[{"$f":"BIODATA!A43","v":"-"},{"$f":"BIODATA!C43","v":0},{"$f":"BIODATA!D43","v":0},{"$f":"NILSM5!D46","v":"-"},{"$f":"NILSM5!G46","v":"-"},{"$f":"NILSM5!J46","v":"-"},{"$f":"NILSM5!M46","v":"-"},{"$f":"NILSM5!P46","v":"-"},{"$f":"NILSM5!S46","v":"-"},{"$f":"NILSM5!V46","v":"-"},{"$f":"NILSM5!Y46","v":"-"},{"$f":"NILSM5!AB46","v":"-"},{"$f":"NILSM5!AE46","v":"-"},{"$f":"NILSM5!AH46","v":"-"},{"$f":"NILSM5!AK46","v":"-"},{"$f":"NILSM5!AN46","v":"-"},{"$f":"NILSM5!AQ46","v":"-"},{"$f":"NILSM5!AT46","v":"-"},{"$f":"NILSM5!AW46","v":"-"},{"$f":"NILSM5!AZ46","v":"-"},{"$f":"NILSM5!BC46","v":"-"},{"$f":"NILSM5!BF46","v":"-"},{"$f":"NILSM5!BI46","v":"-"},{"$f":"NILSM5!BL46","v":"-"},{"$f":"NILSM5!BO46","v":"-"},{"$f":"NILSM5!BR46","v":"-"},{"$f":"NILSM5!BU46","v":"-"},{"$f":"NILSM5!BX46","v":"-"},{"$f":"NILSM5!CA46","v":"-"},{"$f":"NILSM5!CD46","v":"-"},{"$f":"NILSM5!CG46","v":"-"},{"$f":"NILSM5!CJ46","v":"-"},{"$f":"NILSM5!CM46","v":"-"},null,"-",{"$f":"NILSM6!B46","v":0},{"$f":"NILSM6!C46","v":0},{"$f":"NILSM6!D46","v":"-"},{"$f":"NILSM6!G46","v":"-"},{"$f":"NILSM6!J46","v":"-"},{"$f":"NILSM6!M46","v":"-"},{"$f":"NILSM6!P46","v":"-"},{"$f":"NILSM6!S46","v":"-"},{"$f":"NILSM6!V46","v":"-"},{"$f":"NILSM6!Y46","v":"-"},{"$f":"NILSM6!AB46","v":"-"},{"$f":"NILSM6!AE46","v":"-"},{"$f":"NILSM6!AH46","v":"-"},{"$f":"NILSM6!AK46","v":"-"},{"$f":"NILSM6!AN46","v":"-"},{"$f":"NILSM6!AQ46","v":"-"},{"$f":"NILSM6!AT46","v":"-"},{"$f":"NILSM6!AW46","v":"-"},{"$f":"NILSM6!AZ46","v":"-"},{"$f":"NILSM6!BC46","v":"-"},{"$f":"NILSM6!BF46","v":"-"},{"$f":"NILSM6!BI46","v":"-"},{"$f":"NILSM6!BL46","v":"-"},{"$f":"NILSM6!BO46","v":"-"},{"$f":"NILSM6!BR46","v":"-"},{"$f":"NILSM6!BU46","v":"-"},{"$f":"NILSM6!BX46","v":"-"},{"$f":"NILSM6!CA46","v":"-"},{"$f":"NILSM6!CD46","v":"-"},{"$f":"NILSM6!CG46","v":"-"},{"$f":"NILSM6!CJ46","v":"-"},{"$f":"NILSM6!CM46","v":"-"}]
[{"$f":"BIODATA!A44","v":"-"},{"$f":"BIODATA!C44","v":0},{"$f":"BIODATA!D44","v":0},{"$f":"NILSM5!D47","v":"-"},{"$f":"NILSM5!G47","v":"-"},{"$f":"NILSM5!J47","v":"-"},{"$f":"NILSM5!M47","v":"-"},{"$f":"NILSM5!P47","v":"-"},{"$f":"NILSM5!S47","v":"-"},{"$f":"NILSM5!V47","v":"-"},{"$f":"NILSM5!Y47","v":"-"},{"$f":"NILSM5!AB47","v":"-"},{"$f":"NILSM5!AE47","v":"-"},{"$f":"NILSM5!AH47","v":"-"},{"$f":"NILSM5!AK47","v":"-"},{"$f":"NILSM5!AN47","v":"-"},{"$f":"NILSM5!AQ47","v":"-"},{"$f":"NILSM5!AT47","v":"-"},{"$f":"NILSM5!AW47","v":"-"},{"$f":"NILSM5!AZ47","v":"-"},{"$f":"NILSM5!BC47","v":"-"},{"$f":"NILSM5!BF47","v":"-"},{"$f":"NILSM5!BI47","v":"-"},{"$f":"NILSM5!BL47","v":"-"},{"$f":"NILSM5!BO47","v":"-"},{"$f":"NILSM5!BR47","v":"-"},{"$f":"NILSM5!BU47","v":"-"},{"$f":"NILSM5!BX47","v":"-"},{"$f":"NILSM5!CA47","v":"-"},{"$f":"NILSM5!CD47","v":"-"},{"$f":"NILSM5!CG47","v":"-"},{"$f":"NILSM5!CJ47","v":"-"},{"$f":"NILSM5!CM47","v":"-"},null,"-",{"$f":"NILSM6!B47","v":0},{"$f":"NILSM6!C47","v":0},{"$f":"NILSM6!D47","v":"-"},{"$f":"NILSM6!G47","v":"-"},{"$f":"NILSM6!J47","v":"-"},{"$f":"NILSM6!M47","v":"-"},{"$f":"NILSM6!P47","v":"-"},{"$f":"NILSM6!S47","v":"-"},{"$f":"NILSM6!V47","v":"-"},{"$f":"NILSM6!Y47","v":"-"},{"$f":"NILSM6!AB47","v":"-"},{"$f":"NILSM6!AE47","v":"-"},{"$f":"NILSM6!AH47","v":"-"},{"$f":"NILSM6!AK47","v":"-"},{"$f":"NILSM6!AN47","v":"-"},{"$f":"NILSM6!AQ47","v":"-"},{"$f":"NILSM6!AT47","v":"-"},{"$f":"NILSM6!AW47","v":"-"},{"$f":"NILSM6!AZ47","v":"-"},{"$f":"NILSM6!BC47","v":"-"},{"$f":"NILSM6!BF47","v":"-"},{"$f":"NILSM6!BI47","v":"-"},{"$f":"NILSM6!BL47","v":"-"},{"$f":"NILSM6!BO47","v":"-"},{"$f":"NILSM6!BR47","v":"-"},{"$f":"NILSM6!BU47","v":"-"},{"$f":"NILSM6!BX47","v":"-"},{"$f":"NILSM6!CA47","v":"-"},{"$f":"NILSM6!CD47","v":"-"},{"$f":"NILSM6!CG47","v":"-"},{"$f":"NILSM6!CJ47","v":"-"},{"$f":"NILSM6!CM47","v":"-"}]
[{"$f":"BIODATA!A45","v":"-"},{"$f":"BIODATA!C45","v":0},{"$f":"BIODATA!D45","v":0},{"$f":"NILSM5!D48","v":"-"},{"$f":"NILSM5!G48","v":"-"},{"$f":"NILSM5!J48","v":"-"},{"$f":"NILSM5!M48","v":"-"},{"$f":"NILSM5!P48","v":"-"},{"$f":"NILSM5!S48","v":"-"},{"$f":"NILSM5!V48","v":"-"},{"$f":"NILSM5!Y48","v":"-"},{"$f":"NILSM5!AB48","v":"-"},{"$f":"NILSM5!AE48","v":"-"},{"$f":"NILSM5!AH48","v":"-"},{"$f":"NILSM5!AK48","v":"-"},{"$f":"NILSM5!AN48","v":"-"},{"$f":"NILSM5!AQ48","v":"-"},{"$f":"NILSM5!AT48","v":"-"},{"$f":"NILSM5!AW48","v":"-"},{"$f":"NILSM5!AZ48","v":"-"},{"$f":"NILSM5!BC48","v":"-"},{"$f":"NILSM5!BF48","v":"-"},{"$f":"NILSM5!BI48","v":"-"},{"$f":"NILSM5!BL48","v":"-"},{"$f":"NILSM5!BO48","v":"-"},{"$f":"NILSM5!BR48","v":"-"},{"$f":"NILSM5!BU48","v":"-"},{"$f":"NILSM5!BX48","v":"-"},{"$f":"NILSM5!CA48","v":"-"},{"$f":"NILSM5!CD48","v":"-"},{"$f":"NILSM5!CG48","v":"-"},{"$f":"NILSM5!CJ48","v":"-"},{"$f":"NILSM5!CM48","v":"-"},null,"-",{"$f":"NILSM6!B48","v":0},{"$f":"NILSM6!C48","v":0},{"$f":"NILSM6!D48","v":"-"},{"$f":"NILSM6!G48","v":"-"},{"$f":"NILSM6!J48","v":"-"},{"$f":"NILSM6!M48","v":"-"},{"$f":"NILSM6!P48","v":"-"},{"$f":"NILSM6!S48","v":"-"},{"$f":"NILSM6!V48","v":"-"},{"$f":"NILSM6!Y48","v":"-"},{"$f":"NILSM6!AB48","v":"-"},{"$f":"NILSM6!AE48","v":"-"},{"$f":"NILSM6!AH48","v":"-"},{"$f":"NILSM6!AK48","v":"-"},{"$f":"NILSM6!AN48","v":"-"},{"$f":"NILSM6!AQ48","v":"-"},{"$f":"NILSM6!AT48","v":"-"},{"$f":"NILSM6!AW48","v":"-"},{"$f":"NILSM6!AZ48","v":"-"},{"$f":"NILSM6!BC48","v":"-"},{"$f":"NILSM6!BF48","v":"-"},{"$f":"NILSM6!BI48","v":"-"},{"$f":"NILSM6!BL48","v":"-"},{"$f":"NILSM6!BO48","v":"-"},{"$f":"NILSM6!BR48","v":"-"},{"$f":"NILSM6!BU48","v":"-"},{"$f":"NILSM6!BX48","v":"-"},{"$f":"NILSM6!CA48","v":"-"},{"$f":"NILSM6!CD48","v":"-"},{"$f":"NILSM6!CG48","v":"-"},{"$f":"NILSM6!CJ48","v":"-"},{"$f":"NILSM6!CM48","v":"-"}]
[{"$f":"BIODATA!A46","v":"-"},{"$f":"BIODATA!C46","v":0},{"$f":"BIODATA!D46","v":0},{"$f":"NILSM5!D49","v":"-"},{"$f":"NILSM5!G49","v":"-"},{"$f":"NILSM5!J49","v":"-"},{"$f":"NILSM5!M49","v":"-"},{"$f":"NILSM5!P49","v":"-"},{"$f":"NILSM5!S49","v":"-"},{"$f":"NILSM5!V49","v":"-"},{"$f":"NILSM5!Y49","v":"-"},{"$f":"NILSM5!AB49","v":"-"},{"$f":"NILSM5!AE49","v":"-"},{"$f":"NILSM5!AH49","v":"-"},{"$f":"NILSM5!AK49","v":"-"},{"$f":"NILSM5!AN49","v":"-"},{"$f":"NILSM5!AQ49","v":"-"},{"$f":"NILSM5!AT49","v":"-"},{"$f":"NILSM5!AW49","v":"-"},{"$f":"NILSM5!AZ49","v":"-"},{"$f":"NILSM5!BC49","v":"-"},{"$f":"NILSM5!BF49","v":"-"},{"$f":"NILSM5!BI49","v":"-"},{"$f":"NILSM5!BL49","v":"-"},{"$f":"NILSM5!BO49","v":"-"},{"$f":"NILSM5!BR49","v":"-"},{"$f":"NILSM5!BU49","v":"-"},{"$f":"NILSM5!BX49","v":"-"},{"$f":"NILSM5!CA49","v":"-"},{"$f":"NILSM5!CD49","v":"-"},{"$f":"NILSM5!CG49","v":"-"},{"$f":"NILSM5!CJ49","v":"-"},{"$f":"NILSM5!CM49","v":"-"},null,"-",{"$f":"NILSM6!B49","v":0},{"$f":"NILSM6!C49","v":0},{"$f":"NILSM6!D49","v":"-"},{"$f":"NILSM6!G49","v":"-"},{"$f":"NILSM6!J49","v":"-"},{"$f":"NILSM6!M49","v":"-"},{"$f":"NILSM6!P49","v":"-"},{"$f":"NILSM6!S49","v":"-"},{"$f":"NILSM6!V49","v":"-"},{"$f":"NILSM6!Y49","v":"-"},{"$f":"NILSM6!AB49","v":"-"},{"$f":"NILSM6!AE49","v":"-"},{"$f":"NILSM6!AH49","v":"-"},{"$f":"NILSM6!AK49","v":"-"},{"$f":"NILSM6!AN49","v":"-"},{"$f":"NILSM6!AQ49","v":"-"},{"$f":"NILSM6!AT49","v":"-"},{"$f":"NILSM6!AW49","v":"-"},{"$f":"NILSM6!AZ49","v":"-"},{"$f":"NILSM6!BC49","v":"-"},{"$f":"NILSM6!BF49","v":"-"},{"$f":"NILSM6!BI49","v":"-"},{"$f":"NILSM6!BL49","v":"-"},{"$f":"NILSM6!BO49","v":"-"},{"$f":"NILSM6!BR49","v":"-"},{"$f":"NILSM6!BU49","v":"-"},{"$f":"NILSM6!BX49","v":"-"},{"$f":"NILSM6!CA49","v":"-"},{"$f":"NILSM6!CD49","v":"-"},{"$f":"NILSM6!CG49","v":"-"},{"$f":"NILSM6!CJ49","v":"-"},{"$f":"NILSM6!CM49","v":"-"}]
[{"$f":"BIODATA!A47","v":"-"},{"$f":"BIODATA!C47","v":0},{"$f":"BIODATA!D47","v":0},{"$f":"NILSM5!D50","v":"-"},{"$f":"NILSM5!G50","v":"-"},{"$f":"NILSM5!J50","v":"-"},{"$f":"NILSM5!M50","v":"-"},{"$f":"NILSM5!P50","v":"-"},{"$f":"NILSM5!S50","v":"-"},{"$f":"NILSM5!V50","v":"-"},{"$f":"NILSM5!Y50","v":"-"},{"$f":"NILSM5!AB50","v":"-"},{"$f":"NILSM5!AE50","v":"-"},{"$f":"NILSM5!AH50","v":"-"},{"$f":"NILSM5!AK50","v":"-"},{"$f":"NILSM5!AN50","v":"-"},{"$f":"NILSM5!AQ50","v":"-"},{"$f":"NILSM5!AT50","v":"-"},{"$f":"NILSM5!AW50","v":"-"},{"$f":"NILSM5!AZ50","v":"-"},{"$f":"NILSM5!BC50","v":"-"},{"$f":"NILSM5!BF50","v":"-"},{"$f":"NILSM5!BI50","v":"-"},{"$f":"NILSM5!BL50","v":"-"},{"$f":"NILSM5!BO50","v":"-"},{"$f":"NILSM5!BR50","v":"-"},{"$f":"NILSM5!BU50","v":"-"},{"$f":"NILSM5!BX50","v":"-"},{"$f":"NILSM5!CA50","v":"-"},{"$f":"NILSM5!CD50","v":"-"},{"$f":"NILSM5!CG50","v":"-"},{"$f":"NILSM5!CJ50","v":"-"},{"$f":"NILSM5!CM50","v":"-"},null,"-",{"$f":"NILSM6!B50","v":0},{"$f":"NILSM6!C50","v":0},{"$f":"NILSM6!D50","v":"-"},{"$f":"NILSM6!G50","v":"-"},{"$f":"NILSM6!J50","v":"-"},{"$f":"NILSM6!M50","v":"-"},{"$f":"NILSM6!P50","v":"-"},{"$f":"NILSM6!S50","v":"-"},{"$f":"NILSM6!V50","v":"-"},{"$f":"NILSM6!Y50","v":"-"},{"$f":"NILSM6!AB50","v":"-"},{"$f":"NILSM6!AE50","v":"-"},{"$f":"NILSM6!AH50","v":"-"},{"$f":"NILSM6!AK50","v":"-"},{"$f":"NILSM6!AN50","v":"-"},{"$f":"NILSM6!AQ50","v":"-"},{"$f":"NILSM6!AT50","v":"-"},{"$f":"NILSM6!AW50","v":"-"},{"$f":"NILSM6!AZ50","v":"-"},{"$f":"NILSM6!BC50","v":"-"},{"$f":"NILSM6!BF50","v":"-"},{"$f":"NILSM6!BI50","v":"-"},{"$f":"NILSM6!BL50","v":"-"},{"$f":"NILSM6!BO50","v":"-"},{"$f":"NILSM6!BR50","v":"-"},{"$f":"NILSM6!BU50","v":"-"},{"$f":"NILSM6!BX50","v":"-"},{"$f":"NILSM6!CA50","v":"-"},{"$f":"NILSM6!CD50","v":"-"},{"$f":"NILSM6!CG50","v":"-"},{"$f":"NILSM6!CJ50","v":"-"},{"$f":"NILSM6!CM50","v":"-"}]
[{"$f":"BIODATA!A48","v":"-"},{"$f":"BIODATA!C48","v":0},{"$f":"BIODATA!D48","v":0},{"$f":"NILSM5!D51","v":"-"},{"$f":"NILSM5!G51","v":"-"},{"$f":"NILSM5!J51","v":"-"},{"$f":"NILSM5!M51","v":"-"},{"$f":"NILSM5!P51","v":"-"},{"$f":"NILSM5!S51","v":"-"},{"$f":"NILSM5!V51","v":"-"},{"$f":"NILSM5!Y51","v":"-"},{"$f":"NILSM5!AB51","v":"-"},{"$f":"NILSM5!AE51","v":"-"},{"$f":"NILSM5!AH51","v":"-"},{"$f":"NILSM5!AK51","v":"-"},{"$f":"NILSM5!AN51","v":"-"},{"$f":"NILSM5!AQ51","v":"-"},{"$f":"NILSM5!AT51","v":"-"},{"$f":"NILSM5!AW51","v":"-"},{"$f":"NILSM5!AZ51","v":"-"},{"$f":"NILSM5!BC51","v":"-"},{"$f":"NILSM5!BF51","v":"-"},{"$f":"NILSM5!BI51","v":"-"},{"$f":"NILSM5!BL51","v":"-"},{"$f":"NILSM5!BO51","v":"-"},{"$f":"NILSM5!BR51","v":"-"},{"$f":"NILSM5!BU51","v":"-"},{"$f":"NILSM5!BX51","v":"-"},{"$f":"NILSM5!CA51","v":"-"},{"$f":"NILSM5!CD51","v":"-"},{"$f":"NILSM5!CG51","v":"-"},{"$f":"NILSM5!CJ51","v":"-"},{"$f":"NILSM5!CM51","v":"-"},null,"-",{"$f":"NILSM6!B51","v":0},{"$f":"NILSM6!C51","v":0},{"$f":"NILSM6!D51","v":"-"},{"$f":"NILSM6!G51","v":"-"},{"$f":"NILSM6!J51","v":"-"},{"$f":"NILSM6!M51","v":"-"},{"$f":"NILSM6!P51","v":"-"},{"$f":"NILSM6!S51","v":"-"},{"$f":"NILSM6!V51","v":"-"},{"$f":"NILSM6!Y51","v":"-"},{"$f":"NILSM6!AB51","v":"-"},{"$f":"NILSM6!AE51","v":"-"},{"$f":"NILSM6!AH51","v":"-"},{"$f":"NILSM6!AK51","v":"-"},{"$f":"NILSM6!AN51","v":"-"},{"$f":"NILSM6!AQ51","v":"-"},{"$f":"NILSM6!AT51","v":"-"},{"$f":"NILSM6!AW51","v":"-"},{"$f":"NILSM6!AZ51","v":"-"},{"$f":"NILSM6!BC51","v":"-"},{"$f":"NILSM6!BF51","v":"-"},{"$f":"NILSM6!BI51","v":"-"},{"$f":"NILSM6!BL51","v":"-"},{"$f":"NILSM6!BO51","v":"-"},{"$f":"NILSM6!BR51","v":"-"},{"$f":"NILSM6!BU51","v":"-"},{"$f":"NILSM6!BX51","v":"-"},{"$f":"NILSM6!CA51","v":"-"},{"$f":"NILSM6!CD51","v":"-"},{"$f":"NILSM6!CG51","v":"-"},{"$f":"NILSM6!CJ51","v":"-"},{"$f":"NILSM6!CM51","v":"-"}]
[{"$f":"BIODATA!A49","v":"-"},{"$f":"BIODATA!C49","v":0},{"$f":"BIODATA!D49","v":0},{"$f":"NILSM5!D52","v":"-"},{"$f":"NILSM5!G52","v":"-"},{"$f":"NILSM5!J52","v":"-"},{"$f":"NILSM5!M52","v":"-"},{"$f":"NILSM5!P52","v":"-"},{"$f":"NILSM5!S52","v":"-"},{"$f":"NILSM5!V52","v":"-"},{"$f":"NILSM5!Y52","v":"-"},{"$f":"NILSM5!AB52","v":"-"},{"$f":"NILSM5!AE52","v":"-"},{"$f":"NILSM5!AH52","v":"-"},{"$f":"NILSM5!AK52","v":"-"},{"$f":"NILSM5!AN52","v":"-"},{"$f":"NILSM5!AQ52","v":"-"},{"$f":"NILSM5!AT52","v":"-"},{"$f":"NILSM5!AW52","v":"-"},{"$f":"NILSM5!AZ52","v":"-"},{"$f":"NILSM5!BC52","v":"-"},{"$f":"NILSM5!BF52","v":"-"},{"$f":"NILSM5!BI52","v":"-"},{"$f":"NILSM5!BL52","v":"-"},{"$f":"NILSM5!BO52","v":"-"},{"$f":"NILSM5!BR52","v":"-"},{"$f":"NILSM5!BU52","v":"-"},{"$f":"NILSM5!BX52","v":"-"},{"$f":"NILSM5!CA52","v":"-"},{"$f":"NILSM5!CD52","v":"-"},{"$f":"NILSM5!CG52","v":"-"},{"$f":"NILSM5!CJ52","v":"-"},{"$f":"NILSM5!CM52","v":"-"},null,"-",{"$f":"NILSM6!B52","v":0},{"$f":"NILSM6!C52","v":0},{"$f":"NILSM6!D52","v":"-"},{"$f":"NILSM6!G52","v":"-"},{"$f":"NILSM6!J52","v":"-"},{"$f":"NILSM6!M52","v":"-"},{"$f":"NILSM6!P52","v":"-"},{"$f":"NILSM6!S52","v":"-"},{"$f":"NILSM6!V52","v":"-"},{"$f":"NILSM6!Y52","v":"-"},{"$f":"NILSM6!AB52","v":"-"},{"$f":"NILSM6!AE52","v":"-"},{"$f":"NILSM6!AH52","v":"-"},{"$f":"NILSM6!AK52","v":"-"},{"$f":"NILSM6!AN52","v":"-"},{"$f":"NILSM6!AQ52","v":"-"},{"$f":"NILSM6!AT52","v":"-"},{"$f":"NILSM6!AW52","v":"-"},{"$f":"NILSM6!AZ52","v":"-"},{"$f":"NILSM6!BC52","v":"-"},{"$f":"NILSM6!BF52","v":"-"},{"$f":"NILSM6!BI52","v":"-"},{"$f":"NILSM6!BL52","v":"-"},{"$f":"NILSM6!BO52","v":"-"},{"$f":"NILSM6!BR52","v":"-"},{"$f":"NILSM6!BU52","v":"-"},{"$f":"NILSM6!BX52","v":"-"},{"$f":"NILSM6!CA52","v":"-"},{"$f":"NILSM6!CD52","v":"-"},{"$f":"NILSM6!CG52","v":"-"},{"$f":"NILSM6!CJ52","v":"-"},{"$f":"NILSM6!CM52","v":"-"}]
[]
[]
[]
[]
[]
[]
[]
[]
[]
[]
[]
[]
[null,null,null,3.59]
[null,null,null,3.59]
[null,null,null,3.5]
[null,null,null,3.48]
[null,null,null,3.54]
[null,null,null,3.39]
[null,null,null,3.45]
[null,null,null,3.45]
[null,null,null,3.29]
[null,null,null,3.45]
[null,null,null,3.45]
[null,null,null,3.45]

{"sheet":"NILSM1","index":28,"n_rows":76,"n_cols":168,"rows_kept":76,"cut":false,"hidden":false,"merged":[[1,132,1,168],[1,0,1,1],[3,102,4,107],[3,72,3,74],[3,75,3,77],[3,78,3,80],[3,81,3,83],[3,84,3,86],[3,87,3,89],[3,90,3,92],[3,94,4,97],[3,98,4,101],[3,133,5,134],[3,135,5,163],[3,108,4,111],[3,112,4,114],[3,118,4,119],[3,120,4,122],[3,124,4,124],[2,75,2,77],[2,72,2,74],[2,90,2,92],[2,87,2,89],[2,84,2,86],[2,81,2,83],[2,78,2,80]]}
[null,null,null,{"$f":"$B$3&D3&D4&D6","v":"1 (satu)A1P"},{"$f":"$B$3&E3&E4&E6","v":"1 (satu)A1K"},"1 (satu)A1S","1 (satu)A2P","1 (satu)A2K","1 (satu)A2S","1 (satu)A3P","1 (satu)A3K","1 (satu)A3S","1 (satu)A4P","1 (satu)A4K","1 (satu)A4S","1 (satu)A5P","1 (satu)A5K","1 (satu)A5S","1 (satu)A6P","1 (satu)A6K","1 (satu)A6S","1 (satu)B1P","1 (satu)B1K","1 (satu)B1S","1 (satu)B2P","1 (satu)B2K","1 (satu)B2S","1 (satu)B3P","1 (satu)B3K","1 (satu)B3S","1 (satu)B4P","1 (satu)B4K","1 (satu)B4S","1 (satu)C11P","1 (satu)C11K","1 (satu)C11S","1 (satu)C12P","1 (satu)C12K","1 (satu)C12S","1 (satu)C13P","1 (satu)C13K","1 (satu)C13S","1 (satu)C24P","1 (satu)C24K","1 (satu)C24S","1 (satu)C25P","1 (satu)C25K","1 (satu)C25S","1 (satu)C26P","1 (satu)C26K","1 (satu)C26S","1 (satu)C27P","1 (satu)C27K","1 (satu)C27S","1 (satu)C31P","1 (satu)C31K","1 (satu)C31S","1 (satu)C32P","1 (satu)C32K","1 (satu)C32S","1 (satu)C33P","1 (satu)C33K","1 (satu)C33S","1 (satu)C34P","1 (satu)C34K","1 (satu)C34S","1 (satu)C35P","1 (satu)C35K",{"$f":"$B$3&BQ3&BQ4&BQ6","v":"1 (satu)C35S"},"1 (satu)C36P","1 (satu)C36K","1 (satu)C36S","1 (satu)--P","1 (satu)K","1 (satu)S","1 (satu)--P","1 (satu)K","1 (satu)S","1 (satu)--P","1 (satu)K","1 (satu)S","1 (satu)--P","1 (satu)K","1 (satu)S","1 (satu)--P","1 (satu)K","1 (satu)S","1 (satu)--P","1 (satu)K","1 (satu)S","1 (satu)--P","1 (satu)K","1 (satu)S"]
[{"$f":"\"INPUT NILAI CAPAIAN KOMPETENSI TP \"&MENU!I12","v":"INPUT NILAI CAPAIAN KOMPETENSI TP 2017 / 2018"},null,"                    NAMA MAPEL",{"$f":"HLOOKUP(MENU!$I$8&\" \"&$B$3,DATABASE!$X$2:$CK$92,DATABASE!W3,FALSE)","v":"Pendidikan Agama dan Budi Pekerti"},{"$f":"HLOOKUP(MENU!$I$8&\" \"&$B$3,DATABASE!$X$2:$CK$92,DATABASE!W4,FALSE)","v":"Pendidikan Agama dan Budi Pekerti"},{"$f":"HLOOKUP(MENU!$I$8&\" \"&$B$3,DATABASE!$X$2:$CK$92,DATABASE!W5,FALSE)","v":"Pendidikan Agama dan Budi Pekerti"},{"$f":"HLOOKUP(MENU!$I$8&\" \"&$B$3,DATABASE!$X$2:$CK$92,DATABASE!W6,FALSE)","v":"Pendidikan Pancasila dan Kewarganegaraan"},{"$f":"HLOOKUP(MENU!$I$8&\" \"&$B$3,DATABASE!$X$2:$CK$92,DATABASE!W7,FALSE)","v":"Pendidikan Pancasila dan Kewarganegaraan"},{"$f":"HLOOKUP(MENU!$I$8&\" \"&$B$3,DATABASE!$X$2:$CK$92,DATABASE!W8,FALSE)","v":"Pendidikan Pancasila dan Kewarganegaraan"},{"$f":"HLOOKUP(MENU!$I$8&\" \"&$B$3,DATABASE!$X$2:$CK$92,DATABASE!W9,FALSE)","v":"Bahasa Indonesia"},{"$f":"HLOOKUP(MENU!$I$8&\" \"&$B$3,DATABASE!$X$2:$CK$92,DATABASE!W10,FALSE)","v":"Bahasa Indonesia"},{"$f":"HLOOKUP(MENU!$I$8&\" \"&$B$3,DATABASE!$X$2:$CK$92,DATABASE!W11,FALSE)","v":"Bahasa Indonesia"},{"$f":"HLOOKUP(MENU!$I$8&\" \"&$B$3,DATABASE!$X$2:$CK$92,DATABASE!W12,FALSE)","v":"Matematika"},{"$f":"HLOOKUP(MENU!$I$8&\" \"&$B$3,DATABASE!$X$2:$CK$92,DATABASE!W13,FALSE)","v":"Matematika"},{"$f":"HLOOKUP(MENU!$I$8&\" \"&$B$3,DATABASE!$X$2:$CK$92,DATABASE!W14,FALSE)","v":"Matematika"},{"$f":"HLOOKUP(MENU!$I$8&\" \"&$B$3,DATABASE!$X$2:$CK$92,DATABASE!W15,FALSE)","v":"Sejarah Indonesia"},{"$f":"HLOOKUP(MENU!$I$8&\" \"&$B$3,DATABASE!$X$2:$CK$92,DATABASE!W16,FALSE)","v":"Sejarah Indonesia"},{"$f":"HLOOKUP(MENU!$I$8&\" \"&$B$3,DATABASE!$X$2:$CK$92,DATABASE!W17,FALSE)","v":"Sejarah Indonesia"},{"$f":"HLOOKUP(MENU!$I$8&\" \"&$B$3,DATABASE!$X$2:$CK$92,DATABASE!W18,FALSE)","v":"Bahasa Inggris"},{"$f":"HLOOKUP(MENU!$I$8&\" \"&$B$3,DATABASE!$X$2:$CK$92,DATABASE!W19,FALSE)","v":"Bahasa Inggris"},{"$f":"HLOOKUP(MENU!$I$8&\" \"&$B$3,DATABASE!$X$2:$CK$92,DATABASE!W20,FALSE)","v":"Bahasa Inggris"},{"$f":"HLOOKUP(MENU!$I$8&\" \"&$B$3,DATABASE!$X$2:$CK$92,DATABASE!W21,FALSE)","v":"Seni Budaya"},{"$f":"HLOOKUP(MENU!$I$8&\" \"&$B$3,DATABASE!$X$2:$CK$92,DATABASE!W22,FALSE)","v":"Seni Budaya"},{"$f":"HLOOKUP(MENU!$I$8&\" \"&$B$3,DATABASE!$X$2:$CK$92,DATABASE!W23,FALSE)","v":"Seni Budaya"},{"$f":"HLOOKUP(MENU!$I$8&\" \"&$B$3,DATABASE!$X$2:$CK$92,DATABASE!W24,FALSE)","v":"Pendidikan Jasmani, Olah Raga & Kesehatan"},{"$f":"HLOOKUP(MENU!$I$8&\" \"&$B$3,DATABASE!$X$2:$CK$92,DATABASE!W25,FALSE)","v":"Pendidikan Jasmani, Olah Raga & Kesehatan"},{"$f":"HLOOKUP(MENU!$I$8&\" \"&$B$3,DATABASE!$X$2:$CK$92,DATABASE!W26,FALSE)","v":"Pendidikan Jasmani, Olah Raga & Kesehatan"},{"$f":"HLOOKUP(MENU!$I$8&\" \"&$B$3,DATABASE!$X$2:$CK$92,DATABASE!W27,FALSE)","v":"Bahasa dan Sastra Sunda"},{"$f":"HLOOKUP(MENU!$I$8&\" \"&$B$3,DATABASE!$X$2:$CK$92,DATABASE!W28,FALSE)","v":"Bahasa dan Sastra Sunda"},{"$f":"HLOOKUP(MENU!$I$8&\" \"&$B$3,DATABASE!$X$2:$CK$92,DATABASE!W29,FALSE)","v":"Bahasa dan Sastra Sunda"},{"$f":"HLOOKUP(MENU!$I$8&\" \"&$B$3,DATABASE!$X$2:$CK$92,DATABASE!W30,FALSE)","v":"PLH"},{"$f":"HLOOKUP(MENU!$I$8&\" \"&$B$3,DATABASE!$X$2:$CK$92,DATABASE!W31,FALSE)","v":"PLH"},{"$f":"HLOOKUP(MENU!$I$8&\" \"&$B$3,DATABASE!$X$2:$CK$92,DATABASE!W32,FALSE)","v":"PLH"},{"$f":"HLOOKUP(MENU!$I$8&\" \"&$B$3,DATABASE!$X$2:$CK$92,DATABASE!W33,FALSE)","v":"Simulasi dan Komunikasi Digital"},{"$f":"HLOOKUP(MENU!$I$8&\" \"&$B$3,DATABASE!$X$2:$CK$92,DATABASE!W34,FALSE)","v":"Simulasi dan Komunikasi Digital"},{"$f":"HLOOKUP(MENU!$I$8&\" \"&$B$3,DATABASE!$X$2:$CK$92,DATABASE!W35,FALSE)","v":"Simulasi dan Komunikasi Digital"},{"$f":"HLOOKUP(MENU!$I$8&\" \"&$B$3,DATABASE!$X$2:$CK$92,DATABASE!W36,FALSE)","v":"Fisika"},{"$f":"HLOOKUP(MENU!$I$8&\" \"&$B$3,DATABASE!$X$2:$CK$92,DATABASE!W37,FALSE)","v":"Fisika"},{"$f":"HLOOKUP(MENU!$I$8&\" \"&$B$3,DATABASE!$X$2:$CK$92,DATABASE!W38,FALSE)","v":"Fisika"},{"$f":"HLOOKUP(MENU!$I$8&\" \"&$B$3,DATABASE!$X$2:$CK$92,DATABASE!W39,FALSE)","v":"Kimia"},{"$f":"HLOOKUP(MENU!$I$8&\" \"&$B$3,DATABASE!$X$2:$CK$92,DATABASE!W40,FALSE)","v":"Kimia"},{"$f":"HLOOKUP(MENU!$I$8&\" \"&$B$3,DATABASE!$X$2:$CK$92,DATABASE!W41,FALSE)","v":"Kimia"},{"$f":"HLOOKUP(MENU!$I$8&\" \"&$B$3,DATABASE!$X$2:$CK$92,DATABASE!W42,FALSE)","v":"Sistem Komputer"},{"$f":"HLOOKUP(MENU!$I$8&\" \"&$B$3,DATABASE!$X$2:$CK$92,DATABASE!W43,FALSE)","v":"Sistem Komputer"},{"$f":"HLOOKUP(MENU!$I$8&\" \"&$B$3,DATABASE!$X$2:$CK$92,DATABASE!W44,FALSE)","v":"Sistem Komputer"},{"$f":"HLOOKUP(MENU!$I$8&\" \"&$B$3,DATABASE!$X$2:$CK$92,DATABASE!W45,FALSE)","v":"Komputer dan Jaringan Dasar"},{"$f":"HLOOKUP(MENU!$I$8&\" \"&$B$3,DATABASE!$X$2:$CK$92,DATABASE!W46,FALSE)","v":"Komputer dan Jaringan Dasar"},{"$f":"HLOOKUP(MENU!$I$8&\" \"&$B$3,DATABASE!$X$2:$CK$92,DATABASE!W47,FALSE)","v":"Komputer dan Jaringan Dasar"},{"$f":"HLOOKUP(MENU!$I$8&\" \"&$B$3,DATABASE!$X$2:$CK$92,DATABASE!W48,FALSE)","v":"Pemrograman Dasar"},{"$f":"HLOOKUP(MENU!$I$8&\" \"&$B$3,DATABASE!$X$2:$CK$92,DATABASE!W49,FALSE)","v":"Pemrograman Dasar"},{"$f":"HLOOKUP(MENU!$I$8&\" \"&$B$3,DATABASE!$X$2:$CK$92,DATABASE!W50,FALSE)","v":"Pemrograman Dasar"},{"$f":"HLOOKUP(MENU!$I$8&\" \"&$B$3,DATABASE!$X$2:$CK$92,DATABASE!W51,FALSE)","v":"Dasar Desain Grafis"},{"$f":"HLOOKUP(MENU!$I$8&\" \"&$B$3,DATABASE!$X$2:$CK$92,DATABASE!W52,FALSE)","v":"Dasar Desain Grafis"},{"$f":"HLOOKUP(MENU!$I$8&\" \"&$B$3,DATABASE!$X$2:$CK$92,DATABASE!W53,FALSE)","v":"Dasar Desain Grafis"},{"$f":"HLOOKUP(MENU!$I$8&\" \"&$B$3,DATABASE!$X$2:$CK$92,DATABASE!W54,FALSE)","v":"-"},{"$f":"HLOOKUP(MENU!$I$8&\" \"&$B$3,DATABASE!$X$2:$CK$92,DATABASE!W55,FALSE)","v":"-"},{"$f":"HLOOKUP(MENU!$I$8&\" \"&$B$3,DATABASE!$X$2:$CK$92,DATABASE!W56,FALSE)","v":"-"},{"$f":"HLOOKUP(MENU!$I$8&\" \"&$B$3,DATABASE!$X$2:$CK$92,DATABASE!W57,FALSE)","v":"-"},{"$f":"HLOOKUP(MENU!$I$8&\" \"&$B$3,DATABASE!$X$2:$CK$92,DATABASE!W58,FALSE)","v":"-"},{"$f":"HLOOKUP(MENU!$I$8&\" \"&$B$3,DATABASE!$X$2:$CK$92,DATABASE!W59,FALSE)","v":"-"},{"$f":"HLOOKUP(MENU!$I$8&\" \"&$B$3,DATABASE!$X$2:$CK$92,DATABASE!W60,FALSE)","v":"-"},{"$f":"HLOOKUP(MENU!$I$8&\" \"&$B$3,DATABASE!$X$2:$CK$92,DATABASE!W61,FALSE)","v":"-"},{"$f":"HLOOKUP(MENU!$I$8&\" \"&$B$3,DATABASE!$X$2:$CK$92,DATABASE!W62,FALSE)","v":"-"},{"$f":"HLOOKUP(MENU!$I$8&\" \"&$B$3,DATABASE!$X$2:$CK$92,DATABASE!W63,FALSE)","v":"-"},{"$f":"HLOOKUP(MENU!$I$8&\" \"&$B$3,DATABASE!$X$2:$CK$92,DATABASE!W64,FALSE)","v":"-"},{"$f":"HLOOKUP(MENU!$I$8&\" \"&$B$3,DATABASE!$X$2:$CK$92,DATABASE!W65,FALSE)","v":"-"},{"$f":"HLOOKUP(MENU!$I$8&\" \"&$B$3,DATABASE!$X$2:$CK$92,DATABASE!W66,FALSE)","v":"-"},{"$f":"HLOOKUP(MENU!$I$8&\" \"&$B$3,DATABASE!$X$2:$CK$92,DATABASE!W67,FALSE)","v":"-"},{"$f":"HLOOKUP(MENU!$I$8&\" \"&$B$3,DATABASE!$X$2:$CK$92,DATABASE!W68,FALSE)","v":"-"},{"$f":"HLOOKUP(MENU!$I$8&\" \"&$B$3,DATABASE!$X$2:$CK$92,DATABASE!W69,FALSE)","v":"-"},{"$f":"HLOOKUP(MENU!$I$8&\" \"&$B$3,DATABASE!$X$2:$CK$92,DATABASE!W70,FALSE)","v":"-"},{"$f":"HLOOKUP(MENU!$I$8&\" \"&$B$3,DATABASE!$X$2:$CK$92,DATABASE!W71,FALSE)","v":"-"},{"$f":"HLOOKUP(MENU!$I$8&\" \"&$B$3,DATABASE!$X$2:$CK$92,DATABASE!W72,FALSE)","v":"-"},{"$f":"HLOOKUP(MENU!$I$8&\" \"&$B$3,DATABASE!$X$2:$CK$92,DATABASE!W73,FALSE)","v":"-"},{"$f":"HLOOKUP(MENU!$I$8&\" \"&$B$3,DATABASE!$X$2:$CK$92,DATABASE!W74,FALSE)","v":"-"},{"$f":"HLOOKUP(MENU!$I$8&\" \"&$B$3,DATABASE!$X$2:$CK$92,DATABASE!W75,FALSE)","v":"-"},{"$f":"HLOOKUP(MENU!$I$8&\" \"&$B$3,DATABASE!$X$2:$CK$92,DATABASE!W76,FALSE)","v":"-"},{"$f":"HLOOKUP(MENU!$I$8&\" \"&$B$3,DATABASE!$X$2:$CK$92,DATABASE!W77,FALSE)","v":"-"},{"$f":"HLOOKUP(MENU!$I$8&\" \"&$B$3,DATABASE!$X$2:$CK$92,DATABASE!W78,FALSE)","v":"-"},{"$f":"HLOOKUP(MENU!$I$8&\" \"&$B$3,DATABASE!$X$2:$CK$92,DATABASE!W79,FALSE)","v":"-"},{"$f":"HLOOKUP(MENU!$I$8&\" \"&$B$3,DATABASE!$X$2:$CK$92,DATABASE!W80,FALSE)","v":"-"},{"$f":"HLOOKUP(MENU!$I$8&\" \"&$B$3,DATABASE!$X$2:$CK$92,DATABASE!W81,FALSE)","v":"-"},{"$f":"HLOOKUP(MENU!$I$8&\" \"&$B$3,DATABASE!$X$2:$CK$92,DATABASE!W82,FALSE)","v":"-"},{"$f":"HLOOKUP(MENU!$I$8&\" \"&$B$3,DATABASE!$X$2:$CK$92,DATABASE!W83,FALSE)","v":"-"},{"$f":"HLOOKUP(MENU!$I$8&\" \"&$B$3,DATABASE!$X$2:$CK$92,DATABASE!W84,FALSE)","v":"-"},{"$f":"HLOOKUP(MENU!$I$8&\" \"&$B$3,DATABASE!$X$2:$CK$92,DATABASE!W85,FALSE)","v":"-"},{"$f":"HLOOKUP(MENU!$I$8&\" \"&$B$3,DATABASE!$X$2:$CK$92,DATABASE!W86,FALSE)","v":"-"},{"$f":"HLOOKUP(MENU!$I$8&\" \"&$B$3,DATABASE!$X$2:$CK$92,DATABASE!W87,FALSE)","v":"-"},{"$f":"HLOOKUP(MENU!$I$8&\" \"&$B$3,DATABASE!$X$2:$CK$92,DATABASE!W88,FALSE)","v":"-"},{"$f":"HLOOKUP(MENU!$I$8&\" \"&$B$3,DATABASE!$X$2:$CK$92,DATABASE!W89,FALSE)","v":"-"},{"$f":"HLOOKUP(MENU!$I$8&\" \"&$B$3,DATABASE!$X$2:$CK$92,DATABASE!W90,FALSE)","v":"-"},{"$f":"HLOOKUP(MENU!$I$8&\" \"&$B$3,DATABASE!$X$2:$CK$92,DATABASE!W91,FALSE)","v":"-"},{"$f":"HLOOKUP(MENU!$I$8&\" \"&$B$3,DATABASE!$X$2:$CK$92,DATABASE!W92,FALSE)","v":"-"},"NILAI BP/BK","NAMA TEMPAT PKL","LOKASI TEMPAT PKL","LAMA PKL (BULAN)","KET. NILAI PKL","NAMA TEMPAT PKL","LOKASI TEMPAT PKL","LAMA PKL (BULAN)","KET. NILAI PKL","NAMA ESKUL 1","NILAI ESKUL 1","NAMA ESKUL 2","NILAI ESKUL 2","NAMA ESKUL 3","NILAI ESKUL 3","JENIS PRESTASI 1","KET. NILAI PRESTASI 1","JENIS PRESTASI 2","KET. NILAI PRESTASI 2","SAKIT","IJIN","TANPA KETERANGAN","NILAI SIKAP SPIRITUAL (OTOMATIS)","NILAI SIKAP SOSIAL (OTOMATIS)","CEK JUMLAH MAPEL (HARUS SAMA)!","RATA-RATA PENGETAHUAN","RATA-RATA KETERAMPILAN","JUMLAH NILAI PENGETAHUAN","JUMLAH NILAI KETERAMPILAN","TOTAL NILAI","FORMULA PERINGKAT KELAS","PENENTUAN PERINGKAT OLEH WALI KELAS","JUMLAH SISWA DI KELAS","-",null,null,null,null,null,"JANGAN EDIT DATA DI KOLOM INI KE BAWAH"]
["Semester  :","1 (satu)","KELOMPOK MAPEL","A","A","A","A","A","A","A","A","A","A","A","A","A","A","A","A","A","A","B","B","B","B","B","B","B","B","B","B","B","B","C1","C1","C1","C1","C1","C1","C1","C1","C1","C2","C2","C2","C2","C2","C2","C2","C2","C2","C2","C2","C2","C3","C3","C3","C3","C3","C3","C3","C3","C3","C3","C3","C3","C3","C3","C3","C3","C3","C3","-",null,null,"-",null,null,"-",null,null,"-",null,null,"-",null,null,"-",null,null,"-",null,null,null,null,null,null,null,null,null,null,null,null,null,null,null,null,null,null,null,null,null,null,null,null,null,null,null,null,null,null,null,null,null,null,null,null,"Titimangsa Rapor :",null,null,null,null,null,1,2,3,4,5,6,7,8,9,10,11,12,13,14,15,16,17,18,19,20,21,22,23,24,25,26,27,28,29,30,31]
["Wali Kelas :",{"$f":"MENU!I14","v":"Sri Hartati,S.T"},"URUTAN MAPEL",1,1,1,2,2,2,3,3,3,4,4,4,5,5,5,6,6,6,1,1,1,2,2,2,3,3,3,4,4,4,1,1,1,2,2,2,3,3,3,4,4,4,5,5,5,6,6,6,7,7,7,1,1,1,2,2,2,3,3,3,4,4,4,5,5,5,6,6,6,"-",null,null,"-",null,null,"-",null,null,"-",null,null,"-",null,null,"-",null,null,"-",null,null,null,"KEGIATAN PKL",null,null,null,"KEGIATAN PKL",null,null,null,"KEGIATAN EKSTRAKURIKULER",null,null,null,null,null,"CATATAN PRESTASI",null,null,null,"KETIDAKHADIRAN",null,null,null,null,null,"RATA-RATA NILAI",null,"JUMLAH NILAI",null,null,null,"PERINGKAT KELAS",null,null,{"$f":"MENU!I13","v":"Karawang, 15 Desember 2017"},null,null,null,null,null,"KI-1  &  KI-2",null,"KI-2"]
[{"$f":"MENU!G15","v":"PegId"},{"$f":"MENU!I15","v":"20217802184001"},"KKM",75,75,"B",75,75,"B",75,75,"B",75,75,"B",75,75,"B",75,75,"B",75,75,"B",75,75,"B",75,75,"B",75,75,"B",75,75,"B",75,75,"B",75,75,"B",75,75,"B",75,75,"B",75,75,"B",null,null,null,null,null,null,null,null,null,null,null,null,null,null,null,null,null,null,null,null,null,null,null,null,null,null,null,null,null,null,null,null,null,75,75,"B",75,75,"B",75,75,"B"]
["NO. URUT","NAMA SISWA","NIS","P","K","S","P","K","S","P","K","S","P","K","S","P","K","S","P","K","S","P","K","S","P","K","S","P","K","S","P","K","S","P","K","S","P","K","S","P","K","S","P","K","S","P","K","S","P","K","S","P","K","S","P","K","S","P","K","S","P","K","S","P","K","S","P","K","S","P","K","S","P","K","S","P","K","S","P","K","S","P","K","S","P","K","S","P","K","S","P","K","S",null,null,null,null,null,null,null,null,null,null,null,null,null,null,null,null,null,null,null,null,null,null,null,null,null,null,null,null,null,null,null,"SILAHKAN DIISI MANUAL"]
[1,2,3,4,5,6,7,8,9,10,11,12,13,14,15,16,17,18,19,20,21,22,23,24,25,26,27,28,29,30,31,32,33,34,35,36,37,38,39,40,41,42,43,44,45,46,47,48,49,50,51,52,53,54,55,56,57,58,59,60,61,62,63,64,65,66,67,68,69,70,71,72,73,74,75,76,77,78,79,80,81,82,83,84,85,86,87,88,89,90,91,92,93,94,95,96,97,98,99,100,101,102,103,104,105,106,107,108,109,110,111,112,113,114,115,116,117,118,119,120,121,122,123,124,125,126,127]
[{"$f":"BIODATA!A5","v":1},{"$f":"BIODATA!C5","v":"AGHNIA SYAFIRA"},{"$f":"BIODATA!D5","v":13140767},75,83,"B",84,92,"B",93,75,"B",75,75,"B",75,75,"B",75,75,"B",75,75,"B",75,75,"B",91.5,91.5,"B",75,83.25,"B",75,75,"B",75,75,"B",83.25,75,"B",75,75,"B",75,75,"B",75,75,"B","-","-","-","-","-","-","-","-","-","-","-","-","-","-","-","-","-","-","-","-","-","-","-","-","-","-","-","-","-","-","-","-","-","-","-","-","-","-","-","-","-","-","B","PT.GS Battery Karawang Plant","Kawasan Industri Suryacipta, Karawang",3,"Sangat Baik","PT. Unitted Tractors Pandu Engineering","Jakarta",3,"Baik","OSIS","A","Palang Merah Remaja","B","Pramuka","B","Juara 2 Cerdas Cermat Tk. Kabupaten","Baik Sekali","-","-",2,15,"-",{"$f":"FJ8","v":"B"},{"$f":"FL8","v":"B"},{"$f":"COUNT(D8:CN8)/2","v":16},{"$f":"IFERROR(ROUND(AVERAGE(D8,G8,J8,M8,P8,S8,V8,Y8,AB8,AE8,AH8,AK8,AN8,AQ8,AT8,AW8,AZ8,BC8,BF8,BI8,BL8,BO8,BR8,BU8,BX8,CA8,CD8,CG8,CJ8,CM8),0),\"-\")","v":78},{"$f":"IFERROR(ROUND(AVERAGE(E8,H8,K8,N8,Q8,T8,W8,Z8,AC8,AF8,AI8,AL8,AO8,AR8,AU8,AX8,BA8,BD8,BG8,BJ8,BM8,BP8,BS8,BV8,BY8,CB8,CE8,CH8,CK8,CN8),0),\"-\")","v":78},{"$f":"ROUND(SUM(D8,G8,J8,M8,P8,S8,V8,Y8,AB8,AE8,AH8,AK8,AN8,AQ8,AT8,AW8,AZ8,BC8,BF8,BI8,BL8,BO8,BR8,BU8,BX8,CA8,CD8,CG8,CJ8,CM8),0)","v":1252},{"$f":"ROUND(SUM(E8,H8,K8,N8,Q8,T8,W8,Z8,AC8,AF8,AI8,AL8,AO8,AR8,AU8,AX8,BA8,BD8,BG8,BJ8,BM8,BP8,BS8,BV8,BY8,CB8,CE8,CH8,CK8,CN8),0)","v":1250},{"$f":"SUM(DQ8:DR8)","v":2502},{"$f":"RANK(DS8,$DS$8:$DS$52,0)","v":4},null,{"$f":"COUNT($A$8:$A$52)","v":36},null,null,null,null,null,null,null,{"$f":"IF(F8=\"A\",4,IF(F8=\"B\",3,IF(F8=\"C\",2,IF(F8=\"D\",1,\"-\"))))","v":3},{"$f":"IF(I8=\"A\",4,IF(I8=\"B\",3,IF(I8=\"C\",2,IF(I8=\"D\",1,\"-\"))))","v":3},{"$f":"IF(L8=\"A\",4,IF(L8=\"B\",3,IF(L8=\"C\",2,IF(L8=\"D\",1,\"-\"))))","v":3},{"$f":"IF(O8=\"A\",4,IF(O8=\"B\",3,IF(O8=\"C\",2,IF(O8=\"D\",1,\"-\"))))","v":3},{"$f":"IF(R8=\"A\",4,IF(R8=\"B\",3,IF(R8=\"C\",2,IF(R8=\"D\",1,\"-\"))))","v":3},{"$f":"IF(U8=\"A\",4,IF(U8=\"B\",3,IF(U8=\"C\",2,IF(U8=\"D\",1,\"-\"))))","v":3},{"$f":"IF(X8=\"A\",4,IF(X8=\"B\",3,IF(X8=\"C\",2,IF(X8=\"D\",1,\"-\"))))","v":3},{"$f":"IF(AA8=\"A\",4,IF(AA8=\"B\",3,IF(AA8=\"C\",2,IF(AA8=\"D\",1,\"-\"))))","v":3},{"$f":"IF(AD8=\"A\",4,IF(AD8=\"B\",3,IF(AD8=\"C\",2,IF(AD8=\"D\",1,\"-\"))))","v":3},{"$f":"IF(AG8=\"A\",4,IF(AG8=\"B\",3,IF(AG8=\"C\",2,IF(AG8=\"D\",1,\"-\"))))","v":3},{"$f":"IF(AJ8=\"A\",4,IF(AJ8=\"B\",3,IF(AJ8=\"C\",2,IF(AJ8=\"D\",1,\"-\"))))","v":3},{"$f":"IF(AM8=\"A\",4,IF(AM8=\"B\",3,IF(AM8=\"C\",2,IF(AM8=\"D\",1,\"-\"))))","v":3},{"$f":"IF(AP8=\"A\",4,IF(AP8=\"B\",3,IF(AP8=\"C\",2,IF(AP8=\"D\",1,\"-\"))))","v":3},{"$f":"IF(AS8=\"A\",4,IF(AS8=\"B\",3,IF(AS8=\"C\",2,IF(AS8=\"D\",1,\"-\"))))","v":3},{"$f":"IF(AV8=\"A\",4,IF(AV8=\"B\",3,IF(AV8=\"C\",2,IF(AV8=\"D\",1,\"-\"))))","v":3},{"$f":"IF(AY8=\"A\",4,IF(AY8=\"B\",3,IF(AY8=\"C\",2,IF(AY8=\"D\",1,\"-\"))))","v":3},{"$f":"IF(BB8=\"A\",4,IF(BB8=\"B\",3,IF(BB8=\"C\",2,IF(BB8=\"D\",1,\"-\"))))","v":"-"},{"$f":"IF(BE8=\"A\",4,IF(BE8=\"B\",3,IF(BE8=\"C\",2,IF(BE8=\"D\",1,\"-\"))))","v":"-"},{"$f":"IF(BH8=\"A\",4,IF(BH8=\"B\",3,IF(BH8=\"C\",2,IF(BH8=\"D\",1,\"-\"))))","v":"-"},{"$f":"IF(BD8=\"A\",4,IF(BD8=\"B\",3,IF(BD8=\"C\",2,IF(BD8=\"D\",1,\"-\"))))","v":"-"},{"$f":"IF(BN8=\"A\",4,IF(BN8=\"B\",3,IF(BN8=\"C\",2,IF(BN8=\"D\",1,\"-\"))))","v":"-"},{"$f":"IF(BQ8=\"A\",4,IF(BQ8=\"B\",3,IF(BQ8=\"C\",2,IF(BQ8=\"D\",1,\"-\"))))","v":"-"},{"$f":"IF(BT8=\"A\",4,IF(BT8=\"B\",3,IF(BT8=\"C\",2,IF(BT8=\"D\",1,\"-\"))))","v":"-"},{"$f":"IF(BW8=\"A\",4,IF(BW8=\"B\",3,IF(BW8=\"C\",2,IF(BW8=\"D\",1,\"-\"))))","v":"-"},{"$f":"IF(BZ8=\"A\",4,IF(BZ8=\"B\",3,IF(BZ8=\"C\",2,IF(BZ8=\"D\",1,\"-\"))))","v":"-"},{"$f":"IF(CC8=\"A\",4,IF(CC8=\"B\",3,IF(CC8=\"C\",2,IF(CC8=\"D\",1,\"-\"))))","v":"-"},{"$f":"IF(CF8=\"A\",4,IF(CF8=\"B\",3,IF(CF8=\"C\",2,IF(CF8=\"D\",1,\"-\"))))","v":"-"},{"$f":"IF(CI8=\"A\",4,IF(CI8=\"B\",3,IF(CI8=\"C\",2,IF(CI8=\"D\",1,\"-\"))))","v":"-"},{"$f":"IF(CL8=\"A\",4,IF(CL8=\"B\",3,IF(CL8=\"C\",2,IF(CL8=\"D\",1,\"-\"))))","v":"-"},{"$f":"IF(CO8=\"A\",4,IF(CO8=\"B\",3,IF(CO8=\"C\",2,IF(CO8=\"D\",1,\"-\"))))","v":"-"},{"$f":"IF(CP8=\"A\",4,IF(CP8=\"B\",3,IF(CP8=\"C\",2,IF(CP8=\"D\",1,\"-\"))))","v":3},{"$f":"IFERROR(ROUND(AVERAGE(ED8:EE8),0),\"\")","v":3},{"$f":"IFERROR(IF(FI8=4,\"A\",IF(FI8=3,\"B\",IF(FI8=2,\"C\",IF(FI8=1,\"D\",\"-\")))),\"-\")","v":"B"},{"$f":"IFERROR(MODE(ED8:FH8),\"-\")","v":3},{"$f":"IFERROR(IF(FK8=4,\"A\",IF(FK8=3,\"B\",IF(FK8=2,\"C\",IF(FK8=1,\"D\",\"-\")))),\"-\")","v":"B"}]
[{"$f":"BIODATA!A6","v":2},{"$f":"BIODATA!C6","v":"AL KINDI"},{"$f":"BIODATA!D6","v":13140768},75,83,"B",84,92,"B",93,75,"B",75,75,"B",83.25,83.25,"B",75,75,"B",75,75,"A",75,75,"B",83.25,91.5,"B",75,83.25,"B",83.25,83.25,"B",75,75,"B",83.25,75,"B",75,75,"B",75,75,"B",75,75,"B","-","-","-","-","-","-","-","-","-","-","-","-","-","-","-","-","-","-","-","-","-","-","-","-","-","-","-","-","-","-","-","-","-","-","-","-","-","-","-","-","-","-","B","Dinas Bina Marga","Karawang",3,"Baik","Dinas Perhubungan","Karawang",3,"Sangat Baik","Rohis","B","OSIS","B","Palang Merah Remaja","B","Juara 1 LKS Jawa Barat",null,"-","-",3,"-","-",{"$f":"FJ9","v":"B"},"B",16,79,79,1260,1266,2526,3,1,36,null,null,null,null,null,null,null,3,3,3,3,3,3,4,3,3,3,3,3,3,3,3,3,"-","-","-","-","-","-","-","-","-","-","-","-","-","-",3,{"$f":"IFERROR(ROUND(AVERAGE(ED9:EE9),0),\"\")","v":3},"B",3,"B"]
[{"$f":"BIODATA!A7","v":3},{"$f":"BIODATA!C7","v":"ALFIAN MULYADI NATA"},{"$f":"BIODATA!D7","v":13140769},91.5,91.5,"B",83.25,75,"B",75,75,"B",75,75,"B",83.25,83.25,"B",83.25,83.25,"B",83.25,83.25,"B",75,75,"B",83.25,91.5,"B",75,83.25,"B",83.25,83.25,"B",75,75,"B",91.5,75,"B",75,75,"B",75,75,"B",75,75,"B","-","-","-","-","-","-","-","-","-","-","-","-","-","-","-","-","-","-","-","-","-","-","-","-","-","-","-","-","-","-","-","-","-","-","-","-","-","-","-","-","-","-","B","PT. Unitted Tractors Pandu Engineering","Jakarta",3,"Baik","PT.GS Battery Karawang Plant","Kawasan Industri Suryacipta, Karawang",3,"Baik","OSIS","B","Paskibra","B","Palang Merah Remaja","B","-","-","-","-",5,"-","-","B","B",16,80,80,1283,1274,2557,2,null,36,null,null,null,null,null,null,null,3,3,3,3,3,3,3,3,3,3,3,3,3,3,3,3,"-","-","-","-","-","-","-","-","-","-","-","-","-","-",3,3,"B",3,"B"]
[{"$f":"BIODATA!A8","v":4},{"$f":"BIODATA!C8","v":"ALFIANA WAHYU ATMADJA"},{"$f":"BIODATA!D8","v":13140770},75,75,"B",75,75,"B",75,75,"B",75,75,"B",75,75,"B",75,75,"B",75,75,"B",83.25,83.25,"B",75,75,"B",75,83.25,"B",75,75,"B",75,75,"B",75,75,"B",75,75,"B",75,75,"B",75,75,"B","-","-","-","-","-","-","-","-","-","-","-","-","-","-","-","-","-","-","-","-","-","-","-","-","-","-","-","-","-","-","-","-","-","-","-","-","-","-","-","-","-","-","B","Dinas Perhubungan","Karawang",3,"Baik","PT. Astra Nippon Gasket Indonesia","KIIC, Karawang",3,"Baik","Paskibra","B","Volley","B","Paskibra","B","-","-","-","-",1,2,3,"B","B",16,76,76,1208,1217,2425,7,null,36,null,null,null,null,null,null,null,3,3,3,3,3,3,3,3,3,3,3,3,3,3,3,3,"-","-","-","-","-","-","-","-","-","-","-","-","-","-",3,3,"B",3,"B"]
[{"$f":"BIODATA!A9","v":5},{"$f":"BIODATA!C9","v":"ASEP DODO ROHENDI"},{"$f":"BIODATA!D9","v":13140771},75,75,"B",83.25,75,"B",75,75,"B",75,75,"B",75,75,"B",75,75,"B",83.25,83.25,"B",83.25,83.25,"B",75,75,"B",75,83.25,"B",75,75,"B",75,75,"B",75,75,"B",75,75,"B",75,75,"B",75,75,"B","-","-","-","-","-","-","-","-","-","-","-","-","-","-","-","-","-","-","-","-","-","-","-","-","-","-","-","-","-","-","-","-","-","-","-","-","-","-","-","-","-","-","B","PT.GS Battery Karawang Plant","Kawasan Industri Suryacipta, Karawang",3,"Baik","PT.GS Battery Karawang Plant","Kawasan Industri Suryacipta, Karawang",3,"Baik","OSIS","B","Sepakbola","B","Palang Merah Remaja","B","-","-","-","-","-","-","-","B","B",16,77,77,1225,1225,2450,5,null,36,null,null,null,null,null,null,null,3,3,3,3,3,3,3,3,3,3,3,3,3,3,3,3,"-","-","-","-","-","-","-","-","-","-","-","-","-","-",3,3,"B",3,"B"]
[{"$f":"BIODATA!A10","v":6},{"$f":"BIODATA!C10","v":"BILLY RIZKI JHONATHAN"},{"$f":"BIODATA!D10","v":13140772},91.5,91.5,"A",83.25,75,"B",75,75,"B",91.5,91.5,"B",83.25,83.25,"B",91.5,91.5,"B",83.25,83.25,"B",75,75,"B",83.25,91.5,"B",83.25,83.25,"A",91.5,91.5,"B",83.25,91.5,"A",91.5,91.5,"A",75,75,"B",91.5,75,"B",83.25,91.5,"A","-","-","-","-","-","-","-","-","-","-","-","-","-","-","-","-","-","-","-","-","-","-","-","-","-","-","-","-","-","-","-","-","-","-","-","-","-","-","-","-","-","-","B","PT. Astra Nippon Gasket Indonesia","KIIC, Karawang",3,"Baik","Badan Pertanahan Nasional Kab.Karawang","Karawang",3,"Baik","Karate","B","Palang Merah Remaja","B","Pramuka","B","-","-","-","-","-","-","-","A","B",16,85,85,1357,1357,2714,1,2,36,null,null,null,null,null,null,null,4,3,3,3,3,3,3,3,3,4,3,4,4,3,3,4,"-","-","-","-","-","-","-","-","-","-","-","-","-","-",3,4,"A",3,"B"]
[{"$f":"BIODATA!A11","v":7},{"$f":"BIODATA!C11","v":"CAHYASARI RAMADHANTY"},{"$f":"BIODATA!D11","v":13140773},75,75,"B",75,75,"B",75,75,"B",75,75,"B",75,75,"B",75,75,"B",75,83.25,"B",75,75,"B",83.25,91.5,"B",75,83.25,"B",75,75,"B",75,75,"B",75,75,"B",75,75,"B",75,75,"B",75,75,"B","-","-","-","-","-","-","-","-","-","-","-","-","-","-","-","-","-","-","-","-","-","-","-","-","-","-","-","-","-","-","-","-","-","-","-","-","-","-","-","-","-","-","B","PT.GS Battery Karawang Plant","Kawasan Industri Suryacipta, Karawang",3,"Baik","PT. Astra Nippon Gasket Indonesia","KIIC, Karawang",3,"Baik",null,"B",null,"B",null,"B","-","-","-","-","-","-","-","B","B",16,76,77,1208,1233,2441,6,null,36,null,null,null,null,null,null,null,3,3,3,3,3,3,3,3,3,3,3,3,3,3,3,3,"-","-","-","-","-","-","-","-","-","-","-","-","-","-",3,3,"B",3,"B"]
[{"$f":"BIODATA!A12","v":8},{"$f":"BIODATA!C12","v":0},{"$f":"BIODATA!D12","v":0},null,null,null,null,null,null,null,null,null,null,null,null,null,null,null,null,null,null,null,null,null,null,null,null,null,null,null,null,null,null,null,null,null,null,null,null,null,null,null,null,null,null,null,null,null,null,null,null,null,null,null,null,null,null,null,null,null,null,null,null,null,null,null,null,null,null,null,null,null,null,null,null,null,null,null,null,null,null,null,null,null,null,null,null,null,null,null,null,null,null,null,"Badan Pertanahan Nasional Kab.Karawang","Karawang",3,"Baik","PT. Multistrada Arah Sarana,Tbk","Bekasi",3,"Baik",null,"B",null,"B",null,"B","-","-","-","-","-","-","-","-","-",0,"-","-",0,0,0,8,null,36,null,null,null,null,null,null,null,"-","-","-","-","-","-","-","-","-","-","-","-","-","-","-","-","-","-","-","-","-","-","-","-","-","-","-","-","-","-","-","","-","-","-"]
[{"$f":"BIODATA!A13","v":9},{"$f":"BIODATA!C13","v":0},{"$f":"BIODATA!D13","v":0},null,null,null,null,null,null,null,null,null,null,null,null,null,null,null,null,null,null,null,null,null,null,null,null,null,null,null,null,null,null,null,null,null,null,null,null,null,null,null,null,null,null,null,null,null,null,null,null,null,null,null,null,null,null,null,null,null,null,null,null,null,null,null,null,null,null,null,null,null,null,null,null,null,null,null,null,null,null,null,null,null,null,null,null,null,null,null,null,null,null,null,"PT. Astra Nippon Gasket Indonesia","KIIC, Karawang",3,"Baik","PT.GS Battery Karawang Plant","Kawasan Industri Suryacipta, Karawang",3,"Baik",null,"B",null,"B",null,"B","-","-","-","-","-","-","-","-","-",0,"-","-",0,0,0,8,null,36,null,null,null,null,null,null,null,"-","-","-","-","-","-","-","-","-","-","-","-","-","-","-","-","-","-","-","-","-","-","-","-","-","-","-","-","-","-","-","","-","-","-"]
[{"$f":"BIODATA!A14","v":10},{"$f":"BIODATA!C14","v":0},{"$f":"BIODATA!D14","v":0},null,null,null,null,null,null,null,null,null,null,null,null,null,null,null,null,null,null,null,null,null,null,null,null,null,null,null,null,null,null,null,null,null,null,null,null,null,null,null,null,null,null,null,null,null,null,null,null,null,null,null,null,null,null,null,null,null,null,null,null,null,null,null,null,null,null,null,null,null,null,null,null,null,null,null,null,null,null,null,null,null,null,null,null,null,null,null,null,null,null,null,"PT. Multistrada Arah Sarana,Tbk","Bekasi",3,"Baik","Dinas Bina Marga","Karawang",3,"Baik",null,"B",null,"B",null,"B","-","-","-","-","-","-","-","-","-",0,"-","-",0,0,0,8,null,36,null,null,null,null,null,null,null,"-","-","-","-","-","-","-","-","-","-","-","-","-","-","-","-","-","-","-","-","-","-","-","-","-","-","-","-","-","-","-","","-","-","-"]
[{"$f":"BIODATA!A15","v":11},{"$f":"BIODATA!C15","v":0},{"$f":"BIODATA!D15","v":0},null,null,null,null,null,null,null,null,null,null,null,null,null,null,null,null,null,null,null,null,null,null,null,null,null,null,null,null,null,null,null,null,null,null,null,null,null,null,null,null,null,null,null,null,null,null,null,null,null,null,null,null,null,null,null,null,null,null,null,null,null,null,null,null,null,null,null,null,null,null,null,null,null,null,null,null,null,null,null,null,null,null,null,null,null,null,null,null,null,null,null,null,null,null,null,null,null,null,null,null,"B",null,"B",null,"B","-","-","-","-","-","-","-","-","-",0,"-","-",0,0,0,8,null,36,null,null,null,null,null,null,null,"-","-","-","-","-","-","-","-","-","-","-","-","-","-","-","-","-","-","-","-","-","-","-","-","-","-","-","-","-","-","-","","-","-","-"]
[{"$f":"BIODATA!A16","v":12},{"$f":"BIODATA!C16","v":0},{"$f":"BIODATA!D16","v":0},null,null,null,null,null,null,null,null,null,null,null,null,null,null,null,null,null,null,null,null,null,null,null,null,null,null,null,null,null,null,null,null,null,null,null,null,null,null,null,null,null,null,null,null,null,null,null,null,null,null,null,null,null,null,null,null,null,null,null,null,null,null,null,null,null,null,null,null,null,null,null,null,null,null,null,null,null,null,null,null,null,null,null,null,null,null,null,null,null,null,null,null,null,null,null,null,null,null,null,null,"B",null,"B",null,"B","-","-","-","-","-","-","-","-","-",0,"-","-",0,0,0,8,null,36,null,null,null,null,null,null,null,"-","-","-","-","-","-","-","-","-","-","-","-","-","-","-","-","-","-","-","-","-","-","-","-","-","-","-","-","-","-","-","","-","-","-"]
[{"$f":"BIODATA!A17","v":13},{"$f":"BIODATA!C17","v":0},{"$f":"BIODATA!D17","v":0},null,null,null,null,null,null,null,null,null,null,null,null,null,null,null,null,null,null,null,null,null,null,null,null,null,null,null,null,null,null,null,null,null,null,null,null,null,null,null,null,null,null,null,null,null,null,null,null,null,null,null,null,null,null,null,null,null,null,null,null,null,null,null,null,null,null,null,null,null,null,null,null,null,null,null,null,null,null,null,null,null,null,null,null,null,null,null,null,null,null,null,null,null,null,null,null,null,null,null,null,"B",null,"B",null,"B","-","-","-","-","-","-","-","-","-",0,"-","-",0,0,0,8,null,36,null,null,null,null,null,null,null,"-","-","-","-","-","-","-","-","-","-","-","-","-","-","-","-","-","-","-","-","-","-","-","-","-","-","-","-","-","-","-","","-","-","-"]
[{"$f":"BIODATA!A18","v":14},{"$f":"BIODATA!C18","v":0},{"$f":"BIODATA!D18","v":0},null,null,null,null,null,null,null,null,null,null,null,null,null,null,null,null,null,null,null,null,null,null,null,null,null,null,null,null,null,null,null,null,null,null,null,null,null,null,null,null,null,null,null,null,null,null,null,null,null,null,null,null,null,null,null,null,null,null,null,null,null,null,null,null,null,null,null,null,null,null,null,null,null,null,null,null,null,null,null,null,null,null,null,null,null,null,null,null,null,null,null,null,null,null,null,null,null,null,null,null,"B",null,"B",null,"B","-","-","-","-","-","-","-","-","-",0,"-","-",0,0,0,8,null,36,null,null,null,null,null,null,null,"-","-","-","-","-","-","-","-","-","-","-","-","-","-","-","-","-","-","-","-","-","-","-","-","-","-","-","-","-","-","-","","-","-","-"]
[{"$f":"BIODATA!A19","v":15},{"$f":"BIODATA!C19","v":0},{"$f":"BIODATA!D19","v":0},null,null,null,null,null,null,null,null,null,null,null,null,null,null,null,null,null,null,null,null,null,null,null,null,null,null,null,null,null,null,null,null,null,null,null,null,null,null,null,null,null,null,null,null,null,null,null,null,null,null,null,null,null,null,null,null,null,null,null,null,null,null,null,null,null,null,null,null,null,null,null,null,null,null,null,null,null,null,null,null,null,null,null,null,null,null,null,null,null,null,null,null,null,null,null,null,null,null,null,null,"B",null,"B",null,"B","-","-","-","-","-","-","-","-","-",0,"-","-",0,0,0,8,3,36,null,null,null,null,null,null,null,"-","-","-","-","-","-","-","-","-","-","-","-","-","-","-","-","-","-","-","-","-","-","-","-","-","-","-","-","-","-","-","","-","-","-"]
[{"$f":"BIODATA!A20","v":16},{"$f":"BIODATA!C20","v":0},{"$f":"BIODATA!D20","v":0},null,null,null,null,null,null,null,null,null,null,null,null,null,null,null,null,null,null,null,null,null,null,null,null,null,null,null,null,null,null,null,null,null,null,null,null,null,null,null,null,null,null,null,null,null,null,null,null,null,null,null,null,null,null,null,null,null,null,null,null,null,null,null,null,null,null,null,null,null,null,null,null,null,null,null,null,null,null,null,null,null,null,null,null,null,null,null,null,null,null,null,null,null,null,null,null,null,null,null,null,"B",null,"B",null,"B","-","-","-","-","-","-","-","-","-",0,"-","-",0,0,0,8,null,36,null,null,null,null,null,null,null,"-","-","-","-","-","-","-","-","-","-","-","-","-","-","-","-","-","-","-","-","-","-","-","-","-","-","-","-","-","-","-","","-","-","-"]
[{"$f":"BIODATA!A21","v":17},{"$f":"BIODATA!C21","v":0},{"$f":"BIODATA!D21","v":0},null,null,null,null,null,null,null,null,null,null,null,null,null,null,null,null,null,null,null,null,null,null,null,null,null,null,null,null,null,null,null,null,null,null,null,null,null,null,null,null,null,null,null,null,null,null,null,null,null,null,null,null,null,null,null,null,null,null,null,null,null,null,null,null,null,null,null,null,null,null,null,null,null,null,null,null,null,null,null,null,null,null,null,null,null,null,null,null,null,null,null,null,null,null,null,null,null,null,null,null,"B",null,"B",null,"B","-","-","-","-","-","-","-","-","-",0,"-","-",0,0,0,8,null,36,null,null,null,null,null,null,null,"-","-","-","-","-","-","-","-","-","-","-","-","-","-","-","-","-","-","-","-","-","-","-","-","-","-","-","-","-","-","-","","-","-","-"]
[{"$f":"BIODATA!A22","v":18},{"$f":"BIODATA!C22","v":0},{"$f":"BIODATA!D22","v":0},null,null,null,null,null,null,null,null,null,null,null,null,null,null,null,null,null,null,null,null,null,null,null,null,null,null,null,null,null,null,null,null,null,null,null,null,null,null,null,null,null,null,null,null,null,null,null,null,null,null,null,null,null,null,null,null,null,null,null,null,null,null,null,null,null,null,null,null,null,null,null,null,null,null,null,null,null,null,null,null,null,null,null,null,null,null,null,null,null,null,null,null,null,null,null,null,null,null,null,null,"B",null,"B",null,"B","-","-","-","-","-","-","-","-","-",0,"-","-",0,0,0,8,null,36,null,null,null,null,null,null,null,"-","-","-","-","-","-","-","-","-","-","-","-","-","-","-","-","-","-","-","-","-","-","-","-","-","-","-","-","-","-","-","","-","-","-"]
[{"$f":"BIODATA!A23","v":19},{"$f":"BIODATA!C23","v":0},{"$f":"BIODATA!D23","v":0},null,null,null,null,null,null,null,null,null,null,null,null,null,null,null,null,null,null,null,null,null,null,null,null,null,null,null,null,null,null,null,null,null,null,null,null,null,null,null,null,null,null,null,null,null,null,null,null,null,null,null,null,null,null,null,null,null,null,null,null,null,null,null,null,null,null,null,null,null,null,null,null,null,null,null,null,null,null,null,null,null,null,null,null,null,null,null,null,null,null,null,null,null,null,null,null,null,null,null,null,"B",null,"B",null,"B","-","-","-","-","-","-","-","-","-",0,"-","-",0,0,0,8,null,36,null,null,null,null,null,null,null,"-","-","-","-","-","-","-","-","-","-","-","-","-","-","-","-","-","-","-","-","-","-","-","-","-","-","-","-","-","-","-","","-","-","-"]
[{"$f":"BIODATA!A24","v":20},{"$f":"BIODATA!C24","v":0},{"$f":"BIODATA!D24","v":0},null,null,null,null,null,null,null,null,null,null,null,null,null,null,null,null,null,null,null,null,null,null,null,null,null,null,null,null,null,null,null,null,null,null,null,null,null,null,null,null,null,null,null,null,null,null,null,null,null,null,null,null,null,null,null,null,null,null,null,null,null,null,null,null,null,null,null,null,null,null,null,null,null,null,null,null,null,null,null,null,null,null,null,null,null,null,null,null,null,null,null,null,null,null,null,null,null,null,null,null,"B",null,"B",null,"B","-","-","-","-","-","-","-","-","-",0,"-","-",0,0,0,8,null,36,null,null,null,null,null,null,null,"-","-","-","-","-","-","-","-","-","-","-","-","-","-","-","-","-","-","-","-","-","-","-","-","-","-","-","-","-","-","-","","-","-","-"]
[{"$f":"BIODATA!A25","v":21},{"$f":"BIODATA!C25","v":0},{"$f":"BIODATA!D25","v":0},null,null,null,null,null,null,null,null,null,null,null,null,null,null,null,null,null,null,null,null,null,null,null,null,null,null,null,null,null,null,null,null,null,null,null,null,null,null,null,null,null,null,null,null,null,null,null,null,null,null,null,null,null,null,null,null,null,null,null,null,null,null,null,null,null,null,null,null,null,null,null,null,null,null,null,null,null,null,null,null,null,null,null,null,null,null,null,null,null,null,null,null,null,null,null,null,null,null,null,null,"B",null,"B",null,"B","-","-","-","-","-","-","-","-","-",0,"-","-",0,0,0,8,null,36,null,null,null,null,null,null,null,"-","-","-","-","-","-","-","-","-","-","-","-","-","-","-","-","-","-","-","-","-","-","-","-","-","-","-","-","-","-","-","","-","-","-"]
[{"$f":"BIODATA!A26","v":22},{"$f":"BIODATA!C26","v":0},{"$f":"BIODATA!D26","v":0},null,null,null,null,null,null,null,null,null,null,null,null,null,null,null,null,null,null,null,null,null,null,null,null,null,null,null,null,null,null,null,null,null,null,null,null,null,null,null,null,null,null,null,null,null,null,null,null,null,null,null,null,null,null,null,null,null,null,null,null,null,null,null,null,null,null,null,null,null,null,null,null,null,null,null,null,null,null,null,null,null,null,null,null,null,null,null,null,null,null,null,null,null,null,null,null,null,null,null,null,"B",null,"B",null,"B","-","-","-","-","-","-","-","-","-",0,"-","-",0,0,0,8,null,36,null,null,null,null,null,null,null,"-","-","-","-","-","-","-","-","-","-","-","-","-","-","-","-","-","-","-","-","-","-","-","-","-","-","-","-","-","-","-","","-","-","-"]
[{"$f":"BIODATA!A27","v":23},{"$f":"BIODATA!C27","v":0},{"$f":"BIODATA!D27","v":0},null,null,null,null,null,null,null,null,null,null,null,null,null,null,null,null,null,null,null,null,null,null,null,null,null,null,null,null,null,null,null,null,null,null,null,null,null,null,null,null,null,null,null,null,null,null,null,null,null,null,null,null,null,null,null,null,null,null,null,null,null,null,null,null,null,null,null,null,null,null,null,null,null,null,null,null,null,null,null,null,null,null,null,null,null,null,null,null,null,null,null,null,null,null,null,null,null,null,null,null,"B",null,"B",null,"B","-","-","-","-","-","-","-","-","-",0,"-","-",0,0,0,8,1,36,null,null,null,null,null,null,null,"-","-","-","-","-","-","-","-","-","-","-","-","-","-","-","-","-","-","-","-","-","-","-","-","-","-","-","-","-","-","-","","-","-","-"]
[{"$f":"BIODATA!A28","v":24},{"$f":"BIODATA!C28","v":0},{"$f":"BIODATA!D28","v":0},null,null,null,null,null,null,null,null,null,null,null,null,null,null,null,null,null,null,null,null,null,null,null,null,null,null,null,null,null,null,null,null,null,null,null,null,null,null,null,null,null,null,null,null,null,null,null,null,null,null,null,null,null,null,null,null,null,null,null,null,null,null,null,null,null,null,null,null,null,null,null,null,null,null,null,null,null,null,null,null,null,null,null,null,null,null,null,null,null,null,null,null,null,null,null,null,null,null,null,null,"B",null,"B",null,"B","-","-","-","-","-","-","-","-","-",0,"-","-",0,0,0,8,null,36,null,null,null,null,null,null,null,"-","-","-","-","-","-","-","-","-","-","-","-","-","-","-","-","-","-","-","-","-","-","-","-","-","-","-","-","-","-","-","","-","-","-"]
[{"$f":"BIODATA!A29","v":25},{"$f":"BIODATA!C29","v":0},{"$f":"BIODATA!D29","v":0},null,null,null,null,null,null,null,null,null,null,null,null,null,null,null,null,null,null,null,null,null,null,null,null,null,null,null,null,null,null,null,null,null,null,null,null,null,null,null,null,null,null,null,null,null,null,null,null,null,null,null,null,null,null,null,null,null,null,null,null,null,null,null,null,null,null,null,null,null,null,null,null,null,null,null,null,null,null,null,null,null,null,null,null,null,null,null,null,null,null,null,null,null,null,null,null,null,null,null,null,"B",null,"B",null,"B","-","-","-","-","-","-","-","-","-",0,"-","-",0,0,0,8,null,36,null,null,null,null,null,null,null,"-","-","-","-","-","-","-","-","-","-","-","-","-","-","-","-","-","-","-","-","-","-","-","-","-","-","-","-","-","-","-","","-","-","-"]
[{"$f":"BIODATA!A30","v":26},{"$f":"BIODATA!C30","v":0},{"$f":"BIODATA!D30","v":0},null,null,null,null,null,null,null,null,null,null,null,null,null,null,null,null,null,null,null,null,null,null,null,null,null,null,null,null,null,null,null,null,null,null,null,null,null,null,null,null,null,null,null,null,null,null,null,null,null,null,null,null,null,null,null,null,null,null,null,null,null,null,null,null,null,null,null,null,null,null,null,null,null,null,null,null,null,null,null,null,null,null,null,null,null,null,null,null,null,null,null,null,null,null,null,null,null,null,null,null,"B",null,"B",null,"B","-","-","-","-","-","-","-","-","-",0,"-","-",0,0,0,8,null,36,null,null,null,null,null,null,null,"-","-","-","-","-","-","-","-","-","-","-","-","-","-","-","-","-","-","-","-","-","-","-","-","-","-","-","-","-","-","-","","-","-","-"]
[{"$f":"BIODATA!A31","v":27},{"$f":"BIODATA!C31","v":0},{"$f":"BIODATA!D31","v":0},null,null,null,null,null,null,null,null,null,null,null,null,null,null,null,null,null,null,null,null,null,null,null,null,null,null,null,null,null,null,null,null,null,null,null,null,null,null,null,null,null,null,null,null,null,null,null,null,null,null,null,null,null,null,null,null,null,null,null,null,null,null,null,null,null,null,null,null,null,null,null,null,null,null,null,null,null,null,null,null,null,null,null,null,null,null,null,null,null,null,null,null,null,null,null,null,null,null,null,null,"B",null,"B",null,"B","-","-","-","-","-","-","-","-","-",0,"-","-",0,0,0,8,null,36,null,null,null,null,null,null,null,"-","-","-","-","-","-","-","-","-","-","-","-","-","-","-","-","-","-","-","-","-","-","-","-","-","-","-","-","-","-","-","","-","-","-"]
[{"$f":"BIODATA!A32","v":28},{"$f":"BIODATA!C32","v":0},{"$f":"BIODATA!D32","v":0},null,null,null,null,null,null,null,null,null,null,null,null,null,null,null,null,null,null,null,null,null,null,null,null,null,null,null,null,null,null,null,null,null,null,null,null,null,null,null,null,null,null,null,null,null,null,null,null,null,null,null,null,null,null,null,null,null,null,null,null,null,null,null,null,null,null,null,null,null,null,null,null,null,null,null,null,null,null,null,null,null,null,null,null,null,null,null,null,null,null,null,null,null,null,null,null,null,null,null,null,"B",null,"B",null,"B","-","-","-","-","-","-","-","-","-",0,"-","-",0,0,0,8,null,36,null,null,null,null,null,null,null,"-","-","-","-","-","-","-","-","-","-","-","-","-","-","-","-","-","-","-","-","-","-","-","-","-","-","-","-","-","-","-","","-","-","-"]
[{"$f":"BIODATA!A33","v":29},{"$f":"BIODATA!C33","v":0},{"$f":"BIODATA!D33","v":0},null,null,null,null,null,null,null,null,null,null,null,null,null,null,null,null,null,null,null,null,null,null,null,null,null,null,null,null,null,null,null,null,null,null,null,null,null,null,null,null,null,null,null,null,null,null,null,null,null,null,null,null,null,null,null,null,null,null,null,null,null,null,null,null,null,null,null,null,null,null,null,null,null,null,null,null,null,null,null,null,null,null,null,null,null,null,null,null,null,null,null,null,null,null,null,null,null,null,null,null,"B",null,"B",null,"B","-","-","-","-","-","-","-","-","-",0,"-","-",0,0,0,8,null,36,null,null,null,null,null,null,null,"-","-","-","-","-","-","-","-","-","-","-","-","-","-","-","-","-","-","-","-","-","-","-","-","-","-","-","-","-","-","-","","-","-","-"]
[{"$f":"BIODATA!A34","v":30},{"$f":"BIODATA!C34","v":0},{"$f":"BIODATA!D34","v":0},null,null,null,null,null,null,null,null,null,null,null,null,null,null,null,null,null,null,null,null,null,null,null,null,null,null,null,null,null,null,null,null,null,null,null,null,null,null,null,null,null,null,null,null,null,null,null,null,null,null,null,null,null,null,null,null,null,null,null,null,null,null,null,null,null,null,null,null,null,null,null,null,null,null,null,null,null,null,null,null,null,null,null,null,null,null,null,null,null,null,null,null,null,null,null,null,null,null,null,null,"B",null,"B",null,"B","-","-","-","-","-","-","-","-","-",0,"-","-",0,0,0,8,null,36,null,null,null,null,null,null,null,"-","-","-","-","-","-","-","-","-","-","-","-","-","-","-","-","-","-","-","-","-","-","-","-","-","-","-","-","-","-","-","","-","-","-"]
[{"$f":"BIODATA!A35","v":31},{"$f":"BIODATA!C35","v":0},{"$f":"BIODATA!D35","v":0},null,null,null,null,null,null,null,null,null,null,null,null,null,null,null,null,null,null,null,null,null,null,null,null,null,null,null,null,null,null,null,null,null,null,null,null,null,null,null,null,null,null,null,null,null,null,null,null,null,null,null,null,null,null,null,null,null,null,null,null,null,null,null,null,null,null,null,null,null,null,null,null,null,null,null,null,null,null,null,null,null,null,null,null,null,null,null,null,null,null,null,null,null,null,null,null,null,null,null,null,"B",null,"B",null,"B","-","-","-","-","-","-","-","-","-",0,"-","-",0,0,0,8,null,36,null,null,null,null,null,null,null,"-","-","-","-","-","-","-","-","-","-","-","-","-","-","-","-","-","-","-","-","-","-","-","-","-","-","-","-","-","-","-","","-","-","-"]
[{"$f":"BIODATA!A36","v":32},{"$f":"BIODATA!C36","v":0},{"$f":"BIODATA!D36","v":0},null,null,null,null,null,null,null,null,null,null,null,null,null,null,null,null,null,null,null,null,null,null,null,null,null,null,null,null,null,null,null,null,null,null,null,null,null,null,null,null,null,null,null,null,null,null,null,null,null,null,null,null,null,null,null,null,null,null,null,null,null,null,null,null,null,null,null,null,null,null,null,null,null,null,null,null,null,null,null,null,null,null,null,null,null,null,null,null,null,null,null,null,null,null,null,null,null,null,null,null,"B",null,"B",null,"B","-","-","-","-","-","-","-","-","-",0,"-","-",0,0,0,8,null,36,null,null,null,null,null,null,null,"-","-","-","-","-","-","-","-","-","-","-","-","-","-","-","-","-","-","-","-","-","-","-","-","-","-","-","-","-","-","-","","-","-","-"]
[{"$f":"BIODATA!A37","v":33},{"$f":"BIODATA!C37","v":0},{"$f":"BIODATA!D37","v":0},null,null,null,null,null,null,null,null,null,null,null,null,null,null,null,null,null,null,null,null,null,null,null,null,null,null,null,null,null,null,null,null,null,null,null,null,null,null,null,null,null,null,null,null,null,null,null,null,null,null,null,null,null,null,null,null,null,null,null,null,null,null,null,null,null,null,null,null,null,null,null,null,null,null,null,null,null,null,null,null,null,null,null,null,null,null,null,null,null,null,null,null,null,null,null,null,null,null,null,null,"B",null,"B",null,"B","-","-","-","-","-","-","-","-","-",0,"-","-",0,0,0,8,null,36,null,null,null,null,null,null,null,"-","-","-","-","-","-","-","-","-","-","-","-","-","-","-","-","-","-","-","-","-","-","-","-","-","-","-","-","-","-","-","","-","-","-"]
[{"$f":"BIODATA!A38","v":34},{"$f":"BIODATA!C38","v":0},{"$f":"BIODATA!D38","v":0},null,null,null,null,null,null,null,null,null,null,null,null,null,null,null,null,null,null,null,null,null,null,null,null,null,null,null,null,null,null,null,null,null,null,null,null,null,null,null,null,null,null,null,null,null,null,null,null,null,null,null,null,null,null,null,null,null,null,null,null,null,null,null,null,null,null,null,null,null,null,null,null,null,null,null,null,null,null,null,null,null,null,null,null,null,null,null,null,null,null,null,null,null,null,null,null,null,null,null,null,"B",null,"B",null,"B","-","-","-","-","-","-","-","-","-",0,"-","-",0,0,0,8,null,36,null,null,null,null,null,null,null,"-","-","-","-","-","-","-","-","-","-","-","-","-","-","-","-","-","-","-","-","-","-","-","-","-","-","-","-","-","-","-","","-","-","-"]
[{"$f":"BIODATA!A39","v":35},{"$f":"BIODATA!C39","v":0},{"$f":"BIODATA!D39","v":0},null,null,null,null,null,null,null,null,null,null,null,null,null,null,null,null,null,null,null,null,null,null,null,null,null,null,null,null,null,null,null,null,null,null,null,null,null,null,null,null,null,null,null,null,null,null,null,null,null,null,null,null,null,null,null,null,null,null,null,null,null,null,null,null,null,null,null,null,null,null,null,null,null,null,null,null,null,null,null,null,null,null,null,null,null,null,null,null,null,null,null,null,null,null,null,null,null,null,null,null,"B",null,"B",null,"B","-","-","-","-","-","-","-","-","-",0,"-","-",0,0,0,8,null,36,null,null,null,null,null,null,null,"-","-","-","-","-","-","-","-","-","-","-","-","-","-","-","-","-","-","-","-","-","-","-","-","-","-","-","-","-","-","-","","-","-","-"]
[{"$f":"BIODATA!A40","v":36},{"$f":"BIODATA!C40","v":0},{"$f":"BIODATA!D40","v":0},null,null,null,null,null,null,null,null,null,null,null,null,null,null,null,null,null,null,null,null,null,null,null,null,null,null,null,null,null,null,null,null,null,null,null,null,null,null,null,null,null,null,null,null,null,null,null,null,null,null,null,null,null,null,null,null,null,null,null,null,null,null,null,null,null,null,null,null,null,null,null,null,null,null,null,null,null,null,null,null,null,null,null,null,null,null,null,null,null,null,null,null,null,null,null,null,null,null,null,null,"B",null,"B",null,"B","-","-","-","-","-","-","-","-","-",0,"-","-",0,0,0,8,null,36,null,null,null,null,null,null,null,"-","-","-","-","-","-","-","-","-","-","-","-","-","-","-","-","-","-","-","-","-","-","-","-","-","-","-","-","-","-","-","","-","-","-"]
[{"$f":"BIODATA!A41","v":"-"},{"$f":"BIODATA!C41","v":0},{"$f":"BIODATA!D41","v":0},"-","-","-","-","-","-","-","-","-","-","-","-","-","-","-","-","-","-","-","-","-","-","-","-","-","-","-","-","-","-","-","-","-","-","-","-","-","-","-","-","-","-","-","-","-","-","-","-","-","-","-","-","-","-","-","-","-","-","-","-","-","-","-","-","-","-","-","-","-","-","-","-","-","-","-","-","-","-","-","-","-","-","-","-","-","-","-","-","-","-","-",null,null,null,null,null,null,null,null,null,"B",null,"B",null,"B","-","-","-","-","-","-","-","-","-",0,"-","-",0,0,0,8,null,36,null,null,null,null,null,null,null,"-","-","-","-","-","-","-","-","-","-","-","-","-","-","-","-","-","-","-","-","-","-","-","-","-","-","-","-","-","-","-","","-","-","-"]
[{"$f":"BIODATA!A42","v":"-"},{"$f":"BIODATA!C42","v":0},{"$f":"BIODATA!D42","v":0},"-","-","-","-","-","-","-","-","-","-","-","-","-","-","-","-","-","-","-","-","-","-","-","-","-","-","-","-","-","-","-","-","-","-","-","-","-","-","-","-","-","-","-","-","-","-","-","-","-","-","-","-","-","-","-","-","-","-","-","-","-","-","-","-","-","-","-","-","-","-","-","-","-","-","-","-","-","-","-","-","-","-","-","-","-","-","-","-","-","-","-",null,null,null,null,null,null,null,null,null,"B",null,"B",null,"B","-","-","-","-","-","-","-","-","-",0,"-","-",0,0,0,8,null,36,null,null,null,null,null,null,null,"-","-","-","-","-","-","-","-","-","-","-","-","-","-","-","-","-","-","-","-","-","-","-","-","-","-","-","-","-","-","-","","-","-","-"]
[{"$f":"BIODATA!A43","v":"-"},{"$f":"BIODATA!C43","v":0},{"$f":"BIODATA!D43","v":0},"-","-","-","-","-","-","-","-","-","-","-","-","-","-","-","-","-","-","-","-","-","-","-","-","-","-","-","-","-","-","-","-","-","-","-","-","-","-","-","-","-","-","-","-","-","-","-","-","-","-","-","-","-","-","-","-","-","-","-","-","-","-","-","-","-","-","-","-","-","-","-","-","-","-","-","-","-","-","-","-","-","-","-","-","-","-","-","-","-","-","-",null,null,null,null,null,null,null,null,null,"B",null,"B",null,"B","-","-","-","-","-","-","-","-","-",0,"-","-",0,0,0,8,null,36,null,null,null,null,null,null,null,"-","-","-","-","-","-","-","-","-","-","-","-","-","-","-","-","-","-","-","-","-","-","-","-","-","-","-","-","-","-","-","","-","-","-"]
[{"$f":"BIODATA!A44","v":"-"},{"$f":"BIODATA!C44","v":0},{"$f":"BIODATA!D44","v":0},"-","-","-","-","-","-","-","-","-","-","-","-","-","-","-","-","-","-","-","-","-","-","-","-","-","-","-","-","-","-","-","-","-","-","-","-","-","-","-","-","-","-","-","-","-","-","-","-","-","-","-","-","-","-","-","-","-","-","-","-","-","-","-","-","-","-","-","-","-","-","-","-","-","-","-","-","-","-","-","-","-","-","-","-","-","-","-","-","-","-","-",null,null,null,null,null,null,null,null,null,"B",null,"B",null,"B","-","-","-","-","-","-","-","-","-",0,"-","-",0,0,0,8,null,36,null,null,null,null,null,null,null,"-","-","-","-","-","-","-","-","-","-","-","-","-","-","-","-","-","-","-","-","-","-","-","-","-","-","-","-","-","-","-","","-","-","-"]
[{"$f":"BIODATA!A45","v":"-"},{"$f":"BIODATA!C45","v":0},{"$f":"BIODATA!D45","v":0},"-","-","-","-","-","-","-","-","-","-","-","-","-","-","-","-","-","-","-","-","-","-","-","-","-","-","-","-","-","-","-","-","-","-","-","-","-","-","-","-","-","-","-","-","-","-","-","-","-","-","-","-","-","-","-","-","-","-","-","-","-","-","-","-","-","-","-","-","-","-","-","-","-","-","-","-","-","-","-","-","-","-","-","-","-","-","-","-","-","-","-",null,null,null,null,null,null,null,null,null,"B",null,"B",null,"B","-","-","-","-","-","-","-","-","-",0,"-","-",0,0,0,8,null,36,null,null,null,null,null,null,null,"-","-","-","-","-","-","-","-","-","-","-","-","-","-","-","-","-","-","-","-","-","-","-","-","-","-","-","-","-","-","-","","-","-","-"]
[{"$f":"BIODATA!A46","v":"-"},{"$f":"BIODATA!C46","v":0},{"$f":"BIODATA!D46","v":0},"-","-","-","-","-","-","-","-","-","-","-","-","-","-","-","-","-","-","-","-","-","-","-","-","-","-","-","-","-","-","-","-","-","-","-","-","-","-","-","-","-","-","-","-","-","-","-","-","-","-","-","-","-","-","-","-","-","-","-","-","-","-","-","-","-","-","-","-","-","-","-","-","-","-","-","-","-","-","-","-","-","-","-","-","-","-","-","-","-","-","-",null,null,null,null,null,null,null,null,null,"B",null,"B",null,"B","-","-","-","-","-","-","-","-","-",0,"-","-",0,0,0,8,null,36,null,null,null,null,null,null,null,"-","-","-","-","-","-","-","-","-","-","-","-","-","-","-","-","-","-","-","-","-","-","-","-","-","-","-","-","-","-","-","","-","-","-"]
[{"$f":"BIODATA!A47","v":"-"},{"$f":"BIODATA!C47","v":0},{"$f":"BIODATA!D47","v":0},"-","-","-","-","-","-","-","-","-","-","-","-","-","-","-","-","-","-","-","-","-","-","-","-","-","-","-","-","-","-","-","-","-","-","-","-","-","-","-","-","-","-","-","-","-","-","-","-","-","-","-","-","-","-","-","-","-","-","-","-","-","-","-","-","-","-","-","-","-","-","-","-","-","-","-","-","-","-","-","-","-","-","-","-","-","-","-","-","-","-","-",null,null,null,null,null,null,null,null,null,"B",null,"B",null,"B","-","-","-","-","-","-","-","-","-",0,"-","-",0,0,0,8,null,36,null,null,null,null,null,null,null,"-","-","-","-","-","-","-","-","-","-","-","-","-","-","-","-","-","-","-","-","-","-","-","-","-","-","-","-","-","-","-","","-","-","-"]
[{"$f":"BIODATA!A48","v":"-"},{"$f":"BIODATA!C48","v":0},{"$f":"BIODATA!D48","v":0},"-","-","-","-","-","-","-","-","-","-","-","-","-","-","-","-","-","-","-","-","-","-","-","-","-","-","-","-","-","-","-","-","-","-","-","-","-","-","-","-","-","-","-","-","-","-","-","-","-","-","-","-","-","-","-","-","-","-","-","-","-","-","-","-","-","-","-","-","-","-","-","-","-","-","-","-","-","-","-","-","-","-","-","-","-","-","-","-","-","-","-",null,null,null,null,null,null,null,null,null,"B",null,"B",null,"B","-","-","-","-","-","-","-","-","-",0,"-","-",0,0,0,8,null,36,null,null,null,null,null,null,null,"-","-","-","-","-","-","-","-","-","-","-","-","-","-","-","-","-","-","-","-","-","-","-","-","-","-","-","-","-","-","-","","-","-","-"]
[{"$f":"BIODATA!A49","v":"-"},{"$f":"BIODATA!C49","v":0},{"$f":"BIODATA!D49","v":0},"-","-","-","-","-","-","-","-","-","-","-","-","-","-","-","-","-","-","-","-","-","-","-","-","-","-","-","-","-","-","-","-","-","-","-","-","-","-","-","-","-","-","-","-","-","-","-","-","-","-","-","-","-","-","-","-","-","-","-","-","-","-","-","-","-","-","-","-","-","-","-","-","-","-","-","-","-","-","-","-","-","-","-","-","-","-","-","-","-","-","-",null,null,null,null,null,null,null,null,null,"B",null,"B",null,"B","-","-","-","-","-","-","-","-","-",0,"-","-",0,0,0,8,null,36,null,null,null,null,null,null,null,"-","-","-","-","-","-","-","-","-","-","-","-","-","-","-","-","-","-","-","-","-","-","-","-","-","-","-","-","-","-","-","","-","-","-"]
[]
[]
[]
[]
[]
[]
[]
[]
[]
[]
[]
[]
[null,null,null,3.59]
[null,null,null,3.59]
[null,null,null,3.5]
[null,null,null,3.48]
[null,null,null,3.54]
[null,null,null,3.39]
[null,null,null,3.45]
[null,null,null,3.45]
[null,null,null,3.29]
[null,null,null,3.45]
[null,null,null,3.45]
[null,null,null,3.45]

{"sheet":"NILSM2","index":29,"n_rows":76,"n_cols":168,"rows_kept":76,"cut":false,"hidden":false,"merged":[[2,78,2,80],[2,81,2,83],[1,0,1,1],[2,72,2,74],[2,75,2,77],[3,72,3,74],[3,75,3,77],[3,84,3,86],[3,87,3,89],[3,90,3,92],[3,78,3,80],[1,132,1,168],[2,126,5,126],[3,120,4,122],[3,98,4,101],[3,81,3,83],[3,102,4,107],[3,108,4,111],[3,94,4,97],[3,118,4,119],[3,133,5,134],[3,135,5,163],[2,84,2,86],[2,87,2,89],[2,90,2,92],[3,124,4,124],[3,112,4,114]]}
[null,null,null,{"$f":"$B$3&D3&D4&D6","v":"2 (dua)A1P"},{"$f":"$B$3&E3&E4&E6","v":"2 (dua)A1K"},"2 (dua)A1S","2 (dua)A2P","2 (dua)A2K","2 (dua)A2S","2 (dua)A3P","2 (dua)A3K","2 (dua)A3S","2 (dua)A4P","2 (dua)A4K","2 (dua)A4S","2 (dua)A5P","2 (dua)A5K","2 (dua)A5S","2 (dua)A6P","2 (dua)A6K","2 (dua)A6S","2 (dua)B1P","2 (dua)B1K","2 (dua)B1S","2 (dua)B2P","2 (dua)B2K","2 (dua)B2S","2 (dua)B3P","2 (dua)B3K","2 (dua)B3S","2 (dua)B4P","2 (dua)B4K","2 (dua)B4S","2 (dua)C11P","2 (dua)C11K","2 (dua)C11S","2 (dua)C12P","2 (dua)C12K","2 (dua)C12S","2 (dua)C13P","2 (dua)C13K","2 (dua)C13S","2 (dua)C24P","2 (dua)C24K","2 (dua)C24S","2 (dua)C25P","2 (dua)C25K","2 (dua)C25S","2 (dua)C26P","2 (dua)C26K","2 (dua)C26S","2 (dua)C27P","2 (dua)C27K","2 (dua)C27S","2 (dua)C31P","2 (dua)C31K","2 (dua)C31S","2 (dua)C32P","2 (dua)C32K","2 (dua)C32S","2 (dua)C33P","2 (dua)C33K","2 (dua)C33S","2 (dua)C34P","2 (dua)C34K","2 (dua)C34S","2 (dua)C35P","2 (dua)C35K",{"$f":"$B$3&BQ3&BQ4&BQ6","v":"2 (dua)C35S"},"2 (dua)C36P","2 (dua)C36K","2 (dua)C36S","2 (dua)--P","2 (dua)K","2 (dua)S","2 (dua)-P","2 (dua)K","2 (dua)S","2 (dua)-P","2 (dua)K","2 (dua)S","2 (dua)-P","2 (dua)K","2 (dua)S","2 (dua)-P","2 (dua)K","2 (dua)S","2 (dua)--P","2 (dua)K","2 (dua)S","2 (dua)--P","2 (dua)K","2 (dua)S"]
[{"$f":"\"INPUT NILAI CAPAIAN KOMPETENSI TP \"&MENU!I12","v":"INPUT NILAI CAPAIAN KOMPETENSI TP 2017 / 2018"},null,"                    NAMA MAPEL",{"$f":"HLOOKUP(MENU!$I$8&\" \"&$B$3,DATABASE!$X$2:$CK$92,DATABASE!W3,FALSE)","v":"Pendidikan Agama dan Budi Pekerti"},{"$f":"HLOOKUP(MENU!$I$8&\" \"&$B$3,DATABASE!$X$2:$CK$92,DATABASE!W4,FALSE)","v":"Pendidikan Agama dan Budi Pekerti"},{"$f":"HLOOKUP(MENU!$I$8&\" \"&$B$3,DATABASE!$X$2:$CK$92,DATABASE!W5,FALSE)","v":"Pendidikan Agama dan Budi Pekerti"},{"$f":"HLOOKUP(MENU!$I$8&\" \"&$B$3,DATABASE!$X$2:$CK$92,DATABASE!W6,FALSE)","v":"Pendidikan Pancasila dan Kewarganegaraan"},{"$f":"HLOOKUP(MENU!$I$8&\" \"&$B$3,DATABASE!$X$2:$CK$92,DATABASE!W7,FALSE)","v":"Pendidikan Pancasila dan Kewarganegaraan"},{"$f":"HLOOKUP(MENU!$I$8&\" \"&$B$3,DATABASE!$X$2:$CK$92,DATABASE!W8,FALSE)","v":"Pendidikan Pancasila dan Kewarganegaraan"},{"$f":"HLOOKUP(MENU!$I$8&\" \"&$B$3,DATABASE!$X$2:$CK$92,DATABASE!W9,FALSE)","v":"Bahasa Indonesia"},{"$f":"HLOOKUP(MENU!$I$8&\" \"&$B$3,DATABASE!$X$2:$CK$92,DATABASE!W10,FALSE)","v":"Bahasa Indonesia"},{"$f":"HLOOKUP(MENU!$I$8&\" \"&$B$3,DATABASE!$X$2:$CK$92,DATABASE!W11,FALSE)","v":"Bahasa Indonesia"},{"$f":"HLOOKUP(MENU!$I$8&\" \"&$B$3,DATABASE!$X$2:$CK$92,DATABASE!W12,FALSE)","v":"Matematika"},{"$f":"HLOOKUP(MENU!$I$8&\" \"&$B$3,DATABASE!$X$2:$CK$92,DATABASE!W13,FALSE)","v":"Matematika"},{"$f":"HLOOKUP(MENU!$I$8&\" \"&$B$3,DATABASE!$X$2:$CK$92,DATABASE!W14,FALSE)","v":"Matematika"},{"$f":"HLOOKUP(MENU!$I$8&\" \"&$B$3,DATABASE!$X$2:$CK$92,DATABASE!W15,FALSE)","v":"Sejarah Indonesia"},{"$f":"HLOOKUP(MENU!$I$8&\" \"&$B$3,DATABASE!$X$2:$CK$92,DATABASE!W16,FALSE)","v":"Sejarah Indonesia"},{"$f":"HLOOKUP(MENU!$I$8&\" \"&$B$3,DATABASE!$X$2:$CK$92,DATABASE!W17,FALSE)","v":"Sejarah Indonesia"},{"$f":"HLOOKUP(MENU!$I$8&\" \"&$B$3,DATABASE!$X$2:$CK$92,DATABASE!W18,FALSE)","v":"Bahasa Inggris"},{"$f":"HLOOKUP(MENU!$I$8&\" \"&$B$3,DATABASE!$X$2:$CK$92,DATABASE!W19,FALSE)","v":"Bahasa Inggris"},{"$f":"HLOOKUP(MENU!$I$8&\" \"&$B$3,DATABASE!$X$2:$CK$92,DATABASE!W20,FALSE)","v":"Bahasa Inggris"},{"$f":"HLOOKUP(MENU!$I$8&\" \"&$B$3,DATABASE!$X$2:$CK$92,DATABASE!W21,FALSE)","v":"Seni Budaya"},{"$f":"HLOOKUP(MENU!$I$8&\" \"&$B$3,DATABASE!$X$2:$CK$92,DATABASE!W22,FALSE)","v":"Seni Budaya"},{"$f":"HLOOKUP(MENU!$I$8&\" \"&$B$3,DATABASE!$X$2:$CK$92,DATABASE!W23,FALSE)","v":"Seni Budaya"},{"$f":"HLOOKUP(MENU!$I$8&\" \"&$B$3,DATABASE!$X$2:$CK$92,DATABASE!W24,FALSE)","v":"Pendidikan Jasmani, Olah Raga & Kesehatan"},{"$f":"HLOOKUP(MENU!$I$8&\" \"&$B$3,DATABASE!$X$2:$CK$92,DATABASE!W25,FALSE)","v":"Pendidikan Jasmani, Olah Raga & Kesehatan"},{"$f":"HLOOKUP(MENU!$I$8&\" \"&$B$3,DATABASE!$X$2:$CK$92,DATABASE!W26,FALSE)","v":"Pendidikan Jasmani, Olah Raga & Kesehatan"},{"$f":"HLOOKUP(MENU!$I$8&\" \"&$B$3,DATABASE!$X$2:$CK$92,DATABASE!W27,FALSE)","v":"Bahasa dan Sastra Sunda"},{"$f":"HLOOKUP(MENU!$I$8&\" \"&$B$3,DATABASE!$X$2:$CK$92,DATABASE!W28,FALSE)","v":"Bahasa dan Sastra Sunda"},{"$f":"HLOOKUP(MENU!$I$8&\" \"&$B$3,DATABASE!$X$2:$CK$92,DATABASE!W29,FALSE)","v":"Bahasa dan Sastra Sunda"},{"$f":"HLOOKUP(MENU!$I$8&\" \"&$B$3,DATABASE!$X$2:$CK$92,DATABASE!W30,FALSE)","v":"PLH"},{"$f":"HLOOKUP(MENU!$I$8&\" \"&$B$3,DATABASE!$X$2:$CK$92,DATABASE!W31,FALSE)","v":"PLH"},{"$f":"HLOOKUP(MENU!$I$8&\" \"&$B$3,DATABASE!$X$2:$CK$92,DATABASE!W32,FALSE)","v":"PLH"},{"$f":"HLOOKUP(MENU!$I$8&\" \"&$B$3,DATABASE!$X$2:$CK$92,DATABASE!W33,FALSE)","v":"Simulasi dan Komunikasi Digital"},{"$f":"HLOOKUP(MENU!$I$8&\" \"&$B$3,DATABASE!$X$2:$CK$92,DATABASE!W34,FALSE)","v":"Simulasi dan Komunikasi Digital"},{"$f":"HLOOKUP(MENU!$I$8&\" \"&$B$3,DATABASE!$X$2:$CK$92,DATABASE!W35,FALSE)","v":"Simulasi dan Komunikasi Digital"},{"$f":"HLOOKUP(MENU!$I$8&\" \"&$B$3,DATABASE!$X$2:$CK$92,DATABASE!W36,FALSE)","v":"Fisika"},{"$f":"HLOOKUP(MENU!$I$8&\" \"&$B$3,DATABASE!$X$2:$CK$92,DATABASE!W37,FALSE)","v":"Fisika"},{"$f":"HLOOKUP(MENU!$I$8&\" \"&$B$3,DATABASE!$X$2:$CK$92,DATABASE!W38,FALSE)","v":"Fisika"},{"$f":"HLOOKUP(MENU!$I$8&\" \"&$B$3,DATABASE!$X$2:$CK$92,DATABASE!W39,FALSE)","v":"Kimia"},{"$f":"HLOOKUP(MENU!$I$8&\" \"&$B$3,DATABASE!$X$2:$CK$92,DATABASE!W40,FALSE)","v":"Kimia"},{"$f":"HLOOKUP(MENU!$I$8&\" \"&$B$3,DATABASE!$X$2:$CK$92,DATABASE!W41,FALSE)","v":"Kimia"},{"$f":"HLOOKUP(MENU!$I$8&\" \"&$B$3,DATABASE!$X$2:$CK$92,DATABASE!W42,FALSE)","v":"Sistem Komputer"},{"$f":"HLOOKUP(MENU!$I$8&\" \"&$B$3,DATABASE!$X$2:$CK$92,DATABASE!W43,FALSE)","v":"Sistem Komputer"},{"$f":"HLOOKUP(MENU!$I$8&\" \"&$B$3,DATABASE!$X$2:$CK$92,DATABASE!W44,FALSE)","v":"Sistem Komputer"},{"$f":"HLOOKUP(MENU!$I$8&\" \"&$B$3,DATABASE!$X$2:$CK$92,DATABASE!W45,FALSE)","v":"Komputer dan Jaringan Dasar"},{"$f":"HLOOKUP(MENU!$I$8&\" \"&$B$3,DATABASE!$X$2:$CK$92,DATABASE!W46,FALSE)","v":"Komputer dan Jaringan Dasar"},{"$f":"HLOOKUP(MENU!$I$8&\" \"&$B$3,DATABASE!$X$2:$CK$92,DATABASE!W47,FALSE)","v":"Komputer dan Jaringan Dasar"},{"$f":"HLOOKUP(MENU!$I$8&\" \"&$B$3,DATABASE!$X$2:$CK$92,DATABASE!W48,FALSE)","v":"Pemrograman Dasar"},{"$f":"HLOOKUP(MENU!$I$8&\" \"&$B$3,DATABASE!$X$2:$CK$92,DATABASE!W49,FALSE)","v":"Pemrograman Dasar"},{"$f":"HLOOKUP(MENU!$I$8&\" \"&$B$3,DATABASE!$X$2:$CK$92,DATABASE!W50,FALSE)","v":"Pemrograman Dasar"},{"$f":"HLOOKUP(MENU!$I$8&\" \"&$B$3,DATABASE!$X$2:$CK$92,DATABASE!W51,FALSE)","v":"Dasar Desain Grafis"},{"$f":"HLOOKUP(MENU!$I$8&\" \"&$B$3,DATABASE!$X$2:$CK$92,DATABASE!W52,FALSE)","v":"Dasar Desain Grafis"},{"$f":"HLOOKUP(MENU!$I$8&\" \"&$B$3,DATABASE!$X$2:$CK$92,DATABASE!W53,FALSE)","v":"Dasar Desain Grafis"},{"$f":"HLOOKUP(MENU!$I$8&\" \"&$B$3,DATABASE!$X$2:$CK$92,DATABASE!W54,FALSE)","v":"-"},{"$f":"HLOOKUP(MENU!$I$8&\" \"&$B$3,DATABASE!$X$2:$CK$92,DATABASE!W55,FALSE)","v":"-"},{"$f":"HLOOKUP(MENU!$I$8&\" \"&$B$3,DATABASE!$X$2:$CK$92,DATABASE!W56,FALSE)","v":"-"},{"$f":"HLOOKUP(MENU!$I$8&\" \"&$B$3,DATABASE!$X$2:$CK$92,DATABASE!W57,FALSE)","v":"-"},{"$f":"HLOOKUP(MENU!$I$8&\" \"&$B$3,DATABASE!$X$2:$CK$92,DATABASE!W58,FALSE)","v":"-"},{"$f":"HLOOKUP(MENU!$I$8&\" \"&$B$3,DATABASE!$X$2:$CK$92,DATABASE!W59,FALSE)","v":"-"},{"$f":"HLOOKUP(MENU!$I$8&\" \"&$B$3,DATABASE!$X$2:$CK$92,DATABASE!W60,FALSE)","v":"-"},{"$f":"HLOOKUP(MENU!$I$8&\" \"&$B$3,DATABASE!$X$2:$CK$92,DATABASE!W61,FALSE)","v":"-"},{"$f":"HLOOKUP(MENU!$I$8&\" \"&$B$3,DATABASE!$X$2:$CK$92,DATABASE!W62,FALSE)","v":"-"},{"$f":"HLOOKUP(MENU!$I$8&\" \"&$B$3,DATABASE!$X$2:$CK$92,DATABASE!W63,FALSE)","v":"-"},{"$f":"HLOOKUP(MENU!$I$8&\" \"&$B$3,DATABASE!$X$2:$CK$92,DATABASE!W64,FALSE)","v":"-"},{"$f":"HLOOKUP(MENU!$I$8&\" \"&$B$3,DATABASE!$X$2:$CK$92,DATABASE!W65,FALSE)","v":"-"},{"$f":"HLOOKUP(MENU!$I$8&\" \"&$B$3,DATABASE!$X$2:$CK$92,DATABASE!W66,FALSE)","v":"-"},{"$f":"HLOOKUP(MENU!$I$8&\" \"&$B$3,DATABASE!$X$2:$CK$92,DATABASE!W67,FALSE)","v":"-"},{"$f":"HLOOKUP(MENU!$I$8&\" \"&$B$3,DATABASE!$X$2:$CK$92,DATABASE!W68,FALSE)","v":"-"},{"$f":"HLOOKUP(MENU!$I$8&\" \"&$B$3,DATABASE!$X$2:$CK$92,DATABASE!W69,FALSE)","v":"-"},{"$f":"HLOOKUP(MENU!$I$8&\" \"&$B$3,DATABASE!$X$2:$CK$92,DATABASE!W70,FALSE)","v":"-"},{"$f":"HLOOKUP(MENU!$I$8&\" \"&$B$3,DATABASE!$X$2:$CK$92,DATABASE!W71,FALSE)","v":"-"},{"$f":"HLOOKUP(MENU!$I$8&\" \"&$B$3,DATABASE!$X$2:$CK$92,DATABASE!W72,FALSE)","v":"-"},{"$f":"HLOOKUP(MENU!$I$8&\" \"&$B$3,DATABASE!$X$2:$CK$92,DATABASE!W73,FALSE)","v":"-"},{"$f":"HLOOKUP(MENU!$I$8&\" \"&$B$3,DATABASE!$X$2:$CK$92,DATABASE!W74,FALSE)","v":"-"},{"$f":"HLOOKUP(MENU!$I$8&\" \"&$B$3,DATABASE!$X$2:$CK$92,DATABASE!W75,FALSE)","v":"-"},{"$f":"HLOOKUP(MENU!$I$8&\" \"&$B$3,DATABASE!$X$2:$CK$92,DATABASE!W76,FALSE)","v":"-"},{"$f":"HLOOKUP(MENU!$I$8&\" \"&$B$3,DATABASE!$X$2:$CK$92,DATABASE!W77,FALSE)","v":"-"},{"$f":"HLOOKUP(MENU!$I$8&\" \"&$B$3,DATABASE!$X$2:$CK$92,DATABASE!W78,FALSE)","v":"-"},{"$f":"HLOOKUP(MENU!$I$8&\" \"&$B$3,DATABASE!$X$2:$CK$92,DATABASE!W79,FALSE)","v":"-"},{"$f":"HLOOKUP(MENU!$I$8&\" \"&$B$3,DATABASE!$X$2:$CK$92,DATABASE!W80,FALSE)","v":"-"},{"$f":"HLOOKUP(MENU!$I$8&\" \"&$B$3,DATABASE!$X$2:$CK$92,DATABASE!W81,FALSE)","v":"-"},{"$f":"HLOOKUP(MENU!$I$8&\" \"&$B$3,DATABASE!$X$2:$CK$92,DATABASE!W82,FALSE)","v":"-"},{"$f":"HLOOKUP(MENU!$I$8&\" \"&$B$3,DATABASE!$X$2:$CK$92,DATABASE!W83,FALSE)","v":"-"},{"$f":"HLOOKUP(MENU!$I$8&\" \"&$B$3,DATABASE!$X$2:$CK$92,DATABASE!W84,FALSE)","v":"-"},{"$f":"HLOOKUP(MENU!$I$8&\" \"&$B$3,DATABASE!$X$2:$CK$92,DATABASE!W85,FALSE)","v":"-"},{"$f":"HLOOKUP(MENU!$I$8&\" \"&$B$3,DATABASE!$X$2:$CK$92,DATABASE!W86,FALSE)","v":"-"},{"$f":"HLOOKUP(MENU!$I$8&\" \"&$B$3,DATABASE!$X$2:$CK$92,DATABASE!W87,FALSE)","v":"-"},{"$f":"HLOOKUP(MENU!$I$8&\" \"&$B$3,DATABASE!$X$2:$CK$92,DATABASE!W88,FALSE)","v":"-"},{"$f":"HLOOKUP(MENU!$I$8&\" \"&$B$3,DATABASE!$X$2:$CK$92,DATABASE!W89,FALSE)","v":"-"},{"$f":"HLOOKUP(MENU!$I$8&\" \"&$B$3,DATABASE!$X$2:$CK$92,DATABASE!W90,FALSE)","v":"-"},{"$f":"HLOOKUP(MENU!$I$8&\" \"&$B$3,DATABASE!$X$2:$CK$92,DATABASE!W91,FALSE)","v":"-"},{"$f":"HLOOKUP(MENU!$I$8&\" \"&$B$3,DATABASE!$X$2:$CK$92,DATABASE!W92,FALSE)","v":"-"},"NILAI BP/BK","NAMA TEMPAT PKL","LOKASI TEMPAT PKL","LAMA PKL (BULAN)","KET. NILAI PKL","NAMA TEMPAT PKL","LOKASI TEMPAT PKL","LAMA PKL (BULAN)","KET. NILAI PKL","NAMA ESKUL 1","NILAI ESKUL 1","NAMA ESKUL 2","NILAI ESKUL 2","NAMA ESKUL 3","NILAI ESKUL 3","JENIS PRESTASI 1","KET. NILAI PRESTASI 1","JENIS PRESTASI 2","KET. NILAI PRESTASI 2","SAKIT","IJIN","TANPA KETERANGAN","NILAI SIKAP SPIRITUAL (OTOMATIS)","NILAI SIKAP SOSIAL (OTOMATIS)","CEK JUMLAH MAPEL (HARUS SAMA)!","RATA-RATA PENGETAHUAN","RATA-RATA KETERAMPILAN","JUMLAH NILAI PENGETAHUAN","JUMLAH NILAI KETERAMPILAN","TOTAL NILAI","FORMULA PERINGKAT KELAS","PENENTUAN PERINGKAT OLEH WALI KELAS","JUMLAH SISWA DI KELAS","NAIK/TIDAK NAIK KELAS",null,null,null,null,null,"JANGAN EDIT DATA DI KOLOM INI KE BAWAH"]
["Semester :","2 (dua)","KELOMPOK MAPEL","A","A","A","A","A","A","A","A","A","A","A","A","A","A","A","A","A","A","B","B","B","B","B","B","B","B","B","B","B","B","C1","C1","C1","C1","C1","C1","C1","C1","C1","C2","C2","C2","C2","C2","C2","C2","C2","C2","C2","C2","C2","C3","C3","C3","C3","C3","C3","C3","C3","C3","C3","C3","C3","C3","C3","C3","C3","C3","C3","-",null,null,"-",null,null,"-",null,null,"-",null,null,"-",null,null,"-",null,null,"-",null,null,null,null,null,null,null,null,null,null,null,null,null,null,null,null,null,null,null,null,null,null,null,null,null,null,null,null,null,null,null,null,null,null,null,"ISI DENGAN \"NAIK KELAS\" ATAU \"TIDAK NAIK KELAS\"","Titimangsa Rapor :",null,null,null,null,null,1,2,3,4,5,6,7,8,9,10,11,12,13,14,15,16,17,18,19,20,21,22,23,24,25,26,27,28,29,30,31]
["Wali Kelas :",{"$f":"MENU!I18","v":"Sri Hartati,S.T"},"URUTAN MAPEL",1,1,1,2,2,2,3,3,3,4,4,4,5,5,5,6,6,6,1,1,1,2,2,2,3,3,3,4,4,4,1,1,1,2,2,2,3,3,3,4,4,4,5,5,5,6,6,6,7,7,7,1,1,1,2,2,2,3,3,3,4,4,4,5,5,5,6,6,6,"-",null,null,null,null,null,null,null,null,null,null,null,null,null,null,"-",null,null,"-",null,null,null,"KEGIATAN PKL",null,null,null,"KEGIATAN PKL",null,null,null,"KEGIATAN EKSTRAKURIKULER",null,null,null,null,null,"CATATAN PRESTASI",null,null,null,"KETIDAKHADIRAN",null,null,null,null,null,"RATA-RATA NILAI",null,"JUMLAH NILAI",null,null,null,"PERINGKAT KELAS",null,null,{"$f":"MENU!I17","v":"Karawang, 22 Juni 2018"},null,null,null,null,null,"KI-1  &  KI-2",null,"KI-2"]
[{"$f":"MENU!G19","v":"PegId"},{"$f":"MENU!I19","v":"20217802184001"},"KB",75,75,"B",75,75,"B",75,75,"B",75,75,"B",75,75,"B",75,75,"B",75,75,"B",75,75,"B",75,75,"B",75,75,"B",75,75,"B",75,75,"B",75,75,"B",75,75,"B",75,75,"B",75,75,"B",75,75,"B",75,75,"B",75,75,"B",75,75,"B",75,75,"B",75,75,"B",75,75,"B",75,75,"B",75,75,"B",75,75,"B",75,75,"B",75,75,"B",75,75,"B",75,75,"B"]
["NO. URUT","NAMA SISWA","NIS","P","K","S","P","K","S","P","K","S","P","K","S","P","K","S","P","K","S","P","K","S","P","K","S","P","K","S","P","K","S","P","K","S","P","K","S","P","K","S","P","K","S","P","K","S","P","K","S","P","K","S","P","K","S","P","K","S","P","K","S","P","K","S","P","K","S","P","K","S","P","K","S","P","K","S","P","K","S","P","K","S","P","K","S","P","K","S","P","K","S",null,null,null,null,null,null,null,null,null,null,null,null,null,null,null,null,null,null,null,null,null,null,null,null,null,null,null,null,null,null,null,"SILAHKAN DIISI MANUAL"]
[1,2,3,4,5,6,7,8,9,10,11,12,13,14,15,16,17,18,19,20,21,22,23,24,25,26,27,28,29,30,31,32,33,34,35,36,37,38,39,40,41,42,43,44,45,46,47,48,49,50,51,52,53,54,55,56,57,58,59,60,61,62,63,64,65,66,67,68,69,70,71,72,73,74,75,76,77,78,79,80,81,82,83,84,85,86,87,88,89,90,91,92,93,94,95,96,97,98,99,100,101,102,103,104,105,106,107,108,109,110,111,112,113,114,115,116,117,118,119,120,121,122,123,124,125,126,127]
[{"$f":"BIODATA!A5","v":1},{"$f":"BIODATA!C5","v":"AGHNIA SYAFIRA"},{"$f":"BIODATA!D5","v":13140767},75,75,"A",83.25,83.25,"A",75,75,"A",75,75,"A",75,75,"A",75,75,"A",91.75,75,"A",83.25,91.5,"A",91.5,91.5,"A",75,75,"A",75,75,"A",83.25,83.25,"A",83.25,75,"A",75,75,"B",75,75,"B",75,75,"D","-","-","-","-","-","-","-","-","-","-","-","-","-","-","-","-","-","-","-","-","-","-","-","-","-","-","-","-","-","-","-","-","-","-","-","-","-","-","-","-","-","-","B","PT.GS Battery Karawang Plant","Kawasan Industri Suryacipta, Karawang",3,"Sangat Baik","PT. Unitted Tractors Pandu Engineering","Jakarta",3,"Baik","OSIS","A","Palang Merah Remaja","B","Pramuka","B","Juara 2 Cerdas Cermat Tk. Kabupaten",null,"-","-",2,15,"-",{"$f":"FJ8","v":"A"},{"$f":"FL8","v":"A"},{"$f":"COUNT(D8:CN8)/2","v":16},{"$f":"IFERROR(ROUND(AVERAGE(D8,G8,J8,M8,P8,S8,V8,Y8,AB8,AE8,AH8,AK8,AN8,AQ8,AT8,AW8,AZ8,BC8,BF8,BI8,BL8,BO8,BR8,BU8,BX8,CA8,CD8,CG8,CJ8,CM8),0),\"-\")","v":79},{"$f":"IFERROR(ROUND(AVERAGE(E8,H8,K8,N8,Q8,T8,W8,Z8,AC8,AF8,AI8,AL8,AO8,AR8,AU8,AX8,BA8,BD8,BG8,BJ8,BM8,BP8,BS8,BV8,BY8,CB8,CE8,CH8,CK8,CN8),0),\"-\")","v":78},{"$f":"ROUND(SUM(D8,G8,J8,M8,P8,S8,V8,Y8,AB8,AE8,AH8,AK8,AN8,AQ8,AT8,AW8,AZ8,BC8,BF8,BI8,BL8,BO8,BR8,BU8,BX8,CA8,CD8,CG8,CJ8,CM8),0)","v":1266},{"$f":"ROUND(SUM(E8,H8,K8,N8,Q8,T8,W8,Z8,AC8,AF8,AI8,AL8,AO8,AR8,AU8,AX8,BA8,BD8,BG8,BJ8,BM8,BP8,BS8,BV8,BY8,CB8,CE8,CH8,CK8,CN8),0)","v":1250},{"$f":"SUM(DQ8:DR8)","v":2516},{"$f":"RANK(DS8,$DS$8:$DS$52,0)","v":5},null,{"$f":"COUNT($A$8:$A$52)","v":36},"TIDAK NAIK KELAS",null,null,null,null,null,null,{"$f":"IF(F8=\"A\",4,IF(F8=\"B\",3,IF(F8=\"C\",2,IF(F8=\"D\",1,\"-\"))))","v":4},{"$f":"IF(I8=\"A\",4,IF(I8=\"B\",3,IF(I8=\"C\",2,IF(I8=\"D\",1,\"-\"))))","v":4},{"$f":"IF(L8=\"A\",4,IF(L8=\"B\",3,IF(L8=\"C\",2,IF(L8=\"D\",1,\"-\"))))","v":4},{"$f":"IF(O8=\"A\",4,IF(O8=\"B\",3,IF(O8=\"C\",2,IF(O8=\"D\",1,\"-\"))))","v":4},{"$f":"IF(R8=\"A\",4,IF(R8=\"B\",3,IF(R8=\"C\",2,IF(R8=\"D\",1,\"-\"))))","v":4},{"$f":"IF(U8=\"A\",4,IF(U8=\"B\",3,IF(U8=\"C\",2,IF(U8=\"D\",1,\"-\"))))","v":4},{"$f":"IF(X8=\"A\",4,IF(X8=\"B\",3,IF(X8=\"C\",2,IF(X8=\"D\",1,\"-\"))))","v":4},{"$f":"IF(AA8=\"A\",4,IF(AA8=\"B\",3,IF(AA8=\"C\",2,IF(AA8=\"D\",1,\"-\"))))","v":4},{"$f":"IF(AD8=\"A\",4,IF(AD8=\"B\",3,IF(AD8=\"C\",2,IF(AD8=\"D\",1,\"-\"))))","v":4},{"$f":"IF(AG8=\"A\",4,IF(AG8=\"B\",3,IF(AG8=\"C\",2,IF(AG8=\"D\",1,\"-\"))))","v":4},{"$f":"IF(AJ8=\"A\",4,IF(AJ8=\"B\",3,IF(AJ8=\"C\",2,IF(AJ8=\"D\",1,\"-\"))))","v":4},{"$f":"IF(AM8=\"A\",4,IF(AM8=\"B\",3,IF(AM8=\"C\",2,IF(AM8=\"D\",1,\"-\"))))","v":4},{"$f":"IF(AP8=\"A\",4,IF(AP8=\"B\",3,IF(AP8=\"C\",2,IF(AP8=\"D\",1,\"-\"))))","v":4},{"$f":"IF(AS8=\"A\",4,IF(AS8=\"B\",3,IF(AS8=\"C\",2,IF(AS8=\"D\",1,\"-\"))))","v":3},{"$f":"IF(AV8=\"A\",4,IF(AV8=\"B\",3,IF(AV8=\"C\",2,IF(AV8=\"D\",1,\"-\"))))","v":3},{"$f":"IF(AY8=\"A\",4,IF(AY8=\"B\",3,IF(AY8=\"C\",2,IF(AY8=\"D\",1,\"-\"))))","v":1},{"$f":"IF(BB8=\"A\",4,IF(BB8=\"B\",3,IF(BB8=\"C\",2,IF(BB8=\"D\",1,\"-\"))))","v":"-"},{"$f":"IF(BE8=\"A\",4,IF(BE8=\"B\",3,IF(BE8=\"C\",2,IF(BE8=\"D\",1,\"-\"))))","v":"-"},{"$f":"IF(BH8=\"A\",4,IF(BH8=\"B\",3,IF(BH8=\"C\",2,IF(BH8=\"D\",1,\"-\"))))","v":"-"},{"$f":"IF(BD8=\"A\",4,IF(BD8=\"B\",3,IF(BD8=\"C\",2,IF(BD8=\"D\",1,\"-\"))))","v":"-"},{"$f":"IF(BN8=\"A\",4,IF(BN8=\"B\",3,IF(BN8=\"C\",2,IF(BN8=\"D\",1,\"-\"))))","v":"-"},{"$f":"IF(BQ8=\"A\",4,IF(BQ8=\"B\",3,IF(BQ8=\"C\",2,IF(BQ8=\"D\",1,\"-\"))))","v":"-"},{"$f":"IF(BT8=\"A\",4,IF(BT8=\"B\",3,IF(BT8=\"C\",2,IF(BT8=\"D\",1,\"-\"))))","v":"-"},{"$f":"IF(BW8=\"A\",4,IF(BW8=\"B\",3,IF(BW8=\"C\",2,IF(BW8=\"D\",1,\"-\"))))","v":"-"},{"$f":"IF(BZ8=\"A\",4,IF(BZ8=\"B\",3,IF(BZ8=\"C\",2,IF(BZ8=\"D\",1,\"-\"))))","v":"-"},{"$f":"IF(CC8=\"A\",4,IF(CC8=\"B\",3,IF(CC8=\"C\",2,IF(CC8=\"D\",1,\"-\"))))","v":"-"},{"$f":"IF(CF8=\"A\",4,IF(CF8=\"B\",3,IF(CF8=\"C\",2,IF(CF8=\"D\",1,\"-\"))))","v":"-"},{"$f":"IF(CI8=\"A\",4,IF(CI8=\"B\",3,IF(CI8=\"C\",2,IF(CI8=\"D\",1,\"-\"))))","v":"-"},{"$f":"IF(CL8=\"A\",4,IF(CL8=\"B\",3,IF(CL8=\"C\",2,IF(CL8=\"D\",1,\"-\"))))","v":"-"},{"$f":"IF(CO8=\"A\",4,IF(CO8=\"B\",3,IF(CO8=\"C\",2,IF(CO8=\"D\",1,\"-\"))))","v":"-"},{"$f":"IF(CP8=\"A\",4,IF(CP8=\"B\",3,IF(CP8=\"C\",2,IF(CP8=\"D\",1,\"-\"))))","v":3},{"$f":"IFERROR(ROUND(AVERAGE(ED8:EE8),0),\"\")","v":4},{"$f":"IFERROR(IF(FI8=4,\"A\",IF(FI8=3,\"B\",IF(FI8=2,\"C\",IF(FI8=1,\"D\",\"-\")))),\"-\")","v":"A"},{"$f":"IFERROR(MODE(ED8:FH8),\"-\")","v":4},{"$f":"IFERROR(IF(FK8=4,\"A\",IF(FK8=3,\"B\",IF(FK8=2,\"C\",IF(FK8=1,\"D\",\"-\")))),\"-\")","v":"A"}]
[{"$f":"BIODATA!A6","v":2},{"$f":"BIODATA!C6","v":"AL KINDI"},{"$f":"BIODATA!D6","v":13140768},75,75,"B",83.25,83.25,"B",75,75,"B",75,75,"B",75,75,"B",83.25,75,"B",91.75,83.25,"B",75,75,"B",83.25,91.5,"B",75,83.25,"B",75,75,"B",83.25,83.25,"B",83.25,75,"B",75,75,"B",83.25,83.25,"B",75,75,"B","-","-","-","-","-","-","-","-","-","-","-","-","-","-","-","-","-","-","-","-","-","-","-","-","-","-","-","-","-","-","-","-","-","-","-","-","-","-","-","-","-","-","A","Dinas Bina Marga","Karawang",3,"Baik","Dinas Perhubungan","Karawang",3,"Sangat Baik","Rohis","B","OSIS","B","Palang Merah Remaja","B","Juara 1 LKS Jawa Barat",null,"-","-",3,"-","-",{"$f":"FJ9","v":"B"},{"$f":"FL9","v":"B"},16,{"$f":"IFERROR(ROUND(AVERAGE(D9,G9,J9,M9,P9,S9,V9,Y9,AB9,AE9,AH9,AK9,AN9,AQ9,AT9,AW9,AZ9,BC9,BF9,BI9,BL9,BO9,BR9,BU9,BX9,CA9,CD9,CG9,CJ9,CM9),0),\"-\")","v":79},79,{"$f":"ROUND(SUM(D9,G9,J9,M9,P9,S9,V9,Y9,AB9,AE9,AH9,AK9,AN9,AQ9,AT9,AW9,AZ9,BC9,BF9,BI9,BL9,BO9,BR9,BU9,BX9,CA9,CD9,CG9,CJ9,CM9),0)","v":1266},{"$f":"ROUND(SUM(E9,H9,K9,N9,Q9,T9,W9,Z9,AC9,AF9,AI9,AL9,AO9,AR9,AU9,AX9,BA9,BD9,BG9,BJ9,BM9,BP9,BS9,BV9,BY9,CB9,CE9,CH9,CK9,CN9),0)","v":1258},{"$f":"SUM(DQ9:DR9)","v":2524},{"$f":"RANK(DS9,$DS$8:$DS$52,0)","v":3},null,{"$f":"COUNT($A$8:$A$52)","v":36},"NAIK KELAS",null,null,null,null,null,null,3,3,3,3,3,3,3,3,3,3,3,3,3,3,3,3,"-","-","-","-","-","-","-","-","-","-","-","-","-","-",4,{"$f":"IFERROR(ROUND(AVERAGE(ED9:EE9),0),\"\")","v":3},"B",{"$f":"IFERROR(MODE(ED9:FH9),\"-\")","v":3},{"$f":"IFERROR(IF(FK9=4,\"A\",IF(FK9=3,\"B\",IF(FK9=2,\"C\",IF(FK9=1,\"D\",\"-\")))),\"-\")","v":"B"}]
[{"$f":"BIODATA!A7","v":3},{"$f":"BIODATA!C7","v":"ALFIAN MULYADI NATA"},{"$f":"BIODATA!D7","v":13140769},75,75,"B",91.5,91.5,"B",75,75,"B",75,75,"B",83.25,83.25,"B",91.5,91.5,"B",91.5,83.25,"B",83.25,91.5,"B",91.5,91.5,"A",75,83.25,"B",75,75,"B",83.25,83.25,"B",83.25,75,"B",75,75,"B",83.25,83.25,"B",83.25,75,"B","-","-","-","-","-","-","-","-","-","-","-","-","-","-","-","-","-","-","-","-","-","-","-","-","-","-","-","-","-","-","-","-","-","-","-","-","-","-","-","-","-","-",null,"PT. Unitted Tractors Pandu Engineering","Jakarta",3,"Baik","PT.GS Battery Karawang Plant","Kawasan Industri Suryacipta, Karawang",3,"Baik","OSIS","B","Paskibra","B","Palang Merah Remaja","B",null,null,"-","-",5,"-","-","B","B",16,82,82,1316,1307,2623,2,null,36,"TIDAK NAIK KELAS",null,null,null,null,null,null,3,3,3,3,3,3,3,3,4,3,3,3,3,3,3,3,"-","-","-","-","-","-","-","-","-","-","-","-","-","-","-",3,"B",3,"B"]
[{"$f":"BIODATA!A8","v":4},{"$f":"BIODATA!C8","v":"ALFIANA WAHYU ATMADJA"},{"$f":"BIODATA!D8","v":13140770},75,75,"B",83.25,83.25,"B",75,75,"B",75,75,"B",75,75,"B",75,75,"B",91.5,75,"B",83.25,83.25,"B",83.25,91.5,"B",75,83.25,"B",75,75,"B",83.25,83.25,"B",83.25,75,"B",75,75,"B",75,83.25,"B",75,75,"B","-","-","-","-","-","-","-","-","-","-","-","-","-","-","-","-","-","-","-","-","-","-","-","-","-","-","-","-","-","-","-","-","-","-","-","-","-","-","-","-","-","-",null,"Dinas Perhubungan","Karawang",3,"Baik","PT. Astra Nippon Gasket Indonesia","KIIC, Karawang",3,"Baik","Paskibra","B","Volley","B","Paskibra","B",null,null,"-","-",1,2,3,"B","B",16,79,79,1258,1258,2516,5,null,36,"NAIK KELAS",null,null,null,null,null,null,3,3,3,3,3,3,3,3,3,3,3,3,3,3,3,3,"-","-","-","-","-","-","-","-","-","-","-","-","-","-","-",3,"B",3,"B"]
[{"$f":"BIODATA!A9","v":5},{"$f":"BIODATA!C9","v":"ASEP DODO ROHENDI"},{"$f":"BIODATA!D9","v":13140771},75,75,"B",83.25,83.25,"B",75,75,"B",75,75,"B",75,75,"B",83.25,75,"B",91.5,91.5,"B",83.25,83.25,"B",83.25,91.5,"B",75,83.25,"B",75,75,"B",75,75,"B",83.25,75,"B",75,75,"B",75,75,"B",83.25,75,"B","-","-","-","-","-","-","-","-","-","-","-","-","-","-","-","-","-","-","-","-","-","-","-","-","-","-","-","-","-","-","-","-","-","-","-","-","-","-","-","-","-","-",null,"PT.GS Battery Karawang Plant","Kawasan Industri Suryacipta, Karawang",3,"Baik","PT.GS Battery Karawang Plant","Kawasan Industri Suryacipta, Karawang",3,"Baik","OSIS","B","Sepakbola","B","Palang Merah Remaja","B",null,null,"-","-","-","-","-","B","B",16,79,79,1266,1258,2524,3,null,36,"NAIK KELAS",null,null,null,null,null,null,3,3,3,3,3,3,3,3,3,3,3,3,3,3,3,3,"-","-","-","-","-","-","-","-","-","-","-","-","-","-","-",3,"B",3,"B"]
[{"$f":"BIODATA!A10","v":6},{"$f":"BIODATA!C10","v":"BILLY RIZKI JHONATHAN"},{"$f":"BIODATA!D10","v":13140772},83.25,75,"B",91.5,91.5,"B",83.25,83.25,"B",83.25,83.25,"B",83.25,83.25,"B",91.75,91.5,"B",83.25,75,"B",83.25,91.5,"B",91.5,91.5,"B",83.25,83.25,"A",91.5,75,"B",75,75,"B",91.5,83.25,"B",75,75,"B",83.25,83.25,"B",83.25,83.25,"B","-","-","-","-","-","-","-","-","-","-","-","-","-","-","-","-","-","-","-","-","-","-","-","-","-","-","-","-","-","-","-","-","-","-","-","-","-","-","-","-","-","-",null,"PT. Astra Nippon Gasket Indonesia","KIIC, Karawang",3,"Baik","Badan Pertanahan Nasional Kab.Karawang","Karawang",3,"Baik","Karate","B","Palang Merah Remaja","B","Pramuka","B",null,null,"-","-","-","-","-","B","B",16,85,83,1357,1324,2681,1,2,36,"NAIK KELAS",null,null,null,null,null,null,3,3,3,3,3,3,3,3,3,4,3,3,3,3,3,3,"-","-","-","-","-","-","-","-","-","-","-","-","-","-","-",3,"B",3,"B"]
[{"$f":"BIODATA!A11","v":7},{"$f":"BIODATA!C11","v":"CAHYASARI RAMADHANTY"},{"$f":"BIODATA!D11","v":13140773},75,75,"B",83.25,83.25,"B",75,75,"B",75,75,"B",75,75,"B",75,75,"B",91.75,75,"B",83.25,91.5,"B",83.25,91.5,"B",75,83.25,"B",75,75,"B",75,75,"B",83.25,75,"B",75,75,"B",75,75,"B",75,75,"B","-","-","-","-","-","-","-","-","-","-","-","-","-","-","-","-","-","-","-","-","-","-","-","-","-","-","-","-","-","-","-","-","-","-","-","-","-","-","-","-","-","-",null,"PT.GS Battery Karawang Plant","Kawasan Industri Suryacipta, Karawang",3,"Baik","PT. Astra Nippon Gasket Indonesia","KIIC, Karawang",3,"Baik",null,null,null,null,null,null,null,null,"-","-","-","-","-","B","B",16,78,78,1250,1250,2500,7,null,36,"NAIK KELAS",null,null,null,null,null,null,3,3,3,3,3,3,3,3,3,3,3,3,3,3,3,3,"-","-","-","-","-","-","-","-","-","-","-","-","-","-","-",3,"B",3,"B"]
[{"$f":"BIODATA!A12","v":8},{"$f":"BIODATA!C12","v":0},{"$f":"BIODATA!D12","v":0},null,null,null,null,null,null,null,null,null,null,null,null,null,null,null,null,null,null,null,null,null,null,null,null,null,null,null,null,null,null,null,null,null,null,null,null,null,null,null,null,null,null,null,null,null,null,null,null,null,null,null,null,null,null,null,null,null,null,null,null,null,null,null,null,null,null,null,null,null,null,null,null,null,null,null,null,null,null,null,null,null,null,null,null,null,null,null,null,null,null,null,"Badan Pertanahan Nasional Kab.Karawang","Karawang",3,"Baik","PT. Multistrada Arah Sarana,Tbk","Bekasi",3,"Baik",null,null,null,null,null,null,null,null,"-","-","-","-","-","-","-",0,"-","-",0,0,0,8,null,36,"NAIK KELAS",null,null,null,null,null,null,"-","-","-","-","-","-","-","-","-","-","-","-","-","-","-","-","-","-","-","-","-","-","-","-","-","-","-","-","-","-","-","","-","-","-"]
[{"$f":"BIODATA!A13","v":9},{"$f":"BIODATA!C13","v":0},{"$f":"BIODATA!D13","v":0},null,null,null,null,null,null,null,null,null,null,null,null,null,null,null,null,null,null,null,null,null,null,null,null,null,null,null,null,null,null,null,null,null,null,null,null,null,null,null,null,null,null,null,null,null,null,null,null,null,null,null,null,null,null,null,null,null,null,null,null,null,null,null,null,null,null,null,null,null,null,null,null,null,null,null,null,null,null,null,null,null,null,null,null,null,null,null,null,null,null,null,"PT. Astra Nippon Gasket Indonesia","KIIC, Karawang",3,"Baik","PT.GS Battery Karawang Plant","Kawasan Industri Suryacipta, Karawang",3,"Baik",null,null,null,null,null,null,null,null,"-","-","-","-","-","-","-",0,"-","-",0,0,0,8,null,36,"NAIK KELAS",null,null,null,null,null,null,"-","-","-","-","-","-","-","-","-","-","-","-","-","-","-","-","-","-","-","-","-","-","-","-","-","-","-","-","-","-","-","","-","-","-"]
[{"$f":"BIODATA!A14","v":10},{"$f":"BIODATA!C14","v":0},{"$f":"BIODATA!D14","v":0},null,null,null,null,null,null,null,null,null,null,null,null,null,null,null,null,null,null,null,null,null,null,null,null,null,null,null,null,null,null,null,null,null,null,null,null,null,null,null,null,null,null,null,null,null,null,null,null,null,null,null,null,null,null,null,null,null,null,null,null,null,null,null,null,null,null,null,null,null,null,null,null,null,null,null,null,null,null,null,null,null,null,null,null,null,null,null,null,null,null,null,"PT. Multistrada Arah Sarana,Tbk","Bekasi",3,"Baik","Dinas Bina Marga","Karawang",3,"Baik",null,null,null,null,null,null,null,null,"-","-","-","-","-","-","-",0,"-","-",0,0,0,8,9,36,"NAIK KELAS",null,null,null,null,null,null,"-","-","-","-","-","-","-","-","-","-","-","-","-","-","-","-","-","-","-","-","-","-","-","-","-","-","-","-","-","-","-","","-","-","-"]
[{"$f":"BIODATA!A15","v":11},{"$f":"BIODATA!C15","v":0},{"$f":"BIODATA!D15","v":0},null,null,null,null,null,null,null,null,null,null,null,null,null,null,null,null,null,null,null,null,null,null,null,null,null,null,null,null,null,null,null,null,null,null,null,null,null,null,null,null,null,null,null,null,null,null,null,null,null,null,null,null,null,null,null,null,null,null,null,null,null,null,null,null,null,null,null,null,null,null,null,null,null,null,null,null,null,null,null,null,null,null,null,null,null,null,null,null,null,null,null,null,null,null,null,null,null,null,null,null,null,null,null,null,null,null,null,"-","-","-","-","-","-","-",0,"-","-",0,0,0,8,null,36,"NAIK KELAS",null,null,null,null,null,null,"-","-","-","-","-","-","-","-","-","-","-","-","-","-","-","-","-","-","-","-","-","-","-","-","-","-","-","-","-","-","-","","-","-","-"]
[{"$f":"BIODATA!A16","v":12},{"$f":"BIODATA!C16","v":0},{"$f":"BIODATA!D16","v":0},null,null,null,null,null,null,null,null,null,null,null,null,null,null,null,null,null,null,null,null,null,null,null,null,null,null,null,null,null,null,null,null,null,null,null,null,null,null,null,null,null,null,null,null,null,null,null,null,null,null,null,null,null,null,null,null,null,null,null,null,null,null,null,null,null,null,null,null,null,null,null,null,null,null,null,null,null,null,null,null,null,null,null,null,null,null,null,null,null,null,null,null,null,null,null,null,null,null,null,null,null,null,null,null,null,null,null,"-","-","-","-","-","-","-",0,"-","-",0,0,0,8,null,36,"NAIK KELAS",null,null,null,null,null,null,"-","-","-","-","-","-","-","-","-","-","-","-","-","-","-","-","-","-","-","-","-","-","-","-","-","-","-","-","-","-","-","","-","-","-"]
[{"$f":"BIODATA!A17","v":13},{"$f":"BIODATA!C17","v":0},{"$f":"BIODATA!D17","v":0},null,null,null,null,null,null,null,null,null,null,null,null,null,null,null,null,null,null,null,null,null,null,null,null,null,null,null,null,null,null,null,null,null,null,null,null,null,null,null,null,null,null,null,null,null,null,null,null,null,null,null,null,null,null,null,null,null,null,null,null,null,null,null,null,null,null,null,null,null,null,null,null,null,null,null,null,null,null,null,null,null,null,null,null,null,null,null,null,null,null,null,null,null,null,null,null,null,null,null,null,null,null,null,null,null,null,null,"-","-","-","-","-","-","-",0,"-","-",0,0,0,8,null,36,"NAIK KELAS",null,null,null,null,null,null,"-","-","-","-","-","-","-","-","-","-","-","-","-","-","-","-","-","-","-","-","-","-","-","-","-","-","-","-","-","-","-","","-","-","-"]
[{"$f":"BIODATA!A18","v":14},{"$f":"BIODATA!C18","v":0},{"$f":"BIODATA!D18","v":0},null,null,null,null,null,null,null,null,null,null,null,null,null,null,null,null,null,null,null,null,null,null,null,null,null,null,null,null,null,null,null,null,null,null,null,null,null,null,null,null,null,null,null,null,null,null,null,null,null,null,null,null,null,null,null,null,null,null,null,null,null,null,null,null,null,null,null,null,null,null,null,null,null,null,null,null,null,null,null,null,null,null,null,null,null,null,null,null,null,null,null,null,null,null,null,null,null,null,null,null,null,null,null,null,null,null,null,"-","-","-","-","-","-","-",0,"-","-",0,0,0,8,null,36,"NAIK KELAS",null,null,null,null,null,null,"-","-","-","-","-","-","-","-","-","-","-","-","-","-","-","-","-","-","-","-","-","-","-","-","-","-","-","-","-","-","-","","-","-","-"]
[{"$f":"BIODATA!A19","v":15},{"$f":"BIODATA!C19","v":0},{"$f":"BIODATA!D19","v":0},null,null,null,null,null,null,null,null,null,null,null,null,null,null,null,null,null,null,null,null,null,null,null,null,null,null,null,null,null,null,null,null,null,null,null,null,null,null,null,null,null,null,null,null,null,null,null,null,null,null,null,null,null,null,null,null,null,null,null,null,null,null,null,null,null,null,null,null,null,null,null,null,null,null,null,null,null,null,null,null,null,null,null,null,null,null,null,null,null,null,null,null,null,null,null,null,null,null,null,null,null,null,null,null,null,null,null,"-","-","-","-","-","-","-",0,"-","-",0,0,0,8,4,36,"NAIK KELAS",null,null,null,null,null,null,"-","-","-","-","-","-","-","-","-","-","-","-","-","-","-","-","-","-","-","-","-","-","-","-","-","-","-","-","-","-","-","","-","-","-"]
[{"$f":"BIODATA!A20","v":16},{"$f":"BIODATA!C20","v":0},{"$f":"BIODATA!D20","v":0},null,null,null,null,null,null,null,null,null,null,null,null,null,null,null,null,null,null,null,null,null,null,null,null,null,null,null,null,null,null,null,null,null,null,null,null,null,null,null,null,null,null,null,null,null,null,null,null,null,null,null,null,null,null,null,null,null,null,null,null,null,null,null,null,null,null,null,null,null,null,null,null,null,null,null,null,null,null,null,null,null,null,null,null,null,null,null,null,null,null,null,null,null,null,null,null,null,null,null,null,null,null,null,null,null,null,null,"-","-","-","-","-","-","-",0,"-","-",0,0,0,8,null,36,"NAIK KELAS",null,null,null,null,null,null,"-","-","-","-","-","-","-","-","-","-","-","-","-","-","-","-","-","-","-","-","-","-","-","-","-","-","-","-","-","-","-","","-","-","-"]
[{"$f":"BIODATA!A21","v":17},{"$f":"BIODATA!C21","v":0},{"$f":"BIODATA!D21","v":0},null,null,null,null,null,null,null,null,null,null,null,null,null,null,null,null,null,null,null,null,null,null,null,null,null,null,null,null,null,null,null,null,null,null,null,null,null,null,null,null,null,null,null,null,null,null,null,null,null,null,null,null,null,null,null,null,null,null,null,null,null,null,null,null,null,null,null,null,null,null,null,null,null,null,null,null,null,null,null,null,null,null,null,null,null,null,null,null,null,null,null,null,null,null,null,null,null,null,null,null,null,null,null,null,null,null,null,"-","-","-","-","-","-","-",0,"-","-",0,0,0,8,null,36,"NAIK KELAS",null,null,null,null,null,null,"-","-","-","-","-","-","-","-","-","-","-","-","-","-","-","-","-","-","-","-","-","-","-","-","-","-","-","-","-","-","-","","-","-","-"]
[{"$f":"BIODATA!A22","v":18},{"$f":"BIODATA!C22","v":0},{"$f":"BIODATA!D22","v":0},null,null,null,null,null,null,null,null,null,null,null,null,null,null,null,null,null,null,null,null,null,null,null,null,null,null,null,null,null,null,null,null,null,null,null,null,null,null,null,null,null,null,null,null,null,null,null,null,null,null,null,null,null,null,null,null,null,null,null,null,null,null,null,null,null,null,null,null,null,null,null,null,null,null,null,null,null,null,null,null,null,null,null,null,null,null,null,null,null,null,null,null,null,null,null,null,null,null,null,null,null,null,null,null,null,null,null,"-","-","-","-","-","-","-",0,"-","-",0,0,0,8,null,36,"NAIK KELAS",null,null,null,null,null,null,"-","-","-","-","-","-","-","-","-","-","-","-","-","-","-","-","-","-","-","-","-","-","-","-","-","-","-","-","-","-","-","","-","-","-"]
[{"$f":"BIODATA!A23","v":19},{"$f":"BIODATA!C23","v":0},{"$f":"BIODATA!D23","v":0},null,null,null,null,null,null,null,null,null,null,null,null,null,null,null,null,null,null,null,null,null,null,null,null,null,null,null,null,null,null,null,null,null,null,null,null,null,null,null,null,null,null,null,null,null,null,null,null,null,null,null,null,null,null,null,null,null,null,null,null,null,null,null,null,null,null,null,null,null,null,null,null,null,null,null,null,null,null,null,null,null,null,null,null,null,null,null,null,null,null,null,null,null,null,null,null,null,null,null,null,null,null,null,null,null,null,null,"-","-","-","-","-","-","-",0,"-","-",0,0,0,8,null,36,"NAIK KELAS",null,null,null,null,null,null,"-","-","-","-","-","-","-","-","-","-","-","-","-","-","-","-","-","-","-","-","-","-","-","-","-","-","-","-","-","-","-","","-","-","-"]
[{"$f":"BIODATA!A24","v":20},{"$f":"BIODATA!C24","v":0},{"$f":"BIODATA!D24","v":0},null,null,null,null,null,null,null,null,null,null,null,null,null,null,null,null,null,null,null,null,null,null,null,null,null,null,null,null,null,null,null,null,null,null,null,null,null,null,null,null,null,null,null,null,null,null,null,null,null,null,null,null,null,null,null,null,null,null,null,null,null,null,null,null,null,null,null,null,null,null,null,null,null,null,null,null,null,null,null,null,null,null,null,null,null,null,null,null,null,null,null,null,null,null,null,null,null,null,null,null,null,null,null,null,null,null,null,"-","-","-","-","-","-","-",0,"-","-",0,0,0,8,null,36,"NAIK KELAS",null,null,null,null,null,null,"-","-","-","-","-","-","-","-","-","-","-","-","-","-","-","-","-","-","-","-","-","-","-","-","-","-","-","-","-","-","-","","-","-","-"]
[{"$f":"BIODATA!A25","v":21},{"$f":"BIODATA!C25","v":0},{"$f":"BIODATA!D25","v":0},null,null,null,null,null,null,null,null,null,null,null,null,null,null,null,null,null,null,null,null,null,null,null,null,null,null,null,null,null,null,null,null,null,null,null,null,null,null,null,null,null,null,null,null,null,null,null,null,null,null,null,null,null,null,null,null,null,null,null,null,null,null,null,null,null,null,null,null,null,null,null,null,null,null,null,null,null,null,null,null,null,null,null,null,null,null,null,null,null,null,null,null,null,null,null,null,null,null,null,null,null,null,null,null,null,null,null,"-","-","-","-","-","-","-",0,"-","-",0,0,0,8,5,36,"NAIK KELAS",null,null,null,null,null,null,"-","-","-","-","-","-","-","-","-","-","-","-","-","-","-","-","-","-","-","-","-","-","-","-","-","-","-","-","-","-","-","","-","-","-"]
[{"$f":"BIODATA!A26","v":22},{"$f":"BIODATA!C26","v":0},{"$f":"BIODATA!D26","v":0},null,null,null,null,null,null,null,null,null,null,null,null,null,null,null,null,null,null,null,null,null,null,null,null,null,null,null,null,null,null,null,null,null,null,null,null,null,null,null,null,null,null,null,null,null,null,null,null,null,null,null,null,null,null,null,null,null,null,null,null,null,null,null,null,null,null,null,null,null,null,null,null,null,null,null,null,null,null,null,null,null,null,null,null,null,null,null,null,null,null,null,null,null,null,null,null,null,null,null,null,null,null,null,null,null,null,null,"-","-","-","-","-","-","-",0,"-","-",0,0,0,8,null,36,"NAIK KELAS",null,null,null,null,null,null,"-","-","-","-","-","-","-","-","-","-","-","-","-","-","-","-","-","-","-","-","-","-","-","-","-","-","-","-","-","-","-","","-","-","-"]
[{"$f":"BIODATA!A27","v":23},{"$f":"BIODATA!C27","v":0},{"$f":"BIODATA!D27","v":0},null,null,null,null,null,null,null,null,null,null,null,null,null,null,null,null,null,null,null,null,null,null,null,null,null,null,null,null,null,null,null,null,null,null,null,null,null,null,null,null,null,null,null,null,null,null,null,null,null,null,null,null,null,null,null,null,null,null,null,null,null,null,null,null,null,null,null,null,null,null,null,null,null,null,null,null,null,null,null,null,null,null,null,null,null,null,null,null,null,null,null,null,null,null,null,null,null,null,null,null,null,null,null,null,null,null,null,"-","-","-","-","-","-","-",0,"-","-",0,0,0,8,1,36,"NAIK KELAS",null,null,null,null,null,null,"-","-","-","-","-","-","-","-","-","-","-","-","-","-","-","-","-","-","-","-","-","-","-","-","-","-","-","-","-","-","-","","-","-","-"]
[{"$f":"BIODATA!A28","v":24},{"$f":"BIODATA!C28","v":0},{"$f":"BIODATA!D28","v":0},null,null,null,null,null,null,null,null,null,null,null,null,null,null,null,null,null,null,null,null,null,null,null,null,null,null,null,null,null,null,null,null,null,null,null,null,null,null,null,null,null,null,null,null,null,null,null,null,null,null,null,null,null,null,null,null,null,null,null,null,null,null,null,null,null,null,null,null,null,null,null,null,null,null,null,null,null,null,null,null,null,null,null,null,null,null,null,null,null,null,null,null,null,null,null,null,null,null,null,null,null,null,null,null,null,null,null,"-","-","-","-","-","-","-",0,"-","-",0,0,0,8,null,36,"NAIK KELAS",null,null,null,null,null,null,"-","-","-","-","-","-","-","-","-","-","-","-","-","-","-","-","-","-","-","-","-","-","-","-","-","-","-","-","-","-","-","","-","-","-"]
[{"$f":"BIODATA!A29","v":25},{"$f":"BIODATA!C29","v":0},{"$f":"BIODATA!D29","v":0},null,null,null,null,null,null,null,null,null,null,null,null,null,null,null,null,null,null,null,null,null,null,null,null,null,null,null,null,null,null,null,null,null,null,null,null,null,null,null,null,null,null,null,null,null,null,null,null,null,null,null,null,null,null,null,null,null,null,null,null,null,null,null,null,null,null,null,null,null,null,null,null,null,null,null,null,null,null,null,null,null,null,null,null,null,null,null,null,null,null,null,null,null,null,null,null,null,null,null,null,null,null,null,null,null,null,null,"-","-","-","-","-","-","-",0,"-","-",0,0,0,8,6,36,"NAIK KELAS",null,null,null,null,null,null,"-","-","-","-","-","-","-","-","-","-","-","-","-","-","-","-","-","-","-","-","-","-","-","-","-","-","-","-","-","-","-","","-","-","-"]
[{"$f":"BIODATA!A30","v":26},{"$f":"BIODATA!C30","v":0},{"$f":"BIODATA!D30","v":0},null,null,null,null,null,null,null,null,null,null,null,null,null,null,null,null,null,null,null,null,null,null,null,null,null,null,null,null,null,null,null,null,null,null,null,null,null,null,null,null,null,null,null,null,null,null,null,null,null,null,null,null,null,null,null,null,null,null,null,null,null,null,null,null,null,null,null,null,null,null,null,null,null,null,null,null,null,null,null,null,null,null,null,null,null,null,null,null,null,null,null,null,null,null,null,null,null,null,null,null,null,null,null,null,null,null,null,"-","-","-","-","-","-","-",0,"-","-",0,0,0,8,7,36,"NAIK KELAS",null,null,null,null,null,null,"-","-","-","-","-","-","-","-","-","-","-","-","-","-","-","-","-","-","-","-","-","-","-","-","-","-","-","-","-","-","-","","-","-","-"]
[{"$f":"BIODATA!A31","v":27},{"$f":"BIODATA!C31","v":0},{"$f":"BIODATA!D31","v":0},null,null,null,null,null,null,null,null,null,null,null,null,null,null,null,null,null,null,null,null,null,null,null,null,null,null,null,null,null,null,null,null,null,null,null,null,null,null,null,null,null,null,null,null,null,null,null,null,null,null,null,null,null,null,null,null,null,null,null,null,null,null,null,null,null,null,null,null,null,null,null,null,null,null,null,null,null,null,null,null,null,null,null,null,null,null,null,null,null,null,null,null,null,null,null,null,null,null,null,null,null,null,null,null,null,null,null,"-","-","-","-","-","-","-",0,"-","-",0,0,0,8,null,36,"NAIK KELAS",null,null,null,null,null,null,"-","-","-","-","-","-","-","-","-","-","-","-","-","-","-","-","-","-","-","-","-","-","-","-","-","-","-","-","-","-","-","","-","-","-"]
[{"$f":"BIODATA!A32","v":28},{"$f":"BIODATA!C32","v":0},{"$f":"BIODATA!D32","v":0},null,null,null,null,null,null,null,null,null,null,null,null,null,null,null,null,null,null,null,null,null,null,null,null,null,null,null,null,null,null,null,null,null,null,null,null,null,null,null,null,null,null,null,null,null,null,null,null,null,null,null,null,null,null,null,null,null,null,null,null,null,null,null,null,null,null,null,null,null,null,null,null,null,null,null,null,null,null,null,null,null,null,null,null,null,null,null,null,null,null,null,null,null,null,null,null,null,null,null,null,null,null,null,null,null,null,null,"-","-","-","-","-","-","-",0,"-","-",0,0,0,8,null,36,"NAIK KELAS",null,null,null,null,null,null,"-","-","-","-","-","-","-","-","-","-","-","-","-","-","-","-","-","-","-","-","-","-","-","-","-","-","-","-","-","-","-","","-","-","-"]
[{"$f":"BIODATA!A33","v":29},{"$f":"BIODATA!C33","v":0},{"$f":"BIODATA!D33","v":0},null,null,null,null,null,null,null,null,null,null,null,null,null,null,null,null,null,null,null,null,null,null,null,null,null,null,null,null,null,null,null,null,null,null,null,null,null,null,null,null,null,null,null,null,null,null,null,null,null,null,null,null,null,null,null,null,null,null,null,null,null,null,null,null,null,null,null,null,null,null,null,null,null,null,null,null,null,null,null,null,null,null,null,null,null,null,null,null,null,null,null,null,null,null,null,null,null,null,null,null,null,null,null,null,null,null,null,"-","-","-","-","-","-","-",0,"-","-",0,0,0,8,8,36,"NAIK KELAS",null,null,null,null,null,null,"-","-","-","-","-","-","-","-","-","-","-","-","-","-","-","-","-","-","-","-","-","-","-","-","-","-","-","-","-","-","-","","-","-","-"]
[{"$f":"BIODATA!A34","v":30},{"$f":"BIODATA!C34","v":0},{"$f":"BIODATA!D34","v":0},null,null,null,null,null,null,null,null,null,null,null,null,null,null,null,null,null,null,null,null,null,null,null,null,null,null,null,null,null,null,null,null,null,null,null,null,null,null,null,null,null,null,null,null,null,null,null,null,null,null,null,null,null,null,null,null,null,null,null,null,null,null,null,null,null,null,null,null,null,null,null,null,null,null,null,null,null,null,null,null,null,null,null,null,null,null,null,null,null,null,null,null,null,null,null,null,null,null,null,null,null,null,null,null,null,null,null,"-","-","-","-","-","-","-",0,"-","-",0,0,0,8,null,36,"NAIK KELAS",null,null,null,null,null,null,"-","-","-","-","-","-","-","-","-","-","-","-","-","-","-","-","-","-","-","-","-","-","-","-","-","-","-","-","-","-","-","","-","-","-"]
[{"$f":"BIODATA!A35","v":31},{"$f":"BIODATA!C35","v":0},{"$f":"BIODATA!D35","v":0},null,null,null,null,null,null,null,null,null,null,null,null,null,null,null,null,null,null,null,null,null,null,null,null,null,null,null,null,null,null,null,null,null,null,null,null,null,null,null,null,null,null,null,null,null,null,null,null,null,null,null,null,null,null,null,null,null,null,null,null,null,null,null,null,null,null,null,null,null,null,null,null,null,null,null,null,null,null,null,null,null,null,null,null,null,null,null,null,null,null,null,null,null,null,null,null,null,null,null,null,null,null,null,null,null,null,null,"-","-","-","-","-","-","-",0,"-","-",0,0,0,8,null,36,"NAIK KELAS",null,null,null,null,null,null,"-","-","-","-","-","-","-","-","-","-","-","-","-","-","-","-","-","-","-","-","-","-","-","-","-","-","-","-","-","-","-","","-","-","-"]
[{"$f":"BIODATA!A36","v":32},{"$f":"BIODATA!C36","v":0},{"$f":"BIODATA!D36","v":0},null,null,null,null,null,null,null,null,null,null,null,null,null,null,null,null,null,null,null,null,null,null,null,null,null,null,null,null,null,null,null,null,null,null,null,null,null,null,null,null,null,null,null,null,null,null,null,null,null,null,null,null,null,null,null,null,null,null,null,null,null,null,null,null,null,null,null,null,null,null,null,null,null,null,null,null,null,null,null,null,null,null,null,null,null,null,null,null,null,null,null,null,null,null,null,null,null,null,null,null,null,null,null,null,null,null,null,"-","-","-","-","-","-","-",0,"-","-",0,0,0,8,null,36,"NAIK KELAS",null,null,null,null,null,null,"-","-","-","-","-","-","-","-","-","-","-","-","-","-","-","-","-","-","-","-","-","-","-","-","-","-","-","-","-","-","-","","-","-","-"]
[{"$f":"BIODATA!A37","v":33},{"$f":"BIODATA!C37","v":0},{"$f":"BIODATA!D37","v":0},null,null,null,null,null,null,null,null,null,null,null,null,null,null,null,null,null,null,null,null,null,null,null,null,null,null,null,null,null,null,null,null,null,null,null,null,null,null,null,null,null,null,null,null,null,null,null,null,null,null,null,null,null,null,null,null,null,null,null,null,null,null,null,null,null,null,null,null,null,null,null,null,null,null,null,null,null,null,null,null,null,null,null,null,null,null,null,null,null,null,null,null,null,null,null,null,null,null,null,null,null,null,null,null,null,null,null,"-","-","-","-","-","-","-",0,"-","-",0,0,0,8,null,36,"NAIK KELAS",null,null,null,null,null,null,"-","-","-","-","-","-","-","-","-","-","-","-","-","-","-","-","-","-","-","-","-","-","-","-","-","-","-","-","-","-","-","","-","-","-"]
[{"$f":"BIODATA!A38","v":34},{"$f":"BIODATA!C38","v":0},{"$f":"BIODATA!D38","v":0},null,null,null,null,null,null,null,null,null,null,null,null,null,null,null,null,null,null,null,null,null,null,null,null,null,null,null,null,null,null,null,null,null,null,null,null,null,null,null,null,null,null,null,null,null,null,null,null,null,null,null,null,null,null,null,null,null,null,null,null,null,null,null,null,null,null,null,null,null,null,null,null,null,null,null,null,null,null,null,null,null,null,null,null,null,null,null,null,null,null,null,null,null,null,null,null,null,null,null,null,null,null,null,null,null,null,null,"-","-","-","-","-","-","-",0,"-","-",0,0,0,8,null,36,"NAIK KELAS",null,null,null,null,null,null,"-","-","-","-","-","-","-","-","-","-","-","-","-","-","-","-","-","-","-","-","-","-","-","-","-","-","-","-","-","-","-","","-","-","-"]
[{"$f":"BIODATA!A39","v":35},{"$f":"BIODATA!C39","v":0},{"$f":"BIODATA!D39","v":0},null,null,null,null,null,null,null,null,null,null,null,null,null,null,null,null,null,null,null,null,null,null,null,null,null,null,null,null,null,null,null,null,null,null,null,null,null,null,null,null,null,null,null,null,null,null,null,null,null,null,null,null,null,null,null,null,null,null,null,null,null,null,null,null,null,null,null,null,null,null,null,null,null,null,null,null,null,null,null,null,null,null,null,null,null,null,null,null,null,null,null,null,null,null,null,null,null,null,null,null,null,null,null,null,null,null,null,"-","-","-","-","-","-","-",0,"-","-",0,0,0,8,null,36,"NAIK KELAS",null,null,null,null,null,null,"-","-","-","-","-","-","-","-","-","-","-","-","-","-","-","-","-","-","-","-","-","-","-","-","-","-","-","-","-","-","-","","-","-","-"]
[{"$f":"BIODATA!A40","v":36},{"$f":"BIODATA!C40","v":0},{"$f":"BIODATA!D40","v":0},null,null,null,null,null,null,null,null,null,null,null,null,null,null,null,null,null,null,null,null,null,null,null,null,null,null,null,null,null,null,null,null,null,null,null,null,null,null,null,null,null,null,null,null,null,null,null,null,null,null,null,null,null,null,null,null,null,null,null,null,null,null,null,null,null,null,null,null,null,null,null,null,null,null,null,null,null,null,null,null,null,null,null,null,null,null,null,null,null,null,null,null,null,null,null,null,null,null,null,null,null,null,null,null,null,null,null,"-","-","-","-","-","-","-",0,"-","-",0,0,0,8,null,36,"NAIK KELAS",null,null,null,null,null,null,"-","-","-","-","-","-","-","-","-","-","-","-","-","-","-","-","-","-","-","-","-","-","-","-","-","-","-","-","-","-","-","","-","-","-"]
[{"$f":"BIODATA!A41","v":"-"},{"$f":"BIODATA!C41","v":0},{"$f":"BIODATA!D41","v":0},"-","-","-","-","-","-","-","-","-","-","-","-","-","-","-","-","-","-","-","-","-","-","-","-","-","-","-","-","-","-","-","-","-","-","-","-","-","-","-","-","-","-","-","-","-","-","-","-","-","-","-","-","-","-","-","-","-","-","-","-","-","-","-","-","-","-","-","-","-","-","-","-","-","-","-","-","-","-","-","-","-","-","-","-","-","-","-","-","-","-","-",null,null,null,null,null,null,null,null,null,null,null,null,null,null,null,null,"-","-","-","-","-","-","-",0,"-","-",0,0,0,8,null,36,"NAIK KELAS",null,null,null,null,null,null,"-","-","-","-","-","-","-","-","-","-","-","-","-","-","-","-","-","-","-","-","-","-","-","-","-","-","-","-","-","-","-","","-","-","-"]
[{"$f":"BIODATA!A42","v":"-"},{"$f":"BIODATA!C42","v":0},{"$f":"BIODATA!D42","v":0},"-","-","-","-","-","-","-","-","-","-","-","-","-","-","-","-","-","-","-","-","-","-","-","-","-","-","-","-","-","-","-","-","-","-","-","-","-","-","-","-","-","-","-","-","-","-","-","-","-","-","-","-","-","-","-","-","-","-","-","-","-","-","-","-","-","-","-","-","-","-","-","-","-","-","-","-","-","-","-","-","-","-","-","-","-","-","-","-","-","-","-",null,null,null,null,null,null,null,null,null,null,null,null,null,null,null,null,"-","-","-","-","-","-","-",0,"-","-",0,0,0,8,3,36,"NAIK KELAS",null,null,null,null,null,null,"-","-","-","-","-","-","-","-","-","-","-","-","-","-","-","-","-","-","-","-","-","-","-","-","-","-","-","-","-","-","-","","-","-","-"]
[{"$f":"BIODATA!A43","v":"-"},{"$f":"BIODATA!C43","v":0},{"$f":"BIODATA!D43","v":0},"-","-","-","-","-","-","-","-","-","-","-","-","-","-","-","-","-","-","-","-","-","-","-","-","-","-","-","-","-","-","-","-","-","-","-","-","-","-","-","-","-","-","-","-","-","-","-","-","-","-","-","-","-","-","-","-","-","-","-","-","-","-","-","-","-","-","-","-","-","-","-","-","-","-","-","-","-","-","-","-","-","-","-","-","-","-","-","-","-","-","-",null,null,null,null,null,null,null,null,null,null,null,null,null,null,null,null,"-","-","-","-","-","-","-",0,"-","-",0,0,0,8,10,36,"NAIK KELAS",null,null,null,null,null,null,"-","-","-","-","-","-","-","-","-","-","-","-","-","-","-","-","-","-","-","-","-","-","-","-","-","-","-","-","-","-","-","","-","-","-"]
[{"$f":"BIODATA!A44","v":"-"},{"$f":"BIODATA!C44","v":0},{"$f":"BIODATA!D44","v":0},"-","-","-","-","-","-","-","-","-","-","-","-","-","-","-","-","-","-","-","-","-","-","-","-","-","-","-","-","-","-","-","-","-","-","-","-","-","-","-","-","-","-","-","-","-","-","-","-","-","-","-","-","-","-","-","-","-","-","-","-","-","-","-","-","-","-","-","-","-","-","-","-","-","-","-","-","-","-","-","-","-","-","-","-","-","-","-","-","-","-","-",null,null,null,null,null,null,null,null,null,null,null,null,null,null,null,null,"-","-","-","-","-","-","-",0,"-","-",0,0,0,8,null,36,"NAIK KELAS",null,null,null,null,null,null,"-","-","-","-","-","-","-","-","-","-","-","-","-","-","-","-","-","-","-","-","-","-","-","-","-","-","-","-","-","-","-","","-","-","-"]
[{"$f":"BIODATA!A45","v":"-"},{"$f":"BIODATA!C45","v":0},{"$f":"BIODATA!D45","v":0},"-","-","-","-","-","-","-","-","-","-","-","-","-","-","-","-","-","-","-","-","-","-","-","-","-","-","-","-","-","-","-","-","-","-","-","-","-","-","-","-","-","-","-","-","-","-","-","-","-","-","-","-","-","-","-","-","-","-","-","-","-","-","-","-","-","-","-","-","-","-","-","-","-","-","-","-","-","-","-","-","-","-","-","-","-","-","-","-","-","-","-",null,null,null,null,null,null,null,null,null,null,null,null,null,null,null,null,"-","-","-","-","-","-","-",0,"-","-",0,0,0,8,null,36,"NAIK KELAS",null,null,null,null,null,null,"-","-","-","-","-","-","-","-","-","-","-","-","-","-","-","-","-","-","-","-","-","-","-","-","-","-","-","-","-","-","-","","-","-","-"]
[{"$f":"BIODATA!A46","v":"-"},{"$f":"BIODATA!C46","v":0},{"$f":"BIODATA!D46","v":0},"-","-","-","-","-","-","-","-","-","-","-","-","-","-","-","-","-","-","-","-","-","-","-","-","-","-","-","-","-","-","-","-","-","-","-","-","-","-","-","-","-","-","-","-","-","-","-","-","-","-","-","-","-","-","-","-","-","-","-","-","-","-","-","-","-","-","-","-","-","-","-","-","-","-","-","-","-","-","-","-","-","-","-","-","-","-","-","-","-","-","-",null,null,null,null,null,null,null,null,null,null,null,null,null,null,null,null,"-","-","-","-","-","-","-",0,"-","-",0,0,0,8,null,36,null,null,null,null,null,null,null,"-","-","-","-","-","-","-","-","-","-","-","-","-","-","-","-","-","-","-","-","-","-","-","-","-","-","-","-","-","-","-","","-","-","-"]
[{"$f":"BIODATA!A47","v":"-"},{"$f":"BIODATA!C47","v":0},{"$f":"BIODATA!D47","v":0},"-","-","-","-","-","-","-","-","-","-","-","-","-","-","-","-","-","-","-","-","-","-","-","-","-","-","-","-","-","-","-","-","-","-","-","-","-","-","-","-","-","-","-","-","-","-","-","-","-","-","-","-","-","-","-","-","-","-","-","-","-","-","-","-","-","-","-","-","-","-","-","-","-","-","-","-","-","-","-","-","-","-","-","-","-","-","-","-","-","-","-",null,null,null,null,null,null,null,null,null,null,null,null,null,null,null,null,"-","-","-","-","-","-","-",0,"-","-",0,0,0,8,null,36,null,null,null,null,null,null,null,"-","-","-","-","-","-","-","-","-","-","-","-","-","-","-","-","-","-","-","-","-","-","-","-","-","-","-","-","-","-","-","","-","-","-"]
[{"$f":"BIODATA!A48","v":"-"},{"$f":"BIODATA!C48","v":0},{"$f":"BIODATA!D48","v":0},"-","-","-","-","-","-","-","-","-","-","-","-","-","-","-","-","-","-","-","-","-","-","-","-","-","-","-","-","-","-","-","-","-","-","-","-","-","-","-","-","-","-","-","-","-","-","-","-","-","-","-","-","-","-","-","-","-","-","-","-","-","-","-","-","-","-","-","-","-","-","-","-","-","-","-","-","-","-","-","-","-","-","-","-","-","-","-","-","-","-","-",null,null,null,null,null,null,null,null,null,null,null,null,null,null,null,null,"-","-","-","-","-","-","-",0,"-","-",0,0,0,8,null,36,null,null,null,null,null,null,null,"-","-","-","-","-","-","-","-","-","-","-","-","-","-","-","-","-","-","-","-","-","-","-","-","-","-","-","-","-","-","-","","-","-","-"]
[{"$f":"BIODATA!A49","v":"-"},{"$f":"BIODATA!C49","v":0},{"$f":"BIODATA!D49","v":0},"-","-","-","-","-","-","-","-","-","-","-","-","-","-","-","-","-","-","-","-","-","-","-","-","-","-","-","-","-","-","-","-","-","-","-","-","-","-","-","-","-","-","-","-","-","-","-","-","-","-","-","-","-","-","-","-","-","-","-","-","-","-","-","-","-","-","-","-","-","-","-","-","-","-","-","-","-","-","-","-","-","-","-","-","-","-","-","-","-","-","-",null,null,null,null,null,null,null,null,null,null,null,null,null,null,null,null,"-","-","-","-","-","-","-",0,"-","-",0,0,0,8,null,36,null,null,null,null,null,null,null,"-","-","-","-","-","-","-","-","-","-","-","-","-","-","-","-","-","-","-","-","-","-","-","-","-","-","-","-","-","-","-","","-","-","-"]
[]
[]
[]
[]
[]
[]
[]
[]
[]
[]
[]
[]
[null,null,null,3.59]
[null,null,null,3.59]
[null,null,null,3.5]
[null,null,null,3.48]
[null,null,null,3.54]
[null,null,null,3.39]
[null,null,null,3.45]
[null,null,null,3.45]
[null,null,null,3.29]
[null,null,null,3.45]
[null,null,null,3.45]
[null,null,null,3.45]

{"sheet":"NILSM3","index":30,"n_rows":76,"n_cols":168,"rows_kept":76,"cut":false,"hidden":false,"merged":[[3,87,3,89],[3,124,4,124],[3,133,5,134],[3,135,5,163],[3,90,3,92],[3,94,4,97],[3,98,4,101],[3,118,4,119],[3,120,4,122],[3,108,4,111],[3,112,4,114],[3,102,4,107],[3,75,3,77],[3,78,3,80],[3,72,3,74],[3,81,3,83],[3,84,3,86],[1,132,1,168],[1,0,1,1],[2,90,2,92],[2,75,2,77],[2,78,2,80],[2,81,2,83],[2,84,2,86],[2,87,2,89],[2,72,2,74]]}
[null,null,null,{"$f":"$B$3&D3&D4&D6","v":"3 (tiga)A1P"},{"$f":"$B$3&E3&E4&E6","v":"3 (tiga)A1K"},"3 (tiga)A1S","3 (tiga)A2P","3 (tiga)A2K","3 (tiga)A2S","3 (tiga)A3P","3 (tiga)A3K","3 (tiga)A3S","3 (tiga)A4P","3 (tiga)A4K","3 (tiga)A4S","3 (tiga)A-P","3 (tiga)A-K","3 (tiga)A-S","3 (tiga)A5P","3 (tiga)A5K","3 (tiga)A5S","3 (tiga)B-P","3 (tiga)B-K","3 (tiga)B-S","3 (tiga)B1P","3 (tiga)B1K","3 (tiga)B1S","3 (tiga)B-P","3 (tiga)B-K","3 (tiga)B-S","3 (tiga)B2P","3 (tiga)B2K","3 (tiga)B2S","3 (tiga)C11P","3 (tiga)C11K","3 (tiga)C11S","3 (tiga)C12P","3 (tiga)C12K","3 (tiga)C12S","3 (tiga)C13P","3 (tiga)C13K","3 (tiga)C13S","3 (tiga)C21P","3 (tiga)C21K","3 (tiga)C21S","3 (tiga)C22P","3 (tiga)C22K","3 (tiga)C22S","3 (tiga)C23P","3 (tiga)C23K","3 (tiga)C23S","3 (tiga)C24P","3 (tiga)C24K","3 (tiga)C24S","3 (tiga)C31P","3 (tiga)C31K","3 (tiga)C31S","3 (tiga)C32P","3 (tiga)C32K","3 (tiga)C32S","3 (tiga)C33P","3 (tiga)C33K","3 (tiga)C33S","3 (tiga)C34P","3 (tiga)C34K","3 (tiga)C34S","3 (tiga)C35P","3 (tiga)C35K",{"$f":"$B$3&BQ3&BQ4&BQ6","v":"3 (tiga)C35S"},"3 (tiga)C36P","3 (tiga)C36K","3 (tiga)C36S","3 (tiga)--P","3 (tiga)K","3 (tiga)S","3 (tiga)-P","3 (tiga)K","3 (tiga)S","3 (tiga)-P","3 (tiga)K","3 (tiga)S","3 (tiga)-P","3 (tiga)K","3 (tiga)S","3 (tiga)-1P","3 (tiga)K","3 (tiga)S","3 (tiga)--P","3 (tiga)K","3 (tiga)S","3 (tiga)--P","3 (tiga)K","3 (tiga)S"]
[{"$f":"\"INPUT NILAI CAPAIAN KOMPETENSI TP \"&MENU!P12","v":"INPUT NILAI CAPAIAN KOMPETENSI TP 2018 / 2019"},null,"                    NAMA MAPEL",{"$f":"HLOOKUP(MENU!$I$8&\" \"&$B$3,DATABASE!$X$2:$CK$92,DATABASE!W3,FALSE)","v":"Pendidikan Agama dan Budi Pekerti"},{"$f":"HLOOKUP(MENU!$I$8&\" \"&$B$3,DATABASE!$X$2:$CK$92,DATABASE!W4,FALSE)","v":"Pendidikan Agama dan Budi Pekerti"},{"$f":"HLOOKUP(MENU!$I$8&\" \"&$B$3,DATABASE!$X$2:$CK$92,DATABASE!W5,FALSE)","v":"Pendidikan Agama dan Budi Pekerti"},{"$f":"HLOOKUP(MENU!$I$8&\" \"&$B$3,DATABASE!$X$2:$CK$92,DATABASE!W6,FALSE)","v":"Pendidikan Pancasila dan Kewarganegaraan"},{"$f":"HLOOKUP(MENU!$I$8&\" \"&$B$3,DATABASE!$X$2:$CK$92,DATABASE!W7,FALSE)","v":"Pendidikan Pancasila dan Kewarganegaraan"},{"$f":"HLOOKUP(MENU!$I$8&\" \"&$B$3,DATABASE!$X$2:$CK$92,DATABASE!W8,FALSE)","v":"Pendidikan Pancasila dan Kewarganegaraan"},{"$f":"HLOOKUP(MENU!$I$8&\" \"&$B$3,DATABASE!$X$2:$CK$92,DATABASE!W9,FALSE)","v":"Bahasa Indonesia"},{"$f":"HLOOKUP(MENU!$I$8&\" \"&$B$3,DATABASE!$X$2:$CK$92,DATABASE!W10,FALSE)","v":"Bahasa Indonesia"},{"$f":"HLOOKUP(MENU!$I$8&\" \"&$B$3,DATABASE!$X$2:$CK$92,DATABASE!W11,FALSE)","v":"Bahasa Indonesia"},{"$f":"HLOOKUP(MENU!$I$8&\" \"&$B$3,DATABASE!$X$2:$CK$92,DATABASE!W12,FALSE)","v":"Matematika"},{"$f":"HLOOKUP(MENU!$I$8&\" \"&$B$3,DATABASE!$X$2:$CK$92,DATABASE!W13,FALSE)","v":"Matematika"},{"$f":"HLOOKUP(MENU!$I$8&\" \"&$B$3,DATABASE!$X$2:$CK$92,DATABASE!W14,FALSE)","v":"Matematika"},{"$f":"HLOOKUP(MENU!$I$8&\" \"&$B$3,DATABASE!$X$2:$CK$92,DATABASE!W15,FALSE)","v":"-"},{"$f":"HLOOKUP(MENU!$I$8&\" \"&$B$3,DATABASE!$X$2:$CK$92,DATABASE!W16,FALSE)","v":"-"},{"$f":"HLOOKUP(MENU!$I$8&\" \"&$B$3,DATABASE!$X$2:$CK$92,DATABASE!W17,FALSE)","v":"-"},{"$f":"HLOOKUP(MENU!$I$8&\" \"&$B$3,DATABASE!$X$2:$CK$92,DATABASE!W18,FALSE)","v":"Bahasa Inggris"},{"$f":"HLOOKUP(MENU!$I$8&\" \"&$B$3,DATABASE!$X$2:$CK$92,DATABASE!W19,FALSE)","v":"Bahasa Inggris"},{"$f":"HLOOKUP(MENU!$I$8&\" \"&$B$3,DATABASE!$X$2:$CK$92,DATABASE!W20,FALSE)","v":"Bahasa Inggris"},{"$f":"HLOOKUP(MENU!$I$8&\" \"&$B$3,DATABASE!$X$2:$CK$92,DATABASE!W21,FALSE)","v":"-"},{"$f":"HLOOKUP(MENU!$I$8&\" \"&$B$3,DATABASE!$X$2:$CK$92,DATABASE!W22,FALSE)","v":"-"},{"$f":"HLOOKUP(MENU!$I$8&\" \"&$B$3,DATABASE!$X$2:$CK$92,DATABASE!W23,FALSE)","v":"-"},{"$f":"HLOOKUP(MENU!$I$8&\" \"&$B$3,DATABASE!$X$2:$CK$92,DATABASE!W24,FALSE)","v":"Pendidikan Jasmani, Olah Raga & Kesehatan"},{"$f":"HLOOKUP(MENU!$I$8&\" \"&$B$3,DATABASE!$X$2:$CK$92,DATABASE!W25,FALSE)","v":"Pendidikan Jasmani, Olah Raga & Kesehatan"},{"$f":"HLOOKUP(MENU!$I$8&\" \"&$B$3,DATABASE!$X$2:$CK$92,DATABASE!W26,FALSE)","v":"Pendidikan Jasmani, Olah Raga & Kesehatan"},{"$f":"HLOOKUP(MENU!$I$8&\" \"&$B$3,DATABASE!$X$2:$CK$92,DATABASE!W27,FALSE)","v":"-"},{"$f":"HLOOKUP(MENU!$I$8&\" \"&$B$3,DATABASE!$X$2:$CK$92,DATABASE!W28,FALSE)","v":"-"},{"$f":"HLOOKUP(MENU!$I$8&\" \"&$B$3,DATABASE!$X$2:$CK$92,DATABASE!W29,FALSE)","v":"-"},{"$f":"HLOOKUP(MENU!$I$8&\" \"&$B$3,DATABASE!$X$2:$CK$92,DATABASE!W30,FALSE)","v":"Bahasa Jepang"},{"$f":"HLOOKUP(MENU!$I$8&\" \"&$B$3,DATABASE!$X$2:$CK$92,DATABASE!W31,FALSE)","v":"Bahasa Jepang"},{"$f":"HLOOKUP(MENU!$I$8&\" \"&$B$3,DATABASE!$X$2:$CK$92,DATABASE!W32,FALSE)","v":"Bahasa Jepang"},{"$f":"HLOOKUP(MENU!$I$8&\" \"&$B$3,DATABASE!$X$2:$CK$92,DATABASE!W33,FALSE)","v":"-"},{"$f":"HLOOKUP(MENU!$I$8&\" \"&$B$3,DATABASE!$X$2:$CK$92,DATABASE!W34,FALSE)","v":"-"},{"$f":"HLOOKUP(MENU!$I$8&\" \"&$B$3,DATABASE!$X$2:$CK$92,DATABASE!W35,FALSE)","v":"-"},{"$f":"HLOOKUP(MENU!$I$8&\" \"&$B$3,DATABASE!$X$2:$CK$92,DATABASE!W36,FALSE)","v":"-"},{"$f":"HLOOKUP(MENU!$I$8&\" \"&$B$3,DATABASE!$X$2:$CK$92,DATABASE!W37,FALSE)","v":"-"},{"$f":"HLOOKUP(MENU!$I$8&\" \"&$B$3,DATABASE!$X$2:$CK$92,DATABASE!W38,FALSE)","v":"-"},{"$f":"HLOOKUP(MENU!$I$8&\" \"&$B$3,DATABASE!$X$2:$CK$92,DATABASE!W39,FALSE)","v":"-"},{"$f":"HLOOKUP(MENU!$I$8&\" \"&$B$3,DATABASE!$X$2:$CK$92,DATABASE!W40,FALSE)","v":"-"},{"$f":"HLOOKUP(MENU!$I$8&\" \"&$B$3,DATABASE!$X$2:$CK$92,DATABASE!W41,FALSE)","v":"-"},{"$f":"HLOOKUP(MENU!$I$8&\" \"&$B$3,DATABASE!$X$2:$CK$92,DATABASE!W42,FALSE)","v":"-"},{"$f":"HLOOKUP(MENU!$I$8&\" \"&$B$3,DATABASE!$X$2:$CK$92,DATABASE!W43,FALSE)","v":"-"},{"$f":"HLOOKUP(MENU!$I$8&\" \"&$B$3,DATABASE!$X$2:$CK$92,DATABASE!W44,FALSE)","v":"-"},{"$f":"HLOOKUP(MENU!$I$8&\" \"&$B$3,DATABASE!$X$2:$CK$92,DATABASE!W45,FALSE)","v":"-"},{"$f":"HLOOKUP(MENU!$I$8&\" \"&$B$3,DATABASE!$X$2:$CK$92,DATABASE!W46,FALSE)","v":"-"},{"$f":"HLOOKUP(MENU!$I$8&\" \"&$B$3,DATABASE!$X$2:$CK$92,DATABASE!W47,FALSE)","v":"-"},{"$f":"HLOOKUP(MENU!$I$8&\" \"&$B$3,DATABASE!$X$2:$CK$92,DATABASE!W48,FALSE)","v":"-"},{"$f":"HLOOKUP(MENU!$I$8&\" \"&$B$3,DATABASE!$X$2:$CK$92,DATABASE!W49,FALSE)","v":"-"},{"$f":"HLOOKUP(MENU!$I$8&\" \"&$B$3,DATABASE!$X$2:$CK$92,DATABASE!W50,FALSE)","v":"-"},{"$f":"HLOOKUP(MENU!$I$8&\" \"&$B$3,DATABASE!$X$2:$CK$92,DATABASE!W51,FALSE)","v":"-"},{"$f":"HLOOKUP(MENU!$I$8&\" \"&$B$3,DATABASE!$X$2:$CK$92,DATABASE!W52,FALSE)","v":"-"},{"$f":"HLOOKUP(MENU!$I$8&\" \"&$B$3,DATABASE!$X$2:$CK$92,DATABASE!W53,FALSE)","v":"-"},{"$f":"HLOOKUP(MENU!$I$8&\" \"&$B$3,DATABASE!$X$2:$CK$92,DATABASE!W54,FALSE)","v":"Administrasi Infrastruktur Jaringan"},{"$f":"HLOOKUP(MENU!$I$8&\" \"&$B$3,DATABASE!$X$2:$CK$92,DATABASE!W55,FALSE)","v":"Administrasi Infrastruktur Jaringan"},{"$f":"HLOOKUP(MENU!$I$8&\" \"&$B$3,DATABASE!$X$2:$CK$92,DATABASE!W56,FALSE)","v":"Administrasi Infrastruktur Jaringan"},{"$f":"HLOOKUP(MENU!$I$8&\" \"&$B$3,DATABASE!$X$2:$CK$92,DATABASE!W57,FALSE)","v":"Administrasi Sistem Jaringan"},{"$f":"HLOOKUP(MENU!$I$8&\" \"&$B$3,DATABASE!$X$2:$CK$92,DATABASE!W58,FALSE)","v":"Administrasi Sistem Jaringan"},{"$f":"HLOOKUP(MENU!$I$8&\" \"&$B$3,DATABASE!$X$2:$CK$92,DATABASE!W59,FALSE)","v":"Administrasi Sistem Jaringan"},{"$f":"HLOOKUP(MENU!$I$8&\" \"&$B$3,DATABASE!$X$2:$CK$92,DATABASE!W60,FALSE)","v":"Teknologi Layanan Jaringan"},{"$f":"HLOOKUP(MENU!$I$8&\" \"&$B$3,DATABASE!$X$2:$CK$92,DATABASE!W61,FALSE)","v":"Teknologi Layanan Jaringan"},{"$f":"HLOOKUP(MENU!$I$8&\" \"&$B$3,DATABASE!$X$2:$CK$92,DATABASE!W62,FALSE)","v":"Teknologi Layanan Jaringan"},{"$f":"HLOOKUP(MENU!$I$8&\" \"&$B$3,DATABASE!$X$2:$CK$92,DATABASE!W63,FALSE)","v":"-"},{"$f":"HLOOKUP(MENU!$I$8&\" \"&$B$3,DATABASE!$X$2:$CK$92,DATABASE!W64,FALSE)","v":"-"},{"$f":"HLOOKUP(MENU!$I$8&\" \"&$B$3,DATABASE!$X$2:$CK$92,DATABASE!W65,FALSE)","v":"-"},{"$f":"HLOOKUP(MENU!$I$8&\" \"&$B$3,DATABASE!$X$2:$CK$92,DATABASE!W66,FALSE)","v":"-"},{"$f":"HLOOKUP(MENU!$I$8&\" \"&$B$3,DATABASE!$X$2:$CK$92,DATABASE!W67,FALSE)","v":"-"},{"$f":"HLOOKUP(MENU!$I$8&\" \"&$B$3,DATABASE!$X$2:$CK$92,DATABASE!W68,FALSE)","v":"-"},{"$f":"HLOOKUP(MENU!$I$8&\" \"&$B$3,DATABASE!$X$2:$CK$92,DATABASE!W69,FALSE)","v":"Produk Kreatif dan Kewirausahaan "},{"$f":"HLOOKUP(MENU!$I$8&\" \"&$B$3,DATABASE!$X$2:$CK$92,DATABASE!W70,FALSE)","v":"Produk Kreatif dan Kewirausahaan "},{"$f":"HLOOKUP(MENU!$I$8&\" \"&$B$3,DATABASE!$X$2:$CK$92,DATABASE!W71,FALSE)","v":"Produk Kreatif dan Kewirausahaan "},{"$f":"HLOOKUP(MENU!$I$8&\" \"&$B$3,DATABASE!$X$2:$CK$92,DATABASE!W72,FALSE)","v":"-"},{"$f":"HLOOKUP(MENU!$I$8&\" \"&$B$3,DATABASE!$X$2:$CK$92,DATABASE!W73,FALSE)","v":"-"},{"$f":"HLOOKUP(MENU!$I$8&\" \"&$B$3,DATABASE!$X$2:$CK$92,DATABASE!W74,FALSE)","v":"-"},{"$f":"HLOOKUP(MENU!$I$8&\" \"&$B$3,DATABASE!$X$2:$CK$92,DATABASE!W75,FALSE)","v":"-"},{"$f":"HLOOKUP(MENU!$I$8&\" \"&$B$3,DATABASE!$X$2:$CK$92,DATABASE!W76,FALSE)","v":"-"},{"$f":"HLOOKUP(MENU!$I$8&\" \"&$B$3,DATABASE!$X$2:$CK$92,DATABASE!W77,FALSE)","v":"-"},{"$f":"HLOOKUP(MENU!$I$8&\" \"&$B$3,DATABASE!$X$2:$CK$92,DATABASE!W78,FALSE)","v":"-"},{"$f":"HLOOKUP(MENU!$I$8&\" \"&$B$3,DATABASE!$X$2:$CK$92,DATABASE!W79,FALSE)","v":"-"},{"$f":"HLOOKUP(MENU!$I$8&\" \"&$B$3,DATABASE!$X$2:$CK$92,DATABASE!W80,FALSE)","v":"-"},{"$f":"HLOOKUP(MENU!$I$8&\" \"&$B$3,DATABASE!$X$2:$CK$92,DATABASE!W81,FALSE)","v":"-"},{"$f":"HLOOKUP(MENU!$I$8&\" \"&$B$3,DATABASE!$X$2:$CK$92,DATABASE!W82,FALSE)","v":"-"},{"$f":"HLOOKUP(MENU!$I$8&\" \"&$B$3,DATABASE!$X$2:$CK$92,DATABASE!W83,FALSE)","v":"-"},{"$f":"HLOOKUP(MENU!$I$8&\" \"&$B$3,DATABASE!$X$2:$CK$92,DATABASE!W84,FALSE)","v":"-"},{"$f":"HLOOKUP(MENU!$I$8&\" \"&$B$3,DATABASE!$X$2:$CK$92,DATABASE!W85,FALSE)","v":"-"},{"$f":"HLOOKUP(MENU!$I$8&\" \"&$B$3,DATABASE!$X$2:$CK$92,DATABASE!W86,FALSE)","v":"-"},{"$f":"HLOOKUP(MENU!$I$8&\" \"&$B$3,DATABASE!$X$2:$CK$92,DATABASE!W87,FALSE)","v":"-"},{"$f":"HLOOKUP(MENU!$I$8&\" \"&$B$3,DATABASE!$X$2:$CK$92,DATABASE!W88,FALSE)","v":"-"},{"$f":"HLOOKUP(MENU!$I$8&\" \"&$B$3,DATABASE!$X$2:$CK$92,DATABASE!W89,FALSE)","v":"-"},{"$f":"HLOOKUP(MENU!$I$8&\" \"&$B$3,DATABASE!$X$2:$CK$92,DATABASE!W90,FALSE)","v":"-"},{"$f":"HLOOKUP(MENU!$I$8&\" \"&$B$3,DATABASE!$X$2:$CK$92,DATABASE!W91,FALSE)","v":"-"},{"$f":"HLOOKUP(MENU!$I$8&\" \"&$B$3,DATABASE!$X$2:$CK$92,DATABASE!W92,FALSE)","v":"-"},"NILAI BP/BK","NAMA TEMPAT PKL","LOKASI TEMPAT PKL","LAMA PKL (BULAN)","KET. NILAI PKL","NAMA TEMPAT PKL","LOKASI TEMPAT PKL","LAMA PKL (BULAN)","KET. NILAI PKL","NAMA ESKUL 1","NILAI ESKUL 1","NAMA ESKUL 2","NILAI ESKUL 2","NAMA ESKUL 3","NILAI ESKUL 3","JENIS PRESTASI 1","KET. NILAI PRESTASI 1","JENIS PRESTASI 2","KET. NILAI PRESTASI 2","SAKIT","IJIN","TANPA KETERANGAN","NILAI SIKAP SPIRITUAL (OTOMATIS)","NILAI SIKAP SOSIAL (OTOMATIS)","CEK JUMLAH MAPEL (HARUS SAMA)!","RATA-RATA PENGETAHUAN","RATA-RATA KETERAMPILAN","JUMLAH NILAI PENGETAHUAN","JUMLAH NILAI KETERAMPILAN","TOTAL NILAI","FORMULA PERINGKAT KELAS","PENENTUAN PERINGKAT OLEH WALI KELAS","JUMLAH SISWA DI KELAS","-",null,null,null,null,null,"JANGAN EDIT DATA DI KOLOM INI KE BAWAH"]
["Semester :","3 (tiga)","KELOMPOK MAPEL","A","A","A","A","A","A","A","A","A","A","A","A","A","A","A","A","A","A","B","B","B","B","B","B","B","B","B","B","B","B","C1","C1","C1","C1","C1","C1","C1","C1","C1","C2","C2","C2","C2","C2","C2","C2","C2","C2","C2","C2","C2","C3","C3","C3","C3","C3","C3","C3","C3","C3","C3","C3","C3","C3","C3","C3","C3","C3","C3","-",null,null,"-",null,null,"-",null,null,"-",null,null,"-",null,null,"-",null,null,"-",null,null,null,null,null,null,null,null,null,null,null,null,null,null,null,null,null,null,null,null,null,null,null,null,null,null,null,null,null,null,null,null,null,null,null,null,"Titimangsa Rapor :",null,null,null,null,null,1,2,3,4,5,6,7,8,9,10,11,12,13,14,15,16,17,18,19,20,21,22,23,24,25,26,27,28,29,30,31]
["Wali Kelas :",{"$f":"MENU!P14","v":"Bimuka Jati Andromeda, S.Pd"},"URUTAN MAPEL",1,1,1,2,2,2,3,3,3,4,4,4,"-","-","-",5,5,5,"-","-","-",1,1,1,"-","-","-",2,2,2,1,1,1,2,2,2,3,3,3,1,1,1,2,2,2,3,3,3,4,4,4,1,1,1,2,2,2,3,3,3,4,4,4,5,5,5,6,6,6,"-",null,null,null,null,null,null,null,null,null,null,null,1,null,null,"-",null,null,"-",null,null,null,"KEGIATAN PKL",null,null,null,"KEGIATAN PKL",null,null,null,"KEGIATAN EKSTRAKURIKULER",null,null,null,null,null,"CATATAN PRESTASI",null,null,null,"KETIDAKHADIRAN",null,null,null,null,null,"RATA-RATA NILAI",null,"JUMLAH NILAI",null,null,null,"PERINGKAT KELAS",null,null,{"$f":"MENU!P13","v":"Karawang, 14 Desember 2018"},null,null,null,null,null,"KI-1  &  KI-2",null,"KI-2"]
[{"$f":"MENU!N15","v":"NIP"},{"$f":"MENU!P15","v":"19900202 201503 1 003"},"KB",77,77,"B",77,77,"B",77,77,"B",77,77,"B",77,77,"B",77,77,"B",77,77,"B",77,77,"B",77,77,"B",77,77,"B",77,77,"B",77,77,"B",77,77,"B",77,77,"B",77,77,"B",77,77,"B",77,77,"B",77,77,"B",77,77,"B",77,77,"B",77,77,"B",77,77,"B",77,77,"B",77,77,"B",77,77,"B",77,77,"B",77,77,"B",77,77,"B",77,77,"B",77,77,"B"]
["NO. URUT","NAMA SISWA","NIS","P","K","S","P","K","S","P","K","S","P","K","S","P","K","S","P","K","S","P","K","S","P","K","S","P","K","S","P","K","S","P","K","S","P","K","S","P","K","S","P","K","S","P","K","S","P","K","S","P","K","S","P","K","S","P","K","S","P","K","S","P","K","S","P","K","S","P","K","S","P","K","S","P","K","S","P","K","S","P","K","S","P","K","S","P","K","S","P","K","S",null,null,null,null,null,null,null,null,null,null,null,null,null,null,null,null,null,null,null,null,null,null,null,null,null,null,null,null,null,null,null,"SILAHKAN DIISI MANUAL"]
[1,2,3,4,5,6,7,8,9,10,11,12,13,14,15,16,17,18,19,20,21,22,23,24,25,26,27,28,29,30,31,32,33,34,35,36,37,38,39,40,41,42,43,44,45,46,47,48,49,50,51,52,53,54,55,56,57,58,59,60,61,62,63,64,65,66,67,68,69,70,71,72,73,74,75,76,77,78,79,80,81,82,83,84,85,86,87,88,89,90,91,92,93,94,95,96,97,98,99,100,101,102,103,104,105,106,107,108,109,110,111,112,113,114,115,116,117,118,119,120,121,122,123,124,125,126,127]
[{"$f":"BIODATA!A5","v":1},{"$f":"BIODATA!C5","v":"AGHNIA SYAFIRA"},{"$f":"BIODATA!D5","v":13140767},91.5,83.25,"B",92.25,88.25,"B",90,98.25,"B",87.5,87.5,"B","-","-","-",90.25,98.25,"B","-","-","-",91.75,88.25,"B","-","-","-",80.5,88.25,"B","-","-","-","-","-","-","-","-","-","-","-","-","-","-","-","-","-","-","-","-","-",82.25,78.25,"B",82.25,78.25,"B",82.25,78.25,"B","-","-","-","-","-","-",82,88.25,"B","-","-","-","-","-","-","-","-","-","-","-","-","-","-","-","-","-","-","-","-","-","B",null,null,null,null,null,null,null,null,"OSIS","B","Palang Merah Remaja","B","Pramuka","B","Juara 2 Cerdas Cermat Tk. Kabupaten",null,"-","-",2,15,"-",{"$f":"FJ8","v":"B"},{"$f":"FL8","v":"B"},{"$f":"COUNT(D8:CN8)/2","v":11},{"$f":"IFERROR(ROUND(AVERAGE(D8,G8,J8,M8,P8,S8,V8,Y8,AB8,AE8,AH8,AK8,AN8,AQ8,AT8,AW8,AZ8,BC8,BF8,BI8,BL8,BO8,BR8,BU8,BX8,CA8,CD8,CG8,CJ8,CM8),0),\"-\")","v":87},{"$f":"IFERROR(ROUND(AVERAGE(E8,H8,K8,N8,Q8,T8,W8,Z8,AC8,AF8,AI8,AL8,AO8,AR8,AU8,AX8,BA8,BD8,BG8,BJ8,BM8,BP8,BS8,BV8,BY8,CB8,CE8,CH8,CK8,CN8),0),\"-\")","v":87},{"$f":"ROUND(SUM(D8,G8,J8,M8,P8,S8,V8,Y8,AB8,AE8,AH8,AK8,AN8,AQ8,AT8,AW8,AZ8,BC8,BF8,BI8,BL8,BO8,BR8,BU8,BX8,CA8,CD8,CG8,CJ8,CM8),0)","v":953},{"$f":"ROUND(SUM(E8,H8,K8,N8,Q8,T8,W8,Z8,AC8,AF8,AI8,AL8,AO8,AR8,AU8,AX8,BA8,BD8,BG8,BJ8,BM8,BP8,BS8,BV8,BY8,CB8,CE8,CH8,CK8,CN8),0)","v":955},{"$f":"SUM(DQ8:DR8)","v":1908},{"$f":"RANK(DS8,$DS$8:$DS$52,0)","v":5},null,{"$f":"COUNT($A$8:$A$52)","v":36},null,null,null,null,null,null,null,{"$f":"IF(F8=\"A\",4,IF(F8=\"B\",3,IF(F8=\"C\",2,IF(F8=\"D\",1,\"-\"))))","v":3},{"$f":"IF(I8=\"A\",4,IF(I8=\"B\",3,IF(I8=\"C\",2,IF(I8=\"D\",1,\"-\"))))","v":3},{"$f":"IF(L8=\"A\",4,IF(L8=\"B\",3,IF(L8=\"C\",2,IF(L8=\"D\",1,\"-\"))))","v":3},{"$f":"IF(O8=\"A\",4,IF(O8=\"B\",3,IF(O8=\"C\",2,IF(O8=\"D\",1,\"-\"))))","v":3},{"$f":"IF(R8=\"A\",4,IF(R8=\"B\",3,IF(R8=\"C\",2,IF(R8=\"D\",1,\"-\"))))","v":"-"},{"$f":"IF(U8=\"A\",4,IF(U8=\"B\",3,IF(U8=\"C\",2,IF(U8=\"D\",1,\"-\"))))","v":3},{"$f":"IF(X8=\"A\",4,IF(X8=\"B\",3,IF(X8=\"C\",2,IF(X8=\"D\",1,\"-\"))))","v":"-"},{"$f":"IF(AA8=\"A\",4,IF(AA8=\"B\",3,IF(AA8=\"C\",2,IF(AA8=\"D\",1,\"-\"))))","v":3},{"$f":"IF(AD8=\"A\",4,IF(AD8=\"B\",3,IF(AD8=\"C\",2,IF(AD8=\"D\",1,\"-\"))))","v":"-"},{"$f":"IF(AG8=\"A\",4,IF(AG8=\"B\",3,IF(AG8=\"C\",2,IF(AG8=\"D\",1,\"-\"))))","v":3},{"$f":"IF(AJ8=\"A\",4,IF(AJ8=\"B\",3,IF(AJ8=\"C\",2,IF(AJ8=\"D\",1,\"-\"))))","v":"-"},{"$f":"IF(AM8=\"A\",4,IF(AM8=\"B\",3,IF(AM8=\"C\",2,IF(AM8=\"D\",1,\"-\"))))","v":"-"},{"$f":"IF(AP8=\"A\",4,IF(AP8=\"B\",3,IF(AP8=\"C\",2,IF(AP8=\"D\",1,\"-\"))))","v":"-"},{"$f":"IF(AS8=\"A\",4,IF(AS8=\"B\",3,IF(AS8=\"C\",2,IF(AS8=\"D\",1,\"-\"))))","v":"-"},{"$f":"IF(AV8=\"A\",4,IF(AV8=\"B\",3,IF(AV8=\"C\",2,IF(AV8=\"D\",1,\"-\"))))","v":"-"},{"$f":"IF(AY8=\"A\",4,IF(AY8=\"B\",3,IF(AY8=\"C\",2,IF(AY8=\"D\",1,\"-\"))))","v":"-"},{"$f":"IF(BB8=\"A\",4,IF(BB8=\"B\",3,IF(BB8=\"C\",2,IF(BB8=\"D\",1,\"-\"))))","v":"-"},{"$f":"IF(BE8=\"A\",4,IF(BE8=\"B\",3,IF(BE8=\"C\",2,IF(BE8=\"D\",1,\"-\"))))","v":3},{"$f":"IF(BH8=\"A\",4,IF(BH8=\"B\",3,IF(BH8=\"C\",2,IF(BH8=\"D\",1,\"-\"))))","v":3},{"$f":"IF(BD8=\"A\",4,IF(BD8=\"B\",3,IF(BD8=\"C\",2,IF(BD8=\"D\",1,\"-\"))))","v":"-"},{"$f":"IF(BN8=\"A\",4,IF(BN8=\"B\",3,IF(BN8=\"C\",2,IF(BN8=\"D\",1,\"-\"))))","v":"-"},{"$f":"IF(BQ8=\"A\",4,IF(BQ8=\"B\",3,IF(BQ8=\"C\",2,IF(BQ8=\"D\",1,\"-\"))))","v":"-"},{"$f":"IF(BT8=\"A\",4,IF(BT8=\"B\",3,IF(BT8=\"C\",2,IF(BT8=\"D\",1,\"-\"))))","v":3},{"$f":"IF(BW8=\"A\",4,IF(BW8=\"B\",3,IF(BW8=\"C\",2,IF(BW8=\"D\",1,\"-\"))))","v":"-"},{"$f":"IF(BZ8=\"A\",4,IF(BZ8=\"B\",3,IF(BZ8=\"C\",2,IF(BZ8=\"D\",1,\"-\"))))","v":"-"},{"$f":"IF(CC8=\"A\",4,IF(CC8=\"B\",3,IF(CC8=\"C\",2,IF(CC8=\"D\",1,\"-\"))))","v":"-"},{"$f":"IF(CF8=\"A\",4,IF(CF8=\"B\",3,IF(CF8=\"C\",2,IF(CF8=\"D\",1,\"-\"))))","v":"-"},{"$f":"IF(CI8=\"A\",4,IF(CI8=\"B\",3,IF(CI8=\"C\",2,IF(CI8=\"D\",1,\"-\"))))","v":"-"},{"$f":"IF(CL8=\"A\",4,IF(CL8=\"B\",3,IF(CL8=\"C\",2,IF(CL8=\"D\",1,\"-\"))))","v":"-"},{"$f":"IF(CO8=\"A\",4,IF(CO8=\"B\",3,IF(CO8=\"C\",2,IF(CO8=\"D\",1,\"-\"))))","v":"-"},{"$f":"IF(CP8=\"A\",4,IF(CP8=\"B\",3,IF(CP8=\"C\",2,IF(CP8=\"D\",1,\"-\"))))","v":3},{"$f":"IFERROR(ROUND(AVERAGE(ED8:EE8),0),\"\")","v":3},{"$f":"IFERROR(IF(FI8=4,\"A\",IF(FI8=3,\"B\",IF(FI8=2,\"C\",IF(FI8=1,\"D\",\"-\")))),\"-\")","v":"B"},{"$f":"IFERROR(MODE(ED8:FH8),\"-\")","v":3},{"$f":"IFERROR(IF(FK8=4,\"A\",IF(FK8=3,\"B\",IF(FK8=2,\"C\",IF(FK8=1,\"D\",\"-\")))),\"-\")","v":"B"}]
[{"$f":"BIODATA!A6","v":2},{"$f":"BIODATA!C6","v":"AL KINDI"},{"$f":"BIODATA!D6","v":13140768},91.5,83.25,"B",92.5,88.25,"B",88.75,98.25,"B",87.5,87.5,"B","-","-","-",80,98.25,"B","-","-","-",88.75,91.25,"B","-","-","-",78.75,83.25,"B","-","-","-","-","-","-","-","-","-","-","-","-","-","-","-","-","-","-","-","-","-",81,82.25,"B",81,82.25,"B",81,82.25,"B","-","-","-","-","-","-",86.25,88.25,"B","-","-","-","-","-","-","-","-","-","-","-","-","-","-","-","-","-","-","-","-","-","A",null,null,null,null,null,null,null,null,"Rohis","B","OSIS","B","Palang Merah Remaja","B","Juara 1 LKS Jawa Barat",null,"-","-",3,"-","-",{"$f":"FJ9","v":"B"},{"$f":"FL9","v":"B"},11,{"$f":"IFERROR(ROUND(AVERAGE(D9,G9,J9,M9,P9,S9,V9,Y9,AB9,AE9,AH9,AK9,AN9,AQ9,AT9,AW9,AZ9,BC9,BF9,BI9,BL9,BO9,BR9,BU9,BX9,CA9,CD9,CG9,CJ9,CM9),0),\"-\")","v":85},88,{"$f":"ROUND(SUM(D9,G9,J9,M9,P9,S9,V9,Y9,AB9,AE9,AH9,AK9,AN9,AQ9,AT9,AW9,AZ9,BC9,BF9,BI9,BL9,BO9,BR9,BU9,BX9,CA9,CD9,CG9,CJ9,CM9),0)","v":937},{"$f":"ROUND(SUM(E9,H9,K9,N9,Q9,T9,W9,Z9,AC9,AF9,AI9,AL9,AO9,AR9,AU9,AX9,BA9,BD9,BG9,BJ9,BM9,BP9,BS9,BV9,BY9,CB9,CE9,CH9,CK9,CN9),0)","v":965},{"$f":"SUM(DQ9:DR9)","v":1902},{"$f":"RANK(DS9,$DS$8:$DS$52,0)","v":7},null,{"$f":"COUNT($A$8:$A$52)","v":36},null,null,null,null,null,null,null,3,3,3,3,"-",3,"-",3,"-",3,"-","-","-","-","-","-","-",3,3,"-","-","-",3,"-","-","-","-","-","-","-",4,{"$f":"IFERROR(ROUND(AVERAGE(ED9:EE9),0),\"\")","v":3},"B",{"$f":"IFERROR(MODE(ED9:FH9),\"-\")","v":3},{"$f":"IFERROR(IF(FK9=4,\"A\",IF(FK9=3,\"B\",IF(FK9=2,\"C\",IF(FK9=1,\"D\",\"-\")))),\"-\")","v":"B"}]
[{"$f":"BIODATA!A7","v":3},{"$f":"BIODATA!C7","v":"ALFIAN MULYADI NATA"},{"$f":"BIODATA!D7","v":13140769},83.25,91.5,"B",92.5,88.25,"B",94.25,98.25,"B",87.25,87.25,"B","-","-","-",97.75,98.25,"B","-","-","-",92,93.25,"B","-","-","-",92.5,88.25,"B","-","-","-","-","-","-","-","-","-","-","-","-","-","-","-","-","-","-","-","-","-",82.5,85.25,"B",82.5,85.25,"B",82.5,85.25,"B","-","-","-","-","-","-",84.75,88.25,"B","-","-","-","-","-","-","-","-","-","-","-","-","-","-","-","-","-","-","-","-","-",null,null,null,null,null,null,null,null,null,"OSIS","B","Paskibra","B","Palang Merah Remaja","B",null,null,"-","-",5,"-","-","B","B",11,88,90,972,989,1961,1,null,36,null,null,null,null,null,null,null,3,3,3,3,"-",3,"-",3,"-",3,"-","-","-","-","-","-","-",3,3,"-","-","-",3,"-","-","-","-","-","-","-","-",3,"B",3,"B"]
[{"$f":"BIODATA!A8","v":4},{"$f":"BIODATA!C8","v":"ALFIANA WAHYU ATMADJA"},{"$f":"BIODATA!D8","v":13140770},91.5,83.25,"B",92.25,88.25,"B",88.5,98.25,"B",87.25,87.25,"B","-","-","-",80.75,98.25,"B","-","-","-",91.5,91.25,"B","-","-","-",78.25,83.25,"B","-","-","-","-","-","-","-","-","-","-","-","-","-","-","-","-","-","-","-","-","-",80.5,91.25,"B",80.5,91.25,"B",80.5,91.25,"B","-","-","-","-","-","-",81.5,88.25,"B","-","-","-","-","-","-","-","-","-","-","-","-","-","-","-","-","-","-","-","-","-",null,null,null,null,null,null,null,null,null,"Paskibra","B","Volley","B","Paskibra","B",null,null,"-","-",1,2,3,"B","B",11,85,90,933,992,1925,2,null,36,null,null,null,null,null,null,null,3,3,3,3,"-",3,"-",3,"-",3,"-","-","-","-","-","-","-",3,3,"-","-","-",3,"-","-","-","-","-","-","-","-",3,"B",3,"B"]
[{"$f":"BIODATA!A9","v":5},{"$f":"BIODATA!C9","v":"ASEP DODO ROHENDI"},{"$f":"BIODATA!D9","v":13140771},91.5,83.25,"B",92.25,88.25,"A",88.5,98.25,"B",87.5,87.5,"B","-","-","-",90.75,98.25,"B","-","-","-",91.5,91.5,"B","-","-","-",78.75,83.25,"B","-","-","-","-","-","-","-","-","-","-","-","-","-","-","-","-","-","-","-","-","-",80.5,78.25,"B",80.5,78.25,"B",80.5,78.25,"B","-","-","-","-","-","-",87.5,98.25,"B","-","-","-","-","-","-","-","-","-","-","-","-","-","-","-","-","-","-","-","-","-",null,null,null,null,null,null,null,null,null,"OSIS","B","Sepakbola","B","Palang Merah Remaja","B",null,null,"-","-","-","-","-","A","B",11,86,88,950,963,1913,4,null,36,null,null,null,null,null,null,null,3,4,3,3,"-",3,"-",3,"-",3,"-","-","-","-","-","-","-",3,3,"-","-","-",3,"-","-","-","-","-","-","-","-",4,"A",3,"B"]
[{"$f":"BIODATA!A10","v":6},{"$f":"BIODATA!C10","v":"BILLY RIZKI JHONATHAN"},{"$f":"BIODATA!D10","v":13140772},91.5,83.25,"B",92.25,88.25,"B",86.75,83.25,"B",87.25,87.25,"B","-","-","-",76,98.25,"B","-","-","-",93.5,90.25,"B","-","-","-",88.25,88.25,"A","-","-","-","-","-","-","-","-","-","-","-","-","-","-","-","-","-","-","-","-","-",82,82.25,"B",82,82.25,"B",82,82.25,"B","-","-","-","-","-","-",82.5,95.25,"B","-","-","-","-","-","-","-","-","-","-","-","-","-","-","-","-","-","-","-","-","-",null,null,null,null,null,null,null,null,null,"Karate","B","Palang Merah Remaja","B","Pramuka","B",null,null,"-","-","-","-","-","B","B",11,86,87,944,961,1905,6,2,36,null,null,null,null,null,null,null,3,3,3,3,"-",3,"-",3,"-",4,"-","-","-","-","-","-","-",3,3,"-","-","-",3,"-","-","-","-","-","-","-","-",3,"B",3,"B"]
[{"$f":"BIODATA!A11","v":7},{"$f":"BIODATA!C11","v":"CAHYASARI RAMADHANTY"},{"$f":"BIODATA!D11","v":13140773},91.5,83.25,"B",92,88.25,"B",88,98.25,"B",87.5,87.5,"B","-","-","-",88.25,98.25,"B","-","-","-",93.75,93.25,"B","-","-","-",83.25,88.25,"B","-","-","-","-","-","-","-","-","-","-","-","-","-","-","-","-","-","-","-","-","-",82,82.25,"B",82,82.25,"B",82,82.25,"B","-","-","-","-","-","-",82,88.25,"B","-","-","-","-","-","-","-","-","-","-","-","-","-","-","-","-","-","-","-","-","-",null,null,null,null,null,null,null,null,null,null,"B",null,"B",null,"B",null,null,"-","-","-","-","-","B","B",11,87,88,952,972,1924,3,null,36,null,null,null,null,null,null,null,3,3,3,3,"-",3,"-",3,"-",3,"-","-","-","-","-","-","-",3,3,"-","-","-",3,"-","-","-","-","-","-","-","-",3,"B",3,"B"]
[{"$f":"BIODATA!A12","v":8},{"$f":"BIODATA!C12","v":0},{"$f":"BIODATA!D12","v":0},null,null,null,null,null,null,null,null,null,null,null,null,null,null,null,null,null,null,null,null,null,null,null,null,null,null,null,null,null,null,null,null,null,null,null,null,null,null,null,null,null,null,null,null,null,null,null,null,null,null,null,null,null,null,null,null,null,null,null,null,null,null,null,null,null,null,null,null,null,null,null,null,null,null,null,null,null,null,null,null,null,null,null,null,null,null,null,null,null,null,null,null,null,null,null,null,null,null,null,null,"B",null,"B",null,"B",null,null,"-","-","-","-","-","-","-",0,"-","-",0,0,0,8,null,36,null,null,null,null,null,null,null,"-","-","-","-","-","-","-","-","-","-","-","-","-","-","-","-","-","-","-","-","-","-","-","-","-","-","-","-","-","-","-","","-","-","-"]
[{"$f":"BIODATA!A13","v":9},{"$f":"BIODATA!C13","v":0},{"$f":"BIODATA!D13","v":0},null,null,null,null,null,null,null,null,null,null,null,null,null,null,null,null,null,null,null,null,null,null,null,null,null,null,null,null,null,null,null,null,null,null,null,null,null,null,null,null,null,null,null,null,null,null,null,null,null,null,null,null,null,null,null,null,null,null,null,null,null,null,null,null,null,null,null,null,null,null,null,null,null,null,null,null,null,null,null,null,null,null,null,null,null,null,null,null,null,null,null,null,null,null,null,null,null,null,null,null,"B",null,"B",null,"B",null,null,"-","-","-","-","-","-","-",0,"-","-",0,0,0,8,null,36,null,null,null,null,null,null,null,"-","-","-","-","-","-","-","-","-","-","-","-","-","-","-","-","-","-","-","-","-","-","-","-","-","-","-","-","-","-","-","","-","-","-"]
[{"$f":"BIODATA!A14","v":10},{"$f":"BIODATA!C14","v":0},{"$f":"BIODATA!D14","v":0},null,null,null,null,null,null,null,null,null,null,null,null,null,null,null,null,null,null,null,null,null,null,null,null,null,null,null,null,null,null,null,null,null,null,null,null,null,null,null,null,null,null,null,null,null,null,null,null,null,null,null,null,null,null,null,null,null,null,null,null,null,null,null,null,null,null,null,null,null,null,null,null,null,null,null,null,null,null,null,null,null,null,null,null,null,null,null,null,null,null,null,null,null,null,null,null,null,null,null,null,"B",null,"B",null,"B",null,null,"-","-","-","-","-","-","-",0,"-","-",0,0,0,8,9,36,null,null,null,null,null,null,null,"-","-","-","-","-","-","-","-","-","-","-","-","-","-","-","-","-","-","-","-","-","-","-","-","-","-","-","-","-","-","-","","-","-","-"]
[{"$f":"BIODATA!A15","v":11},{"$f":"BIODATA!C15","v":0},{"$f":"BIODATA!D15","v":0},null,null,null,null,null,null,null,null,null,null,null,null,null,null,null,null,null,null,null,null,null,null,null,null,null,null,null,null,null,null,null,null,null,null,null,null,null,null,null,null,null,null,null,null,null,null,null,null,null,null,null,null,null,null,null,null,null,null,null,null,null,null,null,null,null,null,null,null,null,null,null,null,null,null,null,null,null,null,null,null,null,null,null,null,null,null,null,null,null,null,null,null,null,null,null,null,null,null,null,null,"B",null,"B",null,"B",null,null,"-","-","-","-","-","-","-",0,"-","-",0,0,0,8,null,36,null,null,null,null,null,null,null,"-","-","-","-","-","-","-","-","-","-","-","-","-","-","-","-","-","-","-","-","-","-","-","-","-","-","-","-","-","-","-","","-","-","-"]
[{"$f":"BIODATA!A16","v":12},{"$f":"BIODATA!C16","v":0},{"$f":"BIODATA!D16","v":0},null,null,null,null,null,null,null,null,null,null,null,null,null,null,null,null,null,null,null,null,null,null,null,null,null,null,null,null,null,null,null,null,null,null,null,null,null,null,null,null,null,null,null,null,null,null,null,null,null,null,null,null,null,null,null,null,null,null,null,null,null,null,null,null,null,null,null,null,null,null,null,null,null,null,null,null,null,null,null,null,null,null,null,null,null,null,null,null,null,null,null,null,null,null,null,null,null,null,null,null,"B",null,"B",null,"B",null,null,"-","-","-","-","-","-","-",0,"-","-",0,0,0,8,null,36,null,null,null,null,null,null,null,"-","-","-","-","-","-","-","-","-","-","-","-","-","-","-","-","-","-","-","-","-","-","-","-","-","-","-","-","-","-","-","","-","-","-"]
[{"$f":"BIODATA!A17","v":13},{"$f":"BIODATA!C17","v":0},{"$f":"BIODATA!D17","v":0},null,null,null,null,null,null,null,null,null,null,null,null,null,null,null,null,null,null,null,null,null,null,null,null,null,null,null,null,null,null,null,null,null,null,null,null,null,null,null,null,null,null,null,null,null,null,null,null,null,null,null,null,null,null,null,null,null,null,null,null,null,null,null,null,null,null,null,null,null,null,null,null,null,null,null,null,null,null,null,null,null,null,null,null,null,null,null,null,null,null,null,null,null,null,null,null,null,null,null,null,"B",null,"B",null,"B",null,null,"-","-","-","-","-","-","-",0,"-","-",0,0,0,8,null,36,null,null,null,null,null,null,null,"-","-","-","-","-","-","-","-","-","-","-","-","-","-","-","-","-","-","-","-","-","-","-","-","-","-","-","-","-","-","-","","-","-","-"]
[{"$f":"BIODATA!A18","v":14},{"$f":"BIODATA!C18","v":0},{"$f":"BIODATA!D18","v":0},null,null,null,null,null,null,null,null,null,null,null,null,null,null,null,null,null,null,null,null,null,null,null,null,null,null,null,null,null,null,null,null,null,null,null,null,null,null,null,null,null,null,null,null,null,null,null,null,null,null,null,null,null,null,null,null,null,null,null,null,null,null,null,null,null,null,null,null,null,null,null,null,null,null,null,null,null,null,null,null,null,null,null,null,null,null,null,null,null,null,null,null,null,null,null,null,null,null,null,null,"B",null,"B",null,"B",null,null,"-","-","-","-","-","-","-",0,"-","-",0,0,0,8,null,36,null,null,null,null,null,null,null,"-","-","-","-","-","-","-","-","-","-","-","-","-","-","-","-","-","-","-","-","-","-","-","-","-","-","-","-","-","-","-","","-","-","-"]
[{"$f":"BIODATA!A19","v":15},{"$f":"BIODATA!C19","v":0},{"$f":"BIODATA!D19","v":0},null,null,null,null,null,null,null,null,null,null,null,null,null,null,null,null,null,null,null,null,null,null,null,null,null,null,null,null,null,null,null,null,null,null,null,null,null,null,null,null,null,null,null,null,null,null,null,null,null,null,null,null,null,null,null,null,null,null,null,null,null,null,null,null,null,null,null,null,null,null,null,null,null,null,null,null,null,null,null,null,null,null,null,null,null,null,null,null,null,null,null,null,null,null,null,null,null,null,null,null,"B",null,"B",null,"B",null,null,"-","-","-","-","-","-","-",0,"-","-",0,0,0,8,4,36,null,null,null,null,null,null,null,"-","-","-","-","-","-","-","-","-","-","-","-","-","-","-","-","-","-","-","-","-","-","-","-","-","-","-","-","-","-","-","","-","-","-"]
[{"$f":"BIODATA!A20","v":16},{"$f":"BIODATA!C20","v":0},{"$f":"BIODATA!D20","v":0},null,null,null,null,null,null,null,null,null,null,null,null,null,null,null,null,null,null,null,null,null,null,null,null,null,null,null,null,null,null,null,null,null,null,null,null,null,null,null,null,null,null,null,null,null,null,null,null,null,null,null,null,null,null,null,null,null,null,null,null,null,null,null,null,null,null,null,null,null,null,null,null,null,null,null,null,null,null,null,null,null,null,null,null,null,null,null,null,null,null,null,null,null,null,null,null,null,null,null,null,"B",null,"B",null,"B",null,null,"-","-","-","-","-","-","-",0,"-","-",0,0,0,8,null,36,null,null,null,null,null,null,null,"-","-","-","-","-","-","-","-","-","-","-","-","-","-","-","-","-","-","-","-","-","-","-","-","-","-","-","-","-","-","-","","-","-","-"]
[{"$f":"BIODATA!A21","v":17},{"$f":"BIODATA!C21","v":0},{"$f":"BIODATA!D21","v":0},null,null,null,null,null,null,null,null,null,null,null,null,null,null,null,null,null,null,null,null,null,null,null,null,null,null,null,null,null,null,null,null,null,null,null,null,null,null,null,null,null,null,null,null,null,null,null,null,null,null,null,null,null,null,null,null,null,null,null,null,null,null,null,null,null,null,null,null,null,null,null,null,null,null,null,null,null,null,null,null,null,null,null,null,null,null,null,null,null,null,null,null,null,null,null,null,null,null,null,null,"B",null,"B",null,"B",null,null,"-","-","-","-","-","-","-",0,"-","-",0,0,0,8,null,36,null,null,null,null,null,null,null,"-","-","-","-","-","-","-","-","-","-","-","-","-","-","-","-","-","-","-","-","-","-","-","-","-","-","-","-","-","-","-","","-","-","-"]
[{"$f":"BIODATA!A22","v":18},{"$f":"BIODATA!C22","v":0},{"$f":"BIODATA!D22","v":0},null,null,null,null,null,null,null,null,null,null,null,null,null,null,null,null,null,null,null,null,null,null,null,null,null,null,null,null,null,null,null,null,null,null,null,null,null,null,null,null,null,null,null,null,null,null,null,null,null,null,null,null,null,null,null,null,null,null,null,null,null,null,null,null,null,null,null,null,null,null,null,null,null,null,null,null,null,null,null,null,null,null,null,null,null,null,null,null,null,null,null,null,null,null,null,null,null,null,null,null,"B",null,"B",null,"B",null,null,"-","-","-","-","-","-","-",0,"-","-",0,0,0,8,null,36,null,null,null,null,null,null,null,"-","-","-","-","-","-","-","-","-","-","-","-","-","-","-","-","-","-","-","-","-","-","-","-","-","-","-","-","-","-","-","","-","-","-"]
[{"$f":"BIODATA!A23","v":19},{"$f":"BIODATA!C23","v":0},{"$f":"BIODATA!D23","v":0},null,null,null,null,null,null,null,null,null,null,null,null,null,null,null,null,null,null,null,null,null,null,null,null,null,null,null,null,null,null,null,null,null,null,null,null,null,null,null,null,null,null,null,null,null,null,null,null,null,null,null,null,null,null,null,null,null,null,null,null,null,null,null,null,null,null,null,null,null,null,null,null,null,null,null,null,null,null,null,null,null,null,null,null,null,null,null,null,null,null,null,null,null,null,null,null,null,null,null,null,"B",null,"B",null,"B",null,null,"-","-","-","-","-","-","-",0,"-","-",0,0,0,8,null,36,null,null,null,null,null,null,null,"-","-","-","-","-","-","-","-","-","-","-","-","-","-","-","-","-","-","-","-","-","-","-","-","-","-","-","-","-","-","-","","-","-","-"]
[{"$f":"BIODATA!A24","v":20},{"$f":"BIODATA!C24","v":0},{"$f":"BIODATA!D24","v":0},null,null,null,null,null,null,null,null,null,null,null,null,null,null,null,null,null,null,null,null,null,null,null,null,null,null,null,null,null,null,null,null,null,null,null,null,null,null,null,null,null,null,null,null,null,null,null,null,null,null,null,null,null,null,null,null,null,null,null,null,null,null,null,null,null,null,null,null,null,null,null,null,null,null,null,null,null,null,null,null,null,null,null,null,null,null,null,null,null,null,null,null,null,null,null,null,null,null,null,null,"B",null,"B",null,"B",null,null,"-","-","-","-","-","-","-",0,"-","-",0,0,0,8,null,36,null,null,null,null,null,null,null,"-","-","-","-","-","-","-","-","-","-","-","-","-","-","-","-","-","-","-","-","-","-","-","-","-","-","-","-","-","-","-","","-","-","-"]
[{"$f":"BIODATA!A25","v":21},{"$f":"BIODATA!C25","v":0},{"$f":"BIODATA!D25","v":0},null,null,null,null,null,null,null,null,null,null,null,null,null,null,null,null,null,null,null,null,null,null,null,null,null,null,null,null,null,null,null,null,null,null,null,null,null,null,null,null,null,null,null,null,null,null,null,null,null,null,null,null,null,null,null,null,null,null,null,null,null,null,null,null,null,null,null,null,null,null,null,null,null,null,null,null,null,null,null,null,null,null,null,null,null,null,null,null,null,null,null,null,null,null,null,null,null,null,null,null,"B",null,"B",null,"B",null,null,"-","-","-","-","-","-","-",0,"-","-",0,0,0,8,5,36,null,null,null,null,null,null,null,"-","-","-","-","-","-","-","-","-","-","-","-","-","-","-","-","-","-","-","-","-","-","-","-","-","-","-","-","-","-","-","","-","-","-"]
[{"$f":"BIODATA!A26","v":22},{"$f":"BIODATA!C26","v":0},{"$f":"BIODATA!D26","v":0},null,null,null,null,null,null,null,null,null,null,null,null,null,null,null,null,null,null,null,null,null,null,null,null,null,null,null,null,null,null,null,null,null,null,null,null,null,null,null,null,null,null,null,null,null,null,null,null,null,null,null,null,null,null,null,null,null,null,null,null,null,null,null,null,null,null,null,null,null,null,null,null,null,null,null,null,null,null,null,null,null,null,null,null,null,null,null,null,null,null,null,null,null,null,null,null,null,null,null,null,"B",null,"B",null,"B",null,null,"-","-","-","-","-","-","-",0,"-","-",0,0,0,8,null,36,null,null,null,null,null,null,null,"-","-","-","-","-","-","-","-","-","-","-","-","-","-","-","-","-","-","-","-","-","-","-","-","-","-","-","-","-","-","-","","-","-","-"]
[{"$f":"BIODATA!A27","v":23},{"$f":"BIODATA!C27","v":0},{"$f":"BIODATA!D27","v":0},null,null,null,null,null,null,null,null,null,null,null,null,null,null,null,null,null,null,null,null,null,null,null,null,null,null,null,null,null,null,null,null,null,null,null,null,null,null,null,null,null,null,null,null,null,null,null,null,null,null,null,null,null,null,null,null,null,null,null,null,null,null,null,null,null,null,null,null,null,null,null,null,null,null,null,null,null,null,null,null,null,null,null,null,null,null,null,null,null,null,null,null,null,null,null,null,null,null,null,null,"B",null,"B",null,"B",null,null,"-","-","-","-","-","-","-",0,"-","-",0,0,0,8,1,36,null,null,null,null,null,null,null,"-","-","-","-","-","-","-","-","-","-","-","-","-","-","-","-","-","-","-","-","-","-","-","-","-","-","-","-","-","-","-","","-","-","-"]
[{"$f":"BIODATA!A28","v":24},{"$f":"BIODATA!C28","v":0},{"$f":"BIODATA!D28","v":0},null,null,null,null,null,null,null,null,null,null,null,null,null,null,null,null,null,null,null,null,null,null,null,null,null,null,null,null,null,null,null,null,null,null,null,null,null,null,null,null,null,null,null,null,null,null,null,null,null,null,null,null,null,null,null,null,null,null,null,null,null,null,null,null,null,null,null,null,null,null,null,null,null,null,null,null,null,null,null,null,null,null,null,null,null,null,null,null,null,null,null,null,null,null,null,null,null,null,null,null,"B",null,"B",null,"B",null,null,"-","-","-","-","-","-","-",0,"-","-",0,0,0,8,null,36,null,null,null,null,null,null,null,"-","-","-","-","-","-","-","-","-","-","-","-","-","-","-","-","-","-","-","-","-","-","-","-","-","-","-","-","-","-","-","","-","-","-"]
[{"$f":"BIODATA!A29","v":25},{"$f":"BIODATA!C29","v":0},{"$f":"BIODATA!D29","v":0},null,null,null,null,null,null,null,null,null,null,null,null,null,null,null,null,null,null,null,null,null,null,null,null,null,null,null,null,null,null,null,null,null,null,null,null,null,null,null,null,null,null,null,null,null,null,null,null,null,null,null,null,null,null,null,null,null,null,null,null,null,null,null,null,null,null,null,null,null,null,null,null,null,null,null,null,null,null,null,null,null,null,null,null,null,null,null,null,null,null,null,null,null,null,null,null,null,null,null,null,"B",null,"B",null,"B",null,null,"-","-","-","-","-","-","-",0,"-","-",0,0,0,8,6,36,null,null,null,null,null,null,null,"-","-","-","-","-","-","-","-","-","-","-","-","-","-","-","-","-","-","-","-","-","-","-","-","-","-","-","-","-","-","-","","-","-","-"]
[{"$f":"BIODATA!A30","v":26},{"$f":"BIODATA!C30","v":0},{"$f":"BIODATA!D30","v":0},null,null,null,null,null,null,null,null,null,null,null,null,null,null,null,null,null,null,null,null,null,null,null,null,null,null,null,null,null,null,null,null,null,null,null,null,null,null,null,null,null,null,null,null,null,null,null,null,null,null,null,null,null,null,null,null,null,null,null,null,null,null,null,null,null,null,null,null,null,null,null,null,null,null,null,null,null,null,null,null,null,null,null,null,null,null,null,null,null,null,null,null,null,null,null,null,null,null,null,null,"B",null,"B",null,"B",null,null,"-","-","-","-","-","-","-",0,"-","-",0,0,0,8,7,36,null,null,null,null,null,null,null,"-","-","-","-","-","-","-","-","-","-","-","-","-","-","-","-","-","-","-","-","-","-","-","-","-","-","-","-","-","-","-","","-","-","-"]
[{"$f":"BIODATA!A31","v":27},{"$f":"BIODATA!C31","v":0},{"$f":"BIODATA!D31","v":0},null,null,null,null,null,null,null,null,null,null,null,null,null,null,null,null,null,null,null,null,null,null,null,null,null,null,null,null,null,null,null,null,null,null,null,null,null,null,null,null,null,null,null,null,null,null,null,null,null,null,null,null,null,null,null,null,null,null,null,null,null,null,null,null,null,null,null,null,null,null,null,null,null,null,null,null,null,null,null,null,null,null,null,null,null,null,null,null,null,null,null,null,null,null,null,null,null,null,null,null,"B",null,"B",null,"B",null,null,"-","-","-","-","-","-","-",0,"-","-",0,0,0,8,null,36,null,null,null,null,null,null,null,"-","-","-","-","-","-","-","-","-","-","-","-","-","-","-","-","-","-","-","-","-","-","-","-","-","-","-","-","-","-","-","","-","-","-"]
[{"$f":"BIODATA!A32","v":28},{"$f":"BIODATA!C32","v":0},{"$f":"BIODATA!D32","v":0},null,null,null,null,null,null,null,null,null,null,null,null,null,null,null,null,null,null,null,null,null,null,null,null,null,null,null,null,null,null,null,null,null,null,null,null,null,null,null,null,null,null,null,null,null,null,null,null,null,null,null,null,null,null,null,null,null,null,null,null,null,null,null,null,null,null,null,null,null,null,null,null,null,null,null,null,null,null,null,null,null,null,null,null,null,null,null,null,null,null,null,null,null,null,null,null,null,null,null,null,"B",null,"B",null,"B",null,null,"-","-","-","-","-","-","-",0,"-","-",0,0,0,8,null,36,null,null,null,null,null,null,null,"-","-","-","-","-","-","-","-","-","-","-","-","-","-","-","-","-","-","-","-","-","-","-","-","-","-","-","-","-","-","-","","-","-","-"]
[{"$f":"BIODATA!A33","v":29},{"$f":"BIODATA!C33","v":0},{"$f":"BIODATA!D33","v":0},null,null,null,null,null,null,null,null,null,null,null,null,null,null,null,null,null,null,null,null,null,null,null,null,null,null,null,null,null,null,null,null,null,null,null,null,null,null,null,null,null,null,null,null,null,null,null,null,null,null,null,null,null,null,null,null,null,null,null,null,null,null,null,null,null,null,null,null,null,null,null,null,null,null,null,null,null,null,null,null,null,null,null,null,null,null,null,null,null,null,null,null,null,null,null,null,null,null,null,null,"B",null,"B",null,"B",null,null,"-","-","-","-","-","-","-",0,"-","-",0,0,0,8,8,36,null,null,null,null,null,null,null,"-","-","-","-","-","-","-","-","-","-","-","-","-","-","-","-","-","-","-","-","-","-","-","-","-","-","-","-","-","-","-","","-","-","-"]
[{"$f":"BIODATA!A34","v":30},{"$f":"BIODATA!C34","v":0},{"$f":"BIODATA!D34","v":0},null,null,null,null,null,null,null,null,null,null,null,null,null,null,null,null,null,null,null,null,null,null,null,null,null,null,null,null,null,null,null,null,null,null,null,null,null,null,null,null,null,null,null,null,null,null,null,null,null,null,null,null,null,null,null,null,null,null,null,null,null,null,null,null,null,null,null,null,null,null,null,null,null,null,null,null,null,null,null,null,null,null,null,null,null,null,null,null,null,null,null,null,null,null,null,null,null,null,null,null,"B",null,"B",null,"B",null,null,"-","-","-","-","-","-","-",0,"-","-",0,0,0,8,null,36,null,null,null,null,null,null,null,"-","-","-","-","-","-","-","-","-","-","-","-","-","-","-","-","-","-","-","-","-","-","-","-","-","-","-","-","-","-","-","","-","-","-"]
[{"$f":"BIODATA!A35","v":31},{"$f":"BIODATA!C35","v":0},{"$f":"BIODATA!D35","v":0},null,null,null,null,null,null,null,null,null,null,null,null,null,null,null,null,null,null,null,null,null,null,null,null,null,null,null,null,null,null,null,null,null,null,null,null,null,null,null,null,null,null,null,null,null,null,null,null,null,null,null,null,null,null,null,null,null,null,null,null,null,null,null,null,null,null,null,null,null,null,null,null,null,null,null,null,null,null,null,null,null,null,null,null,null,null,null,null,null,null,null,null,null,null,null,null,null,null,null,null,"B",null,"B",null,"B",null,null,"-","-","-","-","-","-","-",0,"-","-",0,0,0,8,null,36,null,null,null,null,null,null,null,"-","-","-","-","-","-","-","-","-","-","-","-","-","-","-","-","-","-","-","-","-","-","-","-","-","-","-","-","-","-","-","","-","-","-"]
[{"$f":"BIODATA!A36","v":32},{"$f":"BIODATA!C36","v":0},{"$f":"BIODATA!D36","v":0},null,null,null,null,null,null,null,null,null,null,null,null,null,null,null,null,null,null,null,null,null,null,null,null,null,null,null,null,null,null,null,null,null,null,null,null,null,null,null,null,null,null,null,null,null,null,null,null,null,null,null,null,null,null,null,null,null,null,null,null,null,null,null,null,null,null,null,null,null,null,null,null,null,null,null,null,null,null,null,null,null,null,null,null,null,null,null,null,null,null,null,null,null,null,null,null,null,null,null,null,"B",null,"B",null,"B",null,null,"-","-","-","-","-","-","-",0,"-","-",0,0,0,8,null,36,null,null,null,null,null,null,null,"-","-","-","-","-","-","-","-","-","-","-","-","-","-","-","-","-","-","-","-","-","-","-","-","-","-","-","-","-","-","-","","-","-","-"]
[{"$f":"BIODATA!A37","v":33},{"$f":"BIODATA!C37","v":0},{"$f":"BIODATA!D37","v":0},null,null,null,null,null,null,null,null,null,null,null,null,null,null,null,null,null,null,null,null,null,null,null,null,null,null,null,null,null,null,null,null,null,null,null,null,null,null,null,null,null,null,null,null,null,null,null,null,null,null,null,null,null,null,null,null,null,null,null,null,null,null,null,null,null,null,null,null,null,null,null,null,null,null,null,null,null,null,null,null,null,null,null,null,null,null,null,null,null,null,null,null,null,null,null,null,null,null,null,null,"B",null,"B",null,"B",null,null,"-","-","-","-","-","-","-",0,"-","-",0,0,0,8,null,36,null,null,null,null,null,null,null,"-","-","-","-","-","-","-","-","-","-","-","-","-","-","-","-","-","-","-","-","-","-","-","-","-","-","-","-","-","-","-","","-","-","-"]
[{"$f":"BIODATA!A38","v":34},{"$f":"BIODATA!C38","v":0},{"$f":"BIODATA!D38","v":0},null,null,null,null,null,null,null,null,null,null,null,null,null,null,null,null,null,null,null,null,null,null,null,null,null,null,null,null,null,null,null,null,null,null,null,null,null,null,null,null,null,null,null,null,null,null,null,null,null,null,null,null,null,null,null,null,null,null,null,null,null,null,null,null,null,null,null,null,null,null,null,null,null,null,null,null,null,null,null,null,null,null,null,null,null,null,null,null,null,null,null,null,null,null,null,null,null,null,null,null,"B",null,"B",null,"B",null,null,"-","-","-","-","-","-","-",0,"-","-",0,0,0,8,null,36,null,null,null,null,null,null,null,"-","-","-","-","-","-","-","-","-","-","-","-","-","-","-","-","-","-","-","-","-","-","-","-","-","-","-","-","-","-","-","","-","-","-"]
[{"$f":"BIODATA!A39","v":35},{"$f":"BIODATA!C39","v":0},{"$f":"BIODATA!D39","v":0},null,null,null,null,null,null,null,null,null,null,null,null,null,null,null,null,null,null,null,null,null,null,null,null,null,null,null,null,null,null,null,null,null,null,null,null,null,null,null,null,null,null,null,null,null,null,null,null,null,null,null,null,null,null,null,null,null,null,null,null,null,null,null,null,null,null,null,null,null,null,null,null,null,null,null,null,null,null,null,null,null,null,null,null,null,null,null,null,null,null,null,null,null,null,null,null,null,null,null,null,"B",null,"B",null,"B",null,null,"-","-","-","-","-","-","-",0,"-","-",0,0,0,8,null,36,null,null,null,null,null,null,null,"-","-","-","-","-","-","-","-","-","-","-","-","-","-","-","-","-","-","-","-","-","-","-","-","-","-","-","-","-","-","-","","-","-","-"]
[{"$f":"BIODATA!A40","v":36},{"$f":"BIODATA!C40","v":0},{"$f":"BIODATA!D40","v":0},null,null,null,null,null,null,null,null,null,null,null,null,null,null,null,null,null,null,null,null,null,null,null,null,null,null,null,null,null,null,null,null,null,null,null,null,null,null,null,null,null,null,null,null,null,null,null,null,null,null,null,null,null,null,null,null,null,null,null,null,null,null,null,null,null,null,null,null,null,null,null,null,null,null,null,null,null,null,null,null,null,null,null,null,null,null,null,null,null,null,null,null,null,null,null,null,null,null,null,null,"B",null,"B",null,"B",null,null,"-","-","-","-","-","-","-",0,"-","-",0,0,0,8,null,36,null,null,null,null,null,null,null,"-","-","-","-","-","-","-","-","-","-","-","-","-","-","-","-","-","-","-","-","-","-","-","-","-","-","-","-","-","-","-","","-","-","-"]
[{"$f":"BIODATA!A41","v":"-"},{"$f":"BIODATA!C41","v":0},{"$f":"BIODATA!D41","v":0},"-","-","-","-","-","-","-","-","-","-","-","-","-","-","-","-","-","-","-","-","-","-","-","-","-","-","-","-","-","-","-","-","-","-","-","-","-","-","-","-","-","-","-","-","-","-","-","-","-","-","-","-","-","-","-","-","-","-","-","-","-","-","-","-","-","-","-","-","-","-","-","-","-","-","-","-","-","-","-","-","-","-","-","-","-","-","-","-","-","-","-",null,null,null,null,null,null,null,null,null,"B",null,"B",null,"B",null,null,"-","-","-","-","-","-","-",0,"-","-",0,0,0,8,null,36,null,null,null,null,null,null,null,"-","-","-","-","-","-","-","-","-","-","-","-","-","-","-","-","-","-","-","-","-","-","-","-","-","-","-","-","-","-","-","","-","-","-"]
[{"$f":"BIODATA!A42","v":"-"},{"$f":"BIODATA!C42","v":0},{"$f":"BIODATA!D42","v":0},"-","-","-","-","-","-","-","-","-","-","-","-","-","-","-","-","-","-","-","-","-","-","-","-","-","-","-","-","-","-","-","-","-","-","-","-","-","-","-","-","-","-","-","-","-","-","-","-","-","-","-","-","-","-","-","-","-","-","-","-","-","-","-","-","-","-","-","-","-","-","-","-","-","-","-","-","-","-","-","-","-","-","-","-","-","-","-","-","-","-","-",null,null,null,null,null,null,null,null,null,"B",null,"B",null,"B",null,null,"-","-","-","-","-","-","-",0,"-","-",0,0,0,8,3,36,null,null,null,null,null,null,null,"-","-","-","-","-","-","-","-","-","-","-","-","-","-","-","-","-","-","-","-","-","-","-","-","-","-","-","-","-","-","-","","-","-","-"]
[{"$f":"BIODATA!A43","v":"-"},{"$f":"BIODATA!C43","v":0},{"$f":"BIODATA!D43","v":0},"-","-","-","-","-","-","-","-","-","-","-","-","-","-","-","-","-","-","-","-","-","-","-","-","-","-","-","-","-","-","-","-","-","-","-","-","-","-","-","-","-","-","-","-","-","-","-","-","-","-","-","-","-","-","-","-","-","-","-","-","-","-","-","-","-","-","-","-","-","-","-","-","-","-","-","-","-","-","-","-","-","-","-","-","-","-","-","-","-","-","-",null,null,null,null,null,null,null,null,null,"B",null,"B",null,"B",null,null,"-","-","-","-","-","-","-",0,"-","-",0,0,0,8,10,36,null,null,null,null,null,null,null,"-","-","-","-","-","-","-","-","-","-","-","-","-","-","-","-","-","-","-","-","-","-","-","-","-","-","-","-","-","-","-","","-","-","-"]
[{"$f":"BIODATA!A44","v":"-"},{"$f":"BIODATA!C44","v":0},{"$f":"BIODATA!D44","v":0},"-","-","-","-","-","-","-","-","-","-","-","-","-","-","-","-","-","-","-","-","-","-","-","-","-","-","-","-","-","-","-","-","-","-","-","-","-","-","-","-","-","-","-","-","-","-","-","-","-","-","-","-","-","-","-","-","-","-","-","-","-","-","-","-","-","-","-","-","-","-","-","-","-","-","-","-","-","-","-","-","-","-","-","-","-","-","-","-","-","-","-",null,null,null,null,null,null,null,null,null,"B",null,"B",null,"B",null,null,"-","-","-","-","-","-","-",0,"-","-",0,0,0,8,null,36,null,null,null,null,null,null,null,"-","-","-","-","-","-","-","-","-","-","-","-","-","-","-","-","-","-","-","-","-","-","-","-","-","-","-","-","-","-","-","","-","-","-"]
[{"$f":"BIODATA!A45","v":"-"},{"$f":"BIODATA!C45","v":0},{"$f":"BIODATA!D45","v":0},"-","-","-","-","-","-","-","-","-","-","-","-","-","-","-","-","-","-","-","-","-","-","-","-","-","-","-","-","-","-","-","-","-","-","-","-","-","-","-","-","-","-","-","-","-","-","-","-","-","-","-","-","-","-","-","-","-","-","-","-","-","-","-","-","-","-","-","-","-","-","-","-","-","-","-","-","-","-","-","-","-","-","-","-","-","-","-","-","-","-","-",null,null,null,null,null,null,null,null,null,"B",null,"B",null,"B",null,null,"-","-","-","-","-","-","-",0,"-","-",0,0,0,8,null,36,null,null,null,null,null,null,null,"-","-","-","-","-","-","-","-","-","-","-","-","-","-","-","-","-","-","-","-","-","-","-","-","-","-","-","-","-","-","-","","-","-","-"]
[{"$f":"BIODATA!A46","v":"-"},{"$f":"BIODATA!C46","v":0},{"$f":"BIODATA!D46","v":0},"-","-","-","-","-","-","-","-","-","-","-","-","-","-","-","-","-","-","-","-","-","-","-","-","-","-","-","-","-","-","-","-","-","-","-","-","-","-","-","-","-","-","-","-","-","-","-","-","-","-","-","-","-","-","-","-","-","-","-","-","-","-","-","-","-","-","-","-","-","-","-","-","-","-","-","-","-","-","-","-","-","-","-","-","-","-","-","-","-","-","-",null,null,null,null,null,null,null,null,null,"B",null,"B",null,"B",null,null,"-","-","-","-","-","-","-",0,"-","-",0,0,0,8,null,36,null,null,null,null,null,null,null,"-","-","-","-","-","-","-","-","-","-","-","-","-","-","-","-","-","-","-","-","-","-","-","-","-","-","-","-","-","-","-","","-","-","-"]
[{"$f":"BIODATA!A47","v":"-"},{"$f":"BIODATA!C47","v":0},{"$f":"BIODATA!D47","v":0},"-","-","-","-","-","-","-","-","-","-","-","-","-","-","-","-","-","-","-","-","-","-","-","-","-","-","-","-","-","-","-","-","-","-","-","-","-","-","-","-","-","-","-","-","-","-","-","-","-","-","-","-","-","-","-","-","-","-","-","-","-","-","-","-","-","-","-","-","-","-","-","-","-","-","-","-","-","-","-","-","-","-","-","-","-","-","-","-","-","-","-",null,null,null,null,null,null,null,null,null,"B",null,"B",null,"B",null,null,"-","-","-","-","-","-","-",0,"-","-",0,0,0,8,null,36,null,null,null,null,null,null,null,"-","-","-","-","-","-","-","-","-","-","-","-","-","-","-","-","-","-","-","-","-","-","-","-","-","-","-","-","-","-","-","","-","-","-"]
[{"$f":"BIODATA!A48","v":"-"},{"$f":"BIODATA!C48","v":0},{"$f":"BIODATA!D48","v":0},"-","-","-","-","-","-","-","-","-","-","-","-","-","-","-","-","-","-","-","-","-","-","-","-","-","-","-","-","-","-","-","-","-","-","-","-","-","-","-","-","-","-","-","-","-","-","-","-","-","-","-","-","-","-","-","-","-","-","-","-","-","-","-","-","-","-","-","-","-","-","-","-","-","-","-","-","-","-","-","-","-","-","-","-","-","-","-","-","-","-","-",null,null,null,null,null,null,null,null,null,"B",null,"B",null,"B",null,null,"-","-","-","-","-","-","-",0,"-","-",0,0,0,8,null,36,null,null,null,null,null,null,null,"-","-","-","-","-","-","-","-","-","-","-","-","-","-","-","-","-","-","-","-","-","-","-","-","-","-","-","-","-","-","-","","-","-","-"]
[{"$f":"BIODATA!A49","v":"-"},{"$f":"BIODATA!C49","v":0},{"$f":"BIODATA!D49","v":0},"-","-","-","-","-","-","-","-","-","-","-","-","-","-","-","-","-","-","-","-","-","-","-","-","-","-","-","-","-","-","-","-","-","-","-","-","-","-","-","-","-","-","-","-","-","-","-","-","-","-","-","-","-","-","-","-","-","-","-","-","-","-","-","-","-","-","-","-","-","-","-","-","-","-","-","-","-","-","-","-","-","-","-","-","-","-","-","-","-","-","-",null,null,null,null,null,null,null,null,null,"B",null,"B",null,"B",null,null,"-","-","-","-","-","-","-",0,"-","-",0,0,0,8,null,36,null,null,null,null,null,null,null,"-","-","-","-","-","-","-","-","-","-","-","-","-","-","-","-","-","-","-","-","-","-","-","-","-","-","-","-","-","-","-","","-","-","-"]
[]
[]
[]
[]
[]
[]
[]
[]
[]
[]
[]
[]
[null,null,null,3.59]
[null,null,null,3.59]
[null,null,null,3.5]
[null,null,null,3.48]
[null,null,null,3.54]
[null,null,null,3.39]
[null,null,null,3.45]
[null,null,null,3.45]
[null,null,null,3.29]
[null,null,null,3.45]
[null,null,null,3.45]
[null,null,null,3.45]

{"sheet":"NILSM4","index":31,"n_rows":76,"n_cols":168,"rows_kept":76,"cut":false,"hidden":false,"merged":[[3,133,5,134],[3,135,5,163],[3,90,3,92],[3,94,4,97],[3,98,4,101],[3,118,4,119],[3,120,4,122],[3,108,4,111],[3,112,4,114],[3,102,4,107],[1,132,1,168],[1,0,1,1],[3,75,3,77],[3,78,3,80],[3,72,3,74],[2,90,2,92],[2,75,2,77],[2,78,2,80],[2,81,2,83],[2,84,2,86],[2,87,2,89],[2,72,2,74],[3,81,3,83],[3,84,3,86],[3,87,3,89],[3,124,4,124]]}
[null,null,null,{"$f":"$B$3&D3&D4&D6","v":"4 (empat)A1P"},{"$f":"$B$3&E3&E4&E6","v":"4 (empat)A1K"},"4 (empat)A1S","4 (empat)A2P","4 (empat)A2K","4 (empat)A2S","4 (empat)A3P","4 (empat)A3K","4 (empat)A3S","4 (empat)A4P","4 (empat)A4K","4 (empat)A4S","4 (empat)A-P","4 (empat)A-K","4 (empat)A-S","4 (empat)A5P","4 (empat)A5K","4 (empat)A5S","4 (empat)B-P","4 (empat)B-K","4 (empat)B-S","4 (empat)B1P","4 (empat)B1K","4 (empat)B1S","4 (empat)B-P","4 (empat)B-K","4 (empat)B-S","4 (empat)B2P","4 (empat)B2K","4 (empat)B2S","4 (empat)C11P","4 (empat)C11K","4 (empat)C11S","4 (empat)C12P","4 (empat)C12K","4 (empat)C12S","4 (empat)C13P","4 (empat)C13K","4 (empat)C13S","4 (empat)C21P","4 (empat)C21K","4 (empat)C21S","4 (empat)C22P","4 (empat)C22K","4 (empat)C22S","4 (empat)C23P","4 (empat)C23K","4 (empat)C23S","4 (empat)C24P","4 (empat)C24K","4 (empat)C24S","4 (empat)C31P","4 (empat)C31K","4 (empat)C31S","4 (empat)C32P","4 (empat)C32K","4 (empat)C32S","4 (empat)C33P","4 (empat)C33K","4 (empat)C33S","4 (empat)C34P","4 (empat)C34K","4 (empat)C34S","4 (empat)C35P","4 (empat)C35K",{"$f":"$B$3&BQ3&BQ4&BQ6","v":"4 (empat)C35S"},"4 (empat)C36P","4 (empat)C36K","4 (empat)C36S","4 (empat)-P","4 (empat)K","4 (empat)S","4 (empat)-P","4 (empat)K","4 (empat)S","4 (empat)-P","4 (empat)K","4 (empat)S","4 (empat)-P","4 (empat)K","4 (empat)S","4 (empat)-1P","4 (empat)K","4 (empat)S","4 (empat)--P","4 (empat)K","4 (empat)S","4 (empat)--P","4 (empat)K","4 (empat)S"]
[{"$f":"\"INPUT NILAI CAPAIAN KOMPETENSI TP \"&MENU!P12","v":"INPUT NILAI CAPAIAN KOMPETENSI TP 2018 / 2019"},null,"                    NAMA MAPEL",{"$f":"HLOOKUP(MENU!$I$8&\" \"&$B$3,DATABASE!$X$2:$CK$92,DATABASE!W3,FALSE)","v":"Pendidikan Agama dan Budi Pekerti"},{"$f":"HLOOKUP(MENU!$I$8&\" \"&$B$3,DATABASE!$X$2:$CK$92,DATABASE!W4,FALSE)","v":"Pendidikan Agama dan Budi Pekerti"},{"$f":"HLOOKUP(MENU!$I$8&\" \"&$B$3,DATABASE!$X$2:$CK$92,DATABASE!W5,FALSE)","v":"Pendidikan Agama dan Budi Pekerti"},{"$f":"HLOOKUP(MENU!$I$8&\" \"&$B$3,DATABASE!$X$2:$CK$92,DATABASE!W6,FALSE)","v":"Pendidikan Pancasila dan Kewarganegaraan"},{"$f":"HLOOKUP(MENU!$I$8&\" \"&$B$3,DATABASE!$X$2:$CK$92,DATABASE!W7,FALSE)","v":"Pendidikan Pancasila dan Kewarganegaraan"},{"$f":"HLOOKUP(MENU!$I$8&\" \"&$B$3,DATABASE!$X$2:$CK$92,DATABASE!W8,FALSE)","v":"Pendidikan Pancasila dan Kewarganegaraan"},{"$f":"HLOOKUP(MENU!$I$8&\" \"&$B$3,DATABASE!$X$2:$CK$92,DATABASE!W9,FALSE)","v":"Bahasa Indonesia"},{"$f":"HLOOKUP(MENU!$I$8&\" \"&$B$3,DATABASE!$X$2:$CK$92,DATABASE!W10,FALSE)","v":"Bahasa Indonesia"},{"$f":"HLOOKUP(MENU!$I$8&\" \"&$B$3,DATABASE!$X$2:$CK$92,DATABASE!W11,FALSE)","v":"Bahasa Indonesia"},{"$f":"HLOOKUP(MENU!$I$8&\" \"&$B$3,DATABASE!$X$2:$CK$92,DATABASE!W12,FALSE)","v":"Matematika"},{"$f":"HLOOKUP(MENU!$I$8&\" \"&$B$3,DATABASE!$X$2:$CK$92,DATABASE!W13,FALSE)","v":"Matematika"},{"$f":"HLOOKUP(MENU!$I$8&\" \"&$B$3,DATABASE!$X$2:$CK$92,DATABASE!W14,FALSE)","v":"Matematika"},{"$f":"HLOOKUP(MENU!$I$8&\" \"&$B$3,DATABASE!$X$2:$CK$92,DATABASE!W15,FALSE)","v":"-"},{"$f":"HLOOKUP(MENU!$I$8&\" \"&$B$3,DATABASE!$X$2:$CK$92,DATABASE!W16,FALSE)","v":"-"},{"$f":"HLOOKUP(MENU!$I$8&\" \"&$B$3,DATABASE!$X$2:$CK$92,DATABASE!W17,FALSE)","v":"-"},{"$f":"HLOOKUP(MENU!$I$8&\" \"&$B$3,DATABASE!$X$2:$CK$92,DATABASE!W18,FALSE)","v":"Bahasa Inggris"},{"$f":"HLOOKUP(MENU!$I$8&\" \"&$B$3,DATABASE!$X$2:$CK$92,DATABASE!W19,FALSE)","v":"Bahasa Inggris"},{"$f":"HLOOKUP(MENU!$I$8&\" \"&$B$3,DATABASE!$X$2:$CK$92,DATABASE!W20,FALSE)","v":"Bahasa Inggris"},{"$f":"HLOOKUP(MENU!$I$8&\" \"&$B$3,DATABASE!$X$2:$CK$92,DATABASE!W21,FALSE)","v":"-"},{"$f":"HLOOKUP(MENU!$I$8&\" \"&$B$3,DATABASE!$X$2:$CK$92,DATABASE!W22,FALSE)","v":"-"},{"$f":"HLOOKUP(MENU!$I$8&\" \"&$B$3,DATABASE!$X$2:$CK$92,DATABASE!W23,FALSE)","v":"-"},{"$f":"HLOOKUP(MENU!$I$8&\" \"&$B$3,DATABASE!$X$2:$CK$92,DATABASE!W24,FALSE)","v":"Pendidikan Jasmani, Olah Raga & Kesehatan"},{"$f":"HLOOKUP(MENU!$I$8&\" \"&$B$3,DATABASE!$X$2:$CK$92,DATABASE!W25,FALSE)","v":"Pendidikan Jasmani, Olah Raga & Kesehatan"},{"$f":"HLOOKUP(MENU!$I$8&\" \"&$B$3,DATABASE!$X$2:$CK$92,DATABASE!W26,FALSE)","v":"Pendidikan Jasmani, Olah Raga & Kesehatan"},{"$f":"HLOOKUP(MENU!$I$8&\" \"&$B$3,DATABASE!$X$2:$CK$92,DATABASE!W27,FALSE)","v":"-"},{"$f":"HLOOKUP(MENU!$I$8&\" \"&$B$3,DATABASE!$X$2:$CK$92,DATABASE!W28,FALSE)","v":"-"},{"$f":"HLOOKUP(MENU!$I$8&\" \"&$B$3,DATABASE!$X$2:$CK$92,DATABASE!W29,FALSE)","v":"-"},{"$f":"HLOOKUP(MENU!$I$8&\" \"&$B$3,DATABASE!$X$2:$CK$92,DATABASE!W30,FALSE)","v":"Bahasa Jepang"},{"$f":"HLOOKUP(MENU!$I$8&\" \"&$B$3,DATABASE!$X$2:$CK$92,DATABASE!W31,FALSE)","v":"Bahasa Jepang"},{"$f":"HLOOKUP(MENU!$I$8&\" \"&$B$3,DATABASE!$X$2:$CK$92,DATABASE!W32,FALSE)","v":"Bahasa Jepang"},{"$f":"HLOOKUP(MENU!$I$8&\" \"&$B$3,DATABASE!$X$2:$CK$92,DATABASE!W33,FALSE)","v":"-"},{"$f":"HLOOKUP(MENU!$I$8&\" \"&$B$3,DATABASE!$X$2:$CK$92,DATABASE!W34,FALSE)","v":"-"},{"$f":"HLOOKUP(MENU!$I$8&\" \"&$B$3,DATABASE!$X$2:$CK$92,DATABASE!W35,FALSE)","v":"-"},{"$f":"HLOOKUP(MENU!$I$8&\" \"&$B$3,DATABASE!$X$2:$CK$92,DATABASE!W36,FALSE)","v":"-"},{"$f":"HLOOKUP(MENU!$I$8&\" \"&$B$3,DATABASE!$X$2:$CK$92,DATABASE!W37,FALSE)","v":"-"},{"$f":"HLOOKUP(MENU!$I$8&\" \"&$B$3,DATABASE!$X$2:$CK$92,DATABASE!W38,FALSE)","v":"-"},{"$f":"HLOOKUP(MENU!$I$8&\" \"&$B$3,DATABASE!$X$2:$CK$92,DATABASE!W39,FALSE)","v":"-"},{"$f":"HLOOKUP(MENU!$I$8&\" \"&$B$3,DATABASE!$X$2:$CK$92,DATABASE!W40,FALSE)","v":"-"},{"$f":"HLOOKUP(MENU!$I$8&\" \"&$B$3,DATABASE!$X$2:$CK$92,DATABASE!W41,FALSE)","v":"-"},{"$f":"HLOOKUP(MENU!$I$8&\" \"&$B$3,DATABASE!$X$2:$CK$92,DATABASE!W42,FALSE)","v":"-"},{"$f":"HLOOKUP(MENU!$I$8&\" \"&$B$3,DATABASE!$X$2:$CK$92,DATABASE!W43,FALSE)","v":"-"},{"$f":"HLOOKUP(MENU!$I$8&\" \"&$B$3,DATABASE!$X$2:$CK$92,DATABASE!W44,FALSE)","v":"-"},{"$f":"HLOOKUP(MENU!$I$8&\" \"&$B$3,DATABASE!$X$2:$CK$92,DATABASE!W45,FALSE)","v":"-"},{"$f":"HLOOKUP(MENU!$I$8&\" \"&$B$3,DATABASE!$X$2:$CK$92,DATABASE!W46,FALSE)","v":"-"},{"$f":"HLOOKUP(MENU!$I$8&\" \"&$B$3,DATABASE!$X$2:$CK$92,DATABASE!W47,FALSE)","v":"-"},{"$f":"HLOOKUP(MENU!$I$8&\" \"&$B$3,DATABASE!$X$2:$CK$92,DATABASE!W48,FALSE)","v":"-"},{"$f":"HLOOKUP(MENU!$I$8&\" \"&$B$3,DATABASE!$X$2:$CK$92,DATABASE!W49,FALSE)","v":"-"},{"$f":"HLOOKUP(MENU!$I$8&\" \"&$B$3,DATABASE!$X$2:$CK$92,DATABASE!W50,FALSE)","v":"-"},{"$f":"HLOOKUP(MENU!$I$8&\" \"&$B$3,DATABASE!$X$2:$CK$92,DATABASE!W51,FALSE)","v":"-"},{"$f":"HLOOKUP(MENU!$I$8&\" \"&$B$3,DATABASE!$X$2:$CK$92,DATABASE!W52,FALSE)","v":"-"},{"$f":"HLOOKUP(MENU!$I$8&\" \"&$B$3,DATABASE!$X$2:$CK$92,DATABASE!W53,FALSE)","v":"-"},{"$f":"HLOOKUP(MENU!$I$8&\" \"&$B$3,DATABASE!$X$2:$CK$92,DATABASE!W54,FALSE)","v":"Administrasi Infrastruktur Jaringan"},{"$f":"HLOOKUP(MENU!$I$8&\" \"&$B$3,DATABASE!$X$2:$CK$92,DATABASE!W55,FALSE)","v":"Administrasi Infrastruktur Jaringan"},{"$f":"HLOOKUP(MENU!$I$8&\" \"&$B$3,DATABASE!$X$2:$CK$92,DATABASE!W56,FALSE)","v":"Administrasi Infrastruktur Jaringan"},{"$f":"HLOOKUP(MENU!$I$8&\" \"&$B$3,DATABASE!$X$2:$CK$92,DATABASE!W57,FALSE)","v":"Administrasi Sistem Jaringan"},{"$f":"HLOOKUP(MENU!$I$8&\" \"&$B$3,DATABASE!$X$2:$CK$92,DATABASE!W58,FALSE)","v":"Administrasi Sistem Jaringan"},{"$f":"HLOOKUP(MENU!$I$8&\" \"&$B$3,DATABASE!$X$2:$CK$92,DATABASE!W59,FALSE)","v":"Administrasi Sistem Jaringan"},{"$f":"HLOOKUP(MENU!$I$8&\" \"&$B$3,DATABASE!$X$2:$CK$92,DATABASE!W60,FALSE)","v":"Teknologi Layanan Jaringan"},{"$f":"HLOOKUP(MENU!$I$8&\" \"&$B$3,DATABASE!$X$2:$CK$92,DATABASE!W61,FALSE)","v":"Teknologi Layanan Jaringan"},{"$f":"HLOOKUP(MENU!$I$8&\" \"&$B$3,DATABASE!$X$2:$CK$92,DATABASE!W62,FALSE)","v":"Teknologi Layanan Jaringan"},{"$f":"HLOOKUP(MENU!$I$8&\" \"&$B$3,DATABASE!$X$2:$CK$92,DATABASE!W63,FALSE)","v":"-"},{"$f":"HLOOKUP(MENU!$I$8&\" \"&$B$3,DATABASE!$X$2:$CK$92,DATABASE!W64,FALSE)","v":"-"},{"$f":"HLOOKUP(MENU!$I$8&\" \"&$B$3,DATABASE!$X$2:$CK$92,DATABASE!W65,FALSE)","v":"-"},{"$f":"HLOOKUP(MENU!$I$8&\" \"&$B$3,DATABASE!$X$2:$CK$92,DATABASE!W66,FALSE)","v":"-"},{"$f":"HLOOKUP(MENU!$I$8&\" \"&$B$3,DATABASE!$X$2:$CK$92,DATABASE!W67,FALSE)","v":"-"},{"$f":"HLOOKUP(MENU!$I$8&\" \"&$B$3,DATABASE!$X$2:$CK$92,DATABASE!W68,FALSE)","v":"-"},{"$f":"HLOOKUP(MENU!$I$8&\" \"&$B$3,DATABASE!$X$2:$CK$92,DATABASE!W69,FALSE)","v":"Produk Kreatif dan Kewirausahaan "},{"$f":"HLOOKUP(MENU!$I$8&\" \"&$B$3,DATABASE!$X$2:$CK$92,DATABASE!W70,FALSE)","v":"Produk Kreatif dan Kewirausahaan "},{"$f":"HLOOKUP(MENU!$I$8&\" \"&$B$3,DATABASE!$X$2:$CK$92,DATABASE!W71,FALSE)","v":"Produk Kreatif dan Kewirausahaan "},{"$f":"HLOOKUP(MENU!$I$8&\" \"&$B$3,DATABASE!$X$2:$CK$92,DATABASE!W72,FALSE)","v":"-"},{"$f":"HLOOKUP(MENU!$I$8&\" \"&$B$3,DATABASE!$X$2:$CK$92,DATABASE!W73,FALSE)","v":"-"},{"$f":"HLOOKUP(MENU!$I$8&\" \"&$B$3,DATABASE!$X$2:$CK$92,DATABASE!W74,FALSE)","v":"-"},{"$f":"HLOOKUP(MENU!$I$8&\" \"&$B$3,DATABASE!$X$2:$CK$92,DATABASE!W75,FALSE)","v":"-"},{"$f":"HLOOKUP(MENU!$I$8&\" \"&$B$3,DATABASE!$X$2:$CK$92,DATABASE!W76,FALSE)","v":"-"},{"$f":"HLOOKUP(MENU!$I$8&\" \"&$B$3,DATABASE!$X$2:$CK$92,DATABASE!W77,FALSE)","v":"-"},{"$f":"HLOOKUP(MENU!$I$8&\" \"&$B$3,DATABASE!$X$2:$CK$92,DATABASE!W78,FALSE)","v":"-"},{"$f":"HLOOKUP(MENU!$I$8&\" \"&$B$3,DATABASE!$X$2:$CK$92,DATABASE!W79,FALSE)","v":"-"},{"$f":"HLOOKUP(MENU!$I$8&\" \"&$B$3,DATABASE!$X$2:$CK$92,DATABASE!W80,FALSE)","v":"-"},{"$f":"HLOOKUP(MENU!$I$8&\" \"&$B$3,DATABASE!$X$2:$CK$92,DATABASE!W81,FALSE)","v":"-"},{"$f":"HLOOKUP(MENU!$I$8&\" \"&$B$3,DATABASE!$X$2:$CK$92,DATABASE!W82,FALSE)","v":"-"},{"$f":"HLOOKUP(MENU!$I$8&\" \"&$B$3,DATABASE!$X$2:$CK$92,DATABASE!W83,FALSE)","v":"-"},{"$f":"HLOOKUP(MENU!$I$8&\" \"&$B$3,DATABASE!$X$2:$CK$92,DATABASE!W84,FALSE)","v":"-"},{"$f":"HLOOKUP(MENU!$I$8&\" \"&$B$3,DATABASE!$X$2:$CK$92,DATABASE!W85,FALSE)","v":"-"},{"$f":"HLOOKUP(MENU!$I$8&\" \"&$B$3,DATABASE!$X$2:$CK$92,DATABASE!W86,FALSE)","v":"-"},{"$f":"HLOOKUP(MENU!$I$8&\" \"&$B$3,DATABASE!$X$2:$CK$92,DATABASE!W87,FALSE)","v":"-"},{"$f":"HLOOKUP(MENU!$I$8&\" \"&$B$3,DATABASE!$X$2:$CK$92,DATABASE!W88,FALSE)","v":"-"},{"$f":"HLOOKUP(MENU!$I$8&\" \"&$B$3,DATABASE!$X$2:$CK$92,DATABASE!W89,FALSE)","v":"-"},{"$f":"HLOOKUP(MENU!$I$8&\" \"&$B$3,DATABASE!$X$2:$CK$92,DATABASE!W90,FALSE)","v":"-"},{"$f":"HLOOKUP(MENU!$I$8&\" \"&$B$3,DATABASE!$X$2:$CK$92,DATABASE!W91,FALSE)","v":"-"},{"$f":"HLOOKUP(MENU!$I$8&\" \"&$B$3,DATABASE!$X$2:$CK$92,DATABASE!W92,FALSE)","v":"-"},"NILAI BP/BK","NAMA TEMPAT PKL","LOKASI TEMPAT PKL","LAMA PKL (BULAN)","KET. NILAI PKL","NAMA TEMPAT PKL","LOKASI TEMPAT PKL","LAMA PKL (BULAN)","KET. NILAI PKL","NAMA ESKUL 1","NILAI ESKUL 1","NAMA ESKUL 2","NILAI ESKUL 2","NAMA ESKUL 3","NILAI ESKUL 3","JENIS PRESTASI 1","KET. NILAI PRESTASI 1","JENIS PRESTASI 2","KET. NILAI PRESTASI 2","SAKIT","IJIN","TANPA KETERANGAN","NILAI SIKAP SPIRITUAL (OTOMATIS)","NILAI SIKAP SOSIAL (OTOMATIS)","CEK JUMLAH MAPEL (HARUS SAMA)!","RATA-RATA PENGETAHUAN","RATA-RATA KETERAMPILAN","JUMLAH NILAI PENGETAHUAN","JUMLAH NILAI KETERAMPILAN","TOTAL NILAI","FORMULA PERINGKAT KELAS","PENENTUAN PERINGKAT OLEH WALI KELAS","JUMLAH SISWA DI KELAS","NAIK/TIDAK NAIK KELAS",null,null,null,null,null,"JANGAN EDIT DATA DI KOLOM INI KE BAWAH"]
["Semester :","4 (empat)","KELOMPOK MAPEL","A","A","A","A","A","A","A","A","A","A","A","A","A","A","A","A","A","A","B","B","B","B","B","B","B","B","B","B","B","B","C1","C1","C1","C1","C1","C1","C1","C1","C1","C2","C2","C2","C2","C2","C2","C2","C2","C2","C2","C2","C2","C3","C3","C3","C3","C3","C3","C3","C3","C3","C3","C3","C3","C3","C3","C3","C3","C3","C3","-",null,null,"-",null,null,"-",null,null,"-",null,null,"-",null,null,"-",null,null,"-",null,null,null,null,null,null,null,null,null,null,null,null,null,null,null,null,null,null,null,null,null,null,null,null,null,null,null,null,null,null,null,null,null,null,null,null,"Titimangsa Rapor :",null,null,null,null,null,1,2,3,4,5,6,7,8,9,10,11,12,13,14,15,16,17,18,19,20,21,22,23,24,25,26,27,28,29,30,31]
["Wali Kelas :",{"$f":"MENU!P18","v":"Bimuka Jati Andromeda, S.Pd"},"URUTAN MAPEL",1,1,1,2,2,2,3,3,3,4,4,4,"-","-","-",5,5,5,"-","-","-",1,1,1,"-","-","-",2,2,2,1,1,1,2,2,2,3,3,3,1,1,1,2,2,2,3,3,3,4,4,4,1,1,1,2,2,2,3,3,3,4,4,4,5,5,5,6,6,6,null,null,null,null,null,null,null,null,null,null,null,null,1,null,null,"-",null,null,"-",null,null,null,"KEGIATAN PKL",null,null,null,"KEGIATAN PKL",null,null,null,"KEGIATAN EKSTRAKURIKULER",null,null,null,null,null,"CATATAN PRESTASI",null,null,null,"KETIDAKHADIRAN",null,null,null,null,null,"RATA-RATA NILAI",null,"JUMLAH NILAI",null,null,null,"PERINGKAT KELAS",null,null,{"$f":"MENU!P17","v":0},null,null,null,null,null,"KI-1  &  KI-2",null,"KI-2"]
[{"$f":"MENU!N19","v":"NIP"},{"$f":"MENU!P19","v":"19900202 201503 1 003"},"KB",77,77,"B",77,77,"B",77,77,"B",77,77,"B",77,77,"B",77,77,"B",77,77,"B",77,77,"B",77,77,"B",77,77,"B",77,77,"B",77,77,"B",77,77,"B",77,77,"B",77,77,"B",77,77,"B",77,77,"B",77,77,"B",77,77,"B",77,77,"B",77,77,"B",77,77,"B",77,77,"B",77,77,"B",77,77,"B",77,77,"B",77,77,"B",77,77,"B",77,77,"B",77,77,"B"]
["NO. URUT","NAMA SISWA","NIS","P","K","S","P","K","S","P","K","S","P","K","S","P","K","S","P","K","S","P","K","S","P","K","S","P","K","S","P","K","S","P","K","S","P","K","S","P","K","S","P","K","S","P","K","S","P","K","S","P","K","S","P","K","S","P","K","S","P","K","S","P","K","S","P","K","S","P","K","S","P","K","S","P","K","S","P","K","S","P","K","S","P","K","S","P","K","S","P","K","S",null,null,null,null,null,null,null,null,null,null,null,null,null,null,null,null,null,null,null,null,null,null,null,null,null,null,null,null,null,null,null,"SILAHKAN DIISI MANUAL"]
[1,2,3,4,5,6,7,8,9,10,11,12,13,14,15,16,17,18,19,20,21,22,23,24,25,26,27,28,29,30,31,32,33,34,35,36,37,38,39,40,41,42,43,44,45,46,47,48,49,50,51,52,53,54,55,56,57,58,59,60,61,62,63,64,65,66,67,68,69,70,71,72,73,74,75,76,77,78,79,80,81,82,83,84,85,86,87,88,89,90,91,92,93,94,95,96,97,98,99,100,101,102,103,104,105,106,107,108,109,110,111,112,113,114,115,116,117,118,119,120,121,122,123,124,125,126,127]
[{"$f":"BIODATA!A5","v":1},{"$f":"BIODATA!C5","v":"AGHNIA SYAFIRA"},{"$f":"BIODATA!D5","v":13140767},91.5,83.25,"B",89,88.25,"A",91.25,98.25,"B",83.25,83.75,"B","-","-","-",91.25,93.25,"B","-","-","-",93.25,88.25,"B","-","-","-",82,88.25,"B","-","-","-","-","-","-","-","-","-","-","-","-","-","-","-","-","-","-","-","-","-",82.25,78.25,"B",84.25,86.25,"B",85,88.25,"B","-","-","-","-","-","-",83.25,78.25,"B","-","-","-","-","-","-","-","-","-","-","-","-","-","-","-","-","-","-","-","-","-","B","PT.GS Battery Karawang Plant","Kawasan Industri Suryacipta, Karawang",3,"Sangat Baik","PT. Unitted Tractors Pandu Engineering","Jakarta",3,"Baik","OSIS","B","Palang Merah Remaja","B","Pramuka","B","Juara 2 Cerdas Cermat Tk. Kabupaten",null,"-","-",2,15,"-",{"$f":"FJ8","v":"A"},{"$f":"FL8","v":"B"},{"$f":"COUNT(D8:CN8)/2","v":11},{"$f":"IFERROR(ROUND(AVERAGE(D8,G8,J8,M8,P8,S8,V8,Y8,AB8,AE8,AH8,AK8,AN8,AQ8,AT8,AW8,AZ8,BC8,BF8,BI8,BL8,BO8,BR8,BU8,BX8,CA8,CD8,CG8,CJ8,CM8),0),\"-\")","v":87},{"$f":"IFERROR(ROUND(AVERAGE(E8,H8,K8,N8,Q8,T8,W8,Z8,AC8,AF8,AI8,AL8,AO8,AR8,AU8,AX8,BA8,BD8,BG8,BJ8,BM8,BP8,BS8,BV8,BY8,CB8,CE8,CH8,CK8,CN8),0),\"-\")","v":87},{"$f":"ROUND(SUM(D8,G8,J8,M8,P8,S8,V8,Y8,AB8,AE8,AH8,AK8,AN8,AQ8,AT8,AW8,AZ8,BC8,BF8,BI8,BL8,BO8,BR8,BU8,BX8,CA8,CD8,CG8,CJ8,CM8),0)","v":956},{"$f":"ROUND(SUM(E8,H8,K8,N8,Q8,T8,W8,Z8,AC8,AF8,AI8,AL8,AO8,AR8,AU8,AX8,BA8,BD8,BG8,BJ8,BM8,BP8,BS8,BV8,BY8,CB8,CE8,CH8,CK8,CN8),0)","v":954},{"$f":"SUM(DQ8:DR8)","v":1910},{"$f":"RANK(DS8,$DS$8:$DS$52,0)","v":5},null,{"$f":"COUNT($A$8:$A$52)","v":36},"NAIK KELAS",null,null,null,null,null,null,{"$f":"IF(F8=\"A\",4,IF(F8=\"B\",3,IF(F8=\"C\",2,IF(F8=\"D\",1,\"-\"))))","v":3},{"$f":"IF(I8=\"A\",4,IF(I8=\"B\",3,IF(I8=\"C\",2,IF(I8=\"D\",1,\"-\"))))","v":4},{"$f":"IF(L8=\"A\",4,IF(L8=\"B\",3,IF(L8=\"C\",2,IF(L8=\"D\",1,\"-\"))))","v":3},{"$f":"IF(O8=\"A\",4,IF(O8=\"B\",3,IF(O8=\"C\",2,IF(O8=\"D\",1,\"-\"))))","v":3},{"$f":"IF(R8=\"A\",4,IF(R8=\"B\",3,IF(R8=\"C\",2,IF(R8=\"D\",1,\"-\"))))","v":"-"},{"$f":"IF(U8=\"A\",4,IF(U8=\"B\",3,IF(U8=\"C\",2,IF(U8=\"D\",1,\"-\"))))","v":3},{"$f":"IF(X8=\"A\",4,IF(X8=\"B\",3,IF(X8=\"C\",2,IF(X8=\"D\",1,\"-\"))))","v":"-"},{"$f":"IF(AA8=\"A\",4,IF(AA8=\"B\",3,IF(AA8=\"C\",2,IF(AA8=\"D\",1,\"-\"))))","v":3},{"$f":"IF(AD8=\"A\",4,IF(AD8=\"B\",3,IF(AD8=\"C\",2,IF(AD8=\"D\",1,\"-\"))))","v":"-"},{"$f":"IF(AG8=\"A\",4,IF(AG8=\"B\",3,IF(AG8=\"C\",2,IF(AG8=\"D\",1,\"-\"))))","v":3},{"$f":"IF(AJ8=\"A\",4,IF(AJ8=\"B\",3,IF(AJ8=\"C\",2,IF(AJ8=\"D\",1,\"-\"))))","v":"-"},{"$f":"IF(AM8=\"A\",4,IF(AM8=\"B\",3,IF(AM8=\"C\",2,IF(AM8=\"D\",1,\"-\"))))","v":"-"},{"$f":"IF(AP8=\"A\",4,IF(AP8=\"B\",3,IF(AP8=\"C\",2,IF(AP8=\"D\",1,\"-\"))))","v":"-"},{"$f":"IF(AS8=\"A\",4,IF(AS8=\"B\",3,IF(AS8=\"C\",2,IF(AS8=\"D\",1,\"-\"))))","v":"-"},{"$f":"IF(AV8=\"A\",4,IF(AV8=\"B\",3,IF(AV8=\"C\",2,IF(AV8=\"D\",1,\"-\"))))","v":"-"},{"$f":"IF(AY8=\"A\",4,IF(AY8=\"B\",3,IF(AY8=\"C\",2,IF(AY8=\"D\",1,\"-\"))))","v":"-"},{"$f":"IF(BB8=\"A\",4,IF(BB8=\"B\",3,IF(BB8=\"C\",2,IF(BB8=\"D\",1,\"-\"))))","v":"-"},{"$f":"IF(BE8=\"A\",4,IF(BE8=\"B\",3,IF(BE8=\"C\",2,IF(BE8=\"D\",1,\"-\"))))","v":3},{"$f":"IF(BH8=\"A\",4,IF(BH8=\"B\",3,IF(BH8=\"C\",2,IF(BH8=\"D\",1,\"-\"))))","v":3},{"$f":"IF(BD8=\"A\",4,IF(BD8=\"B\",3,IF(BD8=\"C\",2,IF(BD8=\"D\",1,\"-\"))))","v":"-"},{"$f":"IF(BN8=\"A\",4,IF(BN8=\"B\",3,IF(BN8=\"C\",2,IF(BN8=\"D\",1,\"-\"))))","v":"-"},{"$f":"IF(BQ8=\"A\",4,IF(BQ8=\"B\",3,IF(BQ8=\"C\",2,IF(BQ8=\"D\",1,\"-\"))))","v":"-"},{"$f":"IF(BT8=\"A\",4,IF(BT8=\"B\",3,IF(BT8=\"C\",2,IF(BT8=\"D\",1,\"-\"))))","v":3},{"$f":"IF(BW8=\"A\",4,IF(BW8=\"B\",3,IF(BW8=\"C\",2,IF(BW8=\"D\",1,\"-\"))))","v":"-"},{"$f":"IF(BZ8=\"A\",4,IF(BZ8=\"B\",3,IF(BZ8=\"C\",2,IF(BZ8=\"D\",1,\"-\"))))","v":"-"},{"$f":"IF(CC8=\"A\",4,IF(CC8=\"B\",3,IF(CC8=\"C\",2,IF(CC8=\"D\",1,\"-\"))))","v":"-"},{"$f":"IF(CF8=\"A\",4,IF(CF8=\"B\",3,IF(CF8=\"C\",2,IF(CF8=\"D\",1,\"-\"))))","v":"-"},{"$f":"IF(CI8=\"A\",4,IF(CI8=\"B\",3,IF(CI8=\"C\",2,IF(CI8=\"D\",1,\"-\"))))","v":"-"},{"$f":"IF(CL8=\"A\",4,IF(CL8=\"B\",3,IF(CL8=\"C\",2,IF(CL8=\"D\",1,\"-\"))))","v":"-"},{"$f":"IF(CO8=\"A\",4,IF(CO8=\"B\",3,IF(CO8=\"C\",2,IF(CO8=\"D\",1,\"-\"))))","v":"-"},{"$f":"IF(CP8=\"A\",4,IF(CP8=\"B\",3,IF(CP8=\"C\",2,IF(CP8=\"D\",1,\"-\"))))","v":3},{"$f":"IFERROR(ROUND(AVERAGE(ED8:EE8),0),\"\")","v":4},{"$f":"IFERROR(IF(FI8=4,\"A\",IF(FI8=3,\"B\",IF(FI8=2,\"C\",IF(FI8=1,\"D\",\"-\")))),\"-\")","v":"A"},{"$f":"IFERROR(MODE(ED8:FH8),\"-\")","v":3},{"$f":"IFERROR(IF(FK8=4,\"A\",IF(FK8=3,\"B\",IF(FK8=2,\"C\",IF(FK8=1,\"D\",\"-\")))),\"-\")","v":"B"}]
[{"$f":"BIODATA!A6","v":2},{"$f":"BIODATA!C6","v":"AL KINDI"},{"$f":"BIODATA!D6","v":13140768},91.5,3.125,"B",90.25,3.6805555555555558,"A",89.25,4.1666666666666661,"B",83.25,3.6458333333333335,"B","-","-","-",83.25,3.8194444444444442,"B","-","-","-",94.5,3.5069444444444446,"B","-","-","-",80.25,3.125,"B","-","-","-","-","-","-","-","-","-","-","-","-","-","-","-","-","-","-","-","-","-",81,84,"B",83,83,"B",85,83,"B","-","-","-","-","-","-",82,88.25,"B","-","-","-","-","-","-","-","-","-","-","-","-","-","-","-","-","-","-","-","-","-","A","Dinas Bina Marga","Karawang",3,"Baik","Dinas Perhubungan","Karawang",3,"Sangat Baik","Rohis","B","OSIS","B","Palang Merah Remaja","B","Juara 1 LKS Jawa Barat",null,"-","-",3,"-","-",{"$f":"FJ9","v":"A"},{"$f":"FL9","v":"B"},11,{"$f":"IFERROR(ROUND(AVERAGE(D9,G9,J9,M9,P9,S9,V9,Y9,AB9,AE9,AH9,AK9,AN9,AQ9,AT9,AW9,AZ9,BC9,BF9,BI9,BL9,BO9,BR9,BU9,BX9,CA9,CD9,CG9,CJ9,CM9),0),\"-\")","v":86},33,{"$f":"ROUND(SUM(D9,G9,J9,M9,P9,S9,V9,Y9,AB9,AE9,AH9,AK9,AN9,AQ9,AT9,AW9,AZ9,BC9,BF9,BI9,BL9,BO9,BR9,BU9,BX9,CA9,CD9,CG9,CJ9,CM9),0)","v":943},{"$f":"ROUND(SUM(E9,H9,K9,N9,Q9,T9,W9,Z9,AC9,AF9,AI9,AL9,AO9,AR9,AU9,AX9,BA9,BD9,BG9,BJ9,BM9,BP9,BS9,BV9,BY9,CB9,CE9,CH9,CK9,CN9),0)","v":363},{"$f":"SUM(DQ9:DR9)","v":1306},{"$f":"RANK(DS9,$DS$8:$DS$52,0)","v":7},null,{"$f":"COUNT($A$8:$A$52)","v":36},"NAIK KELAS",null,null,null,null,null,null,3,4,3,3,"-",3,"-",3,"-",3,"-","-","-","-","-","-","-",3,3,"-","-","-",3,"-","-","-","-","-","-","-",4,{"$f":"IFERROR(ROUND(AVERAGE(ED9:EE9),0),\"\")","v":4},"A",{"$f":"IFERROR(MODE(ED9:FH9),\"-\")","v":3},{"$f":"IFERROR(IF(FK9=4,\"A\",IF(FK9=3,\"B\",IF(FK9=2,\"C\",IF(FK9=1,\"D\",\"-\")))),\"-\")","v":"B"}]
[{"$f":"BIODATA!A7","v":3},{"$f":"BIODATA!C7","v":"ALFIAN MULYADI NATA"},{"$f":"BIODATA!D7","v":13140769},83.25,91.5,"B",91,94.25,"A",95,98.25,"B",83.25,83.75,"B","-","-","-",97.75,93.25,"B","-","-","-",92.75,93.25,"B","-","-","-",89.75,88.25,"B","-","-","-","-","-","-","-","-","-","-","-","-","-","-","-","-","-","-","-","-","-",99.25,85.25,"B",91.5,93.25,"B",84.75,88.25,"B","-","-","-","-","-","-",82.5,85.25,"B","-","-","-","-","-","-","-","-","-","-","-","-","-","-","-","-","-","-","-","-","-",null,"PT. Unitted Tractors Pandu Engineering","Jakarta",3,"Baik","PT.GS Battery Karawang Plant","Kawasan Industri Suryacipta, Karawang",3,"Baik","OSIS","B","Paskibra","B","Palang Merah Remaja","B",null,null,"-","-",5,"-","-","A","B",11,90,90,991,995,1986,1,null,36,"NAIK KELAS",null,null,null,null,null,null,3,4,3,3,"-",3,"-",3,"-",3,"-","-","-","-","-","-","-",3,3,"-","-","-",3,"-","-","-","-","-","-","-","-",4,"A",3,"B"]
[{"$f":"BIODATA!A8","v":4},{"$f":"BIODATA!C8","v":"ALFIANA WAHYU ATMADJA"},{"$f":"BIODATA!D8","v":13140770},91.5,83.25,"B",88.75,88.25,"B",89.5,98.25,"B",83.25,83.75,"B","-","-","-",89.5,93.25,"B","-","-","-",93.5,91.25,"B","-","-","-",79.75,83.25,"B","-","-","-","-","-","-","-","-","-","-","-","-","-","-","-","-","-","-","-","-","-",80.5,78.25,"B",83.5,88.25,"B",84,88.25,"B","-","-","-","-","-","-",82.25,78.25,"B","-","-","-","-","-","-","-","-","-","-","-","-","-","-","-","-","-","-","-","-","-",null,"Dinas Perhubungan","Karawang",3,"Baik","PT. Astra Nippon Gasket Indonesia","KIIC, Karawang",3,"Baik","Paskibra","B","Volley","B","Paskibra","B",null,null,"-","-",1,2,3,"B","B",11,86,87,946,954,1900,6,null,36,"NAIK KELAS",null,null,null,null,null,null,3,3,3,3,"-",3,"-",3,"-",3,"-","-","-","-","-","-","-",3,3,"-","-","-",3,"-","-","-","-","-","-","-","-",3,"B",3,"B"]
[{"$f":"BIODATA!A9","v":5},{"$f":"BIODATA!C9","v":"ASEP DODO ROHENDI"},{"$f":"BIODATA!D9","v":13140771},91.5,83.25,"B",88.75,88.25,"B",89,98.25,"B",83.25,83.75,"B","-","-","-",95.25,93.25,"B","-","-","-",89.25,93.25,"B","-","-","-",79.75,83.25,"B","-","-","-","-","-","-","-","-","-","-","-","-","-","-","-","-","-","-","-","-","-",80.5,78.25,"B",88.25,91.25,"B",84.75,88.25,"B","-","-","-","-","-","-",82,78.25,"B","-","-","-","-","-","-","-","-","-","-","-","-","-","-","-","-","-","-","-","-","-",null,"PT.GS Battery Karawang Plant","Kawasan Industri Suryacipta, Karawang",3,"Baik","PT.GS Battery Karawang Plant","Kawasan Industri Suryacipta, Karawang",3,"Baik","OSIS","B","Sepakbola","B","Palang Merah Remaja","B",null,null,"-","-","-","-","-","B","B",11,87,87,952,959,1911,4,null,36,"NAIK KELAS",null,null,null,null,null,null,3,3,3,3,"-",3,"-",3,"-",3,"-","-","-","-","-","-","-",3,3,"-","-","-",3,"-","-","-","-","-","-","-","-",3,"B",3,"B"]
[{"$f":"BIODATA!A10","v":6},{"$f":"BIODATA!C10","v":"BILLY RIZKI JHONATHAN"},{"$f":"BIODATA!D10","v":13140772},91.5,83.25,"B",89.5,86.25,"B",88.5,98.25,"B",78.25,83.75,"B","-","-","-",92.5,93.25,"B","-","-","-",88.25,90.25,"B","-","-","-",89.75,88.25,"A","-","-","-","-","-","-","-","-","-","-","-","-","-","-","-","-","-","-","-","-","-",82,82.25,"B",95,96.25,"A",88.75,93.25,"B","-","-","-","-","-","-",82.5,82.25,"B","-","-","-","-","-","-","-","-","-","-","-","-","-","-","-","-","-","-","-","-","-",null,"PT. Astra Nippon Gasket Indonesia","KIIC, Karawang",3,"Baik","Badan Pertanahan Nasional Kab.Karawang","Karawang",3,"Baik","Karate","B","Palang Merah Remaja","B","Pramuka","B",null,null,"-","-","-","-","-","B","B",11,88,89,967,977,1944,2,null,36,"NAIK KELAS",null,null,null,null,null,null,3,3,3,3,"-",3,"-",3,"-",4,"-","-","-","-","-","-","-",3,4,"-","-","-",3,"-","-","-","-","-","-","-","-",3,"B",3,"B"]
[{"$f":"BIODATA!A11","v":7},{"$f":"BIODATA!C11","v":"CAHYASARI RAMADHANTY"},{"$f":"BIODATA!D11","v":13140773},91.5,83.25,"B",88.5,88.25,"B",89.75,98.25,"B",78.25,83.75,"B","-","-","-",89.75,93.25,"B","-","-","-",91,93.25,"B","-","-","-",84,88.25,"B","-","-","-","-","-","-","-","-","-","-","-","-","-","-","-","-","-","-","-","-","-",82,82.25,"B",86.75,88.25,"B",85.25,88.25,"B","-","-","-","-","-","-",82.5,82.25,"B","-","-","-","-","-","-","-","-","-","-","-","-","-","-","-","-","-","-","-","-","-",null,"PT.GS Battery Karawang Plant","Kawasan Industri Suryacipta, Karawang",3,"Baik","PT. Astra Nippon Gasket Indonesia","KIIC, Karawang",3,"Baik",null,"B",null,"B",null,"B",null,null,"-","-","-","-","-","B","B",11,86,88,949,969,1918,3,null,36,"NAIK KELAS",null,null,null,null,null,null,3,3,3,3,"-",3,"-",3,"-",3,"-","-","-","-","-","-","-",3,3,"-","-","-",3,"-","-","-","-","-","-","-","-",3,"B",3,"B"]
[{"$f":"BIODATA!A12","v":8},{"$f":"BIODATA!C12","v":0},{"$f":"BIODATA!D12","v":0},null,null,null,null,null,null,null,null,null,null,null,null,null,null,null,null,null,null,null,null,null,null,null,null,null,null,null,null,null,null,null,null,null,null,null,null,null,null,null,null,null,null,null,null,null,null,null,null,null,null,null,null,null,null,null,null,null,null,null,null,null,null,null,null,null,null,null,null,null,null,null,null,null,null,null,null,null,null,null,null,null,null,null,null,null,null,null,null,null,null,null,null,null,null,null,null,null,null,null,null,"B",null,"B",null,"B",null,null,"-","-","-","-","-","-","-",0,"-","-",0,0,0,8,null,36,"NAIK KELAS",null,null,null,null,null,null,"-","-","-","-","-","-","-","-","-","-","-","-","-","-","-","-","-","-","-","-","-","-","-","-","-","-","-","-","-","-","-","","-","-","-"]
[{"$f":"BIODATA!A13","v":9},{"$f":"BIODATA!C13","v":0},{"$f":"BIODATA!D13","v":0},null,null,null,null,null,null,null,null,null,null,null,null,null,null,null,null,null,null,null,null,null,null,null,null,null,null,null,null,null,null,null,null,null,null,null,null,null,null,null,null,null,null,null,null,null,null,null,null,null,null,null,null,null,null,null,null,null,null,null,null,null,null,null,null,null,null,null,null,null,null,null,null,null,null,null,null,null,null,null,null,null,null,null,null,null,null,null,null,null,null,null,null,null,null,null,null,null,null,null,null,"B",null,"B",null,"B",null,null,"-","-","-","-","-","-","-",0,"-","-",0,0,0,8,null,36,"NAIK KELAS",null,null,null,null,null,null,"-","-","-","-","-","-","-","-","-","-","-","-","-","-","-","-","-","-","-","-","-","-","-","-","-","-","-","-","-","-","-","","-","-","-"]
[{"$f":"BIODATA!A14","v":10},{"$f":"BIODATA!C14","v":0},{"$f":"BIODATA!D14","v":0},null,null,null,null,null,null,null,null,null,null,null,null,null,null,null,null,null,null,null,null,null,null,null,null,null,null,null,null,null,null,null,null,null,null,null,null,null,null,null,null,null,null,null,null,null,null,null,null,null,null,null,null,null,null,null,null,null,null,null,null,null,null,null,null,null,null,null,null,null,null,null,null,null,null,null,null,null,null,null,null,null,null,null,null,null,null,null,null,null,null,null,null,null,null,null,null,null,null,null,null,"B",null,"B",null,"B",null,null,"-","-","-","-","-","-","-",0,"-","-",0,0,0,8,null,36,"NAIK KELAS",null,null,null,null,null,null,"-","-","-","-","-","-","-","-","-","-","-","-","-","-","-","-","-","-","-","-","-","-","-","-","-","-","-","-","-","-","-","","-","-","-"]
[{"$f":"BIODATA!A15","v":11},{"$f":"BIODATA!C15","v":0},{"$f":"BIODATA!D15","v":0},null,null,null,null,null,null,null,null,null,null,null,null,null,null,null,null,null,null,null,null,null,null,null,null,null,null,null,null,null,null,null,null,null,null,null,null,null,null,null,null,null,null,null,null,null,null,null,null,null,null,null,null,null,null,null,null,null,null,null,null,null,null,null,null,null,null,null,null,null,null,null,null,null,null,null,null,null,null,null,null,null,null,null,null,null,null,null,null,null,null,null,null,null,null,null,null,null,null,null,null,"B",null,"B",null,"B",null,null,"-","-","-","-","-","-","-",0,"-","-",0,0,0,8,null,36,"NAIK KELAS",null,null,null,null,null,null,"-","-","-","-","-","-","-","-","-","-","-","-","-","-","-","-","-","-","-","-","-","-","-","-","-","-","-","-","-","-","-","","-","-","-"]
[{"$f":"BIODATA!A16","v":12},{"$f":"BIODATA!C16","v":0},{"$f":"BIODATA!D16","v":0},null,null,null,null,null,null,null,null,null,null,null,null,null,null,null,null,null,null,null,null,null,null,null,null,null,null,null,null,null,null,null,null,null,null,null,null,null,null,null,null,null,null,null,null,null,null,null,null,null,null,null,null,null,null,null,null,null,null,null,null,null,null,null,null,null,null,null,null,null,null,null,null,null,null,null,null,null,null,null,null,null,null,null,null,null,null,null,null,null,null,null,null,null,null,null,null,null,null,null,null,"B",null,"B",null,"B",null,null,"-","-","-","-","-","-","-",0,"-","-",0,0,0,8,null,36,"NAIK KELAS",null,null,null,null,null,null,"-","-","-","-","-","-","-","-","-","-","-","-","-","-","-","-","-","-","-","-","-","-","-","-","-","-","-","-","-","-","-","","-","-","-"]
[{"$f":"BIODATA!A17","v":13},{"$f":"BIODATA!C17","v":0},{"$f":"BIODATA!D17","v":0},null,null,null,null,null,null,null,null,null,null,null,null,null,null,null,null,null,null,null,null,null,null,null,null,null,null,null,null,null,null,null,null,null,null,null,null,null,null,null,null,null,null,null,null,null,null,null,null,null,null,null,null,null,null,null,null,null,null,null,null,null,null,null,null,null,null,null,null,null,null,null,null,null,null,null,null,null,null,null,null,null,null,null,null,null,null,null,null,null,null,null,null,null,null,null,null,null,null,null,null,"B",null,"B",null,"B",null,null,"-","-","-","-","-","-","-",0,"-","-",0,0,0,8,null,36,"NAIK KELAS",null,null,null,null,null,null,"-","-","-","-","-","-","-","-","-","-","-","-","-","-","-","-","-","-","-","-","-","-","-","-","-","-","-","-","-","-","-","","-","-","-"]
[{"$f":"BIODATA!A18","v":14},{"$f":"BIODATA!C18","v":0},{"$f":"BIODATA!D18","v":0},null,null,null,null,null,null,null,null,null,null,null,null,null,null,null,null,null,null,null,null,null,null,null,null,null,null,null,null,null,null,null,null,null,null,null,null,null,null,null,null,null,null,null,null,null,null,null,null,null,null,null,null,null,null,null,null,null,null,null,null,null,null,null,null,null,null,null,null,null,null,null,null,null,null,null,null,null,null,null,null,null,null,null,null,null,null,null,null,null,null,null,null,null,null,null,null,null,null,null,null,"B",null,"B",null,"B",null,null,"-","-","-","-","-","-","-",0,"-","-",0,0,0,8,null,36,"NAIK KELAS",null,null,null,null,null,null,"-","-","-","-","-","-","-","-","-","-","-","-","-","-","-","-","-","-","-","-","-","-","-","-","-","-","-","-","-","-","-","","-","-","-"]
[{"$f":"BIODATA!A19","v":15},{"$f":"BIODATA!C19","v":0},{"$f":"BIODATA!D19","v":0},null,null,null,null,null,null,null,null,null,null,null,null,null,null,null,null,null,null,null,null,null,null,null,null,null,null,null,null,null,null,null,null,null,null,null,null,null,null,null,null,null,null,null,null,null,null,null,null,null,null,null,null,null,null,null,null,null,null,null,null,null,null,null,null,null,null,null,null,null,null,null,null,null,null,null,null,null,null,null,null,null,null,null,null,null,null,null,null,null,null,null,null,null,null,null,null,null,null,null,null,"B",null,"B",null,"B",null,null,"-","-","-","-","-","-","-",0,"-","-",0,0,0,8,null,36,"NAIK KELAS",null,null,null,null,null,null,"-","-","-","-","-","-","-","-","-","-","-","-","-","-","-","-","-","-","-","-","-","-","-","-","-","-","-","-","-","-","-","","-","-","-"]
[{"$f":"BIODATA!A20","v":16},{"$f":"BIODATA!C20","v":0},{"$f":"BIODATA!D20","v":0},null,null,null,null,null,null,null,null,null,null,null,null,null,null,null,null,null,null,null,null,null,null,null,null,null,null,null,null,null,null,null,null,null,null,null,null,null,null,null,null,null,null,null,null,null,null,null,null,null,null,null,null,null,null,null,null,null,null,null,null,null,null,null,null,null,null,null,null,null,null,null,null,null,null,null,null,null,null,null,null,null,null,null,null,null,null,null,null,null,null,null,null,null,null,null,null,null,null,null,null,"B",null,"B",null,"B",null,null,"-","-","-","-","-","-","-",0,"-","-",0,0,0,8,null,36,"NAIK KELAS",null,null,null,null,null,null,"-","-","-","-","-","-","-","-","-","-","-","-","-","-","-","-","-","-","-","-","-","-","-","-","-","-","-","-","-","-","-","","-","-","-"]
[{"$f":"BIODATA!A21","v":17},{"$f":"BIODATA!C21","v":0},{"$f":"BIODATA!D21","v":0},null,null,null,null,null,null,null,null,null,null,null,null,null,null,null,null,null,null,null,null,null,null,null,null,null,null,null,null,null,null,null,null,null,null,null,null,null,null,null,null,null,null,null,null,null,null,null,null,null,null,null,null,null,null,null,null,null,null,null,null,null,null,null,null,null,null,null,null,null,null,null,null,null,null,null,null,null,null,null,null,null,null,null,null,null,null,null,null,null,null,null,null,null,null,null,null,null,null,null,null,"B",null,"B",null,"B",null,null,"-","-","-","-","-","-","-",0,"-","-",0,0,0,8,null,36,"NAIK KELAS",null,null,null,null,null,null,"-","-","-","-","-","-","-","-","-","-","-","-","-","-","-","-","-","-","-","-","-","-","-","-","-","-","-","-","-","-","-","","-","-","-"]
[{"$f":"BIODATA!A22","v":18},{"$f":"BIODATA!C22","v":0},{"$f":"BIODATA!D22","v":0},null,null,null,null,null,null,null,null,null,null,null,null,null,null,null,null,null,null,null,null,null,null,null,null,null,null,null,null,null,null,null,null,null,null,null,null,null,null,null,null,null,null,null,null,null,null,null,null,null,null,null,null,null,null,null,null,null,null,null,null,null,null,null,null,null,null,null,null,null,null,null,null,null,null,null,null,null,null,null,null,null,null,null,null,null,null,null,null,null,null,null,null,null,null,null,null,null,null,null,null,"B",null,"B",null,"B",null,null,"-","-","-","-","-","-","-",0,"-","-",0,0,0,8,null,36,"NAIK KELAS",null,null,null,null,null,null,"-","-","-","-","-","-","-","-","-","-","-","-","-","-","-","-","-","-","-","-","-","-","-","-","-","-","-","-","-","-","-","","-","-","-"]
[{"$f":"BIODATA!A23","v":19},{"$f":"BIODATA!C23","v":0},{"$f":"BIODATA!D23","v":0},null,null,null,null,null,null,null,null,null,null,null,null,null,null,null,null,null,null,null,null,null,null,null,null,null,null,null,null,null,null,null,null,null,null,null,null,null,null,null,null,null,null,null,null,null,null,null,null,null,null,null,null,null,null,null,null,null,null,null,null,null,null,null,null,null,null,null,null,null,null,null,null,null,null,null,null,null,null,null,null,null,null,null,null,null,null,null,null,null,null,null,null,null,null,null,null,null,null,null,null,"B",null,"B",null,"B",null,null,"-","-","-","-","-","-","-",0,"-","-",0,0,0,8,null,36,"NAIK KELAS",null,null,null,null,null,null,"-","-","-","-","-","-","-","-","-","-","-","-","-","-","-","-","-","-","-","-","-","-","-","-","-","-","-","-","-","-","-","","-","-","-"]
[{"$f":"BIODATA!A24","v":20},{"$f":"BIODATA!C24","v":0},{"$f":"BIODATA!D24","v":0},null,null,null,null,null,null,null,null,null,null,null,null,null,null,null,null,null,null,null,null,null,null,null,null,null,null,null,null,null,null,null,null,null,null,null,null,null,null,null,null,null,null,null,null,null,null,null,null,null,null,null,null,null,null,null,null,null,null,null,null,null,null,null,null,null,null,null,null,null,null,null,null,null,null,null,null,null,null,null,null,null,null,null,null,null,null,null,null,null,null,null,null,null,null,null,null,null,null,null,null,"B",null,"B",null,"B",null,null,"-","-","-","-","-","-","-",0,"-","-",0,0,0,8,null,36,"NAIK KELAS",null,null,null,null,null,null,"-","-","-","-","-","-","-","-","-","-","-","-","-","-","-","-","-","-","-","-","-","-","-","-","-","-","-","-","-","-","-","","-","-","-"]
[{"$f":"BIODATA!A25","v":21},{"$f":"BIODATA!C25","v":0},{"$f":"BIODATA!D25","v":0},null,null,null,null,null,null,null,null,null,null,null,null,null,null,null,null,null,null,null,null,null,null,null,null,null,null,null,null,null,null,null,null,null,null,null,null,null,null,null,null,null,null,null,null,null,null,null,null,null,null,null,null,null,null,null,null,null,null,null,null,null,null,null,null,null,null,null,null,null,null,null,null,null,null,null,null,null,null,null,null,null,null,null,null,null,null,null,null,null,null,null,null,null,null,null,null,null,null,null,null,"B",null,"B",null,"B",null,null,"-","-","-","-","-","-","-",0,"-","-",0,0,0,8,null,36,"NAIK KELAS",null,null,null,null,null,null,"-","-","-","-","-","-","-","-","-","-","-","-","-","-","-","-","-","-","-","-","-","-","-","-","-","-","-","-","-","-","-","","-","-","-"]
[{"$f":"BIODATA!A26","v":22},{"$f":"BIODATA!C26","v":0},{"$f":"BIODATA!D26","v":0},null,null,null,null,null,null,null,null,null,null,null,null,null,null,null,null,null,null,null,null,null,null,null,null,null,null,null,null,null,null,null,null,null,null,null,null,null,null,null,null,null,null,null,null,null,null,null,null,null,null,null,null,null,null,null,null,null,null,null,null,null,null,null,null,null,null,null,null,null,null,null,null,null,null,null,null,null,null,null,null,null,null,null,null,null,null,null,null,null,null,null,null,null,null,null,null,null,null,null,null,"B",null,"B",null,"B",null,null,"-","-","-","-","-","-","-",0,"-","-",0,0,0,8,null,36,"NAIK KELAS",null,null,null,null,null,null,"-","-","-","-","-","-","-","-","-","-","-","-","-","-","-","-","-","-","-","-","-","-","-","-","-","-","-","-","-","-","-","","-","-","-"]
[{"$f":"BIODATA!A27","v":23},{"$f":"BIODATA!C27","v":0},{"$f":"BIODATA!D27","v":0},null,null,null,null,null,null,null,null,null,null,null,null,null,null,null,null,null,null,null,null,null,null,null,null,null,null,null,null,null,null,null,null,null,null,null,null,null,null,null,null,null,null,null,null,null,null,null,null,null,null,null,null,null,null,null,null,null,null,null,null,null,null,null,null,null,null,null,null,null,null,null,null,null,null,null,null,null,null,null,null,null,null,null,null,null,null,null,null,null,null,null,null,null,null,null,null,null,null,null,null,"B",null,"B",null,"B",null,null,"-","-","-","-","-","-","-",0,"-","-",0,0,0,8,null,36,"NAIK KELAS",null,null,null,null,null,null,"-","-","-","-","-","-","-","-","-","-","-","-","-","-","-","-","-","-","-","-","-","-","-","-","-","-","-","-","-","-","-","","-","-","-"]
[{"$f":"BIODATA!A28","v":24},{"$f":"BIODATA!C28","v":0},{"$f":"BIODATA!D28","v":0},null,null,null,null,null,null,null,null,null,null,null,null,null,null,null,null,null,null,null,null,null,null,null,null,null,null,null,null,null,null,null,null,null,null,null,null,null,null,null,null,null,null,null,null,null,null,null,null,null,null,null,null,null,null,null,null,null,null,null,null,null,null,null,null,null,null,null,null,null,null,null,null,null,null,null,null,null,null,null,null,null,null,null,null,null,null,null,null,null,null,null,null,null,null,null,null,null,null,null,null,"B",null,"B",null,"B",null,null,"-","-","-","-","-","-","-",0,"-","-",0,0,0,8,null,36,"NAIK KELAS",null,null,null,null,null,null,"-","-","-","-","-","-","-","-","-","-","-","-","-","-","-","-","-","-","-","-","-","-","-","-","-","-","-","-","-","-","-","","-","-","-"]
[{"$f":"BIODATA!A29","v":25},{"$f":"BIODATA!C29","v":0},{"$f":"BIODATA!D29","v":0},null,null,null,null,null,null,null,null,null,null,null,null,null,null,null,null,null,null,null,null,null,null,null,null,null,null,null,null,null,null,null,null,null,null,null,null,null,null,null,null,null,null,null,null,null,null,null,null,null,null,null,null,null,null,null,null,null,null,null,null,null,null,null,null,null,null,null,null,null,null,null,null,null,null,null,null,null,null,null,null,null,null,null,null,null,null,null,null,null,null,null,null,null,null,null,null,null,null,null,null,"B",null,"B",null,"B",null,null,"-","-","-","-","-","-","-",0,"-","-",0,0,0,8,null,36,"NAIK KELAS",null,null,null,null,null,null,"-","-","-","-","-","-","-","-","-","-","-","-","-","-","-","-","-","-","-","-","-","-","-","-","-","-","-","-","-","-","-","","-","-","-"]
[{"$f":"BIODATA!A30","v":26},{"$f":"BIODATA!C30","v":0},{"$f":"BIODATA!D30","v":0},null,null,null,null,null,null,null,null,null,null,null,null,null,null,null,null,null,null,null,null,null,null,null,null,null,null,null,null,null,null,null,null,null,null,null,null,null,null,null,null,null,null,null,null,null,null,null,null,null,null,null,null,null,null,null,null,null,null,null,null,null,null,null,null,null,null,null,null,null,null,null,null,null,null,null,null,null,null,null,null,null,null,null,null,null,null,null,null,null,null,null,null,null,null,null,null,null,null,null,null,"B",null,"B",null,"B",null,null,"-","-","-","-","-","-","-",0,"-","-",0,0,0,8,null,36,"NAIK KELAS",null,null,null,null,null,null,"-","-","-","-","-","-","-","-","-","-","-","-","-","-","-","-","-","-","-","-","-","-","-","-","-","-","-","-","-","-","-","","-","-","-"]
[{"$f":"BIODATA!A31","v":27},{"$f":"BIODATA!C31","v":0},{"$f":"BIODATA!D31","v":0},null,null,null,null,null,null,null,null,null,null,null,null,null,null,null,null,null,null,null,null,null,null,null,null,null,null,null,null,null,null,null,null,null,null,null,null,null,null,null,null,null,null,null,null,null,null,null,null,null,null,null,null,null,null,null,null,null,null,null,null,null,null,null,null,null,null,null,null,null,null,null,null,null,null,null,null,null,null,null,null,null,null,null,null,null,null,null,null,null,null,null,null,null,null,null,null,null,null,null,null,"B",null,"B",null,"B",null,null,"-","-","-","-","-","-","-",0,"-","-",0,0,0,8,null,36,"NAIK KELAS",null,null,null,null,null,null,"-","-","-","-","-","-","-","-","-","-","-","-","-","-","-","-","-","-","-","-","-","-","-","-","-","-","-","-","-","-","-","","-","-","-"]
[{"$f":"BIODATA!A32","v":28},{"$f":"BIODATA!C32","v":0},{"$f":"BIODATA!D32","v":0},null,null,null,null,null,null,null,null,null,null,null,null,null,null,null,null,null,null,null,null,null,null,null,null,null,null,null,null,null,null,null,null,null,null,null,null,null,null,null,null,null,null,null,null,null,null,null,null,null,null,null,null,null,null,null,null,null,null,null,null,null,null,null,null,null,null,null,null,null,null,null,null,null,null,null,null,null,null,null,null,null,null,null,null,null,null,null,null,null,null,null,null,null,null,null,null,null,null,null,null,"B",null,"B",null,"B",null,null,"-","-","-","-","-","-","-",0,"-","-",0,0,0,8,null,36,"NAIK KELAS",null,null,null,null,null,null,"-","-","-","-","-","-","-","-","-","-","-","-","-","-","-","-","-","-","-","-","-","-","-","-","-","-","-","-","-","-","-","","-","-","-"]
[{"$f":"BIODATA!A33","v":29},{"$f":"BIODATA!C33","v":0},{"$f":"BIODATA!D33","v":0},null,null,null,null,null,null,null,null,null,null,null,null,null,null,null,null,null,null,null,null,null,null,null,null,null,null,null,null,null,null,null,null,null,null,null,null,null,null,null,null,null,null,null,null,null,null,null,null,null,null,null,null,null,null,null,null,null,null,null,null,null,null,null,null,null,null,null,null,null,null,null,null,null,null,null,null,null,null,null,null,null,null,null,null,null,null,null,null,null,null,null,null,null,null,null,null,null,null,null,null,"B",null,"B",null,"B",null,null,"-","-","-","-","-","-","-",0,"-","-",0,0,0,8,null,36,"NAIK KELAS",null,null,null,null,null,null,"-","-","-","-","-","-","-","-","-","-","-","-","-","-","-","-","-","-","-","-","-","-","-","-","-","-","-","-","-","-","-","","-","-","-"]
[{"$f":"BIODATA!A34","v":30},{"$f":"BIODATA!C34","v":0},{"$f":"BIODATA!D34","v":0},null,null,null,null,null,null,null,null,null,null,null,null,null,null,null,null,null,null,null,null,null,null,null,null,null,null,null,null,null,null,null,null,null,null,null,null,null,null,null,null,null,null,null,null,null,null,null,null,null,null,null,null,null,null,null,null,null,null,null,null,null,null,null,null,null,null,null,null,null,null,null,null,null,null,null,null,null,null,null,null,null,null,null,null,null,null,null,null,null,null,null,null,null,null,null,null,null,null,null,null,"B",null,"B",null,"B",null,null,"-","-","-","-","-","-","-",0,"-","-",0,0,0,8,null,36,"NAIK KELAS",null,null,null,null,null,null,"-","-","-","-","-","-","-","-","-","-","-","-","-","-","-","-","-","-","-","-","-","-","-","-","-","-","-","-","-","-","-","","-","-","-"]
[{"$f":"BIODATA!A35","v":31},{"$f":"BIODATA!C35","v":0},{"$f":"BIODATA!D35","v":0},null,null,null,null,null,null,null,null,null,null,null,null,null,null,null,null,null,null,null,null,null,null,null,null,null,null,null,null,null,null,null,null,null,null,null,null,null,null,null,null,null,null,null,null,null,null,null,null,null,null,null,null,null,null,null,null,null,null,null,null,null,null,null,null,null,null,null,null,null,null,null,null,null,null,null,null,null,null,null,null,null,null,null,null,null,null,null,null,null,null,null,null,null,null,null,null,null,null,null,null,"B",null,"B",null,"B",null,null,"-","-","-","-","-","-","-",0,"-","-",0,0,0,8,null,36,"NAIK KELAS",null,null,null,null,null,null,"-","-","-","-","-","-","-","-","-","-","-","-","-","-","-","-","-","-","-","-","-","-","-","-","-","-","-","-","-","-","-","","-","-","-"]
[{"$f":"BIODATA!A36","v":32},{"$f":"BIODATA!C36","v":0},{"$f":"BIODATA!D36","v":0},null,null,null,null,null,null,null,null,null,null,null,null,null,null,null,null,null,null,null,null,null,null,null,null,null,null,null,null,null,null,null,null,null,null,null,null,null,null,null,null,null,null,null,null,null,null,null,null,null,null,null,null,null,null,null,null,null,null,null,null,null,null,null,null,null,null,null,null,null,null,null,null,null,null,null,null,null,null,null,null,null,null,null,null,null,null,null,null,null,null,null,null,null,null,null,null,null,null,null,null,"B",null,"B",null,"B",null,null,"-","-","-","-","-","-","-",0,"-","-",0,0,0,8,null,36,"NAIK KELAS",null,null,null,null,null,null,"-","-","-","-","-","-","-","-","-","-","-","-","-","-","-","-","-","-","-","-","-","-","-","-","-","-","-","-","-","-","-","","-","-","-"]
[{"$f":"BIODATA!A37","v":33},{"$f":"BIODATA!C37","v":0},{"$f":"BIODATA!D37","v":0},null,null,null,null,null,null,null,null,null,null,null,null,null,null,null,null,null,null,null,null,null,null,null,null,null,null,null,null,null,null,null,null,null,null,null,null,null,null,null,null,null,null,null,null,null,null,null,null,null,null,null,null,null,null,null,null,null,null,null,null,null,null,null,null,null,null,null,null,null,null,null,null,null,null,null,null,null,null,null,null,null,null,null,null,null,null,null,null,null,null,null,null,null,null,null,null,null,null,null,null,"B",null,"B",null,"B",null,null,"-","-","-","-","-","-","-",0,"-","-",0,0,0,8,null,36,"NAIK KELAS",null,null,null,null,null,null,"-","-","-","-","-","-","-","-","-","-","-","-","-","-","-","-","-","-","-","-","-","-","-","-","-","-","-","-","-","-","-","","-","-","-"]
[{"$f":"BIODATA!A38","v":34},{"$f":"BIODATA!C38","v":0},{"$f":"BIODATA!D38","v":0},null,null,null,null,null,null,null,null,null,null,null,null,null,null,null,null,null,null,null,null,null,null,null,null,null,null,null,null,null,null,null,null,null,null,null,null,null,null,null,null,null,null,null,null,null,null,null,null,null,null,null,null,null,null,null,null,null,null,null,null,null,null,null,null,null,null,null,null,null,null,null,null,null,null,null,null,null,null,null,null,null,null,null,null,null,null,null,null,null,null,null,null,null,null,null,null,null,null,null,null,"B",null,"B",null,"B",null,null,"-","-","-","-","-","-","-",0,"-","-",0,0,0,8,null,36,"NAIK KELAS",null,null,null,null,null,null,"-","-","-","-","-","-","-","-","-","-","-","-","-","-","-","-","-","-","-","-","-","-","-","-","-","-","-","-","-","-","-","","-","-","-"]
[{"$f":"BIODATA!A39","v":35},{"$f":"BIODATA!C39","v":0},{"$f":"BIODATA!D39","v":0},null,null,null,null,null,null,null,null,null,null,null,null,null,null,null,null,null,null,null,null,null,null,null,null,null,null,null,null,null,null,null,null,null,null,null,null,null,null,null,null,null,null,null,null,null,null,null,null,null,null,null,null,null,null,null,null,null,null,null,null,null,null,null,null,null,null,null,null,null,null,null,null,null,null,null,null,null,null,null,null,null,null,null,null,null,null,null,null,null,null,null,null,null,null,null,null,null,null,null,null,"B",null,"B",null,"B",null,null,"-","-","-","-","-","-","-",0,"-","-",0,0,0,8,null,36,"NAIK KELAS",null,null,null,null,null,null,"-","-","-","-","-","-","-","-","-","-","-","-","-","-","-","-","-","-","-","-","-","-","-","-","-","-","-","-","-","-","-","","-","-","-"]
[{"$f":"BIODATA!A40","v":36},{"$f":"BIODATA!C40","v":0},{"$f":"BIODATA!D40","v":0},null,null,null,null,null,null,null,null,null,null,null,null,null,null,null,null,null,null,null,null,null,null,null,null,null,null,null,null,null,null,null,null,null,null,null,null,null,null,null,null,null,null,null,null,null,null,null,null,null,null,null,null,null,null,null,null,null,null,null,null,null,null,null,null,null,null,null,null,null,null,null,null,null,null,null,null,null,null,null,null,null,null,null,null,null,null,null,null,null,null,null,null,null,null,null,null,null,null,null,null,"B",null,"B",null,"B",null,null,"-","-","-","-","-","-","-",0,"-","-",0,0,0,8,null,36,"NAIK KELAS",null,null,null,null,null,null,"-","-","-","-","-","-","-","-","-","-","-","-","-","-","-","-","-","-","-","-","-","-","-","-","-","-","-","-","-","-","-","","-","-","-"]
[{"$f":"BIODATA!A41","v":"-"},{"$f":"BIODATA!C41","v":0},{"$f":"BIODATA!D41","v":0},"-","-","-","-","-","-","-","-","-","-","-","-","-","-","-","-","-","-","-","-","-","-","-","-","-","-","-","-","-","-","-","-","-","-","-","-","-","-","-","-","-","-","-","-","-","-","-","-","-","-","-","-","-","-","-","-","-","-","-","-","-","-","-","-","-","-","-","-","-","-","-","-","-","-","-","-","-","-","-","-","-","-","-","-","-","-","-","-","-","-","-",null,null,null,null,null,null,null,null,null,"B",null,"B",null,"B",null,null,"-","-","-","-","-","-","-",0,"-","-",0,0,0,8,null,36,"NAIK KELAS",null,null,null,null,null,null,"-","-","-","-","-","-","-","-","-","-","-","-","-","-","-","-","-","-","-","-","-","-","-","-","-","-","-","-","-","-","-","","-","-","-"]
[{"$f":"BIODATA!A42","v":"-"},{"$f":"BIODATA!C42","v":0},{"$f":"BIODATA!D42","v":0},"-","-","-","-","-","-","-","-","-","-","-","-","-","-","-","-","-","-","-","-","-","-","-","-","-","-","-","-","-","-","-","-","-","-","-","-","-","-","-","-","-","-","-","-","-","-","-","-","-","-","-","-","-","-","-","-","-","-","-","-","-","-","-","-","-","-","-","-","-","-","-","-","-","-","-","-","-","-","-","-","-","-","-","-","-","-","-","-","-","-","-",null,null,null,null,null,null,null,null,null,"B",null,"B",null,"B",null,null,"-","-","-","-","-","-","-",0,"-","-",0,0,0,8,null,36,"NAIK KELAS",null,null,null,null,null,null,"-","-","-","-","-","-","-","-","-","-","-","-","-","-","-","-","-","-","-","-","-","-","-","-","-","-","-","-","-","-","-","","-","-","-"]
[{"$f":"BIODATA!A43","v":"-"},{"$f":"BIODATA!C43","v":0},{"$f":"BIODATA!D43","v":0},"-","-","-","-","-","-","-","-","-","-","-","-","-","-","-","-","-","-","-","-","-","-","-","-","-","-","-","-","-","-","-","-","-","-","-","-","-","-","-","-","-","-","-","-","-","-","-","-","-","-","-","-","-","-","-","-","-","-","-","-","-","-","-","-","-","-","-","-","-","-","-","-","-","-","-","-","-","-","-","-","-","-","-","-","-","-","-","-","-","-","-",null,null,null,null,null,null,null,null,null,"B",null,"B",null,"B",null,null,"-","-","-","-","-","-","-",0,"-","-",0,0,0,8,null,36,"NAIK KELAS",null,null,null,null,null,null,"-","-","-","-","-","-","-","-","-","-","-","-","-","-","-","-","-","-","-","-","-","-","-","-","-","-","-","-","-","-","-","","-","-","-"]
[{"$f":"BIODATA!A44","v":"-"},{"$f":"BIODATA!C44","v":0},{"$f":"BIODATA!D44","v":0},"-","-","-","-","-","-","-","-","-","-","-","-","-","-","-","-","-","-","-","-","-","-","-","-","-","-","-","-","-","-","-","-","-","-","-","-","-","-","-","-","-","-","-","-","-","-","-","-","-","-","-","-","-","-","-","-","-","-","-","-","-","-","-","-","-","-","-","-","-","-","-","-","-","-","-","-","-","-","-","-","-","-","-","-","-","-","-","-","-","-","-",null,null,null,null,null,null,null,null,null,"B",null,"B",null,"B",null,null,"-","-","-","-","-","-","-",0,"-","-",0,0,0,8,null,36,"NAIK KELAS",null,null,null,null,null,null,"-","-","-","-","-","-","-","-","-","-","-","-","-","-","-","-","-","-","-","-","-","-","-","-","-","-","-","-","-","-","-","","-","-","-"]
[{"$f":"BIODATA!A45","v":"-"},{"$f":"BIODATA!C45","v":0},{"$f":"BIODATA!D45","v":0},"-","-","-","-","-","-","-","-","-","-","-","-","-","-","-","-","-","-","-","-","-","-","-","-","-","-","-","-","-","-","-","-","-","-","-","-","-","-","-","-","-","-","-","-","-","-","-","-","-","-","-","-","-","-","-","-","-","-","-","-","-","-","-","-","-","-","-","-","-","-","-","-","-","-","-","-","-","-","-","-","-","-","-","-","-","-","-","-","-","-","-",null,null,null,null,null,null,null,null,null,"B",null,"B",null,"B",null,null,"-","-","-","-","-","-","-",0,"-","-",0,0,0,8,null,36,"NAIK KELAS",null,null,null,null,null,null,"-","-","-","-","-","-","-","-","-","-","-","-","-","-","-","-","-","-","-","-","-","-","-","-","-","-","-","-","-","-","-","","-","-","-"]
[{"$f":"BIODATA!A46","v":"-"},{"$f":"BIODATA!C46","v":0},{"$f":"BIODATA!D46","v":0},"-","-","-","-","-","-","-","-","-","-","-","-","-","-","-","-","-","-","-","-","-","-","-","-","-","-","-","-","-","-","-","-","-","-","-","-","-","-","-","-","-","-","-","-","-","-","-","-","-","-","-","-","-","-","-","-","-","-","-","-","-","-","-","-","-","-","-","-","-","-","-","-","-","-","-","-","-","-","-","-","-","-","-","-","-","-","-","-","-","-","-",null,null,null,null,null,null,null,null,null,"B",null,"B",null,"B",null,null,"-","-","-","-","-","-","-",0,"-","-",0,0,0,8,null,36,null,null,null,null,null,null,null,"-","-","-","-","-","-","-","-","-","-","-","-","-","-","-","-","-","-","-","-","-","-","-","-","-","-","-","-","-","-","-","","-","-","-"]
[{"$f":"BIODATA!A47","v":"-"},{"$f":"BIODATA!C47","v":0},{"$f":"BIODATA!D47","v":0},"-","-","-","-","-","-","-","-","-","-","-","-","-","-","-","-","-","-","-","-","-","-","-","-","-","-","-","-","-","-","-","-","-","-","-","-","-","-","-","-","-","-","-","-","-","-","-","-","-","-","-","-","-","-","-","-","-","-","-","-","-","-","-","-","-","-","-","-","-","-","-","-","-","-","-","-","-","-","-","-","-","-","-","-","-","-","-","-","-","-","-",null,null,null,null,null,null,null,null,null,"B",null,"B",null,"B",null,null,"-","-","-","-","-","-","-",0,"-","-",0,0,0,8,null,36,null,null,null,null,null,null,null,"-","-","-","-","-","-","-","-","-","-","-","-","-","-","-","-","-","-","-","-","-","-","-","-","-","-","-","-","-","-","-","","-","-","-"]
[{"$f":"BIODATA!A48","v":"-"},{"$f":"BIODATA!C48","v":0},{"$f":"BIODATA!D48","v":0},"-","-","-","-","-","-","-","-","-","-","-","-","-","-","-","-","-","-","-","-","-","-","-","-","-","-","-","-","-","-","-","-","-","-","-","-","-","-","-","-","-","-","-","-","-","-","-","-","-","-","-","-","-","-","-","-","-","-","-","-","-","-","-","-","-","-","-","-","-","-","-","-","-","-","-","-","-","-","-","-","-","-","-","-","-","-","-","-","-","-","-",null,null,null,null,null,null,null,null,null,"B",null,"B",null,"B",null,null,"-","-","-","-","-","-","-",0,"-","-",0,0,0,8,null,36,null,null,null,null,null,null,null,"-","-","-","-","-","-","-","-","-","-","-","-","-","-","-","-","-","-","-","-","-","-","-","-","-","-","-","-","-","-","-","","-","-","-"]
[{"$f":"BIODATA!A49","v":"-"},{"$f":"BIODATA!C49","v":0},{"$f":"BIODATA!D49","v":0},"-","-","-","-","-","-","-","-","-","-","-","-","-","-","-","-","-","-","-","-","-","-","-","-","-","-","-","-","-","-","-","-","-","-","-","-","-","-","-","-","-","-","-","-","-","-","-","-","-","-","-","-","-","-","-","-","-","-","-","-","-","-","-","-","-","-","-","-","-","-","-","-","-","-","-","-","-","-","-","-","-","-","-","-","-","-","-","-","-","-","-",null,null,null,null,null,null,null,null,null,"B",null,"B",null,"B",null,null,"-","-","-","-","-","-","-",0,"-","-",0,0,0,8,null,36,null,null,null,null,null,null,null,"-","-","-","-","-","-","-","-","-","-","-","-","-","-","-","-","-","-","-","-","-","-","-","-","-","-","-","-","-","-","-","","-","-","-"]
[]
[]
[]
[]
[]
[]
[]
[]
[]
[]
[]
[]
[null,null,null,3.59]
[null,null,null,3.59]
[null,null,null,3.5]
[null,null,null,3.48]
[null,null,null,3.54]
[null,null,null,3.39]
[null,null,null,3.45]
[null,null,null,3.45]
[null,null,null,3.29]
[null,null,null,3.45]
[null,null,null,3.45]
[null,null,null,3.45]

{"sheet":"NILSM5","index":32,"n_rows":76,"n_cols":168,"rows_kept":76,"cut":false,"hidden":false,"merged":[[3,87,3,89],[3,124,4,124],[3,133,5,134],[3,135,5,163],[3,90,3,92],[3,94,4,97],[3,98,4,101],[3,118,4,119],[3,120,4,122],[3,108,4,111],[3,112,4,114],[3,102,4,107],[3,75,3,77],[3,78,3,80],[3,72,3,74],[3,81,3,83],[3,84,3,86],[1,132,1,168],[1,0,1,1],[2,90,2,92],[2,75,2,77],[2,78,2,80],[2,81,2,83],[2,84,2,86],[2,87,2,89],[2,72,2,74]]}
[null,null,null,{"$f":"$B$3&D3&D4&D6","v":"5 (lima)A1P"},{"$f":"$B$3&E3&E4&E6","v":"5 (lima)A1K"},"5 (lima)A1S","5 (lima)A2P","5 (lima)A2K","5 (lima)A2S","5 (lima)A3P","5 (lima)A3K","5 (lima)A3S","5 (lima)A4P","5 (lima)A4K","5 (lima)A4S","5 (lima)A-P","5 (lima)A-K","5 (lima)A-S","5 (lima)A5P","5 (lima)A5K","5 (lima)A5S","5 (lima)B-P","5 (lima)B-K","5 (lima)B-S","5 (lima)B1P","5 (lima)B1K","5 (lima)B1S","5 (lima)B-P","5 (lima)B-K","5 (lima)B-S","5 (lima)B2P","5 (lima)B2K","5 (lima)B2S","5 (lima)C11P","5 (lima)C11K","5 (lima)C11S","5 (lima)C12P","5 (lima)C12K","5 (lima)C12S","5 (lima)C13P","5 (lima)C13K","5 (lima)C13S","5 (lima)C21P","5 (lima)C21K","5 (lima)C21S","5 (lima)C22P","5 (lima)C22K","5 (lima)C22S","5 (lima)C23P","5 (lima)C23K","5 (lima)C23S","5 (lima)C24P","5 (lima)C24K","5 (lima)C24S","5 (lima)C31P","5 (lima)C31K","5 (lima)C31S","5 (lima)C32P","5 (lima)C32K","5 (lima)C32S","5 (lima)C33P","5 (lima)C33K","5 (lima)C33S","5 (lima)C34P","5 (lima)C34K","5 (lima)C34S","5 (lima)C35P","5 (lima)C35K",{"$f":"$B$3&BQ3&BQ4&BQ6","v":"5 (lima)C35S"},"5 (lima)C36P","5 (lima)C36K","5 (lima)C36S","5 (lima)-P","5 (lima)K","5 (lima)S","5 (lima)-P","5 (lima)K","5 (lima)S","5 (lima)-P","5 (lima)K","5 (lima)S","5 (lima)-P","5 (lima)K","5 (lima)S","5 (lima)-1P","5 (lima)K","5 (lima)S","5 (lima)--P","5 (lima)K","5 (lima)S","5 (lima)--P","5 (lima)K","5 (lima)S"]
[{"$f":"\"INPUT NILAI CAPAIAN KOMPETENSI TP \"&MENU!I21","v":"INPUT NILAI CAPAIAN KOMPETENSI TP 2019 / 2020"},null,"                    NAMA MAPEL",{"$f":"HLOOKUP(MENU!$I$8&\" \"&$B$3,DATABASE!$X$2:$CK$92,DATABASE!W3,FALSE)","v":"Pendidikan Agama dan Budi Pekerti"},{"$f":"HLOOKUP(MENU!$I$8&\" \"&$B$3,DATABASE!$X$2:$CK$92,DATABASE!W4,FALSE)","v":"Pendidikan Agama dan Budi Pekerti"},{"$f":"HLOOKUP(MENU!$I$8&\" \"&$B$3,DATABASE!$X$2:$CK$92,DATABASE!W5,FALSE)","v":"Pendidikan Agama dan Budi Pekerti"},{"$f":"HLOOKUP(MENU!$I$8&\" \"&$B$3,DATABASE!$X$2:$CK$92,DATABASE!W6,FALSE)","v":"Pendidikan Pancasila dan Kewarganegaraan"},{"$f":"HLOOKUP(MENU!$I$8&\" \"&$B$3,DATABASE!$X$2:$CK$92,DATABASE!W7,FALSE)","v":"Pendidikan Pancasila dan Kewarganegaraan"},{"$f":"HLOOKUP(MENU!$I$8&\" \"&$B$3,DATABASE!$X$2:$CK$92,DATABASE!W8,FALSE)","v":"Pendidikan Pancasila dan Kewarganegaraan"},{"$f":"HLOOKUP(MENU!$I$8&\" \"&$B$3,DATABASE!$X$2:$CK$92,DATABASE!W9,FALSE)","v":"Bahasa Indonesia"},{"$f":"HLOOKUP(MENU!$I$8&\" \"&$B$3,DATABASE!$X$2:$CK$92,DATABASE!W10,FALSE)","v":"Bahasa Indonesia"},{"$f":"HLOOKUP(MENU!$I$8&\" \"&$B$3,DATABASE!$X$2:$CK$92,DATABASE!W11,FALSE)","v":"Bahasa Indonesia"},{"$f":"HLOOKUP(MENU!$I$8&\" \"&$B$3,DATABASE!$X$2:$CK$92,DATABASE!W12,FALSE)","v":"Matematika"},{"$f":"HLOOKUP(MENU!$I$8&\" \"&$B$3,DATABASE!$X$2:$CK$92,DATABASE!W13,FALSE)","v":"Matematika"},{"$f":"HLOOKUP(MENU!$I$8&\" \"&$B$3,DATABASE!$X$2:$CK$92,DATABASE!W14,FALSE)","v":"Matematika"},{"$f":"HLOOKUP(MENU!$I$8&\" \"&$B$3,DATABASE!$X$2:$CK$92,DATABASE!W15,FALSE)","v":"-"},{"$f":"HLOOKUP(MENU!$I$8&\" \"&$B$3,DATABASE!$X$2:$CK$92,DATABASE!W16,FALSE)","v":"-"},{"$f":"HLOOKUP(MENU!$I$8&\" \"&$B$3,DATABASE!$X$2:$CK$92,DATABASE!W17,FALSE)","v":"-"},{"$f":"HLOOKUP(MENU!$I$8&\" \"&$B$3,DATABASE!$X$2:$CK$92,DATABASE!W18,FALSE)","v":"Bahasa Inggris"},{"$f":"HLOOKUP(MENU!$I$8&\" \"&$B$3,DATABASE!$X$2:$CK$92,DATABASE!W19,FALSE)","v":"Bahasa Inggris"},{"$f":"HLOOKUP(MENU!$I$8&\" \"&$B$3,DATABASE!$X$2:$CK$92,DATABASE!W20,FALSE)","v":"Bahasa Inggris"},{"$f":"HLOOKUP(MENU!$I$8&\" \"&$B$3,DATABASE!$X$2:$CK$92,DATABASE!W21,FALSE)","v":"-"},{"$f":"HLOOKUP(MENU!$I$8&\" \"&$B$3,DATABASE!$X$2:$CK$92,DATABASE!W22,FALSE)","v":"-"},{"$f":"HLOOKUP(MENU!$I$8&\" \"&$B$3,DATABASE!$X$2:$CK$92,DATABASE!W23,FALSE)","v":"-"},{"$f":"HLOOKUP(MENU!$I$8&\" \"&$B$3,DATABASE!$X$2:$CK$92,DATABASE!W24,FALSE)","v":"-"},{"$f":"HLOOKUP(MENU!$I$8&\" \"&$B$3,DATABASE!$X$2:$CK$92,DATABASE!W25,FALSE)","v":"-"},{"$f":"HLOOKUP(MENU!$I$8&\" \"&$B$3,DATABASE!$X$2:$CK$92,DATABASE!W26,FALSE)","v":"-"},{"$f":"HLOOKUP(MENU!$I$8&\" \"&$B$3,DATABASE!$X$2:$CK$92,DATABASE!W27,FALSE)","v":"-"},{"$f":"HLOOKUP(MENU!$I$8&\" \"&$B$3,DATABASE!$X$2:$CK$92,DATABASE!W28,FALSE)","v":"-"},{"$f":"HLOOKUP(MENU!$I$8&\" \"&$B$3,DATABASE!$X$2:$CK$92,DATABASE!W29,FALSE)","v":"-"},{"$f":"HLOOKUP(MENU!$I$8&\" \"&$B$3,DATABASE!$X$2:$CK$92,DATABASE!W30,FALSE)","v":"Bahasa Jepang"},{"$f":"HLOOKUP(MENU!$I$8&\" \"&$B$3,DATABASE!$X$2:$CK$92,DATABASE!W31,FALSE)","v":"Bahasa Jepang"},{"$f":"HLOOKUP(MENU!$I$8&\" \"&$B$3,DATABASE!$X$2:$CK$92,DATABASE!W32,FALSE)","v":"Bahasa Jepang"},{"$f":"HLOOKUP(MENU!$I$8&\" \"&$B$3,DATABASE!$X$2:$CK$92,DATABASE!W33,FALSE)","v":"-"},{"$f":"HLOOKUP(MENU!$I$8&\" \"&$B$3,DATABASE!$X$2:$CK$92,DATABASE!W34,FALSE)","v":"-"},{"$f":"HLOOKUP(MENU!$I$8&\" \"&$B$3,DATABASE!$X$2:$CK$92,DATABASE!W35,FALSE)","v":"-"},{"$f":"HLOOKUP(MENU!$I$8&\" \"&$B$3,DATABASE!$X$2:$CK$92,DATABASE!W36,FALSE)","v":"-"},{"$f":"HLOOKUP(MENU!$I$8&\" \"&$B$3,DATABASE!$X$2:$CK$92,DATABASE!W37,FALSE)","v":"-"},{"$f":"HLOOKUP(MENU!$I$8&\" \"&$B$3,DATABASE!$X$2:$CK$92,DATABASE!W38,FALSE)","v":"-"},{"$f":"HLOOKUP(MENU!$I$8&\" \"&$B$3,DATABASE!$X$2:$CK$92,DATABASE!W39,FALSE)","v":"-"},{"$f":"HLOOKUP(MENU!$I$8&\" \"&$B$3,DATABASE!$X$2:$CK$92,DATABASE!W40,FALSE)","v":"-"},{"$f":"HLOOKUP(MENU!$I$8&\" \"&$B$3,DATABASE!$X$2:$CK$92,DATABASE!W41,FALSE)","v":"-"},{"$f":"HLOOKUP(MENU!$I$8&\" \"&$B$3,DATABASE!$X$2:$CK$92,DATABASE!W42,FALSE)","v":"-"},{"$f":"HLOOKUP(MENU!$I$8&\" \"&$B$3,DATABASE!$X$2:$CK$92,DATABASE!W43,FALSE)","v":"-"},{"$f":"HLOOKUP(MENU!$I$8&\" \"&$B$3,DATABASE!$X$2:$CK$92,DATABASE!W44,FALSE)","v":"-"},{"$f":"HLOOKUP(MENU!$I$8&\" \"&$B$3,DATABASE!$X$2:$CK$92,DATABASE!W45,FALSE)","v":"-"},{"$f":"HLOOKUP(MENU!$I$8&\" \"&$B$3,DATABASE!$X$2:$CK$92,DATABASE!W46,FALSE)","v":"-"},{"$f":"HLOOKUP(MENU!$I$8&\" \"&$B$3,DATABASE!$X$2:$CK$92,DATABASE!W47,FALSE)","v":"-"},{"$f":"HLOOKUP(MENU!$I$8&\" \"&$B$3,DATABASE!$X$2:$CK$92,DATABASE!W48,FALSE)","v":"-"},{"$f":"HLOOKUP(MENU!$I$8&\" \"&$B$3,DATABASE!$X$2:$CK$92,DATABASE!W49,FALSE)","v":"-"},{"$f":"HLOOKUP(MENU!$I$8&\" \"&$B$3,DATABASE!$X$2:$CK$92,DATABASE!W50,FALSE)","v":"-"},{"$f":"HLOOKUP(MENU!$I$8&\" \"&$B$3,DATABASE!$X$2:$CK$92,DATABASE!W51,FALSE)","v":"-"},{"$f":"HLOOKUP(MENU!$I$8&\" \"&$B$3,DATABASE!$X$2:$CK$92,DATABASE!W52,FALSE)","v":"-"},{"$f":"HLOOKUP(MENU!$I$8&\" \"&$B$3,DATABASE!$X$2:$CK$92,DATABASE!W53,FALSE)","v":"-"},{"$f":"HLOOKUP(MENU!$I$8&\" \"&$B$3,DATABASE!$X$2:$CK$92,DATABASE!W54,FALSE)","v":"Administrasi Infrastruktur Jaringan"},{"$f":"HLOOKUP(MENU!$I$8&\" \"&$B$3,DATABASE!$X$2:$CK$92,DATABASE!W55,FALSE)","v":"Administrasi Infrastruktur Jaringan"},{"$f":"HLOOKUP(MENU!$I$8&\" \"&$B$3,DATABASE!$X$2:$CK$92,DATABASE!W56,FALSE)","v":"Administrasi Infrastruktur Jaringan"},{"$f":"HLOOKUP(MENU!$I$8&\" \"&$B$3,DATABASE!$X$2:$CK$92,DATABASE!W57,FALSE)","v":"Administrasi Sistem Jaringan"},{"$f":"HLOOKUP(MENU!$I$8&\" \"&$B$3,DATABASE!$X$2:$CK$92,DATABASE!W58,FALSE)","v":"Administrasi Sistem Jaringan"},{"$f":"HLOOKUP(MENU!$I$8&\" \"&$B$3,DATABASE!$X$2:$CK$92,DATABASE!W59,FALSE)","v":"Administrasi Sistem Jaringan"},{"$f":"HLOOKUP(MENU!$I$8&\" \"&$B$3,DATABASE!$X$2:$CK$92,DATABASE!W60,FALSE)","v":"Teknologi Layanan Jaringan"},{"$f":"HLOOKUP(MENU!$I$8&\" \"&$B$3,DATABASE!$X$2:$CK$92,DATABASE!W61,FALSE)","v":"Teknologi Layanan Jaringan"},{"$f":"HLOOKUP(MENU!$I$8&\" \"&$B$3,DATABASE!$X$2:$CK$92,DATABASE!W62,FALSE)","v":"Teknologi Layanan Jaringan"},{"$f":"HLOOKUP(MENU!$I$8&\" \"&$B$3,DATABASE!$X$2:$CK$92,DATABASE!W63,FALSE)","v":"-"},{"$f":"HLOOKUP(MENU!$I$8&\" \"&$B$3,DATABASE!$X$2:$CK$92,DATABASE!W64,FALSE)","v":"-"},{"$f":"HLOOKUP(MENU!$I$8&\" \"&$B$3,DATABASE!$X$2:$CK$92,DATABASE!W65,FALSE)","v":"-"},{"$f":"HLOOKUP(MENU!$I$8&\" \"&$B$3,DATABASE!$X$2:$CK$92,DATABASE!W66,FALSE)","v":"-"},{"$f":"HLOOKUP(MENU!$I$8&\" \"&$B$3,DATABASE!$X$2:$CK$92,DATABASE!W67,FALSE)","v":"-"},{"$f":"HLOOKUP(MENU!$I$8&\" \"&$B$3,DATABASE!$X$2:$CK$92,DATABASE!W68,FALSE)","v":"-"},{"$f":"HLOOKUP(MENU!$I$8&\" \"&$B$3,DATABASE!$X$2:$CK$92,DATABASE!W69,FALSE)","v":"Produk Kreatif dan Kewirausahaan "},{"$f":"HLOOKUP(MENU!$I$8&\" \"&$B$3,DATABASE!$X$2:$CK$92,DATABASE!W70,FALSE)","v":"Produk Kreatif dan Kewirausahaan "},{"$f":"HLOOKUP(MENU!$I$8&\" \"&$B$3,DATABASE!$X$2:$CK$92,DATABASE!W71,FALSE)","v":"Produk Kreatif dan Kewirausahaan "},{"$f":"HLOOKUP(MENU!$I$8&\" \"&$B$3,DATABASE!$X$2:$CK$92,DATABASE!W72,FALSE)","v":"-"},{"$f":"HLOOKUP(MENU!$I$8&\" \"&$B$3,DATABASE!$X$2:$CK$92,DATABASE!W73,FALSE)","v":"-"},{"$f":"HLOOKUP(MENU!$I$8&\" \"&$B$3,DATABASE!$X$2:$CK$92,DATABASE!W74,FALSE)","v":"-"},{"$f":"HLOOKUP(MENU!$I$8&\" \"&$B$3,DATABASE!$X$2:$CK$92,DATABASE!W75,FALSE)","v":"-"},{"$f":"HLOOKUP(MENU!$I$8&\" \"&$B$3,DATABASE!$X$2:$CK$92,DATABASE!W76,FALSE)","v":"-"},{"$f":"HLOOKUP(MENU!$I$8&\" \"&$B$3,DATABASE!$X$2:$CK$92,DATABASE!W77,FALSE)","v":"-"},{"$f":"HLOOKUP(MENU!$I$8&\" \"&$B$3,DATABASE!$X$2:$CK$92,DATABASE!W78,FALSE)","v":"-"},{"$f":"HLOOKUP(MENU!$I$8&\" \"&$B$3,DATABASE!$X$2:$CK$92,DATABASE!W79,FALSE)","v":"-"},{"$f":"HLOOKUP(MENU!$I$8&\" \"&$B$3,DATABASE!$X$2:$CK$92,DATABASE!W80,FALSE)","v":"-"},{"$f":"HLOOKUP(MENU!$I$8&\" \"&$B$3,DATABASE!$X$2:$CK$92,DATABASE!W81,FALSE)","v":"-"},{"$f":"HLOOKUP(MENU!$I$8&\" \"&$B$3,DATABASE!$X$2:$CK$92,DATABASE!W82,FALSE)","v":"-"},{"$f":"HLOOKUP(MENU!$I$8&\" \"&$B$3,DATABASE!$X$2:$CK$92,DATABASE!W83,FALSE)","v":"-"},{"$f":"HLOOKUP(MENU!$I$8&\" \"&$B$3,DATABASE!$X$2:$CK$92,DATABASE!W84,FALSE)","v":"-"},{"$f":"HLOOKUP(MENU!$I$8&\" \"&$B$3,DATABASE!$X$2:$CK$92,DATABASE!W85,FALSE)","v":"-"},{"$f":"HLOOKUP(MENU!$I$8&\" \"&$B$3,DATABASE!$X$2:$CK$92,DATABASE!W86,FALSE)","v":"-"},{"$f":"HLOOKUP(MENU!$I$8&\" \"&$B$3,DATABASE!$X$2:$CK$92,DATABASE!W87,FALSE)","v":"-"},{"$f":"HLOOKUP(MENU!$I$8&\" \"&$B$3,DATABASE!$X$2:$CK$92,DATABASE!W88,FALSE)","v":"-"},{"$f":"HLOOKUP(MENU!$I$8&\" \"&$B$3,DATABASE!$X$2:$CK$92,DATABASE!W89,FALSE)","v":"-"},{"$f":"HLOOKUP(MENU!$I$8&\" \"&$B$3,DATABASE!$X$2:$CK$92,DATABASE!W90,FALSE)","v":"-"},{"$f":"HLOOKUP(MENU!$I$8&\" \"&$B$3,DATABASE!$X$2:$CK$92,DATABASE!W91,FALSE)","v":"-"},{"$f":"HLOOKUP(MENU!$I$8&\" \"&$B$3,DATABASE!$X$2:$CK$92,DATABASE!W92,FALSE)","v":"-"},"NILAI BP/BK","NAMA TEMPAT PKL","LOKASI TEMPAT PKL","LAMA PKL (BULAN)","KET. NILAI PKL","NAMA TEMPAT PKL","LOKASI TEMPAT PKL","LAMA PKL (BULAN)","KET. NILAI PKL","NAMA ESKUL 1","NILAI ESKUL 1","NAMA ESKUL 2","NILAI ESKUL 2","NAMA ESKUL 3","NILAI ESKUL 3","JENIS PRESTASI 1","KET. NILAI PRESTASI 1","JENIS PRESTASI 2","KET. NILAI PRESTASI 2","SAKIT","IJIN","TANPA KETERANGAN","NILAI SIKAP SPIRITUAL (OTOMATIS)","NILAI SIKAP SOSIAL (OTOMATIS)","CEK JUMLAH MAPEL (HARUS SAMA)!","RATA-RATA PENGETAHUAN","RATA-RATA KETERAMPILAN","JUMLAH NILAI PENGETAHUAN","JUMLAH NILAI KETERAMPILAN","TOTAL NILAI","FORMULA PERINGKAT KELAS","PENENTUAN PERINGKAT OLEH WALI KELAS","JUMLAH SISWA DI KELAS","-",null,null,null,null,null,"JANGAN EDIT DATA DI KOLOM INI KE BAWAH"]
["Semester :","5 (lima)","KELOMPOK MAPEL","A","A","A","A","A","A","A","A","A","A","A","A","A","A","A","A","A","A","B","B","B","B","B","B","B","B","B","B","B","B","C1","C1","C1","C1","C1","C1","C1","C1","C1","C2","C2","C2","C2","C2","C2","C2","C2","C2","C2","C2","C2","C3","C3","C3","C3","C3","C3","C3","C3","C3","C3","C3","C3","C3","C3","C3","C3","C3","C3","-",null,null,"-",null,null,"-",null,null,"-",null,null,"-",null,null,"-",null,null,"-",null,null,null,null,null,null,null,null,null,null,null,null,null,null,null,null,null,null,null,null,null,null,null,null,null,null,null,null,null,null,null,null,null,null,null,null,"Titimangsa Rapor :",null,null,null,null,null,1,2,3,4,5,6,7,8,9,10,11,12,13,14,15,16,17,18,19,20,21,22,23,24,25,26,27,28,29,30,31]
["Wali Kelas :",{"$f":"MENU!I23","v":"Amo Sisdianto, S.Kom"},"URUTAN MAPEL",1,1,1,2,2,2,3,3,3,4,4,4,"-","-","-",5,5,5,"-","-","-",1,1,1,"-","-","-",2,2,2,1,1,1,2,2,2,3,3,3,1,1,1,2,2,2,3,3,3,4,4,4,1,1,1,2,2,2,3,3,3,4,4,4,5,5,5,6,6,6,null,null,null,null,null,null,null,null,null,null,null,null,1,null,null,"-",null,null,"-",null,null,null,"KEGIATAN PKL",null,null,null,"KEGIATAN PKL",null,null,null,"KEGIATAN EKSTRAKURIKULER",null,null,null,null,null,"CATATAN PRESTASI",null,null,null,"KETIDAKHADIRAN",null,null,null,null,null,"RATA-RATA NILAI",null,"JUMLAH NILAI",null,null,null,"PERINGKAT KELAS",null,null,{"$f":"MENU!I22","v":0},null,null,null,null,null,"KI-1  &  KI-2",null,"KI-2"]
[{"$f":"MENU!G24","v":"PegId"},{"$f":"MENU!I24","v":"20217802182001"},"KB",75,75,"B",75,75,"B",75,75,"B",75,75,"B",75,75,"B",75,75,"B",75,75,"B",75,75,"B",75,75,"B",75,75,"B",75,75,"B",75,75,"B",75,75,"B",75,75,"B",75,75,"B",75,75,"B",75,75,"B",75,75,"B",75,75,"B",75,75,"B",75,75,"B",75,75,"B",75,75,"B",75,75,"B",75,75,"B",75,75,"B",75,75,"B",75,75,"B",75,75,"B",75,75,"B"]
["NO. URUT","NAMA SISWA","NIS","P","K","S","P","K","S","P","K","S","P","K","S","P","K","S","P","K","S","P","K","S","P","K","S","P","K","S","P","K","S","P","K","S","P","K","S","P","K","S","P","K","S","P","K","S","P","K","S","P","K","S","P","K","S","P","K","S","P","K","S","P","K","S","P","K","S","P","K","S","P","K","S","P","K","S","P","K","S","P","K","S","P","K","S","P","K","S","P","K","S",null,null,null,null,null,null,null,null,null,null,null,null,null,null,null,null,null,null,null,null,null,null,null,null,null,null,null,null,null,null,null,"SILAHKAN DIISI MANUAL"]
[1,2,3,4,5,6,7,8,9,10,11,12,13,14,15,16,17,18,19,20,21,22,23,24,25,26,27,28,29,30,31,32,33,34,35,36,37,38,39,40,41,42,43,44,45,46,47,48,49,50,51,52,53,54,55,56,57,58,59,60,61,62,63,64,65,66,67,68,69,70,71,72,73,74,75,76,77,78,79,80,81,82,83,84,85,86,87,88,89,90,91,92,93,94,95,96,97,98,99,100,101,102,103,104,105,106,107,108,109,110,111,112,113,114,115,116,117,118,119,120,121,122,123,124,125,126,127]
[{"$f":"BIODATA!A5","v":1},{"$f":"BIODATA!C5","v":"AGHNIA SYAFIRA"},{"$f":"BIODATA!D5","v":13140767},75,76,"B",77,78,"B",79,80,"B",81,82,"B","-","-","-",85,86,"B","-","-","-","-","-","-","-","-","-",93,94,"B","-","-","-","-","-","-","-","-","-","-","-","-","-","-","-","-","-","-","-","-","-",77,78,"B",79,80,"B",81,82,"B","-","-","-","-","-","-",77,78,"B","-","-","-","-","-","-","-","-","-","-","-","-","-","-","-","-","-","-","-","-","-","B",null,null,null,null,null,null,null,null,"OSIS","B","Palang Merah Remaja","B","Pramuka","B","Juara 2 Cerdas Cermat Tk. Kabupaten",null,"-","-",2,15,"-",{"$f":"FJ8","v":"B"},{"$f":"FL8","v":"B"},{"$f":"COUNT(D8:CN8)/2","v":10},{"$f":"IFERROR(ROUND(AVERAGE(D8,G8,J8,M8,P8,S8,V8,Y8,AB8,AE8,AH8,AK8,AN8,AQ8,AT8,AW8,AZ8,BC8,BF8,BI8,BL8,BO8,BR8,BU8,BX8,CA8,CD8,CG8,CJ8,CM8),0),\"-\")","v":80},{"$f":"IFERROR(ROUND(AVERAGE(E8,H8,K8,N8,Q8,T8,W8,Z8,AC8,AF8,AI8,AL8,AO8,AR8,AU8,AX8,BA8,BD8,BG8,BJ8,BM8,BP8,BS8,BV8,BY8,CB8,CE8,CH8,CK8,CN8),0),\"-\")","v":81},{"$f":"ROUND(SUM(D8,G8,J8,M8,P8,S8,V8,Y8,AB8,AE8,AH8,AK8,AN8,AQ8,AT8,AW8,AZ8,BC8,BF8,BI8,BL8,BO8,BR8,BU8,BX8,CA8,CD8,CG8,CJ8,CM8),0)","v":804},{"$f":"ROUND(SUM(E8,H8,K8,N8,Q8,T8,W8,Z8,AC8,AF8,AI8,AL8,AO8,AR8,AU8,AX8,BA8,BD8,BG8,BJ8,BM8,BP8,BS8,BV8,BY8,CB8,CE8,CH8,CK8,CN8),0)","v":814},{"$f":"SUM(DQ8:DR8)","v":1618},{"$f":"RANK(DS8,$DS$8:$DS$52,0)","v":6},null,{"$f":"COUNT($A$8:$A$52)","v":36},null,null,null,null,null,null,null,{"$f":"IF(F8=\"A\",4,IF(F8=\"B\",3,IF(F8=\"C\",2,IF(F8=\"D\",1,\"-\"))))","v":3},{"$f":"IF(I8=\"A\",4,IF(I8=\"B\",3,IF(I8=\"C\",2,IF(I8=\"D\",1,\"-\"))))","v":3},{"$f":"IF(L8=\"A\",4,IF(L8=\"B\",3,IF(L8=\"C\",2,IF(L8=\"D\",1,\"-\"))))","v":3},{"$f":"IF(O8=\"A\",4,IF(O8=\"B\",3,IF(O8=\"C\",2,IF(O8=\"D\",1,\"-\"))))","v":3},{"$f":"IF(R8=\"A\",4,IF(R8=\"B\",3,IF(R8=\"C\",2,IF(R8=\"D\",1,\"-\"))))","v":"-"},{"$f":"IF(U8=\"A\",4,IF(U8=\"B\",3,IF(U8=\"C\",2,IF(U8=\"D\",1,\"-\"))))","v":3},{"$f":"IF(X8=\"A\",4,IF(X8=\"B\",3,IF(X8=\"C\",2,IF(X8=\"D\",1,\"-\"))))","v":"-"},{"$f":"IF(AA8=\"A\",4,IF(AA8=\"B\",3,IF(AA8=\"C\",2,IF(AA8=\"D\",1,\"-\"))))","v":"-"},{"$f":"IF(AD8=\"A\",4,IF(AD8=\"B\",3,IF(AD8=\"C\",2,IF(AD8=\"D\",1,\"-\"))))","v":"-"},{"$f":"IF(AG8=\"A\",4,IF(AG8=\"B\",3,IF(AG8=\"C\",2,IF(AG8=\"D\",1,\"-\"))))","v":3},{"$f":"IF(AJ8=\"A\",4,IF(AJ8=\"B\",3,IF(AJ8=\"C\",2,IF(AJ8=\"D\",1,\"-\"))))","v":"-"},{"$f":"IF(AM8=\"A\",4,IF(AM8=\"B\",3,IF(AM8=\"C\",2,IF(AM8=\"D\",1,\"-\"))))","v":"-"},{"$f":"IF(AP8=\"A\",4,IF(AP8=\"B\",3,IF(AP8=\"C\",2,IF(AP8=\"D\",1,\"-\"))))","v":"-"},{"$f":"IF(AS8=\"A\",4,IF(AS8=\"B\",3,IF(AS8=\"C\",2,IF(AS8=\"D\",1,\"-\"))))","v":"-"},{"$f":"IF(AV8=\"A\",4,IF(AV8=\"B\",3,IF(AV8=\"C\",2,IF(AV8=\"D\",1,\"-\"))))","v":"-"},{"$f":"IF(AY8=\"A\",4,IF(AY8=\"B\",3,IF(AY8=\"C\",2,IF(AY8=\"D\",1,\"-\"))))","v":"-"},{"$f":"IF(BB8=\"A\",4,IF(BB8=\"B\",3,IF(BB8=\"C\",2,IF(BB8=\"D\",1,\"-\"))))","v":"-"},{"$f":"IF(BE8=\"A\",4,IF(BE8=\"B\",3,IF(BE8=\"C\",2,IF(BE8=\"D\",1,\"-\"))))","v":3},{"$f":"IF(BH8=\"A\",4,IF(BH8=\"B\",3,IF(BH8=\"C\",2,IF(BH8=\"D\",1,\"-\"))))","v":3},{"$f":"IF(BD8=\"A\",4,IF(BD8=\"B\",3,IF(BD8=\"C\",2,IF(BD8=\"D\",1,\"-\"))))","v":"-"},{"$f":"IF(BN8=\"A\",4,IF(BN8=\"B\",3,IF(BN8=\"C\",2,IF(BN8=\"D\",1,\"-\"))))","v":"-"},{"$f":"IF(BQ8=\"A\",4,IF(BQ8=\"B\",3,IF(BQ8=\"C\",2,IF(BQ8=\"D\",1,\"-\"))))","v":"-"},{"$f":"IF(BT8=\"A\",4,IF(BT8=\"B\",3,IF(BT8=\"C\",2,IF(BT8=\"D\",1,\"-\"))))","v":3},{"$f":"IF(BW8=\"A\",4,IF(BW8=\"B\",3,IF(BW8=\"C\",2,IF(BW8=\"D\",1,\"-\"))))","v":"-"},{"$f":"IF(BZ8=\"A\",4,IF(BZ8=\"B\",3,IF(BZ8=\"C\",2,IF(BZ8=\"D\",1,\"-\"))))","v":"-"},{"$f":"IF(CC8=\"A\",4,IF(CC8=\"B\",3,IF(CC8=\"C\",2,IF(CC8=\"D\",1,\"-\"))))","v":"-"},{"$f":"IF(CF8=\"A\",4,IF(CF8=\"B\",3,IF(CF8=\"C\",2,IF(CF8=\"D\",1,\"-\"))))","v":"-"},{"$f":"IF(CI8=\"A\",4,IF(CI8=\"B\",3,IF(CI8=\"C\",2,IF(CI8=\"D\",1,\"-\"))))","v":"-"},{"$f":"IF(CL8=\"A\",4,IF(CL8=\"B\",3,IF(CL8=\"C\",2,IF(CL8=\"D\",1,\"-\"))))","v":"-"},{"$f":"IF(CO8=\"A\",4,IF(CO8=\"B\",3,IF(CO8=\"C\",2,IF(CO8=\"D\",1,\"-\"))))","v":"-"},{"$f":"IF(CP8=\"A\",4,IF(CP8=\"B\",3,IF(CP8=\"C\",2,IF(CP8=\"D\",1,\"-\"))))","v":3},{"$f":"IFERROR(ROUND(AVERAGE(ED8:EE8),0),\"\")","v":3},{"$f":"IFERROR(IF(FI8=4,\"A\",IF(FI8=3,\"B\",IF(FI8=2,\"C\",IF(FI8=1,\"D\",\"-\")))),\"-\")","v":"B"},{"$f":"IFERROR(MODE(ED8:FH8),\"-\")","v":3},{"$f":"IFERROR(IF(FK8=4,\"A\",IF(FK8=3,\"B\",IF(FK8=2,\"C\",IF(FK8=1,\"D\",\"-\")))),\"-\")","v":"B"}]
[{"$f":"BIODATA!A6","v":2},{"$f":"BIODATA!C6","v":"AL KINDI"},{"$f":"BIODATA!D6","v":13140768},90,78,"A",90,80,"A",90,82,"A",90,84,"A","-","-","-",87,88,"A","-","-","-","-","-","-","-","-","-",95,96,"A","-","-","-","-","-","-","-","-","-","-","-","-","-","-","-","-","-","-","-","-","-",79,80,"A",81,82,"A",83,84,"A","-","-","-","-","-","-",79,80,"A","-","-","-","-","-","-","-","-","-","-","-","-","-","-","-","-","-","-","-","-","-","A",null,null,null,null,null,null,null,null,"Rohis","B","OSIS","B","Palang Merah Remaja","B","Juara 1 LKS Jawa Barat",null,"-","-",3,"-","-",{"$f":"FJ9","v":"A"},{"$f":"FL9","v":"A"},10,{"$f":"IFERROR(ROUND(AVERAGE(D9,G9,J9,M9,P9,S9,V9,Y9,AB9,AE9,AH9,AK9,AN9,AQ9,AT9,AW9,AZ9,BC9,BF9,BI9,BL9,BO9,BR9,BU9,BX9,CA9,CD9,CG9,CJ9,CM9),0),\"-\")","v":86},83,{"$f":"ROUND(SUM(D9,G9,J9,M9,P9,S9,V9,Y9,AB9,AE9,AH9,AK9,AN9,AQ9,AT9,AW9,AZ9,BC9,BF9,BI9,BL9,BO9,BR9,BU9,BX9,CA9,CD9,CG9,CJ9,CM9),0)","v":864},{"$f":"ROUND(SUM(E9,H9,K9,N9,Q9,T9,W9,Z9,AC9,AF9,AI9,AL9,AO9,AR9,AU9,AX9,BA9,BD9,BG9,BJ9,BM9,BP9,BS9,BV9,BY9,CB9,CE9,CH9,CK9,CN9),0)","v":834},{"$f":"SUM(DQ9:DR9)","v":1698},{"$f":"RANK(DS9,$DS$8:$DS$52,0)","v":3},null,{"$f":"COUNT($A$8:$A$52)","v":36},null,null,null,null,null,null,null,4,4,4,4,"-",4,"-","-","-",4,"-","-","-","-","-","-","-",4,4,"-","-","-",4,"-","-","-","-","-","-","-",4,{"$f":"IFERROR(ROUND(AVERAGE(ED9:EE9),0),\"\")","v":4},"A",{"$f":"IFERROR(MODE(ED9:FH9),\"-\")","v":4},{"$f":"IFERROR(IF(FK9=4,\"A\",IF(FK9=3,\"B\",IF(FK9=2,\"C\",IF(FK9=1,\"D\",\"-\")))),\"-\")","v":"A"}]
[{"$f":"BIODATA!A7","v":3},{"$f":"BIODATA!C7","v":"ALFIAN MULYADI NATA"},{"$f":"BIODATA!D7","v":13140769},79,80,"B",81,82,"B",83,84,"B",85,86,"B","-","-","-",89,90,"B","-","-","-","-","-","-","-","-","-",97,98,"B","-","-","-","-","-","-","-","-","-","-","-","-","-","-","-","-","-","-","-","-","-",81,82,"B",83,84,"B",85,86,"B","-","-","-","-","-","-",81,82,"B","-","-","-","-","-","-","-","-","-","-","-","-","-","-","-","-","-","-","-","-","-","B",null,null,null,null,null,null,null,null,"OSIS","B","Paskibra","B","Palang Merah Remaja","B",null,null,"-","-",5,"-","-","B","B",10,84,85,844,854,1698,3,null,36,null,null,null,null,null,null,null,3,3,3,3,"-",3,"-","-","-",3,"-","-","-","-","-","-","-",3,3,"-","-","-",3,"-","-","-","-","-","-","-",3,3,"B",3,"B"]
[{"$f":"BIODATA!A8","v":4},{"$f":"BIODATA!C8","v":"ALFIANA WAHYU ATMADJA"},{"$f":"BIODATA!D8","v":13140770},81,82,"B",83,84,"B",85,86,"B",87,88,"B","-","-","-",91,92,"B","-","-","-","-","-","-","-","-","-",99,100,"B","-","-","-","-","-","-","-","-","-","-","-","-","-","-","-","-","-","-","-","-","-",83,84,"B",85,86,"B",87,88,"B","-","-","-","-","-","-",83,84,"B","-","-","-","-","-","-","-","-","-","-","-","-","-","-","-","-","-","-","-","-","-","B",null,null,null,null,null,null,null,null,"Paskibra","B","Volley","B","Paskibra","B",null,null,"-","-",1,2,3,"B","B",10,86,87,864,874,1738,1,null,36,null,null,null,null,null,null,null,3,3,3,3,"-",3,"-","-","-",3,"-","-","-","-","-","-","-",3,3,"-","-","-",3,"-","-","-","-","-","-","-",3,3,"B",3,"B"]
[{"$f":"BIODATA!A9","v":5},{"$f":"BIODATA!C9","v":"ASEP DODO ROHENDI"},{"$f":"BIODATA!D9","v":13140771},83,84,"B",85,86,"B",87,88,"B",89,90,"B","-","-","-",93,94,"B","-","-","-","-","-","-","-","-","-",75,76,"B","-","-","-","-","-","-","-","-","-","-","-","-","-","-","-","-","-","-","-","-","-",85,86,"B",87,88,"B",89,90,"B","-","-","-","-","-","-",85,86,"B","-","-","-","-","-","-","-","-","-","-","-","-","-","-","-","-","-","-","-","-","-","B",null,null,null,null,null,null,null,null,"OSIS","B","Sepakbola","B","Palang Merah Remaja","B",null,null,"-","-","-","-","-","B","B",10,86,87,858,868,1726,2,null,36,null,null,null,null,null,null,null,3,3,3,3,"-",3,"-","-","-",3,"-","-","-","-","-","-","-",3,3,"-","-","-",3,"-","-","-","-","-","-","-",3,3,"B",3,"B"]
[{"$f":"BIODATA!A10","v":6},{"$f":"BIODATA!C10","v":"BILLY RIZKI JHONATHAN"},{"$f":"BIODATA!D10","v":13140772},75,76,"B",77,78,"B",79,80,"B",81,82,"B","-","-","-",85,86,"B","-","-","-","-","-","-","-","-","-",93,94,"B","-","-","-","-","-","-","-","-","-","-","-","-","-","-","-","-","-","-","-","-","-",77,78,"B",79,80,"B",81,82,"B","-","-","-","-","-","-",77,78,"B","-","-","-","-","-","-","-","-","-","-","-","-","-","-","-","-","-","-","-","-","-","B",null,null,null,null,null,null,null,null,"Karate","B","Palang Merah Remaja","B","Pramuka","B",null,null,"-","-","-","-","-","B","B",10,80,81,804,814,1618,6,null,36,null,null,null,null,null,null,null,3,3,3,3,"-",3,"-","-","-",3,"-","-","-","-","-","-","-",3,3,"-","-","-",3,"-","-","-","-","-","-","-",3,3,"B",3,"B"]
[{"$f":"BIODATA!A11","v":7},{"$f":"BIODATA!C11","v":"CAHYASARI RAMADHANTY"},{"$f":"BIODATA!D11","v":13140773},77,78,"B",79,80,"B",81,82,"B",83,84,"B","-","-","-",87,88,"B","-","-","-","-","-","-","-","-","-",95,96,"B","-","-","-","-","-","-","-","-","-","-","-","-","-","-","-","-","-","-","-","-","-",79,80,"B",81,82,"B",83,84,"B","-","-","-","-","-","-",79,80,"B","-","-","-","-","-","-","-","-","-","-","-","-","-","-","-","-","-","-","-","-","-","B",null,null,null,null,null,null,null,null,null,"B",null,"B",null,"B",null,null,"-","-","-","-","-","B","B",10,82,83,824,834,1658,5,null,36,null,null,null,null,null,null,null,3,3,3,3,"-",3,"-","-","-",3,"-","-","-","-","-","-","-",3,3,"-","-","-",3,"-","-","-","-","-","-","-",3,3,"B",3,"B"]
[{"$f":"BIODATA!A12","v":8},{"$f":"BIODATA!C12","v":0},{"$f":"BIODATA!D12","v":0},null,null,null,null,null,null,null,null,null,null,null,null,null,null,null,null,null,null,null,null,null,null,null,null,null,null,null,null,null,null,null,null,null,null,null,null,null,null,null,null,null,null,null,null,null,null,null,null,null,null,null,null,null,null,null,null,null,null,null,null,null,null,null,null,null,null,null,null,null,null,null,null,null,null,null,null,null,null,null,null,null,null,null,null,null,null,null,null,null,null,null,null,null,null,null,null,null,null,null,null,"B",null,"B",null,"B",null,null,"-","-","-","-","-","-","-",0,"-","-",0,0,0,8,null,36,null,null,null,null,null,null,null,"-","-","-","-","-","-","-","-","-","-","-","-","-","-","-","-","-","-","-","-","-","-","-","-","-","-","-","-","-","-","-","","-","-","-"]
[{"$f":"BIODATA!A13","v":9},{"$f":"BIODATA!C13","v":0},{"$f":"BIODATA!D13","v":0},null,null,null,null,null,null,null,null,null,null,null,null,null,null,null,null,null,null,null,null,null,null,null,null,null,null,null,null,null,null,null,null,null,null,null,null,null,null,null,null,null,null,null,null,null,null,null,null,null,null,null,null,null,null,null,null,null,null,null,null,null,null,null,null,null,null,null,null,null,null,null,null,null,null,null,null,null,null,null,null,null,null,null,null,null,null,null,null,null,null,null,null,null,null,null,null,null,null,null,null,"B",null,"B",null,"B",null,null,"-","-","-","-","-","-","-",0,"-","-",0,0,0,8,null,36,null,null,null,null,null,null,null,"-","-","-","-","-","-","-","-","-","-","-","-","-","-","-","-","-","-","-","-","-","-","-","-","-","-","-","-","-","-","-","","-","-","-"]
[{"$f":"BIODATA!A14","v":10},{"$f":"BIODATA!C14","v":0},{"$f":"BIODATA!D14","v":0},null,null,null,null,null,null,null,null,null,null,null,null,null,null,null,null,null,null,null,null,null,null,null,null,null,null,null,null,null,null,null,null,null,null,null,null,null,null,null,null,null,null,null,null,null,null,null,null,null,null,null,null,null,null,null,null,null,null,null,null,null,null,null,null,null,null,null,null,null,null,null,null,null,null,null,null,null,null,null,null,null,null,null,null,null,null,null,null,null,null,null,null,null,null,null,null,null,null,null,null,"B",null,"B",null,"B",null,null,"-","-","-","-","-","-","-",0,"-","-",0,0,0,8,null,36,null,null,null,null,null,null,null,"-","-","-","-","-","-","-","-","-","-","-","-","-","-","-","-","-","-","-","-","-","-","-","-","-","-","-","-","-","-","-","","-","-","-"]
[{"$f":"BIODATA!A15","v":11},{"$f":"BIODATA!C15","v":0},{"$f":"BIODATA!D15","v":0},null,null,null,null,null,null,null,null,null,null,null,null,null,null,null,null,null,null,null,null,null,null,null,null,null,null,null,null,null,null,null,null,null,null,null,null,null,null,null,null,null,null,null,null,null,null,null,null,null,null,null,null,null,null,null,null,null,null,null,null,null,null,null,null,null,null,null,null,null,null,null,null,null,null,null,null,null,null,null,null,null,null,null,null,null,null,null,null,null,null,null,null,null,null,null,null,null,null,null,null,"B",null,"B",null,"B",null,null,"-","-","-","-","-","-","-",0,"-","-",0,0,0,8,null,36,null,null,null,null,null,null,null,"-","-","-","-","-","-","-","-","-","-","-","-","-","-","-","-","-","-","-","-","-","-","-","-","-","-","-","-","-","-","-","","-","-","-"]
[{"$f":"BIODATA!A16","v":12},{"$f":"BIODATA!C16","v":0},{"$f":"BIODATA!D16","v":0},null,null,null,null,null,null,null,null,null,null,null,null,null,null,null,null,null,null,null,null,null,null,null,null,null,null,null,null,null,null,null,null,null,null,null,null,null,null,null,null,null,null,null,null,null,null,null,null,null,null,null,null,null,null,null,null,null,null,null,null,null,null,null,null,null,null,null,null,null,null,null,null,null,null,null,null,null,null,null,null,null,null,null,null,null,null,null,null,null,null,null,null,null,null,null,null,null,null,null,null,"B",null,"B",null,"B",null,null,"-","-","-","-","-","-","-",0,"-","-",0,0,0,8,null,36,null,null,null,null,null,null,null,"-","-","-","-","-","-","-","-","-","-","-","-","-","-","-","-","-","-","-","-","-","-","-","-","-","-","-","-","-","-","-","","-","-","-"]
[{"$f":"BIODATA!A17","v":13},{"$f":"BIODATA!C17","v":0},{"$f":"BIODATA!D17","v":0},null,null,null,null,null,null,null,null,null,null,null,null,null,null,null,null,null,null,null,null,null,null,null,null,null,null,null,null,null,null,null,null,null,null,null,null,null,null,null,null,null,null,null,null,null,null,null,null,null,null,null,null,null,null,null,null,null,null,null,null,null,null,null,null,null,null,null,null,null,null,null,null,null,null,null,null,null,null,null,null,null,null,null,null,null,null,null,null,null,null,null,null,null,null,null,null,null,null,null,null,"B",null,"B",null,"B",null,null,"-","-","-","-","-","-","-",0,"-","-",0,0,0,8,null,36,null,null,null,null,null,null,null,"-","-","-","-","-","-","-","-","-","-","-","-","-","-","-","-","-","-","-","-","-","-","-","-","-","-","-","-","-","-","-","","-","-","-"]
[{"$f":"BIODATA!A18","v":14},{"$f":"BIODATA!C18","v":0},{"$f":"BIODATA!D18","v":0},null,null,null,null,null,null,null,null,null,null,null,null,null,null,null,null,null,null,null,null,null,null,null,null,null,null,null,null,null,null,null,null,null,null,null,null,null,null,null,null,null,null,null,null,null,null,null,null,null,null,null,null,null,null,null,null,null,null,null,null,null,null,null,null,null,null,null,null,null,null,null,null,null,null,null,null,null,null,null,null,null,null,null,null,null,null,null,null,null,null,null,null,null,null,null,null,null,null,null,null,"B",null,"B",null,"B",null,null,"-","-","-","-","-","-","-",0,"-","-",0,0,0,8,null,36,null,null,null,null,null,null,null,"-","-","-","-","-","-","-","-","-","-","-","-","-","-","-","-","-","-","-","-","-","-","-","-","-","-","-","-","-","-","-","","-","-","-"]
[{"$f":"BIODATA!A19","v":15},{"$f":"BIODATA!C19","v":0},{"$f":"BIODATA!D19","v":0},null,null,null,null,null,null,null,null,null,null,null,null,null,null,null,null,null,null,null,null,null,null,null,null,null,null,null,null,null,null,null,null,null,null,null,null,null,null,null,null,null,null,null,null,null,null,null,null,null,null,null,null,null,null,null,null,null,null,null,null,null,null,null,null,null,null,null,null,null,null,null,null,null,null,null,null,null,null,null,null,null,null,null,null,null,null,null,null,null,null,null,null,null,null,null,null,null,null,null,null,"B",null,"B",null,"B",null,null,"-","-","-","-","-","-","-",0,"-","-",0,0,0,8,null,36,null,null,null,null,null,null,null,"-","-","-","-","-","-","-","-","-","-","-","-","-","-","-","-","-","-","-","-","-","-","-","-","-","-","-","-","-","-","-","","-","-","-"]
[{"$f":"BIODATA!A20","v":16},{"$f":"BIODATA!C20","v":0},{"$f":"BIODATA!D20","v":0},null,null,null,null,null,null,null,null,null,null,null,null,null,null,null,null,null,null,null,null,null,null,null,null,null,null,null,null,null,null,null,null,null,null,null,null,null,null,null,null,null,null,null,null,null,null,null,null,null,null,null,null,null,null,null,null,null,null,null,null,null,null,null,null,null,null,null,null,null,null,null,null,null,null,null,null,null,null,null,null,null,null,null,null,null,null,null,null,null,null,null,null,null,null,null,null,null,null,null,null,"B",null,"B",null,"B",null,null,"-","-","-","-","-","-","-",0,"-","-",0,0,0,8,null,36,null,null,null,null,null,null,null,"-","-","-","-","-","-","-","-","-","-","-","-","-","-","-","-","-","-","-","-","-","-","-","-","-","-","-","-","-","-","-","","-","-","-"]
[{"$f":"BIODATA!A21","v":17},{"$f":"BIODATA!C21","v":0},{"$f":"BIODATA!D21","v":0},null,null,null,null,null,null,null,null,null,null,null,null,null,null,null,null,null,null,null,null,null,null,null,null,null,null,null,null,null,null,null,null,null,null,null,null,null,null,null,null,null,null,null,null,null,null,null,null,null,null,null,null,null,null,null,null,null,null,null,null,null,null,null,null,null,null,null,null,null,null,null,null,null,null,null,null,null,null,null,null,null,null,null,null,null,null,null,null,null,null,null,null,null,null,null,null,null,null,null,null,"B",null,"B",null,"B",null,null,"-","-","-","-","-","-","-",0,"-","-",0,0,0,8,null,36,null,null,null,null,null,null,null,"-","-","-","-","-","-","-","-","-","-","-","-","-","-","-","-","-","-","-","-","-","-","-","-","-","-","-","-","-","-","-","","-","-","-"]
[{"$f":"BIODATA!A22","v":18},{"$f":"BIODATA!C22","v":0},{"$f":"BIODATA!D22","v":0},null,null,null,null,null,null,null,null,null,null,null,null,null,null,null,null,null,null,null,null,null,null,null,null,null,null,null,null,null,null,null,null,null,null,null,null,null,null,null,null,null,null,null,null,null,null,null,null,null,null,null,null,null,null,null,null,null,null,null,null,null,null,null,null,null,null,null,null,null,null,null,null,null,null,null,null,null,null,null,null,null,null,null,null,null,null,null,null,null,null,null,null,null,null,null,null,null,null,null,null,"B",null,"B",null,"B",null,null,"-","-","-","-","-","-","-",0,"-","-",0,0,0,8,null,36,null,null,null,null,null,null,null,"-","-","-","-","-","-","-","-","-","-","-","-","-","-","-","-","-","-","-","-","-","-","-","-","-","-","-","-","-","-","-","","-","-","-"]
[{"$f":"BIODATA!A23","v":19},{"$f":"BIODATA!C23","v":0},{"$f":"BIODATA!D23","v":0},null,null,null,null,null,null,null,null,null,null,null,null,null,null,null,null,null,null,null,null,null,null,null,null,null,null,null,null,null,null,null,null,null,null,null,null,null,null,null,null,null,null,null,null,null,null,null,null,null,null,null,null,null,null,null,null,null,null,null,null,null,null,null,null,null,null,null,null,null,null,null,null,null,null,null,null,null,null,null,null,null,null,null,null,null,null,null,null,null,null,null,null,null,null,null,null,null,null,null,null,"B",null,"B",null,"B",null,null,"-","-","-","-","-","-","-",0,"-","-",0,0,0,8,null,36,null,null,null,null,null,null,null,"-","-","-","-","-","-","-","-","-","-","-","-","-","-","-","-","-","-","-","-","-","-","-","-","-","-","-","-","-","-","-","","-","-","-"]
[{"$f":"BIODATA!A24","v":20},{"$f":"BIODATA!C24","v":0},{"$f":"BIODATA!D24","v":0},null,null,null,null,null,null,null,null,null,null,null,null,null,null,null,null,null,null,null,null,null,null,null,null,null,null,null,null,null,null,null,null,null,null,null,null,null,null,null,null,null,null,null,null,null,null,null,null,null,null,null,null,null,null,null,null,null,null,null,null,null,null,null,null,null,null,null,null,null,null,null,null,null,null,null,null,null,null,null,null,null,null,null,null,null,null,null,null,null,null,null,null,null,null,null,null,null,null,null,null,"B",null,"B",null,"B",null,null,"-","-","-","-","-","-","-",0,"-","-",0,0,0,8,null,36,null,null,null,null,null,null,null,"-","-","-","-","-","-","-","-","-","-","-","-","-","-","-","-","-","-","-","-","-","-","-","-","-","-","-","-","-","-","-","","-","-","-"]
[{"$f":"BIODATA!A25","v":21},{"$f":"BIODATA!C25","v":0},{"$f":"BIODATA!D25","v":0},null,null,null,null,null,null,null,null,null,null,null,null,null,null,null,null,null,null,null,null,null,null,null,null,null,null,null,null,null,null,null,null,null,null,null,null,null,null,null,null,null,null,null,null,null,null,null,null,null,null,null,null,null,null,null,null,null,null,null,null,null,null,null,null,null,null,null,null,null,null,null,null,null,null,null,null,null,null,null,null,null,null,null,null,null,null,null,null,null,null,null,null,null,null,null,null,null,null,null,null,"B",null,"B",null,"B",null,null,"-","-","-","-","-","-","-",0,"-","-",0,0,0,8,null,36,null,null,null,null,null,null,null,"-","-","-","-","-","-","-","-","-","-","-","-","-","-","-","-","-","-","-","-","-","-","-","-","-","-","-","-","-","-","-","","-","-","-"]
[{"$f":"BIODATA!A26","v":22},{"$f":"BIODATA!C26","v":0},{"$f":"BIODATA!D26","v":0},null,null,null,null,null,null,null,null,null,null,null,null,null,null,null,null,null,null,null,null,null,null,null,null,null,null,null,null,null,null,null,null,null,null,null,null,null,null,null,null,null,null,null,null,null,null,null,null,null,null,null,null,null,null,null,null,null,null,null,null,null,null,null,null,null,null,null,null,null,null,null,null,null,null,null,null,null,null,null,null,null,null,null,null,null,null,null,null,null,null,null,null,null,null,null,null,null,null,null,null,"B",null,"B",null,"B",null,null,"-","-","-","-","-","-","-",0,"-","-",0,0,0,8,null,36,null,null,null,null,null,null,null,"-","-","-","-","-","-","-","-","-","-","-","-","-","-","-","-","-","-","-","-","-","-","-","-","-","-","-","-","-","-","-","","-","-","-"]
[{"$f":"BIODATA!A27","v":23},{"$f":"BIODATA!C27","v":0},{"$f":"BIODATA!D27","v":0},null,null,null,null,null,null,null,null,null,null,null,null,null,null,null,null,null,null,null,null,null,null,null,null,null,null,null,null,null,null,null,null,null,null,null,null,null,null,null,null,null,null,null,null,null,null,null,null,null,null,null,null,null,null,null,null,null,null,null,null,null,null,null,null,null,null,null,null,null,null,null,null,null,null,null,null,null,null,null,null,null,null,null,null,null,null,null,null,null,null,null,null,null,null,null,null,null,null,null,null,"B",null,"B",null,"B",null,null,"-","-","-","-","-","-","-",0,"-","-",0,0,0,8,null,36,null,null,null,null,null,null,null,"-","-","-","-","-","-","-","-","-","-","-","-","-","-","-","-","-","-","-","-","-","-","-","-","-","-","-","-","-","-","-","","-","-","-"]
[{"$f":"BIODATA!A28","v":24},{"$f":"BIODATA!C28","v":0},{"$f":"BIODATA!D28","v":0},null,null,null,null,null,null,null,null,null,null,null,null,null,null,null,null,null,null,null,null,null,null,null,null,null,null,null,null,null,null,null,null,null,null,null,null,null,null,null,null,null,null,null,null,null,null,null,null,null,null,null,null,null,null,null,null,null,null,null,null,null,null,null,null,null,null,null,null,null,null,null,null,null,null,null,null,null,null,null,null,null,null,null,null,null,null,null,null,null,null,null,null,null,null,null,null,null,null,null,null,"B",null,"B",null,"B",null,null,"-","-","-","-","-","-","-",0,"-","-",0,0,0,8,null,36,null,null,null,null,null,null,null,"-","-","-","-","-","-","-","-","-","-","-","-","-","-","-","-","-","-","-","-","-","-","-","-","-","-","-","-","-","-","-","","-","-","-"]
[{"$f":"BIODATA!A29","v":25},{"$f":"BIODATA!C29","v":0},{"$f":"BIODATA!D29","v":0},null,null,null,null,null,null,null,null,null,null,null,null,null,null,null,null,null,null,null,null,null,null,null,null,null,null,null,null,null,null,null,null,null,null,null,null,null,null,null,null,null,null,null,null,null,null,null,null,null,null,null,null,null,null,null,null,null,null,null,null,null,null,null,null,null,null,null,null,null,null,null,null,null,null,null,null,null,null,null,null,null,null,null,null,null,null,null,null,null,null,null,null,null,null,null,null,null,null,null,null,"B",null,"B",null,"B",null,null,"-","-","-","-","-","-","-",0,"-","-",0,0,0,8,null,36,null,null,null,null,null,null,null,"-","-","-","-","-","-","-","-","-","-","-","-","-","-","-","-","-","-","-","-","-","-","-","-","-","-","-","-","-","-","-","","-","-","-"]
[{"$f":"BIODATA!A30","v":26},{"$f":"BIODATA!C30","v":0},{"$f":"BIODATA!D30","v":0},null,null,null,null,null,null,null,null,null,null,null,null,null,null,null,null,null,null,null,null,null,null,null,null,null,null,null,null,null,null,null,null,null,null,null,null,null,null,null,null,null,null,null,null,null,null,null,null,null,null,null,null,null,null,null,null,null,null,null,null,null,null,null,null,null,null,null,null,null,null,null,null,null,null,null,null,null,null,null,null,null,null,null,null,null,null,null,null,null,null,null,null,null,null,null,null,null,null,null,null,"B",null,"B",null,"B",null,null,"-","-","-","-","-","-","-",0,"-","-",0,0,0,8,null,36,null,null,null,null,null,null,null,"-","-","-","-","-","-","-","-","-","-","-","-","-","-","-","-","-","-","-","-","-","-","-","-","-","-","-","-","-","-","-","","-","-","-"]
[{"$f":"BIODATA!A31","v":27},{"$f":"BIODATA!C31","v":0},{"$f":"BIODATA!D31","v":0},null,null,null,null,null,null,null,null,null,null,null,null,null,null,null,null,null,null,null,null,null,null,null,null,null,null,null,null,null,null,null,null,null,null,null,null,null,null,null,null,null,null,null,null,null,null,null,null,null,null,null,null,null,null,null,null,null,null,null,null,null,null,null,null,null,null,null,null,null,null,null,null,null,null,null,null,null,null,null,null,null,null,null,null,null,null,null,null,null,null,null,null,null,null,null,null,null,null,null,null,"B",null,"B",null,"B",null,null,"-","-","-","-","-","-","-",0,"-","-",0,0,0,8,null,36,null,null,null,null,null,null,null,"-","-","-","-","-","-","-","-","-","-","-","-","-","-","-","-","-","-","-","-","-","-","-","-","-","-","-","-","-","-","-","","-","-","-"]
[{"$f":"BIODATA!A32","v":28},{"$f":"BIODATA!C32","v":0},{"$f":"BIODATA!D32","v":0},null,null,null,null,null,null,null,null,null,null,null,null,null,null,null,null,null,null,null,null,null,null,null,null,null,null,null,null,null,null,null,null,null,null,null,null,null,null,null,null,null,null,null,null,null,null,null,null,null,null,null,null,null,null,null,null,null,null,null,null,null,null,null,null,null,null,null,null,null,null,null,null,null,null,null,null,null,null,null,null,null,null,null,null,null,null,null,null,null,null,null,null,null,null,null,null,null,null,null,null,"B",null,"B",null,"B",null,null,"-","-","-","-","-","-","-",0,"-","-",0,0,0,8,null,36,null,null,null,null,null,null,null,"-","-","-","-","-","-","-","-","-","-","-","-","-","-","-","-","-","-","-","-","-","-","-","-","-","-","-","-","-","-","-","","-","-","-"]
[{"$f":"BIODATA!A33","v":29},{"$f":"BIODATA!C33","v":0},{"$f":"BIODATA!D33","v":0},null,null,null,null,null,null,null,null,null,null,null,null,null,null,null,null,null,null,null,null,null,null,null,null,null,null,null,null,null,null,null,null,null,null,null,null,null,null,null,null,null,null,null,null,null,null,null,null,null,null,null,null,null,null,null,null,null,null,null,null,null,null,null,null,null,null,null,null,null,null,null,null,null,null,null,null,null,null,null,null,null,null,null,null,null,null,null,null,null,null,null,null,null,null,null,null,null,null,null,null,"B",null,"B",null,"B",null,null,"-","-","-","-","-","-","-",0,"-","-",0,0,0,8,null,36,null,null,null,null,null,null,null,"-","-","-","-","-","-","-","-","-","-","-","-","-","-","-","-","-","-","-","-","-","-","-","-","-","-","-","-","-","-","-","","-","-","-"]
[{"$f":"BIODATA!A34","v":30},{"$f":"BIODATA!C34","v":0},{"$f":"BIODATA!D34","v":0},null,null,null,null,null,null,null,null,null,null,null,null,null,null,null,null,null,null,null,null,null,null,null,null,null,null,null,null,null,null,null,null,null,null,null,null,null,null,null,null,null,null,null,null,null,null,null,null,null,null,null,null,null,null,null,null,null,null,null,null,null,null,null,null,null,null,null,null,null,null,null,null,null,null,null,null,null,null,null,null,null,null,null,null,null,null,null,null,null,null,null,null,null,null,null,null,null,null,null,null,"B",null,"B",null,"B",null,null,"-","-","-","-","-","-","-",0,"-","-",0,0,0,8,null,36,null,null,null,null,null,null,null,"-","-","-","-","-","-","-","-","-","-","-","-","-","-","-","-","-","-","-","-","-","-","-","-","-","-","-","-","-","-","-","","-","-","-"]
[{"$f":"BIODATA!A35","v":31},{"$f":"BIODATA!C35","v":0},{"$f":"BIODATA!D35","v":0},null,null,null,null,null,null,null,null,null,null,null,null,null,null,null,null,null,null,null,null,null,null,null,null,null,null,null,null,null,null,null,null,null,null,null,null,null,null,null,null,null,null,null,null,null,null,null,null,null,null,null,null,null,null,null,null,null,null,null,null,null,null,null,null,null,null,null,null,null,null,null,null,null,null,null,null,null,null,null,null,null,null,null,null,null,null,null,null,null,null,null,null,null,null,null,null,null,null,null,null,"B",null,"B",null,"B",null,null,"-","-","-","-","-","-","-",0,"-","-",0,0,0,8,null,36,null,null,null,null,null,null,null,"-","-","-","-","-","-","-","-","-","-","-","-","-","-","-","-","-","-","-","-","-","-","-","-","-","-","-","-","-","-","-","","-","-","-"]
[{"$f":"BIODATA!A36","v":32},{"$f":"BIODATA!C36","v":0},{"$f":"BIODATA!D36","v":0},null,null,null,null,null,null,null,null,null,null,null,null,null,null,null,null,null,null,null,null,null,null,null,null,null,null,null,null,null,null,null,null,null,null,null,null,null,null,null,null,null,null,null,null,null,null,null,null,null,null,null,null,null,null,null,null,null,null,null,null,null,null,null,null,null,null,null,null,null,null,null,null,null,null,null,null,null,null,null,null,null,null,null,null,null,null,null,null,null,null,null,null,null,null,null,null,null,null,null,null,"B",null,"B",null,"B",null,null,"-","-","-","-","-","-","-",0,"-","-",0,0,0,8,null,36,null,null,null,null,null,null,null,"-","-","-","-","-","-","-","-","-","-","-","-","-","-","-","-","-","-","-","-","-","-","-","-","-","-","-","-","-","-","-","","-","-","-"]
[{"$f":"BIODATA!A37","v":33},{"$f":"BIODATA!C37","v":0},{"$f":"BIODATA!D37","v":0},null,null,null,null,null,null,null,null,null,null,null,null,null,null,null,null,null,null,null,null,null,null,null,null,null,null,null,null,null,null,null,null,null,null,null,null,null,null,null,null,null,null,null,null,null,null,null,null,null,null,null,null,null,null,null,null,null,null,null,null,null,null,null,null,null,null,null,null,null,null,null,null,null,null,null,null,null,null,null,null,null,null,null,null,null,null,null,null,null,null,null,null,null,null,null,null,null,null,null,null,"B",null,"B",null,"B",null,null,"-","-","-","-","-","-","-",0,"-","-",0,0,0,8,null,36,null,null,null,null,null,null,null,"-","-","-","-","-","-","-","-","-","-","-","-","-","-","-","-","-","-","-","-","-","-","-","-","-","-","-","-","-","-","-","","-","-","-"]
[{"$f":"BIODATA!A38","v":34},{"$f":"BIODATA!C38","v":0},{"$f":"BIODATA!D38","v":0},null,null,null,null,null,null,null,null,null,null,null,null,null,null,null,null,null,null,null,null,null,null,null,null,null,null,null,null,null,null,null,null,null,null,null,null,null,null,null,null,null,null,null,null,null,null,null,null,null,null,null,null,null,null,null,null,null,null,null,null,null,null,null,null,null,null,null,null,null,null,null,null,null,null,null,null,null,null,null,null,null,null,null,null,null,null,null,null,null,null,null,null,null,null,null,null,null,null,null,null,"B",null,"B",null,"B",null,null,"-","-","-","-","-","-","-",0,"-","-",0,0,0,8,null,36,null,null,null,null,null,null,null,"-","-","-","-","-","-","-","-","-","-","-","-","-","-","-","-","-","-","-","-","-","-","-","-","-","-","-","-","-","-","-","","-","-","-"]
[{"$f":"BIODATA!A39","v":35},{"$f":"BIODATA!C39","v":0},{"$f":"BIODATA!D39","v":0},null,null,null,null,null,null,null,null,null,null,null,null,null,null,null,null,null,null,null,null,null,null,null,null,null,null,null,null,null,null,null,null,null,null,null,null,null,null,null,null,null,null,null,null,null,null,null,null,null,null,null,null,null,null,null,null,null,null,null,null,null,null,null,null,null,null,null,null,null,null,null,null,null,null,null,null,null,null,null,null,null,null,null,null,null,null,null,null,null,null,null,null,null,null,null,null,null,null,null,null,"B",null,"B",null,"B",null,null,"-","-","-","-","-","-","-",0,"-","-",0,0,0,8,null,36,null,null,null,null,null,null,null,"-","-","-","-","-","-","-","-","-","-","-","-","-","-","-","-","-","-","-","-","-","-","-","-","-","-","-","-","-","-","-","","-","-","-"]
[{"$f":"BIODATA!A40","v":36},{"$f":"BIODATA!C40","v":0},{"$f":"BIODATA!D40","v":0},null,null,null,null,null,null,null,null,null,null,null,null,null,null,null,null,null,null,null,null,null,null,null,null,null,null,null,null,null,null,null,null,null,null,null,null,null,null,null,null,null,null,null,null,null,null,null,null,null,null,null,null,null,null,null,null,null,null,null,null,null,null,null,null,null,null,null,null,null,null,null,null,null,null,null,null,null,null,null,null,null,null,null,null,null,null,null,null,null,null,null,null,null,null,null,null,null,null,null,null,"B",null,"B",null,"B",null,null,"-","-","-","-","-","-","-",0,"-","-",0,0,0,8,null,36,null,null,null,null,null,null,null,"-","-","-","-","-","-","-","-","-","-","-","-","-","-","-","-","-","-","-","-","-","-","-","-","-","-","-","-","-","-","-","","-","-","-"]
[{"$f":"BIODATA!A41","v":"-"},{"$f":"BIODATA!C41","v":0},{"$f":"BIODATA!D41","v":0},"-","-","-","-","-","-","-","-","-","-","-","-","-","-","-","-","-","-","-","-","-","-","-","-","-","-","-","-","-","-","-","-","-","-","-","-","-","-","-","-","-","-","-","-","-","-","-","-","-","-","-","-","-","-","-","-","-","-","-","-","-","-","-","-","-","-","-","-","-","-","-","-","-","-","-","-","-","-","-","-","-","-","-","-","-","-","-","-","-","-","-",null,null,null,null,null,null,null,null,null,"B",null,"B",null,"B",null,null,"-","-","-","-","-","-","-",0,"-","-",0,0,0,8,null,36,null,null,null,null,null,null,null,"-","-","-","-","-","-","-","-","-","-","-","-","-","-","-","-","-","-","-","-","-","-","-","-","-","-","-","-","-","-","-","","-","-","-"]
[{"$f":"BIODATA!A42","v":"-"},{"$f":"BIODATA!C42","v":0},{"$f":"BIODATA!D42","v":0},"-","-","-","-","-","-","-","-","-","-","-","-","-","-","-","-","-","-","-","-","-","-","-","-","-","-","-","-","-","-","-","-","-","-","-","-","-","-","-","-","-","-","-","-","-","-","-","-","-","-","-","-","-","-","-","-","-","-","-","-","-","-","-","-","-","-","-","-","-","-","-","-","-","-","-","-","-","-","-","-","-","-","-","-","-","-","-","-","-","-","-",null,null,null,null,null,null,null,null,null,"B",null,"B",null,"B",null,null,"-","-","-","-","-","-","-",0,"-","-",0,0,0,8,null,36,null,null,null,null,null,null,null,"-","-","-","-","-","-","-","-","-","-","-","-","-","-","-","-","-","-","-","-","-","-","-","-","-","-","-","-","-","-","-","","-","-","-"]
[{"$f":"BIODATA!A43","v":"-"},{"$f":"BIODATA!C43","v":0},{"$f":"BIODATA!D43","v":0},"-","-","-","-","-","-","-","-","-","-","-","-","-","-","-","-","-","-","-","-","-","-","-","-","-","-","-","-","-","-","-","-","-","-","-","-","-","-","-","-","-","-","-","-","-","-","-","-","-","-","-","-","-","-","-","-","-","-","-","-","-","-","-","-","-","-","-","-","-","-","-","-","-","-","-","-","-","-","-","-","-","-","-","-","-","-","-","-","-","-","-",null,null,null,null,null,null,null,null,null,"B",null,"B",null,"B",null,null,"-","-","-","-","-","-","-",0,"-","-",0,0,0,8,null,36,null,null,null,null,null,null,null,"-","-","-","-","-","-","-","-","-","-","-","-","-","-","-","-","-","-","-","-","-","-","-","-","-","-","-","-","-","-","-","","-","-","-"]
[{"$f":"BIODATA!A44","v":"-"},{"$f":"BIODATA!C44","v":0},{"$f":"BIODATA!D44","v":0},"-","-","-","-","-","-","-","-","-","-","-","-","-","-","-","-","-","-","-","-","-","-","-","-","-","-","-","-","-","-","-","-","-","-","-","-","-","-","-","-","-","-","-","-","-","-","-","-","-","-","-","-","-","-","-","-","-","-","-","-","-","-","-","-","-","-","-","-","-","-","-","-","-","-","-","-","-","-","-","-","-","-","-","-","-","-","-","-","-","-","-",null,null,null,null,null,null,null,null,null,"B",null,"B",null,"B",null,null,"-","-","-","-","-","-","-",0,"-","-",0,0,0,8,null,36,null,null,null,null,null,null,null,"-","-","-","-","-","-","-","-","-","-","-","-","-","-","-","-","-","-","-","-","-","-","-","-","-","-","-","-","-","-","-","","-","-","-"]
[{"$f":"BIODATA!A45","v":"-"},{"$f":"BIODATA!C45","v":0},{"$f":"BIODATA!D45","v":0},"-","-","-","-","-","-","-","-","-","-","-","-","-","-","-","-","-","-","-","-","-","-","-","-","-","-","-","-","-","-","-","-","-","-","-","-","-","-","-","-","-","-","-","-","-","-","-","-","-","-","-","-","-","-","-","-","-","-","-","-","-","-","-","-","-","-","-","-","-","-","-","-","-","-","-","-","-","-","-","-","-","-","-","-","-","-","-","-","-","-","-",null,null,null,null,null,null,null,null,null,"B",null,"B",null,"B",null,null,"-","-","-","-","-","-","-",0,"-","-",0,0,0,8,null,36,null,null,null,null,null,null,null,"-","-","-","-","-","-","-","-","-","-","-","-","-","-","-","-","-","-","-","-","-","-","-","-","-","-","-","-","-","-","-","","-","-","-"]
[{"$f":"BIODATA!A46","v":"-"},{"$f":"BIODATA!C46","v":0},{"$f":"BIODATA!D46","v":0},"-","-","-","-","-","-","-","-","-","-","-","-","-","-","-","-","-","-","-","-","-","-","-","-","-","-","-","-","-","-","-","-","-","-","-","-","-","-","-","-","-","-","-","-","-","-","-","-","-","-","-","-","-","-","-","-","-","-","-","-","-","-","-","-","-","-","-","-","-","-","-","-","-","-","-","-","-","-","-","-","-","-","-","-","-","-","-","-","-","-","-",null,null,null,null,null,null,null,null,null,"B",null,"B",null,"B",null,null,"-","-","-","-","-","-","-",0,"-","-",0,0,0,8,null,36,null,null,null,null,null,null,null,"-","-","-","-","-","-","-","-","-","-","-","-","-","-","-","-","-","-","-","-","-","-","-","-","-","-","-","-","-","-","-","","-","-","-"]
[{"$f":"BIODATA!A47","v":"-"},{"$f":"BIODATA!C47","v":0},{"$f":"BIODATA!D47","v":0},"-","-","-","-","-","-","-","-","-","-","-","-","-","-","-","-","-","-","-","-","-","-","-","-","-","-","-","-","-","-","-","-","-","-","-","-","-","-","-","-","-","-","-","-","-","-","-","-","-","-","-","-","-","-","-","-","-","-","-","-","-","-","-","-","-","-","-","-","-","-","-","-","-","-","-","-","-","-","-","-","-","-","-","-","-","-","-","-","-","-","-",null,null,null,null,null,null,null,null,null,"B",null,"B",null,"B",null,null,"-","-","-","-","-","-","-",0,"-","-",0,0,0,8,null,36,null,null,null,null,null,null,null,"-","-","-","-","-","-","-","-","-","-","-","-","-","-","-","-","-","-","-","-","-","-","-","-","-","-","-","-","-","-","-","","-","-","-"]
[{"$f":"BIODATA!A48","v":"-"},{"$f":"BIODATA!C48","v":0},{"$f":"BIODATA!D48","v":0},"-","-","-","-","-","-","-","-","-","-","-","-","-","-","-","-","-","-","-","-","-","-","-","-","-","-","-","-","-","-","-","-","-","-","-","-","-","-","-","-","-","-","-","-","-","-","-","-","-","-","-","-","-","-","-","-","-","-","-","-","-","-","-","-","-","-","-","-","-","-","-","-","-","-","-","-","-","-","-","-","-","-","-","-","-","-","-","-","-","-","-",null,null,null,null,null,null,null,null,null,"B",null,"B",null,"B",null,null,"-","-","-","-","-","-","-",0,"-","-",0,0,0,8,null,36,null,null,null,null,null,null,null,"-","-","-","-","-","-","-","-","-","-","-","-","-","-","-","-","-","-","-","-","-","-","-","-","-","-","-","-","-","-","-","","-","-","-"]
[{"$f":"BIODATA!A49","v":"-"},{"$f":"BIODATA!C49","v":0},{"$f":"BIODATA!D49","v":0},"-","-","-","-","-","-","-","-","-","-","-","-","-","-","-","-","-","-","-","-","-","-","-","-","-","-","-","-","-","-","-","-","-","-","-","-","-","-","-","-","-","-","-","-","-","-","-","-","-","-","-","-","-","-","-","-","-","-","-","-","-","-","-","-","-","-","-","-","-","-","-","-","-","-","-","-","-","-","-","-","-","-","-","-","-","-","-","-","-","-","-",null,null,null,null,null,null,null,null,null,"B",null,"B",null,"B",null,null,"-","-","-","-","-","-","-",0,"-","-",0,0,0,8,null,36,null,null,null,null,null,null,null,"-","-","-","-","-","-","-","-","-","-","-","-","-","-","-","-","-","-","-","-","-","-","-","-","-","-","-","-","-","-","-","","-","-","-"]
[]
[]
[]
[]
[]
[]
[]
[]
[]
[]
[]
[]
[null,null,null,3.59]
[null,null,null,3.59]
[null,null,null,3.5]
[null,null,null,3.48]
[null,null,null,3.54]
[null,null,null,3.39]
[null,null,null,3.45]
[null,null,null,3.45]
[null,null,null,3.29]
[null,null,null,3.45]
[null,null,null,3.45]
[null,null,null,3.45]

{"sheet":"NILSM6","index":33,"n_rows":76,"n_cols":168,"rows_kept":76,"cut":false,"hidden":false,"merged":[[3,87,3,89],[3,124,4,124],[3,133,5,134],[3,135,5,163],[3,90,3,92],[3,94,4,97],[3,98,4,101],[3,118,4,119],[3,120,4,122],[3,108,4,111],[3,112,4,114],[3,102,4,107],[3,75,3,77],[3,78,3,80],[3,72,3,74],[3,81,3,83],[3,84,3,86],[1,132,1,168],[1,0,1,1],[2,90,2,92],[2,75,2,77],[2,78,2,80],[2,81,2,83],[2,84,2,86],[2,87,2,89],[2,72,2,74]]}
[null,null,null,{"$f":"$B$3&D3&D4&D6","v":"6 (enam)A1P"},{"$f":"$B$3&E3&E4&E6","v":"6 (enam)A1K"},"6 (enam)A1S","6 (enam)A2P","6 (enam)A2K","6 (enam)A2S","6 (enam)A3P","6 (enam)A3K","6 (enam)A3S","6 (enam)A4P","6 (enam)A4K","6 (enam)A4S","6 (enam)A-P","6 (enam)A-K","6 (enam)A-S","6 (enam)A5P","6 (enam)A5K","6 (enam)A5S","6 (enam)B-P","6 (enam)B-K","6 (enam)B-S","6 (enam)B1P","6 (enam)B1K","6 (enam)B1S","6 (enam)B-P","6 (enam)B-K","6 (enam)B-S","6 (enam)B2P","6 (enam)B2K","6 (enam)B2S","6 (enam)C11P","6 (enam)C11K","6 (enam)C11S","6 (enam)C12P","6 (enam)C12K","6 (enam)C12S","6 (enam)C13P","6 (enam)C13K","6 (enam)C13S","6 (enam)C21P","6 (enam)C21K","6 (enam)C21S","6 (enam)C22P","6 (enam)C22K","6 (enam)C22S","6 (enam)C23P","6 (enam)C23K","6 (enam)C23S","6 (enam)C24P","6 (enam)C24K","6 (enam)C24S","6 (enam)C31P","6 (enam)C31K","6 (enam)C31S","6 (enam)C32P","6 (enam)C32K","6 (enam)C32S","6 (enam)C33P","6 (enam)C33K","6 (enam)C33S","6 (enam)C34P","6 (enam)C34K","6 (enam)C34S","6 (enam)C35P","6 (enam)C35K",{"$f":"$B$3&BQ3&BQ4&BQ6","v":"6 (enam)C35S"},"6 (enam)C36P","6 (enam)C36K","6 (enam)C36S","6 (enam)-P","6 (enam)K","6 (enam)S","6 (enam)-P","6 (enam)K","6 (enam)S","6 (enam)-P","6 (enam)K","6 (enam)S","6 (enam)-P","6 (enam)K","6 (enam)S","6 (enam)-1P","6 (enam)K","6 (enam)S","6 (enam)--P","6 (enam)K","6 (enam)S","6 (enam)--P","6 (enam)K","6 (enam)S"]
[{"$f":"\"INPUT NILAI CAPAIAN KOMPETENSI TP \"&MENU!I21","v":"INPUT NILAI CAPAIAN KOMPETENSI TP 2019 / 2020"},null,"                    NAMA MAPEL",{"$f":"HLOOKUP(MENU!$I$8&\" \"&$B$3,DATABASE!$X$2:$CK$92,DATABASE!W3,FALSE)","v":"Pendidikan Agama dan Budi Pekerti"},{"$f":"HLOOKUP(MENU!$I$8&\" \"&$B$3,DATABASE!$X$2:$CK$92,DATABASE!W4,FALSE)","v":"Pendidikan Agama dan Budi Pekerti"},{"$f":"HLOOKUP(MENU!$I$8&\" \"&$B$3,DATABASE!$X$2:$CK$92,DATABASE!W5,FALSE)","v":"Pendidikan Agama dan Budi Pekerti"},{"$f":"HLOOKUP(MENU!$I$8&\" \"&$B$3,DATABASE!$X$2:$CK$92,DATABASE!W6,FALSE)","v":"Pendidikan Pancasila dan Kewarganegaraan"},{"$f":"HLOOKUP(MENU!$I$8&\" \"&$B$3,DATABASE!$X$2:$CK$92,DATABASE!W7,FALSE)","v":"Pendidikan Pancasila dan Kewarganegaraan"},{"$f":"HLOOKUP(MENU!$I$8&\" \"&$B$3,DATABASE!$X$2:$CK$92,DATABASE!W8,FALSE)","v":"Pendidikan Pancasila dan Kewarganegaraan"},{"$f":"HLOOKUP(MENU!$I$8&\" \"&$B$3,DATABASE!$X$2:$CK$92,DATABASE!W9,FALSE)","v":"Bahasa Indonesia"},{"$f":"HLOOKUP(MENU!$I$8&\" \"&$B$3,DATABASE!$X$2:$CK$92,DATABASE!W10,FALSE)","v":"Bahasa Indonesia"},{"$f":"HLOOKUP(MENU!$I$8&\" \"&$B$3,DATABASE!$X$2:$CK$92,DATABASE!W11,FALSE)","v":"Bahasa Indonesia"},{"$f":"HLOOKUP(MENU!$I$8&\" \"&$B$3,DATABASE!$X$2:$CK$92,DATABASE!W12,FALSE)","v":"Matematika"},{"$f":"HLOOKUP(MENU!$I$8&\" \"&$B$3,DATABASE!$X$2:$CK$92,DATABASE!W13,FALSE)","v":"Matematika"},{"$f":"HLOOKUP(MENU!$I$8&\" \"&$B$3,DATABASE!$X$2:$CK$92,DATABASE!W14,FALSE)","v":"Matematika"},{"$f":"HLOOKUP(MENU!$I$8&\" \"&$B$3,DATABASE!$X$2:$CK$92,DATABASE!W15,FALSE)","v":"-"},{"$f":"HLOOKUP(MENU!$I$8&\" \"&$B$3,DATABASE!$X$2:$CK$92,DATABASE!W16,FALSE)","v":"-"},{"$f":"HLOOKUP(MENU!$I$8&\" \"&$B$3,DATABASE!$X$2:$CK$92,DATABASE!W17,FALSE)","v":"-"},{"$f":"HLOOKUP(MENU!$I$8&\" \"&$B$3,DATABASE!$X$2:$CK$92,DATABASE!W18,FALSE)","v":"Bahasa Inggris"},{"$f":"HLOOKUP(MENU!$I$8&\" \"&$B$3,DATABASE!$X$2:$CK$92,DATABASE!W19,FALSE)","v":"Bahasa Inggris"},{"$f":"HLOOKUP(MENU!$I$8&\" \"&$B$3,DATABASE!$X$2:$CK$92,DATABASE!W20,FALSE)","v":"Bahasa Inggris"},{"$f":"HLOOKUP(MENU!$I$8&\" \"&$B$3,DATABASE!$X$2:$CK$92,DATABASE!W21,FALSE)","v":"-"},{"$f":"HLOOKUP(MENU!$I$8&\" \"&$B$3,DATABASE!$X$2:$CK$92,DATABASE!W22,FALSE)","v":"-"},{"$f":"HLOOKUP(MENU!$I$8&\" \"&$B$3,DATABASE!$X$2:$CK$92,DATABASE!W23,FALSE)","v":"-"},{"$f":"HLOOKUP(MENU!$I$8&\" \"&$B$3,DATABASE!$X$2:$CK$92,DATABASE!W24,FALSE)","v":"-"},{"$f":"HLOOKUP(MENU!$I$8&\" \"&$B$3,DATABASE!$X$2:$CK$92,DATABASE!W25,FALSE)","v":"-"},{"$f":"HLOOKUP(MENU!$I$8&\" \"&$B$3,DATABASE!$X$2:$CK$92,DATABASE!W26,FALSE)","v":"-"},{"$f":"HLOOKUP(MENU!$I$8&\" \"&$B$3,DATABASE!$X$2:$CK$92,DATABASE!W27,FALSE)","v":"-"},{"$f":"HLOOKUP(MENU!$I$8&\" \"&$B$3,DATABASE!$X$2:$CK$92,DATABASE!W28,FALSE)","v":"-"},{"$f":"HLOOKUP(MENU!$I$8&\" \"&$B$3,DATABASE!$X$2:$CK$92,DATABASE!W29,FALSE)","v":"-"},{"$f":"HLOOKUP(MENU!$I$8&\" \"&$B$3,DATABASE!$X$2:$CK$92,DATABASE!W30,FALSE)","v":"Bahasa Jepang"},{"$f":"HLOOKUP(MENU!$I$8&\" \"&$B$3,DATABASE!$X$2:$CK$92,DATABASE!W31,FALSE)","v":"Bahasa Jepang"},{"$f":"HLOOKUP(MENU!$I$8&\" \"&$B$3,DATABASE!$X$2:$CK$92,DATABASE!W32,FALSE)","v":"Bahasa Jepang"},{"$f":"HLOOKUP(MENU!$I$8&\" \"&$B$3,DATABASE!$X$2:$CK$92,DATABASE!W33,FALSE)","v":"-"},{"$f":"HLOOKUP(MENU!$I$8&\" \"&$B$3,DATABASE!$X$2:$CK$92,DATABASE!W34,FALSE)","v":"-"},{"$f":"HLOOKUP(MENU!$I$8&\" \"&$B$3,DATABASE!$X$2:$CK$92,DATABASE!W35,FALSE)","v":"-"},{"$f":"HLOOKUP(MENU!$I$8&\" \"&$B$3,DATABASE!$X$2:$CK$92,DATABASE!W36,FALSE)","v":"-"},{"$f":"HLOOKUP(MENU!$I$8&\" \"&$B$3,DATABASE!$X$2:$CK$92,DATABASE!W37,FALSE)","v":"-"},{"$f":"HLOOKUP(MENU!$I$8&\" \"&$B$3,DATABASE!$X$2:$CK$92,DATABASE!W38,FALSE)","v":"-"},{"$f":"HLOOKUP(MENU!$I$8&\" \"&$B$3,DATABASE!$X$2:$CK$92,DATABASE!W39,FALSE)","v":"-"},{"$f":"HLOOKUP(MENU!$I$8&\" \"&$B$3,DATABASE!$X$2:$CK$92,DATABASE!W40,FALSE)","v":"-"},{"$f":"HLOOKUP(MENU!$I$8&\" \"&$B$3,DATABASE!$X$2:$CK$92,DATABASE!W41,FALSE)","v":"-"},{"$f":"HLOOKUP(MENU!$I$8&\" \"&$B$3,DATABASE!$X$2:$CK$92,DATABASE!W42,FALSE)","v":"-"},{"$f":"HLOOKUP(MENU!$I$8&\" \"&$B$3,DATABASE!$X$2:$CK$92,DATABASE!W43,FALSE)","v":"-"},{"$f":"HLOOKUP(MENU!$I$8&\" \"&$B$3,DATABASE!$X$2:$CK$92,DATABASE!W44,FALSE)","v":"-"},{"$f":"HLOOKUP(MENU!$I$8&\" \"&$B$3,DATABASE!$X$2:$CK$92,DATABASE!W45,FALSE)","v":"-"},{"$f":"HLOOKUP(MENU!$I$8&\" \"&$B$3,DATABASE!$X$2:$CK$92,DATABASE!W46,FALSE)","v":"-"},{"$f":"HLOOKUP(MENU!$I$8&\" \"&$B$3,DATABASE!$X$2:$CK$92,DATABASE!W47,FALSE)","v":"-"},{"$f":"HLOOKUP(MENU!$I$8&\" \"&$B$3,DATABASE!$X$2:$CK$92,DATABASE!W48,FALSE)","v":"-"},{"$f":"HLOOKUP(MENU!$I$8&\" \"&$B$3,DATABASE!$X$2:$CK$92,DATABASE!W49,FALSE)","v":"-"},{"$f":"HLOOKUP(MENU!$I$8&\" \"&$B$3,DATABASE!$X$2:$CK$92,DATABASE!W50,FALSE)","v":"-"},{"$f":"HLOOKUP(MENU!$I$8&\" \"&$B$3,DATABASE!$X$2:$CK$92,DATABASE!W51,FALSE)","v":"-"},{"$f":"HLOOKUP(MENU!$I$8&\" \"&$B$3,DATABASE!$X$2:$CK$92,DATABASE!W52,FALSE)","v":"-"},{"$f":"HLOOKUP(MENU!$I$8&\" \"&$B$3,DATABASE!$X$2:$CK$92,DATABASE!W53,FALSE)","v":"-"},{"$f":"HLOOKUP(MENU!$I$8&\" \"&$B$3,DATABASE!$X$2:$CK$92,DATABASE!W54,FALSE)","v":"Administrasi Infrastruktur Jaringan"},{"$f":"HLOOKUP(MENU!$I$8&\" \"&$B$3,DATABASE!$X$2:$CK$92,DATABASE!W55,FALSE)","v":"Administrasi Infrastruktur Jaringan"},{"$f":"HLOOKUP(MENU!$I$8&\" \"&$B$3,DATABASE!$X$2:$CK$92,DATABASE!W56,FALSE)","v":"Administrasi Infrastruktur Jaringan"},{"$f":"HLOOKUP(MENU!$I$8&\" \"&$B$3,DATABASE!$X$2:$CK$92,DATABASE!W57,FALSE)","v":"Administrasi Sistem Jaringan"},{"$f":"HLOOKUP(MENU!$I$8&\" \"&$B$3,DATABASE!$X$2:$CK$92,DATABASE!W58,FALSE)","v":"Administrasi Sistem Jaringan"},{"$f":"HLOOKUP(MENU!$I$8&\" \"&$B$3,DATABASE!$X$2:$CK$92,DATABASE!W59,FALSE)","v":"Administrasi Sistem Jaringan"},{"$f":"HLOOKUP(MENU!$I$8&\" \"&$B$3,DATABASE!$X$2:$CK$92,DATABASE!W60,FALSE)","v":"Teknologi Layanan Jaringan"},{"$f":"HLOOKUP(MENU!$I$8&\" \"&$B$3,DATABASE!$X$2:$CK$92,DATABASE!W61,FALSE)","v":"Teknologi Layanan Jaringan"},{"$f":"HLOOKUP(MENU!$I$8&\" \"&$B$3,DATABASE!$X$2:$CK$92,DATABASE!W62,FALSE)","v":"Teknologi Layanan Jaringan"},{"$f":"HLOOKUP(MENU!$I$8&\" \"&$B$3,DATABASE!$X$2:$CK$92,DATABASE!W63,FALSE)","v":"-"},{"$f":"HLOOKUP(MENU!$I$8&\" \"&$B$3,DATABASE!$X$2:$CK$92,DATABASE!W64,FALSE)","v":"-"},{"$f":"HLOOKUP(MENU!$I$8&\" \"&$B$3,DATABASE!$X$2:$CK$92,DATABASE!W65,FALSE)","v":"-"},{"$f":"HLOOKUP(MENU!$I$8&\" \"&$B$3,DATABASE!$X$2:$CK$92,DATABASE!W66,FALSE)","v":"-"},{"$f":"HLOOKUP(MENU!$I$8&\" \"&$B$3,DATABASE!$X$2:$CK$92,DATABASE!W67,FALSE)","v":"-"},{"$f":"HLOOKUP(MENU!$I$8&\" \"&$B$3,DATABASE!$X$2:$CK$92,DATABASE!W68,FALSE)","v":"-"},{"$f":"HLOOKUP(MENU!$I$8&\" \"&$B$3,DATABASE!$X$2:$CK$92,DATABASE!W69,FALSE)","v":"Produk Kreatif dan Kewirausahaan "},{"$f":"HLOOKUP(MENU!$I$8&\" \"&$B$3,DATABASE!$X$2:$CK$92,DATABASE!W70,FALSE)","v":"Produk Kreatif dan Kewirausahaan "},{"$f":"HLOOKUP(MENU!$I$8&\" \"&$B$3,DATABASE!$X$2:$CK$92,DATABASE!W71,FALSE)","v":"Produk Kreatif dan Kewirausahaan "},{"$f":"HLOOKUP(MENU!$I$8&\" \"&$B$3,DATABASE!$X$2:$CK$92,DATABASE!W72,FALSE)","v":"-"},{"$f":"HLOOKUP(MENU!$I$8&\" \"&$B$3,DATABASE!$X$2:$CK$92,DATABASE!W73,FALSE)","v":"-"},{"$f":"HLOOKUP(MENU!$I$8&\" \"&$B$3,DATABASE!$X$2:$CK$92,DATABASE!W74,FALSE)","v":"-"},{"$f":"HLOOKUP(MENU!$I$8&\" \"&$B$3,DATABASE!$X$2:$CK$92,DATABASE!W75,FALSE)","v":"-"},{"$f":"HLOOKUP(MENU!$I$8&\" \"&$B$3,DATABASE!$X$2:$CK$92,DATABASE!W76,FALSE)","v":"-"},{"$f":"HLOOKUP(MENU!$I$8&\" \"&$B$3,DATABASE!$X$2:$CK$92,DATABASE!W77,FALSE)","v":"-"},{"$f":"HLOOKUP(MENU!$I$8&\" \"&$B$3,DATABASE!$X$2:$CK$92,DATABASE!W78,FALSE)","v":"-"},{"$f":"HLOOKUP(MENU!$I$8&\" \"&$B$3,DATABASE!$X$2:$CK$92,DATABASE!W79,FALSE)","v":"-"},{"$f":"HLOOKUP(MENU!$I$8&\" \"&$B$3,DATABASE!$X$2:$CK$92,DATABASE!W80,FALSE)","v":"-"},{"$f":"HLOOKUP(MENU!$I$8&\" \"&$B$3,DATABASE!$X$2:$CK$92,DATABASE!W81,FALSE)","v":"-"},{"$f":"HLOOKUP(MENU!$I$8&\" \"&$B$3,DATABASE!$X$2:$CK$92,DATABASE!W82,FALSE)","v":"-"},{"$f":"HLOOKUP(MENU!$I$8&\" \"&$B$3,DATABASE!$X$2:$CK$92,DATABASE!W83,FALSE)","v":"-"},{"$f":"HLOOKUP(MENU!$I$8&\" \"&$B$3,DATABASE!$X$2:$CK$92,DATABASE!W84,FALSE)","v":"-"},{"$f":"HLOOKUP(MENU!$I$8&\" \"&$B$3,DATABASE!$X$2:$CK$92,DATABASE!W85,FALSE)","v":"-"},{"$f":"HLOOKUP(MENU!$I$8&\" \"&$B$3,DATABASE!$X$2:$CK$92,DATABASE!W86,FALSE)","v":"-"},{"$f":"HLOOKUP(MENU!$I$8&\" \"&$B$3,DATABASE!$X$2:$CK$92,DATABASE!W87,FALSE)","v":"-"},{"$f":"HLOOKUP(MENU!$I$8&\" \"&$B$3,DATABASE!$X$2:$CK$92,DATABASE!W88,FALSE)","v":"-"},{"$f":"HLOOKUP(MENU!$I$8&\" \"&$B$3,DATABASE!$X$2:$CK$92,DATABASE!W89,FALSE)","v":"-"},{"$f":"HLOOKUP(MENU!$I$8&\" \"&$B$3,DATABASE!$X$2:$CK$92,DATABASE!W90,FALSE)","v":"-"},{"$f":"HLOOKUP(MENU!$I$8&\" \"&$B$3,DATABASE!$X$2:$CK$92,DATABASE!W91,FALSE)","v":"-"},{"$f":"HLOOKUP(MENU!$I$8&\" \"&$B$3,DATABASE!$X$2:$CK$92,DATABASE!W92,FALSE)","v":"-"},"NILAI BP/BK","NAMA TEMPAT PKL","LOKASI TEMPAT PKL","LAMA PKL (BULAN)","KET. NILAI PKL","NAMA TEMPAT PKL","LOKASI TEMPAT PKL","LAMA PKL (BULAN)","KET. NILAI PKL","NAMA ESKUL 1","NILAI ESKUL 1","NAMA ESKUL 2","NILAI ESKUL 2","NAMA ESKUL 3","NILAI ESKUL 3","JENIS PRESTASI 1","KET. NILAI PRESTASI 1","JENIS PRESTASI 2","KET. NILAI PRESTASI 2","SAKIT","IJIN","TANPA KETERANGAN","NILAI SIKAP SPIRITUAL (OTOMATIS)","NILAI SIKAP SOSIAL (OTOMATIS)","CEK JUMLAH MAPEL (HARUS SAMA)!","RATA-RATA PENGETAHUAN","RATA-RATA KETERAMPILAN","JUMLAH NILAI PENGETAHUAN","JUMLAH NILAI KETERAMPILAN","TOTAL NILAI","FORMULA PERINGKAT KELAS","PENENTUAN PERINGKAT OLEH WALI KELAS","JUMLAH SISWA DI KELAS","LULUS/TIDAK LULUS",null,null,null,null,null,"JANGAN EDIT DATA DI KOLOM INI KE BAWAH"]
["Semester :","6 (enam)","KELOMPOK MAPEL","A","A","A","A","A","A","A","A","A","A","A","A","A","A","A","A","A","A","B","B","B","B","B","B","B","B","B","B","B","B","C1","C1","C1","C1","C1","C1","C1","C1","C1","C2","C2","C2","C2","C2","C2","C2","C2","C2","C2","C2","C2","C3","C3","C3","C3","C3","C3","C3","C3","C3","C3","C3","C3","C3","C3","C3","C3","C3","C3","-",null,null,"-",null,null,"-",null,null,"-",null,null,"-",null,null,"-",null,null,"-",null,null,null,null,null,null,null,null,null,null,null,null,null,null,null,null,null,null,null,null,null,null,null,null,null,null,null,null,null,null,null,null,null,null,null,null,"Titimangsa Rapor :",null,null,null,null,null,1,2,3,4,5,6,7,8,9,10,11,12,13,14,15,16,17,18,19,20,21,22,23,24,25,26,27,28,29,30,31]
["Wali Kelas :",{"$f":"MENU!P23","v":"Amo Sisdianto, S.Kom"},"URUTAN MAPEL",1,1,1,2,2,2,3,3,3,4,4,4,"-","-","-",5,5,5,"-","-","-",1,1,1,"-","-","-",2,2,2,1,1,1,2,2,2,3,3,3,1,1,1,2,2,2,3,3,3,4,4,4,1,1,1,2,2,2,3,3,3,4,4,4,5,5,5,6,6,6,null,null,null,null,null,null,null,null,null,null,null,null,1,null,null,"-",null,null,"-",null,null,null,"KEGIATAN PKL",null,null,null,"KEGIATAN PKL",null,null,null,"KEGIATAN EKSTRAKURIKULER",null,null,null,null,null,"CATATAN PRESTASI",null,null,null,"KETIDAKHADIRAN",null,null,null,null,null,"RATA-RATA NILAI",null,"JUMLAH NILAI",null,null,null,"PERINGKAT KELAS",null,null,{"$f":"MENU!P22","v":0},null,null,null,null,null,"KI-1  &  KI-2",null,"KI-2"]
[{"$f":"MENU!N24","v":"PegId"},{"$f":"MENU!P24","v":"20217802182001"},"KB",75,75,"B",75,75,"B",75,75,"B",75,75,"B",75,75,"B",75,75,"B",75,75,"B",75,75,"B",75,75,"B",75,75,"B",75,75,"B",75,75,"B",75,75,"B",75,75,"B",75,75,"B",75,75,"B",75,75,"B",75,75,"B",75,75,"B",75,75,"B",75,75,"B",75,75,"B",75,75,"B",75,75,"B",75,75,"B",75,75,"B",75,75,"B",75,75,"B",75,75,"B",75,75,"B"]
["NO. URUT","NAMA SISWA","NIS","P","K","S","P","K","S","P","K","S","P","K","S","P","K","S","P","K","S","P","K","S","P","K","S","P","K","S","P","K","S","P","K","S","P","K","S","P","K","S","P","K","S","P","K","S","P","K","S","P","K","S","P","K","S","P","K","S","P","K","S","P","K","S","P","K","S","P","K","S","P","K","S","P","K","S","P","K","S","P","K","S","P","K","S","P","K","S","P","K","S",null,null,null,null,null,null,null,null,null,null,null,null,null,null,null,null,null,null,null,null,null,null,null,null,null,null,null,null,null,null,null,"SILAHKAN DIISI MANUAL"]
[1,2,3,4,5,6,7,8,9,10,11,12,13,14,15,16,17,18,19,20,21,22,23,24,25,26,27,28,29,30,31,32,33,34,35,36,37,38,39,40,41,42,43,44,45,46,47,48,49,50,51,52,53,54,55,56,57,58,59,60,61,62,63,64,65,66,67,68,69,70,71,72,73,74,75,76,77,78,79,80,81,82,83,84,85,86,87,88,89,90,91,92,93,94,95,96,97,98,99,100,101,102,103,104,105,106,107,108,109,110,111,112,113,114,115,116,117,118,119,120,121,122,123,124,125,126,127]
[{"$f":"BIODATA!A5","v":1},{"$f":"BIODATA!C5","v":"AGHNIA SYAFIRA"},{"$f":"BIODATA!D5","v":13140767},75,76,"B",77,78,"B",79,80,"B",81,82,"B","-","-","-",85,86,"B","-","-","-","-","-","-","-","-","-",93,94,"B","-","-","-","-","-","-","-","-","-","-","-","-","-","-","-","-","-","-","-","-","-",87,88,"B",89,90,"B",91,92,"B","-","-","-","-","-","-",81,82,"B","-","-","-","-","-","-","-","-","-","-","-","-","-","-","-","-","-","-","-","-","-",null,null,null,null,null,null,null,null,null,null,null,null,null,null,null,null,null,"-","-","-","-","-",{"$f":"FJ8","v":"B"},{"$f":"FL8","v":"B"},{"$f":"COUNT(D8:CN8)/2","v":10},{"$f":"IFERROR(ROUND(AVERAGE(D8,G8,J8,M8,P8,S8,V8,Y8,AB8,AE8,AH8,AK8,AN8,AQ8,AT8,AW8,AZ8,BC8,BF8,BI8,BL8,BO8,BR8,BU8,BX8,CA8,CD8,CG8,CJ8,CM8),0),\"-\")","v":84},{"$f":"IFERROR(ROUND(AVERAGE(E8,H8,K8,N8,Q8,T8,W8,Z8,AC8,AF8,AI8,AL8,AO8,AR8,AU8,AX8,BA8,BD8,BG8,BJ8,BM8,BP8,BS8,BV8,BY8,CB8,CE8,CH8,CK8,CN8),0),\"-\")","v":85},{"$f":"ROUND(SUM(D8,G8,J8,M8,P8,S8,V8,Y8,AB8,AE8,AH8,AK8,AN8,AQ8,AT8,AW8,AZ8,BC8,BF8,BI8,BL8,BO8,BR8,BU8,BX8,CA8,CD8,CG8,CJ8,CM8),0)","v":838},{"$f":"ROUND(SUM(E8,H8,K8,N8,Q8,T8,W8,Z8,AC8,AF8,AI8,AL8,AO8,AR8,AU8,AX8,BA8,BD8,BG8,BJ8,BM8,BP8,BS8,BV8,BY8,CB8,CE8,CH8,CK8,CN8),0)","v":848},{"$f":"SUM(DQ8:DR8)","v":1686},{"$f":"RANK(DS8,$DS$8:$DS$52,0)","v":7},null,{"$f":"COUNT($A$8:$A$52)","v":36},null,null,null,null,null,null,null,{"$f":"IF(F8=\"A\",4,IF(F8=\"B\",3,IF(F8=\"C\",2,IF(F8=\"D\",1,\"-\"))))","v":3},{"$f":"IF(I8=\"A\",4,IF(I8=\"B\",3,IF(I8=\"C\",2,IF(I8=\"D\",1,\"-\"))))","v":3},{"$f":"IF(L8=\"A\",4,IF(L8=\"B\",3,IF(L8=\"C\",2,IF(L8=\"D\",1,\"-\"))))","v":3},{"$f":"IF(O8=\"A\",4,IF(O8=\"B\",3,IF(O8=\"C\",2,IF(O8=\"D\",1,\"-\"))))","v":3},{"$f":"IF(R8=\"A\",4,IF(R8=\"B\",3,IF(R8=\"C\",2,IF(R8=\"D\",1,\"-\"))))","v":"-"},{"$f":"IF(U8=\"A\",4,IF(U8=\"B\",3,IF(U8=\"C\",2,IF(U8=\"D\",1,\"-\"))))","v":3},{"$f":"IF(X8=\"A\",4,IF(X8=\"B\",3,IF(X8=\"C\",2,IF(X8=\"D\",1,\"-\"))))","v":"-"},{"$f":"IF(AA8=\"A\",4,IF(AA8=\"B\",3,IF(AA8=\"C\",2,IF(AA8=\"D\",1,\"-\"))))","v":"-"},{"$f":"IF(AD8=\"A\",4,IF(AD8=\"B\",3,IF(AD8=\"C\",2,IF(AD8=\"D\",1,\"-\"))))","v":"-"},{"$f":"IF(AG8=\"A\",4,IF(AG8=\"B\",3,IF(AG8=\"C\",2,IF(AG8=\"D\",1,\"-\"))))","v":3},{"$f":"IF(AJ8=\"A\",4,IF(AJ8=\"B\",3,IF(AJ8=\"C\",2,IF(AJ8=\"D\",1,\"-\"))))","v":"-"},{"$f":"IF(AM8=\"A\",4,IF(AM8=\"B\",3,IF(AM8=\"C\",2,IF(AM8=\"D\",1,\"-\"))))","v":"-"},{"$f":"IF(AP8=\"A\",4,IF(AP8=\"B\",3,IF(AP8=\"C\",2,IF(AP8=\"D\",1,\"-\"))))","v":"-"},{"$f":"IF(AS8=\"A\",4,IF(AS8=\"B\",3,IF(AS8=\"C\",2,IF(AS8=\"D\",1,\"-\"))))","v":"-"},{"$f":"IF(AV8=\"A\",4,IF(AV8=\"B\",3,IF(AV8=\"C\",2,IF(AV8=\"D\",1,\"-\"))))","v":"-"},{"$f":"IF(AY8=\"A\",4,IF(AY8=\"B\",3,IF(AY8=\"C\",2,IF(AY8=\"D\",1,\"-\"))))","v":"-"},{"$f":"IF(BB8=\"A\",4,IF(BB8=\"B\",3,IF(BB8=\"C\",2,IF(BB8=\"D\",1,\"-\"))))","v":"-"},{"$f":"IF(BE8=\"A\",4,IF(BE8=\"B\",3,IF(BE8=\"C\",2,IF(BE8=\"D\",1,\"-\"))))","v":3},{"$f":"IF(BH8=\"A\",4,IF(BH8=\"B\",3,IF(BH8=\"C\",2,IF(BH8=\"D\",1,\"-\"))))","v":3},{"$f":"IF(BD8=\"A\",4,IF(BD8=\"B\",3,IF(BD8=\"C\",2,IF(BD8=\"D\",1,\"-\"))))","v":"-"},{"$f":"IF(BN8=\"A\",4,IF(BN8=\"B\",3,IF(BN8=\"C\",2,IF(BN8=\"D\",1,\"-\"))))","v":"-"},{"$f":"IF(BQ8=\"A\",4,IF(BQ8=\"B\",3,IF(BQ8=\"C\",2,IF(BQ8=\"D\",1,\"-\"))))","v":"-"},{"$f":"IF(BT8=\"A\",4,IF(BT8=\"B\",3,IF(BT8=\"C\",2,IF(BT8=\"D\",1,\"-\"))))","v":3},{"$f":"IF(BW8=\"A\",4,IF(BW8=\"B\",3,IF(BW8=\"C\",2,IF(BW8=\"D\",1,\"-\"))))","v":"-"},{"$f":"IF(BZ8=\"A\",4,IF(BZ8=\"B\",3,IF(BZ8=\"C\",2,IF(BZ8=\"D\",1,\"-\"))))","v":"-"},{"$f":"IF(CC8=\"A\",4,IF(CC8=\"B\",3,IF(CC8=\"C\",2,IF(CC8=\"D\",1,\"-\"))))","v":"-"},{"$f":"IF(CF8=\"A\",4,IF(CF8=\"B\",3,IF(CF8=\"C\",2,IF(CF8=\"D\",1,\"-\"))))","v":"-"},{"$f":"IF(CI8=\"A\",4,IF(CI8=\"B\",3,IF(CI8=\"C\",2,IF(CI8=\"D\",1,\"-\"))))","v":"-"},{"$f":"IF(CL8=\"A\",4,IF(CL8=\"B\",3,IF(CL8=\"C\",2,IF(CL8=\"D\",1,\"-\"))))","v":"-"},{"$f":"IF(CO8=\"A\",4,IF(CO8=\"B\",3,IF(CO8=\"C\",2,IF(CO8=\"D\",1,\"-\"))))","v":"-"},{"$f":"IF(CP8=\"A\",4,IF(CP8=\"B\",3,IF(CP8=\"C\",2,IF(CP8=\"D\",1,\"-\"))))","v":"-"},{"$f":"IFERROR(ROUND(AVERAGE(ED8:EE8),0),\"\")","v":3},{"$f":"IFERROR(IF(FI8=4,\"A\",IF(FI8=3,\"B\",IF(FI8=2,\"C\",IF(FI8=1,\"D\",\"-\")))),\"-\")","v":"B"},{"$f":"IFERROR(MODE(ED8:FH8),\"-\")","v":3},{"$f":"IFERROR(IF(FK8=4,\"A\",IF(FK8=3,\"B\",IF(FK8=2,\"C\",IF(FK8=1,\"D\",\"-\")))),\"-\")","v":"B"}]
[{"$f":"BIODATA!A6","v":2},{"$f":"BIODATA!C6","v":"AL KINDI"},{"$f":"BIODATA!D6","v":13140768},90,78,"A",90,80,"A",90,82,"A",90,84,"A","-","-","-",87,88,"A","-","-","-","-","-","-","-","-","-",95,96,"A","-","-","-","-","-","-","-","-","-","-","-","-","-","-","-","-","-","-","-","-","-",89,90,"A",91,92,"A",93,94,"A","-","-","-","-","-","-",83,84,"A","-","-","-","-","-","-","-","-","-","-","-","-","-","-","-","-","-","-","-","-","-",null,null,null,null,null,null,null,null,null,null,null,null,null,null,null,null,null,"-","-","-","-","-",{"$f":"FJ9","v":"A"},{"$f":"FL9","v":"A"},10,{"$f":"IFERROR(ROUND(AVERAGE(D9,G9,J9,M9,P9,S9,V9,Y9,AB9,AE9,AH9,AK9,AN9,AQ9,AT9,AW9,AZ9,BC9,BF9,BI9,BL9,BO9,BR9,BU9,BX9,CA9,CD9,CG9,CJ9,CM9),0),\"-\")","v":90},{"$f":"IFERROR(ROUND(AVERAGE(E9,H9,K9,N9,Q9,T9,W9,Z9,AC9,AF9,AI9,AL9,AO9,AR9,AU9,AX9,BA9,BD9,BG9,BJ9,BM9,BP9,BS9,BV9,BY9,CB9,CE9,CH9,CK9,CN9),0),\"-\")","v":87},{"$f":"ROUND(SUM(D9,G9,J9,M9,P9,S9,V9,Y9,AB9,AE9,AH9,AK9,AN9,AQ9,AT9,AW9,AZ9,BC9,BF9,BI9,BL9,BO9,BR9,BU9,BX9,CA9,CD9,CG9,CJ9,CM9),0)","v":898},{"$f":"ROUND(SUM(E9,H9,K9,N9,Q9,T9,W9,Z9,AC9,AF9,AI9,AL9,AO9,AR9,AU9,AX9,BA9,BD9,BG9,BJ9,BM9,BP9,BS9,BV9,BY9,CB9,CE9,CH9,CK9,CN9),0)","v":868},{"$f":"SUM(DQ9:DR9)","v":1766},{"$f":"RANK(DS9,$DS$8:$DS$52,0)","v":4},null,{"$f":"COUNT($A$8:$A$52)","v":36},null,null,null,null,null,null,null,4,4,4,4,"-",4,"-","-","-",4,"-","-","-","-","-","-","-",4,4,"-","-","-",4,"-","-","-","-","-","-","-","-",{"$f":"IFERROR(ROUND(AVERAGE(ED9:EE9),0),\"\")","v":4},"A",{"$f":"IFERROR(MODE(ED9:FH9),\"-\")","v":4},{"$f":"IFERROR(IF(FK9=4,\"A\",IF(FK9=3,\"B\",IF(FK9=2,\"C\",IF(FK9=1,\"D\",\"-\")))),\"-\")","v":"A"}]
[{"$f":"BIODATA!A7","v":3},{"$f":"BIODATA!C7","v":"ALFIAN MULYADI NATA"},{"$f":"BIODATA!D7","v":13140769},79,80,"B",81,82,"B",83,84,"B",85,86,"B","-","-","-",89,90,"B","-","-","-","-","-","-","-","-","-",97,98,"B","-","-","-","-","-","-","-","-","-","-","-","-","-","-","-","-","-","-","-","-","-",91,92,"B",93,94,"B",95,96,"B","-","-","-","-","-","-",85,86,"B","-","-","-","-","-","-","-","-","-","-","-","-","-","-","-","-","-","-","-","-","-",null,null,null,null,null,null,null,null,null,null,null,null,null,null,null,null,null,"-","-","-","-","-","B","B",10,88,89,878,888,1766,4,null,36,null,null,null,null,null,null,null,3,3,3,3,"-",3,"-","-","-",3,"-","-","-","-","-","-","-",3,3,"-","-","-",3,"-","-","-","-","-","-","-","-",3,"B",3,"B"]
[{"$f":"BIODATA!A8","v":4},{"$f":"BIODATA!C8","v":"ALFIANA WAHYU ATMADJA"},{"$f":"BIODATA!D8","v":13140770},81,82,"B",83,84,"B",85,86,"B",87,88,"B","-","-","-",91,92,"B","-","-","-","-","-","-","-","-","-",99,100,"B","-","-","-","-","-","-","-","-","-","-","-","-","-","-","-","-","-","-","-","-","-",93,94,"B",95,96,"B",97,98,"B","-","-","-","-","-","-",87,88,"B","-","-","-","-","-","-","-","-","-","-","-","-","-","-","-","-","-","-","-","-","-",null,null,null,null,null,null,null,null,null,null,null,null,null,null,null,null,null,"-","-","-","-","-","B","B",10,90,91,898,908,1806,1,null,36,null,null,null,null,null,null,null,3,3,3,3,"-",3,"-","-","-",3,"-","-","-","-","-","-","-",3,3,"-","-","-",3,"-","-","-","-","-","-","-","-",3,"B",3,"B"]
[{"$f":"BIODATA!A9","v":5},{"$f":"BIODATA!C9","v":"ASEP DODO ROHENDI"},{"$f":"BIODATA!D9","v":13140771},83,84,"B",85,86,"B",87,88,"B",89,90,"B","-","-","-",93,94,"B","-","-","-","-","-","-","-","-","-",75,76,"B","-","-","-","-","-","-","-","-","-","-","-","-","-","-","-","-","-","-","-","-","-",95,96,"B",97,98,"B",99,100,"B","-","-","-","-","-","-",89,90,"B","-","-","-","-","-","-","-","-","-","-","-","-","-","-","-","-","-","-","-","-","-",null,null,null,null,null,null,null,null,null,null,null,null,null,null,null,null,null,"-","-","-","-","-","B","B",10,89,90,892,902,1794,3,null,36,null,null,null,null,null,null,null,3,3,3,3,"-",3,"-","-","-",3,"-","-","-","-","-","-","-",3,3,"-","-","-",3,"-","-","-","-","-","-","-","-",3,"B",3,"B"]
[{"$f":"BIODATA!A10","v":6},{"$f":"BIODATA!C10","v":"BILLY RIZKI JHONATHAN"},{"$f":"BIODATA!D10","v":13140772},79,80,"B",81,82,"B",83,84,"B",85,86,"B","-","-","-",89,90,"B","-","-","-","-","-","-","-","-","-",97,98,"B","-","-","-","-","-","-","-","-","-","-","-","-","-","-","-","-","-","-","-","-","-",91,92,"B",93,94,"B",95,96,"B","-","-","-","-","-","-",85,86,"B","-","-","-","-","-","-","-","-","-","-","-","-","-","-","-","-","-","-","-","-","-",null,null,null,null,null,null,null,null,null,null,null,null,null,null,null,null,null,"-","-","-","-","-","B","B",10,88,89,878,888,1766,4,null,36,null,null,null,null,null,null,null,3,3,3,3,"-",3,"-","-","-",3,"-","-","-","-","-","-","-",3,3,"-","-","-",3,"-","-","-","-","-","-","-","-",3,"B",3,"B"]
[{"$f":"BIODATA!A11","v":7},{"$f":"BIODATA!C11","v":"CAHYASARI RAMADHANTY"},{"$f":"BIODATA!D11","v":13140773},81,82,"B",83,84,"B",85,86,"B",87,88,"B","-","-","-",91,92,"B","-","-","-","-","-","-","-","-","-",99,100,"B","-","-","-","-","-","-","-","-","-","-","-","-","-","-","-","-","-","-","-","-","-",93,94,"B",95,96,"B",97,98,"B","-","-","-","-","-","-",87,88,"B","-","-","-","-","-","-","-","-","-","-","-","-","-","-","-","-","-","-","-","-","-",null,null,null,null,null,null,null,null,null,null,null,null,null,null,null,null,null,"-","-","-","-","-","B","B",10,90,91,898,908,1806,1,null,36,null,null,null,null,null,null,null,3,3,3,3,"-",3,"-","-","-",3,"-","-","-","-","-","-","-",3,3,"-","-","-",3,"-","-","-","-","-","-","-","-",3,"B",3,"B"]
[{"$f":"BIODATA!A12","v":8},{"$f":"BIODATA!C12","v":0},{"$f":"BIODATA!D12","v":0},null,null,null,null,null,null,null,null,null,null,null,null,null,null,null,null,null,null,null,null,null,null,null,null,null,null,null,null,null,null,null,null,null,null,null,null,null,null,null,null,null,null,null,null,null,null,null,null,null,null,null,null,null,null,null,null,null,null,null,null,null,null,null,null,null,null,null,null,null,null,null,null,null,null,null,null,null,null,null,null,null,null,null,null,null,null,null,null,null,null,null,null,null,null,null,null,null,null,null,null,null,null,null,null,null,null,null,"-","-","-","-","-","-","-",0,"-","-",0,0,0,8,null,36,null,null,null,null,null,null,null,"-","-","-","-","-","-","-","-","-","-","-","-","-","-","-","-","-","-","-","-","-","-","-","-","-","-","-","-","-","-","-","","-","-","-"]
[{"$f":"BIODATA!A13","v":9},{"$f":"BIODATA!C13","v":0},{"$f":"BIODATA!D13","v":0},null,null,null,null,null,null,null,null,null,null,null,null,null,null,null,null,null,null,null,null,null,null,null,null,null,null,null,null,null,null,null,null,null,null,null,null,null,null,null,null,null,null,null,null,null,null,null,null,null,null,null,null,null,null,null,null,null,null,null,null,null,null,null,null,null,null,null,null,null,null,null,null,null,null,null,null,null,null,null,null,null,null,null,null,null,null,null,null,null,null,null,null,null,null,null,null,null,null,null,null,null,null,null,null,null,null,null,"-","-","-","-","-","-","-",0,"-","-",0,0,0,8,null,36,null,null,null,null,null,null,null,"-","-","-","-","-","-","-","-","-","-","-","-","-","-","-","-","-","-","-","-","-","-","-","-","-","-","-","-","-","-","-","","-","-","-"]
[{"$f":"BIODATA!A14","v":10},{"$f":"BIODATA!C14","v":0},{"$f":"BIODATA!D14","v":0},null,null,null,null,null,null,null,null,null,null,null,null,null,null,null,null,null,null,null,null,null,null,null,null,null,null,null,null,null,null,null,null,null,null,null,null,null,null,null,null,null,null,null,null,null,null,null,null,null,null,null,null,null,null,null,null,null,null,null,null,null,null,null,null,null,null,null,null,null,null,null,null,null,null,null,null,null,null,null,null,null,null,null,null,null,null,null,null,null,null,null,null,null,null,null,null,null,null,null,null,null,null,null,null,null,null,null,"-","-","-","-","-","-","-",0,"-","-",0,0,0,8,null,36,null,null,null,null,null,null,null,"-","-","-","-","-","-","-","-","-","-","-","-","-","-","-","-","-","-","-","-","-","-","-","-","-","-","-","-","-","-","-","","-","-","-"]
[{"$f":"BIODATA!A15","v":11},{"$f":"BIODATA!C15","v":0},{"$f":"BIODATA!D15","v":0},null,null,null,null,null,null,null,null,null,null,null,null,null,null,null,null,null,null,null,null,null,null,null,null,null,null,null,null,null,null,null,null,null,null,null,null,null,null,null,null,null,null,null,null,null,null,null,null,null,null,null,null,null,null,null,null,null,null,null,null,null,null,null,null,null,null,null,null,null,null,null,null,null,null,null,null,null,null,null,null,null,null,null,null,null,null,null,null,null,null,null,null,null,null,null,null,null,null,null,null,"B",null,"B",null,"B",null,null,"-","-","-","-","-","-","-",0,"-","-",0,0,0,8,null,36,null,null,null,null,null,null,null,"-","-","-","-","-","-","-","-","-","-","-","-","-","-","-","-","-","-","-","-","-","-","-","-","-","-","-","-","-","-","-","","-","-","-"]
[{"$f":"BIODATA!A16","v":12},{"$f":"BIODATA!C16","v":0},{"$f":"BIODATA!D16","v":0},null,null,null,null,null,null,null,null,null,null,null,null,null,null,null,null,null,null,null,null,null,null,null,null,null,null,null,null,null,null,null,null,null,null,null,null,null,null,null,null,null,null,null,null,null,null,null,null,null,null,null,null,null,null,null,null,null,null,null,null,null,null,null,null,null,null,null,null,null,null,null,null,null,null,null,null,null,null,null,null,null,null,null,null,null,null,null,null,null,null,null,null,null,null,null,null,null,null,null,null,"B",null,"B",null,"B",null,null,"-","-","-","-","-","-","-",0,"-","-",0,0,0,8,null,36,null,null,null,null,null,null,null,"-","-","-","-","-","-","-","-","-","-","-","-","-","-","-","-","-","-","-","-","-","-","-","-","-","-","-","-","-","-","-","","-","-","-"]
[{"$f":"BIODATA!A17","v":13},{"$f":"BIODATA!C17","v":0},{"$f":"BIODATA!D17","v":0},null,null,null,null,null,null,null,null,null,null,null,null,null,null,null,null,null,null,null,null,null,null,null,null,null,null,null,null,null,null,null,null,null,null,null,null,null,null,null,null,null,null,null,null,null,null,null,null,null,null,null,null,null,null,null,null,null,null,null,null,null,null,null,null,null,null,null,null,null,null,null,null,null,null,null,null,null,null,null,null,null,null,null,null,null,null,null,null,null,null,null,null,null,null,null,null,null,null,null,null,"B",null,"B",null,"B",null,null,"-","-","-","-","-","-","-",0,"-","-",0,0,0,8,null,36,null,null,null,null,null,null,null,"-","-","-","-","-","-","-","-","-","-","-","-","-","-","-","-","-","-","-","-","-","-","-","-","-","-","-","-","-","-","-","","-","-","-"]
[{"$f":"BIODATA!A18","v":14},{"$f":"BIODATA!C18","v":0},{"$f":"BIODATA!D18","v":0},null,null,null,null,null,null,null,null,null,null,null,null,null,null,null,null,null,null,null,null,null,null,null,null,null,null,null,null,null,null,null,null,null,null,null,null,null,null,null,null,null,null,null,null,null,null,null,null,null,null,null,null,null,null,null,null,null,null,null,null,null,null,null,null,null,null,null,null,null,null,null,null,null,null,null,null,null,null,null,null,null,null,null,null,null,null,null,null,null,null,null,null,null,null,null,null,null,null,null,null,"B",null,"B",null,"B",null,null,"-","-","-","-","-","-","-",0,"-","-",0,0,0,8,null,36,null,null,null,null,null,null,null,"-","-","-","-","-","-","-","-","-","-","-","-","-","-","-","-","-","-","-","-","-","-","-","-","-","-","-","-","-","-","-","","-","-","-"]
[{"$f":"BIODATA!A19","v":15},{"$f":"BIODATA!C19","v":0},{"$f":"BIODATA!D19","v":0},null,null,null,null,null,null,null,null,null,null,null,null,null,null,null,null,null,null,null,null,null,null,null,null,null,null,null,null,null,null,null,null,null,null,null,null,null,null,null,null,null,null,null,null,null,null,null,null,null,null,null,null,null,null,null,null,null,null,null,null,null,null,null,null,null,null,null,null,null,null,null,null,null,null,null,null,null,null,null,null,null,null,null,null,null,null,null,null,null,null,null,null,null,null,null,null,null,null,null,null,"B",null,"B",null,"B",null,null,"-","-","-","-","-","-","-",0,"-","-",0,0,0,8,null,36,null,null,null,null,null,null,null,"-","-","-","-","-","-","-","-","-","-","-","-","-","-","-","-","-","-","-","-","-","-","-","-","-","-","-","-","-","-","-","","-","-","-"]
[{"$f":"BIODATA!A20","v":16},{"$f":"BIODATA!C20","v":0},{"$f":"BIODATA!D20","v":0},null,null,null,null,null,null,null,null,null,null,null,null,null,null,null,null,null,null,null,null,null,null,null,null,null,null,null,null,null,null,null,null,null,null,null,null,null,null,null,null,null,null,null,null,null,null,null,null,null,null,null,null,null,null,null,null,null,null,null,null,null,null,null,null,null,null,null,null,null,null,null,null,null,null,null,null,null,null,null,null,null,null,null,null,null,null,null,null,null,null,null,null,null,null,null,null,null,null,null,null,"B",null,"B",null,"B",null,null,"-","-","-","-","-","-","-",0,"-","-",0,0,0,8,null,36,null,null,null,null,null,null,null,"-","-","-","-","-","-","-","-","-","-","-","-","-","-","-","-","-","-","-","-","-","-","-","-","-","-","-","-","-","-","-","","-","-","-"]
[{"$f":"BIODATA!A21","v":17},{"$f":"BIODATA!C21","v":0},{"$f":"BIODATA!D21","v":0},null,null,null,null,null,null,null,null,null,null,null,null,null,null,null,null,null,null,null,null,null,null,null,null,null,null,null,null,null,null,null,null,null,null,null,null,null,null,null,null,null,null,null,null,null,null,null,null,null,null,null,null,null,null,null,null,null,null,null,null,null,null,null,null,null,null,null,null,null,null,null,null,null,null,null,null,null,null,null,null,null,null,null,null,null,null,null,null,null,null,null,null,null,null,null,null,null,null,null,null,"B",null,"B",null,"B",null,null,"-","-","-","-","-","-","-",0,"-","-",0,0,0,8,null,36,null,null,null,null,null,null,null,"-","-","-","-","-","-","-","-","-","-","-","-","-","-","-","-","-","-","-","-","-","-","-","-","-","-","-","-","-","-","-","","-","-","-"]
[{"$f":"BIODATA!A22","v":18},{"$f":"BIODATA!C22","v":0},{"$f":"BIODATA!D22","v":0},null,null,null,null,null,null,null,null,null,null,null,null,null,null,null,null,null,null,null,null,null,null,null,null,null,null,null,null,null,null,null,null,null,null,null,null,null,null,null,null,null,null,null,null,null,null,null,null,null,null,null,null,null,null,null,null,null,null,null,null,null,null,null,null,null,null,null,null,null,null,null,null,null,null,null,null,null,null,null,null,null,null,null,null,null,null,null,null,null,null,null,null,null,null,null,null,null,null,null,null,"B",null,"B",null,"B",null,null,"-","-","-","-","-","-","-",0,"-","-",0,0,0,8,null,36,null,null,null,null,null,null,null,"-","-","-","-","-","-","-","-","-","-","-","-","-","-","-","-","-","-","-","-","-","-","-","-","-","-","-","-","-","-","-","","-","-","-"]
[{"$f":"BIODATA!A23","v":19},{"$f":"BIODATA!C23","v":0},{"$f":"BIODATA!D23","v":0},null,null,null,null,null,null,null,null,null,null,null,null,null,null,null,null,null,null,null,null,null,null,null,null,null,null,null,null,null,null,null,null,null,null,null,null,null,null,null,null,null,null,null,null,null,null,null,null,null,null,null,null,null,null,null,null,null,null,null,null,null,null,null,null,null,null,null,null,null,null,null,null,null,null,null,null,null,null,null,null,null,null,null,null,null,null,null,null,null,null,null,null,null,null,null,null,null,null,null,null,"B",null,"B",null,"B",null,null,"-","-","-","-","-","-","-",0,"-","-",0,0,0,8,null,36,null,null,null,null,null,null,null,"-","-","-","-","-","-","-","-","-","-","-","-","-","-","-","-","-","-","-","-","-","-","-","-","-","-","-","-","-","-","-","","-","-","-"]
[{"$f":"BIODATA!A24","v":20},{"$f":"BIODATA!C24","v":0},{"$f":"BIODATA!D24","v":0},null,null,null,null,null,null,null,null,null,null,null,null,null,null,null,null,null,null,null,null,null,null,null,null,null,null,null,null,null,null,null,null,null,null,null,null,null,null,null,null,null,null,null,null,null,null,null,null,null,null,null,null,null,null,null,null,null,null,null,null,null,null,null,null,null,null,null,null,null,null,null,null,null,null,null,null,null,null,null,null,null,null,null,null,null,null,null,null,null,null,null,null,null,null,null,null,null,null,null,null,"B",null,"B",null,"B",null,null,"-","-","-","-","-","-","-",0,"-","-",0,0,0,8,null,36,null,null,null,null,null,null,null,"-","-","-","-","-","-","-","-","-","-","-","-","-","-","-","-","-","-","-","-","-","-","-","-","-","-","-","-","-","-","-","","-","-","-"]
[{"$f":"BIODATA!A25","v":21},{"$f":"BIODATA!C25","v":0},{"$f":"BIODATA!D25","v":0},null,null,null,null,null,null,null,null,null,null,null,null,null,null,null,null,null,null,null,null,null,null,null,null,null,null,null,null,null,null,null,null,null,null,null,null,null,null,null,null,null,null,null,null,null,null,null,null,null,null,null,null,null,null,null,null,null,null,null,null,null,null,null,null,null,null,null,null,null,null,null,null,null,null,null,null,null,null,null,null,null,null,null,null,null,null,null,null,null,null,null,null,null,null,null,null,null,null,null,null,"B",null,"B",null,"B",null,null,"-","-","-","-","-","-","-",0,"-","-",0,0,0,8,null,36,null,null,null,null,null,null,null,"-","-","-","-","-","-","-","-","-","-","-","-","-","-","-","-","-","-","-","-","-","-","-","-","-","-","-","-","-","-","-","","-","-","-"]
[{"$f":"BIODATA!A26","v":22},{"$f":"BIODATA!C26","v":0},{"$f":"BIODATA!D26","v":0},null,null,null,null,null,null,null,null,null,null,null,null,null,null,null,null,null,null,null,null,null,null,null,null,null,null,null,null,null,null,null,null,null,null,null,null,null,null,null,null,null,null,null,null,null,null,null,null,null,null,null,null,null,null,null,null,null,null,null,null,null,null,null,null,null,null,null,null,null,null,null,null,null,null,null,null,null,null,null,null,null,null,null,null,null,null,null,null,null,null,null,null,null,null,null,null,null,null,null,null,"B",null,"B",null,"B",null,null,"-","-","-","-","-","-","-",0,"-","-",0,0,0,8,null,36,null,null,null,null,null,null,null,"-","-","-","-","-","-","-","-","-","-","-","-","-","-","-","-","-","-","-","-","-","-","-","-","-","-","-","-","-","-","-","","-","-","-"]
[{"$f":"BIODATA!A27","v":23},{"$f":"BIODATA!C27","v":0},{"$f":"BIODATA!D27","v":0},null,null,null,null,null,null,null,null,null,null,null,null,null,null,null,null,null,null,null,null,null,null,null,null,null,null,null,null,null,null,null,null,null,null,null,null,null,null,null,null,null,null,null,null,null,null,null,null,null,null,null,null,null,null,null,null,null,null,null,null,null,null,null,null,null,null,null,null,null,null,null,null,null,null,null,null,null,null,null,null,null,null,null,null,null,null,null,null,null,null,null,null,null,null,null,null,null,null,null,null,"B",null,"B",null,"B",null,null,"-","-","-","-","-","-","-",0,"-","-",0,0,0,8,null,36,null,null,null,null,null,null,null,"-","-","-","-","-","-","-","-","-","-","-","-","-","-","-","-","-","-","-","-","-","-","-","-","-","-","-","-","-","-","-","","-","-","-"]
[{"$f":"BIODATA!A28","v":24},{"$f":"BIODATA!C28","v":0},{"$f":"BIODATA!D28","v":0},null,null,null,null,null,null,null,null,null,null,null,null,null,null,null,null,null,null,null,null,null,null,null,null,null,null,null,null,null,null,null,null,null,null,null,null,null,null,null,null,null,null,null,null,null,null,null,null,null,null,null,null,null,null,null,null,null,null,null,null,null,null,null,null,null,null,null,null,null,null,null,null,null,null,null,null,null,null,null,null,null,null,null,null,null,null,null,null,null,null,null,null,null,null,null,null,null,null,null,null,"B",null,"B",null,"B",null,null,"-","-","-","-","-","-","-",0,"-","-",0,0,0,8,null,36,null,null,null,null,null,null,null,"-","-","-","-","-","-","-","-","-","-","-","-","-","-","-","-","-","-","-","-","-","-","-","-","-","-","-","-","-","-","-","","-","-","-"]
[{"$f":"BIODATA!A29","v":25},{"$f":"BIODATA!C29","v":0},{"$f":"BIODATA!D29","v":0},null,null,null,null,null,null,null,null,null,null,null,null,null,null,null,null,null,null,null,null,null,null,null,null,null,null,null,null,null,null,null,null,null,null,null,null,null,null,null,null,null,null,null,null,null,null,null,null,null,null,null,null,null,null,null,null,null,null,null,null,null,null,null,null,null,null,null,null,null,null,null,null,null,null,null,null,null,null,null,null,null,null,null,null,null,null,null,null,null,null,null,null,null,null,null,null,null,null,null,null,"B",null,"B",null,"B",null,null,"-","-","-","-","-","-","-",0,"-","-",0,0,0,8,null,36,null,null,null,null,null,null,null,"-","-","-","-","-","-","-","-","-","-","-","-","-","-","-","-","-","-","-","-","-","-","-","-","-","-","-","-","-","-","-","","-","-","-"]
[{"$f":"BIODATA!A30","v":26},{"$f":"BIODATA!C30","v":0},{"$f":"BIODATA!D30","v":0},null,null,null,null,null,null,null,null,null,null,null,null,null,null,null,null,null,null,null,null,null,null,null,null,null,null,null,null,null,null,null,null,null,null,null,null,null,null,null,null,null,null,null,null,null,null,null,null,null,null,null,null,null,null,null,null,null,null,null,null,null,null,null,null,null,null,null,null,null,null,null,null,null,null,null,null,null,null,null,null,null,null,null,null,null,null,null,null,null,null,null,null,null,null,null,null,null,null,null,null,"B",null,"B",null,"B",null,null,"-","-","-","-","-","-","-",0,"-","-",0,0,0,8,null,36,null,null,null,null,null,null,null,"-","-","-","-","-","-","-","-","-","-","-","-","-","-","-","-","-","-","-","-","-","-","-","-","-","-","-","-","-","-","-","","-","-","-"]
[{"$f":"BIODATA!A31","v":27},{"$f":"BIODATA!C31","v":0},{"$f":"BIODATA!D31","v":0},null,null,null,null,null,null,null,null,null,null,null,null,null,null,null,null,null,null,null,null,null,null,null,null,null,null,null,null,null,null,null,null,null,null,null,null,null,null,null,null,null,null,null,null,null,null,null,null,null,null,null,null,null,null,null,null,null,null,null,null,null,null,null,null,null,null,null,null,null,null,null,null,null,null,null,null,null,null,null,null,null,null,null,null,null,null,null,null,null,null,null,null,null,null,null,null,null,null,null,null,"B",null,"B",null,"B",null,null,"-","-","-","-","-","-","-",0,"-","-",0,0,0,8,null,36,null,null,null,null,null,null,null,"-","-","-","-","-","-","-","-","-","-","-","-","-","-","-","-","-","-","-","-","-","-","-","-","-","-","-","-","-","-","-","","-","-","-"]
[{"$f":"BIODATA!A32","v":28},{"$f":"BIODATA!C32","v":0},{"$f":"BIODATA!D32","v":0},null,null,null,null,null,null,null,null,null,null,null,null,null,null,null,null,null,null,null,null,null,null,null,null,null,null,null,null,null,null,null,null,null,null,null,null,null,null,null,null,null,null,null,null,null,null,null,null,null,null,null,null,null,null,null,null,null,null,null,null,null,null,null,null,null,null,null,null,null,null,null,null,null,null,null,null,null,null,null,null,null,null,null,null,null,null,null,null,null,null,null,null,null,null,null,null,null,null,null,null,"B",null,"B",null,"B",null,null,"-","-","-","-","-","-","-",0,"-","-",0,0,0,8,null,36,null,null,null,null,null,null,null,"-","-","-","-","-","-","-","-","-","-","-","-","-","-","-","-","-","-","-","-","-","-","-","-","-","-","-","-","-","-","-","","-","-","-"]
[{"$f":"BIODATA!A33","v":29},{"$f":"BIODATA!C33","v":0},{"$f":"BIODATA!D33","v":0},null,null,null,null,null,null,null,null,null,null,null,null,null,null,null,null,null,null,null,null,null,null,null,null,null,null,null,null,null,null,null,null,null,null,null,null,null,null,null,null,null,null,null,null,null,null,null,null,null,null,null,null,null,null,null,null,null,null,null,null,null,null,null,null,null,null,null,null,null,null,null,null,null,null,null,null,null,null,null,null,null,null,null,null,null,null,null,null,null,null,null,null,null,null,null,null,null,null,null,null,"B",null,"B",null,"B",null,null,"-","-","-","-","-","-","-",0,"-","-",0,0,0,8,null,36,null,null,null,null,null,null,null,"-","-","-","-","-","-","-","-","-","-","-","-","-","-","-","-","-","-","-","-","-","-","-","-","-","-","-","-","-","-","-","","-","-","-"]
[{"$f":"BIODATA!A34","v":30},{"$f":"BIODATA!C34","v":0},{"$f":"BIODATA!D34","v":0},null,null,null,null,null,null,null,null,null,null,null,null,null,null,null,null,null,null,null,null,null,null,null,null,null,null,null,null,null,null,null,null,null,null,null,null,null,null,null,null,null,null,null,null,null,null,null,null,null,null,null,null,null,null,null,null,null,null,null,null,null,null,null,null,null,null,null,null,null,null,null,null,null,null,null,null,null,null,null,null,null,null,null,null,null,null,null,null,null,null,null,null,null,null,null,null,null,null,null,null,"B",null,"B",null,"B",null,null,"-","-","-","-","-","-","-",0,"-","-",0,0,0,8,null,36,null,null,null,null,null,null,null,"-","-","-","-","-","-","-","-","-","-","-","-","-","-","-","-","-","-","-","-","-","-","-","-","-","-","-","-","-","-","-","","-","-","-"]
[{"$f":"BIODATA!A35","v":31},{"$f":"BIODATA!C35","v":0},{"$f":"BIODATA!D35","v":0},null,null,null,null,null,null,null,null,null,null,null,null,null,null,null,null,null,null,null,null,null,null,null,null,null,null,null,null,null,null,null,null,null,null,null,null,null,null,null,null,null,null,null,null,null,null,null,null,null,null,null,null,null,null,null,null,null,null,null,null,null,null,null,null,null,null,null,null,null,null,null,null,null,null,null,null,null,null,null,null,null,null,null,null,null,null,null,null,null,null,null,null,null,null,null,null,null,null,null,null,"B",null,"B",null,"B",null,null,"-","-","-","-","-","-","-",0,"-","-",0,0,0,8,null,36,null,null,null,null,null,null,null,"-","-","-","-","-","-","-","-","-","-","-","-","-","-","-","-","-","-","-","-","-","-","-","-","-","-","-","-","-","-","-","","-","-","-"]
[{"$f":"BIODATA!A36","v":32},{"$f":"BIODATA!C36","v":0},{"$f":"BIODATA!D36","v":0},null,null,null,null,null,null,null,null,null,null,null,null,null,null,null,null,null,null,null,null,null,null,null,null,null,null,null,null,null,null,null,null,null,null,null,null,null,null,null,null,null,null,null,null,null,null,null,null,null,null,null,null,null,null,null,null,null,null,null,null,null,null,null,null,null,null,null,null,null,null,null,null,null,null,null,null,null,null,null,null,null,null,null,null,null,null,null,null,null,null,null,null,null,null,null,null,null,null,null,null,"B",null,"B",null,"B",null,null,"-","-","-","-","-","-","-",0,"-","-",0,0,0,8,null,36,null,null,null,null,null,null,null,"-","-","-","-","-","-","-","-","-","-","-","-","-","-","-","-","-","-","-","-","-","-","-","-","-","-","-","-","-","-","-","","-","-","-"]
[{"$f":"BIODATA!A37","v":33},{"$f":"BIODATA!C37","v":0},{"$f":"BIODATA!D37","v":0},null,null,null,null,null,null,null,null,null,null,null,null,null,null,null,null,null,null,null,null,null,null,null,null,null,null,null,null,null,null,null,null,null,null,null,null,null,null,null,null,null,null,null,null,null,null,null,null,null,null,null,null,null,null,null,null,null,null,null,null,null,null,null,null,null,null,null,null,null,null,null,null,null,null,null,null,null,null,null,null,null,null,null,null,null,null,null,null,null,null,null,null,null,null,null,null,null,null,null,null,"B",null,"B",null,"B",null,null,"-","-","-","-","-","-","-",0,"-","-",0,0,0,8,null,36,null,null,null,null,null,null,null,"-","-","-","-","-","-","-","-","-","-","-","-","-","-","-","-","-","-","-","-","-","-","-","-","-","-","-","-","-","-","-","","-","-","-"]
[{"$f":"BIODATA!A38","v":34},{"$f":"BIODATA!C38","v":0},{"$f":"BIODATA!D38","v":0},null,null,null,null,null,null,null,null,null,null,null,null,null,null,null,null,null,null,null,null,null,null,null,null,null,null,null,null,null,null,null,null,null,null,null,null,null,null,null,null,null,null,null,null,null,null,null,null,null,null,null,null,null,null,null,null,null,null,null,null,null,null,null,null,null,null,null,null,null,null,null,null,null,null,null,null,null,null,null,null,null,null,null,null,null,null,null,null,null,null,null,null,null,null,null,null,null,null,null,null,"B",null,"B",null,"B",null,null,"-","-","-","-","-","-","-",0,"-","-",0,0,0,8,null,36,null,null,null,null,null,null,null,"-","-","-","-","-","-","-","-","-","-","-","-","-","-","-","-","-","-","-","-","-","-","-","-","-","-","-","-","-","-","-","","-","-","-"]
[{"$f":"BIODATA!A39","v":35},{"$f":"BIODATA!C39","v":0},{"$f":"BIODATA!D39","v":0},null,null,null,null,null,null,null,null,null,null,null,null,null,null,null,null,null,null,null,null,null,null,null,null,null,null,null,null,null,null,null,null,null,null,null,null,null,null,null,null,null,null,null,null,null,null,null,null,null,null,null,null,null,null,null,null,null,null,null,null,null,null,null,null,null,null,null,null,null,null,null,null,null,null,null,null,null,null,null,null,null,null,null,null,null,null,null,null,null,null,null,null,null,null,null,null,null,null,null,null,"B",null,"B",null,"B",null,null,"-","-","-","-","-","-","-",0,"-","-",0,0,0,8,null,36,null,null,null,null,null,null,null,"-","-","-","-","-","-","-","-","-","-","-","-","-","-","-","-","-","-","-","-","-","-","-","-","-","-","-","-","-","-","-","","-","-","-"]
[{"$f":"BIODATA!A40","v":36},{"$f":"BIODATA!C40","v":0},{"$f":"BIODATA!D40","v":0},null,null,null,null,null,null,null,null,null,null,null,null,null,null,null,null,null,null,null,null,null,null,null,null,null,null,null,null,null,null,null,null,null,null,null,null,null,null,null,null,null,null,null,null,null,null,null,null,null,null,null,null,null,null,null,null,null,null,null,null,null,null,null,null,null,null,null,null,null,null,null,null,null,null,null,null,null,null,null,null,null,null,null,null,null,null,null,null,null,null,null,null,null,null,null,null,null,null,null,null,"B",null,"B",null,"B",null,null,"-","-","-","-","-","-","-",0,"-","-",0,0,0,8,null,36,null,null,null,null,null,null,null,"-","-","-","-","-","-","-","-","-","-","-","-","-","-","-","-","-","-","-","-","-","-","-","-","-","-","-","-","-","-","-","","-","-","-"]
[{"$f":"BIODATA!A41","v":"-"},{"$f":"BIODATA!C41","v":0},{"$f":"BIODATA!D41","v":0},"-","-","-","-","-","-","-","-","-","-","-","-","-","-","-","-","-","-","-","-","-","-","-","-","-","-","-","-","-","-","-","-","-","-","-","-","-","-","-","-","-","-","-","-","-","-","-","-","-","-","-","-","-","-","-","-","-","-","-","-","-","-","-","-","-","-","-","-","-","-","-","-","-","-","-","-","-","-","-","-","-","-","-","-","-","-","-","-","-","-","-",null,null,null,null,null,null,null,null,null,"B",null,"B",null,"B",null,null,"-","-","-","-","-","-","-",0,"-","-",0,0,0,8,null,36,null,null,null,null,null,null,null,"-","-","-","-","-","-","-","-","-","-","-","-","-","-","-","-","-","-","-","-","-","-","-","-","-","-","-","-","-","-","-","","-","-","-"]
[{"$f":"BIODATA!A42","v":"-"},{"$f":"BIODATA!C42","v":0},{"$f":"BIODATA!D42","v":0},"-","-","-","-","-","-","-","-","-","-","-","-","-","-","-","-","-","-","-","-","-","-","-","-","-","-","-","-","-","-","-","-","-","-","-","-","-","-","-","-","-","-","-","-","-","-","-","-","-","-","-","-","-","-","-","-","-","-","-","-","-","-","-","-","-","-","-","-","-","-","-","-","-","-","-","-","-","-","-","-","-","-","-","-","-","-","-","-","-","-","-",null,null,null,null,null,null,null,null,null,"B",null,"B",null,"B",null,null,"-","-","-","-","-","-","-",0,"-","-",0,0,0,8,null,36,null,null,null,null,null,null,null,"-","-","-","-","-","-","-","-","-","-","-","-","-","-","-","-","-","-","-","-","-","-","-","-","-","-","-","-","-","-","-","","-","-","-"]
[{"$f":"BIODATA!A43","v":"-"},{"$f":"BIODATA!C43","v":0},{"$f":"BIODATA!D43","v":0},"-","-","-","-","-","-","-","-","-","-","-","-","-","-","-","-","-","-","-","-","-","-","-","-","-","-","-","-","-","-","-","-","-","-","-","-","-","-","-","-","-","-","-","-","-","-","-","-","-","-","-","-","-","-","-","-","-","-","-","-","-","-","-","-","-","-","-","-","-","-","-","-","-","-","-","-","-","-","-","-","-","-","-","-","-","-","-","-","-","-","-",null,null,null,null,null,null,null,null,null,"B",null,"B",null,"B",null,null,"-","-","-","-","-","-","-",0,"-","-",0,0,0,8,null,36,null,null,null,null,null,null,null,"-","-","-","-","-","-","-","-","-","-","-","-","-","-","-","-","-","-","-","-","-","-","-","-","-","-","-","-","-","-","-","","-","-","-"]
[{"$f":"BIODATA!A44","v":"-"},{"$f":"BIODATA!C44","v":0},{"$f":"BIODATA!D44","v":0},"-","-","-","-","-","-","-","-","-","-","-","-","-","-","-","-","-","-","-","-","-","-","-","-","-","-","-","-","-","-","-","-","-","-","-","-","-","-","-","-","-","-","-","-","-","-","-","-","-","-","-","-","-","-","-","-","-","-","-","-","-","-","-","-","-","-","-","-","-","-","-","-","-","-","-","-","-","-","-","-","-","-","-","-","-","-","-","-","-","-","-",null,null,null,null,null,null,null,null,null,"B",null,"B",null,"B",null,null,"-","-","-","-","-","-","-",0,"-","-",0,0,0,8,null,36,null,null,null,null,null,null,null,"-","-","-","-","-","-","-","-","-","-","-","-","-","-","-","-","-","-","-","-","-","-","-","-","-","-","-","-","-","-","-","","-","-","-"]
[{"$f":"BIODATA!A45","v":"-"},{"$f":"BIODATA!C45","v":0},{"$f":"BIODATA!D45","v":0},"-","-","-","-","-","-","-","-","-","-","-","-","-","-","-","-","-","-","-","-","-","-","-","-","-","-","-","-","-","-","-","-","-","-","-","-","-","-","-","-","-","-","-","-","-","-","-","-","-","-","-","-","-","-","-","-","-","-","-","-","-","-","-","-","-","-","-","-","-","-","-","-","-","-","-","-","-","-","-","-","-","-","-","-","-","-","-","-","-","-","-",null,null,null,null,null,null,null,null,null,"B",null,"B",null,"B",null,null,"-","-","-","-","-","-","-",0,"-","-",0,0,0,8,null,36,null,null,null,null,null,null,null,"-","-","-","-","-","-","-","-","-","-","-","-","-","-","-","-","-","-","-","-","-","-","-","-","-","-","-","-","-","-","-","","-","-","-"]
[{"$f":"BIODATA!A46","v":"-"},null,null,"-","-","-","-","-","-","-","-","-","-","-","-","-","-","-","-","-","-","-","-","-","-","-","-","-","-","-","-","-","-","-","-","-","-","-","-","-","-","-","-","-","-","-","-","-","-","-","-","-","-","-","-","-","-","-","-","-","-","-","-","-","-","-","-","-","-","-","-","-","-","-","-","-","-","-","-","-","-","-","-","-","-","-","-","-","-","-","-","-","-","-",null,null,null,null,null,null,null,null,null,"B",null,"B",null,"B",null,null,"-","-","-","-","-","-","-",0,"-","-",0,0,0,8,null,36,null,null,null,null,null,null,null,"-","-","-","-","-","-","-","-","-","-","-","-","-","-","-","-","-","-","-","-","-","-","-","-","-","-","-","-","-","-","-","","-","-","-"]
[{"$f":"BIODATA!A47","v":"-"},null,null,"-","-","-","-","-","-","-","-","-","-","-","-","-","-","-","-","-","-","-","-","-","-","-","-","-","-","-","-","-","-","-","-","-","-","-","-","-","-","-","-","-","-","-","-","-","-","-","-","-","-","-","-","-","-","-","-","-","-","-","-","-","-","-","-","-","-","-","-","-","-","-","-","-","-","-","-","-","-","-","-","-","-","-","-","-","-","-","-","-","-","-",null,null,null,null,null,null,null,null,null,"B",null,"B",null,"B",null,null,"-","-","-","-","-","-","-",0,"-","-",0,0,0,8,null,36,null,null,null,null,null,null,null,"-","-","-","-","-","-","-","-","-","-","-","-","-","-","-","-","-","-","-","-","-","-","-","-","-","-","-","-","-","-","-","","-","-","-"]
[{"$f":"BIODATA!A48","v":"-"},null,null,"-","-","-","-","-","-","-","-","-","-","-","-","-","-","-","-","-","-","-","-","-","-","-","-","-","-","-","-","-","-","-","-","-","-","-","-","-","-","-","-","-","-","-","-","-","-","-","-","-","-","-","-","-","-","-","-","-","-","-","-","-","-","-","-","-","-","-","-","-","-","-","-","-","-","-","-","-","-","-","-","-","-","-","-","-","-","-","-","-","-","-",null,null,null,null,null,null,null,null,null,"B",null,"B",null,"B",null,null,"-","-","-","-","-","-","-",0,"-","-",0,0,0,8,null,36,null,null,null,null,null,null,null,"-","-","-","-","-","-","-","-","-","-","-","-","-","-","-","-","-","-","-","-","-","-","-","-","-","-","-","-","-","-","-","","-","-","-"]
[{"$f":"BIODATA!A49","v":"-"},null,null,"-","-","-","-","-","-","-","-","-","-","-","-","-","-","-","-","-","-","-","-","-","-","-","-","-","-","-","-","-","-","-","-","-","-","-","-","-","-","-","-","-","-","-","-","-","-","-","-","-","-","-","-","-","-","-","-","-","-","-","-","-","-","-","-","-","-","-","-","-","-","-","-","-","-","-","-","-","-","-","-","-","-","-","-","-","-","-","-","-","-","-",null,null,null,null,null,null,null,null,null,"B",null,"B",null,"B",null,null,"-","-","-","-","-","-","-",0,"-","-",0,0,0,8,null,36,null,null,null,null,null,null,null,"-","-","-","-","-","-","-","-","-","-","-","-","-","-","-","-","-","-","-","-","-","-","-","-","-","-","-","-","-","-","-","","-","-","-"]
[]
[]
[]
[]
[]
[]
[]
[]
[]
[]
[]
[]
[null,null,null,3.59]
[null,null,null,3.59]
[null,null,null,3.5]
[null,null,null,3.48]
[null,null,null,3.54]
[null,null,null,3.39]
[null,null,null,3.45]
[null,null,null,3.45]
[null,null,null,3.29]
[null,null,null,3.45]
[null,null,null,3.45]
[null,null,null,3.45]

{"sheet":"Macro1","index":34,"n_rows":0,"n_cols":0,"rows_kept":0,"cut":false,"hidden":true,"merged":[]}