{"text_format":"1","workbook":"xlsx","n_sheets":34,"sheets":["GUIDE","BIODATA","COVER","KET.PETUNJUK","PINDAH.PRES","MENU","TITIMANGSA","LEGGER1","CETSM8","CETSM7","CETSM6","CETSM5","CETSM4","CETSM3","CETSM2","CETSM1","CETKD1","CETKD2","CETKD3","CETKD4","CETKD5","CETKD6","CETKD7","CETKD8","DBLOGIC","NILSM1","NILSM2","NILSM3","NILSM4","NILSM5","NILSM6","NILSM7","NILSM8","Macro1"],"not_rendered":{"charts":0,"images":9,"macros":1,"external_links":0,"defined_names":63,"comments":0,"pivot_tables":0},"unopened":[],"bounds":{"document_bytes":16777216,"sheet_cells":100000,"rows_first":2000,"rows_last":500,"rows_between":2000,"halvings":0,"cell_chars":16384,"cell_head_chars":4096},"cells_cut":0,"cells_raw":0,"read":"whole","date_system":"1900"}

{"sheet":"GUIDE","index":0,"n_rows":2,"n_cols":2,"rows_kept":2,"cut":false,"hidden":false,"merged":[]}
[null,"Panduan Penggunaan"]
[null,"Silahkan unduh file di sini"]

{"sheet":"BIODATA","index":1,"n_rows":44,"n_cols":28,"rows_kept":44,"cut":false,"hidden":false,"merged":[[1,18,1,19],[1,10,1,11],[1,0,2,0],[1,1,2,1],[1,2,2,2],[1,3,2,3],[1,4,2,4],[1,5,2,5],[1,6,2,6],[1,7,2,7],[1,8,2,8],[1,9,2,9],[1,12,2,12],[1,13,2,13],[1,14,1,15],[1,16,1,17],[1,21,1,22],[1,23,2,23],[1,24,1,25],[1,26,2,26],[1,27,2,27]]}
["BIODATA SISWA"]
["NO. URUT","NO SERI RAPOR","NAMA SISWA","NIS","NISN","Tempat, Tanggal Lahir","Jenis Kelamin","Agama","Status dalam Keluarga","Anak Ke","Alamat Siswa",null,"No. Telp. Siswa/ Rumah","Sekolah Asal","Diterima di Sekolah ini",null,"Nama Orang Tua",null,"Alamat Orang Tua",null,"No.Telp. Rumah/Ortu","Pekerjaan Orang Tua",null,"Nama Wali Siswa","Alamat Wali Siswa",null,"No.Telp. Wali Siswa","Pekerjaan Wali Siswa"]
[null,null,null,null,null,null,null,null,null,null,"Jl. & Kelurahan","Kecamatan & Kabupaten",null,null,"Di Kelas","Pada Tanggal","Ayah","Ibu","Jln & Kelurahan","Kecamatan & Kabupaten",null,"Ayah","Ibu",null,"Jln & Kelurahan","Kecamatan & Kabupaten"]
["1",{"$f":"A4+1","v":2},{"$f":"B4+1","v":3},{"$f":"C4+1","v":4},5,6,7,8,9,10,11,12,13,14,15,16,17,18,19,20,21,22,23,24,25,26,27,28]
[1,null,"ADAM ADIYAT HARTANTO",16170535,"0016930017","Jakarta, 27 Januari 2001","L","Islam",null,null,null,null,null,null,null,null,null,null,null,null,null,null,null,"-","-","-","-","-"]
[2,null,"ADAM MAULANA RIZALDI",16170449,"0013261209","Karawang, 04 Oktober 2001","L","Islam",null,null,null,null,null,null,null,null,null,null,null,null,null,null,null,"-","-","-","-","-"]
[3,null,"BAGAS ADJI PRIANTOMO",16170371,"0019580311","Nganjuk, 05 Juni 2001","L","Islam",null,null,null,null,null,null,null,null,null,null,null,null,null,null,null,"-","-","-","-","-"]
[4,null,"CARWAN HIDAYAT",16170585,"0019597659","Karawang, 09 Januari 2001","L","Islam",null,null,null,null,null,null,null,null,null,null,null,null,null,null,null,"-","-","-","-","-"]
[5,null,"CEPI YANWARI",16170586,"0005649538","Karawang, 23 Januari 2000","L","Islam",null,null,null,null,null,null,null,null,null,null,null,null,null,null,null,"-","-","-","-","-"]
[6,null,"DEDE MAULANA RUSDIANTA",16170414,"0003630521","Karawang, 12 April 2000","L","Islam",null,null,null,null,null,null,null,null,null,null,null,null,null,null,null,"-","-","-","-","-"]
[7,null,"DEDI ROCHMAN",16170457,"0015649236","Karawang, 11 Mei 2001","L","Islam",null,null,null,null,null,null,null,null,null,null,null,null,null,null,null,"-","-","-","-","-"]
[8,null,"DIMAS YOGA AJI SETIAWAN",16170546,"0011378424","Sukoharjo, 04 Oktober 2001","L","Islam",null,null,null,null,null,null,null,null,null,null,null,null,null,null,null,"-","-","-","-","-"]
[9,null,"ERIK PRIHASABA PEBRIANSYAH",16170547,"0011377302","Karawang, 14 Februari 2001","L","Islam",null,null,null,null,null,null,null,null,null,null,null,null,null,null,null,"-","-","-","-","-"]
[10,null,"GALIH RAKASIWI",16170464,"0010714284","Karawang, 14 Februari 2001","L","Islam",null,null,null,null,null,null,null,null,null,null,null,null,null,null,null,"-","-","-","-","-"]
[11,null,"JOHANI",16170468,"0005244096","Karawang, 25 Agustus 2000","L","Islam",null,null,null,null,null,null,null,null,null,null,null,null,null,null,null,"-","-","-","-","-"]
[12,null,"LATHIF FERIANSYAH",16170675,"0019362514","Sleman, 27 Maret 2001","L","Islam",null,null,null,null,null,null,null,null,null,null,null,null,null,null,null,"-","-","-","-","-"]
[13,null,"MAULANA JUHRI",16170423,"0011731733","Karawang, 06 Juli 2001","L","Islam",null,null,null,null,null,null,null,null,null,null,null,null,null,null,null,"-","-","-","-","-"]
[14,null,"MOHAMMAD HERRY ALFAJRI",16170473,"0017676894","Karawang, 02 Oktober 2001","L","Islam",null,null,null,null,null,null,null,null,null,null,null,null,null,null,null,"-","-","-","-","-"]
[15,null,"MUHAMAD SIDI",16170426,"0015367437","Karawang, 16 Agustus 2001","L","Islam",null,null,null,null,null,null,null,null,null,null,null,null,null,null,null,"-","-","-","-","-"]
[16,null,"MUHAMMAD ARDI RUHYAT",16170427,"0004508658","Karawang, 14 April 2000","L","Islam",null,null,null,null,null,null,null,null,null,null,null,null,null,null,null,"-","-","-","-","-"]
[17,null,"MUHAMMAD FIKRI AWALUDIN",16170429,"0019120403","Bekasi, 06 Januari 2001","L","Islam",null,null,null,null,null,null,null,null,null,null,null,null,null,null,null,"-","-","-","-","-"]
[18,null,"MUHAMMAD PADILAH",16170428,"0016712994","Karawang, 22 Desember 2001","L","Islam",null,null,null,null,null,null,null,null,null,null,null,null,null,null,null,"-","-","-","-","-"]
[19,null,"MUHIBU FATHURROHMAN",16170430,"0009866153","Karawang, 14 Mei 2001","L","Islam",null,null,null,null,null,null,null,null,null,null,null,null,null,null,null,"-","-","-","-","-"]
[20,null,"OKKE KINDI ADI PANGESTU",16170391,"0008910187","Karawang, 28 Oktober 2000","L","Islam",null,null,null,null,null,null,null,null,null,null,null,null,null,null,null,"-","-","-","-","-"]
[21,null,"RAMADHAN","16170480","0014167315","Karawang, 25 November 2001","L","Islam",null,null,null,null,null,null,null,null,null,null,null,null,null,null,null,"-","-","-","-","-"]
[22,null,"RENDY RAHMADI",16170683,"0019013791","Karawang, 08 Agustus 2001","L","Islam",null,null,null,null,null,null,null,null,null,null,null,null,null,null,null,"-","-","-","-","-"]
[23,null,"RIFAN BAGUS ALDIANSYAH",16170433,"0010555545","Karawang, 08 Agustus 2001","L","Islam",null,null,null,null,null,null,null,null,null,null,null,null,null,null,null,"-","-","-","-","-"]
[24,null,"RIVAL MAULANA",16170601,"0023281618","Karawang, 02 Agustus 2002","L","Islam",null,null,null,null,null,null,null,null,null,null,null,null,null,null,null,"-","-","-","-","-"]
[25,null,"RIZKY FADHILAH",16170643,"0014900955","Karawang, 06 Oktober 2001","L","Islam",null,null,null,null,null,null,null,null,null,null,null,null,null,null,null,"-","-","-","-","-"]
[26,null,"ROHMADI MUCHTAR",16170642,"0013234474","Jakarta, 12 Desember 2001","L","Islam",null,null,null,null,null,null,null,null,null,null,null,null,null,null,null,"-","-","-","-","-"]
[27,null,"TANGGUH PRASETIA SUHARNA",16170605,"0001666938","Karawang, 07 September 2000","L","Islam",null,null,null,null,null,null,null,null,null,null,null,null,null,null,null,"-","-","-","-","-"]
[28,null,"TARIZ MAULIZIDANE FAZILLA",16170606,"0011668169","Bekasi, 29 Juli 2001","L","Islam",null,null,null,null,null,null,null,null,null,null,null,null,null,null,null,"-","-","-","-","-"]
[29,null,"TUBAGUS AJANG SUMBOGA",16170443,"0003631350","Karawang, 07 Agustus 2000","L","Islam",null,null,null,null,null,null,null,null,null,null,null,null,null,null,null,"-","-","-","-","-"]
[30,null,"WIKSAN ZUJALIS",16170611,"0019468411","Karawang, 24 Juli 2001","L","Islam",null,null,null,null,null,null,null,null,null,null,null,null,null,null,null,"-","-","-","-","-"]
[31,null,"YUNAN DWI SASONGKO",16170448,"0016919553","Karawang, 26 Juni 2001","L","Islam",null,null,null,null,null,null,null,null,null,null,null,null,null,null,null,"-","-","-","-","-"]
["-",null,null,null,null,null,null,null,null,null,null,null,null,null,null,null,null,null,null,null,null,null,null,"-","-","-","-","-"]
["-",null,null,null,null,null,null,null,null,null,null,null,null,null,null,null,null,null,null,null,null,null,null,"-","-","-","-","-"]
["-",null,null,null,null,null,null,null,null,null,null,null,null,null,null,null,null,null,null,null,null,null,null,"-","-","-","-","-"]
["-",null,null,null,null,null,null,null,null,null,null,null,null,null,null,null,null,null,null,null,null,null,null,"-","-","-","-","-"]
["-",null,null,null,null,null,null,null,null,null,null,null,null,null,null,null,null,null,null,null,null,null,null,"-","-","-","-","-"]
["-",null,null,null,null,null,null,null,null,null,null,null,null,null,null,null,null,null,null,null,null,null,null,"-","-","-","-","-"]
["-",null,null,null,null,null,null,null,null,null,null,null,null,null,null,null,null,null,null,null,null,null,null,"-","-","-","-","-"]
["-",null,null,null,null,null,null,null,null,null,null,null,null,null,null,null,null,null,null,null,null,null,null,"-","-","-","-","-"]
["-",null,null,null,null,null,null,null,null,null,null,null,null,null,null,null,null,null,null,null,null,null,null,"-","-","-","-","-"]

{"sheet":"COVER","index":2,"n_rows":37,"n_cols":13,"rows_kept":37,"cut":false,"hidden":false,"merged":[[5,11,5,12],[6,11,7,11],[6,12,7,12],[8,11,9,11],[8,12,9,12],[12,11,12,12],[13,11,14,11],[13,12,14,12],[36,11,37,13],[22,0,22,7],[29,0,29,7],[23,0,23,7],[24,0,24,7],[31,0,31,7]]}
[]
[null,null,null,"KARTU HASIL STUDI (KHS)"]
[null,null,null,"SEKOLAH MENENGAH KEJURUAN"]
[null,null,null,"(SMK)"]
[]
[null,null,null,null,null,null,null,null,null,null,null,"HALAMAN CETAK"]
[null,null,null,null,null,null,null,null,null,null,null,"Dari data ke",12]
[]
[null,null,null,null,null,null,null,null,null,null,null,"Sampai data ke",12]
[]
[]
[]
[null,null,null,null,null,null,null,null,null,null,null,"TAMPILAN DATA"]
[null,null,null,null,null,null,null,null,null,null,null,"Nomor Urut",9]
[]
[]
[]
[]
[]
[]
[]
[]
["Nama Siswa :"]
[]
[{"$f":"VLOOKUP($M$14,TAB_BIODATA,BIODATA!C4)","v":"ERIK PRIHASABA PEBRIANSYAH"}]
[]
[]
[]
[]
["NIS / NISN :"]
[]
[{"$f":"IF(VLOOKUP($M$14,TAB_BIODATA,BIODATA!E4)=\"\",VLOOKUP($M$14,TAB_BIODATA,BIODATA!D4),VLOOKUP($M$14,TAB_BIODATA,BIODATA!D4)&\" / \"&VLOOKUP($M$14,TAB_BIODATA,BIODATA!E4))","v":"16170547 / 0011377302"}]
[]
[]
[]
[]
[null,null,null,null,null,null,null,null,null,null,null,{"$f":"\"Nomor Urut \"&M14","v":"Nomor Urut 9"}]

{"sheet":"KET.PETUNJUK","index":3,"n_rows":147,"n_cols":41,"rows_kept":147,"cut":false,"hidden":false,"merged":[[0,9,0,17],[3,10,4,17],[5,10,6,17],[7,10,8,17],[10,10,11,17],[0,27,0,35],[2,28,2,29],[2,31,2,35],[3,28,3,29],[3,31,3,35],[4,28,4,29],[4,31,4,35],[7,28,7,29],[7,31,7,35],[8,28,8,29],[8,31,8,35],[9,28,9,29],[9,31,9,35],[12,39,12,40],[5,28,5,29],[5,31,5,35],[6,28,6,29],[6,31,6,35],[5,39,5,40],[6,39,7,39],[6,40,7,40],[8,39,9,39],[8,40,9,40],[13,39,14,39],[13,40,14,40],[10,28,10,29],[10,31,10,35],[11,28,11,29],[11,31,11,35],[12,28,12,29],[12,31,12,35],[13,28,13,29],[13,31,13,35],[14,28,14,29],[14,31,14,35],[15,28,15,29],[15,31,15,35],[16,28,16,29],[16,31,16,35],[17,28,17,29],[17,31,17,35],[23,31,23,35],[18,28,18,29],[18,31,18,35],[19,28,19,29],[19,31,19,35],[20,28,20,29],[20,31,20,35],[38,33,38,35],[28,28,28,29],[28,31,28,35],[29,28,29,29],[29,31,29,35],[24,31,24,35],[21,28,21,29],[22,3,22,6],[32,33,32,35],[33,33,33,35],[25,28,25,29],[25,31,25,35],[26,28,26,29],[26,31,26,35],[27,28,27,29],[27,31,27,35],[22,28,22,29],[24,28,24,29],[21,31,21,35],[22,31,22,35],[23,28,23,29],[41,10,42,17],[2,19,2,26],[3,19,3,26],[4,19,5,26],[6,19,7,26],[8,19,8,26],[9,19,10,26],[17,19,18,26],[20,19,22,26],[37,10,40,17],[17,10,18,17],[12,10,13,17],[15,10,16,17],[20,10,22,17]]}
[null,null,null,{"$f":"COVER!D2","v":"KARTU HASIL STUDI (KHS)"},null,null,null,null,null,"PETUNJUK PENGISIAN",null,null,null,null,null,null,null,null,null,null,null,null,null,null,null,null,null,"KETERANGAN TENTANG DIRI SISWA"]
[null,null,null,{"$f":"COVER!D3","v":"SEKOLAH MENENGAH KEJURUAN"}]
[null,null,null,{"$f":"COVER!D4","v":"(SMK)"},null,null,null,null,null,null,null,null,null,null,null,null,null,null,16,"Laporan Ekstrakurikuler diisi berdasarkan kegiatan ekstrakurikuler yang diikuti oleh siswa; ",null,null,null,null,null,null,null,"1.","Nama Siswa (Lengkap)",null,":",{"$f":"VLOOKUP($AO$14,TAB_BIODATA,BIODATA!C4)","v":"ADAM MAULANA RIZALDI"}]
[null,null,null,null,null,null,null,null,null,1,"Rapor merupakan ringkasan hasil penilaian terhadap seluruh aktivitas pembelajaran yang dilakukan siswa dalam kurun waktu tertentu;",null,null,null,null,null,null,null,17,"Saran-saran wali kelas diisi berdasarkan kegiatan yang perlu mendapatkan perhatian siswa;",null,null,null,null,null,null,null,"2.","Nomor Induk Siswa/NISN",null,":",{"$f":"IF(VLOOKUP($AO$14,TAB_BIODATA,BIODATA!E4)=\"\",VLOOKUP($AO$14,TAB_BIODATA,BIODATA!D4),VLOOKUP($AO$14,TAB_BIODATA,BIODATA!D4)&\" / \"&VLOOKUP($AO$14,TAB_BIODATA,BIODATA!E4))","v":"16170449 / 0013261209"}]
[null,null,null,null,null,null,null,null,null,null,null,null,null,null,null,null,null,null,18,"Prestasi diisi dengan prestasi  yang dicapai oleh siswa dalam bidang akademik dan non akademik;",null,null,null,null,null,null,null,"3.","Tempat  Tanggal Lahir",null,":",{"$f":"VLOOKUP($AO$14,TAB_BIODATA,BIODATA!F4)","v":"Karawang, 04 Oktober 2001"},null,{"$f":"VLOOKUP($AO$14,TABBIODATA,BIODATA!D6)","v":{"$error":"#NAME?"}},{"$f":"VLOOKUP($AO$14,TABBIODATA,BIODATA!E6)","v":{"$error":"#NAME?"}},{"$f":"VLOOKUP($AO$14,TABBIODATA,BIODATA!G6)","v":{"$error":"#NAME?"}}]
[null,null,null,null,null,null,null,null,null,2,"Rapor dipergunakan selama siswa yang bersangkutan mengikuti seluruh program pembelajaran di Sekolah Menengah Kejuruan tersebut;",null,null,null,null,null,null,null,null,null,null,null,null,null,null,null,null,"4.","Jenis Kelamin",null,":",{"$f":"VLOOKUP($AO$14,TAB_BIODATA,BIODATA!G4)","v":"L"},null,{"$f":"VLOOKUP($AO$14,TABBIODATA,BIODATA!D7)","v":{"$error":"#NAME?"}},{"$f":"VLOOKUP($AO$14,TABBIODATA,BIODATA!E7)","v":{"$error":"#NAME?"}},{"$f":"VLOOKUP($AO$14,TABBIODATA,BIODATA!G7)","v":{"$error":"#NAME?"}},null,null,null,"HALAMAN CETAK"]
[null,null,null,null,null,null,null,null,null,null,null,null,null,null,null,null,null,null,19,"Ketidakhadiran diisi dengan data akumulasi ketidakhadiran siswa karena sakit, izin, atau tanpa keterangan selama satu semester.",null,null,null,null,null,null,null,"5.","Agama",null,":",{"$f":"VLOOKUP($AO$14,TAB_BIODATA,BIODATA!H4)","v":"Islam"},null,{"$f":"VLOOKUP($AO$14,TABBIODATA,BIODATA!D8)","v":{"$error":"#NAME?"}},{"$f":"VLOOKUP($AO$14,TABBIODATA,BIODATA!E8)","v":{"$error":"#NAME?"}},{"$f":"VLOOKUP($AO$14,TABBIODATA,BIODATA!G8)","v":{"$error":"#NAME?"}},null,null,null,"Dari data ke",12]
[null,null,null,null,null,null,null,null,null,3,"Identitas Sekolah diisi dengan data yang sesuai dengan keberadaan Sekolah Menengah Kejuruan;",null,null,null,null,null,null,null,null,null,null,null,null,null,null,null,null,"6.","Status dalam Keluarga",null,":",{"$f":"VLOOKUP($AO$14,TAB_BIODATA,BIODATA!I4)","v":0},null,{"$f":"VLOOKUP($AO$14,TABBIODATA,BIODATA!D9)","v":{"$error":"#NAME?"}},{"$f":"VLOOKUP($AO$14,TABBIODATA,BIODATA!E9)","v":{"$error":"#NAME?"}},{"$f":"VLOOKUP($AO$14,TABBIODATA,BIODATA!G9)","v":{"$error":"#NAME?"}}]
[null,null,null,null,null,null,null,null,null,null,null,null,null,null,null,null,null,null,20,"Tanggapan orang tua/wali adalah tanggapan atas pencapaian hasil belajar siswa.",null,null,null,null,null,null,null,"7.","Anak ke",null,":",{"$f":"VLOOKUP($AO$14,TAB_BIODATA,BIODATA!J4)","v":0},null,{"$f":"VLOOKUP($AO$14,TABBIODATA,BIODATA!D10)","v":{"$error":"#NAME?"}},{"$f":"VLOOKUP($AO$14,TABBIODATA,BIODATA!E10)","v":{"$error":"#NAME?"}},{"$f":"VLOOKUP($AO$14,TABBIODATA,BIODATA!G10)","v":{"$error":"#NAME?"}},null,null,null,"Sampai data ke",12]
[null,null,null,null,null,null,null,null,null,4,"Keterangan tentang diri  Siswa diisi lengkap;",null,null,null,null,null,null,null,21,"Keterangan pindah keluar sekolah diisi dengan alasan kepindahan. Sedangkan pindah masuk diisi dengan sekolah asal.",null,null,null,null,null,null,null,"8.","Alamat Siswa",null,":",{"$f":"VLOOKUP($AO$14,TAB_BIODATA,BIODATA!K4)","v":0},null,{"$f":"VLOOKUP($AO$14,TABBIODATA,BIODATA!D11)","v":{"$error":"#NAME?"}},{"$f":"VLOOKUP($AO$14,TABBIODATA,BIODATA!E11)","v":{"$error":"#NAME?"}},{"$f":"VLOOKUP($AO$14,TABBIODATA,BIODATA!G11)","v":{"$error":"#NAME?"}}]
[null,null,null,null,null,null,null,null,null,5,"Rapor harus dilengkapi dengan pas foto berwarna (3 x 4) dan pengisiannya dilakukan oleh Wali Kelas;",null,null,null,null,null,null,null,null,null,null,null,null,null,null,null,null,null,null,null,null,{"$f":"VLOOKUP($AO$14,TAB_BIODATA,BIODATA!L4)","v":0},null,{"$f":"VLOOKUP($AO$14,TABBIODATA,BIODATA!D12)","v":{"$error":"#NAME?"}},{"$f":"VLOOKUP($AO$14,TABBIODATA,BIODATA!E12)","v":{"$error":"#NAME?"}},{"$f":"VLOOKUP($AO$14,TABBIODATA,BIODATA!G12)","v":{"$error":"#NAME?"}}]
[null,null,null,null,null,null,null,null,null,null,null,null,null,null,null,null,null,null,null,null,null,null,null,null,null,null,null,"9.","Nomor Telepon Rumah",null,":",{"$f":"VLOOKUP($AO$14,TAB_BIODATA,BIODATA!M4)","v":0},null,{"$f":"VLOOKUP($AO$14,TABBIODATA,BIODATA!D13)","v":{"$error":"#NAME?"}},{"$f":"VLOOKUP($AO$14,TABBIODATA,BIODATA!E13)","v":{"$error":"#NAME?"}},{"$f":"VLOOKUP($AO$14,TABBIODATA,BIODATA!G13)","v":{"$error":"#NAME?"}}]
[null,null,null,null,null,null,null,null,null,6,"Deskripsi sikap spiritual diambil dari hasil observasi terutama pada mata pelajaran Pendidikan Agama dan Budi pekerti, dan PPKn;",null,null,null,null,null,null,null,null,null,null,null,null,null,null,null,null,"10.","Sekolah Asal",null,":",{"$f":"VLOOKUP($AO$14,TAB_BIODATA,BIODATA!N4)","v":0},null,{"$f":"VLOOKUP($AO$14,TABBIODATA,BIODATA!D14)","v":{"$error":"#NAME?"}},{"$f":"VLOOKUP($AO$14,TABBIODATA,BIODATA!E14)","v":{"$error":"#NAME?"}},{"$f":"VLOOKUP($AO$14,TABBIODATA,BIODATA!G14)","v":{"$error":"#NAME?"}},null,null,null,"TAMPILAN DATA"]
[null,null,null,null,null,null,null,null,null,null,null,null,null,null,null,null,null,null,null,null,null,null,null,null,null,null,null,"11.","Diterima di sekolah ini",null,null,null,null,null,null,null,null,null,null,"Nomor Urut",2]
[null,null,null,null,null,null,null,null,null,7,"Deskripsi sikap sosial diambil dari hasil observasi pada semua mata pelajaran; ",null,null,null,null,null,null,null,null,null,null,null,null,null,null,null,null,null,"Di kelas",null,":",{"$f":"VLOOKUP($AO$14,TAB_BIODATA,BIODATA!O4)","v":0},null,{"$f":"VLOOKUP($AO$14,TABBIODATA,BIODATA!D16)","v":{"$error":"#NAME?"}},{"$f":"VLOOKUP($AO$14,TABBIODATA,BIODATA!E16)","v":{"$error":"#NAME?"}},{"$f":"VLOOKUP($AO$14,TABBIODATA,BIODATA!G16)","v":{"$error":"#NAME?"}}]
[null,null,null,null,null,null,null,null,null,8,"Deskripsi pada kompetensi sikap ditulis dengan kalimat positif untuk aspek yang sangat baik atau kurang baik;",null,null,null,null,null,null,null,null,null,null,null,null,null,null,null,null,null,"Pada tanggal",null,":",{"$f":"VLOOKUP($AO$14,TAB_BIODATA,BIODATA!P4)","v":"00:00:00"},null,{"$f":"VLOOKUP($AO$14,TABBIODATA,BIODATA!D17)","v":{"$error":"#NAME?"}},{"$f":"VLOOKUP($AO$14,TABBIODATA,BIODATA!E17)","v":{"$error":"#NAME?"}},{"$f":"VLOOKUP($AO$14,TABBIODATA,BIODATA!G17)","v":{"$error":"#NAME?"}}]
[null,null,null,null,null,null,null,null,null,null,null,null,null,null,null,null,null,null,null,null,null,null,null,null,null,null,null,"12.","Nama Orang Tua"]
[null,"Bidang Keahlian",":",{"$f":"VLOOKUP(MENU!F8,TAB_JURUSAN,2,FALSE)","v":"Teknologi dan Rekayasa"},null,null,null,null,null,9,"Capaian siswa dalam kompetensi pengetahuan dan kompetensi keterampilan ditulis dalam bentuk angka, predikat dan deskripsi untuk masing-masing mata pelajaran;",null,null,null,null,null,null,null,null,null,null,null,null,null,null,null,null,null,"a.  Ayah",null,":",{"$f":"VLOOKUP($AO$14,TAB_BIODATA,BIODATA!Q4)","v":0},null,{"$f":"VLOOKUP($AO$14,TABBIODATA,BIODATA!D19)","v":{"$error":"#NAME?"}},{"$f":"VLOOKUP($AO$14,TABBIODATA,BIODATA!E19)","v":{"$error":"#NAME?"}},{"$f":"VLOOKUP($AO$14,TABBIODATA,BIODATA!G19)","v":{"$error":"#NAME?"}}]
[null,"Program Keahlian",":",{"$f":"VLOOKUP(MENU!F8,TAB_JURUSAN,3,FALSE)","v":"Teknik Otomotif"},null,null,null,null,null,null,null,null,null,null,null,null,null,null,null,null,null,null,null,null,null,null,null,null,"b.  Ibu",null,":",{"$f":"VLOOKUP($AO$14,TAB_BIODATA,BIODATA!R4)","v":0},null,{"$f":"VLOOKUP($AO$14,TABBIODATA,BIODATA!D20)","v":{"$error":"#NAME?"}},{"$f":"VLOOKUP($AO$14,TABBIODATA,BIODATA!E20)","v":{"$error":"#NAME?"}},{"$f":"VLOOKUP($AO$14,TABBIODATA,BIODATA!G20)","v":{"$error":"#NAME?"}}]
[null,"Paket Keahlian",":",{"$f":"VLOOKUP(MENU!F8,TAB_JURUSAN,4,FALSE)","v":"Teknik dan Bisnis Sepeda Motor"},null,null,null,null,null,10,"Predikat ditulis dalam bentuk huruf sesuai kriteria;",null,null,null,null,null,null,null,null,null,null,null,null,null,null,null,null,"13.","Alamat  Orang Tua",null,":",{"$f":"VLOOKUP($AO$14,TAB_BIODATA,BIODATA!S4)","v":0},null,{"$f":"VLOOKUP($AO$14,TABBIODATA,BIODATA!D21)","v":{"$error":"#NAME?"}},{"$f":"VLOOKUP($AO$14,TABBIODATA,BIODATA!E21)","v":{"$error":"#NAME?"}},{"$f":"VLOOKUP($AO$14,TABBIODATA,BIODATA!G21)","v":{"$error":"#NAME?"}}]
[null,null,null,null,null,null,null,null,null,11,"Kolom KKM (Kriteria Ketuntasan Minimal) merupakan acuan bagi kriteria kenaikan kelas sehingga wali kelas wajib menerangkan konsekuensi ketuntasan belajar tersebut kepada orang tua/wali;  ",null,null,null,null,null,null,null,null,null,null,null,null,null,null,null,null,null,null,null,null,{"$f":"VLOOKUP($AO$14,TAB_BIODATA,BIODATA!T4)","v":0},null,{"$f":"VLOOKUP($AO$14,TABBIODATA,BIODATA!D22)","v":{"$error":"#NAME?"}},{"$f":"VLOOKUP($AO$14,TABBIODATA,BIODATA!E22)","v":{"$error":"#NAME?"}},{"$f":"VLOOKUP($AO$14,TABBIODATA,BIODATA!G22)","v":{"$error":"#NAME?"}}]
[null,"Nama Sekolah",":","SMKN 1 KARAWANG",null,null,null,null,null,null,null,null,null,null,null,null,null,null,null,null,null,null,null,null,null,null,null,null,"Nomor Telepon Rumah",null,":",{"$f":"VLOOKUP($AO$14,TAB_BIODATA,BIODATA!U4)","v":0},null,{"$f":"VLOOKUP($AO$14,TABBIODATA,BIODATA!D23)","v":{"$error":"#NAME?"}},{"$f":"VLOOKUP($AO$14,TABBIODATA,BIODATA!E23)","v":{"$error":"#NAME?"}},{"$f":"VLOOKUP($AO$14,TABBIODATA,BIODATA!G23)","v":{"$error":"#NAME?"}}]
[null,"NIS / NSS / NDS",":",311022105084,null,null,null,null,null,null,null,null,null,null,null,null,null,null,null,null,null,null,null,null,null,null,null,"14.","Pekerjaan Orang Tua"]
[null,"Alamat Sekolah",":","Jl.Pangkal Perjuangan By Pass Karawang  ",null,null,null,null,null,12,"Batas bawah predikat C adalah nilai KKM;",null,null,null,null,null,null,null,null,null,null,null,null,null,null,null,null,null,"a.   Ayah",null,":",{"$f":"VLOOKUP($AO$14,TAB_BIODATA,BIODATA!V4)","v":0},null,{"$f":"VLOOKUP($AO$14,TABBIODATA,BIODATA!D25)","v":{"$error":"#NAME?"}},{"$f":"VLOOKUP($AO$14,TABBIODATA,BIODATA!E25)","v":{"$error":"#NAME?"}},{"$f":"VLOOKUP($AO$14,TABBIODATA,BIODATA!G25)","v":{"$error":"#NAME?"}}]
[null,null,":","Telp. (0267) 401651 Fax. 417258",null,null,null,null,null,13,"Rentang predikat capaian kompetensi dapat dihitung dengan cara : ",null,null,null,null,null,null,null,null,null,null,null,null,null,null,null,null,null,"b.   Ibu",null,":",{"$f":"VLOOKUP($AO$14,TAB_BIODATA,BIODATA!W4)","v":0},null,{"$f":"VLOOKUP($AO$14,TABBIODATA,BIODATA!D26)","v":{"$error":"#NAME?"}},{"$f":"VLOOKUP($AO$14,TABBIODATA,BIODATA!E26)","v":{"$error":"#NAME?"}},{"$f":"VLOOKUP($AO$14,TABBIODATA,BIODATA!G26)","v":{"$error":"#NAME?"}}]
[null,"Desa / Kelurahan",":","Tanjungpura",null,null,null,null,null,null,"Rentang =  100 – nilai KKM",null,null,null,null,null,null,null,null,null,null,null,null,null,null,null,null,"15.","Nama Wali Siswa",null,":",{"$f":"VLOOKUP($AO$14,TAB_BIODATA,BIODATA!X4)","v":"-"},null,{"$f":"VLOOKUP($AO$14,TABBIODATA,BIODATA!D27)","v":{"$error":"#NAME?"}},{"$f":"VLOOKUP($AO$14,TABBIODATA,BIODATA!E27)","v":{"$error":"#NAME?"}},{"$f":"VLOOKUP($AO$14,TABBIODATA,BIODATA!G27)","v":{"$error":"#NAME?"}}]
[null,"Kecamatan",":","Karawang Barat",null,null,null,null,null,null,"                        3",null,null,null,null,null,null,null,null,null,null,null,null,null,null,null,null,"16.","Alamat Wali Siswa",null,":",{"$f":"VLOOKUP($AO$14,TAB_BIODATA,BIODATA!Y4)","v":"-"},null,{"$f":"VLOOKUP($AO$14,TABBIODATA,BIODATA!D28)","v":{"$error":"#NAME?"}},{"$f":"VLOOKUP($AO$14,TABBIODATA,BIODATA!E28)","v":{"$error":"#NAME?"}},{"$f":"VLOOKUP($AO$14,TABBIODATA,BIODATA!G28)","v":{"$error":"#NAME?"}}]
[null,"Kota / Kabupaten",":","Karawang",null,null,null,null,null,null,"Contoh : ",null,null,null,null,null,null,null,null,null,null,null,null,null,null,null,null,null,null,null,null,{"$f":"VLOOKUP($AO$14,TAB_BIODATA,BIODATA!Z4)","v":"-"},null,{"$f":"VLOOKUP($AO$14,TABBIODATA,BIODATA!D29)","v":{"$error":"#NAME?"}},{"$f":"VLOOKUP($AO$14,TABBIODATA,BIODATA!E29)","v":{"$error":"#NAME?"}},{"$f":"VLOOKUP($AO$14,TABBIODATA,BIODATA!G29)","v":{"$error":"#NAME?"}}]
[null,"Provinsi",":","Jawa Barat",null,null,null,null,null,null," 100 – 75   =  25  = 8,33",null,null,null,null,null,null,null,null,null,null,null,null,null,null,null,null,null,"Nomor Telepon Rumah",null,":",{"$f":"VLOOKUP($AO$14,TAB_BIODATA,BIODATA!AA4)","v":"-"},null,{"$f":"VLOOKUP($AO$14,TABBIODATA,BIODATA!D30)","v":{"$error":"#NAME?"}},{"$f":"VLOOKUP($AO$14,TABBIODATA,BIODATA!E30)","v":{"$error":"#NAME?"}},{"$f":"VLOOKUP($AO$14,TABBIODATA,BIODATA!G30)","v":{"$error":"#NAME?"}}]
[null,"Website",":","www.smkn1karawang.net",null,null,null,null,null,null,"       3              3",null,null,null,null,null,null,null,null,null,null,null,null,null,null,null,null,"17.","Pekerjaan Wali Siswa",null,":",{"$f":"VLOOKUP($AO$14,TAB_BIODATA,BIODATA!AB4)","v":"-"},null,{"$f":"VLOOKUP($AO$14,TABBIODATA,BIODATA!D31)","v":{"$error":"#NAME?"}},{"$f":"VLOOKUP($AO$14,TABBIODATA,BIODATA!E31)","v":{"$error":"#NAME?"}},{"$f":"VLOOKUP($AO$14,TABBIODATA,BIODATA!G31)","v":{"$error":"#NAME?"}}]
[null,"email",":","infocenter@smkn1karawang.net"]
[null,null,null,null,null,null,null,null,null,null,"Setelah dibulatkan maka rentang predikat ada pada 8 atau 9. "]
[null,null,null,null,null,null,null,null,null,null,"Maka rentang predikatnya :",null,null,null,null,null,null,null,null,null,null,null,null,null,null,null,null,null,null,null,null,null,null,{"$f":"AF16","v":"00:00:00"}]
[null,null,null,null,null,null,null,null,null,null,"Sangat Baik (A)  : 93-100",null,null,null,null,null,null,null,null,null,null,null,null,null,null,null,null,null,null,null,null,null,null,"Kepala Sekolah,"]
[null,null,null,null,null,null,null,null,null,null,"Baik (B)              : 84-92"]
[null,null,null,null,null,null,null,null,null,null,"Cukup (C)           : 75-83"]
[null,null,null,null,null,null,null,null,null,null,"Kurang (D)          :  ≤ 74 "]
[null,null,null,null,null,null,null,null,null,14,"Deskripsi pada kompetensi pengetahuan dan kompetensi keterampilan ditulis dengan kalimat positif sesuai capaian tertinggi dan terendah yang diperoleh siswa. Apabila capaian kompetensi dasar yang diperoleh dalam muatan pelajaran itu sama, kolom deskripsi ditulis berdasarkan capaian yang diperoleh; "]
[null,null,null,null,null,null,null,null,null,null,null,null,null,null,null,null,null,null,null,null,null,null,null,null,null,null,null,null,null,null,null,null,null,{"$f":"MENU!M15","v":0}]
[null,null,null,null,null,null,null,null,null,null,null,null,null,null,null,null,null,null,null,null,null,null,null,null,null,null,null,null,null,null,null,null,null,{"$f":"\"NIP \"&MENU!M17","v":"NIP "}]
[]
[null,null,null,null,null,null,null,null,null,15,"Laporan Praktik Kerja Lapangan diisi berdasarkan kegiatan praktik kerja yang diikuti oleh siswa di industri/perusahaan mitra;"]
[]
[]
[]
[]
[null,null,null,null,null,null,null,null,{"$f":"(100-77)/3","v":7.666666666666667},null," 100 – 77   =  23  = 7,67"]
[null,null,null,null,null,null,null,null,null,null,"       3              3"]
[]
[null,null,null,null,null,null,null,null,null,null,"Setelah dibulatkan maka rentang predikat ada pada 7 atau 8. "]
[null,null,null,null,null,null,null,null,null,null,"Maka rentang predikatnya :"]
[null,null,null,null,null,null,null,null,null,null,"Sangat Baik (A)  : 93-100"]
[null,null,null,null,null,null,null,null,null,null,"Baik (B)              : 85-92"]
[null,null,null,null,null,null,null,null,null,null,"Cukup (C)           : 77-84"]
[null,null,null,null,null,null,null,null,null,null,"Kurang (D)          :  ≤ 76"]
[]
[null,null,null,null,null,null,null,null,null,null,null,null,null,null,null,null,null,null,null,null,null,null,null,null,null,null,null,null,null,null,null,null,null,null,null,null,null,null,null,null,12]
[]
[]
[]
[]
[]
[]
[]
[]
[]
[]
[]
[]
[]
[]
[]
[]
[]
[]
[]
[]
[]
[]
[]
[]
[]
[]
[]
[]
[]
[]
[]
[]
[]
[]
[]
[]
[]
[]
[]
[]
[]
[]
[]
[]
[]
[]
[]
[]
[]
[]
[]
[]
[]
[]
[]
[]
[]
[]
[]
[]
[]
[]
[]
[]
[]
[]
[]
[]
[]
[]
[]
[]
[]
[]
[]
[]
[]
[]
[]
[]
[]
[]
[]
[]
[]
[]
[]
[]
[]
[null,null,null,null,null,null,null,null,null,null,null,null,null,null,null,null,null,null,null,null,null,null,null,null,null,null,null,null,null,null,null,null,null,null,null,null,null,null,null,null,12]

{"sheet":"PINDAH.PRES","index":4,"n_rows":43,"n_cols":25,"rows_kept":43,"cut":false,"hidden":false,"merged":[[10,7,10,8],[10,9,10,11],[0,6,0,12],[0,0,0,5],[2,4,2,5],[5,0,6,1],[9,7,9,8],[9,9,9,11],[5,2,6,2],[5,3,6,4],[5,5,6,5],[4,0,4,5],[4,7,4,12],[5,7,5,8],[5,9,5,11],[6,7,6,8],[6,9,7,11],[7,7,7,8],[8,7,8,8],[8,9,8,11],[11,7,11,8],[11,9,11,11],[12,7,12,8],[12,9,12,11],[13,7,13,8],[13,9,13,11],[14,7,14,8],[14,9,14,11],[15,7,15,8],[15,9,15,11],[16,7,16,8],[16,9,16,11],[17,7,17,8],[17,9,17,11],[18,7,18,8],[18,9,18,11],[19,7,19,8],[19,9,19,11],[20,7,20,8],[20,9,20,11],[21,7,21,8],[21,9,21,11],[22,7,22,8],[22,9,22,11],[23,7,23,8],[23,9,23,11],[24,7,24,8],[24,9,24,11],[34,7,34,8],[34,9,34,11],[25,7,25,8],[25,9,25,11],[26,7,26,8],[26,9,26,11],[27,7,27,8],[27,9,27,11],[28,7,28,8],[28,9,28,11],[29,7,29,8],[29,9,29,11],[0,13,0,19],[4,18,4,19],[6,14,6,16],[6,17,6,19],[40,7,40,8],[40,9,40,11],[35,7,35,8],[35,9,35,11],[36,7,36,8],[36,9,36,11],[37,7,37,8],[37,9,37,11],[38,7,38,8],[38,9,38,11],[39,7,39,8],[39,9,39,11],[30,7,30,8],[30,9,30,11],[31,7,31,8],[31,9,31,11],[32,7,32,8],[32,9,32,11],[33,7,33,8],[33,9,33,11],[7,14,7,16],[7,17,7,19],[8,17,8,19],[9,17,9,19],[10,17,10,19],[11,17,11,19],[12,17,12,19],[13,17,13,19],[14,17,14,19],[30,17,30,19],[31,17,31,19],[32,17,32,19],[15,17,15,19],[16,17,16,19],[17,17,17,19],[18,17,18,19],[19,17,19,19],[20,17,20,19],[21,17,21,19],[22,17,22,19],[23,17,23,19],[4,23,5,24],[6,23,7,23],[6,24,7,24],[8,23,9,23],[8,24,9,24],[12,23,12,24],[13,23,14,23],[13,24,14,24],[42,17,42,19],[33,17,33,19],[34,17,34,19],[35,17,35,19],[36,17,36,19],[37,17,37,19],[38,17,38,19],[39,17,39,19],[40,17,40,19],[41,17,41,19],[24,17,24,19],[25,17,25,19],[26,17,26,19],[27,17,27,19],[28,17,28,19],[29,17,29,19]]}
["KETERANGAN PINDAH SEKOLAH",null,null,null,null,null,"KETERANGAN PINDAH SEKOLAH",null,null,null,null,null,null,"CATATAN PRESTASI YANG PERNAH DICAPAI"]
[]
["Nama Siswa",null,null,":",{"$f":"VLOOKUP($Y$14,TAB_BIODATA,BIODATA!C4)","v":"BAGAS ADJI PRIANTOMO"},null,"Nama Siswa",null,":",{"$f":"VLOOKUP($Y$14,TAB_BIODATA,BIODATA!C4)","v":"BAGAS ADJI PRIANTOMO"},null,null,null,null,"Nama Siswa",null,null,":",{"$f":"VLOOKUP($Y$14,TAB_BIODATA,BIODATA!C4)","v":"BAGAS ADJI PRIANTOMO"}]
[null,null,null,null,null,null,null,null,null,null,null,null,null,null,"Nama Sekolah",null,null,":","SMKN 1 KARAWANG"]
["KELUAR",null,null,null,null,null,"NO.","MASUK",null,null,null,null,null,null,"Nomor Induk",null,null,":",{"$f":"VLOOKUP($Y$14,TAB_BIODATA,BIODATA!D4)","v":16170371},null,null,null,null,"HALAMAN CETAK"]
["Tanggal",null,"Kelas yang Ditinggalkan","Sebab-sebab Keluar atau Atas Permintaan (Tertulis)",null,"Tanda Tangan Kepala Sekolah, Stempel Sekolah, dan Tanda Tangan Orang Tua / Wali",null,null,null,null,null,null,"............................, ................."]
[null,null,null,null,null,null,1,"Nama Siswa",null,{"$f":"VLOOKUP($Y$14,TAB_BIODATA,BIODATA!C4,FALSE)","v":"BAGAS ADJI PRIANTOMO"},null,null,"Kepala Sekolah,","No.","Prestasi yang Pernah Dicapai",null,null,"Keterangan",null,null,null,null,null,"Dari data ke",12]
[null,null,null,null,null,"............................, .................",null,null,null,null,null,null,null,1,"Kurikuler",null,null,"....................................................................................................................................."]
[null,null,null,null,null,"Kepala Sekolah,",2,"Nomor Induk / NISN",null,{"$f":"IF(VLOOKUP($Y$14,TAB_BIODATA,BIODATA!E4)=\"\",VLOOKUP($Y$14,TAB_BIODATA,BIODATA!D4),VLOOKUP($Y$14,TAB_BIODATA,BIODATA!D4)&\" / \"&VLOOKUP($Y$14,TAB_BIODATA,BIODATA!E4))","v":"16170371 / 0019580311"},null,null,null,null,null,null,null,".....................................................................................................................................",null,null,null,null,null,"Sampai data ke",12]
[null,null,null,null,null,null,3,"Nama Sekolah Asal",null,"SMKN 1 KARAWANG",null,null,"...............................................",null,null,null,null,"....................................................................................................................................."]
[null,null,null,null,null,null,4,"Masuk Di sekolah ini",null,null,null,null,"NIP. ........................................",null,null,null,null,"....................................................................................................................................."]
[null,null,null,null,null,"...............................................",null,"a. Tanggal",null,{"$f":"VLOOKUP($Y$14,TAB_BIODATA,BIODATA!P4)","v":"00:00:00"},null,null,null,null,null,null,null,"....................................................................................................................................."]
[null,null,null,null,null,"NIP. ........................................",null,"b. Di Kelas",null,{"$f":"VLOOKUP($Y$14,TAB_BIODATA,BIODATA!O4)","v":0},null,null,null,null,null,null,null,".....................................................................................................................................",null,null,null,null,null,"TAMPILAN DATA"]
[null,null,null,null,null,null,5,"Tahun Pelajaran",null,"2015/2016",null,null,null,null,null,null,null,".....................................................................................................................................",null,null,null,null,null,"Nomor Urut",3]
[null,null,null,null,null,"Orang Tua/Wali,",null,null,null,null,null,null,null,null,null,null,null,"....................................................................................................................................."]
[null,null,null,null,null,null,null,null,null,null,null,null,null,null,null,null,null,"....................................................................................................................................."]
[null,null,null,null,null,null,null,null,null,null,null,null,null,null,null,null,null,"....................................................................................................................................."]
[null,null,null,null,null,"...............................................",null,null,null,null,null,null,"............................, .................",null,null,null,null,"....................................................................................................................................."]
[null,null,null,null,null,null,1,"Nama Siswa",null," ………………………………",null,null,"Kepala Sekolah,",null,null,null,null,"....................................................................................................................................."]
[null,null,null,null,null,"............................, .................",null,null,null," ………………………………",null,null,null,2,"Ekstra Kurikuler",null,null,"....................................................................................................................................."]
[null,null,null,null,null,"Kepala Sekolah,",2,"Nomor Induk / NISN",null," ………………………………",null,null,null,null,null,null,null,"....................................................................................................................................."]
[null,null,null,null,null,null,3,"Nama Sekolah Asal",null," ………………………………",null,null,"...............................................",null,null,null,null,"....................................................................................................................................."]
[null,null,null,null,null,null,4,"Masuk Di sekolah ini",null," ………………………………",null,null,"NIP. ........................................",null,null,null,null,"....................................................................................................................................."]
[null,null,null,null,null,"...............................................",null,"a. Tanggal",null," ………………………………",null,null,null,null,null,null,null,"....................................................................................................................................."]
[null,null,null,null,null,"NIP. ........................................",null,"b. Di Kelas",null," ………………………………",null,null,null,null,null,null,null,"....................................................................................................................................."]
[null,null,null,null,null,null,5,"Tahun Pelajaran",null," ………………………………",null,null,null,null,null,null,null,"....................................................................................................................................."]
[null,null,null,null,null,"Orang Tua/Wali,",null,null,null,null,null,null,null,null,null,null,null,"....................................................................................................................................."]
[null,null,null,null,null,null,null,null,null,null,null,null,null,null,null,null,null,"....................................................................................................................................."]
[null,null,null,null,null,null,null,null,null,null,null,null,null,null,null,null,null,"....................................................................................................................................."]
[null,null,null,null,null,"...............................................",null,null,null,null,null,null,"............................, .................",null,null,null,null,"....................................................................................................................................."]
[null,null,null,null,null,null,1,"Nama Siswa",null," ………………………………",null,null,"Kepala Sekolah,",null,null,null,null,"....................................................................................................................................."]
[null,null,null,null,null,"............................, .................",null,null,null," ………………………………",null,null,null,3,"Catatan Khusus",null,null,"....................................................................................................................................."]
[null,null,null,null,null,"Kepala Sekolah,",2,"Nomor Induk / NISN",null," ………………………………",null,null,null,null,"Lainnya",null,null,"....................................................................................................................................."]
[null,null,null,null,null,null,3,"Nama Sekolah Asal",null," ………………………………",null,null,"...............................................",null,null,null,null,"....................................................................................................................................."]
[null,null,null,null,null,null,4,"Masuk Di sekolah ini",null," ………………………………",null,null,"NIP. ........................................",null,null,null,null,"....................................................................................................................................."]
[null,null,null,null,null,"...............................................",null,"a. Tanggal",null," ………………………………",null,null,null,null,null,null,null,"....................................................................................................................................."]
[null,null,null,null,null,"NIP. ........................................",null,"b. Di Kelas",null," ………………………………",null,null,null,null,null,null,null,"....................................................................................................................................."]
[null,null,null,null,null,null,5,"Tahun Pelajaran",null," ………………………………",null,null,null,null,null,null,null,"....................................................................................................................................."]
[null,null,null,null,null,"Orang Tua/Wali,",null,null,null,null,null,null,null,null,null,null,null,"....................................................................................................................................."]
[null,null,null,null,null,null,null,null,null,null,null,null,null,null,null,null,null,"....................................................................................................................................."]
[null,null,null,null,null,null,null,null,null,null,null,null,null,null,null,null,null,"....................................................................................................................................."]
[null,null,null,null,null,"...............................................",null,null,null,null,null,null,null,null,null,null,null,"....................................................................................................................................."]
[null,null,null,null,null,null,null,null,null,null,null,null,null,null,null,null,null,"....................................................................................................................................."]

{"sheet":"MENU","index":5,"n_rows":18,"n_cols":6,"rows_kept":18,"cut":false,"hidden":false,"merged":[[23,12,23,15],[25,5,25,8],[27,12,27,15],[34,12,34,15],[33,12,33,15],[27,5,27,8],[24,12,24,15],[29,12,29,15],[32,12,32,15],[25,12,25,15],[28,12,28,15],[7,5,7,6],[8,5,8,6],[22,12,22,15],[16,12,16,15],[14,12,14,15],[14,3,14,6],[22,5,22,8],[18,5,18,8],[20,5,20,8],[11,5,11,8],[12,5,12,8],[15,5,15,8],[16,5,16,8],[17,5,17,8]]}
[]
[]
[]
[]
[]
[]
[null,null,null,"Data Struktur Kurikulum"]
[null,null,null,"Kompetensi Keahlian",":","TBSM"]
[null,null,null,"Kelas",":","TBSM 2"]
[]
[null,null,null,"Data Kepala Sekolah"]
[null,null,null,"Nama",":","Drs. Makmur, M.T."]
[null,null,null,"NIP",":","19640423 199512 1 002"]
[]
[null,null,null,"Data Pengisian oleh Wali Kelas"]
[null,null,null,"Semester",":","2 (dua)"]
[null,null,null,"Nama Wali Kelas",":","Amo Sisdianto, S.Kom."]
[null,null,null,"NIP",":","-"]

{"sheet":"TITIMANGSA","index":6,"n_rows":33,"n_cols":4,"rows_kept":33,"cut":false,"hidden":false,"merged":[]}
[]
[null,"Titimangsa KHS"]
[null,"Tahun Pelajaran",":","2020 / 2021"]
[null,"Semester 1",":","Karawang, 18 Desember 2020"]
[null,"Wali Kelas",":","Abdul Hapid, S.P"]
[null,"NIP",":","19680917 200012 1 003"]
[null,"Semester 2",":"]
[null,"Wali Kelas",":","Amo Sisdianto, S.Kom"]
[null,"NIP",":"]
[]
[null,"Tahun Pelajaran",":","2020 / 2021"]
[null,"Semester 3",":"]
[null,"Wali Kelas",":","Amo Sisdianto, S.Kom"]
[null,"NIP",":"]
[null,"Semester 4",":","Karawang, 30 Maret 2021"]
[null,"Wali Kelas",":","Abdul Hapid, S.P"]
[null,"NIP",":","19680917 200012 1 003"]
[]
[null,"Tahun Pelajaran",":","2020 / 2021"]
[null,"Semester 5",":"]
[null,"Wali Kelas",":","Amo Sisdianto, S.Kom"]
[null,"NIP",":"]
[null,"Semester 6",":"]
[null,"Wali Kelas",":","Abdul Hapid, S.P"]
[null,"NIP",":","19680917 200012 1 003"]
[]
[null,"Tahun Pelajaran",":","2020 / 2021"]
[null,"Semester 7",":"]
[null,"Wali Kelas",":","Amo Sisdianto, S.Kom"]
[null,"NIP",":"]
[null,"Semester 8",":"]
[null,"Wali Kelas",":","Abdul Hapid, S.P"]
[null,"NIP",":","19680917 200012 1 003"]

{"sheet":"LEGGER1","index":7,"n_rows":63,"n_cols":28,"rows_kept":63,"cut":false,"hidden":false,"merged":[[62,17,62,21],[62,26,63,28],[60,13,60,16],[60,17,60,21],[61,13,61,16],[61,17,61,21],[62,0,63,0],[62,1,63,5],[62,6,63,8],[62,9,63,9],[62,10,63,10],[62,13,62,16],[59,26,61,28],[59,1,59,5],[59,6,59,8],[59,13,59,16],[59,17,59,21],[60,0,61,0],[60,1,61,5],[60,6,61,8],[60,9,61,9],[60,10,61,10],[55,1,55,5],[55,16,55,17],[55,19,55,21],[56,1,56,5],[56,6,56,7],[56,13,56,14],[56,16,56,17],[56,19,56,21],[53,1,53,4],[53,8,53,11],[53,15,53,21],[54,1,54,4],[54,8,54,11],[54,15,54,21],[51,1,51,4],[51,8,51,11],[51,15,51,21],[52,1,52,4],[52,8,52,11],[52,15,52,21],[49,1,49,4],[49,8,49,11],[49,15,49,21],[50,1,50,4],[50,8,50,11],[50,15,50,21],[46,1,46,4],[46,8,46,11],[46,15,46,21],[48,1,48,4],[48,8,48,11],[48,15,48,21],[44,1,44,4],[44,8,44,11],[44,15,44,21],[45,1,45,4],[45,8,45,11],[45,15,45,21],[41,1,41,4],[41,8,41,11],[41,15,41,21],[43,1,43,4],[43,8,43,11],[43,15,43,21],[39,1,39,4],[39,8,39,11],[39,15,39,21],[40,1,40,4],[40,8,40,11],[40,15,40,21],[35,1,35,4],[35,8,35,11],[35,15,35,21],[37,0,37,4],[36,1,36,4],[36,8,36,11],[36,15,36,21],[31,0,31,4],[32,1,32,4],[32,8,32,11],[32,15,32,21],[33,1,33,4],[33,8,33,11],[33,15,33,21],[30,1,30,4],[30,8,30,11],[30,15,30,21],[27,1,27,4],[27,8,27,11],[27,15,27,21],[28,1,28,4],[28,8,28,11],[28,15,28,21],[22,0,23,0],[22,1,23,4],[22,5,22,11],[22,12,22,21],[23,8,23,11],[23,15,23,21],[29,1,29,4],[29,8,29,11],[29,15,29,21],[12,26,12,27],[13,26,14,26],[13,27,14,27],[25,1,25,4],[25,8,25,11],[25,15,25,21],[26,1,26,4],[26,8,26,11],[26,15,26,21],[18,26,19,27],[17,26,17,27],[16,0,19,0],[16,1,19,2],[16,3,19,11],[17,13,19,16],[9,17,10,21],[13,1,13,2],[13,3,13,11],[13,13,13,16],[17,17,19,17],[14,0,15,0],[14,1,15,2],[14,3,15,11],[14,13,16,16],[14,17,16,17],[5,26,5,27],[6,26,7,26],[6,27,7,27],[8,26,9,26],[0,0,0,21],[1,0,1,21],[2,0,2,21],[3,0,3,21],[5,0,5,21],[8,27,9,27]]}
["PEMERINTAH DAERAH PROVINSI JAWA BARAT"]
["DINAS PENDIDIKAN"]
["SMKN 1 KARAWANG"]
["Jl. Pangkal Perjuangan By Pass Karawang  Telp.0267-401651 Fax.417258 Website : www.smkn1karawang.net Email : smkn1karawang@gmail.com"]
[]
[{"$f":"\"LEGER NILAI SISWA TAHUN PELAJARAN \"&MENU!F15","v":"LEGER NILAI SISWA TAHUN PELAJARAN "},null,null,null,null,null,null,null,null,null,null,null,null,null,null,null,null,null,null,null,null,null,null,null,null,null,"HALAMAN CETAK"]
[null,null,null,null,null,null,null,null,null,null,null,null,null,null,null,null,null,null,null,null,null,null,null,null,null,null,"Dari data ke",2]
["Nama Siswa",null,":",{"$f":"VLOOKUP($AB$14,TABNILSM1,#REF!)","v":{"$error":"#REF!"}},null,null,null,null,null,null,null,null,null,"Bidang Keahlian",null,null,":",{"$f":"KET.PETUNJUK!D18","v":"Teknologi dan Rekayasa"}]
["Nomor Induk/NISN",null,":",{"$f":"IF(VLOOKUP($AB$14,TABBIODATA,BIODATA!E4)=\"\",VLOOKUP($AB$14,TABBIODATA,BIODATA!D4),VLOOKUP($AB$14,TABBIODATA,BIODATA!D4)&\" / \"&VLOOKUP($AB$14,TABBIODATA,BIODATA!E4))","v":{"$error":"#NAME?"}},null,null,null,null,null,null,null,null,null,"Program Keahlian",null,null,":",{"$f":"KET.PETUNJUK!D19","v":"Teknik Otomotif"},null,null,null,null,null,null,null,null,"Sampai data ke",2]
["Kelas/Semester ",null,":",{"$f":"W10&\" / \"&W11","v":{"$error":"#REF!"}},null,null,null,null,null,null,null,null,null,"Paket Keahlian",null,null,":",{"$f":"KET.PETUNJUK!D20","v":"Teknik dan Bisnis Sepeda Motor"},null,null,null,null,{"$f":"IF(OR(W11=\"1 (satu)\",W11=\"2 (dua)\"),\"X \"&MENU!F9,IF(OR(W11=\"3 (tiga)\",W11=\"4 (empat)\"),\"XI \"&MENU!F9,IF(OR(W11=\"5 (lima)\",W11=\"6 (enam)\"),\"XII \"&MENU!F9,\"\")))","v":{"$error":"#REF!"}}]
["Wali Kelas",null,":",{"$f":"#REF!","v":{"$error":"#REF!"}},null,null,null,null,null,null,null,null,null,null,null,null,null,null,null,null,null,null,{"$f":"#REF!","v":{"$error":"#REF!"}}]
[]
["A.  Nilai Sikap",null,null,null,null,null,null,null,null,null,null,null,null,"Prestasi",null,null,null,null,null,"Ketidakhadiran",null,null,null,null,null,null,"TAMPILAN DATA"]
["No.","Kompetensi Inti",null,"Deskripsi",null,null,null,null,null,null,null,null,null,"Jenis Prestasi",null,null,null,"Keterangan",null,"Sakit",":",{"$f":"VLOOKUP($AB$14,TABNILSM1,#REF!)","v":{"$error":"#REF!"}},2,null,null,null,"Nomor Urut",2]
["1","Spiritual (KI-1)",null,{"$f":"IFERROR(VLOOKUP(W15,TABDESSPIRITUAL,2),\"-\")","v":"-"},null,null,null,null,null,null,null,null,null,{"$f":"IFERROR(VLOOKUP($AB$14,TABNILSM1,#REF!),\"-\")","v":"-"},null,null,null,{"$f":"IFERROR(VLOOKUP($AB$14,TABNILSM1,#REF!),\"-\")","v":"-"},null,"Izin",":",{"$f":"VLOOKUP($AB$14,TABNILSM1,#REF!)","v":{"$error":"#REF!"}},{"$f":"VLOOKUP($AB$14,TABNILSM1,#REF!)","v":{"$error":"#REF!"}}]
[null,null,null,null,null,null,null,null,null,null,null,null,null,null,null,null,null,null,null,"Alpa",":",{"$f":"VLOOKUP($AB$14,TABNILSM1,#REF!)","v":{"$error":"#REF!"}}]
[2,"Sosial (KI-2)",null,{"$f":"IFERROR(VLOOKUP(W18,TABDESSOSIAL,2),\"-\")","v":"-"}]
[null,null,null,null,null,null,null,null,null,null,null,null,null,{"$f":"IFERROR(VLOOKUP($AB$14,TABNILSM1,#REF!),\"-\")","v":"-"},null,null,null,{"$f":"IFERROR(VLOOKUP($AB$14,TABNILSM1,#REF!),\"-\")","v":"-"},null,null,null,null,{"$f":"VLOOKUP($AB$14,TABNILSM1,#REF!)","v":{"$error":"#REF!"}},null,null,null,"PILIHAN DESKRIPSI"]
[null,null,null,null,null,null,null,null,null,null,null,null,null,null,null,null,null,null,null,null,null,null,null,null,null,null,"OTOMATIS"]
[]
[]
["B.  Nilai Pengetahuan dan Keterampilan"]
["No.","Mata Pelajaran",null,null,null,"Pengetahuan (KI-3)",null,null,null,null,null,null,"Keterampilan (KI-4)"]
[null,null,null,null,null,"KB","Angka","Predikat","Deskripsi",null,null,null,"KB","Angka","Predikat","Deskripsi"]
["Muatan Nasional"]
[{"$f":"#REF!","v":{"$error":"#REF!"}},{"$f":"#REF!","v":{"$error":"#REF!"}},null,null,null,{"$f":"#REF!","v":{"$error":"#REF!"}},{"$f":"VLOOKUP($AB$14,TABNILSM1,#REF!)","v":{"$error":"#REF!"}},{"$f":"IFERROR(VLOOKUP(G26,GRADE_MAPELAB,4),\"-\")","v":"-"},{"$f":"IFERROR(IF($AA$19=DBLOGIC!$B$5,VLOOKUP(H26,TABDESPENGETAHUAN,2),IF($AA$19=DBLOGIC!$B$6,VLOOKUP(H26,DESKPENGETAHUANSM1,#REF!),\"-\")),\"-\")","v":"-"},null,null,null,{"$f":"#REF!","v":{"$error":"#REF!"}},{"$f":"VLOOKUP($AB$14,TABNILSM1,#REF!)","v":{"$error":"#REF!"}},{"$f":"IFERROR(VLOOKUP(N26,GRADE_MAPELAB,4),\"-\")","v":"-"},{"$f":"IFERROR(IF($AA$19=DBLOGIC!$B$5,VLOOKUP(O26,TABDESKETERAMPILAN,2),IF($AA$19=DBLOGIC!$B$6,VLOOKUP(O26,DESKKETERAMPILANSM1,#REF!),\"-\")),\"-\")","v":"-"}]
[{"$f":"#REF!","v":{"$error":"#REF!"}},{"$f":"#REF!","v":{"$error":"#REF!"}},null,null,null,{"$f":"#REF!","v":{"$error":"#REF!"}},{"$f":"VLOOKUP($AB$14,TABNILSM1,#REF!)","v":{"$error":"#REF!"}},"-",{"$f":"IFERROR(IF($AA$19=DBLOGIC!$B$5,VLOOKUP(H27,TABDESPENGETAHUAN,2),IF($AA$19=DBLOGIC!$B$6,VLOOKUP(H27,DESKPENGETAHUANSM1,#REF!),\"-\")),\"-\")","v":"-"},null,null,null,{"$f":"#REF!","v":{"$error":"#REF!"}},{"$f":"VLOOKUP($AB$14,TABNILSM1,#REF!)","v":{"$error":"#REF!"}},"-",{"$f":"IFERROR(IF($AA$19=DBLOGIC!$B$5,VLOOKUP(O27,TABDESKETERAMPILAN,2),IF($AA$19=DBLOGIC!$B$6,VLOOKUP(O27,DESKKETERAMPILANSM1,#REF!),\"-\")),\"-\")","v":"-"}]
[{"$f":"#REF!","v":{"$error":"#REF!"}},{"$f":"#REF!","v":{"$error":"#REF!"}},null,null,null,{"$f":"#REF!","v":{"$error":"#REF!"}},{"$f":"VLOOKUP($AB$14,TABNILSM1,#REF!)","v":{"$error":"#REF!"}},"-",{"$f":"IFERROR(IF($AA$19=DBLOGIC!$B$5,VLOOKUP(H28,TABDESPENGETAHUAN,2),IF($AA$19=DBLOGIC!$B$6,VLOOKUP(H28,DESKPENGETAHUANSM1,#REF!),\"-\")),\"-\")","v":"-"},null,null,null,{"$f":"#REF!","v":{"$error":"#REF!"}},{"$f":"VLOOKUP($AB$14,TABNILSM1,#REF!)","v":{"$error":"#REF!"}},"-",{"$f":"IFERROR(IF($AA$19=DBLOGIC!$B$5,VLOOKUP(O28,TABDESKETERAMPILAN,2),IF($AA$19=DBLOGIC!$B$6,VLOOKUP(O28,DESKKETERAMPILANSM1,#REF!),\"-\")),\"-\")","v":"-"}]
[{"$f":"#REF!","v":{"$error":"#REF!"}},{"$f":"#REF!","v":{"$error":"#REF!"}},null,null,null,{"$f":"#REF!","v":{"$error":"#REF!"}},{"$f":"VLOOKUP($AB$14,TABNILSM1,#REF!)","v":{"$error":"#REF!"}},"-",{"$f":"IFERROR(IF($AA$19=DBLOGIC!$B$5,VLOOKUP(H29,TABDESPENGETAHUAN,2),IF($AA$19=DBLOGIC!$B$6,VLOOKUP(H29,DESKPENGETAHUANSM1,#REF!),\"-\")),\"-\")","v":"-"},null,null,null,{"$f":"#REF!","v":{"$error":"#REF!"}},{"$f":"VLOOKUP($AB$14,TABNILSM1,#REF!)","v":{"$error":"#REF!"}},"-",{"$f":"IFERROR(IF($AA$19=DBLOGIC!$B$5,VLOOKUP(O29,TABDESKETERAMPILAN,2),IF($AA$19=DBLOGIC!$B$6,VLOOKUP(O29,DESKKETERAMPILANSM1,#REF!),\"-\")),\"-\")","v":"-"}]
[{"$f":"#REF!","v":{"$error":"#REF!"}},{"$f":"#REF!","v":{"$error":"#REF!"}},null,null,null,{"$f":"#REF!","v":{"$error":"#REF!"}},{"$f":"VLOOKUP($AB$14,TABNILSM1,#REF!)","v":{"$error":"#REF!"}},"-",{"$f":"IFERROR(IF($AA$19=DBLOGIC!$B$5,VLOOKUP(H30,TABDESPENGETAHUAN,2),IF($AA$19=DBLOGIC!$B$6,VLOOKUP(H30,DESKPENGETAHUANSM1,#REF!),\"-\")),\"-\")","v":"-"},null,null,null,{"$f":"#REF!","v":{"$error":"#REF!"}},{"$f":"VLOOKUP($AB$14,TABNILSM1,#REF!)","v":{"$error":"#REF!"}},"-",{"$f":"IFERROR(IF($AA$19=DBLOGIC!$B$5,VLOOKUP(O30,TABDESKETERAMPILAN,2),IF($AA$19=DBLOGIC!$B$6,VLOOKUP(O30,DESKKETERAMPILANSM1,#REF!),\"-\")),\"-\")","v":"-"}]
[{"$f":"#REF!","v":{"$error":"#REF!"}},{"$f":"#REF!","v":{"$error":"#REF!"}},null,null,null,{"$f":"#REF!","v":{"$error":"#REF!"}},{"$f":"VLOOKUP($AB$14,TABNILSM1,#REF!)","v":{"$error":"#REF!"}},"-",{"$f":"IFERROR(IF($AA$19=DBLOGIC!$B$5,VLOOKUP(H31,TABDESPENGETAHUAN,2),IF($AA$19=DBLOGIC!$B$6,VLOOKUP(H31,DESKPENGETAHUANSM1,#REF!),\"-\")),\"-\")","v":"-"},null,null,null,{"$f":"#REF!","v":{"$error":"#REF!"}},{"$f":"VLOOKUP($AB$14,TABNILSM1,#REF!)","v":{"$error":"#REF!"}},"-",{"$f":"IFERROR(IF($AA$19=DBLOGIC!$B$5,VLOOKUP(O31,TABDESKETERAMPILAN,2),IF($AA$19=DBLOGIC!$B$6,VLOOKUP(O31,DESKKETERAMPILANSM1,#REF!),\"-\")),\"-\")","v":"-"}]
["Muatan Kewilayahan"]
[{"$f":"#REF!","v":{"$error":"#REF!"}},{"$f":"#REF!","v":{"$error":"#REF!"}},null,null,null,{"$f":"#REF!","v":{"$error":"#REF!"}},{"$f":"VLOOKUP($AB$14,TABNILSM1,#REF!)","v":{"$error":"#REF!"}},{"$f":"IFERROR(VLOOKUP(G33,GRADE_MAPELAB,4),\"-\")","v":"-"},{"$f":"IFERROR(IF($AA$19=DBLOGIC!$B$5,VLOOKUP(H33,TABDESPENGETAHUAN,2),IF($AA$19=DBLOGIC!$B$6,VLOOKUP(H33,DESKPENGETAHUANSM1,#REF!),\"-\")),\"-\")","v":"-"},null,null,null,{"$f":"#REF!","v":{"$error":"#REF!"}},{"$f":"VLOOKUP($AB$14,TABNILSM1,#REF!)","v":{"$error":"#REF!"}},{"$f":"IFERROR(VLOOKUP(N33,GRADE_MAPELAB,4),\"-\")","v":"-"},{"$f":"IFERROR(IF($AA$19=DBLOGIC!$B$5,VLOOKUP(O33,TABDESKETERAMPILAN,2),IF($AA$19=DBLOGIC!$B$6,VLOOKUP(O33,DESKKETERAMPILANSM1,#REF!),\"-\")),\"-\")","v":"-"}]
[{"$f":"#REF!","v":{"$error":"#REF!"}},{"$f":"#REF!","v":{"$error":"#REF!"}},null,null,null,{"$f":"#REF!","v":{"$error":"#REF!"}},{"$f":"VLOOKUP($AB$14,TABNILSM1,#REF!)","v":{"$error":"#REF!"}},{"$f":"IFERROR(VLOOKUP(G34,GRADE_MAPELAB,4),\"-\")","v":"-"},{"$f":"IFERROR(IF($AA$19=DBLOGIC!$B$5,VLOOKUP(H34,TABDESPENGETAHUAN,2),IF($AA$19=DBLOGIC!$B$6,VLOOKUP(H34,DESKPENGETAHUANSM1,#REF!),\"-\")),\"-\")","v":"-"},null,null,null,{"$f":"#REF!","v":{"$error":"#REF!"}},{"$f":"VLOOKUP($AB$14,TABNILSM1,#REF!)","v":{"$error":"#REF!"}},{"$f":"IFERROR(VLOOKUP(N34,GRADE_MAPELAB,4),\"-\")","v":"-"},{"$f":"IFERROR(IF($AA$19=DBLOGIC!$B$5,VLOOKUP(O34,TABDESKETERAMPILAN,2),IF($AA$19=DBLOGIC!$B$6,VLOOKUP(O34,DESKKETERAMPILANSM1,#REF!),\"-\")),\"-\")","v":"-"}]
[null,"Muatan Lokal"]
[{"$f":"#REF!","v":{"$error":"#REF!"}},{"$f":"#REF!","v":{"$error":"#REF!"}},null,null,null,{"$f":"#REF!","v":{"$error":"#REF!"}},{"$f":"VLOOKUP($AB$14,TABNILSM1,#REF!)","v":{"$error":"#REF!"}},{"$f":"IFERROR(VLOOKUP(G36,GRADE_MAPELAB,4),\"-\")","v":"-"},{"$f":"IFERROR(IF($AA$19=DBLOGIC!$B$5,VLOOKUP(H36,TABDESPENGETAHUAN,2),IF($AA$19=DBLOGIC!$B$6,VLOOKUP(H36,DESKPENGETAHUANSM1,#REF!),\"-\")),\"-\")","v":"-"},null,null,null,{"$f":"#REF!","v":{"$error":"#REF!"}},{"$f":"VLOOKUP($AB$14,TABNILSM1,#REF!)","v":{"$error":"#REF!"}},{"$f":"IFERROR(VLOOKUP(N36,GRADE_MAPELAB,4),\"-\")","v":"-"},{"$f":"IFERROR(IF($AA$19=DBLOGIC!$B$5,VLOOKUP(O36,TABDESKETERAMPILAN,2),IF($AA$19=DBLOGIC!$B$6,VLOOKUP(O36,DESKKETERAMPILANSM1,#REF!),\"-\")),\"-\")","v":"-"}]
[{"$f":"#REF!","v":{"$error":"#REF!"}},{"$f":"#REF!","v":{"$error":"#REF!"}},null,null,null,{"$f":"#REF!","v":{"$error":"#REF!"}},{"$f":"VLOOKUP($AB$14,TABNILSM1,#REF!)","v":{"$error":"#REF!"}},{"$f":"IFERROR(VLOOKUP(G37,GRADE_MAPELAB,4),\"-\")","v":"-"},{"$f":"IFERROR(IF($AA$19=DBLOGIC!$B$5,VLOOKUP(H37,TABDESPENGETAHUAN,2),IF($AA$19=DBLOGIC!$B$6,VLOOKUP(H37,DESKPENGETAHUANSM1,#REF!),\"-\")),\"-\")","v":"-"},null,null,null,{"$f":"#REF!","v":{"$error":"#REF!"}},{"$f":"VLOOKUP($AB$14,TABNILSM1,#REF!)","v":{"$error":"#REF!"}},{"$f":"IFERROR(VLOOKUP(N37,GRADE_MAPELAB,4),\"-\")","v":"-"},{"$f":"IFERROR(IF($AA$19=DBLOGIC!$B$5,VLOOKUP(O37,TABDESKETERAMPILAN,2),IF($AA$19=DBLOGIC!$B$6,VLOOKUP(O37,DESKKETERAMPILANSM1,#REF!),\"-\")),\"-\")","v":"-"}]
["Muatan Peminatan Kejuruan"]
["C1","Dasar Bidang Keahlian"]
[{"$f":"#REF!","v":{"$error":"#REF!"}},{"$f":"#REF!","v":{"$error":"#REF!"}},null,null,null,{"$f":"#REF!","v":{"$error":"#REF!"}},{"$f":"VLOOKUP($AB$14,TABNILSM1,#REF!)","v":{"$error":"#REF!"}},{"$f":"IFERROR(VLOOKUP(G40,GRADE_MAPELAB,4),\"-\")","v":"-"},{"$f":"IFERROR(IF($AA$19=DBLOGIC!$B$5,VLOOKUP(H40,TABDESPENGETAHUAN,2),IF($AA$19=DBLOGIC!$B$6,VLOOKUP(H40,DESKPENGETAHUANSM1,#REF!),\"-\")),\"-\")","v":"-"},null,null,null,{"$f":"#REF!","v":{"$error":"#REF!"}},{"$f":"VLOOKUP($AB$14,TABNILSM1,#REF!)","v":{"$error":"#REF!"}},{"$f":"IFERROR(VLOOKUP(N40,GRADE_MAPELAB,4),\"-\")","v":"-"},{"$f":"IFERROR(IF($AA$19=DBLOGIC!$B$5,VLOOKUP(O40,TABDESKETERAMPILAN,2),IF($AA$19=DBLOGIC!$B$6,VLOOKUP(O40,DESKKETERAMPILANSM1,#REF!),\"-\")),\"-\")","v":"-"}]
[{"$f":"#REF!","v":{"$error":"#REF!"}},{"$f":"#REF!","v":{"$error":"#REF!"}},null,null,null,{"$f":"#REF!","v":{"$error":"#REF!"}},{"$f":"VLOOKUP($AB$14,TABNILSM1,#REF!)","v":{"$error":"#REF!"}},{"$f":"IFERROR(VLOOKUP(G41,GRADE_MAPELAB,4),\"-\")","v":"-"},{"$f":"IFERROR(IF($AA$19=DBLOGIC!$B$5,VLOOKUP(H41,TABDESPENGETAHUAN,2),IF($AA$19=DBLOGIC!$B$6,VLOOKUP(H41,DESKPENGETAHUANSM1,#REF!),\"-\")),\"-\")","v":"-"},null,null,null,{"$f":"#REF!","v":{"$error":"#REF!"}},{"$f":"VLOOKUP($AB$14,TABNILSM1,#REF!)","v":{"$error":"#REF!"}},{"$f":"IFERROR(VLOOKUP(N41,GRADE_MAPELAB,4),\"-\")","v":"-"},{"$f":"IFERROR(IF($AA$19=DBLOGIC!$B$5,VLOOKUP(O41,TABDESKETERAMPILAN,2),IF($AA$19=DBLOGIC!$B$6,VLOOKUP(O41,DESKKETERAMPILANSM1,#REF!),\"-\")),\"-\")","v":"-"}]
[{"$f":"#REF!","v":{"$error":"#REF!"}},{"$f":"#REF!","v":{"$error":"#REF!"}},null,null,null,{"$f":"#REF!","v":{"$error":"#REF!"}},{"$f":"VLOOKUP($AB$14,TABNILSM1,#REF!)","v":{"$error":"#REF!"}},{"$f":"IFERROR(VLOOKUP(G42,GRADE_MAPELAB,4),\"-\")","v":"-"},{"$f":"IFERROR(IF($AA$19=DBLOGIC!$B$5,VLOOKUP(H42,TABDESPENGETAHUAN,2),IF($AA$19=DBLOGIC!$B$6,VLOOKUP(H42,DESKPENGETAHUANSM1,#REF!),\"-\")),\"-\")","v":"-"},null,null,null,{"$f":"#REF!","v":{"$error":"#REF!"}},{"$f":"VLOOKUP($AB$14,TABNILSM1,#REF!)","v":{"$error":"#REF!"}},{"$f":"IFERROR(VLOOKUP(N42,GRADE_MAPELAB,4),\"-\")","v":"-"},{"$f":"IFERROR(IF($AA$19=DBLOGIC!$B$5,VLOOKUP(O42,TABDESKETERAMPILAN,2),IF($AA$19=DBLOGIC!$B$6,VLOOKUP(O42,DESKKETERAMPILANSM1,#REF!),\"-\")),\"-\")","v":"-"}]
["C2","Dasar Program Keahlian"]
[{"$f":"#REF!","v":{"$error":"#REF!"}},{"$f":"#REF!","v":{"$error":"#REF!"}},null,null,null,{"$f":"#REF!","v":{"$error":"#REF!"}},{"$f":"VLOOKUP($AB$14,TABNILSM1,#REF!)","v":{"$error":"#REF!"}},"-",{"$f":"IFERROR(IF($AA$19=DBLOGIC!$B$5,VLOOKUP(H44,TABDESPENGETAHUAN,2),IF($AA$19=DBLOGIC!$B$6,VLOOKUP(H44,DESKPENGETAHUANSM1,#REF!),\"-\")),\"-\")","v":"-"},null,null,null,{"$f":"#REF!","v":{"$error":"#REF!"}},{"$f":"VLOOKUP($AB$14,TABNILSM1,#REF!)","v":{"$error":"#REF!"}},"-",{"$f":"IFERROR(IF($AA$19=DBLOGIC!$B$5,VLOOKUP(O44,TABDESKETERAMPILAN,2),IF($AA$19=DBLOGIC!$B$6,VLOOKUP(O44,DESKKETERAMPILANSM1,#REF!),\"-\")),\"-\")","v":"-"}]
[{"$f":"#REF!","v":{"$error":"#REF!"}},{"$f":"#REF!","v":{"$error":"#REF!"}},null,null,null,{"$f":"#REF!","v":{"$error":"#REF!"}},{"$f":"VLOOKUP($AB$14,TABNILSM1,#REF!)","v":{"$error":"#REF!"}},"-",{"$f":"IFERROR(IF($AA$19=DBLOGIC!$B$5,VLOOKUP(H45,TABDESPENGETAHUAN,2),IF($AA$19=DBLOGIC!$B$6,VLOOKUP(H45,DESKPENGETAHUANSM1,#REF!),\"-\")),\"-\")","v":"-"},null,null,null,{"$f":"#REF!","v":{"$error":"#REF!"}},{"$f":"VLOOKUP($AB$14,TABNILSM1,#REF!)","v":{"$error":"#REF!"}},"-",{"$f":"IFERROR(IF($AA$19=DBLOGIC!$B$5,VLOOKUP(O45,TABDESKETERAMPILAN,2),IF($AA$19=DBLOGIC!$B$6,VLOOKUP(O45,DESKKETERAMPILANSM1,#REF!),\"-\")),\"-\")","v":"-"}]
[{"$f":"#REF!","v":{"$error":"#REF!"}},{"$f":"#REF!","v":{"$error":"#REF!"}},null,null,null,{"$f":"#REF!","v":{"$error":"#REF!"}},{"$f":"VLOOKUP($AB$14,TABNILSM1,#REF!)","v":{"$error":"#REF!"}},"-",{"$f":"IFERROR(IF($AA$19=DBLOGIC!$B$5,VLOOKUP(H46,TABDESPENGETAHUAN,2),IF($AA$19=DBLOGIC!$B$6,VLOOKUP(H46,DESKPENGETAHUANSM1,#REF!),\"-\")),\"-\")","v":"-"},null,null,null,{"$f":"#REF!","v":{"$error":"#REF!"}},{"$f":"VLOOKUP($AB$14,TABNILSM1,#REF!)","v":{"$error":"#REF!"}},"-",{"$f":"IFERROR(IF($AA$19=DBLOGIC!$B$5,VLOOKUP(O46,TABDESKETERAMPILAN,2),IF($AA$19=DBLOGIC!$B$6,VLOOKUP(O46,DESKKETERAMPILANSM1,#REF!),\"-\")),\"-\")","v":"-"}]
[{"$f":"#REF!","v":{"$error":"#REF!"}},{"$f":"#REF!","v":{"$error":"#REF!"}},null,null,null,{"$f":"#REF!","v":{"$error":"#REF!"}},{"$f":"VLOOKUP($AB$14,TABNILSM1,#REF!)","v":{"$error":"#REF!"}},"-",{"$f":"IFERROR(IF($AA$19=DBLOGIC!$B$5,VLOOKUP(H47,TABDESPENGETAHUAN,2),IF($AA$19=DBLOGIC!$B$6,VLOOKUP(H47,DESKPENGETAHUANSM1,#REF!),\"-\")),\"-\")","v":"-"},null,null,null,{"$f":"#REF!","v":{"$error":"#REF!"}},{"$f":"VLOOKUP($AB$14,TABNILSM1,#REF!)","v":{"$error":"#REF!"}},"-",{"$f":"IFERROR(IF($AA$19=DBLOGIC!$B$5,VLOOKUP(O47,TABDESKETERAMPILAN,2),IF($AA$19=DBLOGIC!$B$6,VLOOKUP(O47,DESKKETERAMPILANSM1,#REF!),\"-\")),\"-\")","v":"-"}]
["C3","Paket Keahlian"]
[{"$f":"#REF!","v":{"$error":"#REF!"}},{"$f":"#REF!","v":{"$error":"#REF!"}},null,null,null,{"$f":"#REF!","v":{"$error":"#REF!"}},{"$f":"VLOOKUP($AB$14,TABNILSM1,#REF!)","v":{"$error":"#REF!"}},"-",{"$f":"IFERROR(IF($AA$19=DBLOGIC!$B$5,VLOOKUP(H49,TABDESPENGETAHUAN,2),IF($AA$19=DBLOGIC!$B$6,VLOOKUP(H49,DESKPENGETAHUANSM1,#REF!),\"-\")),\"-\")","v":"-"},null,null,null,{"$f":"#REF!","v":{"$error":"#REF!"}},{"$f":"VLOOKUP($AB$14,TABNILSM1,#REF!)","v":{"$error":"#REF!"}},"-",{"$f":"IFERROR(IF($AA$19=DBLOGIC!$B$5,VLOOKUP(O49,TABDESKETERAMPILAN,2),IF($AA$19=DBLOGIC!$B$6,VLOOKUP(O49,DESKKETERAMPILANSM1,#REF!),\"-\")),\"-\")","v":"-"}]
[{"$f":"#REF!","v":{"$error":"#REF!"}},{"$f":"#REF!","v":{"$error":"#REF!"}},null,null,null,{"$f":"#REF!","v":{"$error":"#REF!"}},{"$f":"VLOOKUP($AB$14,TABNILSM1,#REF!)","v":{"$error":"#REF!"}},{"$f":"IFERROR(VLOOKUP(G50,GRADE_MAPELAB,4),\"-\")","v":"-"},{"$f":"IFERROR(IF($AA$19=DBLOGIC!$B$5,VLOOKUP(H50,TABDESPENGETAHUAN,2),IF($AA$19=DBLOGIC!$B$6,VLOOKUP(H50,DESKMANUPENGETAHUAN,2),\"-\")),\"-\")","v":"-"},null,null,null,{"$f":"#REF!","v":{"$error":"#REF!"}},{"$f":"VLOOKUP($AB$14,TABNILSM1,#REF!)","v":{"$error":"#REF!"}},{"$f":"IFERROR(VLOOKUP(N50,GRADE_MAPELAB,4),\"-\")","v":"-"},{"$f":"IFERROR(IF($AA$19=DBLOGIC!$B$5,VLOOKUP(O50,TABDESKETERAMPILAN,2),IF($AA$19=DBLOGIC!$B$6,VLOOKUP(O50,DESKMANUKETERAMPILAN,2),\"-\")),\"-\")","v":"-"}]
[{"$f":"#REF!","v":{"$error":"#REF!"}},{"$f":"#REF!","v":{"$error":"#REF!"}},null,null,null,{"$f":"#REF!","v":{"$error":"#REF!"}},{"$f":"VLOOKUP($AB$14,TABNILSM1,#REF!)","v":{"$error":"#REF!"}},"-",{"$f":"IFERROR(IF($AA$19=DBLOGIC!$B$5,VLOOKUP(H51,TABDESPENGETAHUAN,2),IF($AA$19=DBLOGIC!$B$6,VLOOKUP(H51,DESKMANUPENGETAHUAN,2),\"-\")),\"-\")","v":"-"},null,null,null,{"$f":"#REF!","v":{"$error":"#REF!"}},{"$f":"VLOOKUP($AB$14,TABNILSM1,#REF!)","v":{"$error":"#REF!"}},"-",{"$f":"IFERROR(IF($AA$19=DBLOGIC!$B$5,VLOOKUP(O51,TABDESKETERAMPILAN,2),IF($AA$19=DBLOGIC!$B$6,VLOOKUP(O51,DESKMANUKETERAMPILAN,2),\"-\")),\"-\")","v":"-"}]
[{"$f":"#REF!","v":{"$error":"#REF!"}},{"$f":"#REF!","v":{"$error":"#REF!"}},null,null,null,{"$f":"#REF!","v":{"$error":"#REF!"}},{"$f":"VLOOKUP($AB$14,TABNILSM1,#REF!)","v":{"$error":"#REF!"}},"-",{"$f":"IFERROR(IF($AA$19=DBLOGIC!$B$5,VLOOKUP(H52,TABDESPENGETAHUAN,2),IF($AA$19=DBLOGIC!$B$6,VLOOKUP(H52,DESKMANUPENGETAHUAN,2),\"-\")),\"-\")","v":"-"},null,null,null,{"$f":"#REF!","v":{"$error":"#REF!"}},{"$f":"VLOOKUP($AB$14,TABNILSM1,#REF!)","v":{"$error":"#REF!"}},"-",{"$f":"IFERROR(IF($AA$19=DBLOGIC!$B$5,VLOOKUP(O52,TABDESKETERAMPILAN,2),IF($AA$19=DBLOGIC!$B$6,VLOOKUP(O52,DESKMANUKETERAMPILAN,2),\"-\")),\"-\")","v":"-"}]
[{"$f":"#REF!","v":{"$error":"#REF!"}},{"$f":"#REF!","v":{"$error":"#REF!"}},null,null,null,{"$f":"#REF!","v":{"$error":"#REF!"}},{"$f":"VLOOKUP($AB$14,TABNILSM1,#REF!)","v":{"$error":"#REF!"}},"-",{"$f":"IFERROR(IF($AA$19=DBLOGIC!$B$5,VLOOKUP(H53,TABDESPENGETAHUAN,2),IF($AA$19=DBLOGIC!$B$6,VLOOKUP(H53,DESKMANUPENGETAHUAN,2),\"-\")),\"-\")","v":"-"},null,null,null,{"$f":"#REF!","v":{"$error":"#REF!"}},{"$f":"VLOOKUP($AB$14,TABNILSM1,#REF!)","v":{"$error":"#REF!"}},"-",{"$f":"IFERROR(IF($AA$19=DBLOGIC!$B$5,VLOOKUP(O53,TABDESKETERAMPILAN,2),IF($AA$19=DBLOGIC!$B$6,VLOOKUP(O53,DESKMANUKETERAMPILAN,2),\"-\")),\"-\")","v":"-"}]
[{"$f":"#REF!","v":{"$error":"#REF!"}},{"$f":"#REF!","v":{"$error":"#REF!"}},null,null,null,{"$f":"#REF!","v":{"$error":"#REF!"}},{"$f":"VLOOKUP($AB$14,TABNILSM1,#REF!)","v":{"$error":"#REF!"}},"-",{"$f":"IFERROR(IF($AA$19=DBLOGIC!$B$5,VLOOKUP(H54,TABDESPENGETAHUAN,2),IF($AA$19=DBLOGIC!$B$6,VLOOKUP(H54,DESKMANUPENGETAHUAN,2),\"-\")),\"-\")","v":"-"},null,null,null,{"$f":"#REF!","v":{"$error":"#REF!"}},{"$f":"VLOOKUP($AB$14,TABNILSM1,#REF!)","v":{"$error":"#REF!"}},"-",{"$f":"IFERROR(IF($AA$19=DBLOGIC!$B$5,VLOOKUP(O54,TABDESKETERAMPILAN,2),IF($AA$19=DBLOGIC!$B$6,VLOOKUP(O54,DESKMANUKETERAMPILAN,2),\"-\")),\"-\")","v":"-"}]
[{"$f":"#REF!","v":{"$error":"#REF!"}},{"$f":"#REF!","v":{"$error":"#REF!"}},null,null,null,{"$f":"#REF!","v":{"$error":"#REF!"}},{"$f":"VLOOKUP($AB$14,TABNILSM1,#REF!)","v":{"$error":"#REF!"}},"-",{"$f":"IFERROR(IF($AA$19=DBLOGIC!$B$5,VLOOKUP(H55,TABDESPENGETAHUAN,2),IF($AA$19=DBLOGIC!$B$6,VLOOKUP(H55,DESKMANUPENGETAHUAN,2),\"-\")),\"-\")","v":"-"},null,null,null,{"$f":"#REF!","v":{"$error":"#REF!"}},{"$f":"VLOOKUP($AB$14,TABNILSM1,#REF!)","v":{"$error":"#REF!"}},"-",{"$f":"IFERROR(IF($AA$19=DBLOGIC!$B$5,VLOOKUP(O55,TABDESKETERAMPILAN,2),IF($AA$19=DBLOGIC!$B$6,VLOOKUP(O55,DESKMANUKETERAMPILAN,2),\"-\")),\"-\")","v":"-"}]
[null,"Rata-rata",null,null,null,null,{"$f":"VLOOKUP($AB$14,TABNILSM1,#REF!)","v":{"$error":"#REF!"}},{"$f":"VLOOKUP(G56,GRADE_MAPELAB,4)","v":{"$error":"#REF!"}},null,null,null,null,null,{"$f":"VLOOKUP($AB$14,TABNILSM1,#REF!)","v":{"$error":"#REF!"}},{"$f":"VLOOKUP(N56,GRADE_MAPELAB,4)","v":{"$error":"#REF!"}},null,"Total Nilai :",null,null,"Peringkat di Kelas :"]
[null,"Jumlah Nilai",null,null,null,null,{"$f":"VLOOKUP($AB$14,TABNILSM1,#REF!)","v":{"$error":"#REF!"}},null,null,null,null,null,null,{"$f":"VLOOKUP($AB$14,TABNILSM1,#REF!)","v":{"$error":"#REF!"}},null,null,{"$f":"VLOOKUP($AB$14,TABNILSM1,#REF!)","v":{"$error":"#REF!"}},null,null,{"$f":"IF(VLOOKUP($AB$14,TABNILSM1,#REF!)=\"\",\"-\",VLOOKUP($AB$14,TABNILSM1,#REF!)&\" dari \"&VLOOKUP($AB$14,TABNILSM1,#REF!))","v":{"$error":"#REF!"}}]
[]
["C.  Praktek Kerja Lapangan",null,null,null,null,null,null,null,null,null,null,null,"D.  Ekstrakurikuler"]
["No.","Mitra DU/DI",null,null,null,null,"Lokasi",null,null,"Lamanya (Bulan)","Keterangan",null,"No.","Kegiatan Ekstrakurikuler",null,null,null,"Keterangan",null,null,null,null,null,null,null,null,{"$f":"D8","v":{"$error":"#REF!"}}]
[1,{"$f":"IF(VLOOKUP($AB$14,TABNILSM1,#REF!)=\"\",\"-\",VLOOKUP($AB$14,TABNILSM1,#REF!))","v":{"$error":"#REF!"}},null,null,null,null,{"$f":"IF(VLOOKUP($AB$14,TABNILSM1,#REF!)=\"\",\"-\",VLOOKUP($AB$14,TABNILSM1,#REF!))","v":{"$error":"#REF!"}},null,null,{"$f":"IF(VLOOKUP($AB$14,TABNILSM1,#REF!)=\"\",\"-\",VLOOKUP($AB$14,TABNILSM1,#REF!))","v":{"$error":"#REF!"}},{"$f":"IF(VLOOKUP($AB$14,TABNILSM1,#REF!)=\"\",\"-\",VLOOKUP($AB$14,TABNILSM1,#REF!))","v":{"$error":"#REF!"}},null,1,{"$f":"IF(VLOOKUP($AB$14,TABNILSM1,#REF!)=\"\",\"-\",VLOOKUP($AB$14,TABNILSM1,#REF!))","v":{"$error":"#REF!"}},null,null,null,{"$f":"IF(VLOOKUP($AB$14,TABNILSM1,#REF!)=\"\",\"-\",VLOOKUP(W61,TABNESKUL,2,FALSE))","v":{"$error":"#REF!"}},null,null,null,null,{"$f":"VLOOKUP($AB$14,TABNILSM1,#REF!)","v":{"$error":"#REF!"}}]
[null,null,null,null,null,null,null,null,null,null,null,null,2,{"$f":"IF(VLOOKUP($AB$14,TABNILSM1,#REF!)=\"\",\"-\",VLOOKUP($AB$14,TABNILSM1,#REF!))","v":{"$error":"#REF!"}},null,null,null,{"$f":"IF(VLOOKUP($AB$14,TABNILSM1,#REF!)=\"\",\"-\",VLOOKUP(W62,TABNESKUL,2,FALSE))","v":{"$error":"#REF!"}},null,null,null,null,{"$f":"VLOOKUP($AB$14,TABNILSM1,#REF!)","v":{"$error":"#REF!"}}]
[2,{"$f":"IF(VLOOKUP($AB$14,TABNILSM1,#REF!)=\"\",\"-\",VLOOKUP($AB$14,TABNILSM1,#REF!))","v":{"$error":"#REF!"}},null,null,null,null,{"$f":"IF(VLOOKUP($AB$14,TABNILSM1,#REF!)=\"\",\"-\",VLOOKUP($AB$14,TABNILSM1,#REF!))","v":{"$error":"#REF!"}},null,null,{"$f":"IF(VLOOKUP($AB$14,TABNILSM1,#REF!)=\"\",\"-\",VLOOKUP($AB$14,TABNILSM1,#REF!))","v":{"$error":"#REF!"}},{"$f":"IF(VLOOKUP($AB$14,TABNILSM1,#REF!)=\"\",\"-\",VLOOKUP($AB$14,TABNILSM1,#REF!))","v":{"$error":"#REF!"}},null,3,{"$f":"IF(VLOOKUP($AB$14,TABNILSM1,#REF!)=\"\",\"-\",VLOOKUP($AB$14,TABNILSM1,#REF!))","v":{"$error":"#REF!"}},null,null,null,{"$f":"IF(VLOOKUP($AB$14,TABNILSM1,#REF!)=\"\",\"-\",VLOOKUP(W63,TABNESKUL,2,FALSE))","v":{"$error":"#REF!"}},null,null,null,null,{"$f":"VLOOKUP($AB$14,TABNILSM1,#REF!)","v":{"$error":"#REF!"}},null,null,null,{"$f":"\"Nomor Urut \"&AB14","v":"Nomor Urut 2"}]

{"sheet":"CETSM8","index":8,"n_rows":58,"n_cols":20,"rows_kept":58,"cut":false,"hidden":false,"merged":[[0,2,0,11],[1,2,1,11],[4,16,4,17],[4,18,4,19],[5,16,6,16],[5,17,6,17],[5,18,6,18],[5,19,6,19],[7,19,8,19],[10,2,11,2],[10,3,11,3],[10,4,11,4],[10,5,10,6],[10,7,10,8],[10,9,10,10],[23,2,23,5],[24,3,24,5],[7,16,8,16],[7,17,8,17],[7,18,8,18],[51,16,52,18],[10,11,11,11],[11,16,11,17],[12,16,13,16],[12,17,13,17],[28,3,28,5],[45,2,45,4],[45,6,45,11],[47,2,47,11],[49,16,50,18]]}
[null,null,"KARTU HASIL STUDI (KHS) PESERTA DIDIK",null,null,null,null,null,null,null,null,null,null,null,null,null,"JURUSAN",{"$f":"MENU!F8","v":"TBSM"}]
[null,null,"SMK NEGERI 1 KARAWANG",null,null,null,null,null,null,null,null,null,null,null,null,null,"NIS",{"$f":"VLOOKUP($R$13,TAB_BIODATA,BIODATA!D4,FALSE)","v":16170449}]
[]
[null,null,null,"Nama Peserta Didik",":",{"$f":"VLOOKUP($R$13,TAB_BIODATA,BIODATA!C4,FALSE)","v":"ADAM MAULANA RIZALDI"}]
[null,null,null,"Nomor Induk/NISN",":",{"$f":"IF(VLOOKUP($R$13,TAB_BIODATA,BIODATA!E4)=\"\",VLOOKUP($R$13,TAB_BIODATA,BIODATA!D4,FALSE),VLOOKUP($R$13,TAB_BIODATA,BIODATA!D4)&\" / \"&VLOOKUP($R$13,TAB_BIODATA,BIODATA!E4,FALSE))","v":"16170449 / 0013261209"},null,null,null,null,null,null,null,null,null,null,"DATA CETAK",null,"HALAMAN CETAK"]
[null,null,null,"Kelas",":",{"$f":"IF(OR(F8=\"1 (satu)\",F8=\"2 (dua)\"),\"X \"&MENU!F9,IF(OR(F8=\"3 (tiga)\",F8=\"4 (empat)\"),\"XI \"&MENU!F9,IF(OR(F8=\"5 (lima)\",F8=\"6 (enam)\"),\"XII \"&MENU!F9,IF(OR(F8=\"7 (tujuh)\",F8=\"8 (delapan)\"),\"XIII \"&MENU!F9,\"\"))))","v":"XIII TBSM 2"},null,null,null,null,null,null,null,null,null,null,"Dari data ke",1,"Dari",1]
[null,null,null,"Tahun Pelajaran",":",{"$f":"RIGHT(NILSM8!A2,11)","v":"2020 / 2021"}]
[null,null,null,"Semester",":",{"$f":"NILSM8!B3","v":"8 (delapan)"},null,null,null,null,null,null,null,null,null,null,"Sampai data ke",2,"Ke",1]
[]
[null,null,"Nilai Akademik"]
[null,null,"No.","Mata Pelajaran","KKM","KD 1",null,"KD 2",null,"KD 3",null,"Kehadiran"]
[null,null,null,null,null,"Tugas","Ulangan","Tugas","Ulangan","Tugas","Ulangan",null,null,null,null,null,"TAMPILAN DATA"]
[null,null,"A. Muatan Nasional",null,null,"T1","U1","T2","U2","T3","U3","H",null,null,null,null,"Nomor Urut",2]
["PAB",{"$f":"IF(C14>=1,1,0)","v":0},{"$f":"HLOOKUP(A14&$F$13,TABNILSM8,4,FALSE)","v":0},{"$f":"HLOOKUP(A14&$F$13,TABNILSM8,2,FALSE)","v":{"$error":"#N/A"}},{"$f":"IFERROR(HLOOKUP(A14&$F$13,TABNILSM8,5,FALSE),\"-\")","v":78},{"$f":"INDEX(TABNILSM8,MATCH($R$2,NILSM8!$C$1:$C$43,0),MATCH(A14&$F$13,NILSM8!$C$1:$FR$1,0))","v":11},{"$f":"INDEX(TABNILSM8,MATCH($R$2,NILSM8!$C$1:$C$43,0),MATCH(A14&$G$13,NILSM8!$C$1:$FR$1,0))","v":12},{"$f":"INDEX(TABNILSM8,MATCH($R$2,NILSM8!$C$1:$C$43,0),MATCH(A14&$H$13,NILSM8!$C$1:$FR$1,0))","v":13},{"$f":"INDEX(TABNILSM8,MATCH($R$2,NILSM8!$C$1:$C$43,0),MATCH(A14&$I$13,NILSM8!$C$1:$FR$1,0))","v":14},{"$f":"INDEX(TABNILSM8,MATCH($R$2,NILSM8!$C$1:$C$43,0),MATCH(A14&$J$13,NILSM8!$C$1:$FR$1,0))","v":15},{"$f":"INDEX(TABNILSM8,MATCH($R$2,NILSM8!$C$1:$C$43,0),MATCH(A14&$K$13,NILSM8!$C$1:$FR$1,0))","v":16},{"$f":"INDEX(TABNILSM8,MATCH($R$2,NILSM8!$C$1:$C$43,0),MATCH(A14&$L$13,NILSM8!$C$1:$FR$1,0))","v":17}]
["PKN",{"$f":"IF(C15>=1,1,0)","v":{"$error":"#N/A"}},{"$error":"#N/A"},{"$error":"#N/A"},78,{"$f":"INDEX(TABNILSM8,MATCH($R$2,NILSM8!$C$1:$C$43,0),MATCH(A15&$F$13,NILSM8!$C$1:$FR$1,0))","v":18},{"$f":"INDEX(TABNILSM8,MATCH($R$2,NILSM8!$C$1:$C$43,0),MATCH(A15&$G$13,NILSM8!$C$1:$FR$1,0))","v":19},{"$f":"INDEX(TABNILSM8,MATCH($R$2,NILSM8!$C$1:$C$43,0),MATCH(A15&$H$13,NILSM8!$C$1:$FR$1,0))","v":20},{"$f":"INDEX(TABNILSM8,MATCH($R$2,NILSM8!$C$1:$C$43,0),MATCH(A15&$I$13,NILSM8!$C$1:$FR$1,0))","v":21},{"$f":"INDEX(TABNILSM8,MATCH($R$2,NILSM8!$C$1:$C$43,0),MATCH(A15&$J$13,NILSM8!$C$1:$FR$1,0))","v":22},{"$f":"INDEX(TABNILSM8,MATCH($R$2,NILSM8!$C$1:$C$43,0),MATCH(A15&$K$13,NILSM8!$C$1:$FR$1,0))","v":23},{"$f":"INDEX(TABNILSM8,MATCH($R$2,NILSM8!$C$1:$C$43,0),MATCH(A15&$L$13,NILSM8!$C$1:$FR$1,0))","v":24}]
["IND",{"$error":"#N/A"},{"$error":"#N/A"},{"$error":"#N/A"},78,{"$f":"INDEX(TABNILSM8,MATCH($R$2,NILSM8!$C$1:$C$43,0),MATCH(A16&$F$13,NILSM8!$C$1:$FR$1,0))","v":25},{"$f":"INDEX(TABNILSM8,MATCH($R$2,NILSM8!$C$1:$C$43,0),MATCH(A16&$G$13,NILSM8!$C$1:$FR$1,0))","v":26},{"$f":"INDEX(TABNILSM8,MATCH($R$2,NILSM8!$C$1:$C$43,0),MATCH(A16&$H$13,NILSM8!$C$1:$FR$1,0))","v":27},{"$f":"INDEX(TABNILSM8,MATCH($R$2,NILSM8!$C$1:$C$43,0),MATCH(A16&$I$13,NILSM8!$C$1:$FR$1,0))","v":28},{"$f":"INDEX(TABNILSM8,MATCH($R$2,NILSM8!$C$1:$C$43,0),MATCH(A16&$J$13,NILSM8!$C$1:$FR$1,0))","v":29},{"$f":"INDEX(TABNILSM8,MATCH($R$2,NILSM8!$C$1:$C$43,0),MATCH(A16&$K$13,NILSM8!$C$1:$FR$1,0))","v":30},{"$f":"INDEX(TABNILSM8,MATCH($R$2,NILSM8!$C$1:$C$43,0),MATCH(A16&$L$13,NILSM8!$C$1:$FR$1,0))","v":31}]
["MTK",{"$error":"#N/A"},{"$error":"#N/A"},{"$error":"#N/A"},78,{"$f":"INDEX(TABNILSM8,MATCH($R$2,NILSM8!$C$1:$C$43,0),MATCH(A17&$F$13,NILSM8!$C$1:$FR$1,0))","v":32},{"$f":"INDEX(TABNILSM8,MATCH($R$2,NILSM8!$C$1:$C$43,0),MATCH(A17&$G$13,NILSM8!$C$1:$FR$1,0))","v":33},{"$f":"INDEX(TABNILSM8,MATCH($R$2,NILSM8!$C$1:$C$43,0),MATCH(A17&$H$13,NILSM8!$C$1:$FR$1,0))","v":34},{"$f":"INDEX(TABNILSM8,MATCH($R$2,NILSM8!$C$1:$C$43,0),MATCH(A17&$I$13,NILSM8!$C$1:$FR$1,0))","v":35},{"$f":"INDEX(TABNILSM8,MATCH($R$2,NILSM8!$C$1:$C$43,0),MATCH(A17&$J$13,NILSM8!$C$1:$FR$1,0))","v":36},{"$f":"INDEX(TABNILSM8,MATCH($R$2,NILSM8!$C$1:$C$43,0),MATCH(A17&$K$13,NILSM8!$C$1:$FR$1,0))","v":37},{"$f":"INDEX(TABNILSM8,MATCH($R$2,NILSM8!$C$1:$C$43,0),MATCH(A17&$L$13,NILSM8!$C$1:$FR$1,0))","v":38}]
["SJI",{"$error":"#N/A"},{"$error":"#N/A"},{"$error":"#N/A"},78,{"$f":"INDEX(TABNILSM8,MATCH($R$2,NILSM8!$C$1:$C$43,0),MATCH(A18&$F$13,NILSM8!$C$1:$FR$1,0))","v":39},{"$f":"INDEX(TABNILSM8,MATCH($R$2,NILSM8!$C$1:$C$43,0),MATCH(A18&$G$13,NILSM8!$C$1:$FR$1,0))","v":40},{"$f":"INDEX(TABNILSM8,MATCH($R$2,NILSM8!$C$1:$C$43,0),MATCH(A18&$H$13,NILSM8!$C$1:$FR$1,0))","v":41},{"$f":"INDEX(TABNILSM8,MATCH($R$2,NILSM8!$C$1:$C$43,0),MATCH(A18&$I$13,NILSM8!$C$1:$FR$1,0))","v":42},{"$f":"INDEX(TABNILSM8,MATCH($R$2,NILSM8!$C$1:$C$43,0),MATCH(A18&$J$13,NILSM8!$C$1:$FR$1,0))","v":43},{"$f":"INDEX(TABNILSM8,MATCH($R$2,NILSM8!$C$1:$C$43,0),MATCH(A18&$K$13,NILSM8!$C$1:$FR$1,0))","v":44},{"$f":"INDEX(TABNILSM8,MATCH($R$2,NILSM8!$C$1:$C$43,0),MATCH(A18&$L$13,NILSM8!$C$1:$FR$1,0))","v":45}]
["ING",{"$error":"#N/A"},{"$error":"#N/A"},{"$error":"#N/A"},78,{"$f":"INDEX(TABNILSM8,MATCH($R$2,NILSM8!$C$1:$C$43,0),MATCH(A19&$F$13,NILSM8!$C$1:$FR$1,0))","v":46},{"$f":"INDEX(TABNILSM8,MATCH($R$2,NILSM8!$C$1:$C$43,0),MATCH(A19&$G$13,NILSM8!$C$1:$FR$1,0))","v":47},{"$f":"INDEX(TABNILSM8,MATCH($R$2,NILSM8!$C$1:$C$43,0),MATCH(A19&$H$13,NILSM8!$C$1:$FR$1,0))","v":48},{"$f":"INDEX(TABNILSM8,MATCH($R$2,NILSM8!$C$1:$C$43,0),MATCH(A19&$I$13,NILSM8!$C$1:$FR$1,0))","v":49},{"$f":"INDEX(TABNILSM8,MATCH($R$2,NILSM8!$C$1:$C$43,0),MATCH(A19&$J$13,NILSM8!$C$1:$FR$1,0))","v":50},{"$f":"INDEX(TABNILSM8,MATCH($R$2,NILSM8!$C$1:$C$43,0),MATCH(A19&$K$13,NILSM8!$C$1:$FR$1,0))","v":51},{"$f":"INDEX(TABNILSM8,MATCH($R$2,NILSM8!$C$1:$C$43,0),MATCH(A19&$L$13,NILSM8!$C$1:$FR$1,0))","v":52}]
["JER",{"$error":"#N/A"},{"$error":"#N/A"},{"$error":"#N/A"},78,{"$f":"INDEX(TABNILSM8,MATCH($R$2,NILSM8!$C$1:$C$43,0),MATCH(A20&$F$13,NILSM8!$C$1:$FR$1,0))","v":53},{"$f":"INDEX(TABNILSM8,MATCH($R$2,NILSM8!$C$1:$C$43,0),MATCH(A20&$G$13,NILSM8!$C$1:$FR$1,0))","v":54},{"$f":"INDEX(TABNILSM8,MATCH($R$2,NILSM8!$C$1:$C$43,0),MATCH(A20&$H$13,NILSM8!$C$1:$FR$1,0))","v":55},{"$f":"INDEX(TABNILSM8,MATCH($R$2,NILSM8!$C$1:$C$43,0),MATCH(A20&$I$13,NILSM8!$C$1:$FR$1,0))","v":56},{"$f":"INDEX(TABNILSM8,MATCH($R$2,NILSM8!$C$1:$C$43,0),MATCH(A20&$J$13,NILSM8!$C$1:$FR$1,0))","v":57},{"$f":"INDEX(TABNILSM8,MATCH($R$2,NILSM8!$C$1:$C$43,0),MATCH(A20&$K$13,NILSM8!$C$1:$FR$1,0))","v":58},{"$f":"INDEX(TABNILSM8,MATCH($R$2,NILSM8!$C$1:$C$43,0),MATCH(A20&$L$13,NILSM8!$C$1:$FR$1,0))","v":59}]
[null,{"$f":"IF(AND(COUNT(C21)=0,C23=0),0,1)","v":{"$error":"#N/A"}},"B. Muatan Kewilayahan"]
["SBD",{"$error":"#N/A"},{"$f":"HLOOKUP(A22&$F$13,TABNILSM8,4,FALSE)","v":{"$error":"#N/A"}},{"$f":"HLOOKUP(A22&$F$13,TABNILSM8,2,FALSE)","v":{"$error":"#N/A"}},{"$f":"IFERROR(HLOOKUP(A22&$F$13,TABNILSM8,5,FALSE),\"-\")","v":78},{"$f":"INDEX(TABNILSM8,MATCH($R$2,NILSM8!$C$1:$C$43,0),MATCH(A22&$F$13,NILSM8!$C$1:$FR$1,0))","v":60},{"$f":"INDEX(TABNILSM8,MATCH($R$2,NILSM8!$C$1:$C$43,0),MATCH(A22&$G$13,NILSM8!$C$1:$FR$1,0))","v":61},{"$f":"INDEX(TABNILSM8,MATCH($R$2,NILSM8!$C$1:$C$43,0),MATCH(A22&$H$13,NILSM8!$C$1:$FR$1,0))","v":62},{"$f":"INDEX(TABNILSM8,MATCH($R$2,NILSM8!$C$1:$C$43,0),MATCH(A22&$I$13,NILSM8!$C$1:$FR$1,0))","v":63},{"$f":"INDEX(TABNILSM8,MATCH($R$2,NILSM8!$C$1:$C$43,0),MATCH(A22&$J$13,NILSM8!$C$1:$FR$1,0))","v":64},{"$f":"INDEX(TABNILSM8,MATCH($R$2,NILSM8!$C$1:$C$43,0),MATCH(A22&$K$13,NILSM8!$C$1:$FR$1,0))","v":65},{"$f":"INDEX(TABNILSM8,MATCH($R$2,NILSM8!$C$1:$C$43,0),MATCH(A22&$L$13,NILSM8!$C$1:$FR$1,0))","v":66}]
["PJO",{"$error":"#N/A"},{"$f":"HLOOKUP(A23&$F$13,TABNILSM8,4,FALSE)","v":{"$error":"#N/A"}},{"$f":"HLOOKUP(A23&$F$13,TABNILSM8,2,FALSE)","v":{"$error":"#N/A"}},{"$f":"IFERROR(HLOOKUP(A23&$F$13,TABNILSM8,5,FALSE),\"-\")","v":78},{"$f":"INDEX(TABNILSM8,MATCH($R$2,NILSM8!$C$1:$C$43,0),MATCH(A23&$F$13,NILSM8!$C$1:$FR$1,0))","v":67},{"$f":"INDEX(TABNILSM8,MATCH($R$2,NILSM8!$C$1:$C$43,0),MATCH(A23&$G$13,NILSM8!$C$1:$FR$1,0))","v":68},{"$f":"INDEX(TABNILSM8,MATCH($R$2,NILSM8!$C$1:$C$43,0),MATCH(A23&$H$13,NILSM8!$C$1:$FR$1,0))","v":69},{"$f":"INDEX(TABNILSM8,MATCH($R$2,NILSM8!$C$1:$C$43,0),MATCH(A23&$I$13,NILSM8!$C$1:$FR$1,0))","v":70},{"$f":"INDEX(TABNILSM8,MATCH($R$2,NILSM8!$C$1:$C$43,0),MATCH(A23&$J$13,NILSM8!$C$1:$FR$1,0))","v":71},{"$f":"INDEX(TABNILSM8,MATCH($R$2,NILSM8!$C$1:$C$43,0),MATCH(A23&$K$13,NILSM8!$C$1:$FR$1,0))","v":72},{"$f":"INDEX(TABNILSM8,MATCH($R$2,NILSM8!$C$1:$C$43,0),MATCH(A23&$L$13,NILSM8!$C$1:$FR$1,0))","v":73}]
["-",1,"C. Muatan Peminatan Kejuruan"]
[null,{"$f":"IF(AND(COUNT(C25)=0,C26=0),0,1)","v":{"$error":"#N/A"}},"C1","Dasar Bidang Keahlian"]
["SKD",{"$f":"IF(C26>=1,1,0)","v":{"$error":"#N/A"}},{"$f":"HLOOKUP(A26&$F$13,TABNILSM8,4,FALSE)","v":{"$error":"#N/A"}},{"$f":"HLOOKUP(A26&$F$13,TABNILSM8,2,FALSE)","v":{"$error":"#N/A"}},{"$f":"IFERROR(HLOOKUP(A26&$F$13,TABNILSM8,5,FALSE),\"-\")","v":78},{"$f":"INDEX(TABNILSM8,MATCH($R$2,NILSM8!$C$1:$C$43,0),MATCH(A26&$F$13,NILSM8!$C$1:$FR$1,0))","v":74},{"$f":"INDEX(TABNILSM8,MATCH($R$2,NILSM8!$C$1:$C$43,0),MATCH(A26&$G$13,NILSM8!$C$1:$FR$1,0))","v":75},{"$f":"INDEX(TABNILSM8,MATCH($R$2,NILSM8!$C$1:$C$43,0),MATCH(A26&$H$13,NILSM8!$C$1:$FR$1,0))","v":76},{"$f":"INDEX(TABNILSM8,MATCH($R$2,NILSM8!$C$1:$C$43,0),MATCH(A26&$I$13,NILSM8!$C$1:$FR$1,0))","v":77},{"$f":"INDEX(TABNILSM8,MATCH($R$2,NILSM8!$C$1:$C$43,0),MATCH(A26&$J$13,NILSM8!$C$1:$FR$1,0))","v":78},{"$f":"INDEX(TABNILSM8,MATCH($R$2,NILSM8!$C$1:$C$43,0),MATCH(A26&$K$13,NILSM8!$C$1:$FR$1,0))","v":79},{"$f":"INDEX(TABNILSM8,MATCH($R$2,NILSM8!$C$1:$C$43,0),MATCH(A26&$L$13,NILSM8!$C$1:$FR$1,0))","v":80}]
["FIS",{"$error":"#N/A"},{"$f":"HLOOKUP(A27&$F$13,TABNILSM8,4,FALSE)","v":{"$error":"#N/A"}},{"$f":"HLOOKUP(A27&$F$13,TABNILSM8,2,FALSE)","v":{"$error":"#N/A"}},{"$f":"IFERROR(HLOOKUP(A27&$F$13,TABNILSM8,5,FALSE),\"-\")","v":78},{"$f":"INDEX(TABNILSM8,MATCH($R$2,NILSM8!$C$1:$C$43,0),MATCH(A27&$F$13,NILSM8!$C$1:$FR$1,0))","v":81},{"$f":"INDEX(TABNILSM8,MATCH($R$2,NILSM8!$C$1:$C$43,0),MATCH(A27&$G$13,NILSM8!$C$1:$FR$1,0))","v":82},{"$f":"INDEX(TABNILSM8,MATCH($R$2,NILSM8!$C$1:$C$43,0),MATCH(A27&$H$13,NILSM8!$C$1:$FR$1,0))","v":83},{"$f":"INDEX(TABNILSM8,MATCH($R$2,NILSM8!$C$1:$C$43,0),MATCH(A27&$I$13,NILSM8!$C$1:$FR$1,0))","v":84},{"$f":"INDEX(TABNILSM8,MATCH($R$2,NILSM8!$C$1:$C$43,0),MATCH(A27&$J$13,NILSM8!$C$1:$FR$1,0))","v":85},{"$f":"INDEX(TABNILSM8,MATCH($R$2,NILSM8!$C$1:$C$43,0),MATCH(A27&$K$13,NILSM8!$C$1:$FR$1,0))","v":86},{"$f":"INDEX(TABNILSM8,MATCH($R$2,NILSM8!$C$1:$C$43,0),MATCH(A27&$L$13,NILSM8!$C$1:$FR$1,0))","v":87}]
["KIM",{"$error":"#N/A"},{"$f":"HLOOKUP(A28&$F$13,TABNILSM8,4,FALSE)","v":{"$error":"#N/A"}},{"$f":"HLOOKUP(A28&$F$13,TABNILSM8,2,FALSE)","v":{"$error":"#N/A"}},{"$f":"IFERROR(HLOOKUP(A28&$F$13,TABNILSM8,5,FALSE),\"-\")","v":78},{"$f":"INDEX(TABNILSM8,MATCH($R$2,NILSM8!$C$1:$C$43,0),MATCH(A28&$F$13,NILSM8!$C$1:$FR$1,0))","v":88},{"$f":"INDEX(TABNILSM8,MATCH($R$2,NILSM8!$C$1:$C$43,0),MATCH(A28&$G$13,NILSM8!$C$1:$FR$1,0))","v":89},{"$f":"INDEX(TABNILSM8,MATCH($R$2,NILSM8!$C$1:$C$43,0),MATCH(A28&$H$13,NILSM8!$C$1:$FR$1,0))","v":90},{"$f":"INDEX(TABNILSM8,MATCH($R$2,NILSM8!$C$1:$C$43,0),MATCH(A28&$I$13,NILSM8!$C$1:$FR$1,0))","v":91},{"$f":"INDEX(TABNILSM8,MATCH($R$2,NILSM8!$C$1:$C$43,0),MATCH(A28&$J$13,NILSM8!$C$1:$FR$1,0))","v":92},{"$f":"INDEX(TABNILSM8,MATCH($R$2,NILSM8!$C$1:$C$43,0),MATCH(A28&$K$13,NILSM8!$C$1:$FR$1,0))","v":93},{"$f":"INDEX(TABNILSM8,MATCH($R$2,NILSM8!$C$1:$C$43,0),MATCH(A28&$L$13,NILSM8!$C$1:$FR$1,0))","v":94}]
[null,{"$f":"IF(AND(COUNT(C29)=0,C30=0),0,1)","v":{"$error":"#N/A"}},"C2","Dasar Program Keahlian"]
["C21",{"$error":"#N/A"},{"$f":"HLOOKUP(A30&$F$13,TABNILSM8,4,FALSE)","v":{"$error":"#N/A"}},{"$f":"HLOOKUP(A30&$F$13,TABNILSM8,2,FALSE)","v":{"$error":"#N/A"}},{"$f":"IFERROR(HLOOKUP(A30&$F$13,TABNILSM8,5,FALSE),\"-\")","v":78},{"$f":"INDEX(TABNILSM8,MATCH($R$2,NILSM8!$C$1:$C$43,0),MATCH(A30&$F$13,NILSM8!$C$1:$FR$1,0))","v":95},{"$f":"INDEX(TABNILSM8,MATCH($R$2,NILSM8!$C$1:$C$43,0),MATCH(A30&$G$13,NILSM8!$C$1:$FR$1,0))","v":96},{"$f":"INDEX(TABNILSM8,MATCH($R$2,NILSM8!$C$1:$C$43,0),MATCH(A30&$H$13,NILSM8!$C$1:$FR$1,0))","v":97},{"$f":"INDEX(TABNILSM8,MATCH($R$2,NILSM8!$C$1:$C$43,0),MATCH(A30&$I$13,NILSM8!$C$1:$FR$1,0))","v":98},{"$f":"INDEX(TABNILSM8,MATCH($R$2,NILSM8!$C$1:$C$43,0),MATCH(A30&$J$13,NILSM8!$C$1:$FR$1,0))","v":99},{"$f":"INDEX(TABNILSM8,MATCH($R$2,NILSM8!$C$1:$C$43,0),MATCH(A30&$K$13,NILSM8!$C$1:$FR$1,0))","v":100},{"$f":"INDEX(TABNILSM8,MATCH($R$2,NILSM8!$C$1:$C$43,0),MATCH(A30&$L$13,NILSM8!$C$1:$FR$1,0))","v":75}]
["C22",{"$error":"#N/A"},{"$f":"HLOOKUP(A31&$F$13,TABNILSM8,4,FALSE)","v":{"$error":"#N/A"}},{"$f":"HLOOKUP(A31&$F$13,TABNILSM8,2,FALSE)","v":{"$error":"#N/A"}},{"$f":"IFERROR(HLOOKUP(A31&$F$13,TABNILSM8,5,FALSE),\"-\")","v":78},{"$f":"INDEX(TABNILSM8,MATCH($R$2,NILSM8!$C$1:$C$43,0),MATCH(A31&$F$13,NILSM8!$C$1:$FR$1,0))","v":76},{"$f":"INDEX(TABNILSM8,MATCH($R$2,NILSM8!$C$1:$C$43,0),MATCH(A31&$G$13,NILSM8!$C$1:$FR$1,0))","v":77},{"$f":"INDEX(TABNILSM8,MATCH($R$2,NILSM8!$C$1:$C$43,0),MATCH(A31&$H$13,NILSM8!$C$1:$FR$1,0))","v":78},{"$f":"INDEX(TABNILSM8,MATCH($R$2,NILSM8!$C$1:$C$43,0),MATCH(A31&$I$13,NILSM8!$C$1:$FR$1,0))","v":79},{"$f":"INDEX(TABNILSM8,MATCH($R$2,NILSM8!$C$1:$C$43,0),MATCH(A31&$J$13,NILSM8!$C$1:$FR$1,0))","v":80},{"$f":"INDEX(TABNILSM8,MATCH($R$2,NILSM8!$C$1:$C$43,0),MATCH(A31&$K$13,NILSM8!$C$1:$FR$1,0))","v":81},{"$f":"INDEX(TABNILSM8,MATCH($R$2,NILSM8!$C$1:$C$43,0),MATCH(A31&$L$13,NILSM8!$C$1:$FR$1,0))","v":82}]
["C23",{"$error":"#N/A"},{"$f":"HLOOKUP(A32&$F$13,TABNILSM8,4,FALSE)","v":{"$error":"#N/A"}},{"$f":"HLOOKUP(A32&$F$13,TABNILSM8,2,FALSE)","v":{"$error":"#N/A"}},{"$f":"IFERROR(HLOOKUP(A32&$F$13,TABNILSM8,5,FALSE),\"-\")","v":78},{"$f":"INDEX(TABNILSM8,MATCH($R$2,NILSM8!$C$1:$C$43,0),MATCH(A32&$F$13,NILSM8!$C$1:$FR$1,0))","v":83},{"$f":"INDEX(TABNILSM8,MATCH($R$2,NILSM8!$C$1:$C$43,0),MATCH(A32&$G$13,NILSM8!$C$1:$FR$1,0))","v":84},{"$f":"INDEX(TABNILSM8,MATCH($R$2,NILSM8!$C$1:$C$43,0),MATCH(A32&$H$13,NILSM8!$C$1:$FR$1,0))","v":85},{"$f":"INDEX(TABNILSM8,MATCH($R$2,NILSM8!$C$1:$C$43,0),MATCH(A32&$I$13,NILSM8!$C$1:$FR$1,0))","v":86},{"$f":"INDEX(TABNILSM8,MATCH($R$2,NILSM8!$C$1:$C$43,0),MATCH(A32&$J$13,NILSM8!$C$1:$FR$1,0))","v":87},{"$f":"INDEX(TABNILSM8,MATCH($R$2,NILSM8!$C$1:$C$43,0),MATCH(A32&$K$13,NILSM8!$C$1:$FR$1,0))","v":88},{"$f":"INDEX(TABNILSM8,MATCH($R$2,NILSM8!$C$1:$C$43,0),MATCH(A32&$L$13,NILSM8!$C$1:$FR$1,0))","v":89}]
["C24",{"$error":"#N/A"},{"$f":"HLOOKUP(A33&$F$13,TABNILSM8,4,FALSE)","v":{"$error":"#N/A"}},{"$f":"HLOOKUP(A33&$F$13,TABNILSM8,2,FALSE)","v":{"$error":"#N/A"}},{"$f":"IFERROR(HLOOKUP(A33&$F$13,TABNILSM8,5,FALSE),\"-\")","v":78},{"$f":"INDEX(TABNILSM8,MATCH($R$2,NILSM8!$C$1:$C$43,0),MATCH(A33&$F$13,NILSM8!$C$1:$FR$1,0))","v":90},{"$f":"INDEX(TABNILSM8,MATCH($R$2,NILSM8!$C$1:$C$43,0),MATCH(A33&$G$13,NILSM8!$C$1:$FR$1,0))","v":91},{"$f":"INDEX(TABNILSM8,MATCH($R$2,NILSM8!$C$1:$C$43,0),MATCH(A33&$H$13,NILSM8!$C$1:$FR$1,0))","v":92},{"$f":"INDEX(TABNILSM8,MATCH($R$2,NILSM8!$C$1:$C$43,0),MATCH(A33&$I$13,NILSM8!$C$1:$FR$1,0))","v":93},{"$f":"INDEX(TABNILSM8,MATCH($R$2,NILSM8!$C$1:$C$43,0),MATCH(A33&$J$13,NILSM8!$C$1:$FR$1,0))","v":94},{"$f":"INDEX(TABNILSM8,MATCH($R$2,NILSM8!$C$1:$C$43,0),MATCH(A33&$K$13,NILSM8!$C$1:$FR$1,0))","v":95},{"$f":"INDEX(TABNILSM8,MATCH($R$2,NILSM8!$C$1:$C$43,0),MATCH(A33&$L$13,NILSM8!$C$1:$FR$1,0))","v":96}]
["-",{"$f":"IF(AND(COUNT(C34)=0,C37=0),0,1)","v":{"$error":"#N/A"}},"C3","Kompetensi Keahlian"]
["C31",{"$error":"#N/A"},{"$f":"HLOOKUP(A35&$F$13,TABNILSM8,4,FALSE)","v":{"$error":"#N/A"}},{"$f":"HLOOKUP(A35&$F$13,TABNILSM8,2,FALSE)","v":{"$error":"#N/A"}},{"$f":"IFERROR(HLOOKUP(A35&$F$13,TABNILSM8,5,FALSE),\"-\")","v":78},{"$f":"INDEX(TABNILSM8,MATCH($R$2,NILSM8!$C$1:$C$43,0),MATCH(A35&$F$13,NILSM8!$C$1:$FR$1,0))","v":97},{"$f":"INDEX(TABNILSM8,MATCH($R$2,NILSM8!$C$1:$C$43,0),MATCH(A35&$G$13,NILSM8!$C$1:$FR$1,0))","v":98},{"$f":"INDEX(TABNILSM8,MATCH($R$2,NILSM8!$C$1:$C$43,0),MATCH(A35&$H$13,NILSM8!$C$1:$FR$1,0))","v":99},{"$f":"INDEX(TABNILSM8,MATCH($R$2,NILSM8!$C$1:$C$43,0),MATCH(A35&$I$13,NILSM8!$C$1:$FR$1,0))","v":100},{"$f":"INDEX(TABNILSM8,MATCH($R$2,NILSM8!$C$1:$C$43,0),MATCH(A35&$J$13,NILSM8!$C$1:$FR$1,0))","v":75},{"$f":"INDEX(TABNILSM8,MATCH($R$2,NILSM8!$C$1:$C$43,0),MATCH(A35&$K$13,NILSM8!$C$1:$FR$1,0))","v":76},{"$f":"INDEX(TABNILSM8,MATCH($R$2,NILSM8!$C$1:$C$43,0),MATCH(A35&$L$13,NILSM8!$C$1:$FR$1,0))","v":77}]
["C32",{"$error":"#N/A"},{"$error":"#N/A"},{"$error":"#N/A"},78,{"$f":"INDEX(TABNILSM8,MATCH($R$2,NILSM8!$C$1:$C$43,0),MATCH(A36&$F$13,NILSM8!$C$1:$FR$1,0))","v":78},{"$f":"INDEX(TABNILSM8,MATCH($R$2,NILSM8!$C$1:$C$43,0),MATCH(A36&$G$13,NILSM8!$C$1:$FR$1,0))","v":79},{"$f":"INDEX(TABNILSM8,MATCH($R$2,NILSM8!$C$1:$C$43,0),MATCH(A36&$H$13,NILSM8!$C$1:$FR$1,0))","v":80},{"$f":"INDEX(TABNILSM8,MATCH($R$2,NILSM8!$C$1:$C$43,0),MATCH(A36&$I$13,NILSM8!$C$1:$FR$1,0))","v":81},{"$f":"INDEX(TABNILSM8,MATCH($R$2,NILSM8!$C$1:$C$43,0),MATCH(A36&$J$13,NILSM8!$C$1:$FR$1,0))","v":82},{"$f":"INDEX(TABNILSM8,MATCH($R$2,NILSM8!$C$1:$C$43,0),MATCH(A36&$K$13,NILSM8!$C$1:$FR$1,0))","v":83},{"$f":"INDEX(TABNILSM8,MATCH($R$2,NILSM8!$C$1:$C$43,0),MATCH(A36&$L$13,NILSM8!$C$1:$FR$1,0))","v":84}]
["C33",{"$error":"#N/A"},{"$error":"#N/A"},{"$error":"#N/A"},78,{"$f":"INDEX(TABNILSM8,MATCH($R$2,NILSM8!$C$1:$C$43,0),MATCH(A37&$F$13,NILSM8!$C$1:$FR$1,0))","v":85},{"$f":"INDEX(TABNILSM8,MATCH($R$2,NILSM8!$C$1:$C$43,0),MATCH(A37&$G$13,NILSM8!$C$1:$FR$1,0))","v":86},{"$f":"INDEX(TABNILSM8,MATCH($R$2,NILSM8!$C$1:$C$43,0),MATCH(A37&$H$13,NILSM8!$C$1:$FR$1,0))","v":87},{"$f":"INDEX(TABNILSM8,MATCH($R$2,NILSM8!$C$1:$C$43,0),MATCH(A37&$I$13,NILSM8!$C$1:$FR$1,0))","v":88},{"$f":"INDEX(TABNILSM8,MATCH($R$2,NILSM8!$C$1:$C$43,0),MATCH(A37&$J$13,NILSM8!$C$1:$FR$1,0))","v":89},{"$f":"INDEX(TABNILSM8,MATCH($R$2,NILSM8!$C$1:$C$43,0),MATCH(A37&$K$13,NILSM8!$C$1:$FR$1,0))","v":90},{"$f":"INDEX(TABNILSM8,MATCH($R$2,NILSM8!$C$1:$C$43,0),MATCH(A37&$L$13,NILSM8!$C$1:$FR$1,0))","v":91}]
["C34",{"$error":"#N/A"},{"$error":"#N/A"},{"$error":"#N/A"},78,{"$f":"INDEX(TABNILSM8,MATCH($R$2,NILSM8!$C$1:$C$43,0),MATCH(A38&$F$13,NILSM8!$C$1:$FR$1,0))","v":92},{"$f":"INDEX(TABNILSM8,MATCH($R$2,NILSM8!$C$1:$C$43,0),MATCH(A38&$G$13,NILSM8!$C$1:$FR$1,0))","v":93},{"$f":"INDEX(TABNILSM8,MATCH($R$2,NILSM8!$C$1:$C$43,0),MATCH(A38&$H$13,NILSM8!$C$1:$FR$1,0))","v":94},{"$f":"INDEX(TABNILSM8,MATCH($R$2,NILSM8!$C$1:$C$43,0),MATCH(A38&$I$13,NILSM8!$C$1:$FR$1,0))","v":95},{"$f":"INDEX(TABNILSM8,MATCH($R$2,NILSM8!$C$1:$C$43,0),MATCH(A38&$J$13,NILSM8!$C$1:$FR$1,0))","v":96},{"$f":"INDEX(TABNILSM8,MATCH($R$2,NILSM8!$C$1:$C$43,0),MATCH(A38&$K$13,NILSM8!$C$1:$FR$1,0))","v":97},{"$f":"INDEX(TABNILSM8,MATCH($R$2,NILSM8!$C$1:$C$43,0),MATCH(A38&$L$13,NILSM8!$C$1:$FR$1,0))","v":98}]
["C35",{"$error":"#N/A"},{"$error":"#N/A"},{"$error":"#N/A"},78,{"$f":"INDEX(TABNILSM8,MATCH($R$2,NILSM8!$C$1:$C$43,0),MATCH(A39&$F$13,NILSM8!$C$1:$FR$1,0))","v":99},{"$f":"INDEX(TABNILSM8,MATCH($R$2,NILSM8!$C$1:$C$43,0),MATCH(A39&$G$13,NILSM8!$C$1:$FR$1,0))","v":100},{"$f":"INDEX(TABNILSM8,MATCH($R$2,NILSM8!$C$1:$C$43,0),MATCH(A39&$H$13,NILSM8!$C$1:$FR$1,0))","v":75},{"$f":"INDEX(TABNILSM8,MATCH($R$2,NILSM8!$C$1:$C$43,0),MATCH(A39&$I$13,NILSM8!$C$1:$FR$1,0))","v":76},{"$f":"INDEX(TABNILSM8,MATCH($R$2,NILSM8!$C$1:$C$43,0),MATCH(A39&$J$13,NILSM8!$C$1:$FR$1,0))","v":77},{"$f":"INDEX(TABNILSM8,MATCH($R$2,NILSM8!$C$1:$C$43,0),MATCH(A39&$K$13,NILSM8!$C$1:$FR$1,0))","v":78},{"$f":"INDEX(TABNILSM8,MATCH($R$2,NILSM8!$C$1:$C$43,0),MATCH(A39&$L$13,NILSM8!$C$1:$FR$1,0))","v":79}]
["C36",{"$error":"#N/A"},{"$error":"#N/A"},{"$error":"#N/A"},78,{"$f":"INDEX(TABNILSM8,MATCH($R$2,NILSM8!$C$1:$C$43,0),MATCH(A40&$F$13,NILSM8!$C$1:$FR$1,0))","v":80},{"$f":"INDEX(TABNILSM8,MATCH($R$2,NILSM8!$C$1:$C$43,0),MATCH(A40&$G$13,NILSM8!$C$1:$FR$1,0))","v":81},{"$f":"INDEX(TABNILSM8,MATCH($R$2,NILSM8!$C$1:$C$43,0),MATCH(A40&$H$13,NILSM8!$C$1:$FR$1,0))","v":82},{"$f":"INDEX(TABNILSM8,MATCH($R$2,NILSM8!$C$1:$C$43,0),MATCH(A40&$I$13,NILSM8!$C$1:$FR$1,0))","v":83},{"$f":"INDEX(TABNILSM8,MATCH($R$2,NILSM8!$C$1:$C$43,0),MATCH(A40&$J$13,NILSM8!$C$1:$FR$1,0))","v":84},{"$f":"INDEX(TABNILSM8,MATCH($R$2,NILSM8!$C$1:$C$43,0),MATCH(A40&$K$13,NILSM8!$C$1:$FR$1,0))","v":85},{"$f":"INDEX(TABNILSM8,MATCH($R$2,NILSM8!$C$1:$C$43,0),MATCH(A40&$L$13,NILSM8!$C$1:$FR$1,0))","v":86}]
[null,{"$f":"IF(AND(COUNT(C41)=0,C42=0),0,1)","v":{"$error":"#N/A"}},"Muatan Lokal"]
["SUN",{"$error":"#N/A"},{"$f":"HLOOKUP(A42&$F$13,TABNILSM8,4,FALSE)","v":{"$error":"#N/A"}},{"$f":"HLOOKUP(A42&$F$13,TABNILSM8,2,FALSE)","v":{"$error":"#N/A"}},{"$f":"IFERROR(HLOOKUP(A42&$F$13,TABNILSM8,5,FALSE),\"-\")","v":78},{"$f":"INDEX(TABNILSM8,MATCH($R$2,NILSM8!$C$1:$C$43,0),MATCH(A42&$F$13,NILSM8!$C$1:$FR$1,0))","v":87},{"$f":"INDEX(TABNILSM8,MATCH($R$2,NILSM8!$C$1:$C$43,0),MATCH(A42&$G$13,NILSM8!$C$1:$FR$1,0))","v":88},{"$f":"INDEX(TABNILSM8,MATCH($R$2,NILSM8!$C$1:$C$43,0),MATCH(A42&$H$13,NILSM8!$C$1:$FR$1,0))","v":89},{"$f":"INDEX(TABNILSM8,MATCH($R$2,NILSM8!$C$1:$C$43,0),MATCH(A42&$I$13,NILSM8!$C$1:$FR$1,0))","v":90},{"$f":"INDEX(TABNILSM8,MATCH($R$2,NILSM8!$C$1:$C$43,0),MATCH(A42&$J$13,NILSM8!$C$1:$FR$1,0))","v":91},{"$f":"INDEX(TABNILSM8,MATCH($R$2,NILSM8!$C$1:$C$43,0),MATCH(A42&$K$13,NILSM8!$C$1:$FR$1,0))","v":92},{"$f":"INDEX(TABNILSM8,MATCH($R$2,NILSM8!$C$1:$C$43,0),MATCH(A42&$L$13,NILSM8!$C$1:$FR$1,0))","v":93}]
["PLH",{"$error":"#N/A"},{"$f":"HLOOKUP(A43&$F$13,TABNILSM8,4,FALSE)","v":{"$error":"#N/A"}},{"$f":"HLOOKUP(A43&$F$13,TABNILSM8,2,FALSE)","v":{"$error":"#N/A"}},{"$f":"IFERROR(HLOOKUP(A43&$F$13,TABNILSM8,5,FALSE),\"-\")","v":78},{"$f":"INDEX(TABNILSM8,MATCH($R$2,NILSM8!$C$1:$C$43,0),MATCH(A43&$F$13,NILSM8!$C$1:$FR$1,0))","v":94},{"$f":"INDEX(TABNILSM8,MATCH($R$2,NILSM8!$C$1:$C$43,0),MATCH(A43&$G$13,NILSM8!$C$1:$FR$1,0))","v":95},{"$f":"INDEX(TABNILSM8,MATCH($R$2,NILSM8!$C$1:$C$43,0),MATCH(A43&$H$13,NILSM8!$C$1:$FR$1,0))","v":96},{"$f":"INDEX(TABNILSM8,MATCH($R$2,NILSM8!$C$1:$C$43,0),MATCH(A43&$I$13,NILSM8!$C$1:$FR$1,0))","v":97},{"$f":"INDEX(TABNILSM8,MATCH($R$2,NILSM8!$C$1:$C$43,0),MATCH(A43&$J$13,NILSM8!$C$1:$FR$1,0))","v":98},{"$f":"INDEX(TABNILSM8,MATCH($R$2,NILSM8!$C$1:$C$43,0),MATCH(A43&$K$13,NILSM8!$C$1:$FR$1,0))","v":99},{"$f":"INDEX(TABNILSM8,MATCH($R$2,NILSM8!$C$1:$C$43,0),MATCH(A43&$L$13,NILSM8!$C$1:$FR$1,0))","v":100}]
[]
["CTT",null,"Bimbingan dan Konseling",null,null,null,"Catatan Akademik"]
["BKN",null,{"$f":"INDEX(TABNILSM8,MATCH($R$2,NILSM8!$C$1:$C$43,0),MATCH(A46,NILSM8!$C$1:$FR$1,0))","v":0},null,null,null,{"$f":"INDEX(TABNILSM8,MATCH($R$2,NILSM8!$C$1:$C$43,0),MATCH(A45,NILSM8!$C$1:$FR$1,0))","v":0}]
[]
[null,null,"Catatan: Jika nilai 0, siswa belum mengupload tugas atau belum mengerjakan ulangan. Jika nilai - , materi KD (Kompetensi Dasar) tersebut dilaksanakan setelah pembagian KHS."]
[]
[null,null,null,null,null,null,null,null,null,null,null,null,null,null,null,null,{"$f":"VLOOKUP($R$13,TAB_BIODATA,BIODATA!C4,FALSE)","v":"ADAM MAULANA RIZALDI"}]
[null,null,null,"Mengetahui,",null,null,null,null,{"$f":"NILSM8!A5","v":0}]
[null,null,null,"Orang Tua/Wali,",null,null,null,null,"Wali Kelas,",null,null,null,null,null,null,null,{"$f":"\"Nomor Urut \"&R13","v":"Nomor Urut 2"}]
[]
[]
[]
[]
[null,null,null,null,null,null,null,null,{"$f":"NILSM8!B4","v":"Abdul Hapid, S.P"}]
[null,null,null,null,null,null,null,null,{"$f":"IF(NILSM8!B5=0,\"\",\"NIP \"&NILSM8!B5)","v":"NIP 19680917 200012 1 003"}]

{"sheet":"CETSM7","index":9,"n_rows":58,"n_cols":20,"rows_kept":58,"cut":false,"hidden":false,"merged":[[0,2,0,11],[1,2,1,11],[4,16,4,17],[4,18,4,19],[5,16,6,16],[5,17,6,17],[5,18,6,18],[5,19,6,19],[7,19,8,19],[10,2,11,2],[10,3,11,3],[10,4,11,4],[10,5,10,6],[10,7,10,8],[10,9,10,10],[23,2,23,5],[24,3,24,5],[7,16,8,16],[7,17,8,17],[7,18,8,18],[51,16,52,18],[10,11,11,11],[11,16,11,17],[12,16,13,16],[12,17,13,17],[28,3,28,5],[45,2,45,4],[45,6,45,11],[47,2,47,11],[49,16,50,18]]}
[null,null,"KARTU HASIL STUDI (KHS) PESERTA DIDIK",null,null,null,null,null,null,null,null,null,null,null,null,null,"JURUSAN",{"$f":"MENU!F8","v":"TBSM"}]
[null,null,"SMK NEGERI 1 KARAWANG",null,null,null,null,null,null,null,null,null,null,null,null,null,"NIS",{"$f":"VLOOKUP($R$13,TAB_BIODATA,BIODATA!D4,FALSE)","v":16170535}]
[]
[null,null,null,"Nama Peserta Didik",":",{"$f":"VLOOKUP($R$13,TAB_BIODATA,BIODATA!C4,FALSE)","v":"ADAM ADIYAT HARTANTO"}]
[null,null,null,"Nomor Induk/NISN",":",{"$f":"IF(VLOOKUP($R$13,TAB_BIODATA,BIODATA!E4)=\"\",VLOOKUP($R$13,TAB_BIODATA,BIODATA!D4,FALSE),VLOOKUP($R$13,TAB_BIODATA,BIODATA!D4)&\" / \"&VLOOKUP($R$13,TAB_BIODATA,BIODATA!E4,FALSE))","v":"16170535 / 0016930017"},null,null,null,null,null,null,null,null,null,null,"DATA CETAK",null,"HALAMAN CETAK"]
[null,null,null,"Kelas",":",{"$f":"IF(OR(F8=\"1 (satu)\",F8=\"2 (dua)\"),\"X \"&MENU!F9,IF(OR(F8=\"3 (tiga)\",F8=\"4 (empat)\"),\"XI \"&MENU!F9,IF(OR(F8=\"5 (lima)\",F8=\"6 (enam)\"),\"XII \"&MENU!F9,IF(OR(F8=\"7 (tujuh)\",F8=\"8 (delapan)\"),\"XIII \"&MENU!F9,\"\"))))","v":"XIII TBSM 2"},null,null,null,null,null,null,null,null,null,null,"Dari data ke",1,"Dari",1]
[null,null,null,"Tahun Pelajaran",":",{"$f":"RIGHT(NILSM7!A2,11)","v":"2020 / 2021"}]
[null,null,null,"Semester",":",{"$f":"NILSM7!B3","v":"7 (tujuh)"},null,null,null,null,null,null,null,null,null,null,"Sampai data ke",2,"Ke",1]
[]
[null,null,"Nilai Akademik"]
[null,null,"No.","Mata Pelajaran","KKM","KD 1",null,"KD 2",null,"KD 3",null,"Kehadiran"]
[null,null,null,null,null,"Tugas","Ulangan","Tugas","Ulangan","Tugas","Ulangan",null,null,null,null,null,"TAMPILAN DATA"]
[null,null,"A. Muatan Nasional",null,null,"T1","U1","T2","U2","T3","U3","H",null,null,null,null,"Nomor Urut",1]
["PAB",{"$f":"IF(C14>=1,1,0)","v":0},{"$f":"HLOOKUP(A14&$F$13,TABNILSM7,4,FALSE)","v":0},{"$f":"HLOOKUP(A14&$F$13,TABNILSM7,2,FALSE)","v":{"$error":"#N/A"}},{"$f":"IFERROR(HLOOKUP(A14&$F$13,TABNILSM7,5,FALSE),\"-\")","v":78},{"$f":"INDEX(TABNILSM7,MATCH($R$2,NILSM7!$C$1:$C$43,0),MATCH(A14&$F$13,NILSM7!$C$1:$FR$1,0))","v":0},{"$f":"INDEX(TABNILSM7,MATCH($R$2,NILSM7!$C$1:$C$43,0),MATCH(A14&$G$13,NILSM7!$C$1:$FR$1,0))","v":0},{"$f":"INDEX(TABNILSM7,MATCH($R$2,NILSM7!$C$1:$C$43,0),MATCH(A14&$H$13,NILSM7!$C$1:$FR$1,0))","v":0},{"$f":"INDEX(TABNILSM7,MATCH($R$2,NILSM7!$C$1:$C$43,0),MATCH(A14&$I$13,NILSM7!$C$1:$FR$1,0))","v":0},{"$f":"INDEX(TABNILSM7,MATCH($R$2,NILSM7!$C$1:$C$43,0),MATCH(A14&$J$13,NILSM7!$C$1:$FR$1,0))","v":0},{"$f":"INDEX(TABNILSM7,MATCH($R$2,NILSM7!$C$1:$C$43,0),MATCH(A14&$K$13,NILSM7!$C$1:$FR$1,0))","v":0},{"$f":"INDEX(TABNILSM7,MATCH($R$2,NILSM7!$C$1:$C$43,0),MATCH(A14&$L$13,NILSM7!$C$1:$FR$1,0))","v":0}]
["PKN",{"$f":"IF(C15>=1,1,0)","v":{"$error":"#N/A"}},{"$error":"#N/A"},{"$error":"#N/A"},78,{"$f":"INDEX(TABNILSM7,MATCH($R$2,NILSM7!$C$1:$C$43,0),MATCH(A15&$F$13,NILSM7!$C$1:$FR$1,0))","v":0},{"$f":"INDEX(TABNILSM7,MATCH($R$2,NILSM7!$C$1:$C$43,0),MATCH(A15&$G$13,NILSM7!$C$1:$FR$1,0))","v":0},{"$f":"INDEX(TABNILSM7,MATCH($R$2,NILSM7!$C$1:$C$43,0),MATCH(A15&$H$13,NILSM7!$C$1:$FR$1,0))","v":0},{"$f":"INDEX(TABNILSM7,MATCH($R$2,NILSM7!$C$1:$C$43,0),MATCH(A15&$I$13,NILSM7!$C$1:$FR$1,0))","v":0},{"$f":"INDEX(TABNILSM7,MATCH($R$2,NILSM7!$C$1:$C$43,0),MATCH(A15&$J$13,NILSM7!$C$1:$FR$1,0))","v":0},{"$f":"INDEX(TABNILSM7,MATCH($R$2,NILSM7!$C$1:$C$43,0),MATCH(A15&$K$13,NILSM7!$C$1:$FR$1,0))","v":0},{"$f":"INDEX(TABNILSM7,MATCH($R$2,NILSM7!$C$1:$C$43,0),MATCH(A15&$L$13,NILSM7!$C$1:$FR$1,0))","v":0}]
["IND",{"$error":"#N/A"},{"$error":"#N/A"},{"$error":"#N/A"},78,{"$f":"INDEX(TABNILSM7,MATCH($R$2,NILSM7!$C$1:$C$43,0),MATCH(A16&$F$13,NILSM7!$C$1:$FR$1,0))","v":0},{"$f":"INDEX(TABNILSM7,MATCH($R$2,NILSM7!$C$1:$C$43,0),MATCH(A16&$G$13,NILSM7!$C$1:$FR$1,0))","v":0},{"$f":"INDEX(TABNILSM7,MATCH($R$2,NILSM7!$C$1:$C$43,0),MATCH(A16&$H$13,NILSM7!$C$1:$FR$1,0))","v":0},{"$f":"INDEX(TABNILSM7,MATCH($R$2,NILSM7!$C$1:$C$43,0),MATCH(A16&$I$13,NILSM7!$C$1:$FR$1,0))","v":0},{"$f":"INDEX(TABNILSM7,MATCH($R$2,NILSM7!$C$1:$C$43,0),MATCH(A16&$J$13,NILSM7!$C$1:$FR$1,0))","v":0},{"$f":"INDEX(TABNILSM7,MATCH($R$2,NILSM7!$C$1:$C$43,0),MATCH(A16&$K$13,NILSM7!$C$1:$FR$1,0))","v":0},{"$f":"INDEX(TABNILSM7,MATCH($R$2,NILSM7!$C$1:$C$43,0),MATCH(A16&$L$13,NILSM7!$C$1:$FR$1,0))","v":0}]
["MTK",{"$error":"#N/A"},{"$error":"#N/A"},{"$error":"#N/A"},78,{"$f":"INDEX(TABNILSM7,MATCH($R$2,NILSM7!$C$1:$C$43,0),MATCH(A17&$F$13,NILSM7!$C$1:$FR$1,0))","v":0},{"$f":"INDEX(TABNILSM7,MATCH($R$2,NILSM7!$C$1:$C$43,0),MATCH(A17&$G$13,NILSM7!$C$1:$FR$1,0))","v":0},{"$f":"INDEX(TABNILSM7,MATCH($R$2,NILSM7!$C$1:$C$43,0),MATCH(A17&$H$13,NILSM7!$C$1:$FR$1,0))","v":0},{"$f":"INDEX(TABNILSM7,MATCH($R$2,NILSM7!$C$1:$C$43,0),MATCH(A17&$I$13,NILSM7!$C$1:$FR$1,0))","v":0},{"$f":"INDEX(TABNILSM7,MATCH($R$2,NILSM7!$C$1:$C$43,0),MATCH(A17&$J$13,NILSM7!$C$1:$FR$1,0))","v":0},{"$f":"INDEX(TABNILSM7,MATCH($R$2,NILSM7!$C$1:$C$43,0),MATCH(A17&$K$13,NILSM7!$C$1:$FR$1,0))","v":0},{"$f":"INDEX(TABNILSM7,MATCH($R$2,NILSM7!$C$1:$C$43,0),MATCH(A17&$L$13,NILSM7!$C$1:$FR$1,0))","v":0}]
["SJI",{"$error":"#N/A"},{"$error":"#N/A"},{"$error":"#N/A"},78,{"$f":"INDEX(TABNILSM7,MATCH($R$2,NILSM7!$C$1:$C$43,0),MATCH(A18&$F$13,NILSM7!$C$1:$FR$1,0))","v":0},{"$f":"INDEX(TABNILSM7,MATCH($R$2,NILSM7!$C$1:$C$43,0),MATCH(A18&$G$13,NILSM7!$C$1:$FR$1,0))","v":0},{"$f":"INDEX(TABNILSM7,MATCH($R$2,NILSM7!$C$1:$C$43,0),MATCH(A18&$H$13,NILSM7!$C$1:$FR$1,0))","v":0},{"$f":"INDEX(TABNILSM7,MATCH($R$2,NILSM7!$C$1:$C$43,0),MATCH(A18&$I$13,NILSM7!$C$1:$FR$1,0))","v":0},{"$f":"INDEX(TABNILSM7,MATCH($R$2,NILSM7!$C$1:$C$43,0),MATCH(A18&$J$13,NILSM7!$C$1:$FR$1,0))","v":0},{"$f":"INDEX(TABNILSM7,MATCH($R$2,NILSM7!$C$1:$C$43,0),MATCH(A18&$K$13,NILSM7!$C$1:$FR$1,0))","v":0},{"$f":"INDEX(TABNILSM7,MATCH($R$2,NILSM7!$C$1:$C$43,0),MATCH(A18&$L$13,NILSM7!$C$1:$FR$1,0))","v":0}]
["ING",{"$error":"#N/A"},{"$error":"#N/A"},{"$error":"#N/A"},78,{"$f":"INDEX(TABNILSM7,MATCH($R$2,NILSM7!$C$1:$C$43,0),MATCH(A19&$F$13,NILSM7!$C$1:$FR$1,0))","v":7},{"$f":"INDEX(TABNILSM7,MATCH($R$2,NILSM7!$C$1:$C$43,0),MATCH(A19&$G$13,NILSM7!$C$1:$FR$1,0))","v":8},{"$f":"INDEX(TABNILSM7,MATCH($R$2,NILSM7!$C$1:$C$43,0),MATCH(A19&$H$13,NILSM7!$C$1:$FR$1,0))","v":9},{"$f":"INDEX(TABNILSM7,MATCH($R$2,NILSM7!$C$1:$C$43,0),MATCH(A19&$I$13,NILSM7!$C$1:$FR$1,0))","v":10},{"$f":"INDEX(TABNILSM7,MATCH($R$2,NILSM7!$C$1:$C$43,0),MATCH(A19&$J$13,NILSM7!$C$1:$FR$1,0))","v":11},{"$f":"INDEX(TABNILSM7,MATCH($R$2,NILSM7!$C$1:$C$43,0),MATCH(A19&$K$13,NILSM7!$C$1:$FR$1,0))","v":12},{"$f":"INDEX(TABNILSM7,MATCH($R$2,NILSM7!$C$1:$C$43,0),MATCH(A19&$L$13,NILSM7!$C$1:$FR$1,0))","v":13}]
["JER",{"$error":"#N/A"},{"$error":"#N/A"},{"$error":"#N/A"},78,{"$f":"INDEX(TABNILSM7,MATCH($R$2,NILSM7!$C$1:$C$43,0),MATCH(A20&$F$13,NILSM7!$C$1:$FR$1,0))","v":14},{"$f":"INDEX(TABNILSM7,MATCH($R$2,NILSM7!$C$1:$C$43,0),MATCH(A20&$G$13,NILSM7!$C$1:$FR$1,0))","v":15},{"$f":"INDEX(TABNILSM7,MATCH($R$2,NILSM7!$C$1:$C$43,0),MATCH(A20&$H$13,NILSM7!$C$1:$FR$1,0))","v":16},{"$f":"INDEX(TABNILSM7,MATCH($R$2,NILSM7!$C$1:$C$43,0),MATCH(A20&$I$13,NILSM7!$C$1:$FR$1,0))","v":17},{"$f":"INDEX(TABNILSM7,MATCH($R$2,NILSM7!$C$1:$C$43,0),MATCH(A20&$J$13,NILSM7!$C$1:$FR$1,0))","v":18},{"$f":"INDEX(TABNILSM7,MATCH($R$2,NILSM7!$C$1:$C$43,0),MATCH(A20&$K$13,NILSM7!$C$1:$FR$1,0))","v":19},{"$f":"INDEX(TABNILSM7,MATCH($R$2,NILSM7!$C$1:$C$43,0),MATCH(A20&$L$13,NILSM7!$C$1:$FR$1,0))","v":20}]
[null,{"$f":"IF(AND(COUNT(C21)=0,C23=0),0,1)","v":{"$error":"#N/A"}},"B. Muatan Kewilayahan"]
["SBD",{"$error":"#N/A"},{"$f":"HLOOKUP(A22&$F$13,TABNILSM7,4,FALSE)","v":{"$error":"#N/A"}},{"$f":"HLOOKUP(A22&$F$13,TABNILSM7,2,FALSE)","v":{"$error":"#N/A"}},{"$f":"IFERROR(HLOOKUP(A22&$F$13,TABNILSM7,5,FALSE),\"-\")","v":78},{"$f":"INDEX(TABNILSM7,MATCH($R$2,NILSM7!$C$1:$C$43,0),MATCH(A22&$F$13,NILSM7!$C$1:$FR$1,0))","v":21},{"$f":"INDEX(TABNILSM7,MATCH($R$2,NILSM7!$C$1:$C$43,0),MATCH(A22&$G$13,NILSM7!$C$1:$FR$1,0))","v":22},{"$f":"INDEX(TABNILSM7,MATCH($R$2,NILSM7!$C$1:$C$43,0),MATCH(A22&$H$13,NILSM7!$C$1:$FR$1,0))","v":23},{"$f":"INDEX(TABNILSM7,MATCH($R$2,NILSM7!$C$1:$C$43,0),MATCH(A22&$I$13,NILSM7!$C$1:$FR$1,0))","v":24},{"$f":"INDEX(TABNILSM7,MATCH($R$2,NILSM7!$C$1:$C$43,0),MATCH(A22&$J$13,NILSM7!$C$1:$FR$1,0))","v":25},{"$f":"INDEX(TABNILSM7,MATCH($R$2,NILSM7!$C$1:$C$43,0),MATCH(A22&$K$13,NILSM7!$C$1:$FR$1,0))","v":26},{"$f":"INDEX(TABNILSM7,MATCH($R$2,NILSM7!$C$1:$C$43,0),MATCH(A22&$L$13,NILSM7!$C$1:$FR$1,0))","v":27}]
["PJO",{"$error":"#N/A"},{"$f":"HLOOKUP(A23&$F$13,TABNILSM7,4,FALSE)","v":{"$error":"#N/A"}},{"$f":"HLOOKUP(A23&$F$13,TABNILSM7,2,FALSE)","v":{"$error":"#N/A"}},{"$f":"IFERROR(HLOOKUP(A23&$F$13,TABNILSM7,5,FALSE),\"-\")","v":78},{"$f":"INDEX(TABNILSM7,MATCH($R$2,NILSM7!$C$1:$C$43,0),MATCH(A23&$F$13,NILSM7!$C$1:$FR$1,0))","v":28},{"$f":"INDEX(TABNILSM7,MATCH($R$2,NILSM7!$C$1:$C$43,0),MATCH(A23&$G$13,NILSM7!$C$1:$FR$1,0))","v":29},{"$f":"INDEX(TABNILSM7,MATCH($R$2,NILSM7!$C$1:$C$43,0),MATCH(A23&$H$13,NILSM7!$C$1:$FR$1,0))","v":30},{"$f":"INDEX(TABNILSM7,MATCH($R$2,NILSM7!$C$1:$C$43,0),MATCH(A23&$I$13,NILSM7!$C$1:$FR$1,0))","v":31},{"$f":"INDEX(TABNILSM7,MATCH($R$2,NILSM7!$C$1:$C$43,0),MATCH(A23&$J$13,NILSM7!$C$1:$FR$1,0))","v":32},{"$f":"INDEX(TABNILSM7,MATCH($R$2,NILSM7!$C$1:$C$43,0),MATCH(A23&$K$13,NILSM7!$C$1:$FR$1,0))","v":33},{"$f":"INDEX(TABNILSM7,MATCH($R$2,NILSM7!$C$1:$C$43,0),MATCH(A23&$L$13,NILSM7!$C$1:$FR$1,0))","v":34}]
["-",1,"C. Muatan Peminatan Kejuruan"]
[null,{"$f":"IF(AND(COUNT(C25)=0,C26=0),0,1)","v":{"$error":"#N/A"}},"C1","Dasar Bidang Keahlian"]
["SKD",{"$f":"IF(C26>=1,1,0)","v":{"$error":"#N/A"}},{"$f":"HLOOKUP(A26&$F$13,TABNILSM7,4,FALSE)","v":{"$error":"#N/A"}},{"$f":"HLOOKUP(A26&$F$13,TABNILSM7,2,FALSE)","v":{"$error":"#N/A"}},{"$f":"IFERROR(HLOOKUP(A26&$F$13,TABNILSM7,5,FALSE),\"-\")","v":78},{"$f":"INDEX(TABNILSM7,MATCH($R$2,NILSM7!$C$1:$C$43,0),MATCH(A26&$F$13,NILSM7!$C$1:$FR$1,0))","v":35},{"$f":"INDEX(TABNILSM7,MATCH($R$2,NILSM7!$C$1:$C$43,0),MATCH(A26&$G$13,NILSM7!$C$1:$FR$1,0))","v":36},{"$f":"INDEX(TABNILSM7,MATCH($R$2,NILSM7!$C$1:$C$43,0),MATCH(A26&$H$13,NILSM7!$C$1:$FR$1,0))","v":37},{"$f":"INDEX(TABNILSM7,MATCH($R$2,NILSM7!$C$1:$C$43,0),MATCH(A26&$I$13,NILSM7!$C$1:$FR$1,0))","v":38},{"$f":"INDEX(TABNILSM7,MATCH($R$2,NILSM7!$C$1:$C$43,0),MATCH(A26&$J$13,NILSM7!$C$1:$FR$1,0))","v":39},{"$f":"INDEX(TABNILSM7,MATCH($R$2,NILSM7!$C$1:$C$43,0),MATCH(A26&$K$13,NILSM7!$C$1:$FR$1,0))","v":40},{"$f":"INDEX(TABNILSM7,MATCH($R$2,NILSM7!$C$1:$C$43,0),MATCH(A26&$L$13,NILSM7!$C$1:$FR$1,0))","v":41}]
["FIS",{"$error":"#N/A"},{"$f":"HLOOKUP(A27&$F$13,TABNILSM7,4,FALSE)","v":{"$error":"#N/A"}},{"$f":"HLOOKUP(A27&$F$13,TABNILSM7,2,FALSE)","v":{"$error":"#N/A"}},{"$f":"IFERROR(HLOOKUP(A27&$F$13,TABNILSM7,5,FALSE),\"-\")","v":78},{"$f":"INDEX(TABNILSM7,MATCH($R$2,NILSM7!$C$1:$C$43,0),MATCH(A27&$F$13,NILSM7!$C$1:$FR$1,0))","v":42},{"$f":"INDEX(TABNILSM7,MATCH($R$2,NILSM7!$C$1:$C$43,0),MATCH(A27&$G$13,NILSM7!$C$1:$FR$1,0))","v":43},{"$f":"INDEX(TABNILSM7,MATCH($R$2,NILSM7!$C$1:$C$43,0),MATCH(A27&$H$13,NILSM7!$C$1:$FR$1,0))","v":44},{"$f":"INDEX(TABNILSM7,MATCH($R$2,NILSM7!$C$1:$C$43,0),MATCH(A27&$I$13,NILSM7!$C$1:$FR$1,0))","v":45},{"$f":"INDEX(TABNILSM7,MATCH($R$2,NILSM7!$C$1:$C$43,0),MATCH(A27&$J$13,NILSM7!$C$1:$FR$1,0))","v":46},{"$f":"INDEX(TABNILSM7,MATCH($R$2,NILSM7!$C$1:$C$43,0),MATCH(A27&$K$13,NILSM7!$C$1:$FR$1,0))","v":47},{"$f":"INDEX(TABNILSM7,MATCH($R$2,NILSM7!$C$1:$C$43,0),MATCH(A27&$L$13,NILSM7!$C$1:$FR$1,0))","v":48}]
["KIM",{"$error":"#N/A"},{"$f":"HLOOKUP(A28&$F$13,TABNILSM7,4,FALSE)","v":{"$error":"#N/A"}},{"$f":"HLOOKUP(A28&$F$13,TABNILSM7,2,FALSE)","v":{"$error":"#N/A"}},{"$f":"IFERROR(HLOOKUP(A28&$F$13,TABNILSM7,5,FALSE),\"-\")","v":78},{"$f":"INDEX(TABNILSM7,MATCH($R$2,NILSM7!$C$1:$C$43,0),MATCH(A28&$F$13,NILSM7!$C$1:$FR$1,0))","v":49},{"$f":"INDEX(TABNILSM7,MATCH($R$2,NILSM7!$C$1:$C$43,0),MATCH(A28&$G$13,NILSM7!$C$1:$FR$1,0))","v":50},{"$f":"INDEX(TABNILSM7,MATCH($R$2,NILSM7!$C$1:$C$43,0),MATCH(A28&$H$13,NILSM7!$C$1:$FR$1,0))","v":51},{"$f":"INDEX(TABNILSM7,MATCH($R$2,NILSM7!$C$1:$C$43,0),MATCH(A28&$I$13,NILSM7!$C$1:$FR$1,0))","v":52},{"$f":"INDEX(TABNILSM7,MATCH($R$2,NILSM7!$C$1:$C$43,0),MATCH(A28&$J$13,NILSM7!$C$1:$FR$1,0))","v":53},{"$f":"INDEX(TABNILSM7,MATCH($R$2,NILSM7!$C$1:$C$43,0),MATCH(A28&$K$13,NILSM7!$C$1:$FR$1,0))","v":54},{"$f":"INDEX(TABNILSM7,MATCH($R$2,NILSM7!$C$1:$C$43,0),MATCH(A28&$L$13,NILSM7!$C$1:$FR$1,0))","v":55}]
[null,{"$f":"IF(AND(COUNT(C29)=0,C30=0),0,1)","v":{"$error":"#N/A"}},"C2","Dasar Program Keahlian"]
["C21",{"$error":"#N/A"},{"$f":"HLOOKUP(A30&$F$13,TABNILSM7,4,FALSE)","v":{"$error":"#N/A"}},{"$f":"HLOOKUP(A30&$F$13,TABNILSM7,2,FALSE)","v":{"$error":"#N/A"}},{"$f":"IFERROR(HLOOKUP(A30&$F$13,TABNILSM7,5,FALSE),\"-\")","v":78},{"$f":"INDEX(TABNILSM7,MATCH($R$2,NILSM7!$C$1:$C$43,0),MATCH(A30&$F$13,NILSM7!$C$1:$FR$1,0))","v":56},{"$f":"INDEX(TABNILSM7,MATCH($R$2,NILSM7!$C$1:$C$43,0),MATCH(A30&$G$13,NILSM7!$C$1:$FR$1,0))","v":57},{"$f":"INDEX(TABNILSM7,MATCH($R$2,NILSM7!$C$1:$C$43,0),MATCH(A30&$H$13,NILSM7!$C$1:$FR$1,0))","v":58},{"$f":"INDEX(TABNILSM7,MATCH($R$2,NILSM7!$C$1:$C$43,0),MATCH(A30&$I$13,NILSM7!$C$1:$FR$1,0))","v":59},{"$f":"INDEX(TABNILSM7,MATCH($R$2,NILSM7!$C$1:$C$43,0),MATCH(A30&$J$13,NILSM7!$C$1:$FR$1,0))","v":60},{"$f":"INDEX(TABNILSM7,MATCH($R$2,NILSM7!$C$1:$C$43,0),MATCH(A30&$K$13,NILSM7!$C$1:$FR$1,0))","v":61},{"$f":"INDEX(TABNILSM7,MATCH($R$2,NILSM7!$C$1:$C$43,0),MATCH(A30&$L$13,NILSM7!$C$1:$FR$1,0))","v":62}]
["C22",{"$error":"#N/A"},{"$f":"HLOOKUP(A31&$F$13,TABNILSM7,4,FALSE)","v":{"$error":"#N/A"}},{"$f":"HLOOKUP(A31&$F$13,TABNILSM7,2,FALSE)","v":{"$error":"#N/A"}},{"$f":"IFERROR(HLOOKUP(A31&$F$13,TABNILSM7,5,FALSE),\"-\")","v":78},{"$f":"INDEX(TABNILSM7,MATCH($R$2,NILSM7!$C$1:$C$43,0),MATCH(A31&$F$13,NILSM7!$C$1:$FR$1,0))","v":63},{"$f":"INDEX(TABNILSM7,MATCH($R$2,NILSM7!$C$1:$C$43,0),MATCH(A31&$G$13,NILSM7!$C$1:$FR$1,0))","v":64},{"$f":"INDEX(TABNILSM7,MATCH($R$2,NILSM7!$C$1:$C$43,0),MATCH(A31&$H$13,NILSM7!$C$1:$FR$1,0))","v":65},{"$f":"INDEX(TABNILSM7,MATCH($R$2,NILSM7!$C$1:$C$43,0),MATCH(A31&$I$13,NILSM7!$C$1:$FR$1,0))","v":66},{"$f":"INDEX(TABNILSM7,MATCH($R$2,NILSM7!$C$1:$C$43,0),MATCH(A31&$J$13,NILSM7!$C$1:$FR$1,0))","v":67},{"$f":"INDEX(TABNILSM7,MATCH($R$2,NILSM7!$C$1:$C$43,0),MATCH(A31&$K$13,NILSM7!$C$1:$FR$1,0))","v":68},{"$f":"INDEX(TABNILSM7,MATCH($R$2,NILSM7!$C$1:$C$43,0),MATCH(A31&$L$13,NILSM7!$C$1:$FR$1,0))","v":69}]
["C23",{"$error":"#N/A"},{"$f":"HLOOKUP(A32&$F$13,TABNILSM7,4,FALSE)","v":{"$error":"#N/A"}},{"$f":"HLOOKUP(A32&$F$13,TABNILSM7,2,FALSE)","v":{"$error":"#N/A"}},{"$f":"IFERROR(HLOOKUP(A32&$F$13,TABNILSM7,5,FALSE),\"-\")","v":78},{"$f":"INDEX(TABNILSM7,MATCH($R$2,NILSM7!$C$1:$C$43,0),MATCH(A32&$F$13,NILSM7!$C$1:$FR$1,0))","v":70},{"$f":"INDEX(TABNILSM7,MATCH($R$2,NILSM7!$C$1:$C$43,0),MATCH(A32&$G$13,NILSM7!$C$1:$FR$1,0))","v":71},{"$f":"INDEX(TABNILSM7,MATCH($R$2,NILSM7!$C$1:$C$43,0),MATCH(A32&$H$13,NILSM7!$C$1:$FR$1,0))","v":72},{"$f":"INDEX(TABNILSM7,MATCH($R$2,NILSM7!$C$1:$C$43,0),MATCH(A32&$I$13,NILSM7!$C$1:$FR$1,0))","v":73},{"$f":"INDEX(TABNILSM7,MATCH($R$2,NILSM7!$C$1:$C$43,0),MATCH(A32&$J$13,NILSM7!$C$1:$FR$1,0))","v":74},{"$f":"INDEX(TABNILSM7,MATCH($R$2,NILSM7!$C$1:$C$43,0),MATCH(A32&$K$13,NILSM7!$C$1:$FR$1,0))","v":75},{"$f":"INDEX(TABNILSM7,MATCH($R$2,NILSM7!$C$1:$C$43,0),MATCH(A32&$L$13,NILSM7!$C$1:$FR$1,0))","v":76}]
["C24",{"$error":"#N/A"},{"$f":"HLOOKUP(A33&$F$13,TABNILSM7,4,FALSE)","v":{"$error":"#N/A"}},{"$f":"HLOOKUP(A33&$F$13,TABNILSM7,2,FALSE)","v":{"$error":"#N/A"}},{"$f":"IFERROR(HLOOKUP(A33&$F$13,TABNILSM7,5,FALSE),\"-\")","v":78},{"$f":"INDEX(TABNILSM7,MATCH($R$2,NILSM7!$C$1:$C$43,0),MATCH(A33&$F$13,NILSM7!$C$1:$FR$1,0))","v":77},{"$f":"INDEX(TABNILSM7,MATCH($R$2,NILSM7!$C$1:$C$43,0),MATCH(A33&$G$13,NILSM7!$C$1:$FR$1,0))","v":78},{"$f":"INDEX(TABNILSM7,MATCH($R$2,NILSM7!$C$1:$C$43,0),MATCH(A33&$H$13,NILSM7!$C$1:$FR$1,0))","v":79},{"$f":"INDEX(TABNILSM7,MATCH($R$2,NILSM7!$C$1:$C$43,0),MATCH(A33&$I$13,NILSM7!$C$1:$FR$1,0))","v":80},{"$f":"INDEX(TABNILSM7,MATCH($R$2,NILSM7!$C$1:$C$43,0),MATCH(A33&$J$13,NILSM7!$C$1:$FR$1,0))","v":81},{"$f":"INDEX(TABNILSM7,MATCH($R$2,NILSM7!$C$1:$C$43,0),MATCH(A33&$K$13,NILSM7!$C$1:$FR$1,0))","v":82},{"$f":"INDEX(TABNILSM7,MATCH($R$2,NILSM7!$C$1:$C$43,0),MATCH(A33&$L$13,NILSM7!$C$1:$FR$1,0))","v":83}]
["-",{"$f":"IF(AND(COUNT(C34)=0,C37=0),0,1)","v":{"$error":"#N/A"}},"C3","Kompetensi Keahlian"]
["C31",{"$error":"#N/A"},{"$f":"HLOOKUP(A35&$F$13,TABNILSM7,4,FALSE)","v":{"$error":"#N/A"}},{"$f":"HLOOKUP(A35&$F$13,TABNILSM7,2,FALSE)","v":{"$error":"#N/A"}},{"$f":"IFERROR(HLOOKUP(A35&$F$13,TABNILSM7,5,FALSE),\"-\")","v":78},{"$f":"INDEX(TABNILSM7,MATCH($R$2,NILSM7!$C$1:$C$43,0),MATCH(A35&$F$13,NILSM7!$C$1:$FR$1,0))","v":84},{"$f":"INDEX(TABNILSM7,MATCH($R$2,NILSM7!$C$1:$C$43,0),MATCH(A35&$G$13,NILSM7!$C$1:$FR$1,0))","v":85},{"$f":"INDEX(TABNILSM7,MATCH($R$2,NILSM7!$C$1:$C$43,0),MATCH(A35&$H$13,NILSM7!$C$1:$FR$1,0))","v":86},{"$f":"INDEX(TABNILSM7,MATCH($R$2,NILSM7!$C$1:$C$43,0),MATCH(A35&$I$13,NILSM7!$C$1:$FR$1,0))","v":87},{"$f":"INDEX(TABNILSM7,MATCH($R$2,NILSM7!$C$1:$C$43,0),MATCH(A35&$J$13,NILSM7!$C$1:$FR$1,0))","v":88},{"$f":"INDEX(TABNILSM7,MATCH($R$2,NILSM7!$C$1:$C$43,0),MATCH(A35&$K$13,NILSM7!$C$1:$FR$1,0))","v":89},{"$f":"INDEX(TABNILSM7,MATCH($R$2,NILSM7!$C$1:$C$43,0),MATCH(A35&$L$13,NILSM7!$C$1:$FR$1,0))","v":90}]
["C32",{"$error":"#N/A"},{"$error":"#N/A"},{"$error":"#N/A"},78,{"$f":"INDEX(TABNILSM7,MATCH($R$2,NILSM7!$C$1:$C$43,0),MATCH(A36&$F$13,NILSM7!$C$1:$FR$1,0))","v":91},{"$f":"INDEX(TABNILSM7,MATCH($R$2,NILSM7!$C$1:$C$43,0),MATCH(A36&$G$13,NILSM7!$C$1:$FR$1,0))","v":92},{"$f":"INDEX(TABNILSM7,MATCH($R$2,NILSM7!$C$1:$C$43,0),MATCH(A36&$H$13,NILSM7!$C$1:$FR$1,0))","v":93},{"$f":"INDEX(TABNILSM7,MATCH($R$2,NILSM7!$C$1:$C$43,0),MATCH(A36&$I$13,NILSM7!$C$1:$FR$1,0))","v":94},{"$f":"INDEX(TABNILSM7,MATCH($R$2,NILSM7!$C$1:$C$43,0),MATCH(A36&$J$13,NILSM7!$C$1:$FR$1,0))","v":95},{"$f":"INDEX(TABNILSM7,MATCH($R$2,NILSM7!$C$1:$C$43,0),MATCH(A36&$K$13,NILSM7!$C$1:$FR$1,0))","v":96},{"$f":"INDEX(TABNILSM7,MATCH($R$2,NILSM7!$C$1:$C$43,0),MATCH(A36&$L$13,NILSM7!$C$1:$FR$1,0))","v":97}]
["C33",{"$error":"#N/A"},{"$error":"#N/A"},{"$error":"#N/A"},78,{"$f":"INDEX(TABNILSM7,MATCH($R$2,NILSM7!$C$1:$C$43,0),MATCH(A37&$F$13,NILSM7!$C$1:$FR$1,0))","v":98},{"$f":"INDEX(TABNILSM7,MATCH($R$2,NILSM7!$C$1:$C$43,0),MATCH(A37&$G$13,NILSM7!$C$1:$FR$1,0))","v":99},{"$f":"INDEX(TABNILSM7,MATCH($R$2,NILSM7!$C$1:$C$43,0),MATCH(A37&$H$13,NILSM7!$C$1:$FR$1,0))","v":100},{"$f":"INDEX(TABNILSM7,MATCH($R$2,NILSM7!$C$1:$C$43,0),MATCH(A37&$I$13,NILSM7!$C$1:$FR$1,0))","v":75},{"$f":"INDEX(TABNILSM7,MATCH($R$2,NILSM7!$C$1:$C$43,0),MATCH(A37&$J$13,NILSM7!$C$1:$FR$1,0))","v":76},{"$f":"INDEX(TABNILSM7,MATCH($R$2,NILSM7!$C$1:$C$43,0),MATCH(A37&$K$13,NILSM7!$C$1:$FR$1,0))","v":77},{"$f":"INDEX(TABNILSM7,MATCH($R$2,NILSM7!$C$1:$C$43,0),MATCH(A37&$L$13,NILSM7!$C$1:$FR$1,0))","v":78}]
["C34",{"$error":"#N/A"},{"$error":"#N/A"},{"$error":"#N/A"},78,{"$f":"INDEX(TABNILSM7,MATCH($R$2,NILSM7!$C$1:$C$43,0),MATCH(A38&$F$13,NILSM7!$C$1:$FR$1,0))","v":79},{"$f":"INDEX(TABNILSM7,MATCH($R$2,NILSM7!$C$1:$C$43,0),MATCH(A38&$G$13,NILSM7!$C$1:$FR$1,0))","v":80},{"$f":"INDEX(TABNILSM7,MATCH($R$2,NILSM7!$C$1:$C$43,0),MATCH(A38&$H$13,NILSM7!$C$1:$FR$1,0))","v":81},{"$f":"INDEX(TABNILSM7,MATCH($R$2,NILSM7!$C$1:$C$43,0),MATCH(A38&$I$13,NILSM7!$C$1:$FR$1,0))","v":82},{"$f":"INDEX(TABNILSM7,MATCH($R$2,NILSM7!$C$1:$C$43,0),MATCH(A38&$J$13,NILSM7!$C$1:$FR$1,0))","v":83},{"$f":"INDEX(TABNILSM7,MATCH($R$2,NILSM7!$C$1:$C$43,0),MATCH(A38&$K$13,NILSM7!$C$1:$FR$1,0))","v":84},{"$f":"INDEX(TABNILSM7,MATCH($R$2,NILSM7!$C$1:$C$43,0),MATCH(A38&$L$13,NILSM7!$C$1:$FR$1,0))","v":85}]
["C35",{"$error":"#N/A"},{"$error":"#N/A"},{"$error":"#N/A"},78,{"$f":"INDEX(TABNILSM7,MATCH($R$2,NILSM7!$C$1:$C$43,0),MATCH(A39&$F$13,NILSM7!$C$1:$FR$1,0))","v":86},{"$f":"INDEX(TABNILSM7,MATCH($R$2,NILSM7!$C$1:$C$43,0),MATCH(A39&$G$13,NILSM7!$C$1:$FR$1,0))","v":87},{"$f":"INDEX(TABNILSM7,MATCH($R$2,NILSM7!$C$1:$C$43,0),MATCH(A39&$H$13,NILSM7!$C$1:$FR$1,0))","v":88},{"$f":"INDEX(TABNILSM7,MATCH($R$2,NILSM7!$C$1:$C$43,0),MATCH(A39&$I$13,NILSM7!$C$1:$FR$1,0))","v":89},{"$f":"INDEX(TABNILSM7,MATCH($R$2,NILSM7!$C$1:$C$43,0),MATCH(A39&$J$13,NILSM7!$C$1:$FR$1,0))","v":90},{"$f":"INDEX(TABNILSM7,MATCH($R$2,NILSM7!$C$1:$C$43,0),MATCH(A39&$K$13,NILSM7!$C$1:$FR$1,0))","v":91},{"$f":"INDEX(TABNILSM7,MATCH($R$2,NILSM7!$C$1:$C$43,0),MATCH(A39&$L$13,NILSM7!$C$1:$FR$1,0))","v":92}]
["C36",{"$error":"#N/A"},{"$error":"#N/A"},{"$error":"#N/A"},78,{"$f":"INDEX(TABNILSM7,MATCH($R$2,NILSM7!$C$1:$C$43,0),MATCH(A40&$F$13,NILSM7!$C$1:$FR$1,0))","v":93},{"$f":"INDEX(TABNILSM7,MATCH($R$2,NILSM7!$C$1:$C$43,0),MATCH(A40&$G$13,NILSM7!$C$1:$FR$1,0))","v":94},{"$f":"INDEX(TABNILSM7,MATCH($R$2,NILSM7!$C$1:$C$43,0),MATCH(A40&$H$13,NILSM7!$C$1:$FR$1,0))","v":95},{"$f":"INDEX(TABNILSM7,MATCH($R$2,NILSM7!$C$1:$C$43,0),MATCH(A40&$I$13,NILSM7!$C$1:$FR$1,0))","v":96},{"$f":"INDEX(TABNILSM7,MATCH($R$2,NILSM7!$C$1:$C$43,0),MATCH(A40&$J$13,NILSM7!$C$1:$FR$1,0))","v":97},{"$f":"INDEX(TABNILSM7,MATCH($R$2,NILSM7!$C$1:$C$43,0),MATCH(A40&$K$13,NILSM7!$C$1:$FR$1,0))","v":98},{"$f":"INDEX(TABNILSM7,MATCH($R$2,NILSM7!$C$1:$C$43,0),MATCH(A40&$L$13,NILSM7!$C$1:$FR$1,0))","v":99}]
[null,{"$f":"IF(AND(COUNT(C41)=0,C42=0),0,1)","v":{"$error":"#N/A"}},"Muatan Lokal"]
["SUN",{"$error":"#N/A"},{"$f":"HLOOKUP(A42&$F$13,TABNILSM7,4,FALSE)","v":{"$error":"#N/A"}},{"$f":"HLOOKUP(A42&$F$13,TABNILSM7,2,FALSE)","v":{"$error":"#N/A"}},{"$f":"IFERROR(HLOOKUP(A42&$F$13,TABNILSM7,5,FALSE),\"-\")","v":78},{"$f":"INDEX(TABNILSM7,MATCH($R$2,NILSM7!$C$1:$C$43,0),MATCH(A42&$F$13,NILSM7!$C$1:$FR$1,0))","v":100},{"$f":"INDEX(TABNILSM7,MATCH($R$2,NILSM7!$C$1:$C$43,0),MATCH(A42&$G$13,NILSM7!$C$1:$FR$1,0))","v":75},{"$f":"INDEX(TABNILSM7,MATCH($R$2,NILSM7!$C$1:$C$43,0),MATCH(A42&$H$13,NILSM7!$C$1:$FR$1,0))","v":76},{"$f":"INDEX(TABNILSM7,MATCH($R$2,NILSM7!$C$1:$C$43,0),MATCH(A42&$I$13,NILSM7!$C$1:$FR$1,0))","v":77},{"$f":"INDEX(TABNILSM7,MATCH($R$2,NILSM7!$C$1:$C$43,0),MATCH(A42&$J$13,NILSM7!$C$1:$FR$1,0))","v":78},{"$f":"INDEX(TABNILSM7,MATCH($R$2,NILSM7!$C$1:$C$43,0),MATCH(A42&$K$13,NILSM7!$C$1:$FR$1,0))","v":79},{"$f":"INDEX(TABNILSM7,MATCH($R$2,NILSM7!$C$1:$C$43,0),MATCH(A42&$L$13,NILSM7!$C$1:$FR$1,0))","v":80}]
["PLH",{"$error":"#N/A"},{"$f":"HLOOKUP(A43&$F$13,TABNILSM7,4,FALSE)","v":{"$error":"#N/A"}},{"$f":"HLOOKUP(A43&$F$13,TABNILSM7,2,FALSE)","v":{"$error":"#N/A"}},{"$f":"IFERROR(HLOOKUP(A43&$F$13,TABNILSM7,5,FALSE),\"-\")","v":78},{"$f":"INDEX(TABNILSM7,MATCH($R$2,NILSM7!$C$1:$C$43,0),MATCH(A43&$F$13,NILSM7!$C$1:$FR$1,0))","v":81},{"$f":"INDEX(TABNILSM7,MATCH($R$2,NILSM7!$C$1:$C$43,0),MATCH(A43&$G$13,NILSM7!$C$1:$FR$1,0))","v":82},{"$f":"INDEX(TABNILSM7,MATCH($R$2,NILSM7!$C$1:$C$43,0),MATCH(A43&$H$13,NILSM7!$C$1:$FR$1,0))","v":83},{"$f":"INDEX(TABNILSM7,MATCH($R$2,NILSM7!$C$1:$C$43,0),MATCH(A43&$I$13,NILSM7!$C$1:$FR$1,0))","v":84},{"$f":"INDEX(TABNILSM7,MATCH($R$2,NILSM7!$C$1:$C$43,0),MATCH(A43&$J$13,NILSM7!$C$1:$FR$1,0))","v":85},{"$f":"INDEX(TABNILSM7,MATCH($R$2,NILSM7!$C$1:$C$43,0),MATCH(A43&$K$13,NILSM7!$C$1:$FR$1,0))","v":86},{"$f":"INDEX(TABNILSM7,MATCH($R$2,NILSM7!$C$1:$C$43,0),MATCH(A43&$L$13,NILSM7!$C$1:$FR$1,0))","v":87}]
[]
["CTT",null,"Bimbingan dan Konseling",null,null,null,"Catatan Akademik"]
["BKN",null,{"$f":"INDEX(TABNILSM7,MATCH($R$2,NILSM7!$C$1:$C$43,0),MATCH(A46,NILSM7!$C$1:$FR$1,0))","v":0},null,null,null,{"$f":"INDEX(TABNILSM7,MATCH($R$2,NILSM7!$C$1:$C$43,0),MATCH(A45,NILSM7!$C$1:$FR$1,0))","v":0}]
[]
[null,null,"Catatan: Jika nilai 0, siswa belum mengupload tugas atau belum mengerjakan ulangan. Jika nilai - , materi KD (Kompetensi Dasar) tersebut dilaksanakan setelah pembagian KHS."]
[]
[null,null,null,null,null,null,null,null,null,null,null,null,null,null,null,null,{"$f":"VLOOKUP($R$13,TAB_BIODATA,BIODATA!C4,FALSE)","v":"ADAM ADIYAT HARTANTO"}]
[null,null,null,"Mengetahui,",null,null,null,null,{"$f":"NILSM7!A5","v":0}]
[null,null,null,"Orang Tua/Wali,",null,null,null,null,"Wali Kelas,",null,null,null,null,null,null,null,{"$f":"\"Nomor Urut \"&R13","v":"Nomor Urut 1"}]
[]
[]
[]
[]
[null,null,null,null,null,null,null,null,{"$f":"NILSM7!B4","v":"Amo Sisdianto, S.Kom"}]
[null,null,null,null,null,null,null,null,{"$f":"IF(NILSM7!B5=0,\"\",\"NIP \"&NILSM7!B5)","v":""}]

{"sheet":"CETSM6","index":10,"n_rows":58,"n_cols":20,"rows_kept":58,"cut":false,"hidden":false,"merged":[[0,2,0,11],[1,2,1,11],[4,16,4,17],[4,18,4,19],[5,16,6,16],[5,17,6,17],[5,18,6,18],[5,19,6,19],[7,19,8,19],[10,2,11,2],[10,3,11,3],[10,4,11,4],[10,5,10,6],[10,7,10,8],[10,9,10,10],[23,2,23,5],[24,3,24,5],[7,16,8,16],[7,17,8,17],[7,18,8,18],[51,16,52,18],[10,11,11,11],[11,16,11,17],[12,16,13,16],[12,17,13,17],[28,3,28,5],[45,2,45,4],[45,6,45,11],[47,2,47,11],[49,16,50,18]]}
[null,null,"KARTU HASIL STUDI (KHS) PESERTA DIDIK",null,null,null,null,null,null,null,null,null,null,null,null,null,"JURUSAN",{"$f":"MENU!F8","v":"TBSM"}]
[null,null,"SMK NEGERI 1 KARAWANG",null,null,null,null,null,null,null,null,null,null,null,null,null,"NIS",{"$f":"VLOOKUP($R$13,TAB_BIODATA,BIODATA!D4,FALSE)","v":16170449}]
[]
[null,null,null,"Nama Peserta Didik",":",{"$f":"VLOOKUP($R$13,TAB_BIODATA,BIODATA!C4,FALSE)","v":"ADAM MAULANA RIZALDI"}]
[null,null,null,"Nomor Induk/NISN",":",{"$f":"IF(VLOOKUP($R$13,TAB_BIODATA,BIODATA!E4)=\"\",VLOOKUP($R$13,TAB_BIODATA,BIODATA!D4,FALSE),VLOOKUP($R$13,TAB_BIODATA,BIODATA!D4)&\" / \"&VLOOKUP($R$13,TAB_BIODATA,BIODATA!E4,FALSE))","v":"16170449 / 0013261209"},null,null,null,null,null,null,null,null,null,null,"DATA CETAK",null,"HALAMAN CETAK"]
[null,null,null,"Kelas",":",{"$f":"IF(OR(F8=\"1 (satu)\",F8=\"2 (dua)\"),\"X \"&MENU!F9,IF(OR(F8=\"3 (tiga)\",F8=\"4 (empat)\"),\"XI \"&MENU!F9,IF(OR(F8=\"5 (lima)\",F8=\"6 (enam)\"),\"XII \"&MENU!F9,IF(OR(F8=\"7 (tujuh)\",F8=\"8 (delapan)\"),\"XIII \"&MENU!F9,\"\"))))","v":"XII TBSM 2"},null,null,null,null,null,null,null,null,null,null,"Dari data ke",1,"Dari",1]
[null,null,null,"Tahun Pelajaran",":",{"$f":"RIGHT(NILSM6!A2,11)","v":"2020 / 2021"}]
[null,null,null,"Semester",":",{"$f":"NILSM6!B3","v":"6 (enam)"},null,null,null,null,null,null,null,null,null,null,"Sampai data ke",2,"Ke",1]
[]
[null,null,"Nilai Akademik"]
[null,null,"No.","Mata Pelajaran","KKM","KD 1",null,"KD 2",null,"KD 3",null,"Kehadiran"]
[null,null,null,null,null,"Tugas","Ulangan","Tugas","Ulangan","Tugas","Ulangan",null,null,null,null,null,"TAMPILAN DATA"]
[null,null,"A. Muatan Nasional",null,null,"T1","U1","T2","U2","T3","U3","H",null,null,null,null,"Nomor Urut",2]
["PAB",{"$f":"IF(C14>=1,1,0)","v":1},{"$f":"HLOOKUP(A14&$F$13,TABNILSM6,4,FALSE)","v":1},{"$f":"HLOOKUP(A14&$F$13,TABNILSM6,2,FALSE)","v":"Pendidikan Agama dan Budi Pekerti"},{"$f":"IFERROR(HLOOKUP(A14&$F$13,TABNILSM6,5,FALSE),\"-\")","v":78},{"$f":"INDEX(TABNILSM6,MATCH($R$2,NILSM6!$C$1:$C$43,0),MATCH(A14&$F$13,NILSM6!$C$1:$FR$1,0))","v":11},{"$f":"INDEX(TABNILSM6,MATCH($R$2,NILSM6!$C$1:$C$43,0),MATCH(A14&$G$13,NILSM6!$C$1:$FR$1,0))","v":12},{"$f":"INDEX(TABNILSM6,MATCH($R$2,NILSM6!$C$1:$C$43,0),MATCH(A14&$H$13,NILSM6!$C$1:$FR$1,0))","v":13},{"$f":"INDEX(TABNILSM6,MATCH($R$2,NILSM6!$C$1:$C$43,0),MATCH(A14&$I$13,NILSM6!$C$1:$FR$1,0))","v":14},{"$f":"INDEX(TABNILSM6,MATCH($R$2,NILSM6!$C$1:$C$43,0),MATCH(A14&$J$13,NILSM6!$C$1:$FR$1,0))","v":15},{"$f":"INDEX(TABNILSM6,MATCH($R$2,NILSM6!$C$1:$C$43,0),MATCH(A14&$K$13,NILSM6!$C$1:$FR$1,0))","v":16},{"$f":"INDEX(TABNILSM6,MATCH($R$2,NILSM6!$C$1:$C$43,0),MATCH(A14&$L$13,NILSM6!$C$1:$FR$1,0))","v":17}]
["PKN",{"$f":"IF(C15>=1,1,0)","v":1},2,"Pendidikan Pancasila dan Kewarganegaraan",78,{"$f":"INDEX(TABNILSM6,MATCH($R$2,NILSM6!$C$1:$C$43,0),MATCH(A15&$F$13,NILSM6!$C$1:$FR$1,0))","v":18},{"$f":"INDEX(TABNILSM6,MATCH($R$2,NILSM6!$C$1:$C$43,0),MATCH(A15&$G$13,NILSM6!$C$1:$FR$1,0))","v":19},{"$f":"INDEX(TABNILSM6,MATCH($R$2,NILSM6!$C$1:$C$43,0),MATCH(A15&$H$13,NILSM6!$C$1:$FR$1,0))","v":20},{"$f":"INDEX(TABNILSM6,MATCH($R$2,NILSM6!$C$1:$C$43,0),MATCH(A15&$I$13,NILSM6!$C$1:$FR$1,0))","v":21},{"$f":"INDEX(TABNILSM6,MATCH($R$2,NILSM6!$C$1:$C$43,0),MATCH(A15&$J$13,NILSM6!$C$1:$FR$1,0))","v":22},{"$f":"INDEX(TABNILSM6,MATCH($R$2,NILSM6!$C$1:$C$43,0),MATCH(A15&$K$13,NILSM6!$C$1:$FR$1,0))","v":23},{"$f":"INDEX(TABNILSM6,MATCH($R$2,NILSM6!$C$1:$C$43,0),MATCH(A15&$L$13,NILSM6!$C$1:$FR$1,0))","v":24}]
["IND",1,3,"Bahasa Indonesia",78,{"$f":"INDEX(TABNILSM6,MATCH($R$2,NILSM6!$C$1:$C$43,0),MATCH(A16&$F$13,NILSM6!$C$1:$FR$1,0))","v":25},{"$f":"INDEX(TABNILSM6,MATCH($R$2,NILSM6!$C$1:$C$43,0),MATCH(A16&$G$13,NILSM6!$C$1:$FR$1,0))","v":26},{"$f":"INDEX(TABNILSM6,MATCH($R$2,NILSM6!$C$1:$C$43,0),MATCH(A16&$H$13,NILSM6!$C$1:$FR$1,0))","v":27},{"$f":"INDEX(TABNILSM6,MATCH($R$2,NILSM6!$C$1:$C$43,0),MATCH(A16&$I$13,NILSM6!$C$1:$FR$1,0))","v":28},{"$f":"INDEX(TABNILSM6,MATCH($R$2,NILSM6!$C$1:$C$43,0),MATCH(A16&$J$13,NILSM6!$C$1:$FR$1,0))","v":29},{"$f":"INDEX(TABNILSM6,MATCH($R$2,NILSM6!$C$1:$C$43,0),MATCH(A16&$K$13,NILSM6!$C$1:$FR$1,0))","v":30},{"$f":"INDEX(TABNILSM6,MATCH($R$2,NILSM6!$C$1:$C$43,0),MATCH(A16&$L$13,NILSM6!$C$1:$FR$1,0))","v":31}]
["MTK",1,4,"Matematika",78,{"$f":"INDEX(TABNILSM6,MATCH($R$2,NILSM6!$C$1:$C$43,0),MATCH(A17&$F$13,NILSM6!$C$1:$FR$1,0))","v":32},{"$f":"INDEX(TABNILSM6,MATCH($R$2,NILSM6!$C$1:$C$43,0),MATCH(A17&$G$13,NILSM6!$C$1:$FR$1,0))","v":33},{"$f":"INDEX(TABNILSM6,MATCH($R$2,NILSM6!$C$1:$C$43,0),MATCH(A17&$H$13,NILSM6!$C$1:$FR$1,0))","v":34},{"$f":"INDEX(TABNILSM6,MATCH($R$2,NILSM6!$C$1:$C$43,0),MATCH(A17&$I$13,NILSM6!$C$1:$FR$1,0))","v":35},{"$f":"INDEX(TABNILSM6,MATCH($R$2,NILSM6!$C$1:$C$43,0),MATCH(A17&$J$13,NILSM6!$C$1:$FR$1,0))","v":36},{"$f":"INDEX(TABNILSM6,MATCH($R$2,NILSM6!$C$1:$C$43,0),MATCH(A17&$K$13,NILSM6!$C$1:$FR$1,0))","v":37},{"$f":"INDEX(TABNILSM6,MATCH($R$2,NILSM6!$C$1:$C$43,0),MATCH(A17&$L$13,NILSM6!$C$1:$FR$1,0))","v":38}]
["SJI",0,0,"-",78,{"$f":"INDEX(TABNILSM6,MATCH($R$2,NILSM6!$C$1:$C$43,0),MATCH(A18&$F$13,NILSM6!$C$1:$FR$1,0))","v":39},{"$f":"INDEX(TABNILSM6,MATCH($R$2,NILSM6!$C$1:$C$43,0),MATCH(A18&$G$13,NILSM6!$C$1:$FR$1,0))","v":40},{"$f":"INDEX(TABNILSM6,MATCH($R$2,NILSM6!$C$1:$C$43,0),MATCH(A18&$H$13,NILSM6!$C$1:$FR$1,0))","v":41},{"$f":"INDEX(TABNILSM6,MATCH($R$2,NILSM6!$C$1:$C$43,0),MATCH(A18&$I$13,NILSM6!$C$1:$FR$1,0))","v":42},{"$f":"INDEX(TABNILSM6,MATCH($R$2,NILSM6!$C$1:$C$43,0),MATCH(A18&$J$13,NILSM6!$C$1:$FR$1,0))","v":43},{"$f":"INDEX(TABNILSM6,MATCH($R$2,NILSM6!$C$1:$C$43,0),MATCH(A18&$K$13,NILSM6!$C$1:$FR$1,0))","v":44},{"$f":"INDEX(TABNILSM6,MATCH($R$2,NILSM6!$C$1:$C$43,0),MATCH(A18&$L$13,NILSM6!$C$1:$FR$1,0))","v":45}]
["ING",1,5,"Bahasa Inggris",78,{"$f":"INDEX(TABNILSM6,MATCH($R$2,NILSM6!$C$1:$C$43,0),MATCH(A19&$F$13,NILSM6!$C$1:$FR$1,0))","v":46},{"$f":"INDEX(TABNILSM6,MATCH($R$2,NILSM6!$C$1:$C$43,0),MATCH(A19&$G$13,NILSM6!$C$1:$FR$1,0))","v":47},{"$f":"INDEX(TABNILSM6,MATCH($R$2,NILSM6!$C$1:$C$43,0),MATCH(A19&$H$13,NILSM6!$C$1:$FR$1,0))","v":48},{"$f":"INDEX(TABNILSM6,MATCH($R$2,NILSM6!$C$1:$C$43,0),MATCH(A19&$I$13,NILSM6!$C$1:$FR$1,0))","v":49},{"$f":"INDEX(TABNILSM6,MATCH($R$2,NILSM6!$C$1:$C$43,0),MATCH(A19&$J$13,NILSM6!$C$1:$FR$1,0))","v":50},{"$f":"INDEX(TABNILSM6,MATCH($R$2,NILSM6!$C$1:$C$43,0),MATCH(A19&$K$13,NILSM6!$C$1:$FR$1,0))","v":51},{"$f":"INDEX(TABNILSM6,MATCH($R$2,NILSM6!$C$1:$C$43,0),MATCH(A19&$L$13,NILSM6!$C$1:$FR$1,0))","v":52}]
["JER",1,6,"Bahasa Jerman",78,{"$f":"INDEX(TABNILSM6,MATCH($R$2,NILSM6!$C$1:$C$43,0),MATCH(A20&$F$13,NILSM6!$C$1:$FR$1,0))","v":53},{"$f":"INDEX(TABNILSM6,MATCH($R$2,NILSM6!$C$1:$C$43,0),MATCH(A20&$G$13,NILSM6!$C$1:$FR$1,0))","v":54},{"$f":"INDEX(TABNILSM6,MATCH($R$2,NILSM6!$C$1:$C$43,0),MATCH(A20&$H$13,NILSM6!$C$1:$FR$1,0))","v":55},{"$f":"INDEX(TABNILSM6,MATCH($R$2,NILSM6!$C$1:$C$43,0),MATCH(A20&$I$13,NILSM6!$C$1:$FR$1,0))","v":56},{"$f":"INDEX(TABNILSM6,MATCH($R$2,NILSM6!$C$1:$C$43,0),MATCH(A20&$J$13,NILSM6!$C$1:$FR$1,0))","v":57},{"$f":"INDEX(TABNILSM6,MATCH($R$2,NILSM6!$C$1:$C$43,0),MATCH(A20&$K$13,NILSM6!$C$1:$FR$1,0))","v":58},{"$f":"INDEX(TABNILSM6,MATCH($R$2,NILSM6!$C$1:$C$43,0),MATCH(A20&$L$13,NILSM6!$C$1:$FR$1,0))","v":59}]
[null,{"$f":"IF(AND(COUNT(C21)=0,C23=0),0,1)","v":0},"B. Muatan Kewilayahan"]
["SBD",0,{"$f":"HLOOKUP(A22&$F$13,TABNILSM6,4,FALSE)","v":0},{"$f":"HLOOKUP(A22&$F$13,TABNILSM6,2,FALSE)","v":"-"},{"$f":"IFERROR(HLOOKUP(A22&$F$13,TABNILSM6,5,FALSE),\"-\")","v":78},{"$f":"INDEX(TABNILSM6,MATCH($R$2,NILSM6!$C$1:$C$43,0),MATCH(A22&$F$13,NILSM6!$C$1:$FR$1,0))","v":60},{"$f":"INDEX(TABNILSM6,MATCH($R$2,NILSM6!$C$1:$C$43,0),MATCH(A22&$G$13,NILSM6!$C$1:$FR$1,0))","v":61},{"$f":"INDEX(TABNILSM6,MATCH($R$2,NILSM6!$C$1:$C$43,0),MATCH(A22&$H$13,NILSM6!$C$1:$FR$1,0))","v":62},{"$f":"INDEX(TABNILSM6,MATCH($R$2,NILSM6!$C$1:$C$43,0),MATCH(A22&$I$13,NILSM6!$C$1:$FR$1,0))","v":63},{"$f":"INDEX(TABNILSM6,MATCH($R$2,NILSM6!$C$1:$C$43,0),MATCH(A22&$J$13,NILSM6!$C$1:$FR$1,0))","v":64},{"$f":"INDEX(TABNILSM6,MATCH($R$2,NILSM6!$C$1:$C$43,0),MATCH(A22&$K$13,NILSM6!$C$1:$FR$1,0))","v":65},{"$f":"INDEX(TABNILSM6,MATCH($R$2,NILSM6!$C$1:$C$43,0),MATCH(A22&$L$13,NILSM6!$C$1:$FR$1,0))","v":66}]
["PJO",0,{"$f":"HLOOKUP(A23&$F$13,TABNILSM6,4,FALSE)","v":0},{"$f":"HLOOKUP(A23&$F$13,TABNILSM6,2,FALSE)","v":"-"},{"$f":"IFERROR(HLOOKUP(A23&$F$13,TABNILSM6,5,FALSE),\"-\")","v":78},{"$f":"INDEX(TABNILSM6,MATCH($R$2,NILSM6!$C$1:$C$43,0),MATCH(A23&$F$13,NILSM6!$C$1:$FR$1,0))","v":67},{"$f":"INDEX(TABNILSM6,MATCH($R$2,NILSM6!$C$1:$C$43,0),MATCH(A23&$G$13,NILSM6!$C$1:$FR$1,0))","v":68},{"$f":"INDEX(TABNILSM6,MATCH($R$2,NILSM6!$C$1:$C$43,0),MATCH(A23&$H$13,NILSM6!$C$1:$FR$1,0))","v":69},{"$f":"INDEX(TABNILSM6,MATCH($R$2,NILSM6!$C$1:$C$43,0),MATCH(A23&$I$13,NILSM6!$C$1:$FR$1,0))","v":70},{"$f":"INDEX(TABNILSM6,MATCH($R$2,NILSM6!$C$1:$C$43,0),MATCH(A23&$J$13,NILSM6!$C$1:$FR$1,0))","v":71},{"$f":"INDEX(TABNILSM6,MATCH($R$2,NILSM6!$C$1:$C$43,0),MATCH(A23&$K$13,NILSM6!$C$1:$FR$1,0))","v":72},{"$f":"INDEX(TABNILSM6,MATCH($R$2,NILSM6!$C$1:$C$43,0),MATCH(A23&$L$13,NILSM6!$C$1:$FR$1,0))","v":73}]
["-",1,"C. Muatan Peminatan Kejuruan"]
[null,{"$f":"IF(AND(COUNT(C25)=0,C26=0),0,1)","v":0},"C1","Dasar Bidang Keahlian"]
["SKD",{"$f":"IF(C26>=1,1,0)","v":0},{"$f":"HLOOKUP(A26&$F$13,TABNILSM6,4,FALSE)","v":0},{"$f":"HLOOKUP(A26&$F$13,TABNILSM6,2,FALSE)","v":"-"},{"$f":"IFERROR(HLOOKUP(A26&$F$13,TABNILSM6,5,FALSE),\"-\")","v":78},{"$f":"INDEX(TABNILSM6,MATCH($R$2,NILSM6!$C$1:$C$43,0),MATCH(A26&$F$13,NILSM6!$C$1:$FR$1,0))","v":74},{"$f":"INDEX(TABNILSM6,MATCH($R$2,NILSM6!$C$1:$C$43,0),MATCH(A26&$G$13,NILSM6!$C$1:$FR$1,0))","v":75},{"$f":"INDEX(TABNILSM6,MATCH($R$2,NILSM6!$C$1:$C$43,0),MATCH(A26&$H$13,NILSM6!$C$1:$FR$1,0))","v":76},{"$f":"INDEX(TABNILSM6,MATCH($R$2,NILSM6!$C$1:$C$43,0),MATCH(A26&$I$13,NILSM6!$C$1:$FR$1,0))","v":77},{"$f":"INDEX(TABNILSM6,MATCH($R$2,NILSM6!$C$1:$C$43,0),MATCH(A26&$J$13,NILSM6!$C$1:$FR$1,0))","v":78},{"$f":"INDEX(TABNILSM6,MATCH($R$2,NILSM6!$C$1:$C$43,0),MATCH(A26&$K$13,NILSM6!$C$1:$FR$1,0))","v":79},{"$f":"INDEX(TABNILSM6,MATCH($R$2,NILSM6!$C$1:$C$43,0),MATCH(A26&$L$13,NILSM6!$C$1:$FR$1,0))","v":80}]
["FIS",0,{"$f":"HLOOKUP(A27&$F$13,TABNILSM6,4,FALSE)","v":0},{"$f":"HLOOKUP(A27&$F$13,TABNILSM6,2,FALSE)","v":"-"},{"$f":"IFERROR(HLOOKUP(A27&$F$13,TABNILSM6,5,FALSE),\"-\")","v":78},{"$f":"INDEX(TABNILSM6,MATCH($R$2,NILSM6!$C$1:$C$43,0),MATCH(A27&$F$13,NILSM6!$C$1:$FR$1,0))","v":81},{"$f":"INDEX(TABNILSM6,MATCH($R$2,NILSM6!$C$1:$C$43,0),MATCH(A27&$G$13,NILSM6!$C$1:$FR$1,0))","v":82},{"$f":"INDEX(TABNILSM6,MATCH($R$2,NILSM6!$C$1:$C$43,0),MATCH(A27&$H$13,NILSM6!$C$1:$FR$1,0))","v":83},{"$f":"INDEX(TABNILSM6,MATCH($R$2,NILSM6!$C$1:$C$43,0),MATCH(A27&$I$13,NILSM6!$C$1:$FR$1,0))","v":84},{"$f":"INDEX(TABNILSM6,MATCH($R$2,NILSM6!$C$1:$C$43,0),MATCH(A27&$J$13,NILSM6!$C$1:$FR$1,0))","v":85},{"$f":"INDEX(TABNILSM6,MATCH($R$2,NILSM6!$C$1:$C$43,0),MATCH(A27&$K$13,NILSM6!$C$1:$FR$1,0))","v":86},{"$f":"INDEX(TABNILSM6,MATCH($R$2,NILSM6!$C$1:$C$43,0),MATCH(A27&$L$13,NILSM6!$C$1:$FR$1,0))","v":87}]
["KIM",0,{"$f":"HLOOKUP(A28&$F$13,TABNILSM6,4,FALSE)","v":0},{"$f":"HLOOKUP(A28&$F$13,TABNILSM6,2,FALSE)","v":"-"},{"$f":"IFERROR(HLOOKUP(A28&$F$13,TABNILSM6,5,FALSE),\"-\")","v":78},{"$f":"INDEX(TABNILSM6,MATCH($R$2,NILSM6!$C$1:$C$43,0),MATCH(A28&$F$13,NILSM6!$C$1:$FR$1,0))","v":88},{"$f":"INDEX(TABNILSM6,MATCH($R$2,NILSM6!$C$1:$C$43,0),MATCH(A28&$G$13,NILSM6!$C$1:$FR$1,0))","v":89},{"$f":"INDEX(TABNILSM6,MATCH($R$2,NILSM6!$C$1:$C$43,0),MATCH(A28&$H$13,NILSM6!$C$1:$FR$1,0))","v":90},{"$f":"INDEX(TABNILSM6,MATCH($R$2,NILSM6!$C$1:$C$43,0),MATCH(A28&$I$13,NILSM6!$C$1:$FR$1,0))","v":91},{"$f":"INDEX(TABNILSM6,MATCH($R$2,NILSM6!$C$1:$C$43,0),MATCH(A28&$J$13,NILSM6!$C$1:$FR$1,0))","v":92},{"$f":"INDEX(TABNILSM6,MATCH($R$2,NILSM6!$C$1:$C$43,0),MATCH(A28&$K$13,NILSM6!$C$1:$FR$1,0))","v":93},{"$f":"INDEX(TABNILSM6,MATCH($R$2,NILSM6!$C$1:$C$43,0),MATCH(A28&$L$13,NILSM6!$C$1:$FR$1,0))","v":94}]
[null,{"$f":"IF(AND(COUNT(C29)=0,C30=0),0,1)","v":0},"C2","Dasar Program Keahlian"]
["C21",0,{"$f":"HLOOKUP(A30&$F$13,TABNILSM6,4,FALSE)","v":0},{"$f":"HLOOKUP(A30&$F$13,TABNILSM6,2,FALSE)","v":"-"},{"$f":"IFERROR(HLOOKUP(A30&$F$13,TABNILSM6,5,FALSE),\"-\")","v":78},{"$f":"INDEX(TABNILSM6,MATCH($R$2,NILSM6!$C$1:$C$43,0),MATCH(A30&$F$13,NILSM6!$C$1:$FR$1,0))","v":95},{"$f":"INDEX(TABNILSM6,MATCH($R$2,NILSM6!$C$1:$C$43,0),MATCH(A30&$G$13,NILSM6!$C$1:$FR$1,0))","v":96},{"$f":"INDEX(TABNILSM6,MATCH($R$2,NILSM6!$C$1:$C$43,0),MATCH(A30&$H$13,NILSM6!$C$1:$FR$1,0))","v":97},{"$f":"INDEX(TABNILSM6,MATCH($R$2,NILSM6!$C$1:$C$43,0),MATCH(A30&$I$13,NILSM6!$C$1:$FR$1,0))","v":98},{"$f":"INDEX(TABNILSM6,MATCH($R$2,NILSM6!$C$1:$C$43,0),MATCH(A30&$J$13,NILSM6!$C$1:$FR$1,0))","v":99},{"$f":"INDEX(TABNILSM6,MATCH($R$2,NILSM6!$C$1:$C$43,0),MATCH(A30&$K$13,NILSM6!$C$1:$FR$1,0))","v":100},{"$f":"INDEX(TABNILSM6,MATCH($R$2,NILSM6!$C$1:$C$43,0),MATCH(A30&$L$13,NILSM6!$C$1:$FR$1,0))","v":75}]
["C22",0,{"$f":"HLOOKUP(A31&$F$13,TABNILSM6,4,FALSE)","v":0},{"$f":"HLOOKUP(A31&$F$13,TABNILSM6,2,FALSE)","v":"-"},{"$f":"IFERROR(HLOOKUP(A31&$F$13,TABNILSM6,5,FALSE),\"-\")","v":78},{"$f":"INDEX(TABNILSM6,MATCH($R$2,NILSM6!$C$1:$C$43,0),MATCH(A31&$F$13,NILSM6!$C$1:$FR$1,0))","v":76},{"$f":"INDEX(TABNILSM6,MATCH($R$2,NILSM6!$C$1:$C$43,0),MATCH(A31&$G$13,NILSM6!$C$1:$FR$1,0))","v":77},{"$f":"INDEX(TABNILSM6,MATCH($R$2,NILSM6!$C$1:$C$43,0),MATCH(A31&$H$13,NILSM6!$C$1:$FR$1,0))","v":78},{"$f":"INDEX(TABNILSM6,MATCH($R$2,NILSM6!$C$1:$C$43,0),MATCH(A31&$I$13,NILSM6!$C$1:$FR$1,0))","v":79},{"$f":"INDEX(TABNILSM6,MATCH($R$2,NILSM6!$C$1:$C$43,0),MATCH(A31&$J$13,NILSM6!$C$1:$FR$1,0))","v":80},{"$f":"INDEX(TABNILSM6,MATCH($R$2,NILSM6!$C$1:$C$43,0),MATCH(A31&$K$13,NILSM6!$C$1:$FR$1,0))","v":81},{"$f":"INDEX(TABNILSM6,MATCH($R$2,NILSM6!$C$1:$C$43,0),MATCH(A31&$L$13,NILSM6!$C$1:$FR$1,0))","v":82}]
["C23",0,{"$f":"HLOOKUP(A32&$F$13,TABNILSM6,4,FALSE)","v":0},{"$f":"HLOOKUP(A32&$F$13,TABNILSM6,2,FALSE)","v":"-"},{"$f":"IFERROR(HLOOKUP(A32&$F$13,TABNILSM6,5,FALSE),\"-\")","v":78},{"$f":"INDEX(TABNILSM6,MATCH($R$2,NILSM6!$C$1:$C$43,0),MATCH(A32&$F$13,NILSM6!$C$1:$FR$1,0))","v":83},{"$f":"INDEX(TABNILSM6,MATCH($R$2,NILSM6!$C$1:$C$43,0),MATCH(A32&$G$13,NILSM6!$C$1:$FR$1,0))","v":84},{"$f":"INDEX(TABNILSM6,MATCH($R$2,NILSM6!$C$1:$C$43,0),MATCH(A32&$H$13,NILSM6!$C$1:$FR$1,0))","v":85},{"$f":"INDEX(TABNILSM6,MATCH($R$2,NILSM6!$C$1:$C$43,0),MATCH(A32&$I$13,NILSM6!$C$1:$FR$1,0))","v":86},{"$f":"INDEX(TABNILSM6,MATCH($R$2,NILSM6!$C$1:$C$43,0),MATCH(A32&$J$13,NILSM6!$C$1:$FR$1,0))","v":87},{"$f":"INDEX(TABNILSM6,MATCH($R$2,NILSM6!$C$1:$C$43,0),MATCH(A32&$K$13,NILSM6!$C$1:$FR$1,0))","v":88},{"$f":"INDEX(TABNILSM6,MATCH($R$2,NILSM6!$C$1:$C$43,0),MATCH(A32&$L$13,NILSM6!$C$1:$FR$1,0))","v":89}]
["C24",0,{"$f":"HLOOKUP(A33&$F$13,TABNILSM6,4,FALSE)","v":0},{"$f":"HLOOKUP(A33&$F$13,TABNILSM6,2,FALSE)","v":"-"},{"$f":"IFERROR(HLOOKUP(A33&$F$13,TABNILSM6,5,FALSE),\"-\")","v":78},{"$f":"INDEX(TABNILSM6,MATCH($R$2,NILSM6!$C$1:$C$43,0),MATCH(A33&$F$13,NILSM6!$C$1:$FR$1,0))","v":90},{"$f":"INDEX(TABNILSM6,MATCH($R$2,NILSM6!$C$1:$C$43,0),MATCH(A33&$G$13,NILSM6!$C$1:$FR$1,0))","v":91},{"$f":"INDEX(TABNILSM6,MATCH($R$2,NILSM6!$C$1:$C$43,0),MATCH(A33&$H$13,NILSM6!$C$1:$FR$1,0))","v":92},{"$f":"INDEX(TABNILSM6,MATCH($R$2,NILSM6!$C$1:$C$43,0),MATCH(A33&$I$13,NILSM6!$C$1:$FR$1,0))","v":93},{"$f":"INDEX(TABNILSM6,MATCH($R$2,NILSM6!$C$1:$C$43,0),MATCH(A33&$J$13,NILSM6!$C$1:$FR$1,0))","v":94},{"$f":"INDEX(TABNILSM6,MATCH($R$2,NILSM6!$C$1:$C$43,0),MATCH(A33&$K$13,NILSM6!$C$1:$FR$1,0))","v":95},{"$f":"INDEX(TABNILSM6,MATCH($R$2,NILSM6!$C$1:$C$43,0),MATCH(A33&$L$13,NILSM6!$C$1:$FR$1,0))","v":96}]
["-",{"$f":"IF(AND(COUNT(C34)=0,C37=0),0,1)","v":1},"C3","Kompetensi Keahlian"]
["C31",1,{"$f":"HLOOKUP(A35&$F$13,TABNILSM6,4,FALSE)","v":7},{"$f":"HLOOKUP(A35&$F$13,TABNILSM6,2,FALSE)","v":"Pemeliharaan Mesin Sepeda Motor"},{"$f":"IFERROR(HLOOKUP(A35&$F$13,TABNILSM6,5,FALSE),\"-\")","v":78},{"$f":"INDEX(TABNILSM6,MATCH($R$2,NILSM6!$C$1:$C$43,0),MATCH(A35&$F$13,NILSM6!$C$1:$FR$1,0))","v":97},{"$f":"INDEX(TABNILSM6,MATCH($R$2,NILSM6!$C$1:$C$43,0),MATCH(A35&$G$13,NILSM6!$C$1:$FR$1,0))","v":98},{"$f":"INDEX(TABNILSM6,MATCH($R$2,NILSM6!$C$1:$C$43,0),MATCH(A35&$H$13,NILSM6!$C$1:$FR$1,0))","v":99},{"$f":"INDEX(TABNILSM6,MATCH($R$2,NILSM6!$C$1:$C$43,0),MATCH(A35&$I$13,NILSM6!$C$1:$FR$1,0))","v":100},{"$f":"INDEX(TABNILSM6,MATCH($R$2,NILSM6!$C$1:$C$43,0),MATCH(A35&$J$13,NILSM6!$C$1:$FR$1,0))","v":75},{"$f":"INDEX(TABNILSM6,MATCH($R$2,NILSM6!$C$1:$C$43,0),MATCH(A35&$K$13,NILSM6!$C$1:$FR$1,0))","v":76},{"$f":"INDEX(TABNILSM6,MATCH($R$2,NILSM6!$C$1:$C$43,0),MATCH(A35&$L$13,NILSM6!$C$1:$FR$1,0))","v":77}]
["C32",1,8,"Pemeliharaan Sasis Sepeda Motor",78,{"$f":"INDEX(TABNILSM6,MATCH($R$2,NILSM6!$C$1:$C$43,0),MATCH(A36&$F$13,NILSM6!$C$1:$FR$1,0))","v":78},{"$f":"INDEX(TABNILSM6,MATCH($R$2,NILSM6!$C$1:$C$43,0),MATCH(A36&$G$13,NILSM6!$C$1:$FR$1,0))","v":79},{"$f":"INDEX(TABNILSM6,MATCH($R$2,NILSM6!$C$1:$C$43,0),MATCH(A36&$H$13,NILSM6!$C$1:$FR$1,0))","v":80},{"$f":"INDEX(TABNILSM6,MATCH($R$2,NILSM6!$C$1:$C$43,0),MATCH(A36&$I$13,NILSM6!$C$1:$FR$1,0))","v":81},{"$f":"INDEX(TABNILSM6,MATCH($R$2,NILSM6!$C$1:$C$43,0),MATCH(A36&$J$13,NILSM6!$C$1:$FR$1,0))","v":82},{"$f":"INDEX(TABNILSM6,MATCH($R$2,NILSM6!$C$1:$C$43,0),MATCH(A36&$K$13,NILSM6!$C$1:$FR$1,0))","v":83},{"$f":"INDEX(TABNILSM6,MATCH($R$2,NILSM6!$C$1:$C$43,0),MATCH(A36&$L$13,NILSM6!$C$1:$FR$1,0))","v":84}]
["C33",1,9,"Pemeliharaan Kelistrikan Sepeda Motor",78,{"$f":"INDEX(TABNILSM6,MATCH($R$2,NILSM6!$C$1:$C$43,0),MATCH(A37&$F$13,NILSM6!$C$1:$FR$1,0))","v":85},{"$f":"INDEX(TABNILSM6,MATCH($R$2,NILSM6!$C$1:$C$43,0),MATCH(A37&$G$13,NILSM6!$C$1:$FR$1,0))","v":86},{"$f":"INDEX(TABNILSM6,MATCH($R$2,NILSM6!$C$1:$C$43,0),MATCH(A37&$H$13,NILSM6!$C$1:$FR$1,0))","v":87},{"$f":"INDEX(TABNILSM6,MATCH($R$2,NILSM6!$C$1:$C$43,0),MATCH(A37&$I$13,NILSM6!$C$1:$FR$1,0))","v":88},{"$f":"INDEX(TABNILSM6,MATCH($R$2,NILSM6!$C$1:$C$43,0),MATCH(A37&$J$13,NILSM6!$C$1:$FR$1,0))","v":89},{"$f":"INDEX(TABNILSM6,MATCH($R$2,NILSM6!$C$1:$C$43,0),MATCH(A37&$K$13,NILSM6!$C$1:$FR$1,0))","v":90},{"$f":"INDEX(TABNILSM6,MATCH($R$2,NILSM6!$C$1:$C$43,0),MATCH(A37&$L$13,NILSM6!$C$1:$FR$1,0))","v":91}]
["C34",1,10,"Pengelolaan Bengkel Sepeda Motor",78,{"$f":"INDEX(TABNILSM6,MATCH($R$2,NILSM6!$C$1:$C$43,0),MATCH(A38&$F$13,NILSM6!$C$1:$FR$1,0))","v":92},{"$f":"INDEX(TABNILSM6,MATCH($R$2,NILSM6!$C$1:$C$43,0),MATCH(A38&$G$13,NILSM6!$C$1:$FR$1,0))","v":93},{"$f":"INDEX(TABNILSM6,MATCH($R$2,NILSM6!$C$1:$C$43,0),MATCH(A38&$H$13,NILSM6!$C$1:$FR$1,0))","v":94},{"$f":"INDEX(TABNILSM6,MATCH($R$2,NILSM6!$C$1:$C$43,0),MATCH(A38&$I$13,NILSM6!$C$1:$FR$1,0))","v":95},{"$f":"INDEX(TABNILSM6,MATCH($R$2,NILSM6!$C$1:$C$43,0),MATCH(A38&$J$13,NILSM6!$C$1:$FR$1,0))","v":96},{"$f":"INDEX(TABNILSM6,MATCH($R$2,NILSM6!$C$1:$C$43,0),MATCH(A38&$K$13,NILSM6!$C$1:$FR$1,0))","v":97},{"$f":"INDEX(TABNILSM6,MATCH($R$2,NILSM6!$C$1:$C$43,0),MATCH(A38&$L$13,NILSM6!$C$1:$FR$1,0))","v":98}]
["C35",0,0,"-",78,{"$f":"INDEX(TABNILSM6,MATCH($R$2,NILSM6!$C$1:$C$43,0),MATCH(A39&$F$13,NILSM6!$C$1:$FR$1,0))","v":99},{"$f":"INDEX(TABNILSM6,MATCH($R$2,NILSM6!$C$1:$C$43,0),MATCH(A39&$G$13,NILSM6!$C$1:$FR$1,0))","v":100},{"$f":"INDEX(TABNILSM6,MATCH($R$2,NILSM6!$C$1:$C$43,0),MATCH(A39&$H$13,NILSM6!$C$1:$FR$1,0))","v":75},{"$f":"INDEX(TABNILSM6,MATCH($R$2,NILSM6!$C$1:$C$43,0),MATCH(A39&$I$13,NILSM6!$C$1:$FR$1,0))","v":76},{"$f":"INDEX(TABNILSM6,MATCH($R$2,NILSM6!$C$1:$C$43,0),MATCH(A39&$J$13,NILSM6!$C$1:$FR$1,0))","v":77},{"$f":"INDEX(TABNILSM6,MATCH($R$2,NILSM6!$C$1:$C$43,0),MATCH(A39&$K$13,NILSM6!$C$1:$FR$1,0))","v":78},{"$f":"INDEX(TABNILSM6,MATCH($R$2,NILSM6!$C$1:$C$43,0),MATCH(A39&$L$13,NILSM6!$C$1:$FR$1,0))","v":79}]
["C36",1,11,"Produk Kreatif dan Kewirausahaan ",78,{"$f":"INDEX(TABNILSM6,MATCH($R$2,NILSM6!$C$1:$C$43,0),MATCH(A40&$F$13,NILSM6!$C$1:$FR$1,0))","v":80},{"$f":"INDEX(TABNILSM6,MATCH($R$2,NILSM6!$C$1:$C$43,0),MATCH(A40&$G$13,NILSM6!$C$1:$FR$1,0))","v":81},{"$f":"INDEX(TABNILSM6,MATCH($R$2,NILSM6!$C$1:$C$43,0),MATCH(A40&$H$13,NILSM6!$C$1:$FR$1,0))","v":82},{"$f":"INDEX(TABNILSM6,MATCH($R$2,NILSM6!$C$1:$C$43,0),MATCH(A40&$I$13,NILSM6!$C$1:$FR$1,0))","v":83},{"$f":"INDEX(TABNILSM6,MATCH($R$2,NILSM6!$C$1:$C$43,0),MATCH(A40&$J$13,NILSM6!$C$1:$FR$1,0))","v":84},{"$f":"INDEX(TABNILSM6,MATCH($R$2,NILSM6!$C$1:$C$43,0),MATCH(A40&$K$13,NILSM6!$C$1:$FR$1,0))","v":85},{"$f":"INDEX(TABNILSM6,MATCH($R$2,NILSM6!$C$1:$C$43,0),MATCH(A40&$L$13,NILSM6!$C$1:$FR$1,0))","v":86}]
[null,{"$f":"IF(AND(COUNT(C41)=0,C42=0),0,1)","v":0},"Muatan Lokal"]
["SUN",0,{"$f":"HLOOKUP(A42&$F$13,TABNILSM6,4,FALSE)","v":0},{"$f":"HLOOKUP(A42&$F$13,TABNILSM6,2,FALSE)","v":"-"},{"$f":"IFERROR(HLOOKUP(A42&$F$13,TABNILSM6,5,FALSE),\"-\")","v":78},{"$f":"INDEX(TABNILSM6,MATCH($R$2,NILSM6!$C$1:$C$43,0),MATCH(A42&$F$13,NILSM6!$C$1:$FR$1,0))","v":87},{"$f":"INDEX(TABNILSM6,MATCH($R$2,NILSM6!$C$1:$C$43,0),MATCH(A42&$G$13,NILSM6!$C$1:$FR$1,0))","v":88},{"$f":"INDEX(TABNILSM6,MATCH($R$2,NILSM6!$C$1:$C$43,0),MATCH(A42&$H$13,NILSM6!$C$1:$FR$1,0))","v":89},{"$f":"INDEX(TABNILSM6,MATCH($R$2,NILSM6!$C$1:$C$43,0),MATCH(A42&$I$13,NILSM6!$C$1:$FR$1,0))","v":90},{"$f":"INDEX(TABNILSM6,MATCH($R$2,NILSM6!$C$1:$C$43,0),MATCH(A42&$J$13,NILSM6!$C$1:$FR$1,0))","v":91},{"$f":"INDEX(TABNILSM6,MATCH($R$2,NILSM6!$C$1:$C$43,0),MATCH(A42&$K$13,NILSM6!$C$1:$FR$1,0))","v":92},{"$f":"INDEX(TABNILSM6,MATCH($R$2,NILSM6!$C$1:$C$43,0),MATCH(A42&$L$13,NILSM6!$C$1:$FR$1,0))","v":93}]
["PLH",0,{"$f":"HLOOKUP(A43&$F$13,TABNILSM6,4,FALSE)","v":0},{"$f":"HLOOKUP(A43&$F$13,TABNILSM6,2,FALSE)","v":"-"},{"$f":"IFERROR(HLOOKUP(A43&$F$13,TABNILSM6,5,FALSE),\"-\")","v":78},{"$f":"INDEX(TABNILSM6,MATCH($R$2,NILSM6!$C$1:$C$43,0),MATCH(A43&$F$13,NILSM6!$C$1:$FR$1,0))","v":94},{"$f":"INDEX(TABNILSM6,MATCH($R$2,NILSM6!$C$1:$C$43,0),MATCH(A43&$G$13,NILSM6!$C$1:$FR$1,0))","v":95},{"$f":"INDEX(TABNILSM6,MATCH($R$2,NILSM6!$C$1:$C$43,0),MATCH(A43&$H$13,NILSM6!$C$1:$FR$1,0))","v":96},{"$f":"INDEX(TABNILSM6,MATCH($R$2,NILSM6!$C$1:$C$43,0),MATCH(A43&$I$13,NILSM6!$C$1:$FR$1,0))","v":97},{"$f":"INDEX(TABNILSM6,MATCH($R$2,NILSM6!$C$1:$C$43,0),MATCH(A43&$J$13,NILSM6!$C$1:$FR$1,0))","v":98},{"$f":"INDEX(TABNILSM6,MATCH($R$2,NILSM6!$C$1:$C$43,0),MATCH(A43&$K$13,NILSM6!$C$1:$FR$1,0))","v":99},{"$f":"INDEX(TABNILSM6,MATCH($R$2,NILSM6!$C$1:$C$43,0),MATCH(A43&$L$13,NILSM6!$C$1:$FR$1,0))","v":100}]
[]
["CTT",null,"Bimbingan dan Konseling",null,null,null,"Catatan Akademik"]
["BKN",null,{"$f":"INDEX(TABNILSM6,MATCH($R$2,NILSM6!$C$1:$C$43,0),MATCH(A46,NILSM6!$C$1:$FR$1,0))","v":0},null,null,null,{"$f":"INDEX(TABNILSM6,MATCH($R$2,NILSM6!$C$1:$C$43,0),MATCH(A45,NILSM6!$C$1:$FR$1,0))","v":0}]
[]
[null,null,"Catatan: Jika nilai 0, siswa belum mengupload tugas atau belum mengerjakan ulangan. Jika nilai - , materi KD (Kompetensi Dasar) tersebut dilaksanakan setelah pembagian KHS."]
[]
[null,null,null,null,null,null,null,null,null,null,null,null,null,null,null,null,{"$f":"VLOOKUP($R$13,TAB_BIODATA,BIODATA!C4,FALSE)","v":"ADAM MAULANA RIZALDI"}]
[null,null,null,"Mengetahui,",null,null,null,null,{"$f":"NILSM6!A5","v":0}]
[null,null,null,"Orang Tua/Wali,",null,null,null,null,"Wali Kelas,",null,null,null,null,null,null,null,{"$f":"\"Nomor Urut \"&R13","v":"Nomor Urut 2"}]
[]
[]
[]
[]
[null,null,null,null,null,null,null,null,{"$f":"NILSM6!B4","v":"Abdul Hapid, S.P"}]
[null,null,null,null,null,null,null,null,{"$f":"IF(NILSM6!B5=0,\"\",\"NIP \"&NILSM6!B5)","v":"NIP 19680917 200012 1 003"}]

{"sheet":"CETSM5","index":11,"n_rows":58,"n_cols":20,"rows_kept":58,"cut":false,"hidden":false,"merged":[[0,2,0,11],[1,2,1,11],[4,16,4,17],[4,18,4,19],[5,16,6,16],[5,17,6,17],[5,18,6,18],[5,19,6,19],[7,19,8,19],[10,2,11,2],[10,3,11,3],[10,4,11,4],[10,5,10,6],[10,7,10,8],[10,9,10,10],[23,2,23,5],[24,3,24,5],[7,16,8,16],[7,17,8,17],[7,18,8,18],[51,16,52,18],[10,11,11,11],[11,16,11,17],[12,16,13,16],[12,17,13,17],[28,3,28,5],[45,2,45,4],[45,6,45,11],[47,2,47,11],[49,16,50,18]]}
[null,null,"KARTU HASIL STUDI (KHS) PESERTA DIDIK",null,null,null,null,null,null,null,null,null,null,null,null,null,"JURUSAN",{"$f":"MENU!F8","v":"TBSM"}]
[null,null,"SMK NEGERI 1 KARAWANG",null,null,null,null,null,null,null,null,null,null,null,null,null,"NIS",{"$f":"VLOOKUP($R$13,TAB_BIODATA,BIODATA!D4,FALSE)","v":16170535}]
[]
[null,null,null,"Nama Peserta Didik",":",{"$f":"VLOOKUP($R$13,TAB_BIODATA,BIODATA!C4,FALSE)","v":"ADAM ADIYAT HARTANTO"}]
[null,null,null,"Nomor Induk/NISN",":",{"$f":"IF(VLOOKUP($R$13,TAB_BIODATA,BIODATA!E4)=\"\",VLOOKUP($R$13,TAB_BIODATA,BIODATA!D4,FALSE),VLOOKUP($R$13,TAB_BIODATA,BIODATA!D4)&\" / \"&VLOOKUP($R$13,TAB_BIODATA,BIODATA!E4,FALSE))","v":"16170535 / 0016930017"},null,null,null,null,null,null,null,null,null,null,"DATA CETAK",null,"HALAMAN CETAK"]
[null,null,null,"Kelas",":",{"$f":"IF(OR(F8=\"1 (satu)\",F8=\"2 (dua)\"),\"X \"&MENU!F9,IF(OR(F8=\"3 (tiga)\",F8=\"4 (empat)\"),\"XI \"&MENU!F9,IF(OR(F8=\"5 (lima)\",F8=\"6 (enam)\"),\"XII \"&MENU!F9,IF(OR(F8=\"7 (tujuh)\",F8=\"8 (delapan)\"),\"XIII \"&MENU!F9,\"\"))))","v":"XII TBSM 2"},null,null,null,null,null,null,null,null,null,null,"Dari data ke",1,"Dari",1]
[null,null,null,"Tahun Pelajaran",":",{"$f":"RIGHT(NILSM5!A2,11)","v":"2020 / 2021"}]
[null,null,null,"Semester",":",{"$f":"NILSM5!B3","v":"5 (lima)"},null,null,null,null,null,null,null,null,null,null,"Sampai data ke",2,"Ke",1]
[]
[null,null,"Nilai Akademik"]
[null,null,"No.","Mata Pelajaran","KKM","KD 1",null,"KD 2",null,"KD 3",null,"Kehadiran"]
[null,null,null,null,null,"Tugas","Ulangan","Tugas","Ulangan","Tugas","Ulangan",null,null,null,null,null,"TAMPILAN DATA"]
[null,null,"A. Muatan Nasional",null,null,"T1","U1","T2","U2","T3","U3","H",null,null,null,null,"Nomor Urut",1]
["PAB",{"$f":"IF(C14>=1,1,0)","v":1},{"$f":"HLOOKUP(A14&$F$13,TABNILSM5,4,FALSE)","v":1},{"$f":"HLOOKUP(A14&$F$13,TABNILSM5,2,FALSE)","v":"Pendidikan Agama dan Budi Pekerti"},{"$f":"IFERROR(HLOOKUP(A14&$F$13,TABNILSM5,5,FALSE),\"-\")","v":78},{"$f":"INDEX(TABNILSM5,MATCH($R$2,NILSM5!$C$1:$C$43,0),MATCH(A14&$F$13,NILSM5!$C$1:$FR$1,0))","v":5},{"$f":"INDEX(TABNILSM5,MATCH($R$2,NILSM5!$C$1:$C$43,0),MATCH(A14&$G$13,NILSM5!$C$1:$FR$1,0))","v":6},{"$f":"INDEX(TABNILSM5,MATCH($R$2,NILSM5!$C$1:$C$43,0),MATCH(A14&$H$13,NILSM5!$C$1:$FR$1,0))","v":7},{"$f":"INDEX(TABNILSM5,MATCH($R$2,NILSM5!$C$1:$C$43,0),MATCH(A14&$I$13,NILSM5!$C$1:$FR$1,0))","v":8},{"$f":"INDEX(TABNILSM5,MATCH($R$2,NILSM5!$C$1:$C$43,0),MATCH(A14&$J$13,NILSM5!$C$1:$FR$1,0))","v":9},{"$f":"INDEX(TABNILSM5,MATCH($R$2,NILSM5!$C$1:$C$43,0),MATCH(A14&$K$13,NILSM5!$C$1:$FR$1,0))","v":10},{"$f":"INDEX(TABNILSM5,MATCH($R$2,NILSM5!$C$1:$C$43,0),MATCH(A14&$L$13,NILSM5!$C$1:$FR$1,0))","v":11}]
["PKN",{"$f":"IF(C15>=1,1,0)","v":1},2,"Pendidikan Pancasila dan Kewarganegaraan",78,{"$f":"INDEX(TABNILSM5,MATCH($R$2,NILSM5!$C$1:$C$43,0),MATCH(A15&$F$13,NILSM5!$C$1:$FR$1,0))","v":12},{"$f":"INDEX(TABNILSM5,MATCH($R$2,NILSM5!$C$1:$C$43,0),MATCH(A15&$G$13,NILSM5!$C$1:$FR$1,0))","v":13},{"$f":"INDEX(TABNILSM5,MATCH($R$2,NILSM5!$C$1:$C$43,0),MATCH(A15&$H$13,NILSM5!$C$1:$FR$1,0))","v":14},{"$f":"INDEX(TABNILSM5,MATCH($R$2,NILSM5!$C$1:$C$43,0),MATCH(A15&$I$13,NILSM5!$C$1:$FR$1,0))","v":15},{"$f":"INDEX(TABNILSM5,MATCH($R$2,NILSM5!$C$1:$C$43,0),MATCH(A15&$J$13,NILSM5!$C$1:$FR$1,0))","v":16},{"$f":"INDEX(TABNILSM5,MATCH($R$2,NILSM5!$C$1:$C$43,0),MATCH(A15&$K$13,NILSM5!$C$1:$FR$1,0))","v":17},{"$f":"INDEX(TABNILSM5,MATCH($R$2,NILSM5!$C$1:$C$43,0),MATCH(A15&$L$13,NILSM5!$C$1:$FR$1,0))","v":18}]
["IND",1,3,"Bahasa Indonesia",78,{"$f":"INDEX(TABNILSM5,MATCH($R$2,NILSM5!$C$1:$C$43,0),MATCH(A16&$F$13,NILSM5!$C$1:$FR$1,0))","v":19},{"$f":"INDEX(TABNILSM5,MATCH($R$2,NILSM5!$C$1:$C$43,0),MATCH(A16&$G$13,NILSM5!$C$1:$FR$1,0))","v":20},{"$f":"INDEX(TABNILSM5,MATCH($R$2,NILSM5!$C$1:$C$43,0),MATCH(A16&$H$13,NILSM5!$C$1:$FR$1,0))","v":21},{"$f":"INDEX(TABNILSM5,MATCH($R$2,NILSM5!$C$1:$C$43,0),MATCH(A16&$I$13,NILSM5!$C$1:$FR$1,0))","v":22},{"$f":"INDEX(TABNILSM5,MATCH($R$2,NILSM5!$C$1:$C$43,0),MATCH(A16&$J$13,NILSM5!$C$1:$FR$1,0))","v":23},{"$f":"INDEX(TABNILSM5,MATCH($R$2,NILSM5!$C$1:$C$43,0),MATCH(A16&$K$13,NILSM5!$C$1:$FR$1,0))","v":24},{"$f":"INDEX(TABNILSM5,MATCH($R$2,NILSM5!$C$1:$C$43,0),MATCH(A16&$L$13,NILSM5!$C$1:$FR$1,0))","v":25}]
["MTK",1,4,"Matematika",78,{"$f":"INDEX(TABNILSM5,MATCH($R$2,NILSM5!$C$1:$C$43,0),MATCH(A17&$F$13,NILSM5!$C$1:$FR$1,0))","v":26},{"$f":"INDEX(TABNILSM5,MATCH($R$2,NILSM5!$C$1:$C$43,0),MATCH(A17&$G$13,NILSM5!$C$1:$FR$1,0))","v":27},{"$f":"INDEX(TABNILSM5,MATCH($R$2,NILSM5!$C$1:$C$43,0),MATCH(A17&$H$13,NILSM5!$C$1:$FR$1,0))","v":28},{"$f":"INDEX(TABNILSM5,MATCH($R$2,NILSM5!$C$1:$C$43,0),MATCH(A17&$I$13,NILSM5!$C$1:$FR$1,0))","v":29},{"$f":"INDEX(TABNILSM5,MATCH($R$2,NILSM5!$C$1:$C$43,0),MATCH(A17&$J$13,NILSM5!$C$1:$FR$1,0))","v":30},{"$f":"INDEX(TABNILSM5,MATCH($R$2,NILSM5!$C$1:$C$43,0),MATCH(A17&$K$13,NILSM5!$C$1:$FR$1,0))","v":31},{"$f":"INDEX(TABNILSM5,MATCH($R$2,NILSM5!$C$1:$C$43,0),MATCH(A17&$L$13,NILSM5!$C$1:$FR$1,0))","v":32}]
["SJI",0,0,"-",78,{"$f":"INDEX(TABNILSM5,MATCH($R$2,NILSM5!$C$1:$C$43,0),MATCH(A18&$F$13,NILSM5!$C$1:$FR$1,0))","v":33},{"$f":"INDEX(TABNILSM5,MATCH($R$2,NILSM5!$C$1:$C$43,0),MATCH(A18&$G$13,NILSM5!$C$1:$FR$1,0))","v":34},{"$f":"INDEX(TABNILSM5,MATCH($R$2,NILSM5!$C$1:$C$43,0),MATCH(A18&$H$13,NILSM5!$C$1:$FR$1,0))","v":35},{"$f":"INDEX(TABNILSM5,MATCH($R$2,NILSM5!$C$1:$C$43,0),MATCH(A18&$I$13,NILSM5!$C$1:$FR$1,0))","v":36},{"$f":"INDEX(TABNILSM5,MATCH($R$2,NILSM5!$C$1:$C$43,0),MATCH(A18&$J$13,NILSM5!$C$1:$FR$1,0))","v":37},{"$f":"INDEX(TABNILSM5,MATCH($R$2,NILSM5!$C$1:$C$43,0),MATCH(A18&$K$13,NILSM5!$C$1:$FR$1,0))","v":38},{"$f":"INDEX(TABNILSM5,MATCH($R$2,NILSM5!$C$1:$C$43,0),MATCH(A18&$L$13,NILSM5!$C$1:$FR$1,0))","v":39}]
["ING",1,5,"Bahasa Inggris",78,{"$f":"INDEX(TABNILSM5,MATCH($R$2,NILSM5!$C$1:$C$43,0),MATCH(A19&$F$13,NILSM5!$C$1:$FR$1,0))","v":40},{"$f":"INDEX(TABNILSM5,MATCH($R$2,NILSM5!$C$1:$C$43,0),MATCH(A19&$G$13,NILSM5!$C$1:$FR$1,0))","v":41},{"$f":"INDEX(TABNILSM5,MATCH($R$2,NILSM5!$C$1:$C$43,0),MATCH(A19&$H$13,NILSM5!$C$1:$FR$1,0))","v":42},{"$f":"INDEX(TABNILSM5,MATCH($R$2,NILSM5!$C$1:$C$43,0),MATCH(A19&$I$13,NILSM5!$C$1:$FR$1,0))","v":43},{"$f":"INDEX(TABNILSM5,MATCH($R$2,NILSM5!$C$1:$C$43,0),MATCH(A19&$J$13,NILSM5!$C$1:$FR$1,0))","v":44},{"$f":"INDEX(TABNILSM5,MATCH($R$2,NILSM5!$C$1:$C$43,0),MATCH(A19&$K$13,NILSM5!$C$1:$FR$1,0))","v":45},{"$f":"INDEX(TABNILSM5,MATCH($R$2,NILSM5!$C$1:$C$43,0),MATCH(A19&$L$13,NILSM5!$C$1:$FR$1,0))","v":46}]
["JER",1,6,"Bahasa Jerman",78,{"$f":"INDEX(TABNILSM5,MATCH($R$2,NILSM5!$C$1:$C$43,0),MATCH(A20&$F$13,NILSM5!$C$1:$FR$1,0))","v":47},{"$f":"INDEX(TABNILSM5,MATCH($R$2,NILSM5!$C$1:$C$43,0),MATCH(A20&$G$13,NILSM5!$C$1:$FR$1,0))","v":48},{"$f":"INDEX(TABNILSM5,MATCH($R$2,NILSM5!$C$1:$C$43,0),MATCH(A20&$H$13,NILSM5!$C$1:$FR$1,0))","v":49},{"$f":"INDEX(TABNILSM5,MATCH($R$2,NILSM5!$C$1:$C$43,0),MATCH(A20&$I$13,NILSM5!$C$1:$FR$1,0))","v":50},{"$f":"INDEX(TABNILSM5,MATCH($R$2,NILSM5!$C$1:$C$43,0),MATCH(A20&$J$13,NILSM5!$C$1:$FR$1,0))","v":51},{"$f":"INDEX(TABNILSM5,MATCH($R$2,NILSM5!$C$1:$C$43,0),MATCH(A20&$K$13,NILSM5!$C$1:$FR$1,0))","v":52},{"$f":"INDEX(TABNILSM5,MATCH($R$2,NILSM5!$C$1:$C$43,0),MATCH(A20&$L$13,NILSM5!$C$1:$FR$1,0))","v":53}]
[null,{"$f":"IF(AND(COUNT(C21)=0,C23=0),0,1)","v":0},"B. Muatan Kewilayahan"]
["SBD",0,{"$f":"HLOOKUP(A22&$F$13,TABNILSM5,4,FALSE)","v":0},{"$f":"HLOOKUP(A22&$F$13,TABNILSM5,2,FALSE)","v":"-"},{"$f":"IFERROR(HLOOKUP(A22&$F$13,TABNILSM5,5,FALSE),\"-\")","v":78},{"$f":"INDEX(TABNILSM5,MATCH($R$2,NILSM5!$C$1:$C$43,0),MATCH(A22&$F$13,NILSM5!$C$1:$FR$1,0))","v":54},{"$f":"INDEX(TABNILSM5,MATCH($R$2,NILSM5!$C$1:$C$43,0),MATCH(A22&$G$13,NILSM5!$C$1:$FR$1,0))","v":55},{"$f":"INDEX(TABNILSM5,MATCH($R$2,NILSM5!$C$1:$C$43,0),MATCH(A22&$H$13,NILSM5!$C$1:$FR$1,0))","v":56},{"$f":"INDEX(TABNILSM5,MATCH($R$2,NILSM5!$C$1:$C$43,0),MATCH(A22&$I$13,NILSM5!$C$1:$FR$1,0))","v":57},{"$f":"INDEX(TABNILSM5,MATCH($R$2,NILSM5!$C$1:$C$43,0),MATCH(A22&$J$13,NILSM5!$C$1:$FR$1,0))","v":58},{"$f":"INDEX(TABNILSM5,MATCH($R$2,NILSM5!$C$1:$C$43,0),MATCH(A22&$K$13,NILSM5!$C$1:$FR$1,0))","v":59},{"$f":"INDEX(TABNILSM5,MATCH($R$2,NILSM5!$C$1:$C$43,0),MATCH(A22&$L$13,NILSM5!$C$1:$FR$1,0))","v":60}]
["PJO",0,{"$f":"HLOOKUP(A23&$F$13,TABNILSM5,4,FALSE)","v":0},{"$f":"HLOOKUP(A23&$F$13,TABNILSM5,2,FALSE)","v":"-"},{"$f":"IFERROR(HLOOKUP(A23&$F$13,TABNILSM5,5,FALSE),\"-\")","v":78},{"$f":"INDEX(TABNILSM5,MATCH($R$2,NILSM5!$C$1:$C$43,0),MATCH(A23&$F$13,NILSM5!$C$1:$FR$1,0))","v":61},{"$f":"INDEX(TABNILSM5,MATCH($R$2,NILSM5!$C$1:$C$43,0),MATCH(A23&$G$13,NILSM5!$C$1:$FR$1,0))","v":62},{"$f":"INDEX(TABNILSM5,MATCH($R$2,NILSM5!$C$1:$C$43,0),MATCH(A23&$H$13,NILSM5!$C$1:$FR$1,0))","v":63},{"$f":"INDEX(TABNILSM5,MATCH($R$2,NILSM5!$C$1:$C$43,0),MATCH(A23&$I$13,NILSM5!$C$1:$FR$1,0))","v":64},{"$f":"INDEX(TABNILSM5,MATCH($R$2,NILSM5!$C$1:$C$43,0),MATCH(A23&$J$13,NILSM5!$C$1:$FR$1,0))","v":65},{"$f":"INDEX(TABNILSM5,MATCH($R$2,NILSM5!$C$1:$C$43,0),MATCH(A23&$K$13,NILSM5!$C$1:$FR$1,0))","v":66},{"$f":"INDEX(TABNILSM5,MATCH($R$2,NILSM5!$C$1:$C$43,0),MATCH(A23&$L$13,NILSM5!$C$1:$FR$1,0))","v":67}]
["-",1,"C. Muatan Peminatan Kejuruan"]
[null,{"$f":"IF(AND(COUNT(C25)=0,C26=0),0,1)","v":0},"C1","Dasar Bidang Keahlian"]
["SKD",{"$f":"IF(C26>=1,1,0)","v":0},{"$f":"HLOOKUP(A26&$F$13,TABNILSM5,4,FALSE)","v":0},{"$f":"HLOOKUP(A26&$F$13,TABNILSM5,2,FALSE)","v":"-"},{"$f":"IFERROR(HLOOKUP(A26&$F$13,TABNILSM5,5,FALSE),\"-\")","v":78},{"$f":"INDEX(TABNILSM5,MATCH($R$2,NILSM5!$C$1:$C$43,0),MATCH(A26&$F$13,NILSM5!$C$1:$FR$1,0))","v":68},{"$f":"INDEX(TABNILSM5,MATCH($R$2,NILSM5!$C$1:$C$43,0),MATCH(A26&$G$13,NILSM5!$C$1:$FR$1,0))","v":69},{"$f":"INDEX(TABNILSM5,MATCH($R$2,NILSM5!$C$1:$C$43,0),MATCH(A26&$H$13,NILSM5!$C$1:$FR$1,0))","v":70},{"$f":"INDEX(TABNILSM5,MATCH($R$2,NILSM5!$C$1:$C$43,0),MATCH(A26&$I$13,NILSM5!$C$1:$FR$1,0))","v":71},{"$f":"INDEX(TABNILSM5,MATCH($R$2,NILSM5!$C$1:$C$43,0),MATCH(A26&$J$13,NILSM5!$C$1:$FR$1,0))","v":72},{"$f":"INDEX(TABNILSM5,MATCH($R$2,NILSM5!$C$1:$C$43,0),MATCH(A26&$K$13,NILSM5!$C$1:$FR$1,0))","v":73},{"$f":"INDEX(TABNILSM5,MATCH($R$2,NILSM5!$C$1:$C$43,0),MATCH(A26&$L$13,NILSM5!$C$1:$FR$1,0))","v":74}]
["FIS",0,{"$f":"HLOOKUP(A27&$F$13,TABNILSM5,4,FALSE)","v":0},{"$f":"HLOOKUP(A27&$F$13,TABNILSM5,2,FALSE)","v":"-"},{"$f":"IFERROR(HLOOKUP(A27&$F$13,TABNILSM5,5,FALSE),\"-\")","v":78},{"$f":"INDEX(TABNILSM5,MATCH($R$2,NILSM5!$C$1:$C$43,0),MATCH(A27&$F$13,NILSM5!$C$1:$FR$1,0))","v":75},{"$f":"INDEX(TABNILSM5,MATCH($R$2,NILSM5!$C$1:$C$43,0),MATCH(A27&$G$13,NILSM5!$C$1:$FR$1,0))","v":76},{"$f":"INDEX(TABNILSM5,MATCH($R$2,NILSM5!$C$1:$C$43,0),MATCH(A27&$H$13,NILSM5!$C$1:$FR$1,0))","v":77},{"$f":"INDEX(TABNILSM5,MATCH($R$2,NILSM5!$C$1:$C$43,0),MATCH(A27&$I$13,NILSM5!$C$1:$FR$1,0))","v":78},{"$f":"INDEX(TABNILSM5,MATCH($R$2,NILSM5!$C$1:$C$43,0),MATCH(A27&$J$13,NILSM5!$C$1:$FR$1,0))","v":79},{"$f":"INDEX(TABNILSM5,MATCH($R$2,NILSM5!$C$1:$C$43,0),MATCH(A27&$K$13,NILSM5!$C$1:$FR$1,0))","v":80},{"$f":"INDEX(TABNILSM5,MATCH($R$2,NILSM5!$C$1:$C$43,0),MATCH(A27&$L$13,NILSM5!$C$1:$FR$1,0))","v":81}]
["KIM",0,{"$f":"HLOOKUP(A28&$F$13,TABNILSM5,4,FALSE)","v":0},{"$f":"HLOOKUP(A28&$F$13,TABNILSM5,2,FALSE)","v":"-"},{"$f":"IFERROR(HLOOKUP(A28&$F$13,TABNILSM5,5,FALSE),\"-\")","v":78},{"$f":"INDEX(TABNILSM5,MATCH($R$2,NILSM5!$C$1:$C$43,0),MATCH(A28&$F$13,NILSM5!$C$1:$FR$1,0))","v":82},{"$f":"INDEX(TABNILSM5,MATCH($R$2,NILSM5!$C$1:$C$43,0),MATCH(A28&$G$13,NILSM5!$C$1:$FR$1,0))","v":83},{"$f":"INDEX(TABNILSM5,MATCH($R$2,NILSM5!$C$1:$C$43,0),MATCH(A28&$H$13,NILSM5!$C$1:$FR$1,0))","v":84},{"$f":"INDEX(TABNILSM5,MATCH($R$2,NILSM5!$C$1:$C$43,0),MATCH(A28&$I$13,NILSM5!$C$1:$FR$1,0))","v":85},{"$f":"INDEX(TABNILSM5,MATCH($R$2,NILSM5!$C$1:$C$43,0),MATCH(A28&$J$13,NILSM5!$C$1:$FR$1,0))","v":86},{"$f":"INDEX(TABNILSM5,MATCH($R$2,NILSM5!$C$1:$C$43,0),MATCH(A28&$K$13,NILSM5!$C$1:$FR$1,0))","v":87},{"$f":"INDEX(TABNILSM5,MATCH($R$2,NILSM5!$C$1:$C$43,0),MATCH(A28&$L$13,NILSM5!$C$1:$FR$1,0))","v":88}]
[null,{"$f":"IF(AND(COUNT(C29)=0,C30=0),0,1)","v":0},"C2","Dasar Program Keahlian"]
["C21",0,{"$f":"HLOOKUP(A30&$F$13,TABNILSM5,4,FALSE)","v":0},{"$f":"HLOOKUP(A30&$F$13,TABNILSM5,2,FALSE)","v":"-"},{"$f":"IFERROR(HLOOKUP(A30&$F$13,TABNILSM5,5,FALSE),\"-\")","v":78},{"$f":"INDEX(TABNILSM5,MATCH($R$2,NILSM5!$C$1:$C$43,0),MATCH(A30&$F$13,NILSM5!$C$1:$FR$1,0))","v":89},{"$f":"INDEX(TABNILSM5,MATCH($R$2,NILSM5!$C$1:$C$43,0),MATCH(A30&$G$13,NILSM5!$C$1:$FR$1,0))","v":90},{"$f":"INDEX(TABNILSM5,MATCH($R$2,NILSM5!$C$1:$C$43,0),MATCH(A30&$H$13,NILSM5!$C$1:$FR$1,0))","v":91},{"$f":"INDEX(TABNILSM5,MATCH($R$2,NILSM5!$C$1:$C$43,0),MATCH(A30&$I$13,NILSM5!$C$1:$FR$1,0))","v":92},{"$f":"INDEX(TABNILSM5,MATCH($R$2,NILSM5!$C$1:$C$43,0),MATCH(A30&$J$13,NILSM5!$C$1:$FR$1,0))","v":93},{"$f":"INDEX(TABNILSM5,MATCH($R$2,NILSM5!$C$1:$C$43,0),MATCH(A30&$K$13,NILSM5!$C$1:$FR$1,0))","v":94},{"$f":"INDEX(TABNILSM5,MATCH($R$2,NILSM5!$C$1:$C$43,0),MATCH(A30&$L$13,NILSM5!$C$1:$FR$1,0))","v":95}]
["C22",0,{"$f":"HLOOKUP(A31&$F$13,TABNILSM5,4,FALSE)","v":0},{"$f":"HLOOKUP(A31&$F$13,TABNILSM5,2,FALSE)","v":"-"},{"$f":"IFERROR(HLOOKUP(A31&$F$13,TABNILSM5,5,FALSE),\"-\")","v":78},{"$f":"INDEX(TABNILSM5,MATCH($R$2,NILSM5!$C$1:$C$43,0),MATCH(A31&$F$13,NILSM5!$C$1:$FR$1,0))","v":96},{"$f":"INDEX(TABNILSM5,MATCH($R$2,NILSM5!$C$1:$C$43,0),MATCH(A31&$G$13,NILSM5!$C$1:$FR$1,0))","v":97},{"$f":"INDEX(TABNILSM5,MATCH($R$2,NILSM5!$C$1:$C$43,0),MATCH(A31&$H$13,NILSM5!$C$1:$FR$1,0))","v":98},{"$f":"INDEX(TABNILSM5,MATCH($R$2,NILSM5!$C$1:$C$43,0),MATCH(A31&$I$13,NILSM5!$C$1:$FR$1,0))","v":99},{"$f":"INDEX(TABNILSM5,MATCH($R$2,NILSM5!$C$1:$C$43,0),MATCH(A31&$J$13,NILSM5!$C$1:$FR$1,0))","v":100},{"$f":"INDEX(TABNILSM5,MATCH($R$2,NILSM5!$C$1:$C$43,0),MATCH(A31&$K$13,NILSM5!$C$1:$FR$1,0))","v":75},{"$f":"INDEX(TABNILSM5,MATCH($R$2,NILSM5!$C$1:$C$43,0),MATCH(A31&$L$13,NILSM5!$C$1:$FR$1,0))","v":76}]
["C23",0,{"$f":"HLOOKUP(A32&$F$13,TABNILSM5,4,FALSE)","v":0},{"$f":"HLOOKUP(A32&$F$13,TABNILSM5,2,FALSE)","v":"-"},{"$f":"IFERROR(HLOOKUP(A32&$F$13,TABNILSM5,5,FALSE),\"-\")","v":78},{"$f":"INDEX(TABNILSM5,MATCH($R$2,NILSM5!$C$1:$C$43,0),MATCH(A32&$F$13,NILSM5!$C$1:$FR$1,0))","v":77},{"$f":"INDEX(TABNILSM5,MATCH($R$2,NILSM5!$C$1:$C$43,0),MATCH(A32&$G$13,NILSM5!$C$1:$FR$1,0))","v":78},{"$f":"INDEX(TABNILSM5,MATCH($R$2,NILSM5!$C$1:$C$43,0),MATCH(A32&$H$13,NILSM5!$C$1:$FR$1,0))","v":79},{"$f":"INDEX(TABNILSM5,MATCH($R$2,NILSM5!$C$1:$C$43,0),MATCH(A32&$I$13,NILSM5!$C$1:$FR$1,0))","v":80},{"$f":"INDEX(TABNILSM5,MATCH($R$2,NILSM5!$C$1:$C$43,0),MATCH(A32&$J$13,NILSM5!$C$1:$FR$1,0))","v":81},{"$f":"INDEX(TABNILSM5,MATCH($R$2,NILSM5!$C$1:$C$43,0),MATCH(A32&$K$13,NILSM5!$C$1:$FR$1,0))","v":82},{"$f":"INDEX(TABNILSM5,MATCH($R$2,NILSM5!$C$1:$C$43,0),MATCH(A32&$L$13,NILSM5!$C$1:$FR$1,0))","v":83}]
["C24",0,{"$f":"HLOOKUP(A33&$F$13,TABNILSM5,4,FALSE)","v":0},{"$f":"HLOOKUP(A33&$F$13,TABNILSM5,2,FALSE)","v":"-"},{"$f":"IFERROR(HLOOKUP(A33&$F$13,TABNILSM5,5,FALSE),\"-\")","v":78},{"$f":"INDEX(TABNILSM5,MATCH($R$2,NILSM5!$C$1:$C$43,0),MATCH(A33&$F$13,NILSM5!$C$1:$FR$1,0))","v":84},{"$f":"INDEX(TABNILSM5,MATCH($R$2,NILSM5!$C$1:$C$43,0),MATCH(A33&$G$13,NILSM5!$C$1:$FR$1,0))","v":85},{"$f":"INDEX(TABNILSM5,MATCH($R$2,NILSM5!$C$1:$C$43,0),MATCH(A33&$H$13,NILSM5!$C$1:$FR$1,0))","v":86},{"$f":"INDEX(TABNILSM5,MATCH($R$2,NILSM5!$C$1:$C$43,0),MATCH(A33&$I$13,NILSM5!$C$1:$FR$1,0))","v":87},{"$f":"INDEX(TABNILSM5,MATCH($R$2,NILSM5!$C$1:$C$43,0),MATCH(A33&$J$13,NILSM5!$C$1:$FR$1,0))","v":88},{"$f":"INDEX(TABNILSM5,MATCH($R$2,NILSM5!$C$1:$C$43,0),MATCH(A33&$K$13,NILSM5!$C$1:$FR$1,0))","v":89},{"$f":"INDEX(TABNILSM5,MATCH($R$2,NILSM5!$C$1:$C$43,0),MATCH(A33&$L$13,NILSM5!$C$1:$FR$1,0))","v":90}]
["-",{"$f":"IF(AND(COUNT(C34)=0,C37=0),0,1)","v":1},"C3","Kompetensi Keahlian"]
["C31",1,{"$f":"HLOOKUP(A35&$F$13,TABNILSM5,4,FALSE)","v":7},{"$f":"HLOOKUP(A35&$F$13,TABNILSM5,2,FALSE)","v":"Pemeliharaan Mesin Sepeda Motor"},{"$f":"IFERROR(HLOOKUP(A35&$F$13,TABNILSM5,5,FALSE),\"-\")","v":78},{"$f":"INDEX(TABNILSM5,MATCH($R$2,NILSM5!$C$1:$C$43,0),MATCH(A35&$F$13,NILSM5!$C$1:$FR$1,0))","v":91},{"$f":"INDEX(TABNILSM5,MATCH($R$2,NILSM5!$C$1:$C$43,0),MATCH(A35&$G$13,NILSM5!$C$1:$FR$1,0))","v":92},{"$f":"INDEX(TABNILSM5,MATCH($R$2,NILSM5!$C$1:$C$43,0),MATCH(A35&$H$13,NILSM5!$C$1:$FR$1,0))","v":93},{"$f":"INDEX(TABNILSM5,MATCH($R$2,NILSM5!$C$1:$C$43,0),MATCH(A35&$I$13,NILSM5!$C$1:$FR$1,0))","v":94},{"$f":"INDEX(TABNILSM5,MATCH($R$2,NILSM5!$C$1:$C$43,0),MATCH(A35&$J$13,NILSM5!$C$1:$FR$1,0))","v":95},{"$f":"INDEX(TABNILSM5,MATCH($R$2,NILSM5!$C$1:$C$43,0),MATCH(A35&$K$13,NILSM5!$C$1:$FR$1,0))","v":96},{"$f":"INDEX(TABNILSM5,MATCH($R$2,NILSM5!$C$1:$C$43,0),MATCH(A35&$L$13,NILSM5!$C$1:$FR$1,0))","v":97}]
["C32",1,8,"Pemeliharaan Sasis Sepeda Motor",78,{"$f":"INDEX(TABNILSM5,MATCH($R$2,NILSM5!$C$1:$C$43,0),MATCH(A36&$F$13,NILSM5!$C$1:$FR$1,0))","v":98},{"$f":"INDEX(TABNILSM5,MATCH($R$2,NILSM5!$C$1:$C$43,0),MATCH(A36&$G$13,NILSM5!$C$1:$FR$1,0))","v":99},{"$f":"INDEX(TABNILSM5,MATCH($R$2,NILSM5!$C$1:$C$43,0),MATCH(A36&$H$13,NILSM5!$C$1:$FR$1,0))","v":100},{"$f":"INDEX(TABNILSM5,MATCH($R$2,NILSM5!$C$1:$C$43,0),MATCH(A36&$I$13,NILSM5!$C$1:$FR$1,0))","v":75},{"$f":"INDEX(TABNILSM5,MATCH($R$2,NILSM5!$C$1:$C$43,0),MATCH(A36&$J$13,NILSM5!$C$1:$FR$1,0))","v":76},{"$f":"INDEX(TABNILSM5,MATCH($R$2,NILSM5!$C$1:$C$43,0),MATCH(A36&$K$13,NILSM5!$C$1:$FR$1,0))","v":77},{"$f":"INDEX(TABNILSM5,MATCH($R$2,NILSM5!$C$1:$C$43,0),MATCH(A36&$L$13,NILSM5!$C$1:$FR$1,0))","v":78}]
["C33",1,9,"Pemeliharaan Kelistrikan Sepeda Motor",78,{"$f":"INDEX(TABNILSM5,MATCH($R$2,NILSM5!$C$1:$C$43,0),MATCH(A37&$F$13,NILSM5!$C$1:$FR$1,0))","v":79},{"$f":"INDEX(TABNILSM5,MATCH($R$2,NILSM5!$C$1:$C$43,0),MATCH(A37&$G$13,NILSM5!$C$1:$FR$1,0))","v":80},{"$f":"INDEX(TABNILSM5,MATCH($R$2,NILSM5!$C$1:$C$43,0),MATCH(A37&$H$13,NILSM5!$C$1:$FR$1,0))","v":81},{"$f":"INDEX(TABNILSM5,MATCH($R$2,NILSM5!$C$1:$C$43,0),MATCH(A37&$I$13,NILSM5!$C$1:$FR$1,0))","v":82},{"$f":"INDEX(TABNILSM5,MATCH($R$2,NILSM5!$C$1:$C$43,0),MATCH(A37&$J$13,NILSM5!$C$1:$FR$1,0))","v":83},{"$f":"INDEX(TABNILSM5,MATCH($R$2,NILSM5!$C$1:$C$43,0),MATCH(A37&$K$13,NILSM5!$C$1:$FR$1,0))","v":84},{"$f":"INDEX(TABNILSM5,MATCH($R$2,NILSM5!$C$1:$C$43,0),MATCH(A37&$L$13,NILSM5!$C$1:$FR$1,0))","v":85}]
["C34",1,10,"Pengelolaan Bengkel Sepeda Motor",78,{"$f":"INDEX(TABNILSM5,MATCH($R$2,NILSM5!$C$1:$C$43,0),MATCH(A38&$F$13,NILSM5!$C$1:$FR$1,0))","v":86},{"$f":"INDEX(TABNILSM5,MATCH($R$2,NILSM5!$C$1:$C$43,0),MATCH(A38&$G$13,NILSM5!$C$1:$FR$1,0))","v":87},{"$f":"INDEX(TABNILSM5,MATCH($R$2,NILSM5!$C$1:$C$43,0),MATCH(A38&$H$13,NILSM5!$C$1:$FR$1,0))","v":88},{"$f":"INDEX(TABNILSM5,MATCH($R$2,NILSM5!$C$1:$C$43,0),MATCH(A38&$I$13,NILSM5!$C$1:$FR$1,0))","v":89},{"$f":"INDEX(TABNILSM5,MATCH($R$2,NILSM5!$C$1:$C$43,0),MATCH(A38&$J$13,NILSM5!$C$1:$FR$1,0))","v":90},{"$f":"INDEX(TABNILSM5,MATCH($R$2,NILSM5!$C$1:$C$43,0),MATCH(A38&$K$13,NILSM5!$C$1:$FR$1,0))","v":91},{"$f":"INDEX(TABNILSM5,MATCH($R$2,NILSM5!$C$1:$C$43,0),MATCH(A38&$L$13,NILSM5!$C$1:$FR$1,0))","v":92}]
["C35",0,0,"-",78,{"$f":"INDEX(TABNILSM5,MATCH($R$2,NILSM5!$C$1:$C$43,0),MATCH(A39&$F$13,NILSM5!$C$1:$FR$1,0))","v":93},{"$f":"INDEX(TABNILSM5,MATCH($R$2,NILSM5!$C$1:$C$43,0),MATCH(A39&$G$13,NILSM5!$C$1:$FR$1,0))","v":94},{"$f":"INDEX(TABNILSM5,MATCH($R$2,NILSM5!$C$1:$C$43,0),MATCH(A39&$H$13,NILSM5!$C$1:$FR$1,0))","v":95},{"$f":"INDEX(TABNILSM5,MATCH($R$2,NILSM5!$C$1:$C$43,0),MATCH(A39&$I$13,NILSM5!$C$1:$FR$1,0))","v":96},{"$f":"INDEX(TABNILSM5,MATCH($R$2,NILSM5!$C$1:$C$43,0),MATCH(A39&$J$13,NILSM5!$C$1:$FR$1,0))","v":97},{"$f":"INDEX(TABNILSM5,MATCH($R$2,NILSM5!$C$1:$C$43,0),MATCH(A39&$K$13,NILSM5!$C$1:$FR$1,0))","v":98},{"$f":"INDEX(TABNILSM5,MATCH($R$2,NILSM5!$C$1:$C$43,0),MATCH(A39&$L$13,NILSM5!$C$1:$FR$1,0))","v":99}]
["C36",1,11,"Produk Kreatif dan Kewirausahaan ",78,{"$f":"INDEX(TABNILSM5,MATCH($R$2,NILSM5!$C$1:$C$43,0),MATCH(A40&$F$13,NILSM5!$C$1:$FR$1,0))","v":100},{"$f":"INDEX(TABNILSM5,MATCH($R$2,NILSM5!$C$1:$C$43,0),MATCH(A40&$G$13,NILSM5!$C$1:$FR$1,0))","v":75},{"$f":"INDEX(TABNILSM5,MATCH($R$2,NILSM5!$C$1:$C$43,0),MATCH(A40&$H$13,NILSM5!$C$1:$FR$1,0))","v":76},{"$f":"INDEX(TABNILSM5,MATCH($R$2,NILSM5!$C$1:$C$43,0),MATCH(A40&$I$13,NILSM5!$C$1:$FR$1,0))","v":77},{"$f":"INDEX(TABNILSM5,MATCH($R$2,NILSM5!$C$1:$C$43,0),MATCH(A40&$J$13,NILSM5!$C$1:$FR$1,0))","v":78},{"$f":"INDEX(TABNILSM5,MATCH($R$2,NILSM5!$C$1:$C$43,0),MATCH(A40&$K$13,NILSM5!$C$1:$FR$1,0))","v":79},{"$f":"INDEX(TABNILSM5,MATCH($R$2,NILSM5!$C$1:$C$43,0),MATCH(A40&$L$13,NILSM5!$C$1:$FR$1,0))","v":80}]
[null,{"$f":"IF(AND(COUNT(C41)=0,C42=0),0,1)","v":0},"Muatan Lokal"]
["SUN",0,{"$f":"HLOOKUP(A42&$F$13,TABNILSM5,4,FALSE)","v":0},{"$f":"HLOOKUP(A42&$F$13,TABNILSM5,2,FALSE)","v":"-"},{"$f":"IFERROR(HLOOKUP(A42&$F$13,TABNILSM5,5,FALSE),\"-\")","v":78},{"$f":"INDEX(TABNILSM5,MATCH($R$2,NILSM5!$C$1:$C$43,0),MATCH(A42&$F$13,NILSM5!$C$1:$FR$1,0))","v":81},{"$f":"INDEX(TABNILSM5,MATCH($R$2,NILSM5!$C$1:$C$43,0),MATCH(A42&$G$13,NILSM5!$C$1:$FR$1,0))","v":82},{"$f":"INDEX(TABNILSM5,MATCH($R$2,NILSM5!$C$1:$C$43,0),MATCH(A42&$H$13,NILSM5!$C$1:$FR$1,0))","v":83},{"$f":"INDEX(TABNILSM5,MATCH($R$2,NILSM5!$C$1:$C$43,0),MATCH(A42&$I$13,NILSM5!$C$1:$FR$1,0))","v":84},{"$f":"INDEX(TABNILSM5,MATCH($R$2,NILSM5!$C$1:$C$43,0),MATCH(A42&$J$13,NILSM5!$C$1:$FR$1,0))","v":85},{"$f":"INDEX(TABNILSM5,MATCH($R$2,NILSM5!$C$1:$C$43,0),MATCH(A42&$K$13,NILSM5!$C$1:$FR$1,0))","v":86},{"$f":"INDEX(TABNILSM5,MATCH($R$2,NILSM5!$C$1:$C$43,0),MATCH(A42&$L$13,NILSM5!$C$1:$FR$1,0))","v":87}]
["PLH",0,{"$f":"HLOOKUP(A43&$F$13,TABNILSM5,4,FALSE)","v":0},{"$f":"HLOOKUP(A43&$F$13,TABNILSM5,2,FALSE)","v":"-"},{"$f":"IFERROR(HLOOKUP(A43&$F$13,TABNILSM5,5,FALSE),\"-\")","v":78},{"$f":"INDEX(TABNILSM5,MATCH($R$2,NILSM5!$C$1:$C$43,0),MATCH(A43&$F$13,NILSM5!$C$1:$FR$1,0))","v":88},{"$f":"INDEX(TABNILSM5,MATCH($R$2,NILSM5!$C$1:$C$43,0),MATCH(A43&$G$13,NILSM5!$C$1:$FR$1,0))","v":89},{"$f":"INDEX(TABNILSM5,MATCH($R$2,NILSM5!$C$1:$C$43,0),MATCH(A43&$H$13,NILSM5!$C$1:$FR$1,0))","v":90},{"$f":"INDEX(TABNILSM5,MATCH($R$2,NILSM5!$C$1:$C$43,0),MATCH(A43&$I$13,NILSM5!$C$1:$FR$1,0))","v":91},{"$f":"INDEX(TABNILSM5,MATCH($R$2,NILSM5!$C$1:$C$43,0),MATCH(A43&$J$13,NILSM5!$C$1:$FR$1,0))","v":92},{"$f":"INDEX(TABNILSM5,MATCH($R$2,NILSM5!$C$1:$C$43,0),MATCH(A43&$K$13,NILSM5!$C$1:$FR$1,0))","v":93},{"$f":"INDEX(TABNILSM5,MATCH($R$2,NILSM5!$C$1:$C$43,0),MATCH(A43&$L$13,NILSM5!$C$1:$FR$1,0))","v":94}]
[]
["CTT",null,"Bimbingan dan Konseling",null,null,null,"Catatan Akademik"]
["BKN",null,{"$f":"INDEX(TABNILSM5,MATCH($R$2,NILSM5!$C$1:$C$43,0),MATCH(A46,NILSM5!$C$1:$FR$1,0))","v":0},null,null,null,{"$f":"INDEX(TABNILSM5,MATCH($R$2,NILSM5!$C$1:$C$43,0),MATCH(A45,NILSM5!$C$1:$FR$1,0))","v":0}]
[]
[null,null,"Catatan: Jika nilai 0, siswa belum mengupload tugas atau belum mengerjakan ulangan. Jika nilai - , materi KD (Kompetensi Dasar) tersebut dilaksanakan setelah pembagian KHS."]
[]
[null,null,null,null,null,null,null,null,null,null,null,null,null,null,null,null,{"$f":"VLOOKUP($R$13,TAB_BIODATA,BIODATA!C4,FALSE)","v":"ADAM ADIYAT HARTANTO"}]
[null,null,null,"Mengetahui,",null,null,null,null,{"$f":"NILSM5!A5","v":0}]
[null,null,null,"Orang Tua/Wali,",null,null,null,null,"Wali Kelas,",null,null,null,null,null,null,null,{"$f":"\"Nomor Urut \"&R13","v":"Nomor Urut 1"}]
[]
[]
[]
[]
[null,null,null,null,null,null,null,null,{"$f":"NILSM5!B4","v":"Amo Sisdianto, S.Kom"}]
[null,null,null,null,null,null,null,null,{"$f":"IF(NILSM5!B5=0,\"\",\"NIP \"&NILSM5!B5)","v":""}]

{"sheet":"CETSM4","index":12,"n_rows":58,"n_cols":20,"rows_kept":58,"cut":false,"hidden":false,"merged":[[28,3,28,5],[45,2,45,4],[45,6,45,11],[47,2,47,11],[49,16,50,18],[51,16,52,18],[10,11,11,11],[11,16,11,17],[12,16,13,16],[12,17,13,17],[23,2,23,5],[24,3,24,5],[7,16,8,16],[7,17,8,17],[7,18,8,18],[7,19,8,19],[10,2,11,2],[10,3,11,3],[10,4,11,4],[10,5,10,6],[10,7,10,8],[10,9,10,10],[0,2,0,11],[1,2,1,11],[4,16,4,17],[4,18,4,19],[5,16,6,16],[5,17,6,17],[5,18,6,18],[5,19,6,19]]}
[null,null,"KARTU HASIL STUDI (KHS) PESERTA DIDIK",null,null,null,null,null,null,null,null,null,null,null,null,null,"JURUSAN",{"$f":"MENU!F8","v":"TBSM"}]
[null,null,"SMK NEGERI 1 KARAWANG",null,null,null,null,null,null,null,null,null,null,null,null,null,"NIS",{"$f":"VLOOKUP($R$13,TAB_BIODATA,BIODATA!D4,FALSE)","v":16170585}]
[]
[null,null,null,"Nama Peserta Didik",":",{"$f":"VLOOKUP($R$13,TAB_BIODATA,BIODATA!C4,FALSE)","v":"CARWAN HIDAYAT"}]
[null,null,null,"Nomor Induk/NISN",":",{"$f":"IF(VLOOKUP($R$13,TAB_BIODATA,BIODATA!E4)=\"\",VLOOKUP($R$13,TAB_BIODATA,BIODATA!D4,FALSE),VLOOKUP($R$13,TAB_BIODATA,BIODATA!D4)&\" / \"&VLOOKUP($R$13,TAB_BIODATA,BIODATA!E4,FALSE))","v":"16170585 / 0019597659"},null,null,null,null,null,null,null,null,null,null,"DATA CETAK",null,"HALAMAN CETAK"]
[null,null,null,"Kelas",":",{"$f":"IF(OR(F8=\"1 (satu)\",F8=\"2 (dua)\"),\"X \"&MENU!F9,IF(OR(F8=\"3 (tiga)\",F8=\"4 (empat)\"),\"XI \"&MENU!F9,IF(OR(F8=\"5 (lima)\",F8=\"6 (enam)\"),\"XII \"&MENU!F9,IF(OR(F8=\"7 (tujuh)\",F8=\"8 (delapan)\"),\"XIII \"&MENU!F9,\"\"))))","v":"XI TBSM 2"},null,null,null,null,null,null,null,null,null,null,"Dari data ke",1,"Dari",1]
[null,null,null,"Tahun Pelajaran",":",{"$f":"RIGHT(NILSM4!A2,11)","v":"2020 / 2021"}]
[null,null,null,"Semester",":",{"$f":"NILSM4!B3","v":"4 (empat)"},null,null,null,null,null,null,null,null,null,null,"Sampai data ke",2,"Ke",1]
[]
[null,null,"Nilai Akademik"]
[null,null,"No.","Mata Pelajaran","KKM","KD 1",null,"KD 2",null,"KD 3",null,"Kehadiran"]
[null,null,null,null,null,"Tugas","Ulangan","Tugas","Ulangan","Tugas","Ulangan",null,null,null,null,null,"TAMPILAN DATA"]
[null,null,"A. Muatan Nasional",null,null,"T1","U1","T2","U2","T3","U3","H",null,null,null,null,"Nomor Urut",4]
["PAB",{"$f":"IF(C14>=1,1,0)","v":1},{"$f":"HLOOKUP(A14&$F$13,TABNILSM4,4,FALSE)","v":1},{"$f":"HLOOKUP(A14&$F$13,TABNILSM4,2,FALSE)","v":"Pendidikan Agama dan Budi Pekerti"},{"$f":"IFERROR(HLOOKUP(A14&$F$13,TABNILSM4,5,FALSE),\"-\")","v":77},{"$f":"INDEX(TABNILSM4,MATCH($R$2,NILSM4!$C$1:$C$43,0),MATCH(A14&$F$13,NILSM4!$C$1:$FR$1,0))","v":21},{"$f":"INDEX(TABNILSM4,MATCH($R$2,NILSM4!$C$1:$C$43,0),MATCH(A14&$G$13,NILSM4!$C$1:$FR$1,0))","v":22},{"$f":"INDEX(TABNILSM4,MATCH($R$2,NILSM4!$C$1:$C$43,0),MATCH(A14&$H$13,NILSM4!$C$1:$FR$1,0))","v":23},{"$f":"INDEX(TABNILSM4,MATCH($R$2,NILSM4!$C$1:$C$43,0),MATCH(A14&$I$13,NILSM4!$C$1:$FR$1,0))","v":24},{"$f":"INDEX(TABNILSM4,MATCH($R$2,NILSM4!$C$1:$C$43,0),MATCH(A14&$J$13,NILSM4!$C$1:$FR$1,0))","v":25},{"$f":"INDEX(TABNILSM4,MATCH($R$2,NILSM4!$C$1:$C$43,0),MATCH(A14&$K$13,NILSM4!$C$1:$FR$1,0))","v":26},{"$f":"INDEX(TABNILSM4,MATCH($R$2,NILSM4!$C$1:$C$43,0),MATCH(A14&$L$13,NILSM4!$C$1:$FR$1,0))","v":27}]
["PKN",{"$f":"IF(C15>=1,1,0)","v":1},2,"Pendidikan Pancasila dan Kewarganegaraan",77,{"$f":"INDEX(TABNILSM4,MATCH($R$2,NILSM4!$C$1:$C$43,0),MATCH(A15&$F$13,NILSM4!$C$1:$FR$1,0))","v":28},{"$f":"INDEX(TABNILSM4,MATCH($R$2,NILSM4!$C$1:$C$43,0),MATCH(A15&$G$13,NILSM4!$C$1:$FR$1,0))","v":29},{"$f":"INDEX(TABNILSM4,MATCH($R$2,NILSM4!$C$1:$C$43,0),MATCH(A15&$H$13,NILSM4!$C$1:$FR$1,0))","v":30},{"$f":"INDEX(TABNILSM4,MATCH($R$2,NILSM4!$C$1:$C$43,0),MATCH(A15&$I$13,NILSM4!$C$1:$FR$1,0))","v":31},{"$f":"INDEX(TABNILSM4,MATCH($R$2,NILSM4!$C$1:$C$43,0),MATCH(A15&$J$13,NILSM4!$C$1:$FR$1,0))","v":32},{"$f":"INDEX(TABNILSM4,MATCH($R$2,NILSM4!$C$1:$C$43,0),MATCH(A15&$K$13,NILSM4!$C$1:$FR$1,0))","v":33},{"$f":"INDEX(TABNILSM4,MATCH($R$2,NILSM4!$C$1:$C$43,0),MATCH(A15&$L$13,NILSM4!$C$1:$FR$1,0))","v":34}]
["IND",1,3,"Bahasa Indonesia",77,{"$f":"INDEX(TABNILSM4,MATCH($R$2,NILSM4!$C$1:$C$43,0),MATCH(A16&$F$13,NILSM4!$C$1:$FR$1,0))","v":0},{"$f":"INDEX(TABNILSM4,MATCH($R$2,NILSM4!$C$1:$C$43,0),MATCH(A16&$G$13,NILSM4!$C$1:$FR$1,0))","v":0},{"$f":"INDEX(TABNILSM4,MATCH($R$2,NILSM4!$C$1:$C$43,0),MATCH(A16&$H$13,NILSM4!$C$1:$FR$1,0))","v":0},{"$f":"INDEX(TABNILSM4,MATCH($R$2,NILSM4!$C$1:$C$43,0),MATCH(A16&$I$13,NILSM4!$C$1:$FR$1,0))","v":0},{"$f":"INDEX(TABNILSM4,MATCH($R$2,NILSM4!$C$1:$C$43,0),MATCH(A16&$J$13,NILSM4!$C$1:$FR$1,0))","v":0},{"$f":"INDEX(TABNILSM4,MATCH($R$2,NILSM4!$C$1:$C$43,0),MATCH(A16&$K$13,NILSM4!$C$1:$FR$1,0))","v":0},{"$f":"INDEX(TABNILSM4,MATCH($R$2,NILSM4!$C$1:$C$43,0),MATCH(A16&$L$13,NILSM4!$C$1:$FR$1,0))","v":0}]
["MTK",1,4,"Matematika",77,{"$f":"INDEX(TABNILSM4,MATCH($R$2,NILSM4!$C$1:$C$43,0),MATCH(A17&$F$13,NILSM4!$C$1:$FR$1,0))","v":0},{"$f":"INDEX(TABNILSM4,MATCH($R$2,NILSM4!$C$1:$C$43,0),MATCH(A17&$G$13,NILSM4!$C$1:$FR$1,0))","v":0},{"$f":"INDEX(TABNILSM4,MATCH($R$2,NILSM4!$C$1:$C$43,0),MATCH(A17&$H$13,NILSM4!$C$1:$FR$1,0))","v":0},{"$f":"INDEX(TABNILSM4,MATCH($R$2,NILSM4!$C$1:$C$43,0),MATCH(A17&$I$13,NILSM4!$C$1:$FR$1,0))","v":0},{"$f":"INDEX(TABNILSM4,MATCH($R$2,NILSM4!$C$1:$C$43,0),MATCH(A17&$J$13,NILSM4!$C$1:$FR$1,0))","v":0},{"$f":"INDEX(TABNILSM4,MATCH($R$2,NILSM4!$C$1:$C$43,0),MATCH(A17&$K$13,NILSM4!$C$1:$FR$1,0))","v":0},{"$f":"INDEX(TABNILSM4,MATCH($R$2,NILSM4!$C$1:$C$43,0),MATCH(A17&$L$13,NILSM4!$C$1:$FR$1,0))","v":0}]
["SJI",0,0,"-",77,{"$f":"INDEX(TABNILSM4,MATCH($R$2,NILSM4!$C$1:$C$43,0),MATCH(A18&$F$13,NILSM4!$C$1:$FR$1,0))","v":0},{"$f":"INDEX(TABNILSM4,MATCH($R$2,NILSM4!$C$1:$C$43,0),MATCH(A18&$G$13,NILSM4!$C$1:$FR$1,0))","v":0},{"$f":"INDEX(TABNILSM4,MATCH($R$2,NILSM4!$C$1:$C$43,0),MATCH(A18&$H$13,NILSM4!$C$1:$FR$1,0))","v":0},{"$f":"INDEX(TABNILSM4,MATCH($R$2,NILSM4!$C$1:$C$43,0),MATCH(A18&$I$13,NILSM4!$C$1:$FR$1,0))","v":0},{"$f":"INDEX(TABNILSM4,MATCH($R$2,NILSM4!$C$1:$C$43,0),MATCH(A18&$J$13,NILSM4!$C$1:$FR$1,0))","v":0},{"$f":"INDEX(TABNILSM4,MATCH($R$2,NILSM4!$C$1:$C$43,0),MATCH(A18&$K$13,NILSM4!$C$1:$FR$1,0))","v":0},{"$f":"INDEX(TABNILSM4,MATCH($R$2,NILSM4!$C$1:$C$43,0),MATCH(A18&$L$13,NILSM4!$C$1:$FR$1,0))","v":0}]
["ING",1,5,"Bahasa Inggris",77,{"$f":"INDEX(TABNILSM4,MATCH($R$2,NILSM4!$C$1:$C$43,0),MATCH(A19&$F$13,NILSM4!$C$1:$FR$1,0))","v":0},{"$f":"INDEX(TABNILSM4,MATCH($R$2,NILSM4!$C$1:$C$43,0),MATCH(A19&$G$13,NILSM4!$C$1:$FR$1,0))","v":0},{"$f":"INDEX(TABNILSM4,MATCH($R$2,NILSM4!$C$1:$C$43,0),MATCH(A19&$H$13,NILSM4!$C$1:$FR$1,0))","v":0},{"$f":"INDEX(TABNILSM4,MATCH($R$2,NILSM4!$C$1:$C$43,0),MATCH(A19&$I$13,NILSM4!$C$1:$FR$1,0))","v":0},{"$f":"INDEX(TABNILSM4,MATCH($R$2,NILSM4!$C$1:$C$43,0),MATCH(A19&$J$13,NILSM4!$C$1:$FR$1,0))","v":0},{"$f":"INDEX(TABNILSM4,MATCH($R$2,NILSM4!$C$1:$C$43,0),MATCH(A19&$K$13,NILSM4!$C$1:$FR$1,0))","v":0},{"$f":"INDEX(TABNILSM4,MATCH($R$2,NILSM4!$C$1:$C$43,0),MATCH(A19&$L$13,NILSM4!$C$1:$FR$1,0))","v":0}]
["JER",0,0,"-",77,{"$f":"INDEX(TABNILSM4,MATCH($R$2,NILSM4!$C$1:$C$43,0),MATCH(A20&$F$13,NILSM4!$C$1:$FR$1,0))","v":0},{"$f":"INDEX(TABNILSM4,MATCH($R$2,NILSM4!$C$1:$C$43,0),MATCH(A20&$G$13,NILSM4!$C$1:$FR$1,0))","v":0},{"$f":"INDEX(TABNILSM4,MATCH($R$2,NILSM4!$C$1:$C$43,0),MATCH(A20&$H$13,NILSM4!$C$1:$FR$1,0))","v":0},{"$f":"INDEX(TABNILSM4,MATCH($R$2,NILSM4!$C$1:$C$43,0),MATCH(A20&$I$13,NILSM4!$C$1:$FR$1,0))","v":0},{"$f":"INDEX(TABNILSM4,MATCH($R$2,NILSM4!$C$1:$C$43,0),MATCH(A20&$J$13,NILSM4!$C$1:$FR$1,0))","v":0},{"$f":"INDEX(TABNILSM4,MATCH($R$2,NILSM4!$C$1:$C$43,0),MATCH(A20&$K$13,NILSM4!$C$1:$FR$1,0))","v":0},{"$f":"INDEX(TABNILSM4,MATCH($R$2,NILSM4!$C$1:$C$43,0),MATCH(A20&$L$13,NILSM4!$C$1:$FR$1,0))","v":0}]
[null,{"$f":"IF(AND(COUNT(C21)=0,C23=0),0,1)","v":1},"B. Muatan Kewilayahan"]
["SBD",0,{"$f":"HLOOKUP(A22&$F$13,TABNILSM4,4,FALSE)","v":0},{"$f":"HLOOKUP(A22&$F$13,TABNILSM4,2,FALSE)","v":"-"},{"$f":"IFERROR(HLOOKUP(A22&$F$13,TABNILSM4,5,FALSE),\"-\")","v":77},{"$f":"INDEX(TABNILSM4,MATCH($R$2,NILSM4!$C$1:$C$43,0),MATCH(A22&$F$13,NILSM4!$C$1:$FR$1,0))","v":0},{"$f":"INDEX(TABNILSM4,MATCH($R$2,NILSM4!$C$1:$C$43,0),MATCH(A22&$G$13,NILSM4!$C$1:$FR$1,0))","v":0},{"$f":"INDEX(TABNILSM4,MATCH($R$2,NILSM4!$C$1:$C$43,0),MATCH(A22&$H$13,NILSM4!$C$1:$FR$1,0))","v":0},{"$f":"INDEX(TABNILSM4,MATCH($R$2,NILSM4!$C$1:$C$43,0),MATCH(A22&$I$13,NILSM4!$C$1:$FR$1,0))","v":0},{"$f":"INDEX(TABNILSM4,MATCH($R$2,NILSM4!$C$1:$C$43,0),MATCH(A22&$J$13,NILSM4!$C$1:$FR$1,0))","v":0},{"$f":"INDEX(TABNILSM4,MATCH($R$2,NILSM4!$C$1:$C$43,0),MATCH(A22&$K$13,NILSM4!$C$1:$FR$1,0))","v":0},{"$f":"INDEX(TABNILSM4,MATCH($R$2,NILSM4!$C$1:$C$43,0),MATCH(A22&$L$13,NILSM4!$C$1:$FR$1,0))","v":0}]
["PJO",1,{"$f":"HLOOKUP(A23&$F$13,TABNILSM4,4,FALSE)","v":6},{"$f":"HLOOKUP(A23&$F$13,TABNILSM4,2,FALSE)","v":"Pendidikan Jasmani, Olahraga dan Kesehatan"},{"$f":"IFERROR(HLOOKUP(A23&$F$13,TABNILSM4,5,FALSE),\"-\")","v":77},{"$f":"INDEX(TABNILSM4,MATCH($R$2,NILSM4!$C$1:$C$43,0),MATCH(A23&$F$13,NILSM4!$C$1:$FR$1,0))","v":0},{"$f":"INDEX(TABNILSM4,MATCH($R$2,NILSM4!$C$1:$C$43,0),MATCH(A23&$G$13,NILSM4!$C$1:$FR$1,0))","v":0},{"$f":"INDEX(TABNILSM4,MATCH($R$2,NILSM4!$C$1:$C$43,0),MATCH(A23&$H$13,NILSM4!$C$1:$FR$1,0))","v":0},{"$f":"INDEX(TABNILSM4,MATCH($R$2,NILSM4!$C$1:$C$43,0),MATCH(A23&$I$13,NILSM4!$C$1:$FR$1,0))","v":0},{"$f":"INDEX(TABNILSM4,MATCH($R$2,NILSM4!$C$1:$C$43,0),MATCH(A23&$J$13,NILSM4!$C$1:$FR$1,0))","v":0},{"$f":"INDEX(TABNILSM4,MATCH($R$2,NILSM4!$C$1:$C$43,0),MATCH(A23&$K$13,NILSM4!$C$1:$FR$1,0))","v":0},{"$f":"INDEX(TABNILSM4,MATCH($R$2,NILSM4!$C$1:$C$43,0),MATCH(A23&$L$13,NILSM4!$C$1:$FR$1,0))","v":0}]
["-",1,"C. Muatan Peminatan Kejuruan"]
[null,{"$f":"IF(AND(COUNT(C25)=0,C26=0),0,1)","v":0},"C1","Dasar Bidang Keahlian"]
["SKD",{"$f":"IF(C26>=1,1,0)","v":0},{"$f":"HLOOKUP(A26&$F$13,TABNILSM4,4,FALSE)","v":0},{"$f":"HLOOKUP(A26&$F$13,TABNILSM4,2,FALSE)","v":"-"},{"$f":"IFERROR(HLOOKUP(A26&$F$13,TABNILSM4,5,FALSE),\"-\")","v":77},{"$f":"INDEX(TABNILSM4,MATCH($R$2,NILSM4!$C$1:$C$43,0),MATCH(A26&$F$13,NILSM4!$C$1:$FR$1,0))","v":0},{"$f":"INDEX(TABNILSM4,MATCH($R$2,NILSM4!$C$1:$C$43,0),MATCH(A26&$G$13,NILSM4!$C$1:$FR$1,0))","v":0},{"$f":"INDEX(TABNILSM4,MATCH($R$2,NILSM4!$C$1:$C$43,0),MATCH(A26&$H$13,NILSM4!$C$1:$FR$1,0))","v":0},{"$f":"INDEX(TABNILSM4,MATCH($R$2,NILSM4!$C$1:$C$43,0),MATCH(A26&$I$13,NILSM4!$C$1:$FR$1,0))","v":0},{"$f":"INDEX(TABNILSM4,MATCH($R$2,NILSM4!$C$1:$C$43,0),MATCH(A26&$J$13,NILSM4!$C$1:$FR$1,0))","v":0},{"$f":"INDEX(TABNILSM4,MATCH($R$2,NILSM4!$C$1:$C$43,0),MATCH(A26&$K$13,NILSM4!$C$1:$FR$1,0))","v":0},{"$f":"INDEX(TABNILSM4,MATCH($R$2,NILSM4!$C$1:$C$43,0),MATCH(A26&$L$13,NILSM4!$C$1:$FR$1,0))","v":0}]
["FIS",0,{"$f":"HLOOKUP(A27&$F$13,TABNILSM4,4,FALSE)","v":0},{"$f":"HLOOKUP(A27&$F$13,TABNILSM4,2,FALSE)","v":"-"},{"$f":"IFERROR(HLOOKUP(A27&$F$13,TABNILSM4,5,FALSE),\"-\")","v":77},{"$f":"INDEX(TABNILSM4,MATCH($R$2,NILSM4!$C$1:$C$43,0),MATCH(A27&$F$13,NILSM4!$C$1:$FR$1,0))","v":0},{"$f":"INDEX(TABNILSM4,MATCH($R$2,NILSM4!$C$1:$C$43,0),MATCH(A27&$G$13,NILSM4!$C$1:$FR$1,0))","v":0},{"$f":"INDEX(TABNILSM4,MATCH($R$2,NILSM4!$C$1:$C$43,0),MATCH(A27&$H$13,NILSM4!$C$1:$FR$1,0))","v":0},{"$f":"INDEX(TABNILSM4,MATCH($R$2,NILSM4!$C$1:$C$43,0),MATCH(A27&$I$13,NILSM4!$C$1:$FR$1,0))","v":0},{"$f":"INDEX(TABNILSM4,MATCH($R$2,NILSM4!$C$1:$C$43,0),MATCH(A27&$J$13,NILSM4!$C$1:$FR$1,0))","v":0},{"$f":"INDEX(TABNILSM4,MATCH($R$2,NILSM4!$C$1:$C$43,0),MATCH(A27&$K$13,NILSM4!$C$1:$FR$1,0))","v":0},{"$f":"INDEX(TABNILSM4,MATCH($R$2,NILSM4!$C$1:$C$43,0),MATCH(A27&$L$13,NILSM4!$C$1:$FR$1,0))","v":0}]
["KIM",0,{"$f":"HLOOKUP(A28&$F$13,TABNILSM4,4,FALSE)","v":0},{"$f":"HLOOKUP(A28&$F$13,TABNILSM4,2,FALSE)","v":"-"},{"$f":"IFERROR(HLOOKUP(A28&$F$13,TABNILSM4,5,FALSE),\"-\")","v":77},{"$f":"INDEX(TABNILSM4,MATCH($R$2,NILSM4!$C$1:$C$43,0),MATCH(A28&$F$13,NILSM4!$C$1:$FR$1,0))","v":0},{"$f":"INDEX(TABNILSM4,MATCH($R$2,NILSM4!$C$1:$C$43,0),MATCH(A28&$G$13,NILSM4!$C$1:$FR$1,0))","v":0},{"$f":"INDEX(TABNILSM4,MATCH($R$2,NILSM4!$C$1:$C$43,0),MATCH(A28&$H$13,NILSM4!$C$1:$FR$1,0))","v":0},{"$f":"INDEX(TABNILSM4,MATCH($R$2,NILSM4!$C$1:$C$43,0),MATCH(A28&$I$13,NILSM4!$C$1:$FR$1,0))","v":0},{"$f":"INDEX(TABNILSM4,MATCH($R$2,NILSM4!$C$1:$C$43,0),MATCH(A28&$J$13,NILSM4!$C$1:$FR$1,0))","v":0},{"$f":"INDEX(TABNILSM4,MATCH($R$2,NILSM4!$C$1:$C$43,0),MATCH(A28&$K$13,NILSM4!$C$1:$FR$1,0))","v":0},{"$f":"INDEX(TABNILSM4,MATCH($R$2,NILSM4!$C$1:$C$43,0),MATCH(A28&$L$13,NILSM4!$C$1:$FR$1,0))","v":0}]
[null,{"$f":"IF(AND(COUNT(C29)=0,C30=0),0,1)","v":0},"C2","Dasar Program Keahlian"]
["C21",0,{"$f":"HLOOKUP(A30&$F$13,TABNILSM4,4,FALSE)","v":0},{"$f":"HLOOKUP(A30&$F$13,TABNILSM4,2,FALSE)","v":"-"},{"$f":"IFERROR(HLOOKUP(A30&$F$13,TABNILSM4,5,FALSE),\"-\")","v":77},{"$f":"INDEX(TABNILSM4,MATCH($R$2,NILSM4!$C$1:$C$43,0),MATCH(A30&$F$13,NILSM4!$C$1:$FR$1,0))","v":0},{"$f":"INDEX(TABNILSM4,MATCH($R$2,NILSM4!$C$1:$C$43,0),MATCH(A30&$G$13,NILSM4!$C$1:$FR$1,0))","v":0},{"$f":"INDEX(TABNILSM4,MATCH($R$2,NILSM4!$C$1:$C$43,0),MATCH(A30&$H$13,NILSM4!$C$1:$FR$1,0))","v":0},{"$f":"INDEX(TABNILSM4,MATCH($R$2,NILSM4!$C$1:$C$43,0),MATCH(A30&$I$13,NILSM4!$C$1:$FR$1,0))","v":0},{"$f":"INDEX(TABNILSM4,MATCH($R$2,NILSM4!$C$1:$C$43,0),MATCH(A30&$J$13,NILSM4!$C$1:$FR$1,0))","v":0},{"$f":"INDEX(TABNILSM4,MATCH($R$2,NILSM4!$C$1:$C$43,0),MATCH(A30&$K$13,NILSM4!$C$1:$FR$1,0))","v":0},{"$f":"INDEX(TABNILSM4,MATCH($R$2,NILSM4!$C$1:$C$43,0),MATCH(A30&$L$13,NILSM4!$C$1:$FR$1,0))","v":0}]
["C22",0,{"$f":"HLOOKUP(A31&$F$13,TABNILSM4,4,FALSE)","v":0},{"$f":"HLOOKUP(A31&$F$13,TABNILSM4,2,FALSE)","v":"-"},{"$f":"IFERROR(HLOOKUP(A31&$F$13,TABNILSM4,5,FALSE),\"-\")","v":77},{"$f":"INDEX(TABNILSM4,MATCH($R$2,NILSM4!$C$1:$C$43,0),MATCH(A31&$F$13,NILSM4!$C$1:$FR$1,0))","v":0},{"$f":"INDEX(TABNILSM4,MATCH($R$2,NILSM4!$C$1:$C$43,0),MATCH(A31&$G$13,NILSM4!$C$1:$FR$1,0))","v":0},{"$f":"INDEX(TABNILSM4,MATCH($R$2,NILSM4!$C$1:$C$43,0),MATCH(A31&$H$13,NILSM4!$C$1:$FR$1,0))","v":0},{"$f":"INDEX(TABNILSM4,MATCH($R$2,NILSM4!$C$1:$C$43,0),MATCH(A31&$I$13,NILSM4!$C$1:$FR$1,0))","v":0},{"$f":"INDEX(TABNILSM4,MATCH($R$2,NILSM4!$C$1:$C$43,0),MATCH(A31&$J$13,NILSM4!$C$1:$FR$1,0))","v":0},{"$f":"INDEX(TABNILSM4,MATCH($R$2,NILSM4!$C$1:$C$43,0),MATCH(A31&$K$13,NILSM4!$C$1:$FR$1,0))","v":0},{"$f":"INDEX(TABNILSM4,MATCH($R$2,NILSM4!$C$1:$C$43,0),MATCH(A31&$L$13,NILSM4!$C$1:$FR$1,0))","v":0}]
["C23",0,{"$f":"HLOOKUP(A32&$F$13,TABNILSM4,4,FALSE)","v":0},{"$f":"HLOOKUP(A32&$F$13,TABNILSM4,2,FALSE)","v":"-"},{"$f":"IFERROR(HLOOKUP(A32&$F$13,TABNILSM4,5,FALSE),\"-\")","v":77},{"$f":"INDEX(TABNILSM4,MATCH($R$2,NILSM4!$C$1:$C$43,0),MATCH(A32&$F$13,NILSM4!$C$1:$FR$1,0))","v":0},{"$f":"INDEX(TABNILSM4,MATCH($R$2,NILSM4!$C$1:$C$43,0),MATCH(A32&$G$13,NILSM4!$C$1:$FR$1,0))","v":0},{"$f":"INDEX(TABNILSM4,MATCH($R$2,NILSM4!$C$1:$C$43,0),MATCH(A32&$H$13,NILSM4!$C$1:$FR$1,0))","v":0},{"$f":"INDEX(TABNILSM4,MATCH($R$2,NILSM4!$C$1:$C$43,0),MATCH(A32&$I$13,NILSM4!$C$1:$FR$1,0))","v":0},{"$f":"INDEX(TABNILSM4,MATCH($R$2,NILSM4!$C$1:$C$43,0),MATCH(A32&$J$13,NILSM4!$C$1:$FR$1,0))","v":0},{"$f":"INDEX(TABNILSM4,MATCH($R$2,NILSM4!$C$1:$C$43,0),MATCH(A32&$K$13,NILSM4!$C$1:$FR$1,0))","v":0},{"$f":"INDEX(TABNILSM4,MATCH($R$2,NILSM4!$C$1:$C$43,0),MATCH(A32&$L$13,NILSM4!$C$1:$FR$1,0))","v":0}]
["C24",0,{"$f":"HLOOKUP(A33&$F$13,TABNILSM4,4,FALSE)","v":0},{"$f":"HLOOKUP(A33&$F$13,TABNILSM4,2,FALSE)","v":"-"},{"$f":"IFERROR(HLOOKUP(A33&$F$13,TABNILSM4,5,FALSE),\"-\")","v":77},{"$f":"INDEX(TABNILSM4,MATCH($R$2,NILSM4!$C$1:$C$43,0),MATCH(A33&$F$13,NILSM4!$C$1:$FR$1,0))","v":0},{"$f":"INDEX(TABNILSM4,MATCH($R$2,NILSM4!$C$1:$C$43,0),MATCH(A33&$G$13,NILSM4!$C$1:$FR$1,0))","v":0},{"$f":"INDEX(TABNILSM4,MATCH($R$2,NILSM4!$C$1:$C$43,0),MATCH(A33&$H$13,NILSM4!$C$1:$FR$1,0))","v":0},{"$f":"INDEX(TABNILSM4,MATCH($R$2,NILSM4!$C$1:$C$43,0),MATCH(A33&$I$13,NILSM4!$C$1:$FR$1,0))","v":0},{"$f":"INDEX(TABNILSM4,MATCH($R$2,NILSM4!$C$1:$C$43,0),MATCH(A33&$J$13,NILSM4!$C$1:$FR$1,0))","v":0},{"$f":"INDEX(TABNILSM4,MATCH($R$2,NILSM4!$C$1:$C$43,0),MATCH(A33&$K$13,NILSM4!$C$1:$FR$1,0))","v":0},{"$f":"INDEX(TABNILSM4,MATCH($R$2,NILSM4!$C$1:$C$43,0),MATCH(A33&$L$13,NILSM4!$C$1:$FR$1,0))","v":0}]
["-",{"$f":"IF(AND(COUNT(C34)=0,C37=0),0,1)","v":1},"C3","Kompetensi Keahlian"]
["C31",1,{"$f":"HLOOKUP(A35&$F$13,TABNILSM4,4,FALSE)","v":7},{"$f":"HLOOKUP(A35&$F$13,TABNILSM4,2,FALSE)","v":"Pemeliharaan Mesin Sepeda Motor"},{"$f":"IFERROR(HLOOKUP(A35&$F$13,TABNILSM4,5,FALSE),\"-\")","v":77},{"$f":"INDEX(TABNILSM4,MATCH($R$2,NILSM4!$C$1:$C$43,0),MATCH(A35&$F$13,NILSM4!$C$1:$FR$1,0))","v":0},{"$f":"INDEX(TABNILSM4,MATCH($R$2,NILSM4!$C$1:$C$43,0),MATCH(A35&$G$13,NILSM4!$C$1:$FR$1,0))","v":0},{"$f":"INDEX(TABNILSM4,MATCH($R$2,NILSM4!$C$1:$C$43,0),MATCH(A35&$H$13,NILSM4!$C$1:$FR$1,0))","v":0},{"$f":"INDEX(TABNILSM4,MATCH($R$2,NILSM4!$C$1:$C$43,0),MATCH(A35&$I$13,NILSM4!$C$1:$FR$1,0))","v":0},{"$f":"INDEX(TABNILSM4,MATCH($R$2,NILSM4!$C$1:$C$43,0),MATCH(A35&$J$13,NILSM4!$C$1:$FR$1,0))","v":0},{"$f":"INDEX(TABNILSM4,MATCH($R$2,NILSM4!$C$1:$C$43,0),MATCH(A35&$K$13,NILSM4!$C$1:$FR$1,0))","v":0},{"$f":"INDEX(TABNILSM4,MATCH($R$2,NILSM4!$C$1:$C$43,0),MATCH(A35&$L$13,NILSM4!$C$1:$FR$1,0))","v":0}]
["C32",1,8,"Pemeliharaan Sasis Sepeda Motor",77,{"$f":"INDEX(TABNILSM4,MATCH($R$2,NILSM4!$C$1:$C$43,0),MATCH(A36&$F$13,NILSM4!$C$1:$FR$1,0))","v":0},{"$f":"INDEX(TABNILSM4,MATCH($R$2,NILSM4!$C$1:$C$43,0),MATCH(A36&$G$13,NILSM4!$C$1:$FR$1,0))","v":0},{"$f":"INDEX(TABNILSM4,MATCH($R$2,NILSM4!$C$1:$C$43,0),MATCH(A36&$H$13,NILSM4!$C$1:$FR$1,0))","v":0},{"$f":"INDEX(TABNILSM4,MATCH($R$2,NILSM4!$C$1:$C$43,0),MATCH(A36&$I$13,NILSM4!$C$1:$FR$1,0))","v":0},{"$f":"INDEX(TABNILSM4,MATCH($R$2,NILSM4!$C$1:$C$43,0),MATCH(A36&$J$13,NILSM4!$C$1:$FR$1,0))","v":0},{"$f":"INDEX(TABNILSM4,MATCH($R$2,NILSM4!$C$1:$C$43,0),MATCH(A36&$K$13,NILSM4!$C$1:$FR$1,0))","v":0},{"$f":"INDEX(TABNILSM4,MATCH($R$2,NILSM4!$C$1:$C$43,0),MATCH(A36&$L$13,NILSM4!$C$1:$FR$1,0))","v":0}]
["C33",1,9,"Pemeliharaan Kelistrikan Sepeda Motor",77,{"$f":"INDEX(TABNILSM4,MATCH($R$2,NILSM4!$C$1:$C$43,0),MATCH(A37&$F$13,NILSM4!$C$1:$FR$1,0))","v":0},{"$f":"INDEX(TABNILSM4,MATCH($R$2,NILSM4!$C$1:$C$43,0),MATCH(A37&$G$13,NILSM4!$C$1:$FR$1,0))","v":0},{"$f":"INDEX(TABNILSM4,MATCH($R$2,NILSM4!$C$1:$C$43,0),MATCH(A37&$H$13,NILSM4!$C$1:$FR$1,0))","v":0},{"$f":"INDEX(TABNILSM4,MATCH($R$2,NILSM4!$C$1:$C$43,0),MATCH(A37&$I$13,NILSM4!$C$1:$FR$1,0))","v":0},{"$f":"INDEX(TABNILSM4,MATCH($R$2,NILSM4!$C$1:$C$43,0),MATCH(A37&$J$13,NILSM4!$C$1:$FR$1,0))","v":0},{"$f":"INDEX(TABNILSM4,MATCH($R$2,NILSM4!$C$1:$C$43,0),MATCH(A37&$K$13,NILSM4!$C$1:$FR$1,0))","v":0},{"$f":"INDEX(TABNILSM4,MATCH($R$2,NILSM4!$C$1:$C$43,0),MATCH(A37&$L$13,NILSM4!$C$1:$FR$1,0))","v":0}]
["C34",0,0,"-",77,{"$f":"INDEX(TABNILSM4,MATCH($R$2,NILSM4!$C$1:$C$43,0),MATCH(A38&$F$13,NILSM4!$C$1:$FR$1,0))","v":0},{"$f":"INDEX(TABNILSM4,MATCH($R$2,NILSM4!$C$1:$C$43,0),MATCH(A38&$G$13,NILSM4!$C$1:$FR$1,0))","v":0},{"$f":"INDEX(TABNILSM4,MATCH($R$2,NILSM4!$C$1:$C$43,0),MATCH(A38&$H$13,NILSM4!$C$1:$FR$1,0))","v":0},{"$f":"INDEX(TABNILSM4,MATCH($R$2,NILSM4!$C$1:$C$43,0),MATCH(A38&$I$13,NILSM4!$C$1:$FR$1,0))","v":0},{"$f":"INDEX(TABNILSM4,MATCH($R$2,NILSM4!$C$1:$C$43,0),MATCH(A38&$J$13,NILSM4!$C$1:$FR$1,0))","v":0},{"$f":"INDEX(TABNILSM4,MATCH($R$2,NILSM4!$C$1:$C$43,0),MATCH(A38&$K$13,NILSM4!$C$1:$FR$1,0))","v":0},{"$f":"INDEX(TABNILSM4,MATCH($R$2,NILSM4!$C$1:$C$43,0),MATCH(A38&$L$13,NILSM4!$C$1:$FR$1,0))","v":0}]
["C35",0,0,"-",77,{"$f":"INDEX(TABNILSM4,MATCH($R$2,NILSM4!$C$1:$C$43,0),MATCH(A39&$F$13,NILSM4!$C$1:$FR$1,0))","v":0},{"$f":"INDEX(TABNILSM4,MATCH($R$2,NILSM4!$C$1:$C$43,0),MATCH(A39&$G$13,NILSM4!$C$1:$FR$1,0))","v":0},{"$f":"INDEX(TABNILSM4,MATCH($R$2,NILSM4!$C$1:$C$43,0),MATCH(A39&$H$13,NILSM4!$C$1:$FR$1,0))","v":0},{"$f":"INDEX(TABNILSM4,MATCH($R$2,NILSM4!$C$1:$C$43,0),MATCH(A39&$I$13,NILSM4!$C$1:$FR$1,0))","v":0},{"$f":"INDEX(TABNILSM4,MATCH($R$2,NILSM4!$C$1:$C$43,0),MATCH(A39&$J$13,NILSM4!$C$1:$FR$1,0))","v":0},{"$f":"INDEX(TABNILSM4,MATCH($R$2,NILSM4!$C$1:$C$43,0),MATCH(A39&$K$13,NILSM4!$C$1:$FR$1,0))","v":0},{"$f":"INDEX(TABNILSM4,MATCH($R$2,NILSM4!$C$1:$C$43,0),MATCH(A39&$L$13,NILSM4!$C$1:$FR$1,0))","v":0}]
["C36",1,10,"Produk Kreatif dan Kewirausahaan ",77,{"$f":"INDEX(TABNILSM4,MATCH($R$2,NILSM4!$C$1:$C$43,0),MATCH(A40&$F$13,NILSM4!$C$1:$FR$1,0))","v":0},{"$f":"INDEX(TABNILSM4,MATCH($R$2,NILSM4!$C$1:$C$43,0),MATCH(A40&$G$13,NILSM4!$C$1:$FR$1,0))","v":0},{"$f":"INDEX(TABNILSM4,MATCH($R$2,NILSM4!$C$1:$C$43,0),MATCH(A40&$H$13,NILSM4!$C$1:$FR$1,0))","v":0},{"$f":"INDEX(TABNILSM4,MATCH($R$2,NILSM4!$C$1:$C$43,0),MATCH(A40&$I$13,NILSM4!$C$1:$FR$1,0))","v":0},{"$f":"INDEX(TABNILSM4,MATCH($R$2,NILSM4!$C$1:$C$43,0),MATCH(A40&$J$13,NILSM4!$C$1:$FR$1,0))","v":0},{"$f":"INDEX(TABNILSM4,MATCH($R$2,NILSM4!$C$1:$C$43,0),MATCH(A40&$K$13,NILSM4!$C$1:$FR$1,0))","v":0},{"$f":"INDEX(TABNILSM4,MATCH($R$2,NILSM4!$C$1:$C$43,0),MATCH(A40&$L$13,NILSM4!$C$1:$FR$1,0))","v":0}]
[null,{"$f":"IF(AND(COUNT(C41)=0,C42=0),0,1)","v":0},"Muatan Lokal"]
["SUN",0,{"$f":"HLOOKUP(A42&$F$13,TABNILSM4,4,FALSE)","v":0},{"$f":"HLOOKUP(A42&$F$13,TABNILSM4,2,FALSE)","v":"-"},{"$f":"IFERROR(HLOOKUP(A42&$F$13,TABNILSM4,5,FALSE),\"-\")","v":77},{"$f":"INDEX(TABNILSM4,MATCH($R$2,NILSM4!$C$1:$C$43,0),MATCH(A42&$F$13,NILSM4!$C$1:$FR$1,0))","v":0},{"$f":"INDEX(TABNILSM4,MATCH($R$2,NILSM4!$C$1:$C$43,0),MATCH(A42&$G$13,NILSM4!$C$1:$FR$1,0))","v":0},{"$f":"INDEX(TABNILSM4,MATCH($R$2,NILSM4!$C$1:$C$43,0),MATCH(A42&$H$13,NILSM4!$C$1:$FR$1,0))","v":0},{"$f":"INDEX(TABNILSM4,MATCH($R$2,NILSM4!$C$1:$C$43,0),MATCH(A42&$I$13,NILSM4!$C$1:$FR$1,0))","v":0},{"$f":"INDEX(TABNILSM4,MATCH($R$2,NILSM4!$C$1:$C$43,0),MATCH(A42&$J$13,NILSM4!$C$1:$FR$1,0))","v":0},{"$f":"INDEX(TABNILSM4,MATCH($R$2,NILSM4!$C$1:$C$43,0),MATCH(A42&$K$13,NILSM4!$C$1:$FR$1,0))","v":0},{"$f":"INDEX(TABNILSM4,MATCH($R$2,NILSM4!$C$1:$C$43,0),MATCH(A42&$L$13,NILSM4!$C$1:$FR$1,0))","v":0}]
["PLH",0,{"$f":"HLOOKUP(A43&$F$13,TABNILSM4,4,FALSE)","v":0},{"$f":"HLOOKUP(A43&$F$13,TABNILSM4,2,FALSE)","v":"-"},{"$f":"IFERROR(HLOOKUP(A43&$F$13,TABNILSM4,5,FALSE),\"-\")","v":77},{"$f":"INDEX(TABNILSM4,MATCH($R$2,NILSM4!$C$1:$C$43,0),MATCH(A43&$F$13,NILSM4!$C$1:$FR$1,0))","v":0},{"$f":"INDEX(TABNILSM4,MATCH($R$2,NILSM4!$C$1:$C$43,0),MATCH(A43&$G$13,NILSM4!$C$1:$FR$1,0))","v":0},{"$f":"INDEX(TABNILSM4,MATCH($R$2,NILSM4!$C$1:$C$43,0),MATCH(A43&$H$13,NILSM4!$C$1:$FR$1,0))","v":0},{"$f":"INDEX(TABNILSM4,MATCH($R$2,NILSM4!$C$1:$C$43,0),MATCH(A43&$I$13,NILSM4!$C$1:$FR$1,0))","v":0},{"$f":"INDEX(TABNILSM4,MATCH($R$2,NILSM4!$C$1:$C$43,0),MATCH(A43&$J$13,NILSM4!$C$1:$FR$1,0))","v":0},{"$f":"INDEX(TABNILSM4,MATCH($R$2,NILSM4!$C$1:$C$43,0),MATCH(A43&$K$13,NILSM4!$C$1:$FR$1,0))","v":0},{"$f":"INDEX(TABNILSM4,MATCH($R$2,NILSM4!$C$1:$C$43,0),MATCH(A43&$L$13,NILSM4!$C$1:$FR$1,0))","v":0}]
[]
["CTT",null,"Bimbingan dan Konseling",null,null,null,"Catatan Akademik"]
["BKN",null,{"$f":"INDEX(TABNILSM4,MATCH($R$2,NILSM4!$C$1:$C$43,0),MATCH(A46,NILSM4!$C$1:$FR$1,0))","v":0},null,null,null,{"$f":"INDEX(TABNILSM4,MATCH($R$2,NILSM4!$C$1:$C$43,0),MATCH(A45,NILSM4!$C$1:$FR$1,0))","v":0}]
[]
[null,null,"Catatan: Jika nilai 0, siswa belum mengupload tugas atau belum mengerjakan ulangan. Jika nilai - , materi KD (Kompetensi Dasar) tersebut dilaksanakan setelah pembagian KHS."]
[]
[null,null,null,null,null,null,null,null,null,null,null,null,null,null,null,null,{"$f":"VLOOKUP($R$13,TAB_BIODATA,BIODATA!C4,FALSE)","v":"CARWAN HIDAYAT"}]
[null,null,null,"Mengetahui,",null,null,null,null,{"$f":"NILSM4!A5","v":"Karawang, 30 Maret 2021"}]
[null,null,null,"Orang Tua/Wali,",null,null,null,null,"Wali Kelas,",null,null,null,null,null,null,null,{"$f":"\"Nomor Urut \"&R13","v":"Nomor Urut 4"}]
[]
[]
[]
[]
[null,null,null,null,null,null,null,null,{"$f":"NILSM4!B4","v":"Abdul Hapid, S.P"}]
[null,null,null,null,null,null,null,null,{"$f":"IF(NILSM4!B5=0,\"\",\"NIP \"&NILSM4!B5)","v":"NIP 19680917 200012 1 003"}]

{"sheet":"CETSM3","index":13,"n_rows":58,"n_cols":20,"rows_kept":58,"cut":false,"hidden":false,"merged":[[28,3,28,5],[45,2,45,4],[45,6,45,11],[47,2,47,11],[49,16,50,18],[51,16,52,18],[10,11,11,11],[11,16,11,17],[12,16,13,16],[12,17,13,17],[23,2,23,5],[24,3,24,5],[7,16,8,16],[7,17,8,17],[7,18,8,18],[7,19,8,19],[10,2,11,2],[10,3,11,3],[10,4,11,4],[10,5,10,6],[10,7,10,8],[10,9,10,10],[0,2,0,11],[1,2,1,11],[4,16,4,17],[4,18,4,19],[5,16,6,16],[5,17,6,17],[5,18,6,18],[5,19,6,19]]}
[null,null,"KARTU HASIL STUDI (KHS) PESERTA DIDIK",null,null,null,null,null,null,null,null,null,null,null,null,null,"JURUSAN",{"$f":"MENU!F8","v":"TBSM"}]
[null,null,"SMK NEGERI 1 KARAWANG",null,null,null,null,null,null,null,null,null,null,null,null,null,"NIS",{"$f":"VLOOKUP($R$13,TAB_BIODATA,BIODATA!D4,FALSE)","v":16170535}]
[]
[null,null,null,"Nama Peserta Didik",":",{"$f":"VLOOKUP($R$13,TAB_BIODATA,BIODATA!C4,FALSE)","v":"ADAM ADIYAT HARTANTO"}]
[null,null,null,"Nomor Induk/NISN",":",{"$f":"IF(VLOOKUP($R$13,TAB_BIODATA,BIODATA!E4)=\"\",VLOOKUP($R$13,TAB_BIODATA,BIODATA!D4,FALSE),VLOOKUP($R$13,TAB_BIODATA,BIODATA!D4)&\" / \"&VLOOKUP($R$13,TAB_BIODATA,BIODATA!E4,FALSE))","v":"16170535 / 0016930017"},null,null,null,null,null,null,null,null,null,null,"DATA CETAK",null,"HALAMAN CETAK"]
[null,null,null,"Kelas",":",{"$f":"IF(OR(F8=\"1 (satu)\",F8=\"2 (dua)\"),\"X \"&MENU!F9,IF(OR(F8=\"3 (tiga)\",F8=\"4 (empat)\"),\"XI \"&MENU!F9,IF(OR(F8=\"5 (lima)\",F8=\"6 (enam)\"),\"XII \"&MENU!F9,IF(OR(F8=\"7 (tujuh)\",F8=\"8 (delapan)\"),\"XIII \"&MENU!F9,\"\"))))","v":"XI TBSM 2"},null,null,null,null,null,null,null,null,null,null,"Dari data ke",1,"Dari",1]
[null,null,null,"Tahun Pelajaran",":",{"$f":"RIGHT(NILSM3!A2,11)","v":"2020 / 2021"}]
[null,null,null,"Semester",":",{"$f":"NILSM3!B3","v":"3 (tiga)"},null,null,null,null,null,null,null,null,null,null,"Sampai data ke",2,"Ke",1]
[]
[null,null,"Nilai Akademik"]
[null,null,"No.","Mata Pelajaran","KKM","KD 1",null,"KD 2",null,"KD 3",null,"Kehadiran"]
[null,null,null,null,null,"Tugas","Ulangan","Tugas","Ulangan","Tugas","Ulangan",null,null,null,null,null,"TAMPILAN DATA"]
[null,null,"A. Muatan Nasional",null,null,"T1","U1","T2","U2","T3","U3","H",null,null,null,null,"Nomor Urut",1]
["PAB",{"$f":"IF(C14>=1,1,0)","v":1},{"$f":"HLOOKUP(A14&$F$13,TABNILSM3,4,FALSE)","v":1},{"$f":"HLOOKUP(A14&$F$13,TABNILSM3,2,FALSE)","v":"Pendidikan Agama dan Budi Pekerti"},{"$f":"IFERROR(HLOOKUP(A14&$F$13,TABNILSM3,5,FALSE),\"-\")","v":77},{"$f":"INDEX(TABNILSM3,MATCH($R$2,NILSM3!$C$1:$C$43,0),MATCH(A14&$F$13,NILSM3!$C$1:$FR$1,0))","v":3},{"$f":"INDEX(TABNILSM3,MATCH($R$2,NILSM3!$C$1:$C$43,0),MATCH(A14&$G$13,NILSM3!$C$1:$FR$1,0))","v":4},{"$f":"INDEX(TABNILSM3,MATCH($R$2,NILSM3!$C$1:$C$43,0),MATCH(A14&$H$13,NILSM3!$C$1:$FR$1,0))","v":5},{"$f":"INDEX(TABNILSM3,MATCH($R$2,NILSM3!$C$1:$C$43,0),MATCH(A14&$I$13,NILSM3!$C$1:$FR$1,0))","v":6},{"$f":"INDEX(TABNILSM3,MATCH($R$2,NILSM3!$C$1:$C$43,0),MATCH(A14&$J$13,NILSM3!$C$1:$FR$1,0))","v":7},{"$f":"INDEX(TABNILSM3,MATCH($R$2,NILSM3!$C$1:$C$43,0),MATCH(A14&$K$13,NILSM3!$C$1:$FR$1,0))","v":8},{"$f":"INDEX(TABNILSM3,MATCH($R$2,NILSM3!$C$1:$C$43,0),MATCH(A14&$L$13,NILSM3!$C$1:$FR$1,0))","v":9}]
["PKN",{"$f":"IF(C15>=1,1,0)","v":1},2,"Pendidikan Pancasila dan Kewarganegaraan",77,{"$f":"INDEX(TABNILSM3,MATCH($R$2,NILSM3!$C$1:$C$43,0),MATCH(A15&$F$13,NILSM3!$C$1:$FR$1,0))","v":10},{"$f":"INDEX(TABNILSM3,MATCH($R$2,NILSM3!$C$1:$C$43,0),MATCH(A15&$G$13,NILSM3!$C$1:$FR$1,0))","v":11},{"$f":"INDEX(TABNILSM3,MATCH($R$2,NILSM3!$C$1:$C$43,0),MATCH(A15&$H$13,NILSM3!$C$1:$FR$1,0))","v":12},{"$f":"INDEX(TABNILSM3,MATCH($R$2,NILSM3!$C$1:$C$43,0),MATCH(A15&$I$13,NILSM3!$C$1:$FR$1,0))","v":13},{"$f":"INDEX(TABNILSM3,MATCH($R$2,NILSM3!$C$1:$C$43,0),MATCH(A15&$J$13,NILSM3!$C$1:$FR$1,0))","v":14},{"$f":"INDEX(TABNILSM3,MATCH($R$2,NILSM3!$C$1:$C$43,0),MATCH(A15&$K$13,NILSM3!$C$1:$FR$1,0))","v":15},{"$f":"INDEX(TABNILSM3,MATCH($R$2,NILSM3!$C$1:$C$43,0),MATCH(A15&$L$13,NILSM3!$C$1:$FR$1,0))","v":16}]
["IND",1,3,"Bahasa Indonesia",77,{"$f":"INDEX(TABNILSM3,MATCH($R$2,NILSM3!$C$1:$C$43,0),MATCH(A16&$F$13,NILSM3!$C$1:$FR$1,0))","v":17},{"$f":"INDEX(TABNILSM3,MATCH($R$2,NILSM3!$C$1:$C$43,0),MATCH(A16&$G$13,NILSM3!$C$1:$FR$1,0))","v":18},{"$f":"INDEX(TABNILSM3,MATCH($R$2,NILSM3!$C$1:$C$43,0),MATCH(A16&$H$13,NILSM3!$C$1:$FR$1,0))","v":19},{"$f":"INDEX(TABNILSM3,MATCH($R$2,NILSM3!$C$1:$C$43,0),MATCH(A16&$I$13,NILSM3!$C$1:$FR$1,0))","v":20},{"$f":"INDEX(TABNILSM3,MATCH($R$2,NILSM3!$C$1:$C$43,0),MATCH(A16&$J$13,NILSM3!$C$1:$FR$1,0))","v":21},{"$f":"INDEX(TABNILSM3,MATCH($R$2,NILSM3!$C$1:$C$43,0),MATCH(A16&$K$13,NILSM3!$C$1:$FR$1,0))","v":22},{"$f":"INDEX(TABNILSM3,MATCH($R$2,NILSM3!$C$1:$C$43,0),MATCH(A16&$L$13,NILSM3!$C$1:$FR$1,0))","v":23}]
["MTK",1,4,"Matematika",77,{"$f":"INDEX(TABNILSM3,MATCH($R$2,NILSM3!$C$1:$C$43,0),MATCH(A17&$F$13,NILSM3!$C$1:$FR$1,0))","v":24},{"$f":"INDEX(TABNILSM3,MATCH($R$2,NILSM3!$C$1:$C$43,0),MATCH(A17&$G$13,NILSM3!$C$1:$FR$1,0))","v":25},{"$f":"INDEX(TABNILSM3,MATCH($R$2,NILSM3!$C$1:$C$43,0),MATCH(A17&$H$13,NILSM3!$C$1:$FR$1,0))","v":26},{"$f":"INDEX(TABNILSM3,MATCH($R$2,NILSM3!$C$1:$C$43,0),MATCH(A17&$I$13,NILSM3!$C$1:$FR$1,0))","v":27},{"$f":"INDEX(TABNILSM3,MATCH($R$2,NILSM3!$C$1:$C$43,0),MATCH(A17&$J$13,NILSM3!$C$1:$FR$1,0))","v":28},{"$f":"INDEX(TABNILSM3,MATCH($R$2,NILSM3!$C$1:$C$43,0),MATCH(A17&$K$13,NILSM3!$C$1:$FR$1,0))","v":29},{"$f":"INDEX(TABNILSM3,MATCH($R$2,NILSM3!$C$1:$C$43,0),MATCH(A17&$L$13,NILSM3!$C$1:$FR$1,0))","v":30}]
["SJI",0,0,"-",77,{"$f":"INDEX(TABNILSM3,MATCH($R$2,NILSM3!$C$1:$C$43,0),MATCH(A18&$F$13,NILSM3!$C$1:$FR$1,0))","v":31},{"$f":"INDEX(TABNILSM3,MATCH($R$2,NILSM3!$C$1:$C$43,0),MATCH(A18&$G$13,NILSM3!$C$1:$FR$1,0))","v":32},{"$f":"INDEX(TABNILSM3,MATCH($R$2,NILSM3!$C$1:$C$43,0),MATCH(A18&$H$13,NILSM3!$C$1:$FR$1,0))","v":33},{"$f":"INDEX(TABNILSM3,MATCH($R$2,NILSM3!$C$1:$C$43,0),MATCH(A18&$I$13,NILSM3!$C$1:$FR$1,0))","v":34},{"$f":"INDEX(TABNILSM3,MATCH($R$2,NILSM3!$C$1:$C$43,0),MATCH(A18&$J$13,NILSM3!$C$1:$FR$1,0))","v":35},{"$f":"INDEX(TABNILSM3,MATCH($R$2,NILSM3!$C$1:$C$43,0),MATCH(A18&$K$13,NILSM3!$C$1:$FR$1,0))","v":36},{"$f":"INDEX(TABNILSM3,MATCH($R$2,NILSM3!$C$1:$C$43,0),MATCH(A18&$L$13,NILSM3!$C$1:$FR$1,0))","v":37}]
["ING",1,5,"Bahasa Inggris",77,{"$f":"INDEX(TABNILSM3,MATCH($R$2,NILSM3!$C$1:$C$43,0),MATCH(A19&$F$13,NILSM3!$C$1:$FR$1,0))","v":38},{"$f":"INDEX(TABNILSM3,MATCH($R$2,NILSM3!$C$1:$C$43,0),MATCH(A19&$G$13,NILSM3!$C$1:$FR$1,0))","v":39},{"$f":"INDEX(TABNILSM3,MATCH($R$2,NILSM3!$C$1:$C$43,0),MATCH(A19&$H$13,NILSM3!$C$1:$FR$1,0))","v":40},{"$f":"INDEX(TABNILSM3,MATCH($R$2,NILSM3!$C$1:$C$43,0),MATCH(A19&$I$13,NILSM3!$C$1:$FR$1,0))","v":41},{"$f":"INDEX(TABNILSM3,MATCH($R$2,NILSM3!$C$1:$C$43,0),MATCH(A19&$J$13,NILSM3!$C$1:$FR$1,0))","v":42},{"$f":"INDEX(TABNILSM3,MATCH($R$2,NILSM3!$C$1:$C$43,0),MATCH(A19&$K$13,NILSM3!$C$1:$FR$1,0))","v":43},{"$f":"INDEX(TABNILSM3,MATCH($R$2,NILSM3!$C$1:$C$43,0),MATCH(A19&$L$13,NILSM3!$C$1:$FR$1,0))","v":44}]
["JER",0,0,"-",77,{"$f":"INDEX(TABNILSM3,MATCH($R$2,NILSM3!$C$1:$C$43,0),MATCH(A20&$F$13,NILSM3!$C$1:$FR$1,0))","v":45},{"$f":"INDEX(TABNILSM3,MATCH($R$2,NILSM3!$C$1:$C$43,0),MATCH(A20&$G$13,NILSM3!$C$1:$FR$1,0))","v":46},{"$f":"INDEX(TABNILSM3,MATCH($R$2,NILSM3!$C$1:$C$43,0),MATCH(A20&$H$13,NILSM3!$C$1:$FR$1,0))","v":47},{"$f":"INDEX(TABNILSM3,MATCH($R$2,NILSM3!$C$1:$C$43,0),MATCH(A20&$I$13,NILSM3!$C$1:$FR$1,0))","v":48},{"$f":"INDEX(TABNILSM3,MATCH($R$2,NILSM3!$C$1:$C$43,0),MATCH(A20&$J$13,NILSM3!$C$1:$FR$1,0))","v":49},{"$f":"INDEX(TABNILSM3,MATCH($R$2,NILSM3!$C$1:$C$43,0),MATCH(A20&$K$13,NILSM3!$C$1:$FR$1,0))","v":50},{"$f":"INDEX(TABNILSM3,MATCH($R$2,NILSM3!$C$1:$C$43,0),MATCH(A20&$L$13,NILSM3!$C$1:$FR$1,0))","v":51}]
[null,{"$f":"IF(AND(COUNT(C21)=0,C23=0),0,1)","v":1},"B. Muatan Kewilayahan"]
["SBD",0,{"$f":"HLOOKUP(A22&$F$13,TABNILSM3,4,FALSE)","v":0},{"$f":"HLOOKUP(A22&$F$13,TABNILSM3,2,FALSE)","v":"-"},{"$f":"IFERROR(HLOOKUP(A22&$F$13,TABNILSM3,5,FALSE),\"-\")","v":77},{"$f":"INDEX(TABNILSM3,MATCH($R$2,NILSM3!$C$1:$C$43,0),MATCH(A22&$F$13,NILSM3!$C$1:$FR$1,0))","v":52},{"$f":"INDEX(TABNILSM3,MATCH($R$2,NILSM3!$C$1:$C$43,0),MATCH(A22&$G$13,NILSM3!$C$1:$FR$1,0))","v":53},{"$f":"INDEX(TABNILSM3,MATCH($R$2,NILSM3!$C$1:$C$43,0),MATCH(A22&$H$13,NILSM3!$C$1:$FR$1,0))","v":54},{"$f":"INDEX(TABNILSM3,MATCH($R$2,NILSM3!$C$1:$C$43,0),MATCH(A22&$I$13,NILSM3!$C$1:$FR$1,0))","v":55},{"$f":"INDEX(TABNILSM3,MATCH($R$2,NILSM3!$C$1:$C$43,0),MATCH(A22&$J$13,NILSM3!$C$1:$FR$1,0))","v":56},{"$f":"INDEX(TABNILSM3,MATCH($R$2,NILSM3!$C$1:$C$43,0),MATCH(A22&$K$13,NILSM3!$C$1:$FR$1,0))","v":57},{"$f":"INDEX(TABNILSM3,MATCH($R$2,NILSM3!$C$1:$C$43,0),MATCH(A22&$L$13,NILSM3!$C$1:$FR$1,0))","v":58}]
["PJO",1,{"$f":"HLOOKUP(A23&$F$13,TABNILSM3,4,FALSE)","v":6},{"$f":"HLOOKUP(A23&$F$13,TABNILSM3,2,FALSE)","v":"Pendidikan Jasmani, Olahraga dan Kesehatan"},{"$f":"IFERROR(HLOOKUP(A23&$F$13,TABNILSM3,5,FALSE),\"-\")","v":77},{"$f":"INDEX(TABNILSM3,MATCH($R$2,NILSM3!$C$1:$C$43,0),MATCH(A23&$F$13,NILSM3!$C$1:$FR$1,0))","v":59},{"$f":"INDEX(TABNILSM3,MATCH($R$2,NILSM3!$C$1:$C$43,0),MATCH(A23&$G$13,NILSM3!$C$1:$FR$1,0))","v":60},{"$f":"INDEX(TABNILSM3,MATCH($R$2,NILSM3!$C$1:$C$43,0),MATCH(A23&$H$13,NILSM3!$C$1:$FR$1,0))","v":61},{"$f":"INDEX(TABNILSM3,MATCH($R$2,NILSM3!$C$1:$C$43,0),MATCH(A23&$I$13,NILSM3!$C$1:$FR$1,0))","v":62},{"$f":"INDEX(TABNILSM3,MATCH($R$2,NILSM3!$C$1:$C$43,0),MATCH(A23&$J$13,NILSM3!$C$1:$FR$1,0))","v":63},{"$f":"INDEX(TABNILSM3,MATCH($R$2,NILSM3!$C$1:$C$43,0),MATCH(A23&$K$13,NILSM3!$C$1:$FR$1,0))","v":64},{"$f":"INDEX(TABNILSM3,MATCH($R$2,NILSM3!$C$1:$C$43,0),MATCH(A23&$L$13,NILSM3!$C$1:$FR$1,0))","v":65}]
["-",1,"C. Muatan Peminatan Kejuruan"]
[null,{"$f":"IF(AND(COUNT(C25)=0,C26=0),0,1)","v":0},"C1","Dasar Bidang Keahlian"]
["SKD",{"$f":"IF(C26>=1,1,0)","v":0},{"$f":"HLOOKUP(A26&$F$13,TABNILSM3,4,FALSE)","v":0},{"$f":"HLOOKUP(A26&$F$13,TABNILSM3,2,FALSE)","v":"-"},{"$f":"IFERROR(HLOOKUP(A26&$F$13,TABNILSM3,5,FALSE),\"-\")","v":77},{"$f":"INDEX(TABNILSM3,MATCH($R$2,NILSM3!$C$1:$C$43,0),MATCH(A26&$F$13,NILSM3!$C$1:$FR$1,0))","v":66},{"$f":"INDEX(TABNILSM3,MATCH($R$2,NILSM3!$C$1:$C$43,0),MATCH(A26&$G$13,NILSM3!$C$1:$FR$1,0))","v":67},{"$f":"INDEX(TABNILSM3,MATCH($R$2,NILSM3!$C$1:$C$43,0),MATCH(A26&$H$13,NILSM3!$C$1:$FR$1,0))","v":68},{"$f":"INDEX(TABNILSM3,MATCH($R$2,NILSM3!$C$1:$C$43,0),MATCH(A26&$I$13,NILSM3!$C$1:$FR$1,0))","v":69},{"$f":"INDEX(TABNILSM3,MATCH($R$2,NILSM3!$C$1:$C$43,0),MATCH(A26&$J$13,NILSM3!$C$1:$FR$1,0))","v":70},{"$f":"INDEX(TABNILSM3,MATCH($R$2,NILSM3!$C$1:$C$43,0),MATCH(A26&$K$13,NILSM3!$C$1:$FR$1,0))","v":71},{"$f":"INDEX(TABNILSM3,MATCH($R$2,NILSM3!$C$1:$C$43,0),MATCH(A26&$L$13,NILSM3!$C$1:$FR$1,0))","v":72}]
["FIS",0,{"$f":"HLOOKUP(A27&$F$13,TABNILSM3,4,FALSE)","v":0},{"$f":"HLOOKUP(A27&$F$13,TABNILSM3,2,FALSE)","v":"-"},{"$f":"IFERROR(HLOOKUP(A27&$F$13,TABNILSM3,5,FALSE),\"-\")","v":77},{"$f":"INDEX(TABNILSM3,MATCH($R$2,NILSM3!$C$1:$C$43,0),MATCH(A27&$F$13,NILSM3!$C$1:$FR$1,0))","v":73},{"$f":"INDEX(TABNILSM3,MATCH($R$2,NILSM3!$C$1:$C$43,0),MATCH(A27&$G$13,NILSM3!$C$1:$FR$1,0))","v":74},{"$f":"INDEX(TABNILSM3,MATCH($R$2,NILSM3!$C$1:$C$43,0),MATCH(A27&$H$13,NILSM3!$C$1:$FR$1,0))","v":75},{"$f":"INDEX(TABNILSM3,MATCH($R$2,NILSM3!$C$1:$C$43,0),MATCH(A27&$I$13,NILSM3!$C$1:$FR$1,0))","v":76},{"$f":"INDEX(TABNILSM3,MATCH($R$2,NILSM3!$C$1:$C$43,0),MATCH(A27&$J$13,NILSM3!$C$1:$FR$1,0))","v":77},{"$f":"INDEX(TABNILSM3,MATCH($R$2,NILSM3!$C$1:$C$43,0),MATCH(A27&$K$13,NILSM3!$C$1:$FR$1,0))","v":78},{"$f":"INDEX(TABNILSM3,MATCH($R$2,NILSM3!$C$1:$C$43,0),MATCH(A27&$L$13,NILSM3!$C$1:$FR$1,0))","v":79}]
["KIM",0,{"$f":"HLOOKUP(A28&$F$13,TABNILSM3,4,FALSE)","v":0},{"$f":"HLOOKUP(A28&$F$13,TABNILSM3,2,FALSE)","v":"-"},{"$f":"IFERROR(HLOOKUP(A28&$F$13,TABNILSM3,5,FALSE),\"-\")","v":77},{"$f":"INDEX(TABNILSM3,MATCH($R$2,NILSM3!$C$1:$C$43,0),MATCH(A28&$F$13,NILSM3!$C$1:$FR$1,0))","v":80},{"$f":"INDEX(TABNILSM3,MATCH($R$2,NILSM3!$C$1:$C$43,0),MATCH(A28&$G$13,NILSM3!$C$1:$FR$1,0))","v":81},{"$f":"INDEX(TABNILSM3,MATCH($R$2,NILSM3!$C$1:$C$43,0),MATCH(A28&$H$13,NILSM3!$C$1:$FR$1,0))","v":82},{"$f":"INDEX(TABNILSM3,MATCH($R$2,NILSM3!$C$1:$C$43,0),MATCH(A28&$I$13,NILSM3!$C$1:$FR$1,0))","v":83},{"$f":"INDEX(TABNILSM3,MATCH($R$2,NILSM3!$C$1:$C$43,0),MATCH(A28&$J$13,NILSM3!$C$1:$FR$1,0))","v":84},{"$f":"INDEX(TABNILSM3,MATCH($R$2,NILSM3!$C$1:$C$43,0),MATCH(A28&$K$13,NILSM3!$C$1:$FR$1,0))","v":85},{"$f":"INDEX(TABNILSM3,MATCH($R$2,NILSM3!$C$1:$C$43,0),MATCH(A28&$L$13,NILSM3!$C$1:$FR$1,0))","v":86}]
[null,{"$f":"IF(AND(COUNT(C29)=0,C30=0),0,1)","v":0},"C2","Dasar Program Keahlian"]
["C21",0,{"$f":"HLOOKUP(A30&$F$13,TABNILSM3,4,FALSE)","v":0},{"$f":"HLOOKUP(A30&$F$13,TABNILSM3,2,FALSE)","v":"-"},{"$f":"IFERROR(HLOOKUP(A30&$F$13,TABNILSM3,5,FALSE),\"-\")","v":77},{"$f":"INDEX(TABNILSM3,MATCH($R$2,NILSM3!$C$1:$C$43,0),MATCH(A30&$F$13,NILSM3!$C$1:$FR$1,0))","v":87},{"$f":"INDEX(TABNILSM3,MATCH($R$2,NILSM3!$C$1:$C$43,0),MATCH(A30&$G$13,NILSM3!$C$1:$FR$1,0))","v":88},{"$f":"INDEX(TABNILSM3,MATCH($R$2,NILSM3!$C$1:$C$43,0),MATCH(A30&$H$13,NILSM3!$C$1:$FR$1,0))","v":89},{"$f":"INDEX(TABNILSM3,MATCH($R$2,NILSM3!$C$1:$C$43,0),MATCH(A30&$I$13,NILSM3!$C$1:$FR$1,0))","v":90},{"$f":"INDEX(TABNILSM3,MATCH($R$2,NILSM3!$C$1:$C$43,0),MATCH(A30&$J$13,NILSM3!$C$1:$FR$1,0))","v":91},{"$f":"INDEX(TABNILSM3,MATCH($R$2,NILSM3!$C$1:$C$43,0),MATCH(A30&$K$13,NILSM3!$C$1:$FR$1,0))","v":92},{"$f":"INDEX(TABNILSM3,MATCH($R$2,NILSM3!$C$1:$C$43,0),MATCH(A30&$L$13,NILSM3!$C$1:$FR$1,0))","v":93}]
["C22",0,{"$f":"HLOOKUP(A31&$F$13,TABNILSM3,4,FALSE)","v":0},{"$f":"HLOOKUP(A31&$F$13,TABNILSM3,2,FALSE)","v":"-"},{"$f":"IFERROR(HLOOKUP(A31&$F$13,TABNILSM3,5,FALSE),\"-\")","v":77},{"$f":"INDEX(TABNILSM3,MATCH($R$2,NILSM3!$C$1:$C$43,0),MATCH(A31&$F$13,NILSM3!$C$1:$FR$1,0))","v":94},{"$f":"INDEX(TABNILSM3,MATCH($R$2,NILSM3!$C$1:$C$43,0),MATCH(A31&$G$13,NILSM3!$C$1:$FR$1,0))","v":95},{"$f":"INDEX(TABNILSM3,MATCH($R$2,NILSM3!$C$1:$C$43,0),MATCH(A31&$H$13,NILSM3!$C$1:$FR$1,0))","v":96},{"$f":"INDEX(TABNILSM3,MATCH($R$2,NILSM3!$C$1:$C$43,0),MATCH(A31&$I$13,NILSM3!$C$1:$FR$1,0))","v":97},{"$f":"INDEX(TABNILSM3,MATCH($R$2,NILSM3!$C$1:$C$43,0),MATCH(A31&$J$13,NILSM3!$C$1:$FR$1,0))","v":98},{"$f":"INDEX(TABNILSM3,MATCH($R$2,NILSM3!$C$1:$C$43,0),MATCH(A31&$K$13,NILSM3!$C$1:$FR$1,0))","v":99},{"$f":"INDEX(TABNILSM3,MATCH($R$2,NILSM3!$C$1:$C$43,0),MATCH(A31&$L$13,NILSM3!$C$1:$FR$1,0))","v":100}]
["C23",0,{"$f":"HLOOKUP(A32&$F$13,TABNILSM3,4,FALSE)","v":0},{"$f":"HLOOKUP(A32&$F$13,TABNILSM3,2,FALSE)","v":"-"},{"$f":"IFERROR(HLOOKUP(A32&$F$13,TABNILSM3,5,FALSE),\"-\")","v":77},{"$f":"INDEX(TABNILSM3,MATCH($R$2,NILSM3!$C$1:$C$43,0),MATCH(A32&$F$13,NILSM3!$C$1:$FR$1,0))","v":75},{"$f":"INDEX(TABNILSM3,MATCH($R$2,NILSM3!$C$1:$C$43,0),MATCH(A32&$G$13,NILSM3!$C$1:$FR$1,0))","v":76},{"$f":"INDEX(TABNILSM3,MATCH($R$2,NILSM3!$C$1:$C$43,0),MATCH(A32&$H$13,NILSM3!$C$1:$FR$1,0))","v":77},{"$f":"INDEX(TABNILSM3,MATCH($R$2,NILSM3!$C$1:$C$43,0),MATCH(A32&$I$13,NILSM3!$C$1:$FR$1,0))","v":78},{"$f":"INDEX(TABNILSM3,MATCH($R$2,NILSM3!$C$1:$C$43,0),MATCH(A32&$J$13,NILSM3!$C$1:$FR$1,0))","v":79},{"$f":"INDEX(TABNILSM3,MATCH($R$2,NILSM3!$C$1:$C$43,0),MATCH(A32&$K$13,NILSM3!$C$1:$FR$1,0))","v":80},{"$f":"INDEX(TABNILSM3,MATCH($R$2,NILSM3!$C$1:$C$43,0),MATCH(A32&$L$13,NILSM3!$C$1:$FR$1,0))","v":81}]
["C24",0,{"$f":"HLOOKUP(A33&$F$13,TABNILSM3,4,FALSE)","v":0},{"$f":"HLOOKUP(A33&$F$13,TABNILSM3,2,FALSE)","v":"-"},{"$f":"IFERROR(HLOOKUP(A33&$F$13,TABNILSM3,5,FALSE),\"-\")","v":77},{"$f":"INDEX(TABNILSM3,MATCH($R$2,NILSM3!$C$1:$C$43,0),MATCH(A33&$F$13,NILSM3!$C$1:$FR$1,0))","v":82},{"$f":"INDEX(TABNILSM3,MATCH($R$2,NILSM3!$C$1:$C$43,0),MATCH(A33&$G$13,NILSM3!$C$1:$FR$1,0))","v":83},{"$f":"INDEX(TABNILSM3,MATCH($R$2,NILSM3!$C$1:$C$43,0),MATCH(A33&$H$13,NILSM3!$C$1:$FR$1,0))","v":84},{"$f":"INDEX(TABNILSM3,MATCH($R$2,NILSM3!$C$1:$C$43,0),MATCH(A33&$I$13,NILSM3!$C$1:$FR$1,0))","v":85},{"$f":"INDEX(TABNILSM3,MATCH($R$2,NILSM3!$C$1:$C$43,0),MATCH(A33&$J$13,NILSM3!$C$1:$FR$1,0))","v":86},{"$f":"INDEX(TABNILSM3,MATCH($R$2,NILSM3!$C$1:$C$43,0),MATCH(A33&$K$13,NILSM3!$C$1:$FR$1,0))","v":87},{"$f":"INDEX(TABNILSM3,MATCH($R$2,NILSM3!$C$1:$C$43,0),MATCH(A33&$L$13,NILSM3!$C$1:$FR$1,0))","v":88}]
["-",{"$f":"IF(AND(COUNT(C34)=0,C37=0),0,1)","v":1},"C3","Kompetensi Keahlian"]
["C31",1,{"$f":"HLOOKUP(A35&$F$13,TABNILSM3,4,FALSE)","v":7},{"$f":"HLOOKUP(A35&$F$13,TABNILSM3,2,FALSE)","v":"Pemeliharaan Mesin Sepeda Motor"},{"$f":"IFERROR(HLOOKUP(A35&$F$13,TABNILSM3,5,FALSE),\"-\")","v":77},{"$f":"INDEX(TABNILSM3,MATCH($R$2,NILSM3!$C$1:$C$43,0),MATCH(A35&$F$13,NILSM3!$C$1:$FR$1,0))","v":89},{"$f":"INDEX(TABNILSM3,MATCH($R$2,NILSM3!$C$1:$C$43,0),MATCH(A35&$G$13,NILSM3!$C$1:$FR$1,0))","v":90},{"$f":"INDEX(TABNILSM3,MATCH($R$2,NILSM3!$C$1:$C$43,0),MATCH(A35&$H$13,NILSM3!$C$1:$FR$1,0))","v":91},{"$f":"INDEX(TABNILSM3,MATCH($R$2,NILSM3!$C$1:$C$43,0),MATCH(A35&$I$13,NILSM3!$C$1:$FR$1,0))","v":92},{"$f":"INDEX(TABNILSM3,MATCH($R$2,NILSM3!$C$1:$C$43,0),MATCH(A35&$J$13,NILSM3!$C$1:$FR$1,0))","v":93},{"$f":"INDEX(TABNILSM3,MATCH($R$2,NILSM3!$C$1:$C$43,0),MATCH(A35&$K$13,NILSM3!$C$1:$FR$1,0))","v":94},{"$f":"INDEX(TABNILSM3,MATCH($R$2,NILSM3!$C$1:$C$43,0),MATCH(A35&$L$13,NILSM3!$C$1:$FR$1,0))","v":95}]
["C32",1,8,"Pemeliharaan Sasis Sepeda Motor",77,{"$f":"INDEX(TABNILSM3,MATCH($R$2,NILSM3!$C$1:$C$43,0),MATCH(A36&$F$13,NILSM3!$C$1:$FR$1,0))","v":96},{"$f":"INDEX(TABNILSM3,MATCH($R$2,NILSM3!$C$1:$C$43,0),MATCH(A36&$G$13,NILSM3!$C$1:$FR$1,0))","v":97},{"$f":"INDEX(TABNILSM3,MATCH($R$2,NILSM3!$C$1:$C$43,0),MATCH(A36&$H$13,NILSM3!$C$1:$FR$1,0))","v":98},{"$f":"INDEX(TABNILSM3,MATCH($R$2,NILSM3!$C$1:$C$43,0),MATCH(A36&$I$13,NILSM3!$C$1:$FR$1,0))","v":99},{"$f":"INDEX(TABNILSM3,MATCH($R$2,NILSM3!$C$1:$C$43,0),MATCH(A36&$J$13,NILSM3!$C$1:$FR$1,0))","v":100},{"$f":"INDEX(TABNILSM3,MATCH($R$2,NILSM3!$C$1:$C$43,0),MATCH(A36&$K$13,NILSM3!$C$1:$FR$1,0))","v":75},{"$f":"INDEX(TABNILSM3,MATCH($R$2,NILSM3!$C$1:$C$43,0),MATCH(A36&$L$13,NILSM3!$C$1:$FR$1,0))","v":76}]
["C33",1,9,"Pemeliharaan Kelistrikan Sepeda Motor",77,{"$f":"INDEX(TABNILSM3,MATCH($R$2,NILSM3!$C$1:$C$43,0),MATCH(A37&$F$13,NILSM3!$C$1:$FR$1,0))","v":77},{"$f":"INDEX(TABNILSM3,MATCH($R$2,NILSM3!$C$1:$C$43,0),MATCH(A37&$G$13,NILSM3!$C$1:$FR$1,0))","v":78},{"$f":"INDEX(TABNILSM3,MATCH($R$2,NILSM3!$C$1:$C$43,0),MATCH(A37&$H$13,NILSM3!$C$1:$FR$1,0))","v":79},{"$f":"INDEX(TABNILSM3,MATCH($R$2,NILSM3!$C$1:$C$43,0),MATCH(A37&$I$13,NILSM3!$C$1:$FR$1,0))","v":80},{"$f":"INDEX(TABNILSM3,MATCH($R$2,NILSM3!$C$1:$C$43,0),MATCH(A37&$J$13,NILSM3!$C$1:$FR$1,0))","v":81},{"$f":"INDEX(TABNILSM3,MATCH($R$2,NILSM3!$C$1:$C$43,0),MATCH(A37&$K$13,NILSM3!$C$1:$FR$1,0))","v":82},{"$f":"INDEX(TABNILSM3,MATCH($R$2,NILSM3!$C$1:$C$43,0),MATCH(A37&$L$13,NILSM3!$C$1:$FR$1,0))","v":83}]
["C34",0,0,"-",77,{"$f":"INDEX(TABNILSM3,MATCH($R$2,NILSM3!$C$1:$C$43,0),MATCH(A38&$F$13,NILSM3!$C$1:$FR$1,0))","v":84},{"$f":"INDEX(TABNILSM3,MATCH($R$2,NILSM3!$C$1:$C$43,0),MATCH(A38&$G$13,NILSM3!$C$1:$FR$1,0))","v":85},{"$f":"INDEX(TABNILSM3,MATCH($R$2,NILSM3!$C$1:$C$43,0),MATCH(A38&$H$13,NILSM3!$C$1:$FR$1,0))","v":86},{"$f":"INDEX(TABNILSM3,MATCH($R$2,NILSM3!$C$1:$C$43,0),MATCH(A38&$I$13,NILSM3!$C$1:$FR$1,0))","v":87},{"$f":"INDEX(TABNILSM3,MATCH($R$2,NILSM3!$C$1:$C$43,0),MATCH(A38&$J$13,NILSM3!$C$1:$FR$1,0))","v":88},{"$f":"INDEX(TABNILSM3,MATCH($R$2,NILSM3!$C$1:$C$43,0),MATCH(A38&$K$13,NILSM3!$C$1:$FR$1,0))","v":89},{"$f":"INDEX(TABNILSM3,MATCH($R$2,NILSM3!$C$1:$C$43,0),MATCH(A38&$L$13,NILSM3!$C$1:$FR$1,0))","v":90}]
["C35",0,0,"-",77,{"$f":"INDEX(TABNILSM3,MATCH($R$2,NILSM3!$C$1:$C$43,0),MATCH(A39&$F$13,NILSM3!$C$1:$FR$1,0))","v":91},{"$f":"INDEX(TABNILSM3,MATCH($R$2,NILSM3!$C$1:$C$43,0),MATCH(A39&$G$13,NILSM3!$C$1:$FR$1,0))","v":92},{"$f":"INDEX(TABNILSM3,MATCH($R$2,NILSM3!$C$1:$C$43,0),MATCH(A39&$H$13,NILSM3!$C$1:$FR$1,0))","v":93},{"$f":"INDEX(TABNILSM3,MATCH($R$2,NILSM3!$C$1:$C$43,0),MATCH(A39&$I$13,NILSM3!$C$1:$FR$1,0))","v":94},{"$f":"INDEX(TABNILSM3,MATCH($R$2,NILSM3!$C$1:$C$43,0),MATCH(A39&$J$13,NILSM3!$C$1:$FR$1,0))","v":95},{"$f":"INDEX(TABNILSM3,MATCH($R$2,NILSM3!$C$1:$C$43,0),MATCH(A39&$K$13,NILSM3!$C$1:$FR$1,0))","v":96},{"$f":"INDEX(TABNILSM3,MATCH($R$2,NILSM3!$C$1:$C$43,0),MATCH(A39&$L$13,NILSM3!$C$1:$FR$1,0))","v":97}]
["C36",1,10,"Produk Kreatif dan Kewirausahaan ",77,{"$f":"INDEX(TABNILSM3,MATCH($R$2,NILSM3!$C$1:$C$43,0),MATCH(A40&$F$13,NILSM3!$C$1:$FR$1,0))","v":98},{"$f":"INDEX(TABNILSM3,MATCH($R$2,NILSM3!$C$1:$C$43,0),MATCH(A40&$G$13,NILSM3!$C$1:$FR$1,0))","v":99},{"$f":"INDEX(TABNILSM3,MATCH($R$2,NILSM3!$C$1:$C$43,0),MATCH(A40&$H$13,NILSM3!$C$1:$FR$1,0))","v":100},{"$f":"INDEX(TABNILSM3,MATCH($R$2,NILSM3!$C$1:$C$43,0),MATCH(A40&$I$13,NILSM3!$C$1:$FR$1,0))","v":75},{"$f":"INDEX(TABNILSM3,MATCH($R$2,NILSM3!$C$1:$C$43,0),MATCH(A40&$J$13,NILSM3!$C$1:$FR$1,0))","v":76},{"$f":"INDEX(TABNILSM3,MATCH($R$2,NILSM3!$C$1:$C$43,0),MATCH(A40&$K$13,NILSM3!$C$1:$FR$1,0))","v":77},{"$f":"INDEX(TABNILSM3,MATCH($R$2,NILSM3!$C$1:$C$43,0),MATCH(A40&$L$13,NILSM3!$C$1:$FR$1,0))","v":78}]
[null,{"$f":"IF(AND(COUNT(C41)=0,C42=0),0,1)","v":0},"Muatan Lokal"]
["SUN",0,{"$f":"HLOOKUP(A42&$F$13,TABNILSM3,4,FALSE)","v":0},{"$f":"HLOOKUP(A42&$F$13,TABNILSM3,2,FALSE)","v":"-"},{"$f":"IFERROR(HLOOKUP(A42&$F$13,TABNILSM3,5,FALSE),\"-\")","v":77},{"$f":"INDEX(TABNILSM3,MATCH($R$2,NILSM3!$C$1:$C$43,0),MATCH(A42&$F$13,NILSM3!$C$1:$FR$1,0))","v":79},{"$f":"INDEX(TABNILSM3,MATCH($R$2,NILSM3!$C$1:$C$43,0),MATCH(A42&$G$13,NILSM3!$C$1:$FR$1,0))","v":80},{"$f":"INDEX(TABNILSM3,MATCH($R$2,NILSM3!$C$1:$C$43,0),MATCH(A42&$H$13,NILSM3!$C$1:$FR$1,0))","v":81},{"$f":"INDEX(TABNILSM3,MATCH($R$2,NILSM3!$C$1:$C$43,0),MATCH(A42&$I$13,NILSM3!$C$1:$FR$1,0))","v":82},{"$f":"INDEX(TABNILSM3,MATCH($R$2,NILSM3!$C$1:$C$43,0),MATCH(A42&$J$13,NILSM3!$C$1:$FR$1,0))","v":83},{"$f":"INDEX(TABNILSM3,MATCH($R$2,NILSM3!$C$1:$C$43,0),MATCH(A42&$K$13,NILSM3!$C$1:$FR$1,0))","v":84},{"$f":"INDEX(TABNILSM3,MATCH($R$2,NILSM3!$C$1:$C$43,0),MATCH(A42&$L$13,NILSM3!$C$1:$FR$1,0))","v":85}]
["PLH",0,{"$f":"HLOOKUP(A43&$F$13,TABNILSM3,4,FALSE)","v":0},{"$f":"HLOOKUP(A43&$F$13,TABNILSM3,2,FALSE)","v":"-"},{"$f":"IFERROR(HLOOKUP(A43&$F$13,TABNILSM3,5,FALSE),\"-\")","v":77},{"$f":"INDEX(TABNILSM3,MATCH($R$2,NILSM3!$C$1:$C$43,0),MATCH(A43&$F$13,NILSM3!$C$1:$FR$1,0))","v":86},{"$f":"INDEX(TABNILSM3,MATCH($R$2,NILSM3!$C$1:$C$43,0),MATCH(A43&$G$13,NILSM3!$C$1:$FR$1,0))","v":87},{"$f":"INDEX(TABNILSM3,MATCH($R$2,NILSM3!$C$1:$C$43,0),MATCH(A43&$H$13,NILSM3!$C$1:$FR$1,0))","v":88},{"$f":"INDEX(TABNILSM3,MATCH($R$2,NILSM3!$C$1:$C$43,0),MATCH(A43&$I$13,NILSM3!$C$1:$FR$1,0))","v":89},{"$f":"INDEX(TABNILSM3,MATCH($R$2,NILSM3!$C$1:$C$43,0),MATCH(A43&$J$13,NILSM3!$C$1:$FR$1,0))","v":90},{"$f":"INDEX(TABNILSM3,MATCH($R$2,NILSM3!$C$1:$C$43,0),MATCH(A43&$K$13,NILSM3!$C$1:$FR$1,0))","v":91},{"$f":"INDEX(TABNILSM3,MATCH($R$2,NILSM3!$C$1:$C$43,0),MATCH(A43&$L$13,NILSM3!$C$1:$FR$1,0))","v":92}]
[]
["CTT",null,"Bimbingan dan Konseling",null,null,null,"Catatan Akademik"]
["BKN",null,{"$f":"INDEX(TABNILSM3,MATCH($R$2,NILSM3!$C$1:$C$43,0),MATCH(A46,NILSM3!$C$1:$FR$1,0))","v":0},null,null,null,{"$f":"INDEX(TABNILSM3,MATCH($R$2,NILSM3!$C$1:$C$43,0),MATCH(A45,NILSM3!$C$1:$FR$1,0))","v":0}]
[]
[null,null,"Catatan: Jika nilai 0, siswa belum mengupload tugas atau belum mengerjakan ulangan. Jika nilai - , materi KD (Kompetensi Dasar) tersebut dilaksanakan setelah pembagian KHS."]
[]
[null,null,null,null,null,null,null,null,null,null,null,null,null,null,null,null,{"$f":"VLOOKUP($R$13,TAB_BIODATA,BIODATA!C4,FALSE)","v":"ADAM ADIYAT HARTANTO"}]
[null,null,null,"Mengetahui,",null,null,null,null,{"$f":"NILSM3!A5","v":0}]
[null,null,null,"Orang Tua/Wali,",null,null,null,null,"Wali Kelas,",null,null,null,null,null,null,null,{"$f":"\"Nomor Urut \"&R13","v":"Nomor Urut 1"}]
[]
[]
[]
[]
[null,null,null,null,null,null,null,null,{"$f":"NILSM3!B4","v":"Amo Sisdianto, S.Kom"}]
[null,null,null,null,null,null,null,null,{"$f":"IF(NILSM3!B5=0,\"\",\"NIP \"&NILSM3!B5)","v":""}]

{"sheet":"CETSM2","index":14,"n_rows":58,"n_cols":20,"rows_kept":58,"cut":false,"hidden":false,"merged":[[28,3,28,5],[45,2,45,4],[45,6,45,11],[47,2,47,11],[49,16,50,18],[51,16,52,18],[10,11,11,11],[11,16,11,17],[12,16,13,16],[12,17,13,17],[23,2,23,5],[24,3,24,5],[7,16,8,16],[7,17,8,17],[7,18,8,18],[7,19,8,19],[10,2,11,2],[10,3,11,3],[10,4,11,4],[10,5,10,6],[10,7,10,8],[10,9,10,10],[0,2,0,11],[1,2,1,11],[4,16,4,17],[4,18,4,19],[5,16,6,16],[5,17,6,17],[5,18,6,18],[5,19,6,19]]}
[null,null,"KARTU HASIL STUDI (KHS) PESERTA DIDIK",null,null,null,null,null,null,null,null,null,null,null,null,null,"JURUSAN",{"$f":"MENU!F8","v":"TBSM"}]
[null,null,"SMK NEGERI 1 KARAWANG",null,null,null,null,null,null,null,null,null,null,null,null,null,"NIS",{"$f":"VLOOKUP($R$13,TAB_BIODATA,BIODATA!D4,FALSE)","v":16170371}]
[]
[null,null,null,"Nama Peserta Didik",":",{"$f":"VLOOKUP($R$13,TAB_BIODATA,BIODATA!C4,FALSE)","v":"BAGAS ADJI PRIANTOMO"}]
[null,null,null,"Nomor Induk/NISN",":",{"$f":"IF(VLOOKUP($R$13,TAB_BIODATA,BIODATA!E4)=\"\",VLOOKUP($R$13,TAB_BIODATA,BIODATA!D4,FALSE),VLOOKUP($R$13,TAB_BIODATA,BIODATA!D4)&\" / \"&VLOOKUP($R$13,TAB_BIODATA,BIODATA!E4,FALSE))","v":"16170371 / 0019580311"},null,null,null,null,null,null,null,null,null,null,"DATA CETAK",null,"HALAMAN CETAK"]
[null,null,null,"Kelas",":",{"$f":"IF(OR(F8=\"1 (satu)\",F8=\"2 (dua)\"),\"X \"&MENU!F9,IF(OR(F8=\"3 (tiga)\",F8=\"4 (empat)\"),\"XI \"&MENU!F9,IF(OR(F8=\"5 (lima)\",F8=\"6 (enam)\"),\"XII \"&MENU!F9,IF(OR(F8=\"7 (tujuh)\",F8=\"8 (delapan)\"),\"XIII \"&MENU!F9,\"\"))))","v":"X TBSM 2"},null,null,null,null,null,null,null,null,null,null,"Dari data ke",1,"Dari",1]
[null,null,null,"Tahun Pelajaran",":",{"$f":"RIGHT(NILSM2!A2,11)","v":"2020 / 2021"}]
[null,null,null,"Semester",":",{"$f":"NILSM2!B3","v":"2 (dua)"},null,null,null,null,null,null,null,null,null,null,"Sampai data ke",2,"Ke",1]
[]
[null,null,"Nilai Akademik"]
[null,null,"No.","Mata Pelajaran","KKM","KD 1",null,"KD 2",null,"KD 3",null,"Kehadiran"]
[null,null,null,null,null,"Tugas","Ulangan","Tugas","Ulangan","Tugas","Ulangan",null,null,null,null,null,"TAMPILAN DATA"]
[null,null,"A. Muatan Nasional",null,null,"T1","U1","T2","U2","T3","U3","H",null,null,null,null,"Nomor Urut",3]
["PAB",{"$f":"IF(C14>=1,1,0)","v":1},{"$f":"HLOOKUP(A14&$F$13,TABNILSM2,4,FALSE)","v":1},{"$f":"HLOOKUP(A14&$F$13,TABNILSM2,2,FALSE)","v":"Pendidikan Agama dan Budi Pekerti"},{"$f":"IFERROR(HLOOKUP(A14&$F$13,TABNILSM2,5,FALSE),\"-\")","v":75},{"$f":"INDEX(TABNILSM2,MATCH($R$2,NILSM2!$C$1:$C$43,0),MATCH(A14&$F$13,NILSM2!$C$1:$FR$1,0))","v":75},{"$f":"INDEX(TABNILSM2,MATCH($R$2,NILSM2!$C$1:$C$43,0),MATCH(A14&$G$13,NILSM2!$C$1:$FR$1,0))","v":76},{"$f":"INDEX(TABNILSM2,MATCH($R$2,NILSM2!$C$1:$C$43,0),MATCH(A14&$H$13,NILSM2!$C$1:$FR$1,0))","v":77},{"$f":"INDEX(TABNILSM2,MATCH($R$2,NILSM2!$C$1:$C$43,0),MATCH(A14&$I$13,NILSM2!$C$1:$FR$1,0))","v":78},{"$f":"INDEX(TABNILSM2,MATCH($R$2,NILSM2!$C$1:$C$43,0),MATCH(A14&$J$13,NILSM2!$C$1:$FR$1,0))","v":79},{"$f":"INDEX(TABNILSM2,MATCH($R$2,NILSM2!$C$1:$C$43,0),MATCH(A14&$K$13,NILSM2!$C$1:$FR$1,0))","v":80},{"$f":"INDEX(TABNILSM2,MATCH($R$2,NILSM2!$C$1:$C$43,0),MATCH(A14&$L$13,NILSM2!$C$1:$FR$1,0))","v":81}]
["PKN",{"$f":"IF(C15>=1,1,0)","v":1},2,"Pendidikan Pancasila dan Kewarganegaraan",75,{"$f":"INDEX(TABNILSM2,MATCH($R$2,NILSM2!$C$1:$C$43,0),MATCH(A15&$F$13,NILSM2!$C$1:$FR$1,0))","v":82},{"$f":"INDEX(TABNILSM2,MATCH($R$2,NILSM2!$C$1:$C$43,0),MATCH(A15&$G$13,NILSM2!$C$1:$FR$1,0))","v":83},{"$f":"INDEX(TABNILSM2,MATCH($R$2,NILSM2!$C$1:$C$43,0),MATCH(A15&$H$13,NILSM2!$C$1:$FR$1,0))","v":84},{"$f":"INDEX(TABNILSM2,MATCH($R$2,NILSM2!$C$1:$C$43,0),MATCH(A15&$I$13,NILSM2!$C$1:$FR$1,0))","v":85},{"$f":"INDEX(TABNILSM2,MATCH($R$2,NILSM2!$C$1:$C$43,0),MATCH(A15&$J$13,NILSM2!$C$1:$FR$1,0))","v":86},{"$f":"INDEX(TABNILSM2,MATCH($R$2,NILSM2!$C$1:$C$43,0),MATCH(A15&$K$13,NILSM2!$C$1:$FR$1,0))","v":87},{"$f":"INDEX(TABNILSM2,MATCH($R$2,NILSM2!$C$1:$C$43,0),MATCH(A15&$L$13,NILSM2!$C$1:$FR$1,0))","v":88}]
["IND",1,3,"Bahasa Indonesia",75,{"$f":"INDEX(TABNILSM2,MATCH($R$2,NILSM2!$C$1:$C$43,0),MATCH(A16&$F$13,NILSM2!$C$1:$FR$1,0))","v":89},{"$f":"INDEX(TABNILSM2,MATCH($R$2,NILSM2!$C$1:$C$43,0),MATCH(A16&$G$13,NILSM2!$C$1:$FR$1,0))","v":90},{"$f":"INDEX(TABNILSM2,MATCH($R$2,NILSM2!$C$1:$C$43,0),MATCH(A16&$H$13,NILSM2!$C$1:$FR$1,0))","v":91},{"$f":"INDEX(TABNILSM2,MATCH($R$2,NILSM2!$C$1:$C$43,0),MATCH(A16&$I$13,NILSM2!$C$1:$FR$1,0))","v":92},{"$f":"INDEX(TABNILSM2,MATCH($R$2,NILSM2!$C$1:$C$43,0),MATCH(A16&$J$13,NILSM2!$C$1:$FR$1,0))","v":93},{"$f":"INDEX(TABNILSM2,MATCH($R$2,NILSM2!$C$1:$C$43,0),MATCH(A16&$K$13,NILSM2!$C$1:$FR$1,0))","v":94},{"$f":"INDEX(TABNILSM2,MATCH($R$2,NILSM2!$C$1:$C$43,0),MATCH(A16&$L$13,NILSM2!$C$1:$FR$1,0))","v":95}]
["MTK",1,4,"Matematika",75,{"$f":"INDEX(TABNILSM2,MATCH($R$2,NILSM2!$C$1:$C$43,0),MATCH(A17&$F$13,NILSM2!$C$1:$FR$1,0))","v":96},{"$f":"INDEX(TABNILSM2,MATCH($R$2,NILSM2!$C$1:$C$43,0),MATCH(A17&$G$13,NILSM2!$C$1:$FR$1,0))","v":97},{"$f":"INDEX(TABNILSM2,MATCH($R$2,NILSM2!$C$1:$C$43,0),MATCH(A17&$H$13,NILSM2!$C$1:$FR$1,0))","v":98},{"$f":"INDEX(TABNILSM2,MATCH($R$2,NILSM2!$C$1:$C$43,0),MATCH(A17&$I$13,NILSM2!$C$1:$FR$1,0))","v":99},{"$f":"INDEX(TABNILSM2,MATCH($R$2,NILSM2!$C$1:$C$43,0),MATCH(A17&$J$13,NILSM2!$C$1:$FR$1,0))","v":100},{"$f":"INDEX(TABNILSM2,MATCH($R$2,NILSM2!$C$1:$C$43,0),MATCH(A17&$K$13,NILSM2!$C$1:$FR$1,0))","v":75},{"$f":"INDEX(TABNILSM2,MATCH($R$2,NILSM2!$C$1:$C$43,0),MATCH(A17&$L$13,NILSM2!$C$1:$FR$1,0))","v":76}]
["SJI",1,5,"Sejarah Indonesia",75,{"$f":"INDEX(TABNILSM2,MATCH($R$2,NILSM2!$C$1:$C$43,0),MATCH(A18&$F$13,NILSM2!$C$1:$FR$1,0))","v":77},{"$f":"INDEX(TABNILSM2,MATCH($R$2,NILSM2!$C$1:$C$43,0),MATCH(A18&$G$13,NILSM2!$C$1:$FR$1,0))","v":78},{"$f":"INDEX(TABNILSM2,MATCH($R$2,NILSM2!$C$1:$C$43,0),MATCH(A18&$H$13,NILSM2!$C$1:$FR$1,0))","v":79},{"$f":"INDEX(TABNILSM2,MATCH($R$2,NILSM2!$C$1:$C$43,0),MATCH(A18&$I$13,NILSM2!$C$1:$FR$1,0))","v":80},{"$f":"INDEX(TABNILSM2,MATCH($R$2,NILSM2!$C$1:$C$43,0),MATCH(A18&$J$13,NILSM2!$C$1:$FR$1,0))","v":81},{"$f":"INDEX(TABNILSM2,MATCH($R$2,NILSM2!$C$1:$C$43,0),MATCH(A18&$K$13,NILSM2!$C$1:$FR$1,0))","v":82},{"$f":"INDEX(TABNILSM2,MATCH($R$2,NILSM2!$C$1:$C$43,0),MATCH(A18&$L$13,NILSM2!$C$1:$FR$1,0))","v":83}]
["ING",1,6,"Bahasa Inggris",75,{"$f":"INDEX(TABNILSM2,MATCH($R$2,NILSM2!$C$1:$C$43,0),MATCH(A19&$F$13,NILSM2!$C$1:$FR$1,0))","v":84},{"$f":"INDEX(TABNILSM2,MATCH($R$2,NILSM2!$C$1:$C$43,0),MATCH(A19&$G$13,NILSM2!$C$1:$FR$1,0))","v":85},{"$f":"INDEX(TABNILSM2,MATCH($R$2,NILSM2!$C$1:$C$43,0),MATCH(A19&$H$13,NILSM2!$C$1:$FR$1,0))","v":86},{"$f":"INDEX(TABNILSM2,MATCH($R$2,NILSM2!$C$1:$C$43,0),MATCH(A19&$I$13,NILSM2!$C$1:$FR$1,0))","v":87},{"$f":"INDEX(TABNILSM2,MATCH($R$2,NILSM2!$C$1:$C$43,0),MATCH(A19&$J$13,NILSM2!$C$1:$FR$1,0))","v":88},{"$f":"INDEX(TABNILSM2,MATCH($R$2,NILSM2!$C$1:$C$43,0),MATCH(A19&$K$13,NILSM2!$C$1:$FR$1,0))","v":89},{"$f":"INDEX(TABNILSM2,MATCH($R$2,NILSM2!$C$1:$C$43,0),MATCH(A19&$L$13,NILSM2!$C$1:$FR$1,0))","v":90}]
["JER",0,0,"-",75,{"$f":"INDEX(TABNILSM2,MATCH($R$2,NILSM2!$C$1:$C$43,0),MATCH(A20&$F$13,NILSM2!$C$1:$FR$1,0))","v":91},{"$f":"INDEX(TABNILSM2,MATCH($R$2,NILSM2!$C$1:$C$43,0),MATCH(A20&$G$13,NILSM2!$C$1:$FR$1,0))","v":92},{"$f":"INDEX(TABNILSM2,MATCH($R$2,NILSM2!$C$1:$C$43,0),MATCH(A20&$H$13,NILSM2!$C$1:$FR$1,0))","v":93},{"$f":"INDEX(TABNILSM2,MATCH($R$2,NILSM2!$C$1:$C$43,0),MATCH(A20&$I$13,NILSM2!$C$1:$FR$1,0))","v":94},{"$f":"INDEX(TABNILSM2,MATCH($R$2,NILSM2!$C$1:$C$43,0),MATCH(A20&$J$13,NILSM2!$C$1:$FR$1,0))","v":95},{"$f":"INDEX(TABNILSM2,MATCH($R$2,NILSM2!$C$1:$C$43,0),MATCH(A20&$K$13,NILSM2!$C$1:$FR$1,0))","v":96},{"$f":"INDEX(TABNILSM2,MATCH($R$2,NILSM2!$C$1:$C$43,0),MATCH(A20&$L$13,NILSM2!$C$1:$FR$1,0))","v":97}]
[null,{"$f":"IF(AND(COUNT(C21)=0,C23=0),0,1)","v":1},"B. Muatan Kewilayahan"]
["SBD",1,{"$f":"HLOOKUP(A22&$F$13,TABNILSM2,4,FALSE)","v":7},{"$f":"HLOOKUP(A22&$F$13,TABNILSM2,2,FALSE)","v":"Seni Budaya"},{"$f":"IFERROR(HLOOKUP(A22&$F$13,TABNILSM2,5,FALSE),\"-\")","v":75},{"$f":"INDEX(TABNILSM2,MATCH($R$2,NILSM2!$C$1:$C$43,0),MATCH(A22&$F$13,NILSM2!$C$1:$FR$1,0))","v":98},{"$f":"INDEX(TABNILSM2,MATCH($R$2,NILSM2!$C$1:$C$43,0),MATCH(A22&$G$13,NILSM2!$C$1:$FR$1,0))","v":99},{"$f":"INDEX(TABNILSM2,MATCH($R$2,NILSM2!$C$1:$C$43,0),MATCH(A22&$H$13,NILSM2!$C$1:$FR$1,0))","v":100},{"$f":"INDEX(TABNILSM2,MATCH($R$2,NILSM2!$C$1:$C$43,0),MATCH(A22&$I$13,NILSM2!$C$1:$FR$1,0))","v":75},{"$f":"INDEX(TABNILSM2,MATCH($R$2,NILSM2!$C$1:$C$43,0),MATCH(A22&$J$13,NILSM2!$C$1:$FR$1,0))","v":76},{"$f":"INDEX(TABNILSM2,MATCH($R$2,NILSM2!$C$1:$C$43,0),MATCH(A22&$K$13,NILSM2!$C$1:$FR$1,0))","v":77},{"$f":"INDEX(TABNILSM2,MATCH($R$2,NILSM2!$C$1:$C$43,0),MATCH(A22&$L$13,NILSM2!$C$1:$FR$1,0))","v":78}]
["PJO",1,{"$f":"HLOOKUP(A23&$F$13,TABNILSM2,4,FALSE)","v":8},{"$f":"HLOOKUP(A23&$F$13,TABNILSM2,2,FALSE)","v":"Pendidikan Jasmani, Olahraga dan Kesehatan"},{"$f":"IFERROR(HLOOKUP(A23&$F$13,TABNILSM2,5,FALSE),\"-\")","v":75},{"$f":"INDEX(TABNILSM2,MATCH($R$2,NILSM2!$C$1:$C$43,0),MATCH(A23&$F$13,NILSM2!$C$1:$FR$1,0))","v":79},{"$f":"INDEX(TABNILSM2,MATCH($R$2,NILSM2!$C$1:$C$43,0),MATCH(A23&$G$13,NILSM2!$C$1:$FR$1,0))","v":80},{"$f":"INDEX(TABNILSM2,MATCH($R$2,NILSM2!$C$1:$C$43,0),MATCH(A23&$H$13,NILSM2!$C$1:$FR$1,0))","v":81},{"$f":"INDEX(TABNILSM2,MATCH($R$2,NILSM2!$C$1:$C$43,0),MATCH(A23&$I$13,NILSM2!$C$1:$FR$1,0))","v":82},{"$f":"INDEX(TABNILSM2,MATCH($R$2,NILSM2!$C$1:$C$43,0),MATCH(A23&$J$13,NILSM2!$C$1:$FR$1,0))","v":83},{"$f":"INDEX(TABNILSM2,MATCH($R$2,NILSM2!$C$1:$C$43,0),MATCH(A23&$K$13,NILSM2!$C$1:$FR$1,0))","v":84},{"$f":"INDEX(TABNILSM2,MATCH($R$2,NILSM2!$C$1:$C$43,0),MATCH(A23&$L$13,NILSM2!$C$1:$FR$1,0))","v":85}]
["-",1,"C. Muatan Peminatan Kejuruan"]
[null,{"$f":"IF(AND(COUNT(C25)=0,C26=0),0,1)","v":1},"C1","Dasar Bidang Keahlian"]
["SKD",{"$f":"IF(C26>=1,1,0)","v":1},{"$f":"HLOOKUP(A26&$F$13,TABNILSM2,4,FALSE)","v":9},{"$f":"HLOOKUP(A26&$F$13,TABNILSM2,2,FALSE)","v":"Simulasi dan Komunikasi Digital"},{"$f":"IFERROR(HLOOKUP(A26&$F$13,TABNILSM2,5,FALSE),\"-\")","v":75},{"$f":"INDEX(TABNILSM2,MATCH($R$2,NILSM2!$C$1:$C$43,0),MATCH(A26&$F$13,NILSM2!$C$1:$FR$1,0))","v":86},{"$f":"INDEX(TABNILSM2,MATCH($R$2,NILSM2!$C$1:$C$43,0),MATCH(A26&$G$13,NILSM2!$C$1:$FR$1,0))","v":87},{"$f":"INDEX(TABNILSM2,MATCH($R$2,NILSM2!$C$1:$C$43,0),MATCH(A26&$H$13,NILSM2!$C$1:$FR$1,0))","v":88},{"$f":"INDEX(TABNILSM2,MATCH($R$2,NILSM2!$C$1:$C$43,0),MATCH(A26&$I$13,NILSM2!$C$1:$FR$1,0))","v":89},{"$f":"INDEX(TABNILSM2,MATCH($R$2,NILSM2!$C$1:$C$43,0),MATCH(A26&$J$13,NILSM2!$C$1:$FR$1,0))","v":90},{"$f":"INDEX(TABNILSM2,MATCH($R$2,NILSM2!$C$1:$C$43,0),MATCH(A26&$K$13,NILSM2!$C$1:$FR$1,0))","v":91},{"$f":"INDEX(TABNILSM2,MATCH($R$2,NILSM2!$C$1:$C$43,0),MATCH(A26&$L$13,NILSM2!$C$1:$FR$1,0))","v":92}]
["FIS",1,{"$f":"HLOOKUP(A27&$F$13,TABNILSM2,4,FALSE)","v":10},{"$f":"HLOOKUP(A27&$F$13,TABNILSM2,2,FALSE)","v":"Fisika"},{"$f":"IFERROR(HLOOKUP(A27&$F$13,TABNILSM2,5,FALSE),\"-\")","v":75},{"$f":"INDEX(TABNILSM2,MATCH($R$2,NILSM2!$C$1:$C$43,0),MATCH(A27&$F$13,NILSM2!$C$1:$FR$1,0))","v":93},{"$f":"INDEX(TABNILSM2,MATCH($R$2,NILSM2!$C$1:$C$43,0),MATCH(A27&$G$13,NILSM2!$C$1:$FR$1,0))","v":94},{"$f":"INDEX(TABNILSM2,MATCH($R$2,NILSM2!$C$1:$C$43,0),MATCH(A27&$H$13,NILSM2!$C$1:$FR$1,0))","v":95},{"$f":"INDEX(TABNILSM2,MATCH($R$2,NILSM2!$C$1:$C$43,0),MATCH(A27&$I$13,NILSM2!$C$1:$FR$1,0))","v":96},{"$f":"INDEX(TABNILSM2,MATCH($R$2,NILSM2!$C$1:$C$43,0),MATCH(A27&$J$13,NILSM2!$C$1:$FR$1,0))","v":97},{"$f":"INDEX(TABNILSM2,MATCH($R$2,NILSM2!$C$1:$C$43,0),MATCH(A27&$K$13,NILSM2!$C$1:$FR$1,0))","v":98},{"$f":"INDEX(TABNILSM2,MATCH($R$2,NILSM2!$C$1:$C$43,0),MATCH(A27&$L$13,NILSM2!$C$1:$FR$1,0))","v":99}]
["KIM",1,{"$f":"HLOOKUP(A28&$F$13,TABNILSM2,4,FALSE)","v":11},{"$f":"HLOOKUP(A28&$F$13,TABNILSM2,2,FALSE)","v":"Kimia"},{"$f":"IFERROR(HLOOKUP(A28&$F$13,TABNILSM2,5,FALSE),\"-\")","v":75},{"$f":"INDEX(TABNILSM2,MATCH($R$2,NILSM2!$C$1:$C$43,0),MATCH(A28&$F$13,NILSM2!$C$1:$FR$1,0))","v":100},{"$f":"INDEX(TABNILSM2,MATCH($R$2,NILSM2!$C$1:$C$43,0),MATCH(A28&$G$13,NILSM2!$C$1:$FR$1,0))","v":75},{"$f":"INDEX(TABNILSM2,MATCH($R$2,NILSM2!$C$1:$C$43,0),MATCH(A28&$H$13,NILSM2!$C$1:$FR$1,0))","v":76},{"$f":"INDEX(TABNILSM2,MATCH($R$2,NILSM2!$C$1:$C$43,0),MATCH(A28&$I$13,NILSM2!$C$1:$FR$1,0))","v":77},{"$f":"INDEX(TABNILSM2,MATCH($R$2,NILSM2!$C$1:$C$43,0),MATCH(A28&$J$13,NILSM2!$C$1:$FR$1,0))","v":78},{"$f":"INDEX(TABNILSM2,MATCH($R$2,NILSM2!$C$1:$C$43,0),MATCH(A28&$K$13,NILSM2!$C$1:$FR$1,0))","v":79},{"$f":"INDEX(TABNILSM2,MATCH($R$2,NILSM2!$C$1:$C$43,0),MATCH(A28&$L$13,NILSM2!$C$1:$FR$1,0))","v":80}]
[null,{"$f":"IF(AND(COUNT(C29)=0,C30=0),0,1)","v":1},"C2","Dasar Program Keahlian"]
["C21",1,{"$f":"HLOOKUP(A30&$F$13,TABNILSM2,4,FALSE)","v":12},{"$f":"HLOOKUP(A30&$F$13,TABNILSM2,2,FALSE)","v":"Gambar Teknik Otomotif"},{"$f":"IFERROR(HLOOKUP(A30&$F$13,TABNILSM2,5,FALSE),\"-\")","v":75},{"$f":"INDEX(TABNILSM2,MATCH($R$2,NILSM2!$C$1:$C$43,0),MATCH(A30&$F$13,NILSM2!$C$1:$FR$1,0))","v":81},{"$f":"INDEX(TABNILSM2,MATCH($R$2,NILSM2!$C$1:$C$43,0),MATCH(A30&$G$13,NILSM2!$C$1:$FR$1,0))","v":82},{"$f":"INDEX(TABNILSM2,MATCH($R$2,NILSM2!$C$1:$C$43,0),MATCH(A30&$H$13,NILSM2!$C$1:$FR$1,0))","v":83},{"$f":"INDEX(TABNILSM2,MATCH($R$2,NILSM2!$C$1:$C$43,0),MATCH(A30&$I$13,NILSM2!$C$1:$FR$1,0))","v":84},{"$f":"INDEX(TABNILSM2,MATCH($R$2,NILSM2!$C$1:$C$43,0),MATCH(A30&$J$13,NILSM2!$C$1:$FR$1,0))","v":85},{"$f":"INDEX(TABNILSM2,MATCH($R$2,NILSM2!$C$1:$C$43,0),MATCH(A30&$K$13,NILSM2!$C$1:$FR$1,0))","v":86},{"$f":"INDEX(TABNILSM2,MATCH($R$2,NILSM2!$C$1:$C$43,0),MATCH(A30&$L$13,NILSM2!$C$1:$FR$1,0))","v":87}]
["C22",1,{"$f":"HLOOKUP(A31&$F$13,TABNILSM2,4,FALSE)","v":13},{"$f":"HLOOKUP(A31&$F$13,TABNILSM2,2,FALSE)","v":"Teknologi Dasar Otomotif"},{"$f":"IFERROR(HLOOKUP(A31&$F$13,TABNILSM2,5,FALSE),\"-\")","v":75},{"$f":"INDEX(TABNILSM2,MATCH($R$2,NILSM2!$C$1:$C$43,0),MATCH(A31&$F$13,NILSM2!$C$1:$FR$1,0))","v":88},{"$f":"INDEX(TABNILSM2,MATCH($R$2,NILSM2!$C$1:$C$43,0),MATCH(A31&$G$13,NILSM2!$C$1:$FR$1,0))","v":89},{"$f":"INDEX(TABNILSM2,MATCH($R$2,NILSM2!$C$1:$C$43,0),MATCH(A31&$H$13,NILSM2!$C$1:$FR$1,0))","v":90},{"$f":"INDEX(TABNILSM2,MATCH($R$2,NILSM2!$C$1:$C$43,0),MATCH(A31&$I$13,NILSM2!$C$1:$FR$1,0))","v":91},{"$f":"INDEX(TABNILSM2,MATCH($R$2,NILSM2!$C$1:$C$43,0),MATCH(A31&$J$13,NILSM2!$C$1:$FR$1,0))","v":92},{"$f":"INDEX(TABNILSM2,MATCH($R$2,NILSM2!$C$1:$C$43,0),MATCH(A31&$K$13,NILSM2!$C$1:$FR$1,0))","v":93},{"$f":"INDEX(TABNILSM2,MATCH($R$2,NILSM2!$C$1:$C$43,0),MATCH(A31&$L$13,NILSM2!$C$1:$FR$1,0))","v":94}]
["C23",1,{"$f":"HLOOKUP(A32&$F$13,TABNILSM2,4,FALSE)","v":14},{"$f":"HLOOKUP(A32&$F$13,TABNILSM2,2,FALSE)","v":"Pekerjaan Dasar Teknik Otomotif"},{"$f":"IFERROR(HLOOKUP(A32&$F$13,TABNILSM2,5,FALSE),\"-\")","v":75},{"$f":"INDEX(TABNILSM2,MATCH($R$2,NILSM2!$C$1:$C$43,0),MATCH(A32&$F$13,NILSM2!$C$1:$FR$1,0))","v":95},{"$f":"INDEX(TABNILSM2,MATCH($R$2,NILSM2!$C$1:$C$43,0),MATCH(A32&$G$13,NILSM2!$C$1:$FR$1,0))","v":96},{"$f":"INDEX(TABNILSM2,MATCH($R$2,NILSM2!$C$1:$C$43,0),MATCH(A32&$H$13,NILSM2!$C$1:$FR$1,0))","v":97},{"$f":"INDEX(TABNILSM2,MATCH($R$2,NILSM2!$C$1:$C$43,0),MATCH(A32&$I$13,NILSM2!$C$1:$FR$1,0))","v":98},{"$f":"INDEX(TABNILSM2,MATCH($R$2,NILSM2!$C$1:$C$43,0),MATCH(A32&$J$13,NILSM2!$C$1:$FR$1,0))","v":99},{"$f":"INDEX(TABNILSM2,MATCH($R$2,NILSM2!$C$1:$C$43,0),MATCH(A32&$K$13,NILSM2!$C$1:$FR$1,0))","v":100},{"$f":"INDEX(TABNILSM2,MATCH($R$2,NILSM2!$C$1:$C$43,0),MATCH(A32&$L$13,NILSM2!$C$1:$FR$1,0))","v":75}]
["C24",0,{"$f":"HLOOKUP(A33&$F$13,TABNILSM2,4,FALSE)","v":0},{"$f":"HLOOKUP(A33&$F$13,TABNILSM2,2,FALSE)","v":"-"},{"$f":"IFERROR(HLOOKUP(A33&$F$13,TABNILSM2,5,FALSE),\"-\")","v":75},{"$f":"INDEX(TABNILSM2,MATCH($R$2,NILSM2!$C$1:$C$43,0),MATCH(A33&$F$13,NILSM2!$C$1:$FR$1,0))","v":76},{"$f":"INDEX(TABNILSM2,MATCH($R$2,NILSM2!$C$1:$C$43,0),MATCH(A33&$G$13,NILSM2!$C$1:$FR$1,0))","v":77},{"$f":"INDEX(TABNILSM2,MATCH($R$2,NILSM2!$C$1:$C$43,0),MATCH(A33&$H$13,NILSM2!$C$1:$FR$1,0))","v":78},{"$f":"INDEX(TABNILSM2,MATCH($R$2,NILSM2!$C$1:$C$43,0),MATCH(A33&$I$13,NILSM2!$C$1:$FR$1,0))","v":79},{"$f":"INDEX(TABNILSM2,MATCH($R$2,NILSM2!$C$1:$C$43,0),MATCH(A33&$J$13,NILSM2!$C$1:$FR$1,0))","v":80},{"$f":"INDEX(TABNILSM2,MATCH($R$2,NILSM2!$C$1:$C$43,0),MATCH(A33&$K$13,NILSM2!$C$1:$FR$1,0))","v":81},{"$f":"INDEX(TABNILSM2,MATCH($R$2,NILSM2!$C$1:$C$43,0),MATCH(A33&$L$13,NILSM2!$C$1:$FR$1,0))","v":82}]
["-",{"$f":"IF(AND(COUNT(C34)=0,C37=0),0,1)","v":0},"C3","Kompetensi Keahlian"]
["C31",0,{"$f":"HLOOKUP(A35&$F$13,TABNILSM2,4,FALSE)","v":0},{"$f":"HLOOKUP(A35&$F$13,TABNILSM2,2,FALSE)","v":"-"},{"$f":"IFERROR(HLOOKUP(A35&$F$13,TABNILSM2,5,FALSE),\"-\")","v":75},{"$f":"INDEX(TABNILSM2,MATCH($R$2,NILSM2!$C$1:$C$43,0),MATCH(A35&$F$13,NILSM2!$C$1:$FR$1,0))","v":83},{"$f":"INDEX(TABNILSM2,MATCH($R$2,NILSM2!$C$1:$C$43,0),MATCH(A35&$G$13,NILSM2!$C$1:$FR$1,0))","v":84},{"$f":"INDEX(TABNILSM2,MATCH($R$2,NILSM2!$C$1:$C$43,0),MATCH(A35&$H$13,NILSM2!$C$1:$FR$1,0))","v":85},{"$f":"INDEX(TABNILSM2,MATCH($R$2,NILSM2!$C$1:$C$43,0),MATCH(A35&$I$13,NILSM2!$C$1:$FR$1,0))","v":86},{"$f":"INDEX(TABNILSM2,MATCH($R$2,NILSM2!$C$1:$C$43,0),MATCH(A35&$J$13,NILSM2!$C$1:$FR$1,0))","v":87},{"$f":"INDEX(TABNILSM2,MATCH($R$2,NILSM2!$C$1:$C$43,0),MATCH(A35&$K$13,NILSM2!$C$1:$FR$1,0))","v":88},{"$f":"INDEX(TABNILSM2,MATCH($R$2,NILSM2!$C$1:$C$43,0),MATCH(A35&$L$13,NILSM2!$C$1:$FR$1,0))","v":89}]
["C32",0,0,"-",75,{"$f":"INDEX(TABNILSM2,MATCH($R$2,NILSM2!$C$1:$C$43,0),MATCH(A36&$F$13,NILSM2!$C$1:$FR$1,0))","v":90},{"$f":"INDEX(TABNILSM2,MATCH($R$2,NILSM2!$C$1:$C$43,0),MATCH(A36&$G$13,NILSM2!$C$1:$FR$1,0))","v":91},{"$f":"INDEX(TABNILSM2,MATCH($R$2,NILSM2!$C$1:$C$43,0),MATCH(A36&$H$13,NILSM2!$C$1:$FR$1,0))","v":92},{"$f":"INDEX(TABNILSM2,MATCH($R$2,NILSM2!$C$1:$C$43,0),MATCH(A36&$I$13,NILSM2!$C$1:$FR$1,0))","v":93},{"$f":"INDEX(TABNILSM2,MATCH($R$2,NILSM2!$C$1:$C$43,0),MATCH(A36&$J$13,NILSM2!$C$1:$FR$1,0))","v":94},{"$f":"INDEX(TABNILSM2,MATCH($R$2,NILSM2!$C$1:$C$43,0),MATCH(A36&$K$13,NILSM2!$C$1:$FR$1,0))","v":95},{"$f":"INDEX(TABNILSM2,MATCH($R$2,NILSM2!$C$1:$C$43,0),MATCH(A36&$L$13,NILSM2!$C$1:$FR$1,0))","v":96}]
["C33",0,0,"-",75,{"$f":"INDEX(TABNILSM2,MATCH($R$2,NILSM2!$C$1:$C$43,0),MATCH(A37&$F$13,NILSM2!$C$1:$FR$1,0))","v":97},{"$f":"INDEX(TABNILSM2,MATCH($R$2,NILSM2!$C$1:$C$43,0),MATCH(A37&$G$13,NILSM2!$C$1:$FR$1,0))","v":98},{"$f":"INDEX(TABNILSM2,MATCH($R$2,NILSM2!$C$1:$C$43,0),MATCH(A37&$H$13,NILSM2!$C$1:$FR$1,0))","v":99},{"$f":"INDEX(TABNILSM2,MATCH($R$2,NILSM2!$C$1:$C$43,0),MATCH(A37&$I$13,NILSM2!$C$1:$FR$1,0))","v":100},{"$f":"INDEX(TABNILSM2,MATCH($R$2,NILSM2!$C$1:$C$43,0),MATCH(A37&$J$13,NILSM2!$C$1:$FR$1,0))","v":75},{"$f":"INDEX(TABNILSM2,MATCH($R$2,NILSM2!$C$1:$C$43,0),MATCH(A37&$K$13,NILSM2!$C$1:$FR$1,0))","v":76},{"$f":"INDEX(TABNILSM2,MATCH($R$2,NILSM2!$C$1:$C$43,0),MATCH(A37&$L$13,NILSM2!$C$1:$FR$1,0))","v":77}]
["C34",0,0,"-",75,{"$f":"INDEX(TABNILSM2,MATCH($R$2,NILSM2!$C$1:$C$43,0),MATCH(A38&$F$13,NILSM2!$C$1:$FR$1,0))","v":78},{"$f":"INDEX(TABNILSM2,MATCH($R$2,NILSM2!$C$1:$C$43,0),MATCH(A38&$G$13,NILSM2!$C$1:$FR$1,0))","v":79},{"$f":"INDEX(TABNILSM2,MATCH($R$2,NILSM2!$C$1:$C$43,0),MATCH(A38&$H$13,NILSM2!$C$1:$FR$1,0))","v":80},{"$f":"INDEX(TABNILSM2,MATCH($R$2,NILSM2!$C$1:$C$43,0),MATCH(A38&$I$13,NILSM2!$C$1:$FR$1,0))","v":81},{"$f":"INDEX(TABNILSM2,MATCH($R$2,NILSM2!$C$1:$C$43,0),MATCH(A38&$J$13,NILSM2!$C$1:$FR$1,0))","v":82},{"$f":"INDEX(TABNILSM2,MATCH($R$2,NILSM2!$C$1:$C$43,0),MATCH(A38&$K$13,NILSM2!$C$1:$FR$1,0))","v":83},{"$f":"INDEX(TABNILSM2,MATCH($R$2,NILSM2!$C$1:$C$43,0),MATCH(A38&$L$13,NILSM2!$C$1:$FR$1,0))","v":84}]
["C35",0,0,"-",75,{"$f":"INDEX(TABNILSM2,MATCH($R$2,NILSM2!$C$1:$C$43,0),MATCH(A39&$F$13,NILSM2!$C$1:$FR$1,0))","v":85},{"$f":"INDEX(TABNILSM2,MATCH($R$2,NILSM2!$C$1:$C$43,0),MATCH(A39&$G$13,NILSM2!$C$1:$FR$1,0))","v":86},{"$f":"INDEX(TABNILSM2,MATCH($R$2,NILSM2!$C$1:$C$43,0),MATCH(A39&$H$13,NILSM2!$C$1:$FR$1,0))","v":87},{"$f":"INDEX(TABNILSM2,MATCH($R$2,NILSM2!$C$1:$C$43,0),MATCH(A39&$I$13,NILSM2!$C$1:$FR$1,0))","v":88},{"$f":"INDEX(TABNILSM2,MATCH($R$2,NILSM2!$C$1:$C$43,0),MATCH(A39&$J$13,NILSM2!$C$1:$FR$1,0))","v":89},{"$f":"INDEX(TABNILSM2,MATCH($R$2,NILSM2!$C$1:$C$43,0),MATCH(A39&$K$13,NILSM2!$C$1:$FR$1,0))","v":90},{"$f":"INDEX(TABNILSM2,MATCH($R$2,NILSM2!$C$1:$C$43,0),MATCH(A39&$L$13,NILSM2!$C$1:$FR$1,0))","v":91}]
["C36",0,0,"-",75,{"$f":"INDEX(TABNILSM2,MATCH($R$2,NILSM2!$C$1:$C$43,0),MATCH(A40&$F$13,NILSM2!$C$1:$FR$1,0))","v":92},{"$f":"INDEX(TABNILSM2,MATCH($R$2,NILSM2!$C$1:$C$43,0),MATCH(A40&$G$13,NILSM2!$C$1:$FR$1,0))","v":93},{"$f":"INDEX(TABNILSM2,MATCH($R$2,NILSM2!$C$1:$C$43,0),MATCH(A40&$H$13,NILSM2!$C$1:$FR$1,0))","v":94},{"$f":"INDEX(TABNILSM2,MATCH($R$2,NILSM2!$C$1:$C$43,0),MATCH(A40&$I$13,NILSM2!$C$1:$FR$1,0))","v":95},{"$f":"INDEX(TABNILSM2,MATCH($R$2,NILSM2!$C$1:$C$43,0),MATCH(A40&$J$13,NILSM2!$C$1:$FR$1,0))","v":96},{"$f":"INDEX(TABNILSM2,MATCH($R$2,NILSM2!$C$1:$C$43,0),MATCH(A40&$K$13,NILSM2!$C$1:$FR$1,0))","v":97},{"$f":"INDEX(TABNILSM2,MATCH($R$2,NILSM2!$C$1:$C$43,0),MATCH(A40&$L$13,NILSM2!$C$1:$FR$1,0))","v":98}]
[null,{"$f":"IF(AND(COUNT(C41)=0,C42=0),0,1)","v":1},"Muatan Lokal"]
["SUN",1,{"$f":"HLOOKUP(A42&$F$13,TABNILSM2,4,FALSE)","v":15},{"$f":"HLOOKUP(A42&$F$13,TABNILSM2,2,FALSE)","v":"Bahasa dan Sastra Sunda"},{"$f":"IFERROR(HLOOKUP(A42&$F$13,TABNILSM2,5,FALSE),\"-\")","v":75},{"$f":"INDEX(TABNILSM2,MATCH($R$2,NILSM2!$C$1:$C$43,0),MATCH(A42&$F$13,NILSM2!$C$1:$FR$1,0))","v":99},{"$f":"INDEX(TABNILSM2,MATCH($R$2,NILSM2!$C$1:$C$43,0),MATCH(A42&$G$13,NILSM2!$C$1:$FR$1,0))","v":100},{"$f":"INDEX(TABNILSM2,MATCH($R$2,NILSM2!$C$1:$C$43,0),MATCH(A42&$H$13,NILSM2!$C$1:$FR$1,0))","v":75},{"$f":"INDEX(TABNILSM2,MATCH($R$2,NILSM2!$C$1:$C$43,0),MATCH(A42&$I$13,NILSM2!$C$1:$FR$1,0))","v":76},{"$f":"INDEX(TABNILSM2,MATCH($R$2,NILSM2!$C$1:$C$43,0),MATCH(A42&$J$13,NILSM2!$C$1:$FR$1,0))","v":77},{"$f":"INDEX(TABNILSM2,MATCH($R$2,NILSM2!$C$1:$C$43,0),MATCH(A42&$K$13,NILSM2!$C$1:$FR$1,0))","v":78},{"$f":"INDEX(TABNILSM2,MATCH($R$2,NILSM2!$C$1:$C$43,0),MATCH(A42&$L$13,NILSM2!$C$1:$FR$1,0))","v":79}]
["PLH",1,{"$f":"HLOOKUP(A43&$F$13,TABNILSM2,4,FALSE)","v":16},{"$f":"HLOOKUP(A43&$F$13,TABNILSM2,2,FALSE)","v":"PLH"},{"$f":"IFERROR(HLOOKUP(A43&$F$13,TABNILSM2,5,FALSE),\"-\")","v":75},{"$f":"INDEX(TABNILSM2,MATCH($R$2,NILSM2!$C$1:$C$43,0),MATCH(A43&$F$13,NILSM2!$C$1:$FR$1,0))","v":80},{"$f":"INDEX(TABNILSM2,MATCH($R$2,NILSM2!$C$1:$C$43,0),MATCH(A43&$G$13,NILSM2!$C$1:$FR$1,0))","v":81},{"$f":"INDEX(TABNILSM2,MATCH($R$2,NILSM2!$C$1:$C$43,0),MATCH(A43&$H$13,NILSM2!$C$1:$FR$1,0))","v":82},{"$f":"INDEX(TABNILSM2,MATCH($R$2,NILSM2!$C$1:$C$43,0),MATCH(A43&$I$13,NILSM2!$C$1:$FR$1,0))","v":83},{"$f":"INDEX(TABNILSM2,MATCH($R$2,NILSM2!$C$1:$C$43,0),MATCH(A43&$J$13,NILSM2!$C$1:$FR$1,0))","v":84},{"$f":"INDEX(TABNILSM2,MATCH($R$2,NILSM2!$C$1:$C$43,0),MATCH(A43&$K$13,NILSM2!$C$1:$FR$1,0))","v":85},{"$f":"INDEX(TABNILSM2,MATCH($R$2,NILSM2!$C$1:$C$43,0),MATCH(A43&$L$13,NILSM2!$C$1:$FR$1,0))","v":86}]
[]
["CTT",null,"Bimbingan dan Konseling",null,null,null,"Catatan Akademik"]
["BKN",null,{"$f":"INDEX(TABNILSM2,MATCH($R$2,NILSM2!$C$1:$C$43,0),MATCH(A46,NILSM2!$C$1:$FR$1,0))","v":0},null,null,null,{"$f":"INDEX(TABNILSM2,MATCH($R$2,NILSM2!$C$1:$C$43,0),MATCH(A45,NILSM2!$C$1:$FR$1,0))","v":0}]
[]
[null,null,"Catatan: Jika nilai 0, siswa belum mengupload tugas atau belum mengerjakan ulangan. Jika nilai - , materi KD (Kompetensi Dasar) tersebut dilaksanakan setelah pembagian KHS."]
[]
[null,null,null,null,null,null,null,null,null,null,null,null,null,null,null,null,{"$f":"VLOOKUP($R$13,TAB_BIODATA,BIODATA!C4,FALSE)","v":"BAGAS ADJI PRIANTOMO"}]
[null,null,null,"Mengetahui,",null,null,null,null,{"$f":"NILSM2!A5","v":0}]
[null,null,null,"Orang Tua/Wali,",null,null,null,null,"Wali Kelas,",null,null,null,null,null,null,null,{"$f":"\"Nomor Urut \"&R13","v":"Nomor Urut 3"}]
[]
[]
[]
[]
[null,null,null,null,null,null,null,null,{"$f":"NILSM2!B4","v":"Amo Sisdianto, S.Kom"}]
[null,null,null,null,null,null,null,null,{"$f":"IF(NILSM2!B5=0,\"\",\"NIP \"&NILSM2!B5)","v":""}]

{"sheet":"CETSM1","index":15,"n_rows":66,"n_cols":20,"rows_kept":66,"cut":false,"hidden":false,"merged":[[12,16,13,16],[0,2,0,11],[1,2,1,11],[4,16,4,17],[5,16,6,16],[5,17,6,17],[10,9,10,10],[10,11,11,11],[11,16,11,17],[7,16,8,16],[7,17,8,17],[10,2,11,2],[10,3,11,3],[10,4,11,4],[10,5,10,6],[10,7,10,8],[51,16,52,18],[23,2,23,5],[24,3,24,5],[28,3,28,5],[49,16,50,18],[47,2,47,11],[45,2,45,4],[45,6,45,11],[12,17,13,17],[4,18,4,19],[5,18,6,18],[5,19,6,19],[7,18,8,18],[7,19,8,19]]}
[null,null,"KARTU HASIL STUDI (KHS) PESERTA DIDIK",null,null,null,null,null,null,null,null,null,null,null,null,null,"JURUSAN",{"$f":"MENU!F8","v":"TBSM"}]
[null,null,"SMK NEGERI 1 KARAWANG",null,null,null,null,null,null,null,null,null,null,null,null,null,"NIS",{"$f":"VLOOKUP($R$13,TAB_BIODATA,BIODATA!D4,FALSE)","v":16170586}]
[]
[null,null,null,"Nama Peserta Didik",":",{"$f":"VLOOKUP($R$13,TAB_BIODATA,BIODATA!C4,FALSE)","v":"CEPI YANWARI"}]
[null,null,null,"Nomor Induk/NISN",":",{"$f":"IF(VLOOKUP($R$13,TAB_BIODATA,BIODATA!E4)=\"\",VLOOKUP($R$13,TAB_BIODATA,BIODATA!D4,FALSE),VLOOKUP($R$13,TAB_BIODATA,BIODATA!D4)&\" / \"&VLOOKUP($R$13,TAB_BIODATA,BIODATA!E4,FALSE))","v":"16170586 / 0005649538"},null,null,null,null,null,null,null,null,null,null,"DATA CETAK",null,"HALAMAN CETAK"]
[null,null,null,"Kelas",":",{"$f":"IF(OR(F8=\"1 (satu)\",F8=\"2 (dua)\"),\"X \"&MENU!F9,IF(OR(F8=\"3 (tiga)\",F8=\"4 (empat)\"),\"XI \"&MENU!F9,IF(OR(F8=\"5 (lima)\",F8=\"6 (enam)\"),\"XII \"&MENU!F9,IF(OR(F8=\"7 (tujuh)\",F8=\"8 (delapan)\"),\"XIII \"&MENU!F9,\"\"))))","v":"X TBSM 2"},null,null,null,null,null,null,null,null,null,null,"Dari data ke",1,"Dari",1]
[null,null,null,"Tahun Pelajaran",":",{"$f":"RIGHT(NILSM1!A2,11)","v":"2020 / 2021"}]
[null,null,null,"Semester",":",{"$f":"NILSM1!B3","v":"1 (satu)"},null,null,null,null,null,null,null,null,null,null,"Sampai data ke",2,"Ke",1]
[]
[null,null,"Nilai Akademik"]
[null,null,"No.","Mata Pelajaran","KKM","KD 1",null,"KD 2",null,"KD 3",null,"Kehadiran"]
[null,null,null,null,null,"Tugas","Ulangan","Tugas","Ulangan","Tugas","Ulangan",null,null,null,null,null,"TAMPILAN DATA"]
[null,null,"A. Muatan Nasional",null,null,"T1","U1","T2","U2","T3","U3","H",null,null,null,null,"Nomor Urut",5]
["PAB",{"$f":"IF(C14>=1,1,0)","v":1},{"$f":"HLOOKUP(A14&$F$13,TABNILSM1,4,FALSE)","v":1},{"$f":"HLOOKUP(A14&$F$13,TABNILSM1,2,FALSE)","v":"Pendidikan Agama dan Budi Pekerti"},{"$f":"IFERROR(HLOOKUP(A14&$F$13,TABNILSM1,5,FALSE),\"-\")","v":75},{"$f":"INDEX(TABNILSM1,MATCH($R$2,NILSM1!$C$1:$C$43,0),MATCH(A14&$F$13,NILSM1!$C$1:$FR$1,0))","v":0},{"$f":"INDEX(TABNILSM1,MATCH($R$2,NILSM1!$C$1:$C$43,0),MATCH(A14&$G$13,NILSM1!$C$1:$FR$1,0))","v":0},{"$f":"INDEX(TABNILSM1,MATCH($R$2,NILSM1!$C$1:$C$43,0),MATCH(A14&$H$13,NILSM1!$C$1:$FR$1,0))","v":0},{"$f":"INDEX(TABNILSM1,MATCH($R$2,NILSM1!$C$1:$C$43,0),MATCH(A14&$I$13,NILSM1!$C$1:$FR$1,0))","v":0},{"$f":"INDEX(TABNILSM1,MATCH($R$2,NILSM1!$C$1:$C$43,0),MATCH(A14&$J$13,NILSM1!$C$1:$FR$1,0))","v":0},{"$f":"INDEX(TABNILSM1,MATCH($R$2,NILSM1!$C$1:$C$43,0),MATCH(A14&$K$13,NILSM1!$C$1:$FR$1,0))","v":0},{"$f":"INDEX(TABNILSM1,MATCH($R$2,NILSM1!$C$1:$C$43,0),MATCH(A14&$L$13,NILSM1!$C$1:$FR$1,0))","v":0}]
["PKN",{"$f":"IF(C15>=1,1,0)","v":1},2,"Pendidikan Pancasila dan Kewarganegaraan",75,{"$f":"INDEX(TABNILSM1,MATCH($R$2,NILSM1!$C$1:$C$43,0),MATCH(A15&$F$13,NILSM1!$C$1:$FR$1,0))","v":0},{"$f":"INDEX(TABNILSM1,MATCH($R$2,NILSM1!$C$1:$C$43,0),MATCH(A15&$G$13,NILSM1!$C$1:$FR$1,0))","v":0},{"$f":"INDEX(TABNILSM1,MATCH($R$2,NILSM1!$C$1:$C$43,0),MATCH(A15&$H$13,NILSM1!$C$1:$FR$1,0))","v":0},{"$f":"INDEX(TABNILSM1,MATCH($R$2,NILSM1!$C$1:$C$43,0),MATCH(A15&$I$13,NILSM1!$C$1:$FR$1,0))","v":0},{"$f":"INDEX(TABNILSM1,MATCH($R$2,NILSM1!$C$1:$C$43,0),MATCH(A15&$J$13,NILSM1!$C$1:$FR$1,0))","v":0},{"$f":"INDEX(TABNILSM1,MATCH($R$2,NILSM1!$C$1:$C$43,0),MATCH(A15&$K$13,NILSM1!$C$1:$FR$1,0))","v":0},{"$f":"INDEX(TABNILSM1,MATCH($R$2,NILSM1!$C$1:$C$43,0),MATCH(A15&$L$13,NILSM1!$C$1:$FR$1,0))","v":0}]
["IND",1,3,"Bahasa Indonesia",75,{"$f":"INDEX(TABNILSM1,MATCH($R$2,NILSM1!$C$1:$C$43,0),MATCH(A16&$F$13,NILSM1!$C$1:$FR$1,0))","v":0},{"$f":"INDEX(TABNILSM1,MATCH($R$2,NILSM1!$C$1:$C$43,0),MATCH(A16&$G$13,NILSM1!$C$1:$FR$1,0))","v":0},{"$f":"INDEX(TABNILSM1,MATCH($R$2,NILSM1!$C$1:$C$43,0),MATCH(A16&$H$13,NILSM1!$C$1:$FR$1,0))","v":0},{"$f":"INDEX(TABNILSM1,MATCH($R$2,NILSM1!$C$1:$C$43,0),MATCH(A16&$I$13,NILSM1!$C$1:$FR$1,0))","v":0},{"$f":"INDEX(TABNILSM1,MATCH($R$2,NILSM1!$C$1:$C$43,0),MATCH(A16&$J$13,NILSM1!$C$1:$FR$1,0))","v":0},{"$f":"INDEX(TABNILSM1,MATCH($R$2,NILSM1!$C$1:$C$43,0),MATCH(A16&$K$13,NILSM1!$C$1:$FR$1,0))","v":0},{"$f":"INDEX(TABNILSM1,MATCH($R$2,NILSM1!$C$1:$C$43,0),MATCH(A16&$L$13,NILSM1!$C$1:$FR$1,0))","v":0}]
["MTK",1,4,"Matematika",75,{"$f":"INDEX(TABNILSM1,MATCH($R$2,NILSM1!$C$1:$C$43,0),MATCH(A17&$F$13,NILSM1!$C$1:$FR$1,0))","v":0},{"$f":"INDEX(TABNILSM1,MATCH($R$2,NILSM1!$C$1:$C$43,0),MATCH(A17&$G$13,NILSM1!$C$1:$FR$1,0))","v":0},{"$f":"INDEX(TABNILSM1,MATCH($R$2,NILSM1!$C$1:$C$43,0),MATCH(A17&$H$13,NILSM1!$C$1:$FR$1,0))","v":0},{"$f":"INDEX(TABNILSM1,MATCH($R$2,NILSM1!$C$1:$C$43,0),MATCH(A17&$I$13,NILSM1!$C$1:$FR$1,0))","v":0},{"$f":"INDEX(TABNILSM1,MATCH($R$2,NILSM1!$C$1:$C$43,0),MATCH(A17&$J$13,NILSM1!$C$1:$FR$1,0))","v":0},{"$f":"INDEX(TABNILSM1,MATCH($R$2,NILSM1!$C$1:$C$43,0),MATCH(A17&$K$13,NILSM1!$C$1:$FR$1,0))","v":0},{"$f":"INDEX(TABNILSM1,MATCH($R$2,NILSM1!$C$1:$C$43,0),MATCH(A17&$L$13,NILSM1!$C$1:$FR$1,0))","v":0}]
["SJI",1,5,"Sejarah Indonesia",75,{"$f":"INDEX(TABNILSM1,MATCH($R$2,NILSM1!$C$1:$C$43,0),MATCH(A18&$F$13,NILSM1!$C$1:$FR$1,0))","v":0},{"$f":"INDEX(TABNILSM1,MATCH($R$2,NILSM1!$C$1:$C$43,0),MATCH(A18&$G$13,NILSM1!$C$1:$FR$1,0))","v":0},{"$f":"INDEX(TABNILSM1,MATCH($R$2,NILSM1!$C$1:$C$43,0),MATCH(A18&$H$13,NILSM1!$C$1:$FR$1,0))","v":0},{"$f":"INDEX(TABNILSM1,MATCH($R$2,NILSM1!$C$1:$C$43,0),MATCH(A18&$I$13,NILSM1!$C$1:$FR$1,0))","v":0},{"$f":"INDEX(TABNILSM1,MATCH($R$2,NILSM1!$C$1:$C$43,0),MATCH(A18&$J$13,NILSM1!$C$1:$FR$1,0))","v":0},{"$f":"INDEX(TABNILSM1,MATCH($R$2,NILSM1!$C$1:$C$43,0),MATCH(A18&$K$13,NILSM1!$C$1:$FR$1,0))","v":0},{"$f":"INDEX(TABNILSM1,MATCH($R$2,NILSM1!$C$1:$C$43,0),MATCH(A18&$L$13,NILSM1!$C$1:$FR$1,0))","v":0}]
["ING",1,6,"Bahasa Inggris",75,{"$f":"INDEX(TABNILSM1,MATCH($R$2,NILSM1!$C$1:$C$43,0),MATCH(A19&$F$13,NILSM1!$C$1:$FR$1,0))","v":0},{"$f":"INDEX(TABNILSM1,MATCH($R$2,NILSM1!$C$1:$C$43,0),MATCH(A19&$G$13,NILSM1!$C$1:$FR$1,0))","v":0},{"$f":"INDEX(TABNILSM1,MATCH($R$2,NILSM1!$C$1:$C$43,0),MATCH(A19&$H$13,NILSM1!$C$1:$FR$1,0))","v":0},{"$f":"INDEX(TABNILSM1,MATCH($R$2,NILSM1!$C$1:$C$43,0),MATCH(A19&$I$13,NILSM1!$C$1:$FR$1,0))","v":0},{"$f":"INDEX(TABNILSM1,MATCH($R$2,NILSM1!$C$1:$C$43,0),MATCH(A19&$J$13,NILSM1!$C$1:$FR$1,0))","v":0},{"$f":"INDEX(TABNILSM1,MATCH($R$2,NILSM1!$C$1:$C$43,0),MATCH(A19&$K$13,NILSM1!$C$1:$FR$1,0))","v":0},{"$f":"INDEX(TABNILSM1,MATCH($R$2,NILSM1!$C$1:$C$43,0),MATCH(A19&$L$13,NILSM1!$C$1:$FR$1,0))","v":0}]
["JER",0,0,"-",75,{"$f":"INDEX(TABNILSM1,MATCH($R$2,NILSM1!$C$1:$C$43,0),MATCH(A20&$F$13,NILSM1!$C$1:$FR$1,0))","v":0},{"$f":"INDEX(TABNILSM1,MATCH($R$2,NILSM1!$C$1:$C$43,0),MATCH(A20&$G$13,NILSM1!$C$1:$FR$1,0))","v":0},{"$f":"INDEX(TABNILSM1,MATCH($R$2,NILSM1!$C$1:$C$43,0),MATCH(A20&$H$13,NILSM1!$C$1:$FR$1,0))","v":0},{"$f":"INDEX(TABNILSM1,MATCH($R$2,NILSM1!$C$1:$C$43,0),MATCH(A20&$I$13,NILSM1!$C$1:$FR$1,0))","v":0},{"$f":"INDEX(TABNILSM1,MATCH($R$2,NILSM1!$C$1:$C$43,0),MATCH(A20&$J$13,NILSM1!$C$1:$FR$1,0))","v":0},{"$f":"INDEX(TABNILSM1,MATCH($R$2,NILSM1!$C$1:$C$43,0),MATCH(A20&$K$13,NILSM1!$C$1:$FR$1,0))","v":0},{"$f":"INDEX(TABNILSM1,MATCH($R$2,NILSM1!$C$1:$C$43,0),MATCH(A20&$L$13,NILSM1!$C$1:$FR$1,0))","v":0}]
[null,{"$f":"IF(AND(COUNT(C21)=0,C23=0),0,1)","v":1},"B. Muatan Kewilayahan"]
["SBD",1,{"$f":"HLOOKUP(A22&$F$13,TABNILSM1,4,FALSE)","v":7},{"$f":"HLOOKUP(A22&$F$13,TABNILSM1,2,FALSE)","v":"Seni Budaya"},{"$f":"IFERROR(HLOOKUP(A22&$F$13,TABNILSM1,5,FALSE),\"-\")","v":75},{"$f":"INDEX(TABNILSM1,MATCH($R$2,NILSM1!$C$1:$C$43,0),MATCH(A22&$F$13,NILSM1!$C$1:$FR$1,0))","v":0},{"$f":"INDEX(TABNILSM1,MATCH($R$2,NILSM1!$C$1:$C$43,0),MATCH(A22&$G$13,NILSM1!$C$1:$FR$1,0))","v":0},{"$f":"INDEX(TABNILSM1,MATCH($R$2,NILSM1!$C$1:$C$43,0),MATCH(A22&$H$13,NILSM1!$C$1:$FR$1,0))","v":0},{"$f":"INDEX(TABNILSM1,MATCH($R$2,NILSM1!$C$1:$C$43,0),MATCH(A22&$I$13,NILSM1!$C$1:$FR$1,0))","v":0},{"$f":"INDEX(TABNILSM1,MATCH($R$2,NILSM1!$C$1:$C$43,0),MATCH(A22&$J$13,NILSM1!$C$1:$FR$1,0))","v":0},{"$f":"INDEX(TABNILSM1,MATCH($R$2,NILSM1!$C$1:$C$43,0),MATCH(A22&$K$13,NILSM1!$C$1:$FR$1,0))","v":0},{"$f":"INDEX(TABNILSM1,MATCH($R$2,NILSM1!$C$1:$C$43,0),MATCH(A22&$L$13,NILSM1!$C$1:$FR$1,0))","v":0}]
["PJO",1,{"$f":"HLOOKUP(A23&$F$13,TABNILSM1,4,FALSE)","v":8},{"$f":"HLOOKUP(A23&$F$13,TABNILSM1,2,FALSE)","v":"Pendidikan Jasmani, Olahraga dan Kesehatan"},{"$f":"IFERROR(HLOOKUP(A23&$F$13,TABNILSM1,5,FALSE),\"-\")","v":75},{"$f":"INDEX(TABNILSM1,MATCH($R$2,NILSM1!$C$1:$C$43,0),MATCH(A23&$F$13,NILSM1!$C$1:$FR$1,0))","v":0},{"$f":"INDEX(TABNILSM1,MATCH($R$2,NILSM1!$C$1:$C$43,0),MATCH(A23&$G$13,NILSM1!$C$1:$FR$1,0))","v":0},{"$f":"INDEX(TABNILSM1,MATCH($R$2,NILSM1!$C$1:$C$43,0),MATCH(A23&$H$13,NILSM1!$C$1:$FR$1,0))","v":0},{"$f":"INDEX(TABNILSM1,MATCH($R$2,NILSM1!$C$1:$C$43,0),MATCH(A23&$I$13,NILSM1!$C$1:$FR$1,0))","v":0},{"$f":"INDEX(TABNILSM1,MATCH($R$2,NILSM1!$C$1:$C$43,0),MATCH(A23&$J$13,NILSM1!$C$1:$FR$1,0))","v":0},{"$f":"INDEX(TABNILSM1,MATCH($R$2,NILSM1!$C$1:$C$43,0),MATCH(A23&$K$13,NILSM1!$C$1:$FR$1,0))","v":0},{"$f":"INDEX(TABNILSM1,MATCH($R$2,NILSM1!$C$1:$C$43,0),MATCH(A23&$L$13,NILSM1!$C$1:$FR$1,0))","v":0}]
["-",1,"C. Muatan Peminatan Kejuruan"]
[null,{"$f":"IF(AND(COUNT(C25)=0,C26=0),0,1)","v":1},"C1","Dasar Bidang Keahlian"]
["SKD",{"$f":"IF(C26>=1,1,0)","v":1},{"$f":"HLOOKUP(A26&$F$13,TABNILSM1,4,FALSE)","v":9},{"$f":"HLOOKUP(A26&$F$13,TABNILSM1,2,FALSE)","v":"Simulasi dan Komunikasi Digital"},{"$f":"IFERROR(HLOOKUP(A26&$F$13,TABNILSM1,5,FALSE),\"-\")","v":75},{"$f":"INDEX(TABNILSM1,MATCH($R$2,NILSM1!$C$1:$C$43,0),MATCH(A26&$F$13,NILSM1!$C$1:$FR$1,0))","v":0},{"$f":"INDEX(TABNILSM1,MATCH($R$2,NILSM1!$C$1:$C$43,0),MATCH(A26&$G$13,NILSM1!$C$1:$FR$1,0))","v":0},{"$f":"INDEX(TABNILSM1,MATCH($R$2,NILSM1!$C$1:$C$43,0),MATCH(A26&$H$13,NILSM1!$C$1:$FR$1,0))","v":0},{"$f":"INDEX(TABNILSM1,MATCH($R$2,NILSM1!$C$1:$C$43,0),MATCH(A26&$I$13,NILSM1!$C$1:$FR$1,0))","v":0},{"$f":"INDEX(TABNILSM1,MATCH($R$2,NILSM1!$C$1:$C$43,0),MATCH(A26&$J$13,NILSM1!$C$1:$FR$1,0))","v":0},{"$f":"INDEX(TABNILSM1,MATCH($R$2,NILSM1!$C$1:$C$43,0),MATCH(A26&$K$13,NILSM1!$C$1:$FR$1,0))","v":0},{"$f":"INDEX(TABNILSM1,MATCH($R$2,NILSM1!$C$1:$C$43,0),MATCH(A26&$L$13,NILSM1!$C$1:$FR$1,0))","v":0}]
["FIS",1,{"$f":"HLOOKUP(A27&$F$13,TABNILSM1,4,FALSE)","v":10},{"$f":"HLOOKUP(A27&$F$13,TABNILSM1,2,FALSE)","v":"Fisika"},{"$f":"IFERROR(HLOOKUP(A27&$F$13,TABNILSM1,5,FALSE),\"-\")","v":75},{"$f":"INDEX(TABNILSM1,MATCH($R$2,NILSM1!$C$1:$C$43,0),MATCH(A27&$F$13,NILSM1!$C$1:$FR$1,0))","v":0},{"$f":"INDEX(TABNILSM1,MATCH($R$2,NILSM1!$C$1:$C$43,0),MATCH(A27&$G$13,NILSM1!$C$1:$FR$1,0))","v":0},{"$f":"INDEX(TABNILSM1,MATCH($R$2,NILSM1!$C$1:$C$43,0),MATCH(A27&$H$13,NILSM1!$C$1:$FR$1,0))","v":0},{"$f":"INDEX(TABNILSM1,MATCH($R$2,NILSM1!$C$1:$C$43,0),MATCH(A27&$I$13,NILSM1!$C$1:$FR$1,0))","v":0},{"$f":"INDEX(TABNILSM1,MATCH($R$2,NILSM1!$C$1:$C$43,0),MATCH(A27&$J$13,NILSM1!$C$1:$FR$1,0))","v":0},{"$f":"INDEX(TABNILSM1,MATCH($R$2,NILSM1!$C$1:$C$43,0),MATCH(A27&$K$13,NILSM1!$C$1:$FR$1,0))","v":0},{"$f":"INDEX(TABNILSM1,MATCH($R$2,NILSM1!$C$1:$C$43,0),MATCH(A27&$L$13,NILSM1!$C$1:$FR$1,0))","v":0}]
["KIM",1,{"$f":"HLOOKUP(A28&$F$13,TABNILSM1,4,FALSE)","v":11},{"$f":"HLOOKUP(A28&$F$13,TABNILSM1,2,FALSE)","v":"Kimia"},{"$f":"IFERROR(HLOOKUP(A28&$F$13,TABNILSM1,5,FALSE),\"-\")","v":75},{"$f":"INDEX(TABNILSM1,MATCH($R$2,NILSM1!$C$1:$C$43,0),MATCH(A28&$F$13,NILSM1!$C$1:$FR$1,0))","v":0},{"$f":"INDEX(TABNILSM1,MATCH($R$2,NILSM1!$C$1:$C$43,0),MATCH(A28&$G$13,NILSM1!$C$1:$FR$1,0))","v":0},{"$f":"INDEX(TABNILSM1,MATCH($R$2,NILSM1!$C$1:$C$43,0),MATCH(A28&$H$13,NILSM1!$C$1:$FR$1,0))","v":0},{"$f":"INDEX(TABNILSM1,MATCH($R$2,NILSM1!$C$1:$C$43,0),MATCH(A28&$I$13,NILSM1!$C$1:$FR$1,0))","v":0},{"$f":"INDEX(TABNILSM1,MATCH($R$2,NILSM1!$C$1:$C$43,0),MATCH(A28&$J$13,NILSM1!$C$1:$FR$1,0))","v":0},{"$f":"INDEX(TABNILSM1,MATCH($R$2,NILSM1!$C$1:$C$43,0),MATCH(A28&$K$13,NILSM1!$C$1:$FR$1,0))","v":0},{"$f":"INDEX(TABNILSM1,MATCH($R$2,NILSM1!$C$1:$C$43,0),MATCH(A28&$L$13,NILSM1!$C$1:$FR$1,0))","v":0}]
[null,{"$f":"IF(AND(COUNT(C29)=0,C30=0),0,1)","v":1},"C2","Dasar Program Keahlian"]
["C21",1,{"$f":"HLOOKUP(A30&$F$13,TABNILSM1,4,FALSE)","v":12},{"$f":"HLOOKUP(A30&$F$13,TABNILSM1,2,FALSE)","v":"Gambar Teknik Otomotif"},{"$f":"IFERROR(HLOOKUP(A30&$F$13,TABNILSM1,5,FALSE),\"-\")","v":75},{"$f":"INDEX(TABNILSM1,MATCH($R$2,NILSM1!$C$1:$C$43,0),MATCH(A30&$F$13,NILSM1!$C$1:$FR$1,0))","v":0},{"$f":"INDEX(TABNILSM1,MATCH($R$2,NILSM1!$C$1:$C$43,0),MATCH(A30&$G$13,NILSM1!$C$1:$FR$1,0))","v":0},{"$f":"INDEX(TABNILSM1,MATCH($R$2,NILSM1!$C$1:$C$43,0),MATCH(A30&$H$13,NILSM1!$C$1:$FR$1,0))","v":0},{"$f":"INDEX(TABNILSM1,MATCH($R$2,NILSM1!$C$1:$C$43,0),MATCH(A30&$I$13,NILSM1!$C$1:$FR$1,0))","v":0},{"$f":"INDEX(TABNILSM1,MATCH($R$2,NILSM1!$C$1:$C$43,0),MATCH(A30&$J$13,NILSM1!$C$1:$FR$1,0))","v":0},{"$f":"INDEX(TABNILSM1,MATCH($R$2,NILSM1!$C$1:$C$43,0),MATCH(A30&$K$13,NILSM1!$C$1:$FR$1,0))","v":0},{"$f":"INDEX(TABNILSM1,MATCH($R$2,NILSM1!$C$1:$C$43,0),MATCH(A30&$L$13,NILSM1!$C$1:$FR$1,0))","v":0}]
["C22",1,{"$f":"HLOOKUP(A31&$F$13,TABNILSM1,4,FALSE)","v":13},{"$f":"HLOOKUP(A31&$F$13,TABNILSM1,2,FALSE)","v":"Teknologi Dasar Otomotif"},{"$f":"IFERROR(HLOOKUP(A31&$F$13,TABNILSM1,5,FALSE),\"-\")","v":75},{"$f":"INDEX(TABNILSM1,MATCH($R$2,NILSM1!$C$1:$C$43,0),MATCH(A31&$F$13,NILSM1!$C$1:$FR$1,0))","v":0},{"$f":"INDEX(TABNILSM1,MATCH($R$2,NILSM1!$C$1:$C$43,0),MATCH(A31&$G$13,NILSM1!$C$1:$FR$1,0))","v":0},{"$f":"INDEX(TABNILSM1,MATCH($R$2,NILSM1!$C$1:$C$43,0),MATCH(A31&$H$13,NILSM1!$C$1:$FR$1,0))","v":0},{"$f":"INDEX(TABNILSM1,MATCH($R$2,NILSM1!$C$1:$C$43,0),MATCH(A31&$I$13,NILSM1!$C$1:$FR$1,0))","v":0},{"$f":"INDEX(TABNILSM1,MATCH($R$2,NILSM1!$C$1:$C$43,0),MATCH(A31&$J$13,NILSM1!$C$1:$FR$1,0))","v":0},{"$f":"INDEX(TABNILSM1,MATCH($R$2,NILSM1!$C$1:$C$43,0),MATCH(A31&$K$13,NILSM1!$C$1:$FR$1,0))","v":0},{"$f":"INDEX(TABNILSM1,MATCH($R$2,NILSM1!$C$1:$C$43,0),MATCH(A31&$L$13,NILSM1!$C$1:$FR$1,0))","v":0}]
["C23",1,{"$f":"HLOOKUP(A32&$F$13,TABNILSM1,4,FALSE)","v":14},{"$f":"HLOOKUP(A32&$F$13,TABNILSM1,2,FALSE)","v":"Pekerjaan Dasar Teknik Otomotif"},{"$f":"IFERROR(HLOOKUP(A32&$F$13,TABNILSM1,5,FALSE),\"-\")","v":75},{"$f":"INDEX(TABNILSM1,MATCH($R$2,NILSM1!$C$1:$C$43,0),MATCH(A32&$F$13,NILSM1!$C$1:$FR$1,0))","v":0},{"$f":"INDEX(TABNILSM1,MATCH($R$2,NILSM1!$C$1:$C$43,0),MATCH(A32&$G$13,NILSM1!$C$1:$FR$1,0))","v":0},{"$f":"INDEX(TABNILSM1,MATCH($R$2,NILSM1!$C$1:$C$43,0),MATCH(A32&$H$13,NILSM1!$C$1:$FR$1,0))","v":0},{"$f":"INDEX(TABNILSM1,MATCH($R$2,NILSM1!$C$1:$C$43,0),MATCH(A32&$I$13,NILSM1!$C$1:$FR$1,0))","v":0},{"$f":"INDEX(TABNILSM1,MATCH($R$2,NILSM1!$C$1:$C$43,0),MATCH(A32&$J$13,NILSM1!$C$1:$FR$1,0))","v":0},{"$f":"INDEX(TABNILSM1,MATCH($R$2,NILSM1!$C$1:$C$43,0),MATCH(A32&$K$13,NILSM1!$C$1:$FR$1,0))","v":0},{"$f":"INDEX(TABNILSM1,MATCH($R$2,NILSM1!$C$1:$C$43,0),MATCH(A32&$L$13,NILSM1!$C$1:$FR$1,0))","v":0}]
["C24",0,{"$f":"HLOOKUP(A33&$F$13,TABNILSM1,4,FALSE)","v":0},{"$f":"HLOOKUP(A33&$F$13,TABNILSM1,2,FALSE)","v":"-"},{"$f":"IFERROR(HLOOKUP(A33&$F$13,TABNILSM1,5,FALSE),\"-\")","v":75},{"$f":"INDEX(TABNILSM1,MATCH($R$2,NILSM1!$C$1:$C$43,0),MATCH(A33&$F$13,NILSM1!$C$1:$FR$1,0))","v":0},{"$f":"INDEX(TABNILSM1,MATCH($R$2,NILSM1!$C$1:$C$43,0),MATCH(A33&$G$13,NILSM1!$C$1:$FR$1,0))","v":0},{"$f":"INDEX(TABNILSM1,MATCH($R$2,NILSM1!$C$1:$C$43,0),MATCH(A33&$H$13,NILSM1!$C$1:$FR$1,0))","v":0},{"$f":"INDEX(TABNILSM1,MATCH($R$2,NILSM1!$C$1:$C$43,0),MATCH(A33&$I$13,NILSM1!$C$1:$FR$1,0))","v":0},{"$f":"INDEX(TABNILSM1,MATCH($R$2,NILSM1!$C$1:$C$43,0),MATCH(A33&$J$13,NILSM1!$C$1:$FR$1,0))","v":0},{"$f":"INDEX(TABNILSM1,MATCH($R$2,NILSM1!$C$1:$C$43,0),MATCH(A33&$K$13,NILSM1!$C$1:$FR$1,0))","v":0},{"$f":"INDEX(TABNILSM1,MATCH($R$2,NILSM1!$C$1:$C$43,0),MATCH(A33&$L$13,NILSM1!$C$1:$FR$1,0))","v":0}]
["-",{"$f":"IF(AND(COUNT(C34)=0,C37=0),0,1)","v":0},"C3","Kompetensi Keahlian"]
["C31",0,{"$f":"HLOOKUP(A35&$F$13,TABNILSM1,4,FALSE)","v":0},{"$f":"HLOOKUP(A35&$F$13,TABNILSM1,2,FALSE)","v":"-"},{"$f":"IFERROR(HLOOKUP(A35&$F$13,TABNILSM1,5,FALSE),\"-\")","v":75},{"$f":"INDEX(TABNILSM1,MATCH($R$2,NILSM1!$C$1:$C$43,0),MATCH(A35&$F$13,NILSM1!$C$1:$FR$1,0))","v":0},{"$f":"INDEX(TABNILSM1,MATCH($R$2,NILSM1!$C$1:$C$43,0),MATCH(A35&$G$13,NILSM1!$C$1:$FR$1,0))","v":0},{"$f":"INDEX(TABNILSM1,MATCH($R$2,NILSM1!$C$1:$C$43,0),MATCH(A35&$H$13,NILSM1!$C$1:$FR$1,0))","v":0},{"$f":"INDEX(TABNILSM1,MATCH($R$2,NILSM1!$C$1:$C$43,0),MATCH(A35&$I$13,NILSM1!$C$1:$FR$1,0))","v":0},{"$f":"INDEX(TABNILSM1,MATCH($R$2,NILSM1!$C$1:$C$43,0),MATCH(A35&$J$13,NILSM1!$C$1:$FR$1,0))","v":0},{"$f":"INDEX(TABNILSM1,MATCH($R$2,NILSM1!$C$1:$C$43,0),MATCH(A35&$K$13,NILSM1!$C$1:$FR$1,0))","v":0},{"$f":"INDEX(TABNILSM1,MATCH($R$2,NILSM1!$C$1:$C$43,0),MATCH(A35&$L$13,NILSM1!$C$1:$FR$1,0))","v":0}]
["C32",0,0,"-",75,{"$f":"INDEX(TABNILSM1,MATCH($R$2,NILSM1!$C$1:$C$43,0),MATCH(A36&$F$13,NILSM1!$C$1:$FR$1,0))","v":0},{"$f":"INDEX(TABNILSM1,MATCH($R$2,NILSM1!$C$1:$C$43,0),MATCH(A36&$G$13,NILSM1!$C$1:$FR$1,0))","v":0},{"$f":"INDEX(TABNILSM1,MATCH($R$2,NILSM1!$C$1:$C$43,0),MATCH(A36&$H$13,NILSM1!$C$1:$FR$1,0))","v":0},{"$f":"INDEX(TABNILSM1,MATCH($R$2,NILSM1!$C$1:$C$43,0),MATCH(A36&$I$13,NILSM1!$C$1:$FR$1,0))","v":0},{"$f":"INDEX(TABNILSM1,MATCH($R$2,NILSM1!$C$1:$C$43,0),MATCH(A36&$J$13,NILSM1!$C$1:$FR$1,0))","v":0},{"$f":"INDEX(TABNILSM1,MATCH($R$2,NILSM1!$C$1:$C$43,0),MATCH(A36&$K$13,NILSM1!$C$1:$FR$1,0))","v":0},{"$f":"INDEX(TABNILSM1,MATCH($R$2,NILSM1!$C$1:$C$43,0),MATCH(A36&$L$13,NILSM1!$C$1:$FR$1,0))","v":0}]
["C33",0,0,"-",75,{"$f":"INDEX(TABNILSM1,MATCH($R$2,NILSM1!$C$1:$C$43,0),MATCH(A37&$F$13,NILSM1!$C$1:$FR$1,0))","v":0},{"$f":"INDEX(TABNILSM1,MATCH($R$2,NILSM1!$C$1:$C$43,0),MATCH(A37&$G$13,NILSM1!$C$1:$FR$1,0))","v":0},{"$f":"INDEX(TABNILSM1,MATCH($R$2,NILSM1!$C$1:$C$43,0),MATCH(A37&$H$13,NILSM1!$C$1:$FR$1,0))","v":0},{"$f":"INDEX(TABNILSM1,MATCH($R$2,NILSM1!$C$1:$C$43,0),MATCH(A37&$I$13,NILSM1!$C$1:$FR$1,0))","v":0},{"$f":"INDEX(TABNILSM1,MATCH($R$2,NILSM1!$C$1:$C$43,0),MATCH(A37&$J$13,NILSM1!$C$1:$FR$1,0))","v":0},{"$f":"INDEX(TABNILSM1,MATCH($R$2,NILSM1!$C$1:$C$43,0),MATCH(A37&$K$13,NILSM1!$C$1:$FR$1,0))","v":0},{"$f":"INDEX(TABNILSM1,MATCH($R$2,NILSM1!$C$1:$C$43,0),MATCH(A37&$L$13,NILSM1!$C$1:$FR$1,0))","v":0}]
["C34",0,0,"-",75,{"$f":"INDEX(TABNILSM1,MATCH($R$2,NILSM1!$C$1:$C$43,0),MATCH(A38&$F$13,NILSM1!$C$1:$FR$1,0))","v":0},{"$f":"INDEX(TABNILSM1,MATCH($R$2,NILSM1!$C$1:$C$43,0),MATCH(A38&$G$13,NILSM1!$C$1:$FR$1,0))","v":0},{"$f":"INDEX(TABNILSM1,MATCH($R$2,NILSM1!$C$1:$C$43,0),MATCH(A38&$H$13,NILSM1!$C$1:$FR$1,0))","v":0},{"$f":"INDEX(TABNILSM1,MATCH($R$2,NILSM1!$C$1:$C$43,0),MATCH(A38&$I$13,NILSM1!$C$1:$FR$1,0))","v":0},{"$f":"INDEX(TABNILSM1,MATCH($R$2,NILSM1!$C$1:$C$43,0),MATCH(A38&$J$13,NILSM1!$C$1:$FR$1,0))","v":0},{"$f":"INDEX(TABNILSM1,MATCH($R$2,NILSM1!$C$1:$C$43,0),MATCH(A38&$K$13,NILSM1!$C$1:$FR$1,0))","v":0},{"$f":"INDEX(TABNILSM1,MATCH($R$2,NILSM1!$C$1:$C$43,0),MATCH(A38&$L$13,NILSM1!$C$1:$FR$1,0))","v":0}]
["C35",0,0,"-",75,{"$f":"INDEX(TABNILSM1,MATCH($R$2,NILSM1!$C$1:$C$43,0),MATCH(A39&$F$13,NILSM1!$C$1:$FR$1,0))","v":0},{"$f":"INDEX(TABNILSM1,MATCH($R$2,NILSM1!$C$1:$C$43,0),MATCH(A39&$G$13,NILSM1!$C$1:$FR$1,0))","v":0},{"$f":"INDEX(TABNILSM1,MATCH($R$2,NILSM1!$C$1:$C$43,0),MATCH(A39&$H$13,NILSM1!$C$1:$FR$1,0))","v":0},{"$f":"INDEX(TABNILSM1,MATCH($R$2,NILSM1!$C$1:$C$43,0),MATCH(A39&$I$13,NILSM1!$C$1:$FR$1,0))","v":0},{"$f":"INDEX(TABNILSM1,MATCH($R$2,NILSM1!$C$1:$C$43,0),MATCH(A39&$J$13,NILSM1!$C$1:$FR$1,0))","v":0},{"$f":"INDEX(TABNILSM1,MATCH($R$2,NILSM1!$C$1:$C$43,0),MATCH(A39&$K$13,NILSM1!$C$1:$FR$1,0))","v":0},{"$f":"INDEX(TABNILSM1,MATCH($R$2,NILSM1!$C$1:$C$43,0),MATCH(A39&$L$13,NILSM1!$C$1:$FR$1,0))","v":0}]
["C36",0,0,"-",75,{"$f":"INDEX(TABNILSM1,MATCH($R$2,NILSM1!$C$1:$C$43,0),MATCH(A40&$F$13,NILSM1!$C$1:$FR$1,0))","v":0},{"$f":"INDEX(TABNILSM1,MATCH($R$2,NILSM1!$C$1:$C$43,0),MATCH(A40&$G$13,NILSM1!$C$1:$FR$1,0))","v":0},{"$f":"INDEX(TABNILSM1,MATCH($R$2,NILSM1!$C$1:$C$43,0),MATCH(A40&$H$13,NILSM1!$C$1:$FR$1,0))","v":0},{"$f":"INDEX(TABNILSM1,MATCH($R$2,NILSM1!$C$1:$C$43,0),MATCH(A40&$I$13,NILSM1!$C$1:$FR$1,0))","v":0},{"$f":"INDEX(TABNILSM1,MATCH($R$2,NILSM1!$C$1:$C$43,0),MATCH(A40&$J$13,NILSM1!$C$1:$FR$1,0))","v":0},{"$f":"INDEX(TABNILSM1,MATCH($R$2,NILSM1!$C$1:$C$43,0),MATCH(A40&$K$13,NILSM1!$C$1:$FR$1,0))","v":0},{"$f":"INDEX(TABNILSM1,MATCH($R$2,NILSM1!$C$1:$C$43,0),MATCH(A40&$L$13,NILSM1!$C$1:$FR$1,0))","v":0}]
[null,{"$f":"IF(AND(COUNT(C41)=0,C42=0),0,1)","v":1},"Muatan Lokal"]
["SUN",1,{"$f":"HLOOKUP(A42&$F$13,TABNILSM1,4,FALSE)","v":15},{"$f":"HLOOKUP(A42&$F$13,TABNILSM1,2,FALSE)","v":"Bahasa dan Sastra Sunda"},{"$f":"IFERROR(HLOOKUP(A42&$F$13,TABNILSM1,5,FALSE),\"-\")","v":75},{"$f":"INDEX(TABNILSM1,MATCH($R$2,NILSM1!$C$1:$C$43,0),MATCH(A42&$F$13,NILSM1!$C$1:$FR$1,0))","v":0},{"$f":"INDEX(TABNILSM1,MATCH($R$2,NILSM1!$C$1:$C$43,0),MATCH(A42&$G$13,NILSM1!$C$1:$FR$1,0))","v":0},{"$f":"INDEX(TABNILSM1,MATCH($R$2,NILSM1!$C$1:$C$43,0),MATCH(A42&$H$13,NILSM1!$C$1:$FR$1,0))","v":0},{"$f":"INDEX(TABNILSM1,MATCH($R$2,NILSM1!$C$1:$C$43,0),MATCH(A42&$I$13,NILSM1!$C$1:$FR$1,0))","v":0},{"$f":"INDEX(TABNILSM1,MATCH($R$2,NILSM1!$C$1:$C$43,0),MATCH(A42&$J$13,NILSM1!$C$1:$FR$1,0))","v":0},{"$f":"INDEX(TABNILSM1,MATCH($R$2,NILSM1!$C$1:$C$43,0),MATCH(A42&$K$13,NILSM1!$C$1:$FR$1,0))","v":0},{"$f":"INDEX(TABNILSM1,MATCH($R$2,NILSM1!$C$1:$C$43,0),MATCH(A42&$L$13,NILSM1!$C$1:$FR$1,0))","v":0}]
["PLH",1,{"$f":"HLOOKUP(A43&$F$13,TABNILSM1,4,FALSE)","v":16},{"$f":"HLOOKUP(A43&$F$13,TABNILSM1,2,FALSE)","v":"PLH"},{"$f":"IFERROR(HLOOKUP(A43&$F$13,TABNILSM1,5,FALSE),\"-\")","v":75},{"$f":"INDEX(TABNILSM1,MATCH($R$2,NILSM1!$C$1:$C$43,0),MATCH(A43&$F$13,NILSM1!$C$1:$FR$1,0))","v":0},{"$f":"INDEX(TABNILSM1,MATCH($R$2,NILSM1!$C$1:$C$43,0),MATCH(A43&$G$13,NILSM1!$C$1:$FR$1,0))","v":0},{"$f":"INDEX(TABNILSM1,MATCH($R$2,NILSM1!$C$1:$C$43,0),MATCH(A43&$H$13,NILSM1!$C$1:$FR$1,0))","v":0},{"$f":"INDEX(TABNILSM1,MATCH($R$2,NILSM1!$C$1:$C$43,0),MATCH(A43&$I$13,NILSM1!$C$1:$FR$1,0))","v":0},{"$f":"INDEX(TABNILSM1,MATCH($R$2,NILSM1!$C$1:$C$43,0),MATCH(A43&$J$13,NILSM1!$C$1:$FR$1,0))","v":0},{"$f":"INDEX(TABNILSM1,MATCH($R$2,NILSM1!$C$1:$C$43,0),MATCH(A43&$K$13,NILSM1!$C$1:$FR$1,0))","v":0},{"$f":"INDEX(TABNILSM1,MATCH($R$2,NILSM1!$C$1:$C$43,0),MATCH(A43&$L$13,NILSM1!$C$1:$FR$1,0))","v":0}]
[]
["CTT",null,"Bimbingan dan Konseling",null,null,null,"Catatan Akademik"]
["BKN",null,{"$f":"INDEX(TABNILSM1,MATCH($R$2,NILSM1!$C$1:$C$43,0),MATCH(A46,NILSM1!$C$1:$FR$1,0))","v":0},null,null,null,{"$f":"INDEX(TABNILSM1,MATCH($R$2,NILSM1!$C$1:$C$43,0),MATCH(A45,NILSM1!$C$1:$FR$1,0))","v":0}]
[]
[null,null,"Catatan: Jika nilai 0, siswa belum mengupload tugas atau belum mengerjakan ulangan. Jika nilai - , materi KD (Kompetensi Dasar) tersebut dilaksanakan setelah pembagian KHS."]
[]
[null,null,null,null,null,null,null,null,null,null,null,null,null,null,null,null,{"$f":"VLOOKUP($R$13,TAB_BIODATA,BIODATA!C4,FALSE)","v":"CEPI YANWARI"}]
[null,null,null,"Mengetahui,",null,null,null,null,{"$f":"NILSM1!A5","v":"Karawang, 18 Desember 2020"}]
[null,null,null,"Orang Tua/Wali,",null,null,null,null,"Wali Kelas,",null,null,null,null,null,null,null,{"$f":"\"Nomor Urut \"&R13","v":"Nomor Urut 5"}]
[]
[]
[]
[]
[null,null,null,null,null,null,null,null,{"$f":"NILSM1!B4","v":"Abdul Hapid, S.P"}]
[null,null,null,null,null,null,null,null,{"$f":"IF(NILSM1!B5=0,\"\",\"NIP \"&NILSM1!B5)","v":"NIP 19680917 200012 1 003"}]
[null,null,null,null,"Mengetahui :"]
[null,null,null,null,"Kepala Sekolah,"]
[]
[]
[]
[]
[null,null,null,null,{"$f":"MENU!F12","v":"Drs. Makmur, M.T."}]
[null,null,null,null,{"$f":"\"NIP \"&MENU!F13","v":"NIP 19640423 199512 1 002"}]

{"sheet":"CETKD1","index":16,"n_rows":87,"n_cols":20,"rows_kept":87,"cut":false,"hidden":false,"merged":[[7,19,8,19],[0,2,0,11],[4,16,4,17],[4,18,4,19],[5,16,6,16],[5,17,6,17],[5,18,6,18],[5,19,6,19],[50,16,51,18],[7,5,7,11],[9,2,11,2],[9,5,9,11],[10,5,10,11],[11,5,11,11],[24,5,24,11],[25,5,25,11],[11,16,11,17],[7,16,8,16],[7,17,8,17],[7,18,8,18],[12,2,14,2],[12,5,12,11],[13,5,13,11],[14,5,14,11],[15,2,17,2],[15,5,15,11],[16,5,16,11],[17,5,17,11],[48,16,49,18],[27,2,29,2],[29,5,29,11],[31,2,33,2],[31,5,31,11],[32,5,32,11],[33,5,33,11],[27,5,27,11],[28,5,28,11],[18,2,20,2],[18,5,18,11],[21,2,23,2],[23,5,23,11],[24,2,26,2],[26,5,26,11],[19,5,19,11],[20,5,20,11],[21,5,21,11],[22,5,22,11],[39,2,41,2],[30,2,30,3],[45,2,47,2],[45,5,45,11],[46,5,46,11],[47,5,47,11],[48,3,48,5],[49,2,51,2],[49,5,49,11],[50,5,50,11],[51,5,51,11],[39,5,39,11],[40,5,40,11],[41,5,41,11],[42,2,44,2],[42,5,42,11],[43,5,43,11],[44,5,44,11],[34,2,36,2],[34,5,34,11],[35,5,35,11],[36,5,36,11],[37,2,37,5],[38,3,38,5],[58,2,60,2],[58,5,58,11],[59,5,59,11],[60,5,60,11],[62,2,64,2],[62,5,62,11],[63,5,63,11],[64,5,64,11],[52,2,54,2],[52,5,52,11],[53,5,53,11],[54,5,54,11],[55,2,57,2],[55,5,55,11],[56,5,56,11],[57,5,57,11],[71,2,73,2],[71,5,71,11],[72,5,72,11],[73,5,73,11],[74,2,76,2],[74,5,74,11],[75,5,75,11],[76,5,76,11],[65,2,67,2],[65,5,65,11],[66,5,66,11],[67,5,67,11],[68,2,70,2],[68,5,68,11],[69,5,69,11],[70,5,70,11],[84,2,86,2],[84,5,84,11],[85,5,85,11],[86,5,86,11],[77,2,79,2],[77,5,77,11],[78,5,78,11],[79,5,79,11],[81,2,83,2],[81,5,81,11],[82,5,82,11],[83,5,83,11],[80,2,80,3]]}
[null,null,"DAFTAR TOPIK PER KOMPETENSI DASAR",null,null,null,null,null,null,null,null,null,null,null,null,null,"JURUSAN",{"$f":"MENU!F8","v":"TBSM"}]
[null,null,null,null,null,null,null,null,null,null,null,null,null,null,null,null,"NIS",{"$f":"VLOOKUP($R$13,TAB_BIODATA,BIODATA!D4,FALSE)","v":16170535}]
[null,null,null,"Bidang Keahlian",":",{"$f":"VLOOKUP($R$1,TAB_JURUSAN,2,FALSE)","v":"Teknologi dan Rekayasa"}]
["T1",null,null,"Program Keahlian",":",{"$f":"VLOOKUP($R$1,TAB_JURUSAN,3,FALSE)","v":"Teknik Otomotif"}]
["T2",null,null,"Kompetensi Keahlian",":",{"$f":"VLOOKUP($R$1,TAB_JURUSAN,4,FALSE)","v":"Teknik dan Bisnis Sepeda Motor"},null,null,null,null,null,null,null,null,null,null,"DATA CETAK",null,"HALAMAN CETAK"]
["T3",null,null,"Semester",":",{"$f":"NILSM1!B3","v":"1 (satu)"},null,null,null,null,null,null,null,null,null,null,"Dari data ke",1,"Dari",1]
[]
[null,1,"No.","Mata Pelajaran","KD","Nama Topik",null,null,null,null,null,null,null,null,null,null,"Sampai data ke",2,"Ke",1]
[null,1,"A. Muatan Nasional",null,null,"T1","U1","T2","U2","T3","U3","H"]
["PAB",{"$f":"IF(C10>=1,1,0)","v":1},{"$f":"HLOOKUP(A10&$A$4,TABNILSM1,4,FALSE)","v":1},{"$f":"HLOOKUP(A10&$A$4,TABNILSM1,2,FALSE)","v":"Pendidikan Agama dan Budi Pekerti"},1,{"$f":"HLOOKUP(A10&$A$4,TABNILSM1,6,FALSE)","v":"Syahadat"}]
["PAB",{"$f":"IF(C10>=1,1,0)","v":1},null,"Pendidikan Agama dan Budi Pekerti",2,{"$f":"HLOOKUP(A11&$A$5,TABNILSM1,6,FALSE)","v":2}]
["PAB",{"$f":"IF(C10>=1,1,0)","v":1},null,"Pendidikan Agama dan Budi Pekerti",3,{"$f":"HLOOKUP(A12&$A$6,TABNILSM1,6,FALSE)","v":3},null,null,null,null,null,null,null,null,null,null,"TAMPILAN DATA"]
["PKN",{"$f":"IF(C13>=1,1,0)","v":1},{"$f":"HLOOKUP(A13&$A$4,TABNILSM1,4,FALSE)","v":2},"Pendidikan Pancasila dan Kewarganegaraan",1,{"$f":"HLOOKUP(A13&$A$4,TABNILSM1,6,FALSE)","v":4},null,null,null,null,null,null,null,null,null,null,"Nomor Urut",1]
["PKN",{"$f":"IF(C13>=1,1,0)","v":1},null,"Pendidikan Pancasila dan Kewarganegaraan",2,{"$f":"HLOOKUP(A14&$A$5,TABNILSM1,6,FALSE)","v":5}]
["PKN",{"$f":"IF(C13>=1,1,0)","v":1},null,"Pendidikan Pancasila dan Kewarganegaraan",3,{"$f":"HLOOKUP(A15&$A$6,TABNILSM1,6,FALSE)","v":6}]
["IND",{"$f":"IF(C16>=1,1,0)","v":1},{"$f":"HLOOKUP(A16&$A$4,TABNILSM1,4,FALSE)","v":3},"Bahasa Indonesia",1,{"$f":"HLOOKUP(A16&$A$4,TABNILSM1,6,FALSE)","v":7}]
["IND",{"$f":"IF(C16>=1,1,0)","v":1},null,"Bahasa Indonesia",2,{"$f":"HLOOKUP(A17&$A$5,TABNILSM1,6,FALSE)","v":8}]
["IND",{"$f":"IF(C16>=1,1,0)","v":1},null,"Bahasa Indonesia",3,{"$f":"HLOOKUP(A18&$A$6,TABNILSM1,6,FALSE)","v":9}]
["MTK",{"$f":"IF(C19>=1,1,0)","v":1},{"$f":"HLOOKUP(A19&$A$4,TABNILSM1,4,FALSE)","v":4},"Matematika",1,{"$f":"HLOOKUP(A19&$A$4,TABNILSM1,6,FALSE)","v":10}]
["MTK",{"$f":"IF(C19>=1,1,0)","v":1},null,"Matematika",2,{"$f":"HLOOKUP(A20&$A$5,TABNILSM1,6,FALSE)","v":11}]
["MTK",{"$f":"IF(C19>=1,1,0)","v":1},null,"Matematika",3,{"$f":"HLOOKUP(A21&$A$6,TABNILSM1,6,FALSE)","v":12}]
["SJI",{"$f":"IF(C22>=1,1,0)","v":1},{"$f":"HLOOKUP(A22&$A$4,TABNILSM1,4,FALSE)","v":5},"Sejarah Indonesia",1,{"$f":"HLOOKUP(A22&$A$4,TABNILSM1,6,FALSE)","v":13}]
["SJI",{"$f":"IF(C22>=1,1,0)","v":1},null,"Sejarah Indonesia",2,{"$f":"HLOOKUP(A23&$A$5,TABNILSM1,6,FALSE)","v":14}]
["SJI",{"$f":"IF(C22>=1,1,0)","v":1},null,"Sejarah Indonesia",3,{"$f":"HLOOKUP(A24&$A$6,TABNILSM1,6,FALSE)","v":15}]
["ING",{"$f":"IF(C25>=1,1,0)","v":1},{"$f":"HLOOKUP(A25&$A$4,TABNILSM1,4,FALSE)","v":6},"Bahasa Inggris",1,{"$f":"HLOOKUP(A25&$A$4,TABNILSM1,6,FALSE)","v":16}]
["ING",{"$f":"IF(C25>=1,1,0)","v":1},null,"Bahasa Inggris",2,{"$f":"HLOOKUP(A26&$A$5,TABNILSM1,6,FALSE)","v":17}]
["ING",{"$f":"IF(C25>=1,1,0)","v":1},null,"Bahasa Inggris",3,{"$f":"HLOOKUP(A27&$A$6,TABNILSM1,6,FALSE)","v":18}]
["JER",{"$f":"IF(C28>=1,1,0)","v":0},{"$f":"HLOOKUP(A28&$A$4,TABNILSM1,4,FALSE)","v":0},"-",1,{"$f":"HLOOKUP(A28&$A$4,TABNILSM1,6,FALSE)","v":19}]
["JER",0,null,"-",2,{"$f":"HLOOKUP(A29&$A$5,TABNILSM1,6,FALSE)","v":20}]
["JER",{"$f":"IF(C28>=1,1,0)","v":0},null,"-",3,{"$f":"HLOOKUP(A30&$A$6,TABNILSM1,6,FALSE)","v":21}]
[null,{"$f":"IF(AND(COUNT(C31)=0,C35=0),0,1)","v":1},"B. Muatan Kewilayahan"]
["SBD",{"$f":"IF(C32>=1,1,0)","v":1},{"$f":"HLOOKUP(A32&$A$4,TABNILSM1,4,FALSE)","v":7},{"$f":"HLOOKUP(A32&$A$4,TABNILSM1,2,FALSE)","v":"Seni Budaya"},1,{"$f":"HLOOKUP(A32&$A$4,TABNILSM1,6,FALSE)","v":22}]
["SBD",{"$f":"IF(C32>=1,1,0)","v":1},null,"Seni Budaya",2,{"$f":"HLOOKUP(A33&$A$5,TABNILSM1,6,FALSE)","v":23}]
["SBD",{"$f":"IF(C32>=1,1,0)","v":1},null,"Seni Budaya",3,{"$f":"HLOOKUP(A34&$A$6,TABNILSM1,6,FALSE)","v":24}]
["PJO",1,{"$f":"HLOOKUP(A35&$A$4,TABNILSM1,4,FALSE)","v":8},"Pendidikan Jasmani, Olahraga dan Kesehatan",1,{"$f":"HLOOKUP(A35&$A$4,TABNILSM1,6,FALSE)","v":25}]
["PJO",1,null,"Pendidikan Jasmani, Olahraga dan Kesehatan",2,{"$f":"HLOOKUP(A36&$A$5,TABNILSM1,6,FALSE)","v":26}]
["PJO",1,null,"Pendidikan Jasmani, Olahraga dan Kesehatan",3,{"$f":"HLOOKUP(A37&$A$6,TABNILSM1,6,FALSE)","v":27}]
["-",1,"C. Muatan Peminatan Kejuruan"]
[null,{"$f":"IF(AND(COUNT(C39)=0,C40=0),0,1)","v":1},"C1","Dasar Bidang Keahlian"]
["SKD",{"$f":"IF(C40>=1,1,0)","v":1},{"$f":"HLOOKUP(A40&$A$4,TABNILSM1,4,FALSE)","v":9},{"$f":"HLOOKUP(A40&$A$4,TABNILSM1,2,FALSE)","v":"Simulasi dan Komunikasi Digital"},1,{"$f":"HLOOKUP(A40&$A$4,TABNILSM1,6,FALSE)","v":28}]
["SKD",{"$f":"IF(C40>=1,1,0)","v":1},null,"Simulasi dan Komunikasi Digital",2,{"$f":"HLOOKUP(A41&$A$5,TABNILSM1,6,FALSE)","v":29}]
["SKD",{"$f":"IF(C40>=1,1,0)","v":1},null,"Simulasi dan Komunikasi Digital",3,{"$f":"HLOOKUP(A42&$A$6,TABNILSM1,6,FALSE)","v":30}]
["FIS",1,{"$f":"HLOOKUP(A43&$A$4,TABNILSM1,4,FALSE)","v":10},"Fisika",1,{"$f":"HLOOKUP(A43&$A$4,TABNILSM1,6,FALSE)","v":31}]
["FIS",1,null,"Fisika",2,{"$f":"HLOOKUP(A44&$A$5,TABNILSM1,6,FALSE)","v":32}]
["FIS",1,null,"Fisika",3,{"$f":"HLOOKUP(A45&$A$6,TABNILSM1,6,FALSE)","v":33}]
["KIM",1,{"$f":"HLOOKUP(A46&$A$4,TABNILSM1,4,FALSE)","v":11},"Kimia",1,{"$f":"HLOOKUP(A46&$A$4,TABNILSM1,6,FALSE)","v":34}]
["KIM",1,null,"Kimia",2,{"$f":"HLOOKUP(A47&$A$5,TABNILSM1,6,FALSE)","v":35}]
["KIM",1,null,"Kimia",3,{"$f":"HLOOKUP(A48&$A$6,TABNILSM1,6,FALSE)","v":36}]
[null,{"$f":"IF(AND(COUNT(C49)=0,C50=0),0,1)","v":1},"C2","Dasar Program Keahlian",null,null,null,null,null,null,null,null,null,null,null,null,{"$f":"VLOOKUP($R$13,TAB_BIODATA,BIODATA!C4,FALSE)","v":"ADAM ADIYAT HARTANTO"}]
["C21",{"$f":"IF(C50>=1,1,0)","v":1},{"$f":"HLOOKUP(A50&$A$4,TABNILSM1,4,FALSE)","v":12},{"$f":"HLOOKUP(A50&$A$4,TABNILSM1,2,FALSE)","v":"Gambar Teknik Otomotif"},1,{"$f":"HLOOKUP(A50&$A$4,TABNILSM1,6,FALSE)","v":37}]
["C21",{"$f":"IF(C50>=1,1,0)","v":1},null,"Gambar Teknik Otomotif",2,{"$f":"HLOOKUP(A51&$A$5,TABNILSM1,6,FALSE)","v":38},null,null,null,null,null,null,null,null,null,null,{"$f":"\"Nomor Urut \"&R13","v":"Nomor Urut 1"}]
["C21",{"$f":"IF(C50>=1,1,0)","v":1},null,"Gambar Teknik Otomotif",3,{"$f":"HLOOKUP(A52&$A$6,TABNILSM1,6,FALSE)","v":39}]
["C22",1,{"$f":"HLOOKUP(A53&$A$4,TABNILSM1,4,FALSE)","v":13},"Teknologi Dasar Otomotif",1,{"$f":"HLOOKUP(A53&$A$4,TABNILSM1,6,FALSE)","v":40}]
["C22",1,null,"Teknologi Dasar Otomotif",2,{"$f":"HLOOKUP(A54&$A$5,TABNILSM1,6,FALSE)","v":41}]
["C22",1,null,"Teknologi Dasar Otomotif",3,{"$f":"HLOOKUP(A55&$A$6,TABNILSM1,6,FALSE)","v":42}]
["C23",1,{"$f":"HLOOKUP(A56&$A$4,TABNILSM1,4,FALSE)","v":14},"Pekerjaan Dasar Teknik Otomotif",1,{"$f":"HLOOKUP(A56&$A$4,TABNILSM1,6,FALSE)","v":43}]
["C23",1,null,"Pekerjaan Dasar Teknik Otomotif",2,{"$f":"HLOOKUP(A57&$A$5,TABNILSM1,6,FALSE)","v":44}]
["C23",1,null,"Pekerjaan Dasar Teknik Otomotif",3,{"$f":"HLOOKUP(A58&$A$6,TABNILSM1,6,FALSE)","v":45}]
["C24",0,{"$f":"HLOOKUP(A59&$A$4,TABNILSM1,4,FALSE)","v":0},"-",1,{"$f":"HLOOKUP(A59&$A$4,TABNILSM1,6,FALSE)","v":46}]
["C24",0,null,"-",2,{"$f":"HLOOKUP(A60&$A$5,TABNILSM1,6,FALSE)","v":47}]
["C24",0,null,"-",3,{"$f":"HLOOKUP(A61&$A$6,TABNILSM1,6,FALSE)","v":48}]
["-",{"$f":"IF(AND(COUNT(C62)=0,C69=0),0,1)","v":0},"C3","Kompetensi Keahlian"]
["C31",{"$f":"IF(C63>=1,1,0)","v":0},{"$f":"HLOOKUP(A63&$A$4,TABNILSM1,4,FALSE)","v":0},{"$f":"HLOOKUP(A63&$A$4,TABNILSM1,2,FALSE)","v":"-"},1,{"$f":"HLOOKUP(A63&$A$4,TABNILSM1,6,FALSE)","v":49}]
["C31",{"$f":"IF(C63>=1,1,0)","v":0},null,"-",2,{"$f":"HLOOKUP(A64&$A$5,TABNILSM1,6,FALSE)","v":50}]
["C31",{"$f":"IF(C63>=1,1,0)","v":0},null,"-",3,{"$f":"HLOOKUP(A65&$A$6,TABNILSM1,6,FALSE)","v":51}]
["C32",0,{"$f":"HLOOKUP(A66&$A$4,TABNILSM1,4,FALSE)","v":0},"-",1,{"$f":"HLOOKUP(A66&$A$4,TABNILSM1,6,FALSE)","v":52}]
["C32",0,null,"-",2,{"$f":"HLOOKUP(A67&$A$5,TABNILSM1,6,FALSE)","v":53}]
["C32",0,null,"-",3,{"$f":"HLOOKUP(A68&$A$6,TABNILSM1,6,FALSE)","v":54}]
["C33",0,{"$f":"HLOOKUP(A69&$A$4,TABNILSM1,4,FALSE)","v":0},"-",1,{"$f":"HLOOKUP(A69&$A$4,TABNILSM1,6,FALSE)","v":55}]
["C33",0,null,"-",2,{"$f":"HLOOKUP(A70&$A$5,TABNILSM1,6,FALSE)","v":56}]
["C33",0,null,"-",3,{"$f":"HLOOKUP(A71&$A$6,TABNILSM1,6,FALSE)","v":57}]
["C34",0,{"$f":"HLOOKUP(A72&$A$4,TABNILSM1,4,FALSE)","v":0},"-",1,{"$f":"HLOOKUP(A72&$A$4,TABNILSM1,6,FALSE)","v":58}]
["C34",0,null,"-",2,{"$f":"HLOOKUP(A73&$A$5,TABNILSM1,6,FALSE)","v":59}]
["C34",0,null,"-",3,{"$f":"HLOOKUP(A74&$A$6,TABNILSM1,6,FALSE)","v":60}]
["C35",0,{"$f":"HLOOKUP(A75&$A$4,TABNILSM1,4,FALSE)","v":0},"-",1,{"$f":"HLOOKUP(A75&$A$4,TABNILSM1,6,FALSE)","v":61}]
["C35",0,null,"-",2,{"$f":"HLOOKUP(A76&$A$5,TABNILSM1,6,FALSE)","v":62}]
["C35",0,null,"-",3,{"$f":"HLOOKUP(A77&$A$6,TABNILSM1,6,FALSE)","v":63}]
["C36",0,{"$f":"HLOOKUP(A78&$A$4,TABNILSM1,4,FALSE)","v":0},"-",1,{"$f":"HLOOKUP(A78&$A$4,TABNILSM1,6,FALSE)","v":64}]
["C36",0,null,"-",2,{"$f":"HLOOKUP(A79&$A$5,TABNILSM1,6,FALSE)","v":65}]
["C36",0,null,"-",3,{"$f":"HLOOKUP(A80&$A$6,TABNILSM1,6,FALSE)","v":66}]
[null,{"$f":"IF(AND(COUNT(C81)=0,C82=0),0,1)","v":1},"Muatan Lokal"]
["SUN",{"$f":"IF(C82>=1,1,0)","v":1},{"$f":"HLOOKUP(A82&$A$4,TABNILSM1,4,FALSE)","v":15},{"$f":"HLOOKUP(A82&$A$4,TABNILSM1,2,FALSE)","v":"Bahasa dan Sastra Sunda"},1,{"$f":"HLOOKUP(A82&$A$4,TABNILSM1,6,FALSE)","v":67}]
["SUN",{"$f":"IF(C82>=1,1,0)","v":1},null,"Bahasa dan Sastra Sunda",2,{"$f":"HLOOKUP(A83&$A$5,TABNILSM1,6,FALSE)","v":68}]
["SUN",{"$f":"IF(C82>=1,1,0)","v":1},null,"Bahasa dan Sastra Sunda",3,{"$f":"HLOOKUP(A84&$A$6,TABNILSM1,6,FALSE)","v":69}]
["PLH",{"$f":"IF(C85>=1,1,0)","v":1},{"$f":"HLOOKUP(A85&$A$4,TABNILSM1,4,FALSE)","v":16},"PLH",1,{"$f":"HLOOKUP(A85&$A$4,TABNILSM1,6,FALSE)","v":70}]
["PLH",1,null,"PLH",2,{"$f":"HLOOKUP(A86&$A$5,TABNILSM1,6,FALSE)","v":71}]
["PLH",{"$f":"IF(C85>=1,1,0)","v":1},null,"PLH",3,{"$f":"HLOOKUP(A87&$A$6,TABNILSM1,6,FALSE)","v":72}]

{"sheet":"CETKD2","index":17,"n_rows":87,"n_cols":20,"rows_kept":87,"cut":false,"hidden":false,"merged":[[84,2,86,2],[84,5,84,11],[85,5,85,11],[86,5,86,11],[77,2,79,2],[77,5,77,11],[78,5,78,11],[79,5,79,11],[80,2,80,3],[81,2,83,2],[81,5,81,11],[82,5,82,11],[83,5,83,11],[71,2,73,2],[71,5,71,11],[72,5,72,11],[73,5,73,11],[74,2,76,2],[74,5,74,11],[75,5,75,11],[76,5,76,11],[65,2,67,2],[65,5,65,11],[66,5,66,11],[67,5,67,11],[68,2,70,2],[68,5,68,11],[69,5,69,11],[70,5,70,11],[58,2,60,2],[58,5,58,11],[59,5,59,11],[60,5,60,11],[62,2,64,2],[62,5,62,11],[63,5,63,11],[64,5,64,11],[52,2,54,2],[52,5,52,11],[53,5,53,11],[54,5,54,11],[55,2,57,2],[55,5,55,11],[56,5,56,11],[57,5,57,11],[48,3,48,5],[48,16,49,18],[49,2,51,2],[49,5,49,11],[50,5,50,11],[50,16,51,18],[51,5,51,11],[42,2,44,2],[42,5,42,11],[43,5,43,11],[44,5,44,11],[45,2,47,2],[45,5,45,11],[46,5,46,11],[47,5,47,11],[37,2,37,5],[38,3,38,5],[39,2,41,2],[39,5,39,11],[40,5,40,11],[41,5,41,11],[30,2,30,3],[31,2,33,2],[31,5,31,11],[32,5,32,11],[33,5,33,11],[34,2,36,2],[34,5,34,11],[35,5,35,11],[36,5,36,11],[27,2,29,2],[27,5,27,11],[28,5,28,11],[29,5,29,11],[18,2,20,2],[18,5,18,11],[19,5,19,11],[20,5,20,11],[21,2,23,2],[21,5,21,11],[22,5,22,11],[23,5,23,11],[15,2,17,2],[15,5,15,11],[16,5,16,11],[17,5,17,11],[7,5,7,11],[24,2,26,2],[24,5,24,11],[25,5,25,11],[26,5,26,11],[9,2,11,2],[9,5,9,11],[10,5,10,11],[11,5,11,11],[11,16,11,17],[12,2,14,2],[12,5,12,11],[13,5,13,11],[14,5,14,11],[0,2,0,11],[4,16,4,17],[4,18,4,19],[5,16,6,16],[5,17,6,17],[5,18,6,18],[5,19,6,19],[7,16,8,16],[7,17,8,17],[7,18,8,18],[7,19,8,19]]}
[null,null,"DAFTAR TOPIK PER KOMPETENSI DASAR",null,null,null,null,null,null,null,null,null,null,null,null,null,"JURUSAN",{"$f":"MENU!F8","v":"TBSM"}]
[null,null,null,null,null,null,null,null,null,null,null,null,null,null,null,null,"NIS",{"$f":"VLOOKUP($R$13,TAB_BIODATA,BIODATA!D4,FALSE)","v":16170535}]
[null,null,null,"Bidang Keahlian",":",{"$f":"VLOOKUP($R$1,TAB_JURUSAN,2,FALSE)","v":"Teknologi dan Rekayasa"}]
["T1",null,null,"Program Keahlian",":",{"$f":"VLOOKUP($R$1,TAB_JURUSAN,3,FALSE)","v":"Teknik Otomotif"}]
["T2",null,null,"Kompetensi Keahlian",":",{"$f":"VLOOKUP($R$1,TAB_JURUSAN,4,FALSE)","v":"Teknik dan Bisnis Sepeda Motor"},null,null,null,null,null,null,null,null,null,null,"DATA CETAK",null,"HALAMAN CETAK"]
["T3",null,null,"Semester",":",{"$f":"NILSM2!B3","v":"2 (dua)"},null,null,null,null,null,null,null,null,null,null,"Dari data ke",1,"Dari",1]
[]
[null,1,"No.","Mata Pelajaran","KD","Nama Topik",null,null,null,null,null,null,null,null,null,null,"Sampai data ke",2,"Ke",1]
[null,1,"A. Muatan Nasional",null,null,"T1","U1","T2","U2","T3","U3","H"]
["PAB",{"$f":"IF(C10>=1,1,0)","v":1},{"$f":"HLOOKUP(A10&$A$4,TABNILSM2,4,FALSE)","v":1},{"$f":"HLOOKUP(A10&$A$4,TABNILSM2,2,FALSE)","v":"Pendidikan Agama dan Budi Pekerti"},1,{"$f":"HLOOKUP(A10&$A$4,TABNILSM2,6,FALSE)","v":"Shalat"}]
["PAB",{"$f":"IF(C10>=1,1,0)","v":1},null,"Pendidikan Agama dan Budi Pekerti",2,{"$f":"HLOOKUP(A11&$A$5,TABNILSM2,6,FALSE)","v":"Zakat"}]
["PAB",{"$f":"IF(C10>=1,1,0)","v":1},null,"Pendidikan Agama dan Budi Pekerti",3,{"$f":"HLOOKUP(A12&$A$6,TABNILSM2,6,FALSE)","v":3},null,null,null,null,null,null,null,null,null,null,"TAMPILAN DATA"]
["PKN",{"$f":"IF(C13>=1,1,0)","v":1},{"$f":"HLOOKUP(A13&$A$4,TABNILSM2,4,FALSE)","v":2},"Pendidikan Pancasila dan Kewarganegaraan",1,{"$f":"HLOOKUP(A13&$A$4,TABNILSM2,6,FALSE)","v":4},null,null,null,null,null,null,null,null,null,null,"Nomor Urut",1]
["PKN",{"$f":"IF(C13>=1,1,0)","v":1},null,"Pendidikan Pancasila dan Kewarganegaraan",2,{"$f":"HLOOKUP(A14&$A$5,TABNILSM2,6,FALSE)","v":5}]
["PKN",{"$f":"IF(C13>=1,1,0)","v":1},null,"Pendidikan Pancasila dan Kewarganegaraan",3,{"$f":"HLOOKUP(A15&$A$6,TABNILSM2,6,FALSE)","v":6}]
["IND",{"$f":"IF(C16>=1,1,0)","v":1},{"$f":"HLOOKUP(A16&$A$4,TABNILSM2,4,FALSE)","v":3},"Bahasa Indonesia",1,{"$f":"HLOOKUP(A16&$A$4,TABNILSM2,6,FALSE)","v":7}]
["IND",{"$f":"IF(C16>=1,1,0)","v":1},null,"Bahasa Indonesia",2,{"$f":"HLOOKUP(A17&$A$5,TABNILSM2,6,FALSE)","v":8}]
["IND",{"$f":"IF(C16>=1,1,0)","v":1},null,"Bahasa Indonesia",3,{"$f":"HLOOKUP(A18&$A$6,TABNILSM2,6,FALSE)","v":9}]
["MTK",{"$f":"IF(C19>=1,1,0)","v":1},{"$f":"HLOOKUP(A19&$A$4,TABNILSM2,4,FALSE)","v":4},"Matematika",1,{"$f":"HLOOKUP(A19&$A$4,TABNILSM2,6,FALSE)","v":10}]
["MTK",{"$f":"IF(C19>=1,1,0)","v":1},null,"Matematika",2,{"$f":"HLOOKUP(A20&$A$5,TABNILSM2,6,FALSE)","v":11}]
["MTK",{"$f":"IF(C19>=1,1,0)","v":1},null,"Matematika",3,{"$f":"HLOOKUP(A21&$A$6,TABNILSM2,6,FALSE)","v":12}]
["SJI",{"$f":"IF(C22>=1,1,0)","v":1},{"$f":"HLOOKUP(A22&$A$4,TABNILSM2,4,FALSE)","v":5},"Sejarah Indonesia",1,{"$f":"HLOOKUP(A22&$A$4,TABNILSM2,6,FALSE)","v":13}]
["SJI",{"$f":"IF(C22>=1,1,0)","v":1},null,"Sejarah Indonesia",2,{"$f":"HLOOKUP(A23&$A$5,TABNILSM2,6,FALSE)","v":14}]
["SJI",{"$f":"IF(C22>=1,1,0)","v":1},null,"Sejarah Indonesia",3,{"$f":"HLOOKUP(A24&$A$6,TABNILSM2,6,FALSE)","v":15}]
["ING",{"$f":"IF(C25>=1,1,0)","v":1},{"$f":"HLOOKUP(A25&$A$4,TABNILSM2,4,FALSE)","v":6},"Bahasa Inggris",1,{"$f":"HLOOKUP(A25&$A$4,TABNILSM2,6,FALSE)","v":16}]
["ING",{"$f":"IF(C25>=1,1,0)","v":1},null,"Bahasa Inggris",2,{"$f":"HLOOKUP(A26&$A$5,TABNILSM2,6,FALSE)","v":17}]
["ING",{"$f":"IF(C25>=1,1,0)","v":1},null,"Bahasa Inggris",3,{"$f":"HLOOKUP(A27&$A$6,TABNILSM2,6,FALSE)","v":18}]
["JER",{"$f":"IF(C28>=1,1,0)","v":0},{"$f":"HLOOKUP(A28&$A$4,TABNILSM2,4,FALSE)","v":0},"-",1,{"$f":"HLOOKUP(A28&$A$4,TABNILSM2,6,FALSE)","v":19}]
["JER",0,null,"-",2,{"$f":"HLOOKUP(A29&$A$5,TABNILSM2,6,FALSE)","v":20}]
["JER",{"$f":"IF(C28>=1,1,0)","v":0},null,"-",3,{"$f":"HLOOKUP(A30&$A$6,TABNILSM2,6,FALSE)","v":21}]
[null,{"$f":"IF(AND(COUNT(C31)=0,C35=0),0,1)","v":1},"B. Muatan Kewilayahan"]
["SBD",{"$f":"IF(C32>=1,1,0)","v":1},{"$f":"HLOOKUP(A32&$A$4,TABNILSM2,4,FALSE)","v":7},{"$f":"HLOOKUP(A32&$A$4,TABNILSM2,2,FALSE)","v":"Seni Budaya"},1,{"$f":"HLOOKUP(A32&$A$4,TABNILSM2,6,FALSE)","v":22}]
["SBD",{"$f":"IF(C32>=1,1,0)","v":1},null,"Seni Budaya",2,{"$f":"HLOOKUP(A33&$A$5,TABNILSM2,6,FALSE)","v":23}]
["SBD",{"$f":"IF(C32>=1,1,0)","v":1},null,"Seni Budaya",3,{"$f":"HLOOKUP(A34&$A$6,TABNILSM2,6,FALSE)","v":24}]
["PJO",1,{"$f":"HLOOKUP(A35&$A$4,TABNILSM2,4,FALSE)","v":8},"Pendidikan Jasmani, Olahraga dan Kesehatan",1,{"$f":"HLOOKUP(A35&$A$4,TABNILSM2,6,FALSE)","v":25}]
["PJO",1,null,"Pendidikan Jasmani, Olahraga dan Kesehatan",2,{"$f":"HLOOKUP(A36&$A$5,TABNILSM2,6,FALSE)","v":26}]
["PJO",1,null,"Pendidikan Jasmani, Olahraga dan Kesehatan",3,{"$f":"HLOOKUP(A37&$A$6,TABNILSM2,6,FALSE)","v":27}]
["-",1,"C. Muatan Peminatan Kejuruan"]
[null,{"$f":"IF(AND(COUNT(C39)=0,C40=0),0,1)","v":1},"C1","Dasar Bidang Keahlian"]
["SKD",{"$f":"IF(C40>=1,1,0)","v":1},{"$f":"HLOOKUP(A40&$A$4,TABNILSM2,4,FALSE)","v":9},{"$f":"HLOOKUP(A40&$A$4,TABNILSM2,2,FALSE)","v":"Simulasi dan Komunikasi Digital"},1,{"$f":"HLOOKUP(A40&$A$4,TABNILSM2,6,FALSE)","v":28}]
["SKD",{"$f":"IF(C40>=1,1,0)","v":1},null,"Simulasi dan Komunikasi Digital",2,{"$f":"HLOOKUP(A41&$A$5,TABNILSM2,6,FALSE)","v":29}]
["SKD",{"$f":"IF(C40>=1,1,0)","v":1},null,"Simulasi dan Komunikasi Digital",3,{"$f":"HLOOKUP(A42&$A$6,TABNILSM2,6,FALSE)","v":30}]
["FIS",1,{"$f":"HLOOKUP(A43&$A$4,TABNILSM2,4,FALSE)","v":10},"Fisika",1,{"$f":"HLOOKUP(A43&$A$4,TABNILSM2,6,FALSE)","v":31}]
["FIS",1,null,"Fisika",2,{"$f":"HLOOKUP(A44&$A$5,TABNILSM2,6,FALSE)","v":32}]
["FIS",1,null,"Fisika",3,{"$f":"HLOOKUP(A45&$A$6,TABNILSM2,6,FALSE)","v":33}]
["KIM",1,{"$f":"HLOOKUP(A46&$A$4,TABNILSM2,4,FALSE)","v":11},"Kimia",1,{"$f":"HLOOKUP(A46&$A$4,TABNILSM2,6,FALSE)","v":34}]
["KIM",1,null,"Kimia",2,{"$f":"HLOOKUP(A47&$A$5,TABNILSM2,6,FALSE)","v":35}]
["KIM",1,null,"Kimia",3,{"$f":"HLOOKUP(A48&$A$6,TABNILSM2,6,FALSE)","v":36}]
[null,{"$f":"IF(AND(COUNT(C49)=0,C50=0),0,1)","v":1},"C2","Dasar Program Keahlian",null,null,null,null,null,null,null,null,null,null,null,null,{"$f":"VLOOKUP($R$13,TAB_BIODATA,BIODATA!C4,FALSE)","v":"ADAM ADIYAT HARTANTO"}]
["C21",{"$f":"IF(C50>=1,1,0)","v":1},{"$f":"HLOOKUP(A50&$A$4,TABNILSM2,4,FALSE)","v":12},{"$f":"HLOOKUP(A50&$A$4,TABNILSM2,2,FALSE)","v":"Gambar Teknik Otomotif"},1,{"$f":"HLOOKUP(A50&$A$4,TABNILSM2,6,FALSE)","v":37}]
["C21",{"$f":"IF(C50>=1,1,0)","v":1},null,"Gambar Teknik Otomotif",2,{"$f":"HLOOKUP(A51&$A$5,TABNILSM2,6,FALSE)","v":38},null,null,null,null,null,null,null,null,null,null,{"$f":"\"Nomor Urut \"&R13","v":"Nomor Urut 1"}]
["C21",{"$f":"IF(C50>=1,1,0)","v":1},null,"Gambar Teknik Otomotif",3,{"$f":"HLOOKUP(A52&$A$6,TABNILSM2,6,FALSE)","v":39}]
["C22",1,{"$f":"HLOOKUP(A53&$A$4,TABNILSM2,4,FALSE)","v":13},"Teknologi Dasar Otomotif",1,{"$f":"HLOOKUP(A53&$A$4,TABNILSM2,6,FALSE)","v":40}]
["C22",1,null,"Teknologi Dasar Otomotif",2,{"$f":"HLOOKUP(A54&$A$5,TABNILSM2,6,FALSE)","v":41}]
["C22",1,null,"Teknologi Dasar Otomotif",3,{"$f":"HLOOKUP(A55&$A$6,TABNILSM2,6,FALSE)","v":42}]
["C23",1,{"$f":"HLOOKUP(A56&$A$4,TABNILSM2,4,FALSE)","v":14},"Pekerjaan Dasar Teknik Otomotif",1,{"$f":"HLOOKUP(A56&$A$4,TABNILSM2,6,FALSE)","v":43}]
["C23",1,null,"Pekerjaan Dasar Teknik Otomotif",2,{"$f":"HLOOKUP(A57&$A$5,TABNILSM2,6,FALSE)","v":44}]
["C23",1,null,"Pekerjaan Dasar Teknik Otomotif",3,{"$f":"HLOOKUP(A58&$A$6,TABNILSM2,6,FALSE)","v":45}]
["C24",0,{"$f":"HLOOKUP(A59&$A$4,TABNILSM2,4,FALSE)","v":0},"-",1,{"$f":"HLOOKUP(A59&$A$4,TABNILSM2,6,FALSE)","v":46}]
["C24",0,null,"-",2,{"$f":"HLOOKUP(A60&$A$5,TABNILSM2,6,FALSE)","v":47}]
["C24",0,null,"-",3,{"$f":"HLOOKUP(A61&$A$6,TABNILSM2,6,FALSE)","v":48}]
["-",{"$f":"IF(AND(COUNT(C62)=0,C69=0),0,1)","v":0},"C3","Kompetensi Keahlian"]
["C31",{"$f":"IF(C63>=1,1,0)","v":0},{"$f":"HLOOKUP(A63&$A$4,TABNILSM2,4,FALSE)","v":0},{"$f":"HLOOKUP(A63&$A$4,TABNILSM2,2,FALSE)","v":"-"},1,{"$f":"HLOOKUP(A63&$A$4,TABNILSM2,6,FALSE)","v":49}]
["C31",{"$f":"IF(C63>=1,1,0)","v":0},null,"-",2,{"$f":"HLOOKUP(A64&$A$5,TABNILSM2,6,FALSE)","v":50}]
["C31",{"$f":"IF(C63>=1,1,0)","v":0},null,"-",3,{"$f":"HLOOKUP(A65&$A$6,TABNILSM2,6,FALSE)","v":51}]
["C32",0,{"$f":"HLOOKUP(A66&$A$4,TABNILSM2,4,FALSE)","v":0},"-",1,{"$f":"HLOOKUP(A66&$A$4,TABNILSM2,6,FALSE)","v":52}]
["C32",0,null,"-",2,{"$f":"HLOOKUP(A67&$A$5,TABNILSM2,6,FALSE)","v":53}]
["C32",0,null,"-",3,{"$f":"HLOOKUP(A68&$A$6,TABNILSM2,6,FALSE)","v":54}]
["C33",0,{"$f":"HLOOKUP(A69&$A$4,TABNILSM2,4,FALSE)","v":0},"-",1,{"$f":"HLOOKUP(A69&$A$4,TABNILSM2,6,FALSE)","v":55}]
["C33",0,null,"-",2,{"$f":"HLOOKUP(A70&$A$5,TABNILSM2,6,FALSE)","v":56}]
["C33",0,null,"-",3,{"$f":"HLOOKUP(A71&$A$6,TABNILSM2,6,FALSE)","v":57}]
["C34",0,{"$f":"HLOOKUP(A72&$A$4,TABNILSM2,4,FALSE)","v":0},"-",1,{"$f":"HLOOKUP(A72&$A$4,TABNILSM2,6,FALSE)","v":58}]
["C34",0,null,"-",2,{"$f":"HLOOKUP(A73&$A$5,TABNILSM2,6,FALSE)","v":59}]
["C34",0,null,"-",3,{"$f":"HLOOKUP(A74&$A$6,TABNILSM2,6,FALSE)","v":60}]
["C35",0,{"$f":"HLOOKUP(A75&$A$4,TABNILSM2,4,FALSE)","v":0},"-",1,{"$f":"HLOOKUP(A75&$A$4,TABNILSM2,6,FALSE)","v":61}]
["C35",0,null,"-",2,{"$f":"HLOOKUP(A76&$A$5,TABNILSM2,6,FALSE)","v":62}]
["C35",0,null,"-",3,{"$f":"HLOOKUP(A77&$A$6,TABNILSM2,6,FALSE)","v":63}]
["C36",0,{"$f":"HLOOKUP(A78&$A$4,TABNILSM2,4,FALSE)","v":0},"-",1,{"$f":"HLOOKUP(A78&$A$4,TABNILSM2,6,FALSE)","v":64}]
["C36",0,null,"-",2,{"$f":"HLOOKUP(A79&$A$5,TABNILSM2,6,FALSE)","v":65}]
["C36",0,null,"-",3,{"$f":"HLOOKUP(A80&$A$6,TABNILSM2,6,FALSE)","v":66}]
[null,{"$f":"IF(AND(COUNT(C81)=0,C82=0),0,1)","v":1},"Muatan Lokal"]
["SUN",{"$f":"IF(C82>=1,1,0)","v":1},{"$f":"HLOOKUP(A82&$A$4,TABNILSM2,4,FALSE)","v":15},{"$f":"HLOOKUP(A82&$A$4,TABNILSM2,2,FALSE)","v":"Bahasa dan Sastra Sunda"},1,{"$f":"HLOOKUP(A82&$A$4,TABNILSM2,6,FALSE)","v":67}]
["SUN",{"$f":"IF(C82>=1,1,0)","v":1},null,"Bahasa dan Sastra Sunda",2,{"$f":"HLOOKUP(A83&$A$5,TABNILSM2,6,FALSE)","v":68}]
["SUN",{"$f":"IF(C82>=1,1,0)","v":1},null,"Bahasa dan Sastra Sunda",3,{"$f":"HLOOKUP(A84&$A$6,TABNILSM2,6,FALSE)","v":69}]
["PLH",{"$f":"IF(C85>=1,1,0)","v":1},{"$f":"HLOOKUP(A85&$A$4,TABNILSM2,4,FALSE)","v":16},"PLH",1,{"$f":"HLOOKUP(A85&$A$4,TABNILSM2,6,FALSE)","v":70}]
["PLH",1,null,"PLH",2,{"$f":"HLOOKUP(A86&$A$5,TABNILSM2,6,FALSE)","v":71}]
["PLH",{"$f":"IF(C85>=1,1,0)","v":1},null,"PLH",3,{"$f":"HLOOKUP(A87&$A$6,TABNILSM2,6,FALSE)","v":72}]

{"sheet":"CETKD3","index":18,"n_rows":87,"n_cols":20,"rows_kept":87,"cut":false,"hidden":false,"merged":[[84,2,86,2],[84,5,84,11],[85,5,85,11],[86,5,86,11],[77,2,79,2],[77,5,77,11],[78,5,78,11],[79,5,79,11],[80,2,80,3],[81,2,83,2],[81,5,81,11],[82,5,82,11],[83,5,83,11],[71,2,73,2],[71,5,71,11],[72,5,72,11],[73,5,73,11],[74,2,76,2],[74,5,74,11],[75,5,75,11],[76,5,76,11],[65,2,67,2],[65,5,65,11],[66,5,66,11],[67,5,67,11],[68,2,70,2],[68,5,68,11],[69,5,69,11],[70,5,70,11],[58,2,60,2],[58,5,58,11],[59,5,59,11],[60,5,60,11],[62,2,64,2],[62,5,62,11],[63,5,63,11],[64,5,64,11],[52,2,54,2],[52,5,52,11],[53,5,53,11],[54,5,54,11],[55,2,57,2],[55,5,55,11],[56,5,56,11],[57,5,57,11],[48,3,48,5],[48,16,49,18],[49,2,51,2],[49,5,49,11],[50,5,50,11],[50,16,51,18],[51,5,51,11],[42,2,44,2],[42,5,42,11],[43,5,43,11],[44,5,44,11],[45,2,47,2],[45,5,45,11],[46,5,46,11],[47,5,47,11],[37,2,37,5],[38,3,38,5],[39,2,41,2],[39,5,39,11],[40,5,40,11],[41,5,41,11],[30,2,30,3],[31,2,33,2],[31,5,31,11],[32,5,32,11],[33,5,33,11],[34,2,36,2],[34,5,34,11],[35,5,35,11],[36,5,36,11],[27,2,29,2],[27,5,27,11],[28,5,28,11],[29,5,29,11],[18,2,20,2],[18,5,18,11],[19,5,19,11],[20,5,20,11],[21,2,23,2],[21,5,21,11],[22,5,22,11],[23,5,23,11],[15,2,17,2],[15,5,15,11],[16,5,16,11],[17,5,17,11],[7,5,7,11],[24,2,26,2],[24,5,24,11],[25,5,25,11],[26,5,26,11],[9,2,11,2],[9,5,9,11],[10,5,10,11],[11,5,11,11],[11,16,11,17],[12,2,14,2],[12,5,12,11],[13,5,13,11],[14,5,14,11],[0,2,0,11],[4,16,4,17],[4,18,4,19],[5,16,6,16],[5,17,6,17],[5,18,6,18],[5,19,6,19],[7,16,8,16],[7,17,8,17],[7,18,8,18],[7,19,8,19]]}
[null,null,"DAFTAR TOPIK PER KOMPETENSI DASAR",null,null,null,null,null,null,null,null,null,null,null,null,null,"JURUSAN",{"$f":"MENU!F8","v":"TBSM"}]
[null,null,null,null,null,null,null,null,null,null,null,null,null,null,null,null,"NIS",{"$f":"VLOOKUP($R$13,TAB_BIODATA,BIODATA!D4,FALSE)","v":16170535}]
[null,null,null,"Bidang Keahlian",":",{"$f":"VLOOKUP($R$1,TAB_JURUSAN,2,FALSE)","v":"Teknologi dan Rekayasa"}]
["T1",null,null,"Program Keahlian",":",{"$f":"VLOOKUP($R$1,TAB_JURUSAN,3,FALSE)","v":"Teknik Otomotif"}]
["T2",null,null,"Kompetensi Keahlian",":",{"$f":"VLOOKUP($R$1,TAB_JURUSAN,4,FALSE)","v":"Teknik dan Bisnis Sepeda Motor"},null,null,null,null,null,null,null,null,null,null,"DATA CETAK",null,"HALAMAN CETAK"]
["T3",null,null,"Semester",":",{"$f":"NILSM3!B3","v":"3 (tiga)"},null,null,null,null,null,null,null,null,null,null,"Dari data ke",1,"Dari",1]
[]
[null,1,"No.","Mata Pelajaran","KD","Nama Topik",null,null,null,null,null,null,null,null,null,null,"Sampai data ke",2,"Ke",1]
[null,1,"A. Muatan Nasional",null,null,"T1","U1","T2","U2","T3","U3","H"]
["PAB",{"$f":"IF(C10>=1,1,0)","v":1},{"$f":"HLOOKUP(A10&$A$4,TABNILSM3,4,FALSE)","v":1},{"$f":"HLOOKUP(A10&$A$4,TABNILSM3,2,FALSE)","v":"Pendidikan Agama dan Budi Pekerti"},1,{"$f":"HLOOKUP(A10&$A$4,TABNILSM3,6,FALSE)","v":"Zakat"}]
["PAB",{"$f":"IF(C10>=1,1,0)","v":1},null,"Pendidikan Agama dan Budi Pekerti",2,{"$f":"HLOOKUP(A11&$A$5,TABNILSM3,6,FALSE)","v":"Puasa"}]
["PAB",{"$f":"IF(C10>=1,1,0)","v":1},null,"Pendidikan Agama dan Budi Pekerti",3,{"$f":"HLOOKUP(A12&$A$6,TABNILSM3,6,FALSE)","v":3},null,null,null,null,null,null,null,null,null,null,"TAMPILAN DATA"]
["PKN",{"$f":"IF(C13>=1,1,0)","v":1},{"$f":"HLOOKUP(A13&$A$4,TABNILSM3,4,FALSE)","v":2},"Pendidikan Pancasila dan Kewarganegaraan",1,{"$f":"HLOOKUP(A13&$A$4,TABNILSM3,6,FALSE)","v":4},null,null,null,null,null,null,null,null,null,null,"Nomor Urut",1]
["PKN",{"$f":"IF(C13>=1,1,0)","v":1},null,"Pendidikan Pancasila dan Kewarganegaraan",2,{"$f":"HLOOKUP(A14&$A$5,TABNILSM3,6,FALSE)","v":5}]
["PKN",{"$f":"IF(C13>=1,1,0)","v":1},null,"Pendidikan Pancasila dan Kewarganegaraan",3,{"$f":"HLOOKUP(A15&$A$6,TABNILSM3,6,FALSE)","v":6}]
["IND",{"$f":"IF(C16>=1,1,0)","v":1},{"$f":"HLOOKUP(A16&$A$4,TABNILSM3,4,FALSE)","v":3},"Bahasa Indonesia",1,{"$f":"HLOOKUP(A16&$A$4,TABNILSM3,6,FALSE)","v":7}]
["IND",{"$f":"IF(C16>=1,1,0)","v":1},null,"Bahasa Indonesia",2,{"$f":"HLOOKUP(A17&$A$5,TABNILSM3,6,FALSE)","v":8}]
["IND",{"$f":"IF(C16>=1,1,0)","v":1},null,"Bahasa Indonesia",3,{"$f":"HLOOKUP(A18&$A$6,TABNILSM3,6,FALSE)","v":9}]
["MTK",{"$f":"IF(C19>=1,1,0)","v":1},{"$f":"HLOOKUP(A19&$A$4,TABNILSM3,4,FALSE)","v":4},"Matematika",1,{"$f":"HLOOKUP(A19&$A$4,TABNILSM3,6,FALSE)","v":10}]
["MTK",{"$f":"IF(C19>=1,1,0)","v":1},null,"Matematika",2,{"$f":"HLOOKUP(A20&$A$5,TABNILSM3,6,FALSE)","v":11}]
["MTK",{"$f":"IF(C19>=1,1,0)","v":1},null,"Matematika",3,{"$f":"HLOOKUP(A21&$A$6,TABNILSM3,6,FALSE)","v":12}]
["SJI",{"$f":"IF(C22>=1,1,0)","v":0},{"$f":"HLOOKUP(A22&$A$4,TABNILSM3,4,FALSE)","v":0},"-",1,{"$f":"HLOOKUP(A22&$A$4,TABNILSM3,6,FALSE)","v":13}]
["SJI",{"$f":"IF(C22>=1,1,0)","v":0},null,"-",2,{"$f":"HLOOKUP(A23&$A$5,TABNILSM3,6,FALSE)","v":14}]
["SJI",{"$f":"IF(C22>=1,1,0)","v":0},null,"-",3,{"$f":"HLOOKUP(A24&$A$6,TABNILSM3,6,FALSE)","v":15}]
["ING",{"$f":"IF(C25>=1,1,0)","v":1},{"$f":"HLOOKUP(A25&$A$4,TABNILSM3,4,FALSE)","v":5},"Bahasa Inggris",1,{"$f":"HLOOKUP(A25&$A$4,TABNILSM3,6,FALSE)","v":16}]
["ING",{"$f":"IF(C25>=1,1,0)","v":1},null,"Bahasa Inggris",2,{"$f":"HLOOKUP(A26&$A$5,TABNILSM3,6,FALSE)","v":17}]
["ING",{"$f":"IF(C25>=1,1,0)","v":1},null,"Bahasa Inggris",3,{"$f":"HLOOKUP(A27&$A$6,TABNILSM3,6,FALSE)","v":18}]
["JER",{"$f":"IF(C28>=1,1,0)","v":0},{"$f":"HLOOKUP(A28&$A$4,TABNILSM3,4,FALSE)","v":0},"-",1,{"$f":"HLOOKUP(A28&$A$4,TABNILSM3,6,FALSE)","v":19}]
["JER",0,null,"-",2,{"$f":"HLOOKUP(A29&$A$5,TABNILSM3,6,FALSE)","v":20}]
["JER",{"$f":"IF(C28>=1,1,0)","v":0},null,"-",3,{"$f":"HLOOKUP(A30&$A$6,TABNILSM3,6,FALSE)","v":21}]
[null,{"$f":"IF(AND(COUNT(C31)=0,C35=0),0,1)","v":1},"B. Muatan Kewilayahan"]
["SBD",{"$f":"IF(C32>=1,1,0)","v":0},{"$f":"HLOOKUP(A32&$A$4,TABNILSM3,4,FALSE)","v":0},{"$f":"HLOOKUP(A32&$A$4,TABNILSM3,2,FALSE)","v":"-"},1,{"$f":"HLOOKUP(A32&$A$4,TABNILSM3,6,FALSE)","v":22}]
["SBD",{"$f":"IF(C32>=1,1,0)","v":0},null,"-",2,{"$f":"HLOOKUP(A33&$A$5,TABNILSM3,6,FALSE)","v":23}]
["SBD",{"$f":"IF(C32>=1,1,0)","v":0},null,"-",3,{"$f":"HLOOKUP(A34&$A$6,TABNILSM3,6,FALSE)","v":24}]
["PJO",1,{"$f":"HLOOKUP(A35&$A$4,TABNILSM3,4,FALSE)","v":6},"Pendidikan Jasmani, Olahraga dan Kesehatan",1,{"$f":"HLOOKUP(A35&$A$4,TABNILSM3,6,FALSE)","v":25}]
["PJO",1,null,"Pendidikan Jasmani, Olahraga dan Kesehatan",2,{"$f":"HLOOKUP(A36&$A$5,TABNILSM3,6,FALSE)","v":26}]
["PJO",1,null,"Pendidikan Jasmani, Olahraga dan Kesehatan",3,{"$f":"HLOOKUP(A37&$A$6,TABNILSM3,6,FALSE)","v":27}]
["-",1,"C. Muatan Peminatan Kejuruan"]
[null,{"$f":"IF(AND(COUNT(C39)=0,C40=0),0,1)","v":0},"C1","Dasar Bidang Keahlian"]
["SKD",{"$f":"IF(C40>=1,1,0)","v":0},{"$f":"HLOOKUP(A40&$A$4,TABNILSM3,4,FALSE)","v":0},{"$f":"HLOOKUP(A40&$A$4,TABNILSM3,2,FALSE)","v":"-"},1,{"$f":"HLOOKUP(A40&$A$4,TABNILSM3,6,FALSE)","v":28}]
["SKD",{"$f":"IF(C40>=1,1,0)","v":0},null,"-",2,{"$f":"HLOOKUP(A41&$A$5,TABNILSM3,6,FALSE)","v":29}]
["SKD",{"$f":"IF(C40>=1,1,0)","v":0},null,"-",3,{"$f":"HLOOKUP(A42&$A$6,TABNILSM3,6,FALSE)","v":30}]
["FIS",0,{"$f":"HLOOKUP(A43&$A$4,TABNILSM3,4,FALSE)","v":0},"-",1,{"$f":"HLOOKUP(A43&$A$4,TABNILSM3,6,FALSE)","v":31}]
["FIS",0,null,"-",2,{"$f":"HLOOKUP(A44&$A$5,TABNILSM3,6,FALSE)","v":32}]
["FIS",0,null,"-",3,{"$f":"HLOOKUP(A45&$A$6,TABNILSM3,6,FALSE)","v":33}]
["KIM",0,{"$f":"HLOOKUP(A46&$A$4,TABNILSM3,4,FALSE)","v":0},"-",1,{"$f":"HLOOKUP(A46&$A$4,TABNILSM3,6,FALSE)","v":34}]
["KIM",0,null,"-",2,{"$f":"HLOOKUP(A47&$A$5,TABNILSM3,6,FALSE)","v":35}]
["KIM",0,null,"-",3,{"$f":"HLOOKUP(A48&$A$6,TABNILSM3,6,FALSE)","v":36}]
[null,{"$f":"IF(AND(COUNT(C49)=0,C50=0),0,1)","v":0},"C2","Dasar Program Keahlian",null,null,null,null,null,null,null,null,null,null,null,null,{"$f":"VLOOKUP($R$13,TAB_BIODATA,BIODATA!C4,FALSE)","v":"ADAM ADIYAT HARTANTO"}]
["C21",{"$f":"IF(C50>=1,1,0)","v":0},{"$f":"HLOOKUP(A50&$A$4,TABNILSM3,4,FALSE)","v":0},{"$f":"HLOOKUP(A50&$A$4,TABNILSM3,2,FALSE)","v":"-"},1,{"$f":"HLOOKUP(A50&$A$4,TABNILSM3,6,FALSE)","v":37}]
["C21",{"$f":"IF(C50>=1,1,0)","v":0},null,"-",2,{"$f":"HLOOKUP(A51&$A$5,TABNILSM3,6,FALSE)","v":38},null,null,null,null,null,null,null,null,null,null,{"$f":"\"Nomor Urut \"&R13","v":"Nomor Urut 1"}]
["C21",{"$f":"IF(C50>=1,1,0)","v":0},null,"-",3,{"$f":"HLOOKUP(A52&$A$6,TABNILSM3,6,FALSE)","v":39}]
["C22",0,{"$f":"HLOOKUP(A53&$A$4,TABNILSM3,4,FALSE)","v":0},"-",1,{"$f":"HLOOKUP(A53&$A$4,TABNILSM3,6,FALSE)","v":40}]
["C22",0,null,"-",2,{"$f":"HLOOKUP(A54&$A$5,TABNILSM3,6,FALSE)","v":41}]
["C22",0,null,"-",3,{"$f":"HLOOKUP(A55&$A$6,TABNILSM3,6,FALSE)","v":42}]
["C23",0,{"$f":"HLOOKUP(A56&$A$4,TABNILSM3,4,FALSE)","v":0},"-",1,{"$f":"HLOOKUP(A56&$A$4,TABNILSM3,6,FALSE)","v":43}]
["C23",0,null,"-",2,{"$f":"HLOOKUP(A57&$A$5,TABNILSM3,6,FALSE)","v":44}]
["C23",0,null,"-",3,{"$f":"HLOOKUP(A58&$A$6,TABNILSM3,6,FALSE)","v":45}]
["C24",0,{"$f":"HLOOKUP(A59&$A$4,TABNILSM3,4,FALSE)","v":0},"-",1,{"$f":"HLOOKUP(A59&$A$4,TABNILSM3,6,FALSE)","v":46}]
["C24",0,null,"-",2,{"$f":"HLOOKUP(A60&$A$5,TABNILSM3,6,FALSE)","v":47}]
["C24",0,null,"-",3,{"$f":"HLOOKUP(A61&$A$6,TABNILSM3,6,FALSE)","v":48}]
["-",{"$f":"IF(AND(COUNT(C62)=0,C69=0),0,1)","v":1},"C3","Kompetensi Keahlian"]
["C31",{"$f":"IF(C63>=1,1,0)","v":1},{"$f":"HLOOKUP(A63&$A$4,TABNILSM3,4,FALSE)","v":7},{"$f":"HLOOKUP(A63&$A$4,TABNILSM3,2,FALSE)","v":"Pemeliharaan Mesin Sepeda Motor"},1,{"$f":"HLOOKUP(A63&$A$4,TABNILSM3,6,FALSE)","v":49}]
["C31",{"$f":"IF(C63>=1,1,0)","v":1},null,"Pemeliharaan Mesin Sepeda Motor",2,{"$f":"HLOOKUP(A64&$A$5,TABNILSM3,6,FALSE)","v":50}]
["C31",{"$f":"IF(C63>=1,1,0)","v":1},null,"Pemeliharaan Mesin Sepeda Motor",3,{"$f":"HLOOKUP(A65&$A$6,TABNILSM3,6,FALSE)","v":51}]
["C32",1,{"$f":"HLOOKUP(A66&$A$4,TABNILSM3,4,FALSE)","v":8},"Pemeliharaan Sasis Sepeda Motor",1,{"$f":"HLOOKUP(A66&$A$4,TABNILSM3,6,FALSE)","v":52}]
["C32",1,null,"Pemeliharaan Sasis Sepeda Motor",2,{"$f":"HLOOKUP(A67&$A$5,TABNILSM3,6,FALSE)","v":53}]
["C32",1,null,"Pemeliharaan Sasis Sepeda Motor",3,{"$f":"HLOOKUP(A68&$A$6,TABNILSM3,6,FALSE)","v":54}]
["C33",1,{"$f":"HLOOKUP(A69&$A$4,TABNILSM3,4,FALSE)","v":9},"Pemeliharaan Kelistrikan Sepeda Motor",1,{"$f":"HLOOKUP(A69&$A$4,TABNILSM3,6,FALSE)","v":55}]
["C33",1,null,"Pemeliharaan Kelistrikan Sepeda Motor",2,{"$f":"HLOOKUP(A70&$A$5,TABNILSM3,6,FALSE)","v":56}]
["C33",1,null,"Pemeliharaan Kelistrikan Sepeda Motor",3,{"$f":"HLOOKUP(A71&$A$6,TABNILSM3,6,FALSE)","v":57}]
["C34",0,{"$f":"HLOOKUP(A72&$A$4,TABNILSM3,4,FALSE)","v":0},"-",1,{"$f":"HLOOKUP(A72&$A$4,TABNILSM3,6,FALSE)","v":58}]
["C34",0,null,"-",2,{"$f":"HLOOKUP(A73&$A$5,TABNILSM3,6,FALSE)","v":59}]
["C34",0,null,"-",3,{"$f":"HLOOKUP(A74&$A$6,TABNILSM3,6,FALSE)","v":60}]
["C35",0,{"$f":"HLOOKUP(A75&$A$4,TABNILSM3,4,FALSE)","v":0},"-",1,{"$f":"HLOOKUP(A75&$A$4,TABNILSM3,6,FALSE)","v":61}]
["C35",0,null,"-",2,{"$f":"HLOOKUP(A76&$A$5,TABNILSM3,6,FALSE)","v":62}]
["C35",0,null,"-",3,{"$f":"HLOOKUP(A77&$A$6,TABNILSM3,6,FALSE)","v":63}]
["C36",1,{"$f":"HLOOKUP(A78&$A$4,TABNILSM3,4,FALSE)","v":10},"Produk Kreatif dan Kewirausahaan ",1,{"$f":"HLOOKUP(A78&$A$4,TABNILSM3,6,FALSE)","v":64}]
["C36",1,null,"Produk Kreatif dan Kewirausahaan ",2,{"$f":"HLOOKUP(A79&$A$5,TABNILSM3,6,FALSE)","v":65}]
["C36",1,null,"Produk Kreatif dan Kewirausahaan ",3,{"$f":"HLOOKUP(A80&$A$6,TABNILSM3,6,FALSE)","v":66}]
[null,{"$f":"IF(AND(COUNT(C81)=0,C82=0),0,1)","v":0},"Muatan Lokal"]
["SUN",{"$f":"IF(C82>=1,1,0)","v":0},{"$f":"HLOOKUP(A82&$A$4,TABNILSM3,4,FALSE)","v":0},{"$f":"HLOOKUP(A82&$A$4,TABNILSM3,2,FALSE)","v":"-"},1,{"$f":"HLOOKUP(A82&$A$4,TABNILSM3,6,FALSE)","v":67}]
["SUN",{"$f":"IF(C82>=1,1,0)","v":0},null,"-",2,{"$f":"HLOOKUP(A83&$A$5,TABNILSM3,6,FALSE)","v":68}]
["SUN",{"$f":"IF(C82>=1,1,0)","v":0},null,"-",3,{"$f":"HLOOKUP(A84&$A$6,TABNILSM3,6,FALSE)","v":69}]
["PLH",{"$f":"IF(C85>=1,1,0)","v":0},{"$f":"HLOOKUP(A85&$A$4,TABNILSM3,4,FALSE)","v":0},"-",1,{"$f":"HLOOKUP(A85&$A$4,TABNILSM3,6,FALSE)","v":70}]
["PLH",0,null,"-",2,{"$f":"HLOOKUP(A86&$A$5,TABNILSM3,6,FALSE)","v":71}]
["PLH",{"$f":"IF(C85>=1,1,0)","v":0},null,"-",3,{"$f":"HLOOKUP(A87&$A$6,TABNILSM3,6,FALSE)","v":72}]

{"sheet":"CETKD4","index":19,"n_rows":87,"n_cols":20,"rows_kept":87,"cut":false,"hidden":false,"merged":[[84,2,86,2],[84,5,84,11],[85,5,85,11],[86,5,86,11],[77,2,79,2],[77,5,77,11],[78,5,78,11],[79,5,79,11],[80,2,80,3],[81,2,83,2],[81,5,81,11],[82,5,82,11],[83,5,83,11],[71,2,73,2],[71,5,71,11],[72,5,72,11],[73,5,73,11],[74,2,76,2],[74,5,74,11],[75,5,75,11],[76,5,76,11],[65,2,67,2],[65,5,65,11],[66,5,66,11],[67,5,67,11],[68,2,70,2],[68,5,68,11],[69,5,69,11],[70,5,70,11],[58,2,60,2],[58,5,58,11],[59,5,59,11],[60,5,60,11],[62,2,64,2],[62,5,62,11],[63,5,63,11],[64,5,64,11],[52,2,54,2],[52,5,52,11],[53,5,53,11],[54,5,54,11],[55,2,57,2],[55,5,55,11],[56,5,56,11],[57,5,57,11],[48,3,48,5],[48,16,49,18],[49,2,51,2],[49,5,49,11],[50,5,50,11],[50,16,51,18],[51,5,51,11],[42,2,44,2],[42,5,42,11],[43,5,43,11],[44,5,44,11],[45,2,47,2],[45,5,45,11],[46,5,46,11],[47,5,47,11],[37,2,37,5],[38,3,38,5],[39,2,41,2],[39,5,39,11],[40,5,40,11],[41,5,41,11],[30,2,30,3],[31,2,33,2],[31,5,31,11],[32,5,32,11],[33,5,33,11],[34,2,36,2],[34,5,34,11],[35,5,35,11],[36,5,36,11],[27,2,29,2],[27,5,27,11],[28,5,28,11],[29,5,29,11],[18,2,20,2],[18,5,18,11],[19,5,19,11],[20,5,20,11],[21,2,23,2],[21,5,21,11],[22,5,22,11],[23,5,23,11],[15,2,17,2],[15,5,15,11],[16,5,16,11],[17,5,17,11],[7,5,7,11],[24,2,26,2],[24,5,24,11],[25,5,25,11],[26,5,26,11],[9,2,11,2],[9,5,9,11],[10,5,10,11],[11,5,11,11],[11,16,11,17],[12,2,14,2],[12,5,12,11],[13,5,13,11],[14,5,14,11],[0,2,0,11],[4,16,4,17],[4,18,4,19],[5,16,6,16],[5,17,6,17],[5,18,6,18],[5,19,6,19],[7,16,8,16],[7,17,8,17],[7,18,8,18],[7,19,8,19]]}
[null,null,"DAFTAR TOPIK PER KOMPETENSI DASAR",null,null,null,null,null,null,null,null,null,null,null,null,null,"JURUSAN",{"$f":"MENU!F8","v":"TBSM"}]
[null,null,null,null,null,null,null,null,null,null,null,null,null,null,null,null,"NIS",{"$f":"VLOOKUP($R$13,TAB_BIODATA,BIODATA!D4,FALSE)","v":16170535}]
[null,null,null,"Bidang Keahlian",":",{"$f":"VLOOKUP($R$1,TAB_JURUSAN,2,FALSE)","v":"Teknologi dan Rekayasa"}]
["T1",null,null,"Program Keahlian",":",{"$f":"VLOOKUP($R$1,TAB_JURUSAN,3,FALSE)","v":"Teknik Otomotif"}]
["T2",null,null,"Kompetensi Keahlian",":",{"$f":"VLOOKUP($R$1,TAB_JURUSAN,4,FALSE)","v":"Teknik dan Bisnis Sepeda Motor"},null,null,null,null,null,null,null,null,null,null,"DATA CETAK",null,"HALAMAN CETAK"]
["T3",null,null,"Semester",":",{"$f":"NILSM4!B3","v":"4 (empat)"},null,null,null,null,null,null,null,null,null,null,"Dari data ke",1,"Dari",1]
[]
[null,1,"No.","Mata Pelajaran","KD","Nama Topik",null,null,null,null,null,null,null,null,null,null,"Sampai data ke",2,"Ke",1]
[null,1,"A. Muatan Nasional",null,null,"T1","U1","T2","U2","T3","U3","H"]
["PAB",{"$f":"IF(C10>=1,1,0)","v":1},{"$f":"HLOOKUP(A10&$A$4,TABNILSM4,4,FALSE)","v":1},{"$f":"HLOOKUP(A10&$A$4,TABNILSM4,2,FALSE)","v":"Pendidikan Agama dan Budi Pekerti"},1,{"$f":"HLOOKUP(A10&$A$4,TABNILSM4,6,FALSE)","v":"Haji, Zakat dan Wakaf"}]
["PAB",{"$f":"IF(C10>=1,1,0)","v":1},null,"Pendidikan Agama dan Budi Pekerti",2,{"$f":"HLOOKUP(A11&$A$5,TABNILSM4,6,FALSE)","v":"Dakwah Nabi Muhammad SAW di Mekah"}]
["PAB",{"$f":"IF(C10>=1,1,0)","v":1},null,"Pendidikan Agama dan Budi Pekerti",3,{"$f":"HLOOKUP(A12&$A$6,TABNILSM4,6,FALSE)","v":"Dakwah Nabi Muhammad SAW di Madinah"},null,null,null,null,null,null,null,null,null,null,"TAMPILAN DATA"]
["PKN",{"$f":"IF(C13>=1,1,0)","v":1},{"$f":"HLOOKUP(A13&$A$4,TABNILSM4,4,FALSE)","v":2},"Pendidikan Pancasila dan Kewarganegaraan",1,{"$f":"HLOOKUP(A13&$A$4,TABNILSM4,6,FALSE)","v":4},null,null,null,null,null,null,null,null,null,null,"Nomor Urut",1]
["PKN",{"$f":"IF(C13>=1,1,0)","v":1},null,"Pendidikan Pancasila dan Kewarganegaraan",2,{"$f":"HLOOKUP(A14&$A$5,TABNILSM4,6,FALSE)","v":5}]
["PKN",{"$f":"IF(C13>=1,1,0)","v":1},null,"Pendidikan Pancasila dan Kewarganegaraan",3,{"$f":"HLOOKUP(A15&$A$6,TABNILSM4,6,FALSE)","v":6}]
["IND",{"$f":"IF(C16>=1,1,0)","v":1},{"$f":"HLOOKUP(A16&$A$4,TABNILSM4,4,FALSE)","v":3},"Bahasa Indonesia",1,{"$f":"HLOOKUP(A16&$A$4,TABNILSM4,6,FALSE)","v":7}]
["IND",{"$f":"IF(C16>=1,1,0)","v":1},null,"Bahasa Indonesia",2,{"$f":"HLOOKUP(A17&$A$5,TABNILSM4,6,FALSE)","v":8}]
["IND",{"$f":"IF(C16>=1,1,0)","v":1},null,"Bahasa Indonesia",3,{"$f":"HLOOKUP(A18&$A$6,TABNILSM4,6,FALSE)","v":9}]
["MTK",{"$f":"IF(C19>=1,1,0)","v":1},{"$f":"HLOOKUP(A19&$A$4,TABNILSM4,4,FALSE)","v":4},"Matematika",1,{"$f":"HLOOKUP(A19&$A$4,TABNILSM4,6,FALSE)","v":10}]
["MTK",{"$f":"IF(C19>=1,1,0)","v":1},null,"Matematika",2,{"$f":"HLOOKUP(A20&$A$5,TABNILSM4,6,FALSE)","v":11}]
["MTK",{"$f":"IF(C19>=1,1,0)","v":1},null,"Matematika",3,{"$f":"HLOOKUP(A21&$A$6,TABNILSM4,6,FALSE)","v":12}]
["SJI",{"$f":"IF(C22>=1,1,0)","v":0},{"$f":"HLOOKUP(A22&$A$4,TABNILSM4,4,FALSE)","v":0},"-",1,{"$f":"HLOOKUP(A22&$A$4,TABNILSM4,6,FALSE)","v":13}]
["SJI",{"$f":"IF(C22>=1,1,0)","v":0},null,"-",2,{"$f":"HLOOKUP(A23&$A$5,TABNILSM4,6,FALSE)","v":14}]
["SJI",{"$f":"IF(C22>=1,1,0)","v":0},null,"-",3,{"$f":"HLOOKUP(A24&$A$6,TABNILSM4,6,FALSE)","v":15}]
["ING",{"$f":"IF(C25>=1,1,0)","v":1},{"$f":"HLOOKUP(A25&$A$4,TABNILSM4,4,FALSE)","v":5},"Bahasa Inggris",1,{"$f":"HLOOKUP(A25&$A$4,TABNILSM4,6,FALSE)","v":16}]
["ING",{"$f":"IF(C25>=1,1,0)","v":1},null,"Bahasa Inggris",2,{"$f":"HLOOKUP(A26&$A$5,TABNILSM4,6,FALSE)","v":17}]
["ING",{"$f":"IF(C25>=1,1,0)","v":1},null,"Bahasa Inggris",3,{"$f":"HLOOKUP(A27&$A$6,TABNILSM4,6,FALSE)","v":18}]
["JER",{"$f":"IF(C28>=1,1,0)","v":0},{"$f":"HLOOKUP(A28&$A$4,TABNILSM4,4,FALSE)","v":0},"-",1,{"$f":"HLOOKUP(A28&$A$4,TABNILSM4,6,FALSE)","v":19}]
["JER",0,null,"-",2,{"$f":"HLOOKUP(A29&$A$5,TABNILSM4,6,FALSE)","v":20}]
["JER",{"$f":"IF(C28>=1,1,0)","v":0},null,"-",3,{"$f":"HLOOKUP(A30&$A$6,TABNILSM4,6,FALSE)","v":21}]
[null,{"$f":"IF(AND(COUNT(C31)=0,C35=0),0,1)","v":1},"B. Muatan Kewilayahan"]
["SBD",{"$f":"IF(C32>=1,1,0)","v":0},{"$f":"HLOOKUP(A32&$A$4,TABNILSM4,4,FALSE)","v":0},{"$f":"HLOOKUP(A32&$A$4,TABNILSM4,2,FALSE)","v":"-"},1,{"$f":"HLOOKUP(A32&$A$4,TABNILSM4,6,FALSE)","v":22}]
["SBD",{"$f":"IF(C32>=1,1,0)","v":0},null,"-",2,{"$f":"HLOOKUP(A33&$A$5,TABNILSM4,6,FALSE)","v":23}]
["SBD",{"$f":"IF(C32>=1,1,0)","v":0},null,"-",3,{"$f":"HLOOKUP(A34&$A$6,TABNILSM4,6,FALSE)","v":24}]
["PJO",1,{"$f":"HLOOKUP(A35&$A$4,TABNILSM4,4,FALSE)","v":6},"Pendidikan Jasmani, Olahraga dan Kesehatan",1,{"$f":"HLOOKUP(A35&$A$4,TABNILSM4,6,FALSE)","v":25}]
["PJO",1,null,"Pendidikan Jasmani, Olahraga dan Kesehatan",2,{"$f":"HLOOKUP(A36&$A$5,TABNILSM4,6,FALSE)","v":26}]
["PJO",1,null,"Pendidikan Jasmani, Olahraga dan Kesehatan",3,{"$f":"HLOOKUP(A37&$A$6,TABNILSM4,6,FALSE)","v":27}]
["-",1,"C. Muatan Peminatan Kejuruan"]
[null,{"$f":"IF(AND(COUNT(C39)=0,C40=0),0,1)","v":0},"C1","Dasar Bidang Keahlian"]
["SKD",{"$f":"IF(C40>=1,1,0)","v":0},{"$f":"HLOOKUP(A40&$A$4,TABNILSM4,4,FALSE)","v":0},{"$f":"HLOOKUP(A40&$A$4,TABNILSM4,2,FALSE)","v":"-"},1,{"$f":"HLOOKUP(A40&$A$4,TABNILSM4,6,FALSE)","v":28}]
["SKD",{"$f":"IF(C40>=1,1,0)","v":0},null,"-",2,{"$f":"HLOOKUP(A41&$A$5,TABNILSM4,6,FALSE)","v":29}]
["SKD",{"$f":"IF(C40>=1,1,0)","v":0},null,"-",3,{"$f":"HLOOKUP(A42&$A$6,TABNILSM4,6,FALSE)","v":30}]
["FIS",0,{"$f":"HLOOKUP(A43&$A$4,TABNILSM4,4,FALSE)","v":0},"-",1,{"$f":"HLOOKUP(A43&$A$4,TABNILSM4,6,FALSE)","v":31}]
["FIS",0,null,"-",2,{"$f":"HLOOKUP(A44&$A$5,TABNILSM4,6,FALSE)","v":32}]
["FIS",0,null,"-",3,{"$f":"HLOOKUP(A45&$A$6,TABNILSM4,6,FALSE)","v":33}]
["KIM",0,{"$f":"HLOOKUP(A46&$A$4,TABNILSM4,4,FALSE)","v":0},"-",1,{"$f":"HLOOKUP(A46&$A$4,TABNILSM4,6,FALSE)","v":34}]
["KIM",0,null,"-",2,{"$f":"HLOOKUP(A47&$A$5,TABNILSM4,6,FALSE)","v":35}]
["KIM",0,null,"-",3,{"$f":"HLOOKUP(A48&$A$6,TABNILSM4,6,FALSE)","v":36}]
[null,{"$f":"IF(AND(COUNT(C49)=0,C50=0),0,1)","v":0},"C2","Dasar Program Keahlian",null,null,null,null,null,null,null,null,null,null,null,null,{"$f":"VLOOKUP($R$13,TAB_BIODATA,BIODATA!C4,FALSE)","v":"ADAM ADIYAT HARTANTO"}]
["C21",{"$f":"IF(C50>=1,1,0)","v":0},{"$f":"HLOOKUP(A50&$A$4,TABNILSM4,4,FALSE)","v":0},{"$f":"HLOOKUP(A50&$A$4,TABNILSM4,2,FALSE)","v":"-"},1,{"$f":"HLOOKUP(A50&$A$4,TABNILSM4,6,FALSE)","v":37}]
["C21",{"$f":"IF(C50>=1,1,0)","v":0},null,"-",2,{"$f":"HLOOKUP(A51&$A$5,TABNILSM4,6,FALSE)","v":38},null,null,null,null,null,null,null,null,null,null,{"$f":"\"Nomor Urut \"&R13","v":"Nomor Urut 1"}]
["C21",{"$f":"IF(C50>=1,1,0)","v":0},null,"-",3,{"$f":"HLOOKUP(A52&$A$6,TABNILSM4,6,FALSE)","v":39}]
["C22",0,{"$f":"HLOOKUP(A53&$A$4,TABNILSM4,4,FALSE)","v":0},"-",1,{"$f":"HLOOKUP(A53&$A$4,TABNILSM4,6,FALSE)","v":40}]
["C22",0,null,"-",2,{"$f":"HLOOKUP(A54&$A$5,TABNILSM4,6,FALSE)","v":41}]
["C22",0,null,"-",3,{"$f":"HLOOKUP(A55&$A$6,TABNILSM4,6,FALSE)","v":42}]
["C23",0,{"$f":"HLOOKUP(A56&$A$4,TABNILSM4,4,FALSE)","v":0},"-",1,{"$f":"HLOOKUP(A56&$A$4,TABNILSM4,6,FALSE)","v":43}]
["C23",0,null,"-",2,{"$f":"HLOOKUP(A57&$A$5,TABNILSM4,6,FALSE)","v":44}]
["C23",0,null,"-",3,{"$f":"HLOOKUP(A58&$A$6,TABNILSM4,6,FALSE)","v":45}]
["C24",0,{"$f":"HLOOKUP(A59&$A$4,TABNILSM4,4,FALSE)","v":0},"-",1,{"$f":"HLOOKUP(A59&$A$4,TABNILSM4,6,FALSE)","v":46}]
["C24",0,null,"-",2,{"$f":"HLOOKUP(A60&$A$5,TABNILSM4,6,FALSE)","v":47}]
["C24",0,null,"-",3,{"$f":"HLOOKUP(A61&$A$6,TABNILSM4,6,FALSE)","v":48}]
["-",{"$f":"IF(AND(COUNT(C62)=0,C69=0),0,1)","v":1},"C3","Kompetensi Keahlian"]
["C31",{"$f":"IF(C63>=1,1,0)","v":1},{"$f":"HLOOKUP(A63&$A$4,TABNILSM4,4,FALSE)","v":7},{"$f":"HLOOKUP(A63&$A$4,TABNILSM4,2,FALSE)","v":"Pemeliharaan Mesin Sepeda Motor"},1,{"$f":"HLOOKUP(A63&$A$4,TABNILSM4,6,FALSE)","v":49}]
["C31",{"$f":"IF(C63>=1,1,0)","v":1},null,"Pemeliharaan Mesin Sepeda Motor",2,{"$f":"HLOOKUP(A64&$A$5,TABNILSM4,6,FALSE)","v":50}]
["C31",{"$f":"IF(C63>=1,1,0)","v":1},null,"Pemeliharaan Mesin Sepeda Motor",3,{"$f":"HLOOKUP(A65&$A$6,TABNILSM4,6,FALSE)","v":51}]
["C32",1,{"$f":"HLOOKUP(A66&$A$4,TABNILSM4,4,FALSE)","v":8},"Pemeliharaan Sasis Sepeda Motor",1,{"$f":"HLOOKUP(A66&$A$4,TABNILSM4,6,FALSE)","v":52}]
["C32",1,null,"Pemeliharaan Sasis Sepeda Motor",2,{"$f":"HLOOKUP(A67&$A$5,TABNILSM4,6,FALSE)","v":53}]
["C32",1,null,"Pemeliharaan Sasis Sepeda Motor",3,{"$f":"HLOOKUP(A68&$A$6,TABNILSM4,6,FALSE)","v":54}]
["C33",1,{"$f":"HLOOKUP(A69&$A$4,TABNILSM4,4,FALSE)","v":9},"Pemeliharaan Kelistrikan Sepeda Motor",1,{"$f":"HLOOKUP(A69&$A$4,TABNILSM4,6,FALSE)","v":55}]
["C33",1,null,"Pemeliharaan Kelistrikan Sepeda Motor",2,{"$f":"HLOOKUP(A70&$A$5,TABNILSM4,6,FALSE)","v":56}]
["C33",1,null,"Pemeliharaan Kelistrikan Sepeda Motor",3,{"$f":"HLOOKUP(A71&$A$6,TABNILSM4,6,FALSE)","v":57}]
["C34",0,{"$f":"HLOOKUP(A72&$A$4,TABNILSM4,4,FALSE)","v":0},"-",1,{"$f":"HLOOKUP(A72&$A$4,TABNILSM4,6,FALSE)","v":58}]
["C34",0,null,"-",2,{"$f":"HLOOKUP(A73&$A$5,TABNILSM4,6,FALSE)","v":59}]
["C34",0,null,"-",3,{"$f":"HLOOKUP(A74&$A$6,TABNILSM4,6,FALSE)","v":60}]
["C35",0,{"$f":"HLOOKUP(A75&$A$4,TABNILSM4,4,FALSE)","v":0},"-",1,{"$f":"HLOOKUP(A75&$A$4,TABNILSM4,6,FALSE)","v":61}]
["C35",0,null,"-",2,{"$f":"HLOOKUP(A76&$A$5,TABNILSM4,6,FALSE)","v":62}]
["C35",0,null,"-",3,{"$f":"HLOOKUP(A77&$A$6,TABNILSM4,6,FALSE)","v":63}]
["C36",1,{"$f":"HLOOKUP(A78&$A$4,TABNILSM4,4,FALSE)","v":10},"Produk Kreatif dan Kewirausahaan ",1,{"$f":"HLOOKUP(A78&$A$4,TABNILSM4,6,FALSE)","v":64}]
["C36",1,null,"Produk Kreatif dan Kewirausahaan ",2,{"$f":"HLOOKUP(A79&$A$5,TABNILSM4,6,FALSE)","v":65}]
["C36",1,null,"Produk Kreatif dan Kewirausahaan ",3,{"$f":"HLOOKUP(A80&$A$6,TABNILSM4,6,FALSE)","v":66}]
[null,{"$f":"IF(AND(COUNT(C81)=0,C82=0),0,1)","v":0},"Muatan Lokal"]
["SUN",{"$f":"IF(C82>=1,1,0)","v":0},{"$f":"HLOOKUP(A82&$A$4,TABNILSM4,4,FALSE)","v":0},{"$f":"HLOOKUP(A82&$A$4,TABNILSM4,2,FALSE)","v":"-"},1,{"$f":"HLOOKUP(A82&$A$4,TABNILSM4,6,FALSE)","v":67}]
["SUN",{"$f":"IF(C82>=1,1,0)","v":0},null,"-",2,{"$f":"HLOOKUP(A83&$A$5,TABNILSM4,6,FALSE)","v":68}]
["SUN",{"$f":"IF(C82>=1,1,0)","v":0},null,"-",3,{"$f":"HLOOKUP(A84&$A$6,TABNILSM4,6,FALSE)","v":69}]
["PLH",{"$f":"IF(C85>=1,1,0)","v":0},{"$f":"HLOOKUP(A85&$A$4,TABNILSM4,4,FALSE)","v":0},"-",1,{"$f":"HLOOKUP(A85&$A$4,TABNILSM4,6,FALSE)","v":70}]
["PLH",0,null,"-",2,{"$f":"HLOOKUP(A86&$A$5,TABNILSM4,6,FALSE)","v":71}]
["PLH",{"$f":"IF(C85>=1,1,0)","v":0},null,"-",3,{"$f":"HLOOKUP(A87&$A$6,TABNILSM4,6,FALSE)","v":72}]

{"sheet":"CETKD5","index":20,"n_rows":87,"n_cols":20,"rows_kept":87,"cut":false,"hidden":false,"merged":[[84,2,86,2],[84,5,84,11],[85,5,85,11],[86,5,86,11],[77,2,79,2],[77,5,77,11],[78,5,78,11],[79,5,79,11],[80,2,80,3],[81,2,83,2],[81,5,81,11],[82,5,82,11],[83,5,83,11],[71,2,73,2],[71,5,71,11],[72,5,72,11],[73,5,73,11],[74,2,76,2],[74,5,74,11],[75,5,75,11],[76,5,76,11],[65,2,67,2],[65,5,65,11],[66,5,66,11],[67,5,67,11],[68,2,70,2],[68,5,68,11],[69,5,69,11],[70,5,70,11],[58,2,60,2],[58,5,58,11],[59,5,59,11],[60,5,60,11],[62,2,64,2],[62,5,62,11],[63,5,63,11],[64,5,64,11],[52,2,54,2],[52,5,52,11],[53,5,53,11],[54,5,54,11],[55,2,57,2],[55,5,55,11],[56,5,56,11],[57,5,57,11],[48,3,48,5],[48,16,49,18],[49,2,51,2],[49,5,49,11],[50,5,50,11],[50,16,51,18],[51,5,51,11],[42,2,44,2],[42,5,42,11],[43,5,43,11],[44,5,44,11],[45,2,47,2],[45,5,45,11],[46,5,46,11],[47,5,47,11],[37,2,37,5],[38,3,38,5],[39,2,41,2],[39,5,39,11],[40,5,40,11],[41,5,41,11],[30,2,30,3],[31,2,33,2],[31,5,31,11],[32,5,32,11],[33,5,33,11],[34,2,36,2],[34,5,34,11],[35,5,35,11],[36,5,36,11],[27,2,29,2],[27,5,27,11],[28,5,28,11],[29,5,29,11],[18,2,20,2],[18,5,18,11],[19,5,19,11],[20,5,20,11],[21,2,23,2],[21,5,21,11],[22,5,22,11],[23,5,23,11],[15,2,17,2],[15,5,15,11],[16,5,16,11],[17,5,17,11],[7,5,7,11],[24,2,26,2],[24,5,24,11],[25,5,25,11],[26,5,26,11],[9,2,11,2],[9,5,9,11],[10,5,10,11],[11,5,11,11],[11,16,11,17],[12,2,14,2],[12,5,12,11],[13,5,13,11],[14,5,14,11],[0,2,0,11],[4,16,4,17],[4,18,4,19],[5,16,6,16],[5,17,6,17],[5,18,6,18],[5,19,6,19],[7,16,8,16],[7,17,8,17],[7,18,8,18],[7,19,8,19]]}
[null,null,"DAFTAR TOPIK PER KOMPETENSI DASAR",null,null,null,null,null,null,null,null,null,null,null,null,null,"JURUSAN",{"$f":"MENU!F8","v":"TBSM"}]
[null,null,null,null,null,null,null,null,null,null,null,null,null,null,null,null,"NIS",{"$f":"VLOOKUP($R$13,TAB_BIODATA,BIODATA!D4,FALSE)","v":16170535}]
[null,null,null,"Bidang Keahlian",":",{"$f":"VLOOKUP($R$1,TAB_JURUSAN,2,FALSE)","v":"Teknologi dan Rekayasa"}]
["T1",null,null,"Program Keahlian",":",{"$f":"VLOOKUP($R$1,TAB_JURUSAN,3,FALSE)","v":"Teknik Otomotif"}]
["T2",null,null,"Kompetensi Keahlian",":",{"$f":"VLOOKUP($R$1,TAB_JURUSAN,4,FALSE)","v":"Teknik dan Bisnis Sepeda Motor"},null,null,null,null,null,null,null,null,null,null,"DATA CETAK",null,"HALAMAN CETAK"]
["T3",null,null,"Semester",":",{"$f":"NILSM5!B3","v":"5 (lima)"},null,null,null,null,null,null,null,null,null,null,"Dari data ke",1,"Dari",1]
[]
[null,1,"No.","Mata Pelajaran","KD","Nama Topik",null,null,null,null,null,null,null,null,null,null,"Sampai data ke",2,"Ke",1]
[null,1,"A. Muatan Nasional",null,null,"T1","U1","T2","U2","T3","U3","H"]
["PAB",{"$f":"IF(C10>=1,1,0)","v":1},{"$f":"HLOOKUP(A10&$A$4,TABNILSM5,4,FALSE)","v":1},{"$f":"HLOOKUP(A10&$A$4,TABNILSM5,2,FALSE)","v":"Pendidikan Agama dan Budi Pekerti"},1,{"$f":"HLOOKUP(A10&$A$4,TABNILSM5,6,FALSE)","v":"Ibadah Haji"}]
["PAB",{"$f":"IF(C10>=1,1,0)","v":1},null,"Pendidikan Agama dan Budi Pekerti",2,{"$f":"HLOOKUP(A11&$A$5,TABNILSM5,6,FALSE)","v":2}]
["PAB",{"$f":"IF(C10>=1,1,0)","v":1},null,"Pendidikan Agama dan Budi Pekerti",3,{"$f":"HLOOKUP(A12&$A$6,TABNILSM5,6,FALSE)","v":3},null,null,null,null,null,null,null,null,null,null,"TAMPILAN DATA"]
["PKN",{"$f":"IF(C13>=1,1,0)","v":1},{"$f":"HLOOKUP(A13&$A$4,TABNILSM5,4,FALSE)","v":2},"Pendidikan Pancasila dan Kewarganegaraan",1,{"$f":"HLOOKUP(A13&$A$4,TABNILSM5,6,FALSE)","v":4},null,null,null,null,null,null,null,null,null,null,"Nomor Urut",1]
["PKN",{"$f":"IF(C13>=1,1,0)","v":1},null,"Pendidikan Pancasila dan Kewarganegaraan",2,{"$f":"HLOOKUP(A14&$A$5,TABNILSM5,6,FALSE)","v":5}]
["PKN",{"$f":"IF(C13>=1,1,0)","v":1},null,"Pendidikan Pancasila dan Kewarganegaraan",3,{"$f":"HLOOKUP(A15&$A$6,TABNILSM5,6,FALSE)","v":6}]
["IND",{"$f":"IF(C16>=1,1,0)","v":1},{"$f":"HLOOKUP(A16&$A$4,TABNILSM5,4,FALSE)","v":3},"Bahasa Indonesia",1,{"$f":"HLOOKUP(A16&$A$4,TABNILSM5,6,FALSE)","v":7}]
["IND",{"$f":"IF(C16>=1,1,0)","v":1},null,"Bahasa Indonesia",2,{"$f":"HLOOKUP(A17&$A$5,TABNILSM5,6,FALSE)","v":8}]
["IND",{"$f":"IF(C16>=1,1,0)","v":1},null,"Bahasa Indonesia",3,{"$f":"HLOOKUP(A18&$A$6,TABNILSM5,6,FALSE)","v":9}]
["MTK",{"$f":"IF(C19>=1,1,0)","v":1},{"$f":"HLOOKUP(A19&$A$4,TABNILSM5,4,FALSE)","v":4},"Matematika",1,{"$f":"HLOOKUP(A19&$A$4,TABNILSM5,6,FALSE)","v":10}]
["MTK",{"$f":"IF(C19>=1,1,0)","v":1},null,"Matematika",2,{"$f":"HLOOKUP(A20&$A$5,TABNILSM5,6,FALSE)","v":11}]
["MTK",{"$f":"IF(C19>=1,1,0)","v":1},null,"Matematika",3,{"$f":"HLOOKUP(A21&$A$6,TABNILSM5,6,FALSE)","v":12}]
["SJI",{"$f":"IF(C22>=1,1,0)","v":0},{"$f":"HLOOKUP(A22&$A$4,TABNILSM5,4,FALSE)","v":0},"-",1,{"$f":"HLOOKUP(A22&$A$4,TABNILSM5,6,FALSE)","v":13}]
["SJI",{"$f":"IF(C22>=1,1,0)","v":0},null,"-",2,{"$f":"HLOOKUP(A23&$A$5,TABNILSM5,6,FALSE)","v":14}]
["SJI",{"$f":"IF(C22>=1,1,0)","v":0},null,"-",3,{"$f":"HLOOKUP(A24&$A$6,TABNILSM5,6,FALSE)","v":15}]
["ING",{"$f":"IF(C25>=1,1,0)","v":1},{"$f":"HLOOKUP(A25&$A$4,TABNILSM5,4,FALSE)","v":5},"Bahasa Inggris",1,{"$f":"HLOOKUP(A25&$A$4,TABNILSM5,6,FALSE)","v":16}]
["ING",{"$f":"IF(C25>=1,1,0)","v":1},null,"Bahasa Inggris",2,{"$f":"HLOOKUP(A26&$A$5,TABNILSM5,6,FALSE)","v":17}]
["ING",{"$f":"IF(C25>=1,1,0)","v":1},null,"Bahasa Inggris",3,{"$f":"HLOOKUP(A27&$A$6,TABNILSM5,6,FALSE)","v":18}]
["JER",{"$f":"IF(C28>=1,1,0)","v":1},{"$f":"HLOOKUP(A28&$A$4,TABNILSM5,4,FALSE)","v":6},"Bahasa Jerman",1,{"$f":"HLOOKUP(A28&$A$4,TABNILSM5,6,FALSE)","v":19}]
["JER",1,null,"Bahasa Jerman",2,{"$f":"HLOOKUP(A29&$A$5,TABNILSM5,6,FALSE)","v":20}]
["JER",{"$f":"IF(C28>=1,1,0)","v":1},null,"Bahasa Jerman",3,{"$f":"HLOOKUP(A30&$A$6,TABNILSM5,6,FALSE)","v":21}]
[null,{"$f":"IF(AND(COUNT(C31)=0,C35=0),0,1)","v":0},"B. Muatan Kewilayahan"]
["SBD",{"$f":"IF(C32>=1,1,0)","v":0},{"$f":"HLOOKUP(A32&$A$4,TABNILSM5,4,FALSE)","v":0},{"$f":"HLOOKUP(A32&$A$4,TABNILSM5,2,FALSE)","v":"-"},1,{"$f":"HLOOKUP(A32&$A$4,TABNILSM5,6,FALSE)","v":22}]
["SBD",{"$f":"IF(C32>=1,1,0)","v":0},null,"-",2,{"$f":"HLOOKUP(A33&$A$5,TABNILSM5,6,FALSE)","v":23}]
["SBD",{"$f":"IF(C32>=1,1,0)","v":0},null,"-",3,{"$f":"HLOOKUP(A34&$A$6,TABNILSM5,6,FALSE)","v":24}]
["PJO",0,{"$f":"HLOOKUP(A35&$A$4,TABNILSM5,4,FALSE)","v":0},"-",1,{"$f":"HLOOKUP(A35&$A$4,TABNILSM5,6,FALSE)","v":25}]
["PJO",0,null,"-",2,{"$f":"HLOOKUP(A36&$A$5,TABNILSM5,6,FALSE)","v":26}]
["PJO",0,null,"-",3,{"$f":"HLOOKUP(A37&$A$6,TABNILSM5,6,FALSE)","v":27}]
["-",1,"C. Muatan Peminatan Kejuruan"]
[null,{"$f":"IF(AND(COUNT(C39)=0,C40=0),0,1)","v":0},"C1","Dasar Bidang Keahlian"]
["SKD",{"$f":"IF(C40>=1,1,0)","v":0},{"$f":"HLOOKUP(A40&$A$4,TABNILSM5,4,FALSE)","v":0},{"$f":"HLOOKUP(A40&$A$4,TABNILSM5,2,FALSE)","v":"-"},1,{"$f":"HLOOKUP(A40&$A$4,TABNILSM5,6,FALSE)","v":28}]
["SKD",{"$f":"IF(C40>=1,1,0)","v":0},null,"-",2,{"$f":"HLOOKUP(A41&$A$5,TABNILSM5,6,FALSE)","v":29}]
["SKD",{"$f":"IF(C40>=1,1,0)","v":0},null,"-",3,{"$f":"HLOOKUP(A42&$A$6,TABNILSM5,6,FALSE)","v":30}]
["FIS",0,{"$f":"HLOOKUP(A43&$A$4,TABNILSM5,4,FALSE)","v":0},"-",1,{"$f":"HLOOKUP(A43&$A$4,TABNILSM5,6,FALSE)","v":31}]
["FIS",0,null,"-",2,{"$f":"HLOOKUP(A44&$A$5,TABNILSM5,6,FALSE)","v":32}]
["FIS",0,null,"-",3,{"$f":"HLOOKUP(A45&$A$6,TABNILSM5,6,FALSE)","v":33}]
["KIM",0,{"$f":"HLOOKUP(A46&$A$4,TABNILSM5,4,FALSE)","v":0},"-",1,{"$f":"HLOOKUP(A46&$A$4,TABNILSM5,6,FALSE)","v":34}]
["KIM",0,null,"-",2,{"$f":"HLOOKUP(A47&$A$5,TABNILSM5,6,FALSE)","v":35}]
["KIM",0,null,"-",3,{"$f":"HLOOKUP(A48&$A$6,TABNILSM5,6,FALSE)","v":36}]
[null,{"$f":"IF(AND(COUNT(C49)=0,C50=0),0,1)","v":0},"C2","Dasar Program Keahlian",null,null,null,null,null,null,null,null,null,null,null,null,{"$f":"VLOOKUP($R$13,TAB_BIODATA,BIODATA!C4,FALSE)","v":"ADAM ADIYAT HARTANTO"}]
["C21",{"$f":"IF(C50>=1,1,0)","v":0},{"$f":"HLOOKUP(A50&$A$4,TABNILSM5,4,FALSE)","v":0},{"$f":"HLOOKUP(A50&$A$4,TABNILSM5,2,FALSE)","v":"-"},1,{"$f":"HLOOKUP(A50&$A$4,TABNILSM5,6,FALSE)","v":37}]
["C21",{"$f":"IF(C50>=1,1,0)","v":0},null,"-",2,{"$f":"HLOOKUP(A51&$A$5,TABNILSM5,6,FALSE)","v":38},null,null,null,null,null,null,null,null,null,null,{"$f":"\"Nomor Urut \"&R13","v":"Nomor Urut 1"}]
["C21",{"$f":"IF(C50>=1,1,0)","v":0},null,"-",3,{"$f":"HLOOKUP(A52&$A$6,TABNILSM5,6,FALSE)","v":39}]
["C22",0,{"$f":"HLOOKUP(A53&$A$4,TABNILSM5,4,FALSE)","v":0},"-",1,{"$f":"HLOOKUP(A53&$A$4,TABNILSM5,6,FALSE)","v":40}]
["C22",0,null,"-",2,{"$f":"HLOOKUP(A54&$A$5,TABNILSM5,6,FALSE)","v":41}]
["C22",0,null,"-",3,{"$f":"HLOOKUP(A55&$A$6,TABNILSM5,6,FALSE)","v":42}]
["C23",0,{"$f":"HLOOKUP(A56&$A$4,TABNILSM5,4,FALSE)","v":0},"-",1,{"$f":"HLOOKUP(A56&$A$4,TABNILSM5,6,FALSE)","v":43}]
["C23",0,null,"-",2,{"$f":"HLOOKUP(A57&$A$5,TABNILSM5,6,FALSE)","v":44}]
["C23",0,null,"-",3,{"$f":"HLOOKUP(A58&$A$6,TABNILSM5,6,FALSE)","v":45}]
["C24",0,{"$f":"HLOOKUP(A59&$A$4,TABNILSM5,4,FALSE)","v":0},"-",1,{"$f":"HLOOKUP(A59&$A$4,TABNILSM5,6,FALSE)","v":46}]
["C24",0,null,"-",2,{"$f":"HLOOKUP(A60&$A$5,TABNILSM5,6,FALSE)","v":47}]
["C24",0,null,"-",3,{"$f":"HLOOKUP(A61&$A$6,TABNILSM5,6,FALSE)","v":48}]
["-",{"$f":"IF(AND(COUNT(C62)=0,C69=0),0,1)","v":1},"C3","Kompetensi Keahlian"]
["C31",{"$f":"IF(C63>=1,1,0)","v":1},{"$f":"HLOOKUP(A63&$A$4,TABNILSM5,4,FALSE)","v":7},{"$f":"HLOOKUP(A63&$A$4,TABNILSM5,2,FALSE)","v":"Pemeliharaan Mesin Sepeda Motor"},1,{"$f":"HLOOKUP(A63&$A$4,TABNILSM5,6,FALSE)","v":49}]
["C31",{"$f":"IF(C63>=1,1,0)","v":1},null,"Pemeliharaan Mesin Sepeda Motor",2,{"$f":"HLOOKUP(A64&$A$5,TABNILSM5,6,FALSE)","v":50}]
["C31",{"$f":"IF(C63>=1,1,0)","v":1},null,"Pemeliharaan Mesin Sepeda Motor",3,{"$f":"HLOOKUP(A65&$A$6,TABNILSM5,6,FALSE)","v":51}]
["C32",1,{"$f":"HLOOKUP(A66&$A$4,TABNILSM5,4,FALSE)","v":8},"Pemeliharaan Sasis Sepeda Motor",1,{"$f":"HLOOKUP(A66&$A$4,TABNILSM5,6,FALSE)","v":52}]
["C32",1,null,"Pemeliharaan Sasis Sepeda Motor",2,{"$f":"HLOOKUP(A67&$A$5,TABNILSM5,6,FALSE)","v":53}]
["C32",1,null,"Pemeliharaan Sasis Sepeda Motor",3,{"$f":"HLOOKUP(A68&$A$6,TABNILSM5,6,FALSE)","v":54}]
["C33",1,{"$f":"HLOOKUP(A69&$A$4,TABNILSM5,4,FALSE)","v":9},"Pemeliharaan Kelistrikan Sepeda Motor",1,{"$f":"HLOOKUP(A69&$A$4,TABNILSM5,6,FALSE)","v":55}]
["C33",1,null,"Pemeliharaan Kelistrikan Sepeda Motor",2,{"$f":"HLOOKUP(A70&$A$5,TABNILSM5,6,FALSE)","v":56}]
["C33",1,null,"Pemeliharaan Kelistrikan Sepeda Motor",3,{"$f":"HLOOKUP(A71&$A$6,TABNILSM5,6,FALSE)","v":57}]
["C34",1,{"$f":"HLOOKUP(A72&$A$4,TABNILSM5,4,FALSE)","v":10},"Pengelolaan Bengkel Sepeda Motor",1,{"$f":"HLOOKUP(A72&$A$4,TABNILSM5,6,FALSE)","v":58}]
["C34",1,null,"Pengelolaan Bengkel Sepeda Motor",2,{"$f":"HLOOKUP(A73&$A$5,TABNILSM5,6,FALSE)","v":59}]
["C34",1,null,"Pengelolaan Bengkel Sepeda Motor",3,{"$f":"HLOOKUP(A74&$A$6,TABNILSM5,6,FALSE)","v":60}]
["C35",0,{"$f":"HLOOKUP(A75&$A$4,TABNILSM5,4,FALSE)","v":0},"-",1,{"$f":"HLOOKUP(A75&$A$4,TABNILSM5,6,FALSE)","v":61}]
["C35",0,null,"-",2,{"$f":"HLOOKUP(A76&$A$5,TABNILSM5,6,FALSE)","v":62}]
["C35",0,null,"-",3,{"$f":"HLOOKUP(A77&$A$6,TABNILSM5,6,FALSE)","v":63}]
["C36",1,{"$f":"HLOOKUP(A78&$A$4,TABNILSM5,4,FALSE)","v":11},"Produk Kreatif dan Kewirausahaan ",1,{"$f":"HLOOKUP(A78&$A$4,TABNILSM5,6,FALSE)","v":64}]
["C36",1,null,"Produk Kreatif dan Kewirausahaan ",2,{"$f":"HLOOKUP(A79&$A$5,TABNILSM5,6,FALSE)","v":65}]
["C36",1,null,"Produk Kreatif dan Kewirausahaan ",3,{"$f":"HLOOKUP(A80&$A$6,TABNILSM5,6,FALSE)","v":66}]
[null,{"$f":"IF(AND(COUNT(C81)=0,C82=0),0,1)","v":0},"Muatan Lokal"]
["SUN",{"$f":"IF(C82>=1,1,0)","v":0},{"$f":"HLOOKUP(A82&$A$4,TABNILSM5,4,FALSE)","v":0},{"$f":"HLOOKUP(A82&$A$4,TABNILSM5,2,FALSE)","v":"-"},1,{"$f":"HLOOKUP(A82&$A$4,TABNILSM5,6,FALSE)","v":67}]
["SUN",{"$f":"IF(C82>=1,1,0)","v":0},null,"-",2,{"$f":"HLOOKUP(A83&$A$5,TABNILSM5,6,FALSE)","v":68}]
["SUN",{"$f":"IF(C82>=1,1,0)","v":0},null,"-",3,{"$f":"HLOOKUP(A84&$A$6,TABNILSM5,6,FALSE)","v":69}]
["PLH",{"$f":"IF(C85>=1,1,0)","v":0},{"$f":"HLOOKUP(A85&$A$4,TABNILSM5,4,FALSE)","v":0},"-",1,{"$f":"HLOOKUP(A85&$A$4,TABNILSM5,6,FALSE)","v":70}]
["PLH",0,null,"-",2,{"$f":"HLOOKUP(A86&$A$5,TABNILSM5,6,FALSE)","v":71}]
["PLH",{"$f":"IF(C85>=1,1,0)","v":0},null,"-",3,{"$f":"HLOOKUP(A87&$A$6,TABNILSM5,6,FALSE)","v":72}]

{"sheet":"CETKD6","index":21,"n_rows":87,"n_cols":20,"rows_kept":87,"cut":false,"hidden":false,"merged":[[84,2,86,2],[84,5,84,11],[85,5,85,11],[86,5,86,11],[77,2,79,2],[77,5,77,11],[78,5,78,11],[79,5,79,11],[80,2,80,3],[81,2,83,2],[81,5,81,11],[82,5,82,11],[83,5,83,11],[71,2,73,2],[71,5,71,11],[72,5,72,11],[73,5,73,11],[74,2,76,2],[74,5,74,11],[75,5,75,11],[76,5,76,11],[65,2,67,2],[65,5,65,11],[66,5,66,11],[67,5,67,11],[68,2,70,2],[68,5,68,11],[69,5,69,11],[70,5,70,11],[58,2,60,2],[58,5,58,11],[59,5,59,11],[60,5,60,11],[62,2,64,2],[62,5,62,11],[63,5,63,11],[64,5,64,11],[52,2,54,2],[52,5,52,11],[53,5,53,11],[54,5,54,11],[55,2,57,2],[55,5,55,11],[56,5,56,11],[57,5,57,11],[48,3,48,5],[48,16,49,18],[49,2,51,2],[49,5,49,11],[50,5,50,11],[50,16,51,18],[51,5,51,11],[42,2,44,2],[42,5,42,11],[43,5,43,11],[44,5,44,11],[45,2,47,2],[45,5,45,11],[46,5,46,11],[47,5,47,11],[37,2,37,5],[38,3,38,5],[39,2,41,2],[39,5,39,11],[40,5,40,11],[41,5,41,11],[30,2,30,3],[31,2,33,2],[31,5,31,11],[32,5,32,11],[33,5,33,11],[34,2,36,2],[34,5,34,11],[35,5,35,11],[36,5,36,11],[27,2,29,2],[27,5,27,11],[28,5,28,11],[29,5,29,11],[18,2,20,2],[18,5,18,11],[19,5,19,11],[20,5,20,11],[21,2,23,2],[21,5,21,11],[22,5,22,11],[23,5,23,11],[15,2,17,2],[15,5,15,11],[16,5,16,11],[17,5,17,11],[7,5,7,11],[24,2,26,2],[24,5,24,11],[25,5,25,11],[26,5,26,11],[9,2,11,2],[9,5,9,11],[10,5,10,11],[11,5,11,11],[11,16,11,17],[12,2,14,2],[12,5,12,11],[13,5,13,11],[14,5,14,11],[0,2,0,11],[4,16,4,17],[4,18,4,19],[5,16,6,16],[5,17,6,17],[5,18,6,18],[5,19,6,19],[7,16,8,16],[7,17,8,17],[7,18,8,18],[7,19,8,19]]}
[null,null,"DAFTAR TOPIK PER KOMPETENSI DASAR",null,null,null,null,null,null,null,null,null,null,null,null,null,"JURUSAN",{"$f":"MENU!F8","v":"TBSM"}]
[null,null,null,null,null,null,null,null,null,null,null,null,null,null,null,null,"NIS",{"$f":"VLOOKUP($R$13,TAB_BIODATA,BIODATA!D4,FALSE)","v":16170535}]
[null,null,null,"Bidang Keahlian",":",{"$f":"VLOOKUP($R$1,TAB_JURUSAN,2,FALSE)","v":"Teknologi dan Rekayasa"}]
["T1",null,null,"Program Keahlian",":",{"$f":"VLOOKUP($R$1,TAB_JURUSAN,3,FALSE)","v":"Teknik Otomotif"}]
["T2",null,null,"Kompetensi Keahlian",":",{"$f":"VLOOKUP($R$1,TAB_JURUSAN,4,FALSE)","v":"Teknik dan Bisnis Sepeda Motor"},null,null,null,null,null,null,null,null,null,null,"DATA CETAK",null,"HALAMAN CETAK"]
["T3",null,null,"Semester",":",{"$f":"NILSM6!B3","v":"6 (enam)"},null,null,null,null,null,null,null,null,null,null,"Dari data ke",1,"Dari",1]
[]
[null,1,"No.","Mata Pelajaran","KD","Nama Topik",null,null,null,null,null,null,null,null,null,null,"Sampai data ke",2,"Ke",1]
[null,1,"A. Muatan Nasional",null,null,"T1","U1","T2","U2","T3","U3","H"]
["PAB",{"$f":"IF(C10>=1,1,0)","v":1},{"$f":"HLOOKUP(A10&$A$4,TABNILSM6,4,FALSE)","v":1},{"$f":"HLOOKUP(A10&$A$4,TABNILSM6,2,FALSE)","v":"Pendidikan Agama dan Budi Pekerti"},1,{"$f":"HLOOKUP(A10&$A$4,TABNILSM6,6,FALSE)","v":"Iman"}]
["PAB",{"$f":"IF(C10>=1,1,0)","v":1},null,"Pendidikan Agama dan Budi Pekerti",2,{"$f":"HLOOKUP(A11&$A$5,TABNILSM6,6,FALSE)","v":2}]
["PAB",{"$f":"IF(C10>=1,1,0)","v":1},null,"Pendidikan Agama dan Budi Pekerti",3,{"$f":"HLOOKUP(A12&$A$6,TABNILSM6,6,FALSE)","v":3},null,null,null,null,null,null,null,null,null,null,"TAMPILAN DATA"]
["PKN",{"$f":"IF(C13>=1,1,0)","v":1},{"$f":"HLOOKUP(A13&$A$4,TABNILSM6,4,FALSE)","v":2},"Pendidikan Pancasila dan Kewarganegaraan",1,{"$f":"HLOOKUP(A13&$A$4,TABNILSM6,6,FALSE)","v":4},null,null,null,null,null,null,null,null,null,null,"Nomor Urut",1]
["PKN",{"$f":"IF(C13>=1,1,0)","v":1},null,"Pendidikan Pancasila dan Kewarganegaraan",2,{"$f":"HLOOKUP(A14&$A$5,TABNILSM6,6,FALSE)","v":5}]
["PKN",{"$f":"IF(C13>=1,1,0)","v":1},null,"Pendidikan Pancasila dan Kewarganegaraan",3,{"$f":"HLOOKUP(A15&$A$6,TABNILSM6,6,FALSE)","v":6}]
["IND",{"$f":"IF(C16>=1,1,0)","v":1},{"$f":"HLOOKUP(A16&$A$4,TABNILSM6,4,FALSE)","v":3},"Bahasa Indonesia",1,{"$f":"HLOOKUP(A16&$A$4,TABNILSM6,6,FALSE)","v":7}]
["IND",{"$f":"IF(C16>=1,1,0)","v":1},null,"Bahasa Indonesia",2,{"$f":"HLOOKUP(A17&$A$5,TABNILSM6,6,FALSE)","v":8}]
["IND",{"$f":"IF(C16>=1,1,0)","v":1},null,"Bahasa Indonesia",3,{"$f":"HLOOKUP(A18&$A$6,TABNILSM6,6,FALSE)","v":9}]
["MTK",{"$f":"IF(C19>=1,1,0)","v":1},{"$f":"HLOOKUP(A19&$A$4,TABNILSM6,4,FALSE)","v":4},"Matematika",1,{"$f":"HLOOKUP(A19&$A$4,TABNILSM6,6,FALSE)","v":10}]
["MTK",{"$f":"IF(C19>=1,1,0)","v":1},null,"Matematika",2,{"$f":"HLOOKUP(A20&$A$5,TABNILSM6,6,FALSE)","v":11}]
["MTK",{"$f":"IF(C19>=1,1,0)","v":1},null,"Matematika",3,{"$f":"HLOOKUP(A21&$A$6,TABNILSM6,6,FALSE)","v":12}]
["SJI",{"$f":"IF(C22>=1,1,0)","v":0},{"$f":"HLOOKUP(A22&$A$4,TABNILSM6,4,FALSE)","v":0},"-",1,{"$f":"HLOOKUP(A22&$A$4,TABNILSM6,6,FALSE)","v":13}]
["SJI",{"$f":"IF(C22>=1,1,0)","v":0},null,"-",2,{"$f":"HLOOKUP(A23&$A$5,TABNILSM6,6,FALSE)","v":14}]
["SJI",{"$f":"IF(C22>=1,1,0)","v":0},null,"-",3,{"$f":"HLOOKUP(A24&$A$6,TABNILSM6,6,FALSE)","v":15}]
["ING",{"$f":"IF(C25>=1,1,0)","v":1},{"$f":"HLOOKUP(A25&$A$4,TABNILSM6,4,FALSE)","v":5},"Bahasa Inggris",1,{"$f":"HLOOKUP(A25&$A$4,TABNILSM6,6,FALSE)","v":16}]
["ING",{"$f":"IF(C25>=1,1,0)","v":1},null,"Bahasa Inggris",2,{"$f":"HLOOKUP(A26&$A$5,TABNILSM6,6,FALSE)","v":17}]
["ING",{"$f":"IF(C25>=1,1,0)","v":1},null,"Bahasa Inggris",3,{"$f":"HLOOKUP(A27&$A$6,TABNILSM6,6,FALSE)","v":18}]
["JER",{"$f":"IF(C28>=1,1,0)","v":1},{"$f":"HLOOKUP(A28&$A$4,TABNILSM6,4,FALSE)","v":6},"Bahasa Jerman",1,{"$f":"HLOOKUP(A28&$A$4,TABNILSM6,6,FALSE)","v":19}]
["JER",1,null,"Bahasa Jerman",2,{"$f":"HLOOKUP(A29&$A$5,TABNILSM6,6,FALSE)","v":20}]
["JER",{"$f":"IF(C28>=1,1,0)","v":1},null,"Bahasa Jerman",3,{"$f":"HLOOKUP(A30&$A$6,TABNILSM6,6,FALSE)","v":21}]
[null,{"$f":"IF(AND(COUNT(C31)=0,C35=0),0,1)","v":0},"B. Muatan Kewilayahan"]
["SBD",{"$f":"IF(C32>=1,1,0)","v":0},{"$f":"HLOOKUP(A32&$A$4,TABNILSM6,4,FALSE)","v":0},{"$f":"HLOOKUP(A32&$A$4,TABNILSM6,2,FALSE)","v":"-"},1,{"$f":"HLOOKUP(A32&$A$4,TABNILSM6,6,FALSE)","v":22}]
["SBD",{"$f":"IF(C32>=1,1,0)","v":0},null,"-",2,{"$f":"HLOOKUP(A33&$A$5,TABNILSM6,6,FALSE)","v":23}]
["SBD",{"$f":"IF(C32>=1,1,0)","v":0},null,"-",3,{"$f":"HLOOKUP(A34&$A$6,TABNILSM6,6,FALSE)","v":24}]
["PJO",0,{"$f":"HLOOKUP(A35&$A$4,TABNILSM6,4,FALSE)","v":0},"-",1,{"$f":"HLOOKUP(A35&$A$4,TABNILSM6,6,FALSE)","v":25}]
["PJO",0,null,"-",2,{"$f":"HLOOKUP(A36&$A$5,TABNILSM6,6,FALSE)","v":26}]
["PJO",0,null,"-",3,{"$f":"HLOOKUP(A37&$A$6,TABNILSM6,6,FALSE)","v":27}]
["-",1,"C. Muatan Peminatan Kejuruan"]
[null,{"$f":"IF(AND(COUNT(C39)=0,C40=0),0,1)","v":0},"C1","Dasar Bidang Keahlian"]
["SKD",{"$f":"IF(C40>=1,1,0)","v":0},{"$f":"HLOOKUP(A40&$A$4,TABNILSM6,4,FALSE)","v":0},{"$f":"HLOOKUP(A40&$A$4,TABNILSM6,2,FALSE)","v":"-"},1,{"$f":"HLOOKUP(A40&$A$4,TABNILSM6,6,FALSE)","v":28}]
["SKD",{"$f":"IF(C40>=1,1,0)","v":0},null,"-",2,{"$f":"HLOOKUP(A41&$A$5,TABNILSM6,6,FALSE)","v":29}]
["SKD",{"$f":"IF(C40>=1,1,0)","v":0},null,"-",3,{"$f":"HLOOKUP(A42&$A$6,TABNILSM6,6,FALSE)","v":30}]
["FIS",0,{"$f":"HLOOKUP(A43&$A$4,TABNILSM6,4,FALSE)","v":0},"-",1,{"$f":"HLOOKUP(A43&$A$4,TABNILSM6,6,FALSE)","v":31}]
["FIS",0,null,"-",2,{"$f":"HLOOKUP(A44&$A$5,TABNILSM6,6,FALSE)","v":32}]
["FIS",0,null,"-",3,{"$f":"HLOOKUP(A45&$A$6,TABNILSM6,6,FALSE)","v":33}]
["KIM",0,{"$f":"HLOOKUP(A46&$A$4,TABNILSM6,4,FALSE)","v":0},"-",1,{"$f":"HLOOKUP(A46&$A$4,TABNILSM6,6,FALSE)","v":34}]
["KIM",0,null,"-",2,{"$f":"HLOOKUP(A47&$A$5,TABNILSM6,6,FALSE)","v":35}]
["KIM",0,null,"-",3,{"$f":"HLOOKUP(A48&$A$6,TABNILSM6,6,FALSE)","v":36}]
[null,{"$f":"IF(AND(COUNT(C49)=0,C50=0),0,1)","v":0},"C2","Dasar Program Keahlian",null,null,null,null,null,null,null,null,null,null,null,null,{"$f":"VLOOKUP($R$13,TAB_BIODATA,BIODATA!C4,FALSE)","v":"ADAM ADIYAT HARTANTO"}]
["C21",{"$f":"IF(C50>=1,1,0)","v":0},{"$f":"HLOOKUP(A50&$A$4,TABNILSM6,4,FALSE)","v":0},{"$f":"HLOOKUP(A50&$A$4,TABNILSM6,2,FALSE)","v":"-"},1,{"$f":"HLOOKUP(A50&$A$4,TABNILSM6,6,FALSE)","v":37}]
["C21",{"$f":"IF(C50>=1,1,0)","v":0},null,"-",2,{"$f":"HLOOKUP(A51&$A$5,TABNILSM6,6,FALSE)","v":38},null,null,null,null,null,null,null,null,null,null,{"$f":"\"Nomor Urut \"&R13","v":"Nomor Urut 1"}]
["C21",{"$f":"IF(C50>=1,1,0)","v":0},null,"-",3,{"$f":"HLOOKUP(A52&$A$6,TABNILSM6,6,FALSE)","v":39}]
["C22",0,{"$f":"HLOOKUP(A53&$A$4,TABNILSM6,4,FALSE)","v":0},"-",1,{"$f":"HLOOKUP(A53&$A$4,TABNILSM6,6,FALSE)","v":40}]
["C22",0,null,"-",2,{"$f":"HLOOKUP(A54&$A$5,TABNILSM6,6,FALSE)","v":41}]
["C22",0,null,"-",3,{"$f":"HLOOKUP(A55&$A$6,TABNILSM6,6,FALSE)","v":42}]
["C23",0,{"$f":"HLOOKUP(A56&$A$4,TABNILSM6,4,FALSE)","v":0},"-",1,{"$f":"HLOOKUP(A56&$A$4,TABNILSM6,6,FALSE)","v":43}]
["C23",0,null,"-",2,{"$f":"HLOOKUP(A57&$A$5,TABNILSM6,6,FALSE)","v":44}]
["C23",0,null,"-",3,{"$f":"HLOOKUP(A58&$A$6,TABNILSM6,6,FALSE)","v":45}]
["C24",0,{"$f":"HLOOKUP(A59&$A$4,TABNILSM6,4,FALSE)","v":0},"-",1,{"$f":"HLOOKUP(A59&$A$4,TABNILSM6,6,FALSE)","v":46}]
["C24",0,null,"-",2,{"$f":"HLOOKUP(A60&$A$5,TABNILSM6,6,FALSE)","v":47}]
["C24",0,null,"-",3,{"$f":"HLOOKUP(A61&$A$6,TABNILSM6,6,FALSE)","v":48}]
["-",{"$f":"IF(AND(COUNT(C62)=0,C69=0),0,1)","v":1},"C3","Kompetensi Keahlian"]
["C31",{"$f":"IF(C63>=1,1,0)","v":1},{"$f":"HLOOKUP(A63&$A$4,TABNILSM6,4,FALSE)","v":7},{"$f":"HLOOKUP(A63&$A$4,TABNILSM6,2,FALSE)","v":"Pemeliharaan Mesin Sepeda Motor"},1,{"$f":"HLOOKUP(A63&$A$4,TABNILSM6,6,FALSE)","v":49}]
["C31",{"$f":"IF(C63>=1,1,0)","v":1},null,"Pemeliharaan Mesin Sepeda Motor",2,{"$f":"HLOOKUP(A64&$A$5,TABNILSM6,6,FALSE)","v":50}]
["C31",{"$f":"IF(C63>=1,1,0)","v":1},null,"Pemeliharaan Mesin Sepeda Motor",3,{"$f":"HLOOKUP(A65&$A$6,TABNILSM6,6,FALSE)","v":51}]
["C32",1,{"$f":"HLOOKUP(A66&$A$4,TABNILSM6,4,FALSE)","v":8},"Pemeliharaan Sasis Sepeda Motor",1,{"$f":"HLOOKUP(A66&$A$4,TABNILSM6,6,FALSE)","v":52}]
["C32",1,null,"Pemeliharaan Sasis Sepeda Motor",2,{"$f":"HLOOKUP(A67&$A$5,TABNILSM6,6,FALSE)","v":53}]
["C32",1,null,"Pemeliharaan Sasis Sepeda Motor",3,{"$f":"HLOOKUP(A68&$A$6,TABNILSM6,6,FALSE)","v":54}]
["C33",1,{"$f":"HLOOKUP(A69&$A$4,TABNILSM6,4,FALSE)","v":9},"Pemeliharaan Kelistrikan Sepeda Motor",1,{"$f":"HLOOKUP(A69&$A$4,TABNILSM6,6,FALSE)","v":55}]
["C33",1,null,"Pemeliharaan Kelistrikan Sepeda Motor",2,{"$f":"HLOOKUP(A70&$A$5,TABNILSM6,6,FALSE)","v":56}]
["C33",1,null,"Pemeliharaan Kelistrikan Sepeda Motor",3,{"$f":"HLOOKUP(A71&$A$6,TABNILSM6,6,FALSE)","v":57}]
["C34",1,{"$f":"HLOOKUP(A72&$A$4,TABNILSM6,4,FALSE)","v":10},"Pengelolaan Bengkel Sepeda Motor",1,{"$f":"HLOOKUP(A72&$A$4,TABNILSM6,6,FALSE)","v":58}]
["C34",1,null,"Pengelolaan Bengkel Sepeda Motor",2,{"$f":"HLOOKUP(A73&$A$5,TABNILSM6,6,FALSE)","v":59}]
["C34",1,null,"Pengelolaan Bengkel Sepeda Motor",3,{"$f":"HLOOKUP(A74&$A$6,TABNILSM6,6,FALSE)","v":60}]
["C35",0,{"$f":"HLOOKUP(A75&$A$4,TABNILSM6,4,FALSE)","v":0},"-",1,{"$f":"HLOOKUP(A75&$A$4,TABNILSM6,6,FALSE)","v":61}]
["C35",0,null,"-",2,{"$f":"HLOOKUP(A76&$A$5,TABNILSM6,6,FALSE)","v":62}]
["C35",0,null,"-",3,{"$f":"HLOOKUP(A77&$A$6,TABNILSM6,6,FALSE)","v":63}]
["C36",1,{"$f":"HLOOKUP(A78&$A$4,TABNILSM6,4,FALSE)","v":11},"Produk Kreatif dan Kewirausahaan ",1,{"$f":"HLOOKUP(A78&$A$4,TABNILSM6,6,FALSE)","v":64}]
["C36",1,null,"Produk Kreatif dan Kewirausahaan ",2,{"$f":"HLOOKUP(A79&$A$5,TABNILSM6,6,FALSE)","v":65}]
["C36",1,null,"Produk Kreatif dan Kewirausahaan ",3,{"$f":"HLOOKUP(A80&$A$6,TABNILSM6,6,FALSE)","v":66}]
[null,{"$f":"IF(AND(COUNT(C81)=0,C82=0),0,1)","v":0},"Muatan Lokal"]
["SUN",{"$f":"IF(C82>=1,1,0)","v":0},{"$f":"HLOOKUP(A82&$A$4,TABNILSM6,4,FALSE)","v":0},{"$f":"HLOOKUP(A82&$A$4,TABNILSM6,2,FALSE)","v":"-"},1,{"$f":"HLOOKUP(A82&$A$4,TABNILSM6,6,FALSE)","v":67}]
["SUN",{"$f":"IF(C82>=1,1,0)","v":0},null,"-",2,{"$f":"HLOOKUP(A83&$A$5,TABNILSM6,6,FALSE)","v":68}]
["SUN",{"$f":"IF(C82>=1,1,0)","v":0},null,"-",3,{"$f":"HLOOKUP(A84&$A$6,TABNILSM6,6,FALSE)","v":69}]
["PLH",{"$f":"IF(C85>=1,1,0)","v":0},{"$f":"HLOOKUP(A85&$A$4,TABNILSM6,4,FALSE)","v":0},"-",1,{"$f":"HLOOKUP(A85&$A$4,TABNILSM6,6,FALSE)","v":70}]
["PLH",0,null,"-",2,{"$f":"HLOOKUP(A86&$A$5,TABNILSM6,6,FALSE)","v":71}]
["PLH",{"$f":"IF(C85>=1,1,0)","v":0},null,"-",3,{"$f":"HLOOKUP(A87&$A$6,TABNILSM6,6,FALSE)","v":72}]

{"sheet":"CETKD7","index":22,"n_rows":87,"n_cols":20,"rows_kept":87,"cut":false,"hidden":false,"merged":[[0,2,0,11],[4,16,4,17],[4,18,4,19],[5,16,6,16],[5,17,6,17],[5,18,6,18],[5,19,6,19],[7,16,8,16],[7,17,8,17],[7,18,8,18],[7,19,8,19],[7,5,7,11],[9,2,11,2],[9,5,9,11],[10,5,10,11],[11,5,11,11],[25,16,25,17],[12,2,14,2],[12,5,12,11],[13,5,13,11],[14,5,14,11],[15,2,17,2],[15,5,15,11],[16,5,16,11],[17,5,17,11],[24,2,26,2],[24,5,24,11],[25,5,25,11],[26,5,26,11],[27,2,29,2],[27,5,27,11],[28,5,28,11],[29,5,29,11],[18,2,20,2],[18,5,18,11],[19,5,19,11],[20,5,20,11],[21,2,23,2],[21,5,21,11],[22,5,22,11],[23,5,23,11],[37,2,37,5],[38,3,38,5],[39,2,41,2],[39,5,39,11],[40,5,40,11],[41,5,41,11],[30,2,30,3],[31,2,33,2],[31,5,31,11],[32,5,32,11],[33,5,33,11],[34,2,36,2],[34,5,34,11],[35,5,35,11],[36,5,36,11],[48,3,48,5],[62,16,63,18],[49,2,51,2],[49,5,49,11],[50,5,50,11],[64,16,65,18],[51,5,51,11],[42,2,44,2],[42,5,42,11],[43,5,43,11],[44,5,44,11],[45,2,47,2],[45,5,45,11],[46,5,46,11],[47,5,47,11],[58,2,60,2],[58,5,58,11],[59,5,59,11],[60,5,60,11],[62,2,64,2],[62,5,62,11],[63,5,63,11],[64,5,64,11],[52,2,54,2],[52,5,52,11],[53,5,53,11],[54,5,54,11],[55,2,57,2],[55,5,55,11],[56,5,56,11],[57,5,57,11],[71,2,73,2],[71,5,71,11],[72,5,72,11],[73,5,73,11],[74,2,76,2],[74,5,74,11],[75,5,75,11],[76,5,76,11],[65,2,67,2],[65,5,65,11],[66,5,66,11],[67,5,67,11],[68,2,70,2],[68,5,68,11],[69,5,69,11],[70,5,70,11],[84,2,86,2],[84,5,84,11],[85,5,85,11],[86,5,86,11],[77,2,79,2],[77,5,77,11],[78,5,78,11],[79,5,79,11],[80,2,80,3],[81,2,83,2],[81,5,81,11],[82,5,82,11],[83,5,83,11]]}
[null,null,"DAFTAR TOPIK PER KOMPETENSI DASAR",null,null,null,null,null,null,null,null,null,null,null,null,null,"JURUSAN",{"$f":"MENU!F8","v":"TBSM"}]
[null,null,null,null,null,null,null,null,null,null,null,null,null,null,null,null,"NIS",{"$f":"VLOOKUP($R$27,TAB_BIODATA,BIODATA!D4,FALSE)","v":16170535}]
[null,null,null,"Bidang Keahlian",":",{"$f":"VLOOKUP($R$1,TAB_JURUSAN,2,FALSE)","v":"Teknologi dan Rekayasa"}]
["T1",null,null,"Program Keahlian",":",{"$f":"VLOOKUP($R$1,TAB_JURUSAN,3,FALSE)","v":"Teknik Otomotif"}]
["T2",null,null,"Kompetensi Keahlian",":",{"$f":"VLOOKUP($R$1,TAB_JURUSAN,4,FALSE)","v":"Teknik dan Bisnis Sepeda Motor"},null,null,null,null,null,null,null,null,null,null,"DATA CETAK",null,"HALAMAN CETAK"]
["T3",null,null,"Semester",":",{"$f":"NILSM7!B3","v":"7 (tujuh)"},null,null,null,null,null,null,null,null,null,null,"Dari data ke",1,"Dari",1]
[]
[null,1,"No.","Mata Pelajaran","KD","Nama Topik",null,null,null,null,null,null,null,null,null,null,"Sampai data ke",2,"Ke",1]
[null,1,"A. Muatan Nasional",null,null,"T1","U1","T2","U2","T3","U3","H"]
["PAB",{"$f":"IF(C10>=1,1,0)","v":0},{"$f":"HLOOKUP(A10&$A$4,TABNILSM7,4,FALSE)","v":0},{"$f":"HLOOKUP(A10&$A$4,TABNILSM7,2,FALSE)","v":{"$error":"#N/A"}},1,{"$f":"HLOOKUP(A10&$A$4,TABNILSM7,6,FALSE)","v":"Ihsan"}]
["PAB",{"$f":"IF(C10>=1,1,0)","v":0},null,{"$error":"#N/A"},2,{"$f":"HLOOKUP(A11&$A$5,TABNILSM7,6,FALSE)","v":2}]
["PAB",{"$f":"IF(C10>=1,1,0)","v":0},null,{"$error":"#N/A"},3,{"$f":"HLOOKUP(A12&$A$6,TABNILSM7,6,FALSE)","v":3}]
["PKN",{"$f":"IF(C13>=1,1,0)","v":{"$error":"#N/A"}},{"$f":"HLOOKUP(A13&$A$4,TABNILSM7,4,FALSE)","v":{"$error":"#N/A"}},{"$error":"#N/A"},1,{"$f":"HLOOKUP(A13&$A$4,TABNILSM7,6,FALSE)","v":4}]
["PKN",{"$f":"IF(C13>=1,1,0)","v":{"$error":"#N/A"}},null,{"$error":"#N/A"},2,{"$f":"HLOOKUP(A14&$A$5,TABNILSM7,6,FALSE)","v":5}]
["PKN",{"$f":"IF(C13>=1,1,0)","v":{"$error":"#N/A"}},null,{"$error":"#N/A"},3,{"$f":"HLOOKUP(A15&$A$6,TABNILSM7,6,FALSE)","v":6}]
["IND",{"$f":"IF(C16>=1,1,0)","v":{"$error":"#N/A"}},{"$f":"HLOOKUP(A16&$A$4,TABNILSM7,4,FALSE)","v":{"$error":"#N/A"}},{"$error":"#N/A"},1,{"$f":"HLOOKUP(A16&$A$4,TABNILSM7,6,FALSE)","v":7}]
["IND",{"$f":"IF(C16>=1,1,0)","v":{"$error":"#N/A"}},null,{"$error":"#N/A"},2,{"$f":"HLOOKUP(A17&$A$5,TABNILSM7,6,FALSE)","v":8}]
["IND",{"$f":"IF(C16>=1,1,0)","v":{"$error":"#N/A"}},null,{"$error":"#N/A"},3,{"$f":"HLOOKUP(A18&$A$6,TABNILSM7,6,FALSE)","v":9}]
["MTK",{"$f":"IF(C19>=1,1,0)","v":{"$error":"#N/A"}},{"$f":"HLOOKUP(A19&$A$4,TABNILSM7,4,FALSE)","v":{"$error":"#N/A"}},{"$error":"#N/A"},1,{"$f":"HLOOKUP(A19&$A$4,TABNILSM7,6,FALSE)","v":10}]
["MTK",{"$f":"IF(C19>=1,1,0)","v":{"$error":"#N/A"}},null,{"$error":"#N/A"},2,{"$f":"HLOOKUP(A20&$A$5,TABNILSM7,6,FALSE)","v":11}]
["MTK",{"$f":"IF(C19>=1,1,0)","v":{"$error":"#N/A"}},null,{"$error":"#N/A"},3,{"$f":"HLOOKUP(A21&$A$6,TABNILSM7,6,FALSE)","v":12}]
["SJI",{"$f":"IF(C22>=1,1,0)","v":{"$error":"#N/A"}},{"$f":"HLOOKUP(A22&$A$4,TABNILSM7,4,FALSE)","v":{"$error":"#N/A"}},{"$error":"#N/A"},1,{"$f":"HLOOKUP(A22&$A$4,TABNILSM7,6,FALSE)","v":13}]
["SJI",{"$f":"IF(C22>=1,1,0)","v":{"$error":"#N/A"}},null,{"$error":"#N/A"},2,{"$f":"HLOOKUP(A23&$A$5,TABNILSM7,6,FALSE)","v":14}]
["SJI",{"$f":"IF(C22>=1,1,0)","v":{"$error":"#N/A"}},null,{"$error":"#N/A"},3,{"$f":"HLOOKUP(A24&$A$6,TABNILSM7,6,FALSE)","v":15}]
["ING",{"$f":"IF(C25>=1,1,0)","v":{"$error":"#N/A"}},{"$f":"HLOOKUP(A25&$A$4,TABNILSM7,4,FALSE)","v":{"$error":"#N/A"}},{"$error":"#N/A"},1,{"$f":"HLOOKUP(A25&$A$4,TABNILSM7,6,FALSE)","v":16}]
["ING",{"$f":"IF(C25>=1,1,0)","v":{"$error":"#N/A"}},null,{"$error":"#N/A"},2,{"$f":"HLOOKUP(A26&$A$5,TABNILSM7,6,FALSE)","v":17},null,null,null,null,null,null,null,null,null,null,"TAMPILAN DATA"]
["ING",{"$f":"IF(C25>=1,1,0)","v":{"$error":"#N/A"}},null,{"$error":"#N/A"},3,{"$f":"HLOOKUP(A27&$A$6,TABNILSM7,6,FALSE)","v":18},null,null,null,null,null,null,null,null,null,null,"Nomor Urut",1]
["JER",{"$f":"IF(C28>=1,1,0)","v":{"$error":"#N/A"}},{"$f":"HLOOKUP(A28&$A$4,TABNILSM7,4,FALSE)","v":{"$error":"#N/A"}},{"$error":"#N/A"},1,{"$f":"HLOOKUP(A28&$A$4,TABNILSM7,6,FALSE)","v":19}]
["JER",{"$error":"#N/A"},null,{"$error":"#N/A"},2,{"$f":"HLOOKUP(A29&$A$5,TABNILSM7,6,FALSE)","v":20}]
["JER",{"$f":"IF(C28>=1,1,0)","v":{"$error":"#N/A"}},null,{"$error":"#N/A"},3,{"$f":"HLOOKUP(A30&$A$6,TABNILSM7,6,FALSE)","v":21}]
[null,{"$f":"IF(AND(COUNT(C31)=0,C35=0),0,1)","v":{"$error":"#N/A"}},"B. Muatan Kewilayahan"]
["SBD",{"$f":"IF(C32>=1,1,0)","v":{"$error":"#N/A"}},{"$f":"HLOOKUP(A32&$A$4,TABNILSM7,4,FALSE)","v":{"$error":"#N/A"}},{"$f":"HLOOKUP(A32&$A$4,TABNILSM7,2,FALSE)","v":{"$error":"#N/A"}},1,{"$f":"HLOOKUP(A32&$A$4,TABNILSM7,6,FALSE)","v":22}]
["SBD",{"$f":"IF(C32>=1,1,0)","v":{"$error":"#N/A"}},null,{"$error":"#N/A"},2,{"$f":"HLOOKUP(A33&$A$5,TABNILSM7,6,FALSE)","v":23}]
["SBD",{"$f":"IF(C32>=1,1,0)","v":{"$error":"#N/A"}},null,{"$error":"#N/A"},3,{"$f":"HLOOKUP(A34&$A$6,TABNILSM7,6,FALSE)","v":24}]
["PJO",{"$error":"#N/A"},{"$f":"HLOOKUP(A35&$A$4,TABNILSM7,4,FALSE)","v":{"$error":"#N/A"}},{"$error":"#N/A"},1,{"$f":"HLOOKUP(A35&$A$4,TABNILSM7,6,FALSE)","v":25}]
["PJO",{"$error":"#N/A"},null,{"$error":"#N/A"},2,{"$f":"HLOOKUP(A36&$A$5,TABNILSM7,6,FALSE)","v":26}]
["PJO",{"$error":"#N/A"},null,{"$error":"#N/A"},3,{"$f":"HLOOKUP(A37&$A$6,TABNILSM7,6,FALSE)","v":27}]
["-",1,"C. Muatan Peminatan Kejuruan"]
[null,{"$f":"IF(AND(COUNT(C39)=0,C40=0),0,1)","v":{"$error":"#N/A"}},"C1","Dasar Bidang Keahlian"]
["SKD",{"$f":"IF(C40>=1,1,0)","v":{"$error":"#N/A"}},{"$f":"HLOOKUP(A40&$A$4,TABNILSM7,4,FALSE)","v":{"$error":"#N/A"}},{"$f":"HLOOKUP(A40&$A$4,TABNILSM7,2,FALSE)","v":{"$error":"#N/A"}},1,{"$f":"HLOOKUP(A40&$A$4,TABNILSM7,6,FALSE)","v":28}]
["SKD",{"$f":"IF(C40>=1,1,0)","v":{"$error":"#N/A"}},null,{"$error":"#N/A"},2,{"$f":"HLOOKUP(A41&$A$5,TABNILSM7,6,FALSE)","v":29}]
["SKD",{"$f":"IF(C40>=1,1,0)","v":{"$error":"#N/A"}},null,{"$error":"#N/A"},3,{"$f":"HLOOKUP(A42&$A$6,TABNILSM7,6,FALSE)","v":30}]
["FIS",{"$error":"#N/A"},{"$f":"HLOOKUP(A43&$A$4,TABNILSM7,4,FALSE)","v":{"$error":"#N/A"}},{"$error":"#N/A"},1,{"$f":"HLOOKUP(A43&$A$4,TABNILSM7,6,FALSE)","v":31}]
["FIS",{"$error":"#N/A"},null,{"$error":"#N/A"},2,{"$f":"HLOOKUP(A44&$A$5,TABNILSM7,6,FALSE)","v":32}]
["FIS",{"$error":"#N/A"},null,{"$error":"#N/A"},3,{"$f":"HLOOKUP(A45&$A$6,TABNILSM7,6,FALSE)","v":33}]
["KIM",{"$error":"#N/A"},{"$f":"HLOOKUP(A46&$A$4,TABNILSM7,4,FALSE)","v":{"$error":"#N/A"}},{"$error":"#N/A"},1,{"$f":"HLOOKUP(A46&$A$4,TABNILSM7,6,FALSE)","v":34}]
["KIM",{"$error":"#N/A"},null,{"$error":"#N/A"},2,{"$f":"HLOOKUP(A47&$A$5,TABNILSM7,6,FALSE)","v":35}]
["KIM",{"$error":"#N/A"},null,{"$error":"#N/A"},3,{"$f":"HLOOKUP(A48&$A$6,TABNILSM7,6,FALSE)","v":36}]
[null,{"$f":"IF(AND(COUNT(C49)=0,C50=0),0,1)","v":{"$error":"#N/A"}},"C2","Dasar Program Keahlian"]
["C21",{"$f":"IF(C50>=1,1,0)","v":{"$error":"#N/A"}},{"$f":"HLOOKUP(A50&$A$4,TABNILSM7,4,FALSE)","v":{"$error":"#N/A"}},{"$f":"HLOOKUP(A50&$A$4,TABNILSM7,2,FALSE)","v":{"$error":"#N/A"}},1,{"$f":"HLOOKUP(A50&$A$4,TABNILSM7,6,FALSE)","v":37}]
["C21",{"$f":"IF(C50>=1,1,0)","v":{"$error":"#N/A"}},null,{"$error":"#N/A"},2,{"$f":"HLOOKUP(A51&$A$5,TABNILSM7,6,FALSE)","v":38}]
["C21",{"$f":"IF(C50>=1,1,0)","v":{"$error":"#N/A"}},null,{"$error":"#N/A"},3,{"$f":"HLOOKUP(A52&$A$6,TABNILSM7,6,FALSE)","v":39}]
["C22",{"$error":"#N/A"},{"$f":"HLOOKUP(A53&$A$4,TABNILSM7,4,FALSE)","v":{"$error":"#N/A"}},{"$error":"#N/A"},1,{"$f":"HLOOKUP(A53&$A$4,TABNILSM7,6,FALSE)","v":40}]
["C22",{"$error":"#N/A"},null,{"$error":"#N/A"},2,{"$f":"HLOOKUP(A54&$A$5,TABNILSM7,6,FALSE)","v":41}]
["C22",{"$error":"#N/A"},null,{"$error":"#N/A"},3,{"$f":"HLOOKUP(A55&$A$6,TABNILSM7,6,FALSE)","v":42}]
["C23",{"$error":"#N/A"},{"$f":"HLOOKUP(A56&$A$4,TABNILSM7,4,FALSE)","v":{"$error":"#N/A"}},{"$error":"#N/A"},1,{"$f":"HLOOKUP(A56&$A$4,TABNILSM7,6,FALSE)","v":43}]
["C23",{"$error":"#N/A"},null,{"$error":"#N/A"},2,{"$f":"HLOOKUP(A57&$A$5,TABNILSM7,6,FALSE)","v":44}]
["C23",{"$error":"#N/A"},null,{"$error":"#N/A"},3,{"$f":"HLOOKUP(A58&$A$6,TABNILSM7,6,FALSE)","v":45}]
["C24",{"$error":"#N/A"},{"$f":"HLOOKUP(A59&$A$4,TABNILSM7,4,FALSE)","v":{"$error":"#N/A"}},{"$error":"#N/A"},1,{"$f":"HLOOKUP(A59&$A$4,TABNILSM7,6,FALSE)","v":46}]
["C24",{"$error":"#N/A"},null,{"$error":"#N/A"},2,{"$f":"HLOOKUP(A60&$A$5,TABNILSM7,6,FALSE)","v":47}]
["C24",{"$error":"#N/A"},null,{"$error":"#N/A"},3,{"$f":"HLOOKUP(A61&$A$6,TABNILSM7,6,FALSE)","v":48}]
["-",{"$f":"IF(AND(COUNT(C62)=0,C69=0),0,1)","v":{"$error":"#N/A"}},"C3","Kompetensi Keahlian"]
["C31",{"$f":"IF(C63>=1,1,0)","v":{"$error":"#N/A"}},{"$f":"HLOOKUP(A63&$A$4,TABNILSM7,4,FALSE)","v":{"$error":"#N/A"}},{"$f":"HLOOKUP(A63&$A$4,TABNILSM7,2,FALSE)","v":{"$error":"#N/A"}},1,{"$f":"HLOOKUP(A63&$A$4,TABNILSM7,6,FALSE)","v":49},null,null,null,null,null,null,null,null,null,null,{"$f":"VLOOKUP($R$27,TAB_BIODATA,BIODATA!C4,FALSE)","v":"ADAM ADIYAT HARTANTO"}]
["C31",{"$f":"IF(C63>=1,1,0)","v":{"$error":"#N/A"}},null,{"$error":"#N/A"},2,{"$f":"HLOOKUP(A64&$A$5,TABNILSM7,6,FALSE)","v":50}]
["C31",{"$f":"IF(C63>=1,1,0)","v":{"$error":"#N/A"}},null,{"$error":"#N/A"},3,{"$f":"HLOOKUP(A65&$A$6,TABNILSM7,6,FALSE)","v":51},null,null,null,null,null,null,null,null,null,null,{"$f":"\"Nomor Urut \"&R27","v":"Nomor Urut 1"}]
["C32",{"$error":"#N/A"},{"$f":"HLOOKUP(A66&$A$4,TABNILSM7,4,FALSE)","v":{"$error":"#N/A"}},{"$error":"#N/A"},1,{"$f":"HLOOKUP(A66&$A$4,TABNILSM7,6,FALSE)","v":52}]
["C32",{"$error":"#N/A"},null,{"$error":"#N/A"},2,{"$f":"HLOOKUP(A67&$A$5,TABNILSM7,6,FALSE)","v":53}]
["C32",{"$error":"#N/A"},null,{"$error":"#N/A"},3,{"$f":"HLOOKUP(A68&$A$6,TABNILSM7,6,FALSE)","v":54}]
["C33",{"$error":"#N/A"},{"$f":"HLOOKUP(A69&$A$4,TABNILSM7,4,FALSE)","v":{"$error":"#N/A"}},{"$error":"#N/A"},1,{"$f":"HLOOKUP(A69&$A$4,TABNILSM7,6,FALSE)","v":55}]
["C33",{"$error":"#N/A"},null,{"$error":"#N/A"},2,{"$f":"HLOOKUP(A70&$A$5,TABNILSM7,6,FALSE)","v":56}]
["C33",{"$error":"#N/A"},null,{"$error":"#N/A"},3,{"$f":"HLOOKUP(A71&$A$6,TABNILSM7,6,FALSE)","v":57}]
["C34",{"$error":"#N/A"},{"$f":"HLOOKUP(A72&$A$4,TABNILSM7,4,FALSE)","v":{"$error":"#N/A"}},{"$error":"#N/A"},1,{"$f":"HLOOKUP(A72&$A$4,TABNILSM7,6,FALSE)","v":58}]
["C34",{"$error":"#N/A"},null,{"$error":"#N/A"},2,{"$f":"HLOOKUP(A73&$A$5,TABNILSM7,6,FALSE)","v":59}]
["C34",{"$error":"#N/A"},null,{"$error":"#N/A"},3,{"$f":"HLOOKUP(A74&$A$6,TABNILSM7,6,FALSE)","v":60}]
["C35",{"$error":"#N/A"},{"$f":"HLOOKUP(A75&$A$4,TABNILSM7,4,FALSE)","v":{"$error":"#N/A"}},{"$error":"#N/A"},1,{"$f":"HLOOKUP(A75&$A$4,TABNILSM7,6,FALSE)","v":61}]
["C35",{"$error":"#N/A"},null,{"$error":"#N/A"},2,{"$f":"HLOOKUP(A76&$A$5,TABNILSM7,6,FALSE)","v":62}]
["C35",{"$error":"#N/A"},null,{"$error":"#N/A"},3,{"$f":"HLOOKUP(A77&$A$6,TABNILSM7,6,FALSE)","v":63}]
["C36",{"$error":"#N/A"},{"$f":"HLOOKUP(A78&$A$4,TABNILSM7,4,FALSE)","v":{"$error":"#N/A"}},{"$error":"#N/A"},1,{"$f":"HLOOKUP(A78&$A$4,TABNILSM7,6,FALSE)","v":64}]
["C36",{"$error":"#N/A"},null,{"$error":"#N/A"},2,{"$f":"HLOOKUP(A79&$A$5,TABNILSM7,6,FALSE)","v":65}]
["C36",{"$error":"#N/A"},null,{"$error":"#N/A"},3,{"$f":"HLOOKUP(A80&$A$6,TABNILSM7,6,FALSE)","v":66}]
[null,{"$f":"IF(AND(COUNT(C81)=0,C82=0),0,1)","v":{"$error":"#N/A"}},"Muatan Lokal"]
["SUN",{"$f":"IF(C82>=1,1,0)","v":{"$error":"#N/A"}},{"$f":"HLOOKUP(A82&$A$4,TABNILSM7,4,FALSE)","v":{"$error":"#N/A"}},{"$f":"HLOOKUP(A82&$A$4,TABNILSM7,2,FALSE)","v":{"$error":"#N/A"}},1,{"$f":"HLOOKUP(A82&$A$4,TABNILSM7,6,FALSE)","v":67}]
["SUN",{"$f":"IF(C82>=1,1,0)","v":{"$error":"#N/A"}},null,{"$error":"#N/A"},2,{"$f":"HLOOKUP(A83&$A$5,TABNILSM7,6,FALSE)","v":68}]
["SUN",{"$f":"IF(C82>=1,1,0)","v":{"$error":"#N/A"}},null,{"$error":"#N/A"},3,{"$f":"HLOOKUP(A84&$A$6,TABNILSM7,6,FALSE)","v":69}]
["PLH",{"$f":"IF(C85>=1,1,0)","v":{"$error":"#N/A"}},{"$f":"HLOOKUP(A85&$A$4,TABNILSM7,4,FALSE)","v":{"$error":"#N/A"}},{"$error":"#N/A"},1,{"$f":"HLOOKUP(A85&$A$4,TABNILSM7,6,FALSE)","v":70}]
["PLH",{"$error":"#N/A"},null,{"$error":"#N/A"},2,{"$f":"HLOOKUP(A86&$A$5,TABNILSM7,6,FALSE)","v":71}]
["PLH",{"$f":"IF(C85>=1,1,0)","v":{"$error":"#N/A"}},null,{"$error":"#N/A"},3,{"$f":"HLOOKUP(A87&$A$6,TABNILSM7,6,FALSE)","v":72}]

{"sheet":"CETKD8","index":23,"n_rows":87,"n_cols":20,"rows_kept":87,"cut":false,"hidden":false,"merged":[[84,2,86,2],[84,5,84,11],[85,5,85,11],[86,5,86,11],[77,2,79,2],[77,5,77,11],[78,5,78,11],[79,5,79,11],[80,2,80,3],[81,2,83,2],[81,5,81,11],[82,5,82,11],[83,5,83,11],[74,2,76,2],[74,5,74,11],[75,5,75,11],[76,5,76,11],[65,2,67,2],[65,5,65,11],[66,5,66,11],[67,5,67,11],[68,2,70,2],[68,5,68,11],[69,5,69,11],[70,5,70,11],[52,5,52,11],[53,5,53,11],[54,5,54,11],[55,2,57,2],[55,5,55,11],[56,5,56,11],[57,5,57,11],[71,2,73,2],[71,5,71,11],[72,5,72,11],[73,5,73,11],[48,3,48,5],[62,16,63,18],[49,2,51,2],[49,5,49,11],[50,5,50,11],[64,16,65,18],[51,5,51,11],[42,2,44,2],[42,5,42,11],[43,5,43,11],[44,5,44,11],[45,2,47,2],[45,5,45,11],[46,5,46,11],[47,5,47,11],[58,2,60,2],[58,5,58,11],[59,5,59,11],[60,5,60,11],[62,2,64,2],[62,5,62,11],[63,5,63,11],[64,5,64,11],[52,2,54,2],[37,2,37,5],[38,3,38,5],[39,2,41,2],[39,5,39,11],[40,5,40,11],[41,5,41,11],[30,2,30,3],[31,2,33,2],[31,5,31,11],[32,5,32,11],[33,5,33,11],[34,2,36,2],[34,5,34,11],[35,5,35,11],[36,5,36,11],[27,2,29,2],[27,5,27,11],[28,5,28,11],[29,5,29,11],[18,2,20,2],[18,5,18,11],[19,5,19,11],[20,5,20,11],[21,2,23,2],[21,5,21,11],[22,5,22,11],[23,5,23,11],[9,2,11,2],[9,5,9,11],[10,5,10,11],[11,5,11,11],[25,16,25,17],[12,2,14,2],[12,5,12,11],[13,5,13,11],[14,5,14,11],[15,2,17,2],[15,5,15,11],[16,5,16,11],[17,5,17,11],[24,2,26,2],[24,5,24,11],[25,5,25,11],[26,5,26,11],[0,2,0,11],[4,16,4,17],[4,18,4,19],[5,16,6,16],[5,17,6,17],[5,18,6,18],[5,19,6,19],[7,16,8,16],[7,17,8,17],[7,18,8,18],[7,19,8,19],[7,5,7,11]]}
[null,null,"DAFTAR TOPIK PER KOMPETENSI DASAR",null,null,null,null,null,null,null,null,null,null,null,null,null,"JURUSAN",{"$f":"MENU!F8","v":"TBSM"}]
[null,null,null,null,null,null,null,null,null,null,null,null,null,null,null,null,"NIS",{"$f":"VLOOKUP($R$27,TAB_BIODATA,BIODATA!D4,FALSE)","v":16170535}]
[null,null,null,"Bidang Keahlian",":",{"$f":"VLOOKUP($R$1,TAB_JURUSAN,2,FALSE)","v":"Teknologi dan Rekayasa"}]
["T1",null,null,"Program Keahlian",":",{"$f":"VLOOKUP($R$1,TAB_JURUSAN,3,FALSE)","v":"Teknik Otomotif"}]
["T2",null,null,"Kompetensi Keahlian",":",{"$f":"VLOOKUP($R$1,TAB_JURUSAN,4,FALSE)","v":"Teknik dan Bisnis Sepeda Motor"},null,null,null,null,null,null,null,null,null,null,"DATA CETAK",null,"HALAMAN CETAK"]
["T3",null,null,"Semester",":",{"$f":"NILSM8!B3","v":"8 (delapan)"},null,null,null,null,null,null,null,null,null,null,"Dari data ke",1,"Dari",1]
[]
[null,1,"No.","Mata Pelajaran","KD","Nama Topik",null,null,null,null,null,null,null,null,null,null,"Sampai data ke",2,"Ke",1]
[null,1,"A. Muatan Nasional",null,null,"T1","U1","T2","U2","T3","U3","H"]
["PAB",{"$f":"IF(C10>=1,1,0)","v":0},{"$f":"HLOOKUP(A10&$A$4,TABNILSM8,4,FALSE)","v":0},{"$f":"HLOOKUP(A10&$A$4,TABNILSM8,2,FALSE)","v":{"$error":"#N/A"}},1,{"$f":"HLOOKUP(A10&$A$4,TABNILSM8,6,FALSE)","v":1}]
["PAB",{"$f":"IF(C10>=1,1,0)","v":0},null,{"$error":"#N/A"},2,{"$f":"HLOOKUP(A11&$A$5,TABNILSM8,6,FALSE)","v":2}]
["PAB",{"$f":"IF(C10>=1,1,0)","v":0},null,{"$error":"#N/A"},3,{"$f":"HLOOKUP(A12&$A$6,TABNILSM8,6,FALSE)","v":3}]
["PKN",{"$f":"IF(C13>=1,1,0)","v":{"$error":"#N/A"}},{"$f":"HLOOKUP(A13&$A$4,TABNILSM8,4,FALSE)","v":{"$error":"#N/A"}},{"$error":"#N/A"},1,{"$f":"HLOOKUP(A13&$A$4,TABNILSM8,6,FALSE)","v":4}]
["PKN",{"$f":"IF(C13>=1,1,0)","v":{"$error":"#N/A"}},null,{"$error":"#N/A"},2,{"$f":"HLOOKUP(A14&$A$5,TABNILSM8,6,FALSE)","v":5}]
["PKN",{"$f":"IF(C13>=1,1,0)","v":{"$error":"#N/A"}},null,{"$error":"#N/A"},3,{"$f":"HLOOKUP(A15&$A$6,TABNILSM8,6,FALSE)","v":6}]
["IND",{"$f":"IF(C16>=1,1,0)","v":{"$error":"#N/A"}},{"$f":"HLOOKUP(A16&$A$4,TABNILSM8,4,FALSE)","v":{"$error":"#N/A"}},{"$error":"#N/A"},1,{"$f":"HLOOKUP(A16&$A$4,TABNILSM8,6,FALSE)","v":7}]
["IND",{"$f":"IF(C16>=1,1,0)","v":{"$error":"#N/A"}},null,{"$error":"#N/A"},2,{"$f":"HLOOKUP(A17&$A$5,TABNILSM8,6,FALSE)","v":8}]
["IND",{"$f":"IF(C16>=1,1,0)","v":{"$error":"#N/A"}},null,{"$error":"#N/A"},3,{"$f":"HLOOKUP(A18&$A$6,TABNILSM8,6,FALSE)","v":9}]
["MTK",{"$f":"IF(C19>=1,1,0)","v":{"$error":"#N/A"}},{"$f":"HLOOKUP(A19&$A$4,TABNILSM8,4,FALSE)","v":{"$error":"#N/A"}},{"$error":"#N/A"},1,{"$f":"HLOOKUP(A19&$A$4,TABNILSM8,6,FALSE)","v":10}]
["MTK",{"$f":"IF(C19>=1,1,0)","v":{"$error":"#N/A"}},null,{"$error":"#N/A"},2,{"$f":"HLOOKUP(A20&$A$5,TABNILSM8,6,FALSE)","v":11}]
["MTK",{"$f":"IF(C19>=1,1,0)","v":{"$error":"#N/A"}},null,{"$error":"#N/A"},3,{"$f":"HLOOKUP(A21&$A$6,TABNILSM8,6,FALSE)","v":12}]
["SJI",{"$f":"IF(C22>=1,1,0)","v":{"$error":"#N/A"}},{"$f":"HLOOKUP(A22&$A$4,TABNILSM8,4,FALSE)","v":{"$error":"#N/A"}},{"$error":"#N/A"},1,{"$f":"HLOOKUP(A22&$A$4,TABNILSM8,6,FALSE)","v":13}]
["SJI",{"$f":"IF(C22>=1,1,0)","v":{"$error":"#N/A"}},null,{"$error":"#N/A"},2,{"$f":"HLOOKUP(A23&$A$5,TABNILSM8,6,FALSE)","v":14}]
["SJI",{"$f":"IF(C22>=1,1,0)","v":{"$error":"#N/A"}},null,{"$error":"#N/A"},3,{"$f":"HLOOKUP(A24&$A$6,TABNILSM8,6,FALSE)","v":15}]
["ING",{"$f":"IF(C25>=1,1,0)","v":{"$error":"#N/A"}},{"$f":"HLOOKUP(A25&$A$4,TABNILSM8,4,FALSE)","v":{"$error":"#N/A"}},{"$error":"#N/A"},1,{"$f":"HLOOKUP(A25&$A$4,TABNILSM8,6,FALSE)","v":16}]
["ING",{"$f":"IF(C25>=1,1,0)","v":{"$error":"#N/A"}},null,{"$error":"#N/A"},2,{"$f":"HLOOKUP(A26&$A$5,TABNILSM8,6,FALSE)","v":17},null,null,null,null,null,null,null,null,null,null,"TAMPILAN DATA"]
["ING",{"$f":"IF(C25>=1,1,0)","v":{"$error":"#N/A"}},null,{"$error":"#N/A"},3,{"$f":"HLOOKUP(A27&$A$6,TABNILSM8,6,FALSE)","v":18},null,null,null,null,null,null,null,null,null,null,"Nomor Urut",1]
["JER",{"$f":"IF(C28>=1,1,0)","v":{"$error":"#N/A"}},{"$f":"HLOOKUP(A28&$A$4,TABNILSM8,4,FALSE)","v":{"$error":"#N/A"}},{"$error":"#N/A"},1,{"$f":"HLOOKUP(A28&$A$4,TABNILSM8,6,FALSE)","v":19}]
["JER",{"$error":"#N/A"},null,{"$error":"#N/A"},2,{"$f":"HLOOKUP(A29&$A$5,TABNILSM8,6,FALSE)","v":20}]
["JER",{"$f":"IF(C28>=1,1,0)","v":{"$error":"#N/A"}},null,{"$error":"#N/A"},3,{"$f":"HLOOKUP(A30&$A$6,TABNILSM8,6,FALSE)","v":21}]
[null,{"$f":"IF(AND(COUNT(C31)=0,C35=0),0,1)","v":{"$error":"#N/A"}},"B. Muatan Kewilayahan"]
["SBD",{"$f":"IF(C32>=1,1,0)","v":{"$error":"#N/A"}},{"$f":"HLOOKUP(A32&$A$4,TABNILSM8,4,FALSE)","v":{"$error":"#N/A"}},{"$f":"HLOOKUP(A32&$A$4,TABNILSM8,2,FALSE)","v":{"$error":"#N/A"}},1,{"$f":"HLOOKUP(A32&$A$4,TABNILSM8,6,FALSE)","v":22}]
["SBD",{"$f":"IF(C32>=1,1,0)","v":{"$error":"#N/A"}},null,{"$error":"#N/A"},2,{"$f":"HLOOKUP(A33&$A$5,TABNILSM8,6,FALSE)","v":23}]
["SBD",{"$f":"IF(C32>=1,1,0)","v":{"$error":"#N/A"}},null,{"$error":"#N/A"},3,{"$f":"HLOOKUP(A34&$A$6,TABNILSM8,6,FALSE)","v":24}]
["PJO",{"$error":"#N/A"},{"$f":"HLOOKUP(A35&$A$4,TABNILSM8,4,FALSE)","v":{"$error":"#N/A"}},{"$error":"#N/A"},1,{"$f":"HLOOKUP(A35&$A$4,TABNILSM8,6,FALSE)","v":25}]
["PJO",{"$error":"#N/A"},null,{"$error":"#N/A"},2,{"$f":"HLOOKUP(A36&$A$5,TABNILSM8,6,FALSE)","v":26}]
["PJO",{"$error":"#N/A"},null,{"$error":"#N/A"},3,{"$f":"HLOOKUP(A37&$A$6,TABNILSM8,6,FALSE)","v":27}]
["-",1,"C. Muatan Peminatan Kejuruan"]
[null,{"$f":"IF(AND(COUNT(C39)=0,C40=0),0,1)","v":{"$error":"#N/A"}},"C1","Dasar Bidang Keahlian"]
["SKD",{"$f":"IF(C40>=1,1,0)","v":{"$error":"#N/A"}},{"$f":"HLOOKUP(A40&$A$4,TABNILSM8,4,FALSE)","v":{"$error":"#N/A"}},{"$f":"HLOOKUP(A40&$A$4,TABNILSM8,2,FALSE)","v":{"$error":"#N/A"}},1,{"$f":"HLOOKUP(A40&$A$4,TABNILSM8,6,FALSE)","v":28}]
["SKD",{"$f":"IF(C40>=1,1,0)","v":{"$error":"#N/A"}},null,{"$error":"#N/A"},2,{"$f":"HLOOKUP(A41&$A$5,TABNILSM8,6,FALSE)","v":29}]
["SKD",{"$f":"IF(C40>=1,1,0)","v":{"$error":"#N/A"}},null,{"$error":"#N/A"},3,{"$f":"HLOOKUP(A42&$A$6,TABNILSM8,6,FALSE)","v":30}]
["FIS",{"$error":"#N/A"},{"$f":"HLOOKUP(A43&$A$4,TABNILSM8,4,FALSE)","v":{"$error":"#N/A"}},{"$error":"#N/A"},1,{"$f":"HLOOKUP(A43&$A$4,TABNILSM8,6,FALSE)","v":31}]
["FIS",{"$error":"#N/A"},null,{"$error":"#N/A"},2,{"$f":"HLOOKUP(A44&$A$5,TABNILSM8,6,FALSE)","v":32}]
["FIS",{"$error":"#N/A"},null,{"$error":"#N/A"},3,{"$f":"HLOOKUP(A45&$A$6,TABNILSM8,6,FALSE)","v":33}]
["KIM",{"$error":"#N/A"},{"$f":"HLOOKUP(A46&$A$4,TABNILSM8,4,FALSE)","v":{"$error":"#N/A"}},{"$error":"#N/A"},1,{"$f":"HLOOKUP(A46&$A$4,TABNILSM8,6,FALSE)","v":34}]
["KIM",{"$error":"#N/A"},null,{"$error":"#N/A"},2,{"$f":"HLOOKUP(A47&$A$5,TABNILSM8,6,FALSE)","v":35}]
["KIM",{"$error":"#N/A"},null,{"$error":"#N/A"},3,{"$f":"HLOOKUP(A48&$A$6,TABNILSM8,6,FALSE)","v":36}]
[null,{"$f":"IF(AND(COUNT(C49)=0,C50=0),0,1)","v":{"$error":"#N/A"}},"C2","Dasar Program Keahlian"]
["C21",{"$f":"IF(C50>=1,1,0)","v":{"$error":"#N/A"}},{"$f":"HLOOKUP(A50&$A$4,TABNILSM8,4,FALSE)","v":{"$error":"#N/A"}},{"$f":"HLOOKUP(A50&$A$4,TABNILSM8,2,FALSE)","v":{"$error":"#N/A"}},1,{"$f":"HLOOKUP(A50&$A$4,TABNILSM8,6,FALSE)","v":37}]
["C21",{"$f":"IF(C50>=1,1,0)","v":{"$error":"#N/A"}},null,{"$error":"#N/A"},2,{"$f":"HLOOKUP(A51&$A$5,TABNILSM8,6,FALSE)","v":38}]
["C21",{"$f":"IF(C50>=1,1,0)","v":{"$error":"#N/A"}},null,{"$error":"#N/A"},3,{"$f":"HLOOKUP(A52&$A$6,TABNILSM8,6,FALSE)","v":39}]
["C22",{"$error":"#N/A"},{"$f":"HLOOKUP(A53&$A$4,TABNILSM8,4,FALSE)","v":{"$error":"#N/A"}},{"$error":"#N/A"},1,{"$f":"HLOOKUP(A53&$A$4,TABNILSM8,6,FALSE)","v":40}]
["C22",{"$error":"#N/A"},null,{"$error":"#N/A"},2,{"$f":"HLOOKUP(A54&$A$5,TABNILSM8,6,FALSE)","v":41}]
["C22",{"$error":"#N/A"},null,{"$error":"#N/A"},3,{"$f":"HLOOKUP(A55&$A$6,TABNILSM8,6,FALSE)","v":42}]
["C23",{"$error":"#N/A"},{"$f":"HLOOKUP(A56&$A$4,TABNILSM8,4,FALSE)","v":{"$error":"#N/A"}},{"$error":"#N/A"},1,{"$f":"HLOOKUP(A56&$A$4,TABNILSM8,6,FALSE)","v":43}]
["C23",{"$error":"#N/A"},null,{"$error":"#N/A"},2,{"$f":"HLOOKUP(A57&$A$5,TABNILSM8,6,FALSE)","v":44}]
["C23",{"$error":"#N/A"},null,{"$error":"#N/A"},3,{"$f":"HLOOKUP(A58&$A$6,TABNILSM8,6,FALSE)","v":45}]
["C24",{"$error":"#N/A"},{"$f":"HLOOKUP(A59&$A$4,TABNILSM8,4,FALSE)","v":{"$error":"#N/A"}},{"$error":"#N/A"},1,{"$f":"HLOOKUP(A59&$A$4,TABNILSM8,6,FALSE)","v":46}]
["C24",{"$error":"#N/A"},null,{"$error":"#N/A"},2,{"$f":"HLOOKUP(A60&$A$5,TABNILSM8,6,FALSE)","v":47}]
["C24",{"$error":"#N/A"},null,{"$error":"#N/A"},3,{"$f":"HLOOKUP(A61&$A$6,TABNILSM8,6,FALSE)","v":48}]
["-",{"$f":"IF(AND(COUNT(C62)=0,C69=0),0,1)","v":{"$error":"#N/A"}},"C3","Kompetensi Keahlian"]
["C31",{"$f":"IF(C63>=1,1,0)","v":{"$error":"#N/A"}},{"$f":"HLOOKUP(A63&$A$4,TABNILSM8,4,FALSE)","v":{"$error":"#N/A"}},{"$f":"HLOOKUP(A63&$A$4,TABNILSM8,2,FALSE)","v":{"$error":"#N/A"}},1,{"$f":"HLOOKUP(A63&$A$4,TABNILSM8,6,FALSE)","v":49},null,null,null,null,null,null,null,null,null,null,{"$f":"VLOOKUP($R$27,TAB_BIODATA,BIODATA!C4,FALSE)","v":"ADAM ADIYAT HARTANTO"}]
["C31",{"$f":"IF(C63>=1,1,0)","v":{"$error":"#N/A"}},null,{"$error":"#N/A"},2,{"$f":"HLOOKUP(A64&$A$5,TABNILSM8,6,FALSE)","v":50}]
["C31",{"$f":"IF(C63>=1,1,0)","v":{"$error":"#N/A"}},null,{"$error":"#N/A"},3,{"$f":"HLOOKUP(A65&$A$6,TABNILSM8,6,FALSE)","v":51},null,null,null,null,null,null,null,null,null,null,{"$f":"\"Nomor Urut \"&R27","v":"Nomor Urut 1"}]
["C32",{"$error":"#N/A"},{"$f":"HLOOKUP(A66&$A$4,TABNILSM8,4,FALSE)","v":{"$error":"#N/A"}},{"$error":"#N/A"},1,{"$f":"HLOOKUP(A66&$A$4,TABNILSM8,6,FALSE)","v":52}]
["C32",{"$error":"#N/A"},null,{"$error":"#N/A"},2,{"$f":"HLOOKUP(A67&$A$5,TABNILSM8,6,FALSE)","v":53}]
["C32",{"$error":"#N/A"},null,{"$error":"#N/A"},3,{"$f":"HLOOKUP(A68&$A$6,TABNILSM8,6,FALSE)","v":54}]
["C33",{"$error":"#N/A"},{"$f":"HLOOKUP(A69&$A$4,TABNILSM8,4,FALSE)","v":{"$error":"#N/A"}},{"$error":"#N/A"},1,{"$f":"HLOOKUP(A69&$A$4,TABNILSM8,6,FALSE)","v":55}]
["C33",{"$error":"#N/A"},null,{"$error":"#N/A"},2,{"$f":"HLOOKUP(A70&$A$5,TABNILSM8,6,FALSE)","v":56}]
["C33",{"$error":"#N/A"},null,{"$error":"#N/A"},3,{"$f":"HLOOKUP(A71&$A$6,TABNILSM8,6,FALSE)","v":57}]
["C34",{"$error":"#N/A"},{"$f":"HLOOKUP(A72&$A$4,TABNILSM8,4,FALSE)","v":{"$error":"#N/A"}},{"$error":"#N/A"},1,{"$f":"HLOOKUP(A72&$A$4,TABNILSM8,6,FALSE)","v":58}]
["C34",{"$error":"#N/A"},null,{"$error":"#N/A"},2,{"$f":"HLOOKUP(A73&$A$5,TABNILSM8,6,FALSE)","v":59}]
["C34",{"$error":"#N/A"},null,{"$error":"#N/A"},3,{"$f":"HLOOKUP(A74&$A$6,TABNILSM8,6,FALSE)","v":60}]
["C35",{"$error":"#N/A"},{"$f":"HLOOKUP(A75&$A$4,TABNILSM8,4,FALSE)","v":{"$error":"#N/A"}},{"$error":"#N/A"},1,{"$f":"HLOOKUP(A75&$A$4,TABNILSM8,6,FALSE)","v":61}]
["C35",{"$error":"#N/A"},null,{"$error":"#N/A"},2,{"$f":"HLOOKUP(A76&$A$5,TABNILSM8,6,FALSE)","v":62}]
["C35",{"$error":"#N/A"},null,{"$error":"#N/A"},3,{"$f":"HLOOKUP(A77&$A$6,TABNILSM8,6,FALSE)","v":63}]
["C36",{"$error":"#N/A"},{"$f":"HLOOKUP(A78&$A$4,TABNILSM8,4,FALSE)","v":{"$error":"#N/A"}},{"$error":"#N/A"},1,{"$f":"HLOOKUP(A78&$A$4,TABNILSM8,6,FALSE)","v":64}]
["C36",{"$error":"#N/A"},null,{"$error":"#N/A"},2,{"$f":"HLOOKUP(A79&$A$5,TABNILSM8,6,FALSE)","v":65}]
["C36",{"$error":"#N/A"},null,{"$error":"#N/A"},3,{"$f":"HLOOKUP(A80&$A$6,TABNILSM8,6,FALSE)","v":66}]
[null,{"$f":"IF(AND(COUNT(C81)=0,C82=0),0,1)","v":{"$error":"#N/A"}},"Muatan Lokal"]
["SUN",{"$f":"IF(C82>=1,1,0)","v":{"$error":"#N/A"}},{"$f":"HLOOKUP(A82&$A$4,TABNILSM8,4,FALSE)","v":{"$error":"#N/A"}},{"$f":"HLOOKUP(A82&$A$4,TABNILSM8,2,FALSE)","v":{"$error":"#N/A"}},1,{"$f":"HLOOKUP(A82&$A$4,TABNILSM8,6,FALSE)","v":67}]
["SUN",{"$f":"IF(C82>=1,1,0)","v":{"$error":"#N/A"}},null,{"$error":"#N/A"},2,{"$f":"HLOOKUP(A83&$A$5,TABNILSM8,6,FALSE)","v":68}]
["SUN",{"$f":"IF(C82>=1,1,0)","v":{"$error":"#N/A"}},null,{"$error":"#N/A"},3,{"$f":"HLOOKUP(A84&$A$6,TABNILSM8,6,FALSE)","v":69}]
["PLH",{"$f":"IF(C85>=1,1,0)","v":{"$error":"#N/A"}},{"$f":"HLOOKUP(A85&$A$4,TABNILSM8,4,FALSE)","v":{"$error":"#N/A"}},{"$error":"#N/A"},1,{"$f":"HLOOKUP(A85&$A$4,TABNILSM8,6,FALSE)","v":70}]
["PLH",{"$error":"#N/A"},null,{"$error":"#N/A"},2,{"$f":"HLOOKUP(A86&$A$5,TABNILSM8,6,FALSE)","v":71}]
["PLH",{"$f":"IF(C85>=1,1,0)","v":{"$error":"#N/A"}},null,{"$error":"#N/A"},3,{"$f":"HLOOKUP(A87&$A$6,TABNILSM8,6,FALSE)","v":72}]

{"sheet":"DBLOGIC","index":24,"n_rows":114,"n_cols":470,"rows_kept":114,"cut":false,"hidden":false,"merged":[[5,8,5,10],[4,8,4,12],[18,8,18,12],[19,8,19,10],[11,41,13,41],[11,42,13,42],[14,41,16,41],[14,42,16,42],[17,41,19,41],[17,42,19,42],[20,41,22,41],[20,42,22,42],[25,41,26,41],[25,42,26,42],[27,41,28,41],[27,42,28,42],[29,41,30,41],[29,42,30,42],[31,41,32,41],[31,42,32,42],[35,41,36,41],[35,42,36,42],[37,41,38,41],[37,42,38,42],[39,41,40,41],[39,42,40,42],[41,41,42,41],[41,42,42,42]]}
[null,null,null,null,null,null,null,null,null,null,null,null,null,null,null,"URUTAN MAPEL CETAK",2,{"$f":"Q1+1","v":3},{"$f":"R1+1","v":4},5,6,7,8,9,10,11,12,13,14,15,16,17,18,19,20,21,22,23,24,25,26,27,28,29,30,31,32,33,34,35,36,37,38,39,40,41,42,43,44,45,46,47,48,49,50,51,52,53,54,55,56,57,58,59,60,61,62,63,64,65,66,67,{"$f":"CD1+1","v":68},69,70,71,72,73,74,75,76,77,78,79,80,81,82,83,84,85,86,87,88,89,90,91,92,93,94,95,96,97,98,99,100,101,102,103,104,105,106,107,108,109,110,111,112,113,114,115,116,117,118,119,120,121,122,123,124,125,126,127,128,129,130,131,{"$f":"EP1+1","v":132},133,134,135,136,137,138,139,140,141,142,143,144,145,146,147,148,149,150,151,152,153,154,155,156,157,158,159,160,161,162,163,164,165,166,167,168,169,170,171,172,173,174,175,176,177,178,179,180,181,182,183,184,185,186,187,188,189,190,191,192,193,194,195,{"$f":"HB1+1","v":196},197,198,199,200,201,202,203,204,205,206,207,208,209,210,211,212,213,214,215,216,217,218,219,220,221,222,223,224,225,226,227,228,229,230,231,232,233,234,235,236,237,238,239,240,241,242,243,244,245,246,247,248,249,250,251,252,253,254,255,256,257,258,259,{"$f":"JN1+1","v":260},261,262,263,264,265,266,267,268,269,270,271,272,273,274,275,276,277,278,279,280,281,282,283,284,285,286,287,288,289,290,291,292,293,294,295,296,297,298,299,300,301,302,303,304,305,306,307,308,309,310,311,312,313,314,315,316,317,318,319,320,321,322,323,{"$f":"LZ1+1","v":324},325,326,327,328,329,330,331,332,333,334,335,336,337,338,339,340,341,342,343,344,345,346,347,348,349,350,351,352,353,354,355,356,357,358,359,360,361,362,363,364,365,366,367,368,369,370,371,372,373,374,375,376,377,378,379,380,381,382,383,384,385,386,387,{"$f":"OL1+1","v":388},389,390,391,392,393,394,395,396,397,398,399,400,401,402,403,404,405,406,407,408,409,410,411,412,413,414,415,416,417,418,419,420,421,422,423,424,425,426,427,428,429,430,431,432,433,434,435,436,437,438,439,440,441,442,443,444,445,446,447,448,449,450,451,{"$f":"QX1+1","v":452},453,454,455]
[null,null,null,null,null,null,null,null,null,null,null,null,null,null,null,"URUTAN MAPEL INPUT",2,{"$f":"Q2","v":2},{"$f":"R2","v":2},2,2,2,2,{"$f":"Q2+1","v":3},{"$f":"X2","v":3},{"$f":"Y2","v":3},3,3,3,3,{"$f":"X2+1","v":4},{"$f":"AE2","v":4},{"$f":"AF2","v":4},4,4,4,4,{"$f":"AE2+1","v":5},{"$f":"AL2","v":5},{"$f":"AM2","v":5},5,5,5,5,{"$f":"AL2+1","v":6},{"$f":"AS2","v":6},{"$f":"AT2","v":6},6,6,6,6,{"$f":"AS2+1","v":7},{"$f":"AZ2","v":7},{"$f":"BA2","v":7},7,7,7,7,{"$f":"AZ2+1","v":8},{"$f":"BG2","v":8},{"$f":"BH2","v":8},8,8,8,8,{"$f":"BG2+1","v":9},{"$f":"BN2","v":9},{"$f":"BO2","v":9},9,9,9,9,{"$f":"BN2+1","v":10},{"$f":"BU2","v":10},{"$f":"BV2","v":10},10,10,10,10,{"$f":"BU2+1","v":11},{"$f":"CB2","v":11},{"$f":"CC2","v":11},11,11,11,11,{"$f":"CB2+1","v":12},{"$f":"CI2","v":12},{"$f":"CJ2","v":12},12,12,12,12,{"$f":"CI2+1","v":13},{"$f":"CP2","v":13},{"$f":"CQ2","v":13},13,13,13,13,{"$f":"CP2+1","v":14},{"$f":"CW2","v":14},{"$f":"CX2","v":14},14,14,14,14,{"$f":"CW2+1","v":15},{"$f":"DD2","v":15},{"$f":"DE2","v":15},15,15,15,15,{"$f":"DD2+1","v":16},{"$f":"DK2","v":16},{"$f":"DL2","v":16},16,16,16,16,{"$f":"DK2+1","v":17},{"$f":"DR2","v":17},{"$f":"DS2","v":17},17,17,17,17,{"$f":"DR2+1","v":18},{"$f":"DY2","v":18},{"$f":"DZ2","v":18},18,18,18,18,{"$f":"DY2+1","v":19},{"$f":"EF2","v":19},{"$f":"EG2","v":19},19,19,19,19,{"$f":"EF2+1","v":20},{"$f":"EM2","v":20},{"$f":"EN2","v":20},20,20,20,20,{"$f":"EM2+1","v":21},{"$f":"ET2","v":21},{"$f":"EU2","v":21},21,21,21,21,{"$f":"ET2+1","v":22},{"$f":"FA2","v":22},{"$f":"FB2","v":22},22,22,22,22,{"$f":"FA2+1","v":23},{"$f":"FH2","v":23},{"$f":"FI2","v":23},23,23,23,23,{"$f":"FH2+1","v":24},{"$f":"FO2","v":24},{"$f":"FP2","v":24},24,24,24,24,{"$f":"FO2+1","v":25},{"$f":"FV2","v":25},{"$f":"FW2","v":25},25,25,25,25]
[]
[null,"PILIHAN_DESKRIPSI",null,"DATA_JURUSAN",null,null,null,null,"Tabel Nilai Mapel A-B",null,null,null,null,null,null,null,null,"TABMAPEL_X"]
[null,"OTOMATIS",null,null,"Bidang Keahlian","Program Keahlian","Paket Keahlian",null,"PENGETAHUAN & KETERAMPILAN",null,null,null,null,null,null,null,"KEL",1,"X DPIB","X DPIBcode","X TITL","X TITLcode","X TP","X TPcode","X TPL","X TPLcode","X TPGM","X TPGMcode","X TFLM","X TFLMcode","X TKRO","X TKROcode","X TBSM","X TBSMcode","X TEI","X TEIcode","X RPL","X RPLcode","X TKJ","X TKJcode",null,"DESKRIPSI NILAI SIKAP SPIRITUAL"]
["A","MANUAL",1,"DPIB","Teknologi dan Rekayasa","Teknik Bangunan","Desain Pemodelan dan Informasi Bangunan",null,"ANGKA",null,null,"HURUF","KRITERIA",null,null,null,"A",{"$f":"R5+1","v":2},"Pendidikan Agama dan Budi Pekerti","PAI","Pendidikan Agama dan Budi Pekerti","PAI","Pendidikan Agama dan Budi Pekerti","PAI","Pendidikan Agama dan Budi Pekerti","PAI","Pendidikan Agama dan Budi Pekerti","PAI","Pendidikan Agama dan Budi Pekerti","PAI","Pendidikan Agama dan Budi Pekerti","PAI","Pendidikan Agama dan Budi Pekerti","PAI","Pendidikan Agama dan Budi Pekerti","PAI","Pendidikan Agama dan Budi Pekerti","PAI","Pendidikan Agama dan Budi Pekerti","PAI",null,"A","Sangat menerima, menjalankan, menghargai, menghayati dan mengamalkan ajaran agama yang dianut."]
[null,null,2,"TITL","Teknologi dan Rekayasa","Teknik Ketenagalistrikan","Teknik Instalasi Tenaga Listrik",null,0,"-","-","-","-",null,null,null,"A",{"$f":"R6+1","v":3},"Pendidikan Pancasila dan Kewarganegaraan","PKN","Pendidikan Pancasila dan Kewarganegaraan","PKN","Pendidikan Pancasila dan Kewarganegaraan","PKN","Pendidikan Pancasila dan Kewarganegaraan","PKN","Pendidikan Pancasila dan Kewarganegaraan","PKN","Pendidikan Pancasila dan Kewarganegaraan","PKN","Pendidikan Pancasila dan Kewarganegaraan","PKN","Pendidikan Pancasila dan Kewarganegaraan","PKN","Pendidikan Pancasila dan Kewarganegaraan","PKN","Pendidikan Pancasila dan Kewarganegaraan","PKN","Pendidikan Pancasila dan Kewarganegaraan","PKN",null,"B","Baik, dapat menerima, menjalankan, menghargai, menghayati dan mengamalkan ajaran agama yang dianut."]
[null,null,3,"TP","Teknologi dan Rekayasa","Teknik Mesin","Teknik Pemesinan",null,1,"-",74,"D","Kurang",null,null,null,"A",4,"Bahasa Indonesia","IND","Bahasa Indonesia","IND","Bahasa Indonesia","IND","Bahasa Indonesia","IND","Bahasa Indonesia","IND","Bahasa Indonesia","IND","Bahasa Indonesia","IND","Bahasa Indonesia","IND","Bahasa Indonesia","IND","Bahasa Indonesia","IND","Bahasa Indonesia","IND",null,"C","Cukup menerima, menjalankan, menghargai, menghayati dan mengamalkan ajaran agama yang dianut."]
["A","KELAS",4,"TPL","Teknologi dan Rekayasa","Teknik Mesin","Teknik Pengelasan",null,75,"-",83,"C","Cukup",null,null,null,"A",5,"Matematika","MTK","Matematika","MTK","Matematika","MTK","Matematika","MTK","Matematika","MTK","Matematika","MTK","Matematika","MTK","Matematika","MTK","Matematika","MTK","Matematika","MTK","Matematika","MTK",null,"D","Kurang menerima, menjalankan, menghargai, menghayati dan mengamalkan ajaran agama yang dianut."]
[null,"DPIB 1",5,"TPGM","Teknologi dan Rekayasa","Teknik Mesin","Teknik Perancangan dan Gambar Mesin",null,84,"-",92,"B","Baik",null,null,null,"A",6,"Sejarah Indonesia","SJI","Sejarah Indonesia","SJI","Sejarah Indonesia","SJI","Sejarah Indonesia","SJI","Sejarah Indonesia","SJI","Sejarah Indonesia","SJI","Sejarah Indonesia","SJI","Sejarah Indonesia","SJI","Sejarah Indonesia","SJI","Sejarah Indonesia","SJI","Sejarah Indonesia","SJI"]
[null,"DPIB 2",6,"TFLM","Teknologi dan Rekayasa","Teknik Mesin","Teknik Fabrikasi Logam dan Manufaktur",null,93,"-",100,"A","Sangat Baik",null,null,null,"A",7,"Bahasa Inggris","ING","Bahasa Inggris","ING","Bahasa Inggris","ING","Bahasa Inggris","ING","Bahasa Inggris","ING","Bahasa Inggris","ING","Bahasa Inggris","ING","Bahasa Inggris","ING","Bahasa Inggris","ING","Bahasa Inggris","ING","Bahasa Inggris","ING",null,"DESKRIPSI NILAI SIKAP SOSIAL"]
["A","DPIB 3",7,"TKRO","Teknologi dan Rekayasa","Teknik Otomotif","Teknik Kendaraan Ringan Otomotif",null,null,null,null,null,null,null,null,null,"A",8,"-","-","-","-","-","-","-","-","-","-","-","-","-","-","-","-","-","-","-","-","-","-",null,"A","Sudah bersungguh-sungguh dan selalu konsisten menerapkan sikap jujur, santun dan toleran dalam pergaulan, disiplin, kerjasama dalam kelompok dan tanggungjawab dalam keseharian sebagai hasil pembelajaran di sekolah. Pertahankan sikap-sikap tersebut agar menjadi teladan bagi kawan-kawan di sekolah."]
[null,"TITL 1",8,"TBSM","Teknologi dan Rekayasa","Teknik Otomotif","Teknik dan Bisnis Sepeda Motor",null,null,null,null,null,null,null,null,null,"B",9,"Seni Budaya","SBD","Seni Budaya","SBD","Seni Budaya","SBD","Seni Budaya","SBD","Seni Budaya","SBD","Seni Budaya","SBD","Seni Budaya","SBD","Seni Budaya","SBD","Seni Budaya","SBD","Seni Budaya","SBD","Seni Budaya","SBD"]
[null,"TITL 2",9,"TEI","Teknologi dan Rekayasa","Teknik Elektronika","Teknik Elektronika Industri",null,null,null,null,null,null,null,null,null,"B",10,"Pendidikan Jasmani, Olahraga dan Kesehatan","PJO","Pendidikan Jasmani, Olahraga dan Kesehatan","PJO","Pendidikan Jasmani, Olahraga dan Kesehatan","PJO","Pendidikan Jasmani, Olahraga dan Kesehatan","PJO","Pendidikan Jasmani, Olahraga dan Kesehatan","PJO","Pendidikan Jasmani, Olahraga dan Kesehatan","PJO","Pendidikan Jasmani, Olahraga dan Kesehatan","PJO","Pendidikan Jasmani, Olahraga dan Kesehatan","PJO","Pendidikan Jasmani, Olahraga dan Kesehatan","PJO","Pendidikan Jasmani, Olahraga dan Kesehatan","PJO","Pendidikan Jasmani, Olahraga dan Kesehatan","PJO"]
["A","TITL 3",10,"RPL","Teknologi Informasi dan Komunikasi","Teknik Komputer dan Informatika","Rekayasa Perangkat Lunak",null,null,null,null,null,null,null,null,null,"C1",11,"Simulasi dan Komunikasi Digital","SKD","Simulasi dan Komunikasi Digital","SKD","Simulasi dan Komunikasi Digital","SKD","Simulasi dan Komunikasi Digital","SKD","Simulasi dan Komunikasi Digital","SKD","Simulasi dan Komunikasi Digital","SKD","Simulasi dan Komunikasi Digital","SKD","Simulasi dan Komunikasi Digital","SKD","Simulasi dan Komunikasi Digital","SKD","Simulasi dan Komunikasi Digital","SKD","Simulasi dan Komunikasi Digital","SKD",null,"B","Sudah menunjukkan konsisten menerapkan sikap jujur, santun dan toleran dalam pergaulan, disiplin, kerjasama dalam kelompok dan tanggungjawab dalam keseharian sebagai hasil pembelajaran di sekolah. Tingkatkan sikap-sikap positif tersebut agar lebih baik."]
[null,"TP 1",11,"TKJ","Teknologi Informasi dan Komunikasi","Teknik Komputer dan Informatika","Teknik Komputer dan Jaringan",null,null,null,null,null,null,null,null,null,"C1",12,"Fisika","FIS","Fisika","FIS","Fisika","FIS","Fisika","FIS","Fisika","FIS","Fisika","FIS","Fisika","FIS","Fisika","FIS","Fisika","FIS","Fisika","FIS","Fisika","FIS"]
[null,"TP 2",null,null,null,null,null,null,null,null,null,null,null,null,null,null,"C1",13,"Kimia","KIM","Kimia","KIM","Kimia","KIM","Kimia","KIM","Kimia","KIM","Kimia","KIM","Kimia","KIM","Kimia","KIM","Kimia","KIM","Kimia","KIM","Kimia","KIM"]
["A","TP 3",null,null,null,null,null,null,"Tabel Nilai Mapel C1, C2, C3",null,null,null,null,null,null,null,"C2",14,"Gambar Teknik","GTB","Gambar Teknik Listrik","GTL","Gambar Teknik Mesin","GTM","Gambar Teknik Mesin","GTM","Gambar Teknik Mesin","GTM","Gambar Teknik Mesin","GTM","Gambar Teknik Otomotif","GTO","Gambar Teknik Otomotif","GTO","Kerja Bengkel dan Gambar Teknik","KBG","Sistem Komputer","SIS","Sistem Komputer","SIS",null,"C","Mulai menunjukkan konsisten menerapkan sikap jujur, santun dan toleran dalam pergaulan, disiplin, kerjasama dalam kelompok dan tanggungjawab dalam keseharian sebagai hasil pembelajaran di sekolah dan perlu ditingkatkan kembali agar lebih baik."]
[null,"TPL 1",null,"PILIHAN_SEMESTER",null,null,null,null,"PENGETAHUAN & KETERAMPILAN",null,null,null,null,null,null,null,"C2",15,"Mekanika Teknik","MKA","Dasar Listrik dan Elektronika","DLS","Pekerjaan Dasar Teknik Mesin","DTM","Pekerjaan Dasar Teknik Mesin","DTM","Pekerjaan Dasar Teknik Mesin","DTM","Pekerjaan Dasar Teknik Mesin","DTM","Teknologi Dasar Otomotif","TDO","Teknologi Dasar Otomotif","TDO","Dasar Listrik dan Elektronika","DLE","Komputer dan Jaringan Dasar","KJD","Komputer dan Jaringan Dasar","KJD"]
[null,"TPL 2",null,"1 (satu)","Ganjil",null,null,null,"ANGKA",null,null,"HURUF","KRITERIA",null,null,null,"C2",16,"Dasar-dasar Konstruksi Bangunan dan Teknik Pengukuran Tanah","DKP","Pekerjaan Dasar Elektromekanik","PDE","Dasar Perancangan Teknik Mesin","PTM","Dasar Perancangan Teknik Mesin","PTM","Dasar Perancangan Teknik Mesin","PTM","Dasar Perancangan Teknik Mesin","PTM","Pekerjaan Dasar Teknik Otomotif","PDO","Pekerjaan Dasar Teknik Otomotif","PDO","Teknik Pemrograman, Mikroprosesor dan Mikrokontroler","TMM","Pemrograman Dasar","PDS","Pemrograman Dasar","PDS"]
["A","TPGM",null,"2 (dua)","Genap",null,null,null,0,"-","-","-","-",null,null,null,"C2",17,"-","-","-","-","-","-","-","-","-","-","-","-","-","-","-","-","-","-","Dasar Desain Grafis","DDG","Dasar Desain Grafis","DDG",null,"D","Belum menunjukkan konsisten menerapkan sikap jujur, santun dan toleran dalam pergaulan, disiplin, kerjasama dalam kelompok dan tanggungjawab dalam keseharian sebagai hasil pembelajaran di sekolah, perlu perbaikan dan perhatian dari semua pihak baik guru maupun orangtua."]
[null,"TPGM 1",null,"3 (tiga)","Ganjil",null,null,null,1,"-",74,"D","Kurang",null,null,null,"C3",18,"-","-","-","-","-","-","-","-","-","-","-","-","-","-","-","-","-","-","-","-","-","-"]
[null,"TPGM 2",null,"4 (empat)","Genap",null,null,null,75,"-",83,"C","Cukup",null,null,null,"C3",19,"-","-","-","-","-","-","-","-","-","-","-","-","-","-","-","-","-","-","-","-","-","-"]
["B","TFLM",null,"5 (lima)","Ganjil",null,null,null,84,"-",92,"B","Baik",null,null,null,"C3",20,"-","-","-","-","-","-","-","-","-","-","-","-","-","-","-","-","-","-","-","-","-","-"]
[null,"TFLM 1",null,"6 (enam)","Genap",null,null,null,93,"-",100,"A","Sangat Baik",null,null,null,"C3",21,"-","-","-","-","-","-","-","-","-","-","-","-","-","-","-","-","-","-","-","-","-","-",null,"DESKRIPSI NILAI PENGETAHUAN"]
[null,"TFLM 2",null,null,null,null,null,null,null,null,null,null,null,null,null,null,"C3",22,"-","-","-","-","-","-","-","-","-","-","-","-","-","-","-","-","-","-","-","-","-","-",null,"A","Sangat baik dalam memahami, menerapkan, menganalisis dan mengevaluasi semua kompetensi dasar."]
["B","TKRO 1",null,null,null,null,null,null,null,null,null,null,null,null,null,null,"C3",23,"-","-","-","-","-","-","-","-","-","-","-","-","-","-","-","-","-","-","-","-","-","-"]
[null,"TKRO 2",null,"PILIHAN_TAHUN_PELAJARAN",null,null,null,null,null,null,null,null,null,null,null,null,"M",24,"Bahasa dan Sastra Sunda","SUN","Bahasa dan Sastra Sunda","SUN","Bahasa dan Sastra Sunda","SUN","Bahasa dan Sastra Sunda","SUN","Bahasa dan Sastra Sunda","SUN","Bahasa dan Sastra Sunda","SUN","Bahasa dan Sastra Sunda","SUN","Bahasa dan Sastra Sunda","SUN","Bahasa dan Sastra Sunda","SUN","Bahasa dan Sastra Sunda","SUN","Bahasa dan Sastra Sunda","SUN",null,"B","Baik dalam memahami, menerapkan, menganalisis dan mengevaluasi sebagian besar kompetensi dasar."]
[null,"TBSM 1",null,"-",null,null,null,null,null,null,null,null,null,null,null,null,"M",25,"PLH","PLH","PLH","PLH","PLH","PLH","PLH","PLH","PLH","PLH","PLH","PLH","PLH","PLH","PLH","PLH","PLH","PLH","PLH","PLH","PLH","PLH"]
["C1","TBSM 2",null,"2014 / 2015",null,null,null,null,null,null,null,null,null,null,null,null,"K",26,"Bimbingan dan Konseling","BKN","Bimbingan dan Konseling","BKN","Bimbingan dan Konseling","BKN","Bimbingan dan Konseling","BKN","Bimbingan dan Konseling","BKN","Bimbingan dan Konseling","BKN","Bimbingan dan Konseling","BKN","Bimbingan dan Konseling","BKN","Bimbingan dan Konseling","BKN","Bimbingan dan Konseling","BKN","Bimbingan dan Konseling","BKN",null,"C","Cukup baik memahami sebagian kompetensi dasar, tetapi kurang bisa menerapkan, menganalisis dan mengevaluasinya."]
[null,"TEI 1",null,"2015 / 2016"]
[null,"TEI 2",null,"2016 / 2017",null,null,null,null,null,null,4,5,6,null,null,null,null,"TABMAPEL_XI",null,null,null,null,null,null,null,null,null,null,null,null,null,null,null,null,null,null,null,null,null,null,null,"D","Kurang dapat memahami, hanya bisa menerapkan, menganalisis, dan mengeveluasi sebagian kecil kompetensi dasar."]
["C1","TEI 3",null,"2017 / 2018",null,null,null,null,null,null,{"$f":"M32+1","v":7},{"$f":"K33+1","v":8},9,null,null,null,"KEL",1,"XI DPIB","XI DPIBcode","XI TITL","XI TITLcode","XI TP","XI TPcode","XI TPL","XI TPLcode","XI TPGM","XI TPGMcode","XI TFLM","XI TFLMcode","XI TKRO","XI TKROcode","XI TBSM","XI TBSMcode","XI TEI","XI TEIcode","XI RPL","XI RPLcode","XI TKJ","XI TKJcode"]
[null,"RPL 1",null,"2018 / 2019",null,null,null,null,null,null,{"$f":"M33+1","v":10},11,12,null,null,null,"A",{"$f":"R33+1","v":2},"Pendidikan Agama dan Budi Pekerti","PAI","Pendidikan Agama dan Budi Pekerti","PAI","Pendidikan Agama dan Budi Pekerti","PAI","Pendidikan Agama dan Budi Pekerti","PAI","Pendidikan Agama dan Budi Pekerti","PAI","Pendidikan Agama dan Budi Pekerti","PAI","Pendidikan Agama dan Budi Pekerti","PAI","Pendidikan Agama dan Budi Pekerti","PAI","Pendidikan Agama dan Budi Pekerti","PAI","Pendidikan Agama dan Budi Pekerti","PAI","Pendidikan Agama dan Budi Pekerti","PAI"]
[null,"RPL 2",null,"2019 / 2020",null,null,null,null,null,null,13,14,15,null,null,null,"A",3,"Pendidikan Pancasila dan Kewarganegaraan","PKN","Pendidikan Pancasila dan Kewarganegaraan","PKN","Pendidikan Pancasila dan Kewarganegaraan","PKN","Pendidikan Pancasila dan Kewarganegaraan","PKN","Pendidikan Pancasila dan Kewarganegaraan","PKN","Pendidikan Pancasila dan Kewarganegaraan","PKN","Pendidikan Pancasila dan Kewarganegaraan","PKN","Pendidikan Pancasila dan Kewarganegaraan","PKN","Pendidikan Pancasila dan Kewarganegaraan","PKN","Pendidikan Pancasila dan Kewarganegaraan","PKN","Pendidikan Pancasila dan Kewarganegaraan","PKN",null,"DESKRIPSI NILAI KETERAMPILAN"]
["C1","RPL 3",null,"2020 / 2021",null,null,null,null,null,null,16,17,18,null,null,null,"A",4,"Bahasa Indonesia","IND","Bahasa Indonesia","IND","Bahasa Indonesia","IND","Bahasa Indonesia","IND","Bahasa Indonesia","IND","Bahasa Indonesia","IND","Bahasa Indonesia","IND","Bahasa Indonesia","IND","Bahasa Indonesia","IND","Bahasa Indonesia","IND","Bahasa Indonesia","IND",null,"A","Sangat baik dan aktif bertanya, mencoba, menalar dan kreatif dalam menyelesaikan tugas praktek."]
[null,"TKJ 1",null,"2021 / 2022",null,null,null,null,null,null,19,20,21,null,null,null,"A",5,"Matematika","MTK","Matematika","MTK","Matematika","MTK","Matematika","MTK","Matematika","MTK","Matematika","MTK","Matematika","MTK","Matematika","MTK","Matematika","MTK","Matematika","MTK","Matematika","MTK"]
[null,"TKJ 2",null,null,null,null,null,null,null,null,22,23,24,null,null,null,"A",6,"-","-","-","-","-","-","-","-","-","-","-","-","-","-","-","-","-","-","-","-","-","-",null,"B","Baik dan aktif bertanya, mencoba, menalar dan kreatif dalam menyelesaikan sebagian besar tugas praktek."]
["C2","TKJ 3",null,null,null,null,null,null,null,null,25,26,27,null,null,null,"A",7,"Bahasa Inggris","ING","Bahasa Inggris","ING","Bahasa Inggris","ING","Bahasa Inggris","ING","Bahasa Inggris","ING","Bahasa Inggris","ING","Bahasa Inggris","ING","Bahasa Inggris","ING","Bahasa Inggris","ING","Bahasa Inggris","ING","Bahasa Inggris","ING"]
[null,null,null,null,null,null,null,null,null,null,28,29,30,null,null,null,"A",8,"-","-","-","-","-","-","-","-","-","-","-","-","-","-","-","-","-","-","-","-","-","-",null,"C","Cukup aktif bertanya, mencoba, menalar dan kreatif dalam menyelesaikan tugas praktek"]
[null,null,null,null,null,null,null,null,null,null,31,32,33,null,null,null,"B",9,"-","-","-","-","-","-","-","-","-","-","-","-","-","-","-","-","-","-","-","-","-","-"]
["C2",null,null,null,null,null,null,null,null,null,34,35,36,null,null,null,"B",10,"Pendidikan Jasmani, Olahraga dan Kesehatan","PJO","Pendidikan Jasmani, Olahraga dan Kesehatan","PJO","Pendidikan Jasmani, Olahraga dan Kesehatan","PJO","Pendidikan Jasmani, Olahraga dan Kesehatan","PJO","Pendidikan Jasmani, Olahraga dan Kesehatan","PJO","Pendidikan Jasmani, Olahraga dan Kesehatan","PJO","Pendidikan Jasmani, Olahraga dan Kesehatan","PJO","Pendidikan Jasmani, Olahraga dan Kesehatan","PJO","Pendidikan Jasmani, Olahraga dan Kesehatan","PJO","Pendidikan Jasmani, Olahraga dan Kesehatan","PJO","Pendidikan Jasmani, Olahraga dan Kesehatan","PJO",null,"D","Kurang aktif bertanya, mencoba, menalar dan kreatif dalam menyelesaikan tugas praktek."]
[null,null,null,null,null,null,null,null,null,null,37,38,39,null,null,null,"C1",11,"-","-","-","-","-","-","-","-","-","-","-","-","-","-","-","-","-","-","-","-","-","-"]
[null,null,null,null,null,null,null,null,null,null,40,41,42,null,null,null,"C1",12,"-","-","-","-","-","-","-","-","-","-","-","-","-","-","-","-","-","-","-","-","-","-"]
["C2",null,null,null,null,null,null,null,null,null,43,44,45,null,null,null,"C1",13,"-","-","-","-","-","-","-","-","-","-","-","-","-","-","-","-","-","-","-","-","-","-"]
[null,null,null,null,null,null,null,null,null,null,46,47,48,null,null,null,"C2",14,"-","-","-","-","-","-","-","-","-","-","-","-","-","-","-","-","-","-","-","-","-","-",null,"KETERANGAN NILAI EKSKUL"]
[null,null,null,null,null,null,null,null,null,null,49,50,51,null,null,null,"C2",15,"-","-","-","-","-","-","-","-","-","-","-","-","-","-","-","-","-","-","-","-","-","-",null,"A","Sangat baik, berprestasi, disiplin dan rajin berlatih"]
["C2",null,null,null,null,null,null,null,null,null,52,53,54,null,null,null,"C2",16,"-","-","-","-","-","-","-","-","-","-","-","-","-","-","-","-","-","-","-","-","-","-",null,"B","Baik, berprestasi, disiplin dan rajin berlatih"]
[null,null,null,null,null,null,null,null,null,null,55,56,57,null,null,null,"C2",17,"-","-","-","-","-","-","-","-","-","-","-","-","-","-","-","-","-","-","-","-","-","-",null,"C","Cukup baik, berprestasi, disiplin dan rajin berlatih"]
[null,null,null,null,null,null,null,null,null,null,{"$f":"M49+1","v":58},59,60,null,null,null,"C3",18,"Aplikasi Perangkat Lunak dan Perancangan Interior Gedung","AIG","Instalasi Penerangan Listrik","IPL","Gambar Teknik Manufaktur","GTM","Teknik Pengelasan Oksi-Asetilen (OAW)","OKS","Teknik Gambar Konstruksi","TGK","Teknik Pemesinan Konvensional","TPK","Pemeliharaan Mesin Kendaraan Ringan","MES","Pemeliharaan Mesin Sepeda Motor","MES","Mikroprosessor dan Mikrokontroller","MPM","Pemodelan Perangkat Lunak","PPL","Teknologi Jaringan Berbasis Luas (WAN)","WAN",null,"D","Kurang baik, berprestasi, disiplin dan rajin berlatih"]
["C2",null,null,null,null,null,null,null,null,null,61,62,63,null,null,null,"C3",19,"Konstruksi Jalan dan Jembatan","KJJ","Instalasi Tenaga Listrik","ITL","Teknik Pemesinan Bubut","TPB","Teknik Pengelasan Busur Manual (SMAW)","LBM","Teknik Gambar Produksi","TGP","-","-","Pemeliharaan Sasis dan Pemindah Tenaga Kendaraan Ringan","SAS","Pemeliharaan Sasis Sepeda Motor","SAS","Penerapan Rangkaian Elektronika","PRE","Basis Data","BAS","Administrasi Infrastruktur Jaringan","AIJ",null,"-","-"]
[null,null,null,null,null,null,null,null,null,null,64,65,66,null,null,null,"C3",20,"Estimasi Biaya Konstruksi","EBK","Instalasi Motor Listrik","IML","Teknik Pemesinan Frais","TPF","Teknik Pengelasan Gas Metal (MIG/MAG)","MIG","Teknik Merancang dengan CAM","TMC","Teknik Fabrikasi Logam","TFL","Pemeliharaan Kelistrikan Kendaraan Ringan","LIS","Pemeliharaan Kelistrikan Sepeda Motor","LIS","Sistem Pengendali Elektronik","SPE","Pemrograman Berorientasi Objek","PBO","Administrasi Sistem Jaringan","ASJ"]
[null,null,null,null,null,null,null,null,null,null,67,68,69,null,null,null,"C3",21,"Konstruksi dan Utilitas Gedung","KUG","-","-","-","-","-","-","-","-","Perancangan Teknik dan Gambar Manufaktur Fabrikasi Logam","PFL","-","-","-","-","Pengendali Sistem Robotik","PSR","Pemrograman Web dan Perangkat Bergerak","PWB","Teknologi Layanan Jaringan","TLJ"]
["C2",null,null,null,null,null,null,null,null,null,70,71,72,null,null,null,"C3",22,"-","-","-","-","Teknik Pemesinan NC/CNC dan CAM","CNC","-","-","-","-","-","-","-","-","-","-","-","-","-","-","-","-"]
[null,null,null,null,null,null,null,null,null,null,73,74,75,null,null,null,"C3",23,"Produk Kreatif dan Kewirausahaan","PKK","Produk Kreatif dan Kewirausahaan","PKK","Produk Kreatif dan Kewirausahaan ","PKK","Produk Kreatif dan Kewirausahaan ","PKK","Produk Kreatif dan Kewirausahaan ","PKK","Produk Kreatif dan Kewirausahaan ","PKK","Produk Kreatif dan Kewirausahaan ","PKK","Produk Kreatif dan Kewirausahaan ","PKK","Produk Kreatif dan Kewirausahaan ","PKK","Produk Kreatif dan Kewirausahaan ","PKK","Produk Kreatif dan Kewirausahaan ","PKK"]
[null,null,null,null,null,null,null,null,null,null,null,null,null,null,null,null,"M",24,"-","-","-","-","-","-","-","-","-","-","-","-","-","-","-","-","-","-","-","-","-","-"]
["C3",null,null,null,null,null,null,null,null,null,null,null,null,null,null,null,"M",25,"-","-","-","-","-","-","-","-","-","-","-","-","-","-","-","-","-","-","-","-","-","-"]
[null,null,null,null,null,null,null,null,null,null,null,null,null,null,null,null,"K",26,"Bimbingan dan Konseling","BKN","Bimbingan dan Konseling","BKN","Bimbingan dan Konseling","BKN","Bimbingan dan Konseling","BKN","Bimbingan dan Konseling","BKN","Bimbingan dan Konseling","BKN","Bimbingan dan Konseling","BKN","Bimbingan dan Konseling","BKN","Bimbingan dan Konseling","BKN","Bimbingan dan Konseling","BKN","Bimbingan dan Konseling","BKN"]
[]
["C3",null,null,null,null,null,null,null,null,null,null,null,null,null,null,null,null,"TABMAPEL_XII"]
[null,null,null,null,null,null,null,null,null,null,null,null,null,null,null,null,"KEL",1,"XII DPIB","XII DPIBcode","XII TITL","XII TITLcode","XII TP","XII TPcode","XII TPL","XII TPLcode","XII TPGM","XII TPGMcode","XII TFLM","XII TFLMcode","XII TKRO","XII TKROcode","XII TBSM","XII TBSMcode","XII TEI","XII TEIcode","XII RPL","XII RPLcode","XII TKJ","XII TKJcode"]
[null,null,null,null,null,null,null,null,null,null,null,null,null,null,null,null,"A",{"$f":"R61+1","v":2},"Pendidikan Agama dan Budi Pekerti","PAI","Pendidikan Agama dan Budi Pekerti","PAI","Pendidikan Agama dan Budi Pekerti","PAI","Pendidikan Agama dan Budi Pekerti","PAI","Pendidikan Agama dan Budi Pekerti","PAI","Pendidikan Agama dan Budi Pekerti","PAI","Pendidikan Agama dan Budi Pekerti","PAI","Pendidikan Agama dan Budi Pekerti","PAI","Pendidikan Agama dan Budi Pekerti","PAI","Pendidikan Agama dan Budi Pekerti","PAI","Pendidikan Agama dan Budi Pekerti","PAI"]
["C3",null,null,null,null,null,null,null,null,null,null,null,null,null,null,null,"A",3,"Pendidikan Pancasila dan Kewarganegaraan","PKN","Pendidikan Pancasila dan Kewarganegaraan","PKN","Pendidikan Pancasila dan Kewarganegaraan","PKN","Pendidikan Pancasila dan Kewarganegaraan","PKN","Pendidikan Pancasila dan Kewarganegaraan","PKN","Pendidikan Pancasila dan Kewarganegaraan","PKN","Pendidikan Pancasila dan Kewarganegaraan","PKN","Pendidikan Pancasila dan Kewarganegaraan","PKN","Pendidikan Pancasila dan Kewarganegaraan","PKN","Pendidikan Pancasila dan Kewarganegaraan","PKN","Pendidikan Pancasila dan Kewarganegaraan","PKN"]
[null,null,null,null,null,null,null,null,null,null,null,null,null,null,null,null,"A",4,"Bahasa Indonesia","IND","Bahasa Indonesia","IND","Bahasa Indonesia","IND","Bahasa Indonesia","IND","Bahasa Indonesia","IND","Bahasa Indonesia","IND","Bahasa Indonesia","IND","Bahasa Indonesia","IND","Bahasa Indonesia","IND","Bahasa Indonesia","IND","Bahasa Indonesia","IND"]
[null,null,null,null,null,null,null,null,null,null,null,null,null,null,null,null,"A",5,"Matematika","MTK","Matematika","MTK","Matematika","MTK","Matematika","MTK","Matematika","MTK","Matematika","MTK","Matematika","MTK","Matematika","MTK","Matematika","MTK","Matematika","MTK","Matematika","MTK"]
["C3",null,null,null,null,null,null,null,null,null,null,null,null,null,null,null,"A",6,"-","-","-","-","-","-","-","-","-","-","-","-","-","-","-","-","-","-","-","-","-","-"]
[null,null,null,null,null,null,null,null,null,null,null,null,null,null,null,null,"A",7,"Bahasa Inggris","ING","Bahasa Inggris","ING","Bahasa Inggris","ING","Bahasa Inggris","ING","Bahasa Inggris","ING","Bahasa Inggris","ING","Bahasa Inggris","ING","Bahasa Inggris","ING","Bahasa Inggris","ING","Bahasa Inggris","ING","Bahasa Inggris","ING"]
[null,null,null,null,null,null,null,null,null,null,null,null,null,null,null,null,"A",8,"Bahasa Jerman","JER","Bahasa Jerman","JER","Bahasa Jerman","JER","Bahasa Jerman","JER","Bahasa Jerman","JER","Bahasa Jerman","JER","Bahasa Jerman","JER","Bahasa Jerman","JER","Bahasa Jerman","JER","Bahasa Jerman","JER","Bahasa Jerman","JER"]
["C3",null,null,null,null,null,null,null,null,null,null,null,null,null,null,null,"B",9,"-","-","-","-","-","-","-","-","-","-","-","-","-","-","-","-","-","-","-","-","-","-"]
[null,null,null,null,null,null,null,null,null,null,null,null,null,null,null,null,"B",10,"-","-","-","-","-","-","-","-","-","-","-","-","-","-","-","-","-","-","-","-","-","-"]
[null,null,null,null,null,null,null,null,null,null,null,null,null,null,null,null,"C1",11,"-","-","-","-","-","-","-","-","-","-","-","-","-","-","-","-","-","-","-","-","-","-"]
["C3",null,null,null,null,null,null,null,null,null,null,null,null,null,null,null,"C1",12,"-","-","-","-","-","-","-","-","-","-","-","-","-","-","-","-","-","-","-","-","-","-"]
[null,null,null,null,null,null,null,null,null,null,null,null,null,null,null,null,"C1",13,"-","-","-","-","-","-","-","-","-","-","-","-","-","-","-","-","-","-","-","-","-","-"]
[null,null,null,null,null,null,null,null,null,null,null,null,null,null,null,null,"C2",14,"-","-","-","-","-","-","-","-","-","-","-","-","-","-","-","-","-","-","-","-","-","-"]
["D",null,null,null,null,null,null,null,null,null,null,null,null,null,null,null,"C2",15,"-","-","-","-","-","-","-","-","-","-","-","-","-","-","-","-","-","-","-","-","-","-"]
[null,null,null,null,null,null,null,null,null,null,null,null,null,null,null,null,"C2",16,"-","-","-","-","-","-","-","-","-","-","-","-","-","-","-","-","-","-","-","-","-","-"]
[null,null,null,null,null,null,null,null,null,null,null,null,null,null,null,null,"C2",17,"-","-","-","-","-","-","-","-","-","-","-","-","-","-","-","-","-","-","-","-","-","-"]
[{"$f":"#REF!","v":{"$error":"#REF!"}},null,null,null,null,null,null,null,null,null,null,null,null,null,null,null,"C3",18,"Aplikasi Perangkat Lunak dan Perancangan Interior Gedung","AIG","Instalasi Penerangan Listrik","IPL","Gambar Teknik Manufaktur","GTM","-","-","Teknik Gambar Konstruksi","TGK","Teknik Pemesinan Konvensional","TPK","Pemeliharaan Mesin Kendaraan Ringan","MES","Pemeliharaan Mesin Sepeda Motor","MES","-","-","-","-","-","-"]
[null,null,null,null,null,null,null,null,null,null,null,null,null,null,null,null,"C3",19,"Konstruksi Jalan dan Jembatan","KJJ","Instalasi Tenaga Listrik","ITL","Teknik Pemesinan Bubut","TPB","Teknik Pengelasan Busur Manual (SMAW)","LBM","Teknik Gambar Produksi","TGP","Teknik Pemesinan Non Konvensional ","TNK","Pemeliharaan Sasis dan Pemindah Tenaga Kendaraan Ringan","SAS","Pemeliharaan Sasis Sepeda Motor","SAS","Penerapan Rangkaian Elektronika","PRE","Basis Data","BAS","Administrasi Infrastruktur Jaringan","AIJ"]
[null,null,null,null,null,null,null,null,null,null,null,null,null,null,null,null,"C3",20,"Estimasi Biaya Konstruksi","EBK","Instalasi Motor Listrik","IML","Teknik Pemesinan Frais","TPF","Teknik Pengelasan Gas Metal (MIG/MAG)","MIG","Teknik Merancang dengan CAM","TMC","Teknik Fabrikasi Logam","TFL","Pemeliharaan Kelistrikan Kendaraan Ringan","LIS","Pemeliharaan Kelistrikan Sepeda Motor","LIS","Sistem Pengendali Elektronik","SPE","Pemrograman Berorientasi Objek","PBO","Administrasi Sistem Jaringan","ASJ"]
[{"$f":"#REF!","v":{"$error":"#REF!"}},null,null,null,null,null,null,null,null,null,null,null,null,null,null,null,"C3",21,"Konstruksi dan Utilitas Gedung","KUG","Perbaikan Peralatan Listrik","PPL","Teknik Pemesinan Gerinda","TPG","Teknik Pengelasan Gas Tungsten (TIG)","TIG","-","-","Perancangan Teknik dan Gambar Manufaktur Fabrikasi Logam","PFL","-","-","Pengelolaan Bengkel Sepeda Motor","PBS","Pengendali Sistem Robotik","PSR","Pemrograman Web dan Perangkat Bergerak","PWB","Teknologi Layanan Jaringan","TLJ"]
[null,null,null,null,null,null,null,null,null,null,null,null,null,null,null,null,"C3",22,"-","-","-","-","Teknik Pemesinan NC/CNC dan CAM","CNC","-","-","-","-","-","-","-","-","-","-","Pembuatan, Perbaikan dan Pemeliharaan Peralatan Elektronika","PPE","-","-","-","-"]
[null,null,null,null,null,null,null,null,null,null,null,null,null,null,null,null,"C3",23,"Produk Kreatif dan Kewirausahaan","PKK","Produk Kreatif dan Kewirausahaan","PKK","Produk Kreatif dan Kewirausahaan ","PKK","Produk Kreatif dan Kewirausahaan ","PKK","Produk Kreatif dan Kewirausahaan ","PKK","Produk Kreatif dan Kewirausahaan ","PKK","Produk Kreatif dan Kewirausahaan ","PKK","Produk Kreatif dan Kewirausahaan ","PKK","Produk Kreatif dan Kewirausahaan ","PKK","Produk Kreatif dan Kewirausahaan ","PKK","Produk Kreatif dan Kewirausahaan ","PKK"]
[{"$f":"#REF!","v":{"$error":"#REF!"}},null,null,null,null,null,null,null,null,null,null,null,null,null,null,null,"M",24,"-","-","-","-","-","-","-","-","-","-","-","-","-","-","-","-","-","-","-","-","-","-"]
[null,null,null,null,null,null,null,null,null,null,null,null,null,null,null,null,"M",25,"-","-","-","-","-","-","-","-","-","-","-","-","-","-","-","-","-","-","-","-","-","-"]
[null,null,null,null,null,null,null,null,null,null,null,null,null,null,null,null,"K",26,"Bimbingan dan Konseling","BKN","Bimbingan dan Konseling","BKN","Bimbingan dan Konseling","BKN","Bimbingan dan Konseling","BKN","Bimbingan dan Konseling","BKN","Bimbingan dan Konseling","BKN","Bimbingan dan Konseling","BKN","Bimbingan dan Konseling","BKN","Bimbingan dan Konseling","BKN","Bimbingan dan Konseling","BKN","Bimbingan dan Konseling","BKN"]
[{"$f":"#REF!","v":{"$error":"#REF!"}}]
[null,null,null,null,null,null,null,null,null,null,null,null,null,null,null,null,null,"TABMAPEL_XIII"]
[null,null,null,null,null,null,null,null,null,null,null,null,null,null,null,null,"KEL",1,"XIII TFLM","XIII TFLMcode"]
[{"$f":"#REF!","v":{"$error":"#REF!"}},null,null,null,null,null,null,null,null,null,null,null,null,null,null,null,"A",{"$f":"R89+1","v":2},"-","-"]
[null,null,null,null,null,null,null,null,null,null,null,null,null,null,null,null,"A",3,"-","-"]
[null,null,null,null,null,null,null,null,null,null,null,null,null,null,null,null,"A",4,"-","-"]
[{"$f":"#REF!","v":{"$error":"#REF!"}},null,null,null,null,null,null,null,null,null,null,null,null,null,null,null,"A",5,"-","-"]
[null,null,null,null,null,null,null,null,null,null,null,null,null,null,null,null,"A",6,"-","-"]
[null,null,null,null,null,null,null,null,null,null,null,null,null,null,null,null,"A",7,"Bahasa Inggris","ING"]
[null,null,null,null,null,null,null,null,null,null,null,null,null,null,null,null,"A",8,"-","-"]
["A",null,null,null,null,null,null,null,null,null,null,null,null,null,null,null,"B",9,"-","-"]
["B",null,null,null,null,null,null,null,null,null,null,null,null,null,null,null,"B",10,"-","-"]
["C1",null,null,null,null,null,null,null,null,null,null,null,null,null,null,null,"C1",11,"-","-"]
["C2",null,null,null,null,null,null,null,null,null,null,null,null,null,null,null,"C1",12,"-","-"]
["C3",null,null,null,null,null,null,null,null,null,null,null,null,null,null,null,"C1",13,"-","-"]
[null,null,null,null,null,null,null,null,null,null,null,null,null,null,null,null,"C2",14,"-","-"]
[null,null,null,null,null,null,null,null,null,null,null,null,null,null,null,null,"C2",15,"-","-"]
[null,null,null,null,null,null,null,null,null,null,null,null,null,null,null,null,"C2",16,"-","-"]
[null,null,null,null,null,null,null,null,null,null,null,null,null,null,null,null,"C2",17,"-","-"]
[null,null,null,null,null,null,null,null,null,null,null,null,null,null,null,null,"C3",18,"Teknik Pemesinan Konvensional","TPK"]
[null,null,null,null,null,null,null,null,null,null,null,null,null,null,null,null,"C3",19,"Teknik Pemesinan Non Konvensional ","TNK"]
[null,null,null,null,null,null,null,null,null,null,null,null,null,null,null,null,"C3",20,"Teknik Fabrikasi Logam","TFL"]
[null,null,null,null,null,null,null,null,null,null,null,null,null,null,null,null,"C3",21,"Perancangan Teknik dan Gambar Manufaktur Fabrikasi Logam","PFL"]
[null,null,null,null,null,null,null,null,null,null,null,null,null,null,null,null,"C3",22,"Penerapan Pengujian Mutu","PPM"]
[null,null,null,null,null,null,null,null,null,null,null,null,null,null,null,null,"C3",23,"Produk Kreatif dan Kewirausahaan ","PKK"]
[null,null,null,null,null,null,null,null,null,null,null,null,null,null,null,null,"M",24,"-","-"]
[null,null,null,null,null,null,null,null,null,null,null,null,null,null,null,null,"M",25,"-","-"]
[null,null,null,null,null,null,null,null,null,null,null,null,null,null,null,null,"K",26,"Bimbingan dan Konseling","BKN"]

{"sheet":"NILSM1","index":25,"n_rows":76,"n_cols":174,"rows_kept":76,"cut":false,"hidden":false,"merged":[[1,0,1,1]]}
[null,null,"NIS","PABT1","PABU1","PABT2","PABU2","PABT3","PABU3","PABH","PKNT1","PKNU1","PKNT2","PKNU2","PKNT3","PKNU3","PKNH","INDT1","INDU1","INDT2","INDU2","INDT3","INDU3","INDH","MTKT1","MTKU1","MTKT2","MTKU2","MTKT3","MTKU3","MTKH","SJIT1","SJIU1","SJIT2","SJIU2","SJIT3","SJIU3","SJIH","INGT1","INGU1","INGT2","INGU2","INGT3","INGU3","INGH","JERT1","JERU1","JERT2","JERU2","JERT3","JERU3","JERH","SBDT1","SBDU1","SBDT2","SBDU2","SBDT3","SBDU3","SBDH","PJOT1","PJOU1","PJOT2","PJOU2","PJOT3","PJOU3","PJOH","SKDT1","SKDU1","SKDT2","SKDU2","SKDT3","SKDU3","SKDH","FIST1","FISU1","FIST2","FISU2","FIST3","FISU3","FISH","KIMT1","KIMU1","KIMT2","KIMU2","KIMT3","KIMU3","KIMH","C21T1","C21U1","C21T2","C21U2","C21T3","C21U3","C21H","C22T1","C22U1","C22T2","C22U2","C22T3","C22U3","C22H","C23T1","C23U1","C23T2","C23U2","C23T3","C23U3","C23H","C24T1","C24U1","C24T2","C24U2","C24T3","C24U3","C24H","C31T1","C31U1","C31T2","C31U2","C31T3","C31U3","C31H","C32T1","C32U1","C32T2","C32U2","C32T3","C32U3","C32H","C33T1","C33U1","C33T2","C33U2","C33T3","C33U3","C33H","C34T1","C34U1","C34T2","C34U2","C34T3","C34U3","C34H","C35T1","C35U1","C35T2","C35U2","C35T3","C35U3","C35H","C36T1","C36U1","C36T2","C36U2","C36T3","C36U3","C36H","SUNT1","SUNU1","SUNT2","SUNU2","SUNT3","SUNU3","SUNH","PLHT1","PLHU1","PLHT2","PLHU2","PLHT3","PLHU3","PLHH",null,"BKN","CTT"]
[{"$f":"\"INPUT NILAI CAPAIAN KOMPETENSI TP \"&TITIMANGSA!D3","v":"INPUT NILAI CAPAIAN KOMPETENSI TP 2020 / 2021"},null,"                    NAMA MAPEL",{"$f":"IF(OR($B$3=\"1 (satu)\",$B$3=\"2 (dua)\"),HLOOKUP($C$3,TABMAPEL_X,DBLOGIC!Q2,FALSE),IF(OR($B$3=\"3 (tiga)\",$B$3=\"4 (empat)\"),HLOOKUP($C$3,TABMAPEL_XI,DBLOGIC!Q2,FALSE),IF(OR($B$3=\"5 (lima)\",$B$3=\"6 (enam)\"),HLOOKUP($C$3,TABMAPEL_XII,DBLOGIC!Q2,FALSE),IF(OR($B$3=\"7 (tujuh)\",$B$3=\"8 (delapan)\"),HLOOKUP($C$3,TABMAPEL_XIII,DBLOGIC!Q2,FALSE),0))))","v":"Pendidikan Agama dan Budi Pekerti"},{"$f":"IF(OR($B$3=\"1 (satu)\",$B$3=\"2 (dua)\"),HLOOKUP($C$3,TABMAPEL_X,DBLOGIC!R2,FALSE),IF(OR($B$3=\"3 (tiga)\",$B$3=\"4 (empat)\"),HLOOKUP($C$3,TABMAPEL_XI,DBLOGIC!R2,FALSE),IF(OR($B$3=\"5 (lima)\",$B$3=\"6 (enam)\"),HLOOKUP($C$3,TABMAPEL_XII,DBLOGIC!R2,FALSE),IF(OR($B$3=\"7 (tujuh)\",$B$3=\"8 (delapan)\"),HLOOKUP($C$3,TABMAPEL_XIII,DBLOGIC!R2,FALSE),0))))","v":"Pendidikan Agama dan Budi Pekerti"},{"$f":"IF(OR($B$3=\"1 (satu)\",$B$3=\"2 (dua)\"),HLOOKUP($C$3,TABMAPEL_X,DBLOGIC!S2,FALSE),IF(OR($B$3=\"3 (tiga)\",$B$3=\"4 (empat)\"),HLOOKUP($C$3,TABMAPEL_XI,DBLOGIC!S2,FALSE),IF(OR($B$3=\"5 (lima)\",$B$3=\"6 (enam)\"),HLOOKUP($C$3,TABMAPEL_XII,DBLOGIC!S2,FALSE),IF(OR($B$3=\"7 (tujuh)\",$B$3=\"8 (delapan)\"),HLOOKUP($C$3,TABMAPEL_XIII,DBLOGIC!S2,FALSE),0))))","v":"Pendidikan Agama dan Budi Pekerti"},{"$f":"IF(OR($B$3=\"1 (satu)\",$B$3=\"2 (dua)\"),HLOOKUP($C$3,TABMAPEL_X,DBLOGIC!T2,FALSE),IF(OR($B$3=\"3 (tiga)\",$B$3=\"4 (empat)\"),HLOOKUP($C$3,TABMAPEL_XI,DBLOGIC!T2,FALSE),IF(OR($B$3=\"5 (lima)\",$B$3=\"6 (enam)\"),HLOOKUP($C$3,TABMAPEL_XII,DBLOGIC!T2,FALSE),IF(OR($B$3=\"7 (tujuh)\",$B$3=\"8 (delapan)\"),HLOOKUP($C$3,TABMAPEL_XIII,DBLOGIC!T2,FALSE),0))))","v":"Pendidikan Agama dan Budi Pekerti"},{"$f":"IF(OR($B$3=\"1 (satu)\",$B$3=\"2 (dua)\"),HLOOKUP($C$3,TABMAPEL_X,DBLOGIC!U2,FALSE),IF(OR($B$3=\"3 (tiga)\",$B$3=\"4 (empat)\"),HLOOKUP($C$3,TABMAPEL_XI,DBLOGIC!U2,FALSE),IF(OR($B$3=\"5 (lima)\",$B$3=\"6 (enam)\"),HLOOKUP($C$3,TABMAPEL_XII,DBLOGIC!U2,FALSE),IF(OR($B$3=\"7 (tujuh)\",$B$3=\"8 (delapan)\"),HLOOKUP($C$3,TABMAPEL_XIII,DBLOGIC!U2,FALSE),0))))","v":"Pendidikan Agama dan Budi Pekerti"},{"$f":"IF(OR($B$3=\"1 (satu)\",$B$3=\"2 (dua)\"),HLOOKUP($C$3,TABMAPEL_X,DBLOGIC!V2,FALSE),IF(OR($B$3=\"3 (tiga)\",$B$3=\"4 (empat)\"),HLOOKUP($C$3,TABMAPEL_XI,DBLOGIC!V2,FALSE),IF(OR($B$3=\"5 (lima)\",$B$3=\"6 (enam)\"),HLOOKUP($C$3,TABMAPEL_XII,DBLOGIC!V2,FALSE),IF(OR($B$3=\"7 (tujuh)\",$B$3=\"8 (delapan)\"),HLOOKUP($C$3,TABMAPEL_XIII,DBLOGIC!V2,FALSE),0))))","v":"Pendidikan Agama dan Budi Pekerti"},{"$f":"IF(OR($B$3=\"1 (satu)\",$B$3=\"2 (dua)\"),HLOOKUP($C$3,TABMAPEL_X,DBLOGIC!W2,FALSE),IF(OR($B$3=\"3 (tiga)\",$B$3=\"4 (empat)\"),HLOOKUP($C$3,TABMAPEL_XI,DBLOGIC!W2,FALSE),IF(OR($B$3=\"5 (lima)\",$B$3=\"6 (enam)\"),HLOOKUP($C$3,TABMAPEL_XII,DBLOGIC!W2,FALSE),IF(OR($B$3=\"7 (tujuh)\",$B$3=\"8 (delapan)\"),HLOOKUP($C$3,TABMAPEL_XIII,DBLOGIC!W2,FALSE),0))))","v":"Pendidikan Agama dan Budi Pekerti"},{"$f":"IF(OR($B$3=\"1 (satu)\",$B$3=\"2 (dua)\"),HLOOKUP($C$3,TABMAPEL_X,DBLOGIC!X2,FALSE),IF(OR($B$3=\"3 (tiga)\",$B$3=\"4 (empat)\"),HLOOKUP($C$3,TABMAPEL_XI,DBLOGIC!X2,FALSE),IF(OR($B$3=\"5 (lima)\",$B$3=\"6 (enam)\"),HLOOKUP($C$3,TABMAPEL_XII,DBLOGIC!X2,FALSE),IF(OR($B$3=\"7 (tujuh)\",$B$3=\"8 (delapan)\"),HLOOKUP($C$3,TABMAPEL_XIII,DBLOGIC!X2,FALSE),0))))","v":"Pendidikan Pancasila dan Kewarganegaraan"},{"$f":"IF(OR($B$3=\"1 (satu)\",$B$3=\"2 (dua)\"),HLOOKUP($C$3,TABMAPEL_X,DBLOGIC!Y2,FALSE),IF(OR($B$3=\"3 (tiga)\",$B$3=\"4 (empat)\"),HLOOKUP($C$3,TABMAPEL_XI,DBLOGIC!Y2,FALSE),IF(OR($B$3=\"5 (lima)\",$B$3=\"6 (enam)\"),HLOOKUP($C$3,TABMAPEL_XII,DBLOGIC!Y2,FALSE),IF(OR($B$3=\"7 (tujuh)\",$B$3=\"8 (delapan)\"),HLOOKUP($C$3,TABMAPEL_XIII,DBLOGIC!Y2,FALSE),0))))","v":"Pendidikan Pancasila dan Kewarganegaraan"},{"$f":"IF(OR($B$3=\"1 (satu)\",$B$3=\"2 (dua)\"),HLOOKUP($C$3,TABMAPEL_X,DBLOGIC!Z2,FALSE),IF(OR($B$3=\"3 (tiga)\",$B$3=\"4 (empat)\"),HLOOKUP($C$3,TABMAPEL_XI,DBLOGIC!Z2,FALSE),IF(OR($B$3=\"5 (lima)\",$B$3=\"6 (enam)\"),HLOOKUP($C$3,TABMAPEL_XII,DBLOGIC!Z2,FALSE),IF(OR($B$3=\"7 (tujuh)\",$B$3=\"8 (delapan)\"),HLOOKUP($C$3,TABMAPEL_XIII,DBLOGIC!Z2,FALSE),0))))","v":"Pendidikan Pancasila dan Kewarganegaraan"},{"$f":"IF(OR($B$3=\"1 (satu)\",$B$3=\"2 (dua)\"),HLOOKUP($C$3,TABMAPEL_X,DBLOGIC!AA2,FALSE),IF(OR($B$3=\"3 (tiga)\",$B$3=\"4 (empat)\"),HLOOKUP($C$3,TABMAPEL_XI,DBLOGIC!AA2,FALSE),IF(OR($B$3=\"5 (lima)\",$B$3=\"6 (enam)\"),HLOOKUP($C$3,TABMAPEL_XII,DBLOGIC!AA2,FALSE),IF(OR($B$3=\"7 (tujuh)\",$B$3=\"8 (delapan)\"),HLOOKUP($C$3,TABMAPEL_XIII,DBLOGIC!AA2,FALSE),0))))","v":"Pendidikan Pancasila dan Kewarganegaraan"},{"$f":"IF(OR($B$3=\"1 (satu)\",$B$3=\"2 (dua)\"),HLOOKUP($C$3,TABMAPEL_X,DBLOGIC!AB2,FALSE),IF(OR($B$3=\"3 (tiga)\",$B$3=\"4 (empat)\"),HLOOKUP($C$3,TABMAPEL_XI,DBLOGIC!AB2,FALSE),IF(OR($B$3=\"5 (lima)\",$B$3=\"6 (enam)\"),HLOOKUP($C$3,TABMAPEL_XII,DBLOGIC!AB2,FALSE),IF(OR($B$3=\"7 (tujuh)\",$B$3=\"8 (delapan)\"),HLOOKUP($C$3,TABMAPEL_XIII,DBLOGIC!AB2,FALSE),0))))","v":"Pendidikan Pancasila dan Kewarganegaraan"},{"$f":"IF(OR($B$3=\"1 (satu)\",$B$3=\"2 (dua)\"),HLOOKUP($C$3,TABMAPEL_X,DBLOGIC!AC2,FALSE),IF(OR($B$3=\"3 (tiga)\",$B$3=\"4 (empat)\"),HLOOKUP($C$3,TABMAPEL_XI,DBLOGIC!AC2,FALSE),IF(OR($B$3=\"5 (lima)\",$B$3=\"6 (enam)\"),HLOOKUP($C$3,TABMAPEL_XII,DBLOGIC!AC2,FALSE),IF(OR($B$3=\"7 (tujuh)\",$B$3=\"8 (delapan)\"),HLOOKUP($C$3,TABMAPEL_XIII,DBLOGIC!AC2,FALSE),0))))","v":"Pendidikan Pancasila dan Kewarganegaraan"},{"$f":"IF(OR($B$3=\"1 (satu)\",$B$3=\"2 (dua)\"),HLOOKUP($C$3,TABMAPEL_X,DBLOGIC!AD2,FALSE),IF(OR($B$3=\"3 (tiga)\",$B$3=\"4 (empat)\"),HLOOKUP($C$3,TABMAPEL_XI,DBLOGIC!AD2,FALSE),IF(OR($B$3=\"5 (lima)\",$B$3=\"6 (enam)\"),HLOOKUP($C$3,TABMAPEL_XII,DBLOGIC!AD2,FALSE),IF(OR($B$3=\"7 (tujuh)\",$B$3=\"8 (delapan)\"),HLOOKUP($C$3,TABMAPEL_XIII,DBLOGIC!AD2,FALSE),0))))","v":"Pendidikan Pancasila dan Kewarganegaraan"},{"$f":"IF(OR($B$3=\"1 (satu)\",$B$3=\"2 (dua)\"),HLOOKUP($C$3,TABMAPEL_X,DBLOGIC!AE2,FALSE),IF(OR($B$3=\"3 (tiga)\",$B$3=\"4 (empat)\"),HLOOKUP($C$3,TABMAPEL_XI,DBLOGIC!AE2,FALSE),IF(OR($B$3=\"5 (lima)\",$B$3=\"6 (enam)\"),HLOOKUP($C$3,TABMAPEL_XII,DBLOGIC!AE2,FALSE),IF(OR($B$3=\"7 (tujuh)\",$B$3=\"8 (delapan)\"),HLOOKUP($C$3,TABMAPEL_XIII,DBLOGIC!AE2,FALSE),0))))","v":"Bahasa Indonesia"},{"$f":"IF(OR($B$3=\"1 (satu)\",$B$3=\"2 (dua)\"),HLOOKUP($C$3,TABMAPEL_X,DBLOGIC!AF2,FALSE),IF(OR($B$3=\"3 (tiga)\",$B$3=\"4 (empat)\"),HLOOKUP($C$3,TABMAPEL_XI,DBLOGIC!AF2,FALSE),IF(OR($B$3=\"5 (lima)\",$B$3=\"6 (enam)\"),HLOOKUP($C$3,TABMAPEL_XII,DBLOGIC!AF2,FALSE),IF(OR($B$3=\"7 (tujuh)\",$B$3=\"8 (delapan)\"),HLOOKUP($C$3,TABMAPEL_XIII,DBLOGIC!AF2,FALSE),0))))","v":"Bahasa Indonesia"},{"$f":"IF(OR($B$3=\"1 (satu)\",$B$3=\"2 (dua)\"),HLOOKUP($C$3,TABMAPEL_X,DBLOGIC!AG2,FALSE),IF(OR($B$3=\"3 (tiga)\",$B$3=\"4 (empat)\"),HLOOKUP($C$3,TABMAPEL_XI,DBLOGIC!AG2,FALSE),IF(OR($B$3=\"5 (lima)\",$B$3=\"6 (enam)\"),HLOOKUP($C$3,TABMAPEL_XII,DBLOGIC!AG2,FALSE),IF(OR($B$3=\"7 (tujuh)\",$B$3=\"8 (delapan)\"),HLOOKUP($C$3,TABMAPEL_XIII,DBLOGIC!AG2,FALSE),0))))","v":"Bahasa Indonesia"},{"$f":"IF(OR($B$3=\"1 (satu)\",$B$3=\"2 (dua)\"),HLOOKUP($C$3,TABMAPEL_X,DBLOGIC!AH2,FALSE),IF(OR($B$3=\"3 (tiga)\",$B$3=\"4 (empat)\"),HLOOKUP($C$3,TABMAPEL_XI,DBLOGIC!AH2,FALSE),IF(OR($B$3=\"5 (lima)\",$B$3=\"6 (enam)\"),HLOOKUP($C$3,TABMAPEL_XII,DBLOGIC!AH2,FALSE),IF(OR($B$3=\"7 (tujuh)\",$B$3=\"8 (delapan)\"),HLOOKUP($C$3,TABMAPEL_XIII,DBLOGIC!AH2,FALSE),0))))","v":"Bahasa Indonesia"},{"$f":"IF(OR($B$3=\"1 (satu)\",$B$3=\"2 (dua)\"),HLOOKUP($C$3,TABMAPEL_X,DBLOGIC!AI2,FALSE),IF(OR($B$3=\"3 (tiga)\",$B$3=\"4 (empat)\"),HLOOKUP($C$3,TABMAPEL_XI,DBLOGIC!AI2,FALSE),IF(OR($B$3=\"5 (lima)\",$B$3=\"6 (enam)\"),HLOOKUP($C$3,TABMAPEL_XII,DBLOGIC!AI2,FALSE),IF(OR($B$3=\"7 (tujuh)\",$B$3=\"8 (delapan)\"),HLOOKUP($C$3,TABMAPEL_XIII,DBLOGIC!AI2,FALSE),0))))","v":"Bahasa Indonesia"},{"$f":"IF(OR($B$3=\"1 (satu)\",$B$3=\"2 (dua)\"),HLOOKUP($C$3,TABMAPEL_X,DBLOGIC!AJ2,FALSE),IF(OR($B$3=\"3 (tiga)\",$B$3=\"4 (empat)\"),HLOOKUP($C$3,TABMAPEL_XI,DBLOGIC!AJ2,FALSE),IF(OR($B$3=\"5 (lima)\",$B$3=\"6 (enam)\"),HLOOKUP($C$3,TABMAPEL_XII,DBLOGIC!AJ2,FALSE),IF(OR($B$3=\"7 (tujuh)\",$B$3=\"8 (delapan)\"),HLOOKUP($C$3,TABMAPEL_XIII,DBLOGIC!AJ2,FALSE),0))))","v":"Bahasa Indonesia"},{"$f":"IF(OR($B$3=\"1 (satu)\",$B$3=\"2 (dua)\"),HLOOKUP($C$3,TABMAPEL_X,DBLOGIC!AK2,FALSE),IF(OR($B$3=\"3 (tiga)\",$B$3=\"4 (empat)\"),HLOOKUP($C$3,TABMAPEL_XI,DBLOGIC!AK2,FALSE),IF(OR($B$3=\"5 (lima)\",$B$3=\"6 (enam)\"),HLOOKUP($C$3,TABMAPEL_XII,DBLOGIC!AK2,FALSE),IF(OR($B$3=\"7 (tujuh)\",$B$3=\"8 (delapan)\"),HLOOKUP($C$3,TABMAPEL_XIII,DBLOGIC!AK2,FALSE),0))))","v":"Bahasa Indonesia"},{"$f":"IF(OR($B$3=\"1 (satu)\",$B$3=\"2 (dua)\"),HLOOKUP($C$3,TABMAPEL_X,DBLOGIC!AL2,FALSE),IF(OR($B$3=\"3 (tiga)\",$B$3=\"4 (empat)\"),HLOOKUP($C$3,TABMAPEL_XI,DBLOGIC!AL2,FALSE),IF(OR($B$3=\"5 (lima)\",$B$3=\"6 (enam)\"),HLOOKUP($C$3,TABMAPEL_XII,DBLOGIC!AL2,FALSE),IF(OR($B$3=\"7 (tujuh)\",$B$3=\"8 (delapan)\"),HLOOKUP($C$3,TABMAPEL_XIII,DBLOGIC!AL2,FALSE),0))))","v":"Matematika"},{"$f":"IF(OR($B$3=\"1 (satu)\",$B$3=\"2 (dua)\"),HLOOKUP($C$3,TABMAPEL_X,DBLOGIC!AM2,FALSE),IF(OR($B$3=\"3 (tiga)\",$B$3=\"4 (empat)\"),HLOOKUP($C$3,TABMAPEL_XI,DBLOGIC!AM2,FALSE),IF(OR($B$3=\"5 (lima)\",$B$3=\"6 (enam)\"),HLOOKUP($C$3,TABMAPEL_XII,DBLOGIC!AM2,FALSE),IF(OR($B$3=\"7 (tujuh)\",$B$3=\"8 (delapan)\"),HLOOKUP($C$3,TABMAPEL_XIII,DBLOGIC!AM2,FALSE),0))))","v":"Matematika"},{"$f":"IF(OR($B$3=\"1 (satu)\",$B$3=\"2 (dua)\"),HLOOKUP($C$3,TABMAPEL_X,DBLOGIC!AN2,FALSE),IF(OR($B$3=\"3 (tiga)\",$B$3=\"4 (empat)\"),HLOOKUP($C$3,TABMAPEL_XI,DBLOGIC!AN2,FALSE),IF(OR($B$3=\"5 (lima)\",$B$3=\"6 (enam)\"),HLOOKUP($C$3,TABMAPEL_XII,DBLOGIC!AN2,FALSE),IF(OR($B$3=\"7 (tujuh)\",$B$3=\"8 (delapan)\"),HLOOKUP($C$3,TABMAPEL_XIII,DBLOGIC!AN2,FALSE),0))))","v":"Matematika"},{"$f":"IF(OR($B$3=\"1 (satu)\",$B$3=\"2 (dua)\"),HLOOKUP($C$3,TABMAPEL_X,DBLOGIC!AO2,FALSE),IF(OR($B$3=\"3 (tiga)\",$B$3=\"4 (empat)\"),HLOOKUP($C$3,TABMAPEL_XI,DBLOGIC!AO2,FALSE),IF(OR($B$3=\"5 (lima)\",$B$3=\"6 (enam)\"),HLOOKUP($C$3,TABMAPEL_XII,DBLOGIC!AO2,FALSE),IF(OR($B$3=\"7 (tujuh)\",$B$3=\"8 (delapan)\"),HLOOKUP($C$3,TABMAPEL_XIII,DBLOGIC!AO2,FALSE),0))))","v":"Matematika"},{"$f":"IF(OR($B$3=\"1 (satu)\",$B$3=\"2 (dua)\"),HLOOKUP($C$3,TABMAPEL_X,DBLOGIC!AP2,FALSE),IF(OR($B$3=\"3 (tiga)\",$B$3=\"4 (empat)\"),HLOOKUP($C$3,TABMAPEL_XI,DBLOGIC!AP2,FALSE),IF(OR($B$3=\"5 (lima)\",$B$3=\"6 (enam)\"),HLOOKUP($C$3,TABMAPEL_XII,DBLOGIC!AP2,FALSE),IF(OR($B$3=\"7 (tujuh)\",$B$3=\"8 (delapan)\"),HLOOKUP($C$3,TABMAPEL_XIII,DBLOGIC!AP2,FALSE),0))))","v":"Matematika"},{"$f":"IF(OR($B$3=\"1 (satu)\",$B$3=\"2 (dua)\"),HLOOKUP($C$3,TABMAPEL_X,DBLOGIC!AQ2,FALSE),IF(OR($B$3=\"3 (tiga)\",$B$3=\"4 (empat)\"),HLOOKUP($C$3,TABMAPEL_XI,DBLOGIC!AQ2,FALSE),IF(OR($B$3=\"5 (lima)\",$B$3=\"6 (enam)\"),HLOOKUP($C$3,TABMAPEL_XII,DBLOGIC!AQ2,FALSE),IF(OR($B$3=\"7 (tujuh)\",$B$3=\"8 (delapan)\"),HLOOKUP($C$3,TABMAPEL_XIII,DBLOGIC!AQ2,FALSE),0))))","v":"Matematika"},{"$f":"IF(OR($B$3=\"1 (satu)\",$B$3=\"2 (dua)\"),HLOOKUP($C$3,TABMAPEL_X,DBLOGIC!AR2,FALSE),IF(OR($B$3=\"3 (tiga)\",$B$3=\"4 (empat)\"),HLOOKUP($C$3,TABMAPEL_XI,DBLOGIC!AR2,FALSE),IF(OR($B$3=\"5 (lima)\",$B$3=\"6 (enam)\"),HLOOKUP($C$3,TABMAPEL_XII,DBLOGIC!AR2,FALSE),IF(OR($B$3=\"7 (tujuh)\",$B$3=\"8 (delapan)\"),HLOOKUP($C$3,TABMAPEL_XIII,DBLOGIC!AR2,FALSE),0))))","v":"Matematika"},{"$f":"IF(OR($B$3=\"1 (satu)\",$B$3=\"2 (dua)\"),HLOOKUP($C$3,TABMAPEL_X,DBLOGIC!AS2,FALSE),IF(OR($B$3=\"3 (tiga)\",$B$3=\"4 (empat)\"),HLOOKUP($C$3,TABMAPEL_XI,DBLOGIC!AS2,FALSE),IF(OR($B$3=\"5 (lima)\",$B$3=\"6 (enam)\"),HLOOKUP($C$3,TABMAPEL_XII,DBLOGIC!AS2,FALSE),IF(OR($B$3=\"7 (tujuh)\",$B$3=\"8 (delapan)\"),HLOOKUP($C$3,TABMAPEL_XIII,DBLOGIC!AS2,FALSE),0))))","v":"Sejarah Indonesia"},{"$f":"IF(OR($B$3=\"1 (satu)\",$B$3=\"2 (dua)\"),HLOOKUP($C$3,TABMAPEL_X,DBLOGIC!AT2,FALSE),IF(OR($B$3=\"3 (tiga)\",$B$3=\"4 (empat)\"),HLOOKUP($C$3,TABMAPEL_XI,DBLOGIC!AT2,FALSE),IF(OR($B$3=\"5 (lima)\",$B$3=\"6 (enam)\"),HLOOKUP($C$3,TABMAPEL_XII,DBLOGIC!AT2,FALSE),IF(OR($B$3=\"7 (tujuh)\",$B$3=\"8 (delapan)\"),HLOOKUP($C$3,TABMAPEL_XIII,DBLOGIC!AT2,FALSE),0))))","v":"Sejarah Indonesia"},{"$f":"IF(OR($B$3=\"1 (satu)\",$B$3=\"2 (dua)\"),HLOOKUP($C$3,TABMAPEL_X,DBLOGIC!AU2,FALSE),IF(OR($B$3=\"3 (tiga)\",$B$3=\"4 (empat)\"),HLOOKUP($C$3,TABMAPEL_XI,DBLOGIC!AU2,FALSE),IF(OR($B$3=\"5 (lima)\",$B$3=\"6 (enam)\"),HLOOKUP($C$3,TABMAPEL_XII,DBLOGIC!AU2,FALSE),IF(OR($B$3=\"7 (tujuh)\",$B$3=\"8 (delapan)\"),HLOOKUP($C$3,TABMAPEL_XIII,DBLOGIC!AU2,FALSE),0))))","v":"Sejarah Indonesia"},{"$f":"IF(OR($B$3=\"1 (satu)\",$B$3=\"2 (dua)\"),HLOOKUP($C$3,TABMAPEL_X,DBLOGIC!AV2,FALSE),IF(OR($B$3=\"3 (tiga)\",$B$3=\"4 (empat)\"),HLOOKUP($C$3,TABMAPEL_XI,DBLOGIC!AV2,FALSE),IF(OR($B$3=\"5 (lima)\",$B$3=\"6 (enam)\"),HLOOKUP($C$3,TABMAPEL_XII,DBLOGIC!AV2,FALSE),IF(OR($B$3=\"7 (tujuh)\",$B$3=\"8 (delapan)\"),HLOOKUP($C$3,TABMAPEL_XIII,DBLOGIC!AV2,FALSE),0))))","v":"Sejarah Indonesia"},{"$f":"IF(OR($B$3=\"1 (satu)\",$B$3=\"2 (dua)\"),HLOOKUP($C$3,TABMAPEL_X,DBLOGIC!AW2,FALSE),IF(OR($B$3=\"3 (tiga)\",$B$3=\"4 (empat)\"),HLOOKUP($C$3,TABMAPEL_XI,DBLOGIC!AW2,FALSE),IF(OR($B$3=\"5 (lima)\",$B$3=\"6 (enam)\"),HLOOKUP($C$3,TABMAPEL_XII,DBLOGIC!AW2,FALSE),IF(OR($B$3=\"7 (tujuh)\",$B$3=\"8 (delapan)\"),HLOOKUP($C$3,TABMAPEL_XIII,DBLOGIC!AW2,FALSE),0))))","v":"Sejarah Indonesia"},{"$f":"IF(OR($B$3=\"1 (satu)\",$B$3=\"2 (dua)\"),HLOOKUP($C$3,TABMAPEL_X,DBLOGIC!AX2,FALSE),IF(OR($B$3=\"3 (tiga)\",$B$3=\"4 (empat)\"),HLOOKUP($C$3,TABMAPEL_XI,DBLOGIC!AX2,FALSE),IF(OR($B$3=\"5 (lima)\",$B$3=\"6 (enam)\"),HLOOKUP($C$3,TABMAPEL_XII,DBLOGIC!AX2,FALSE),IF(OR($B$3=\"7 (tujuh)\",$B$3=\"8 (delapan)\"),HLOOKUP($C$3,TABMAPEL_XIII,DBLOGIC!AX2,FALSE),0))))","v":"Sejarah Indonesia"},{"$f":"IF(OR($B$3=\"1 (satu)\",$B$3=\"2 (dua)\"),HLOOKUP($C$3,TABMAPEL_X,DBLOGIC!AY2,FALSE),IF(OR($B$3=\"3 (tiga)\",$B$3=\"4 (empat)\"),HLOOKUP($C$3,TABMAPEL_XI,DBLOGIC!AY2,FALSE),IF(OR($B$3=\"5 (lima)\",$B$3=\"6 (enam)\"),HLOOKUP($C$3,TABMAPEL_XII,DBLOGIC!AY2,FALSE),IF(OR($B$3=\"7 (tujuh)\",$B$3=\"8 (delapan)\"),HLOOKUP($C$3,TABMAPEL_XIII,DBLOGIC!AY2,FALSE),0))))","v":"Sejarah Indonesia"},{"$f":"IF(OR($B$3=\"1 (satu)\",$B$3=\"2 (dua)\"),HLOOKUP($C$3,TABMAPEL_X,DBLOGIC!AZ2,FALSE),IF(OR($B$3=\"3 (tiga)\",$B$3=\"4 (empat)\"),HLOOKUP($C$3,TABMAPEL_XI,DBLOGIC!AZ2,FALSE),IF(OR($B$3=\"5 (lima)\",$B$3=\"6 (enam)\"),HLOOKUP($C$3,TABMAPEL_XII,DBLOGIC!AZ2,FALSE),IF(OR($B$3=\"7 (tujuh)\",$B$3=\"8 (delapan)\"),HLOOKUP($C$3,TABMAPEL_XIII,DBLOGIC!AZ2,FALSE),0))))","v":"Bahasa Inggris"},{"$f":"IF(OR($B$3=\"1 (satu)\",$B$3=\"2 (dua)\"),HLOOKUP($C$3,TABMAPEL_X,DBLOGIC!BA2,FALSE),IF(OR($B$3=\"3 (tiga)\",$B$3=\"4 (empat)\"),HLOOKUP($C$3,TABMAPEL_XI,DBLOGIC!BA2,FALSE),IF(OR($B$3=\"5 (lima)\",$B$3=\"6 (enam)\"),HLOOKUP($C$3,TABMAPEL_XII,DBLOGIC!BA2,FALSE),IF(OR($B$3=\"7 (tujuh)\",$B$3=\"8 (delapan)\"),HLOOKUP($C$3,TABMAPEL_XIII,DBLOGIC!BA2,FALSE),0))))","v":"Bahasa Inggris"},{"$f":"IF(OR($B$3=\"1 (satu)\",$B$3=\"2 (dua)\"),HLOOKUP($C$3,TABMAPEL_X,DBLOGIC!BB2,FALSE),IF(OR($B$3=\"3 (tiga)\",$B$3=\"4 (empat)\"),HLOOKUP($C$3,TABMAPEL_XI,DBLOGIC!BB2,FALSE),IF(OR($B$3=\"5 (lima)\",$B$3=\"6 (enam)\"),HLOOKUP($C$3,TABMAPEL_XII,DBLOGIC!BB2,FALSE),IF(OR($B$3=\"7 (tujuh)\",$B$3=\"8 (delapan)\"),HLOOKUP($C$3,TABMAPEL_XIII,DBLOGIC!BB2,FALSE),0))))","v":"Bahasa Inggris"},{"$f":"IF(OR($B$3=\"1 (satu)\",$B$3=\"2 (dua)\"),HLOOKUP($C$3,TABMAPEL_X,DBLOGIC!BC2,FALSE),IF(OR($B$3=\"3 (tiga)\",$B$3=\"4 (empat)\"),HLOOKUP($C$3,TABMAPEL_XI,DBLOGIC!BC2,FALSE),IF(OR($B$3=\"5 (lima)\",$B$3=\"6 (enam)\"),HLOOKUP($C$3,TABMAPEL_XII,DBLOGIC!BC2,FALSE),IF(OR($B$3=\"7 (tujuh)\",$B$3=\"8 (delapan)\"),HLOOKUP($C$3,TABMAPEL_XIII,DBLOGIC!BC2,FALSE),0))))","v":"Bahasa Inggris"},{"$f":"IF(OR($B$3=\"1 (satu)\",$B$3=\"2 (dua)\"),HLOOKUP($C$3,TABMAPEL_X,DBLOGIC!BD2,FALSE),IF(OR($B$3=\"3 (tiga)\",$B$3=\"4 (empat)\"),HLOOKUP($C$3,TABMAPEL_XI,DBLOGIC!BD2,FALSE),IF(OR($B$3=\"5 (lima)\",$B$3=\"6 (enam)\"),HLOOKUP($C$3,TABMAPEL_XII,DBLOGIC!BD2,FALSE),IF(OR($B$3=\"7 (tujuh)\",$B$3=\"8 (delapan)\"),HLOOKUP($C$3,TABMAPEL_XIII,DBLOGIC!BD2,FALSE),0))))","v":"Bahasa Inggris"},{"$f":"IF(OR($B$3=\"1 (satu)\",$B$3=\"2 (dua)\"),HLOOKUP($C$3,TABMAPEL_X,DBLOGIC!BE2,FALSE),IF(OR($B$3=\"3 (tiga)\",$B$3=\"4 (empat)\"),HLOOKUP($C$3,TABMAPEL_XI,DBLOGIC!BE2,FALSE),IF(OR($B$3=\"5 (lima)\",$B$3=\"6 (enam)\"),HLOOKUP($C$3,TABMAPEL_XII,DBLOGIC!BE2,FALSE),IF(OR($B$3=\"7 (tujuh)\",$B$3=\"8 (delapan)\"),HLOOKUP($C$3,TABMAPEL_XIII,DBLOGIC!BE2,FALSE),0))))","v":"Bahasa Inggris"},{"$f":"IF(OR($B$3=\"1 (satu)\",$B$3=\"2 (dua)\"),HLOOKUP($C$3,TABMAPEL_X,DBLOGIC!BF2,FALSE),IF(OR($B$3=\"3 (tiga)\",$B$3=\"4 (empat)\"),HLOOKUP($C$3,TABMAPEL_XI,DBLOGIC!BF2,FALSE),IF(OR($B$3=\"5 (lima)\",$B$3=\"6 (enam)\"),HLOOKUP($C$3,TABMAPEL_XII,DBLOGIC!BF2,FALSE),IF(OR($B$3=\"7 (tujuh)\",$B$3=\"8 (delapan)\"),HLOOKUP($C$3,TABMAPEL_XIII,DBLOGIC!BF2,FALSE),0))))","v":"Bahasa Inggris"},{"$f":"IF(OR($B$3=\"1 (satu)\",$B$3=\"2 (dua)\"),HLOOKUP($C$3,TABMAPEL_X,DBLOGIC!BG2,FALSE),IF(OR($B$3=\"3 (tiga)\",$B$3=\"4 (empat)\"),HLOOKUP($C$3,TABMAPEL_XI,DBLOGIC!BG2,FALSE),IF(OR($B$3=\"5 (lima)\",$B$3=\"6 (enam)\"),HLOOKUP($C$3,TABMAPEL_XII,DBLOGIC!BG2,FALSE),IF(OR($B$3=\"7 (tujuh)\",$B$3=\"8 (delapan)\"),HLOOKUP($C$3,TABMAPEL_XIII,DBLOGIC!BG2,FALSE),0))))","v":"-"},{"$f":"IF(OR($B$3=\"1 (satu)\",$B$3=\"2 (dua)\"),HLOOKUP($C$3,TABMAPEL_X,DBLOGIC!BH2,FALSE),IF(OR($B$3=\"3 (tiga)\",$B$3=\"4 (empat)\"),HLOOKUP($C$3,TABMAPEL_XI,DBLOGIC!BH2,FALSE),IF(OR($B$3=\"5 (lima)\",$B$3=\"6 (enam)\"),HLOOKUP($C$3,TABMAPEL_XII,DBLOGIC!BH2,FALSE),IF(OR($B$3=\"7 (tujuh)\",$B$3=\"8 (delapan)\"),HLOOKUP($C$3,TABMAPEL_XIII,DBLOGIC!BH2,FALSE),0))))","v":"-"},{"$f":"IF(OR($B$3=\"1 (satu)\",$B$3=\"2 (dua)\"),HLOOKUP($C$3,TABMAPEL_X,DBLOGIC!BI2,FALSE),IF(OR($B$3=\"3 (tiga)\",$B$3=\"4 (empat)\"),HLOOKUP($C$3,TABMAPEL_XI,DBLOGIC!BI2,FALSE),IF(OR($B$3=\"5 (lima)\",$B$3=\"6 (enam)\"),HLOOKUP($C$3,TABMAPEL_XII,DBLOGIC!BI2,FALSE),IF(OR($B$3=\"7 (tujuh)\",$B$3=\"8 (delapan)\"),HLOOKUP($C$3,TABMAPEL_XIII,DBLOGIC!BI2,FALSE),0))))","v":"-"},{"$f":"IF(OR($B$3=\"1 (satu)\",$B$3=\"2 (dua)\"),HLOOKUP($C$3,TABMAPEL_X,DBLOGIC!BJ2,FALSE),IF(OR($B$3=\"3 (tiga)\",$B$3=\"4 (empat)\"),HLOOKUP($C$3,TABMAPEL_XI,DBLOGIC!BJ2,FALSE),IF(OR($B$3=\"5 (lima)\",$B$3=\"6 (enam)\"),HLOOKUP($C$3,TABMAPEL_XII,DBLOGIC!BJ2,FALSE),IF(OR($B$3=\"7 (tujuh)\",$B$3=\"8 (delapan)\"),HLOOKUP($C$3,TABMAPEL_XIII,DBLOGIC!BJ2,FALSE),0))))","v":"-"},{"$f":"IF(OR($B$3=\"1 (satu)\",$B$3=\"2 (dua)\"),HLOOKUP($C$3,TABMAPEL_X,DBLOGIC!BK2,FALSE),IF(OR($B$3=\"3 (tiga)\",$B$3=\"4 (empat)\"),HLOOKUP($C$3,TABMAPEL_XI,DBLOGIC!BK2,FALSE),IF(OR($B$3=\"5 (lima)\",$B$3=\"6 (enam)\"),HLOOKUP($C$3,TABMAPEL_XII,DBLOGIC!BK2,FALSE),IF(OR($B$3=\"7 (tujuh)\",$B$3=\"8 (delapan)\"),HLOOKUP($C$3,TABMAPEL_XIII,DBLOGIC!BK2,FALSE),0))))","v":"-"},{"$f":"IF(OR($B$3=\"1 (satu)\",$B$3=\"2 (dua)\"),HLOOKUP($C$3,TABMAPEL_X,DBLOGIC!BL2,FALSE),IF(OR($B$3=\"3 (tiga)\",$B$3=\"4 (empat)\"),HLOOKUP($C$3,TABMAPEL_XI,DBLOGIC!BL2,FALSE),IF(OR($B$3=\"5 (lima)\",$B$3=\"6 (enam)\"),HLOOKUP($C$3,TABMAPEL_XII,DBLOGIC!BL2,FALSE),IF(OR($B$3=\"7 (tujuh)\",$B$3=\"8 (delapan)\"),HLOOKUP($C$3,TABMAPEL_XIII,DBLOGIC!BL2,FALSE),0))))","v":"-"},{"$f":"IF(OR($B$3=\"1 (satu)\",$B$3=\"2 (dua)\"),HLOOKUP($C$3,TABMAPEL_X,DBLOGIC!BM2,FALSE),IF(OR($B$3=\"3 (tiga)\",$B$3=\"4 (empat)\"),HLOOKUP($C$3,TABMAPEL_XI,DBLOGIC!BM2,FALSE),IF(OR($B$3=\"5 (lima)\",$B$3=\"6 (enam)\"),HLOOKUP($C$3,TABMAPEL_XII,DBLOGIC!BM2,FALSE),IF(OR($B$3=\"7 (tujuh)\",$B$3=\"8 (delapan)\"),HLOOKUP($C$3,TABMAPEL_XIII,DBLOGIC!BM2,FALSE),0))))","v":"-"},{"$f":"IF(OR($B$3=\"1 (satu)\",$B$3=\"2 (dua)\"),HLOOKUP($C$3,TABMAPEL_X,DBLOGIC!BN2,FALSE),IF(OR($B$3=\"3 (tiga)\",$B$3=\"4 (empat)\"),HLOOKUP($C$3,TABMAPEL_XI,DBLOGIC!BN2,FALSE),IF(OR($B$3=\"5 (lima)\",$B$3=\"6 (enam)\"),HLOOKUP($C$3,TABMAPEL_XII,DBLOGIC!BN2,FALSE),IF(OR($B$3=\"7 (tujuh)\",$B$3=\"8 (delapan)\"),HLOOKUP($C$3,TABMAPEL_XIII,DBLOGIC!BN2,FALSE),0))))","v":"Seni Budaya"},{"$f":"IF(OR($B$3=\"1 (satu)\",$B$3=\"2 (dua)\"),HLOOKUP($C$3,TABMAPEL_X,DBLOGIC!BO2,FALSE),IF(OR($B$3=\"3 (tiga)\",$B$3=\"4 (empat)\"),HLOOKUP($C$3,TABMAPEL_XI,DBLOGIC!BO2,FALSE),IF(OR($B$3=\"5 (lima)\",$B$3=\"6 (enam)\"),HLOOKUP($C$3,TABMAPEL_XII,DBLOGIC!BO2,FALSE),IF(OR($B$3=\"7 (tujuh)\",$B$3=\"8 (delapan)\"),HLOOKUP($C$3,TABMAPEL_XIII,DBLOGIC!BO2,FALSE),0))))","v":"Seni Budaya"},{"$f":"IF(OR($B$3=\"1 (satu)\",$B$3=\"2 (dua)\"),HLOOKUP($C$3,TABMAPEL_X,DBLOGIC!BP2,FALSE),IF(OR($B$3=\"3 (tiga)\",$B$3=\"4 (empat)\"),HLOOKUP($C$3,TABMAPEL_XI,DBLOGIC!BP2,FALSE),IF(OR($B$3=\"5 (lima)\",$B$3=\"6 (enam)\"),HLOOKUP($C$3,TABMAPEL_XII,DBLOGIC!BP2,FALSE),IF(OR($B$3=\"7 (tujuh)\",$B$3=\"8 (delapan)\"),HLOOKUP($C$3,TABMAPEL_XIII,DBLOGIC!BP2,FALSE),0))))","v":"Seni Budaya"},{"$f":"IF(OR($B$3=\"1 (satu)\",$B$3=\"2 (dua)\"),HLOOKUP($C$3,TABMAPEL_X,DBLOGIC!BQ2,FALSE),IF(OR($B$3=\"3 (tiga)\",$B$3=\"4 (empat)\"),HLOOKUP($C$3,TABMAPEL_XI,DBLOGIC!BQ2,FALSE),IF(OR($B$3=\"5 (lima)\",$B$3=\"6 (enam)\"),HLOOKUP($C$3,TABMAPEL_XII,DBLOGIC!BQ2,FALSE),IF(OR($B$3=\"7 (tujuh)\",$B$3=\"8 (delapan)\"),HLOOKUP($C$3,TABMAPEL_XIII,DBLOGIC!BQ2,FALSE),0))))","v":"Seni Budaya"},{"$f":"IF(OR($B$3=\"1 (satu)\",$B$3=\"2 (dua)\"),HLOOKUP($C$3,TABMAPEL_X,DBLOGIC!BR2,FALSE),IF(OR($B$3=\"3 (tiga)\",$B$3=\"4 (empat)\"),HLOOKUP($C$3,TABMAPEL_XI,DBLOGIC!BR2,FALSE),IF(OR($B$3=\"5 (lima)\",$B$3=\"6 (enam)\"),HLOOKUP($C$3,TABMAPEL_XII,DBLOGIC!BR2,FALSE),IF(OR($B$3=\"7 (tujuh)\",$B$3=\"8 (delapan)\"),HLOOKUP($C$3,TABMAPEL_XIII,DBLOGIC!BR2,FALSE),0))))","v":"Seni Budaya"},{"$f":"IF(OR($B$3=\"1 (satu)\",$B$3=\"2 (dua)\"),HLOOKUP($C$3,TABMAPEL_X,DBLOGIC!BS2,FALSE),IF(OR($B$3=\"3 (tiga)\",$B$3=\"4 (empat)\"),HLOOKUP($C$3,TABMAPEL_XI,DBLOGIC!BS2,FALSE),IF(OR($B$3=\"5 (lima)\",$B$3=\"6 (enam)\"),HLOOKUP($C$3,TABMAPEL_XII,DBLOGIC!BS2,FALSE),IF(OR($B$3=\"7 (tujuh)\",$B$3=\"8 (delapan)\"),HLOOKUP($C$3,TABMAPEL_XIII,DBLOGIC!BS2,FALSE),0))))","v":"Seni Budaya"},{"$f":"IF(OR($B$3=\"1 (satu)\",$B$3=\"2 (dua)\"),HLOOKUP($C$3,TABMAPEL_X,DBLOGIC!BT2,FALSE),IF(OR($B$3=\"3 (tiga)\",$B$3=\"4 (empat)\"),HLOOKUP($C$3,TABMAPEL_XI,DBLOGIC!BT2,FALSE),IF(OR($B$3=\"5 (lima)\",$B$3=\"6 (enam)\"),HLOOKUP($C$3,TABMAPEL_XII,DBLOGIC!BT2,FALSE),IF(OR($B$3=\"7 (tujuh)\",$B$3=\"8 (delapan)\"),HLOOKUP($C$3,TABMAPEL_XIII,DBLOGIC!BT2,FALSE),0))))","v":"Seni Budaya"},{"$f":"IF(OR($B$3=\"1 (satu)\",$B$3=\"2 (dua)\"),HLOOKUP($C$3,TABMAPEL_X,DBLOGIC!BU2,FALSE),IF(OR($B$3=\"3 (tiga)\",$B$3=\"4 (empat)\"),HLOOKUP($C$3,TABMAPEL_XI,DBLOGIC!BU2,FALSE),IF(OR($B$3=\"5 (lima)\",$B$3=\"6 (enam)\"),HLOOKUP($C$3,TABMAPEL_XII,DBLOGIC!BU2,FALSE),IF(OR($B$3=\"7 (tujuh)\",$B$3=\"8 (delapan)\"),HLOOKUP($C$3,TABMAPEL_XIII,DBLOGIC!BU2,FALSE),0))))","v":"Pendidikan Jasmani, Olahraga dan Kesehatan"},{"$f":"IF(OR($B$3=\"1 (satu)\",$B$3=\"2 (dua)\"),HLOOKUP($C$3,TABMAPEL_X,DBLOGIC!BV2,FALSE),IF(OR($B$3=\"3 (tiga)\",$B$3=\"4 (empat)\"),HLOOKUP($C$3,TABMAPEL_XI,DBLOGIC!BV2,FALSE),IF(OR($B$3=\"5 (lima)\",$B$3=\"6 (enam)\"),HLOOKUP($C$3,TABMAPEL_XII,DBLOGIC!BV2,FALSE),IF(OR($B$3=\"7 (tujuh)\",$B$3=\"8 (delapan)\"),HLOOKUP($C$3,TABMAPEL_XIII,DBLOGIC!BV2,FALSE),0))))","v":"Pendidikan Jasmani, Olahraga dan Kesehatan"},{"$f":"IF(OR($B$3=\"1 (satu)\",$B$3=\"2 (dua)\"),HLOOKUP($C$3,TABMAPEL_X,DBLOGIC!BW2,FALSE),IF(OR($B$3=\"3 (tiga)\",$B$3=\"4 (empat)\"),HLOOKUP($C$3,TABMAPEL_XI,DBLOGIC!BW2,FALSE),IF(OR($B$3=\"5 (lima)\",$B$3=\"6 (enam)\"),HLOOKUP($C$3,TABMAPEL_XII,DBLOGIC!BW2,FALSE),IF(OR($B$3=\"7 (tujuh)\",$B$3=\"8 (delapan)\"),HLOOKUP($C$3,TABMAPEL_XIII,DBLOGIC!BW2,FALSE),0))))","v":"Pendidikan Jasmani, Olahraga dan Kesehatan"},{"$f":"IF(OR($B$3=\"1 (satu)\",$B$3=\"2 (dua)\"),HLOOKUP($C$3,TABMAPEL_X,DBLOGIC!BX2,FALSE),IF(OR($B$3=\"3 (tiga)\",$B$3=\"4 (empat)\"),HLOOKUP($C$3,TABMAPEL_XI,DBLOGIC!BX2,FALSE),IF(OR($B$3=\"5 (lima)\",$B$3=\"6 (enam)\"),HLOOKUP($C$3,TABMAPEL_XII,DBLOGIC!BX2,FALSE),IF(OR($B$3=\"7 (tujuh)\",$B$3=\"8 (delapan)\"),HLOOKUP($C$3,TABMAPEL_XIII,DBLOGIC!BX2,FALSE),0))))","v":"Pendidikan Jasmani, Olahraga dan Kesehatan"},{"$f":"IF(OR($B$3=\"1 (satu)\",$B$3=\"2 (dua)\"),HLOOKUP($C$3,TABMAPEL_X,DBLOGIC!BY2,FALSE),IF(OR($B$3=\"3 (tiga)\",$B$3=\"4 (empat)\"),HLOOKUP($C$3,TABMAPEL_XI,DBLOGIC!BY2,FALSE),IF(OR($B$3=\"5 (lima)\",$B$3=\"6 (enam)\"),HLOOKUP($C$3,TABMAPEL_XII,DBLOGIC!BY2,FALSE),IF(OR($B$3=\"7 (tujuh)\",$B$3=\"8 (delapan)\"),HLOOKUP($C$3,TABMAPEL_XIII,DBLOGIC!BY2,FALSE),0))))","v":"Pendidikan Jasmani, Olahraga dan Kesehatan"},{"$f":"IF(OR($B$3=\"1 (satu)\",$B$3=\"2 (dua)\"),HLOOKUP($C$3,TABMAPEL_X,DBLOGIC!BZ2,FALSE),IF(OR($B$3=\"3 (tiga)\",$B$3=\"4 (empat)\"),HLOOKUP($C$3,TABMAPEL_XI,DBLOGIC!BZ2,FALSE),IF(OR($B$3=\"5 (lima)\",$B$3=\"6 (enam)\"),HLOOKUP($C$3,TABMAPEL_XII,DBLOGIC!BZ2,FALSE),IF(OR($B$3=\"7 (tujuh)\",$B$3=\"8 (delapan)\"),HLOOKUP($C$3,TABMAPEL_XIII,DBLOGIC!BZ2,FALSE),0))))","v":"Pendidikan Jasmani, Olahraga dan Kesehatan"},{"$f":"IF(OR($B$3=\"1 (satu)\",$B$3=\"2 (dua)\"),HLOOKUP($C$3,TABMAPEL_X,DBLOGIC!CA2,FALSE),IF(OR($B$3=\"3 (tiga)\",$B$3=\"4 (empat)\"),HLOOKUP($C$3,TABMAPEL_XI,DBLOGIC!CA2,FALSE),IF(OR($B$3=\"5 (lima)\",$B$3=\"6 (enam)\"),HLOOKUP($C$3,TABMAPEL_XII,DBLOGIC!CA2,FALSE),IF(OR($B$3=\"7 (tujuh)\",$B$3=\"8 (delapan)\"),HLOOKUP($C$3,TABMAPEL_XIII,DBLOGIC!CA2,FALSE),0))))","v":"Pendidikan Jasmani, Olahraga dan Kesehatan"},{"$f":"IF(OR($B$3=\"1 (satu)\",$B$3=\"2 (dua)\"),HLOOKUP($C$3,TABMAPEL_X,DBLOGIC!CB2,FALSE),IF(OR($B$3=\"3 (tiga)\",$B$3=\"4 (empat)\"),HLOOKUP($C$3,TABMAPEL_XI,DBLOGIC!CB2,FALSE),IF(OR($B$3=\"5 (lima)\",$B$3=\"6 (enam)\"),HLOOKUP($C$3,TABMAPEL_XII,DBLOGIC!CB2,FALSE),IF(OR($B$3=\"7 (tujuh)\",$B$3=\"8 (delapan)\"),HLOOKUP($C$3,TABMAPEL_XIII,DBLOGIC!CB2,FALSE),0))))","v":"Simulasi dan Komunikasi Digital"},{"$f":"IF(OR($B$3=\"1 (satu)\",$B$3=\"2 (dua)\"),HLOOKUP($C$3,TABMAPEL_X,DBLOGIC!CC2,FALSE),IF(OR($B$3=\"3 (tiga)\",$B$3=\"4 (empat)\"),HLOOKUP($C$3,TABMAPEL_XI,DBLOGIC!CC2,FALSE),IF(OR($B$3=\"5 (lima)\",$B$3=\"6 (enam)\"),HLOOKUP($C$3,TABMAPEL_XII,DBLOGIC!CC2,FALSE),IF(OR($B$3=\"7 (tujuh)\",$B$3=\"8 (delapan)\"),HLOOKUP($C$3,TABMAPEL_XIII,DBLOGIC!CC2,FALSE),0))))","v":"Simulasi dan Komunikasi Digital"},{"$f":"IF(OR($B$3=\"1 (satu)\",$B$3=\"2 (dua)\"),HLOOKUP($C$3,TABMAPEL_X,DBLOGIC!CD2,FALSE),IF(OR($B$3=\"3 (tiga)\",$B$3=\"4 (empat)\"),HLOOKUP($C$3,TABMAPEL_XI,DBLOGIC!CD2,FALSE),IF(OR($B$3=\"5 (lima)\",$B$3=\"6 (enam)\"),HLOOKUP($C$3,TABMAPEL_XII,DBLOGIC!CD2,FALSE),IF(OR($B$3=\"7 (tujuh)\",$B$3=\"8 (delapan)\"),HLOOKUP($C$3,TABMAPEL_XIII,DBLOGIC!CD2,FALSE),0))))","v":"Simulasi dan Komunikasi Digital"},{"$f":"IF(OR($B$3=\"1 (satu)\",$B$3=\"2 (dua)\"),HLOOKUP($C$3,TABMAPEL_X,DBLOGIC!CE2,FALSE),IF(OR($B$3=\"3 (tiga)\",$B$3=\"4 (empat)\"),HLOOKUP($C$3,TABMAPEL_XI,DBLOGIC!CE2,FALSE),IF(OR($B$3=\"5 (lima)\",$B$3=\"6 (enam)\"),HLOOKUP($C$3,TABMAPEL_XII,DBLOGIC!CE2,FALSE),IF(OR($B$3=\"7 (tujuh)\",$B$3=\"8 (delapan)\"),HLOOKUP($C$3,TABMAPEL_XIII,DBLOGIC!CE2,FALSE),0))))","v":"Simulasi dan Komunikasi Digital"},{"$f":"IF(OR($B$3=\"1 (satu)\",$B$3=\"2 (dua)\"),HLOOKUP($C$3,TABMAPEL_X,DBLOGIC!CF2,FALSE),IF(OR($B$3=\"3 (tiga)\",$B$3=\"4 (empat)\"),HLOOKUP($C$3,TABMAPEL_XI,DBLOGIC!CF2,FALSE),IF(OR($B$3=\"5 (lima)\",$B$3=\"6 (enam)\"),HLOOKUP($C$3,TABMAPEL_XII,DBLOGIC!CF2,FALSE),IF(OR($B$3=\"7 (tujuh)\",$B$3=\"8 (delapan)\"),HLOOKUP($C$3,TABMAPEL_XIII,DBLOGIC!CF2,FALSE),0))))","v":"Simulasi dan Komunikasi Digital"},{"$f":"IF(OR($B$3=\"1 (satu)\",$B$3=\"2 (dua)\"),HLOOKUP($C$3,TABMAPEL_X,DBLOGIC!CG2,FALSE),IF(OR($B$3=\"3 (tiga)\",$B$3=\"4 (empat)\"),HLOOKUP($C$3,TABMAPEL_XI,DBLOGIC!CG2,FALSE),IF(OR($B$3=\"5 (lima)\",$B$3=\"6 (enam)\"),HLOOKUP($C$3,TABMAPEL_XII,DBLOGIC!CG2,FALSE),IF(OR($B$3=\"7 (tujuh)\",$B$3=\"8 (delapan)\"),HLOOKUP($C$3,TABMAPEL_XIII,DBLOGIC!CG2,FALSE),0))))","v":"Simulasi dan Komunikasi Digital"},{"$f":"IF(OR($B$3=\"1 (satu)\",$B$3=\"2 (dua)\"),HLOOKUP($C$3,TABMAPEL_X,DBLOGIC!CH2,FALSE),IF(OR($B$3=\"3 (tiga)\",$B$3=\"4 (empat)\"),HLOOKUP($C$3,TABMAPEL_XI,DBLOGIC!CH2,FALSE),IF(OR($B$3=\"5 (lima)\",$B$3=\"6 (enam)\"),HLOOKUP($C$3,TABMAPEL_XII,DBLOGIC!CH2,FALSE),IF(OR($B$3=\"7 (tujuh)\",$B$3=\"8 (delapan)\"),HLOOKUP($C$3,TABMAPEL_XIII,DBLOGIC!CH2,FALSE),0))))","v":"Simulasi dan Komunikasi Digital"},{"$f":"IF(OR($B$3=\"1 (satu)\",$B$3=\"2 (dua)\"),HLOOKUP($C$3,TABMAPEL_X,DBLOGIC!CI2,FALSE),IF(OR($B$3=\"3 (tiga)\",$B$3=\"4 (empat)\"),HLOOKUP($C$3,TABMAPEL_XI,DBLOGIC!CI2,FALSE),IF(OR($B$3=\"5 (lima)\",$B$3=\"6 (enam)\"),HLOOKUP($C$3,TABMAPEL_XII,DBLOGIC!CI2,FALSE),IF(OR($B$3=\"7 (tujuh)\",$B$3=\"8 (delapan)\"),HLOOKUP($C$3,TABMAPEL_XIII,DBLOGIC!CI2,FALSE),0))))","v":"Fisika"},{"$f":"IF(OR($B$3=\"1 (satu)\",$B$3=\"2 (dua)\"),HLOOKUP($C$3,TABMAPEL_X,DBLOGIC!CJ2,FALSE),IF(OR($B$3=\"3 (tiga)\",$B$3=\"4 (empat)\"),HLOOKUP($C$3,TABMAPEL_XI,DBLOGIC!CJ2,FALSE),IF(OR($B$3=\"5 (lima)\",$B$3=\"6 (enam)\"),HLOOKUP($C$3,TABMAPEL_XII,DBLOGIC!CJ2,FALSE),IF(OR($B$3=\"7 (tujuh)\",$B$3=\"8 (delapan)\"),HLOOKUP($C$3,TABMAPEL_XIII,DBLOGIC!CJ2,FALSE),0))))","v":"Fisika"},{"$f":"IF(OR($B$3=\"1 (satu)\",$B$3=\"2 (dua)\"),HLOOKUP($C$3,TABMAPEL_X,DBLOGIC!CK2,FALSE),IF(OR($B$3=\"3 (tiga)\",$B$3=\"4 (empat)\"),HLOOKUP($C$3,TABMAPEL_XI,DBLOGIC!CK2,FALSE),IF(OR($B$3=\"5 (lima)\",$B$3=\"6 (enam)\"),HLOOKUP($C$3,TABMAPEL_XII,DBLOGIC!CK2,FALSE),IF(OR($B$3=\"7 (tujuh)\",$B$3=\"8 (delapan)\"),HLOOKUP($C$3,TABMAPEL_XIII,DBLOGIC!CK2,FALSE),0))))","v":"Fisika"},{"$f":"IF(OR($B$3=\"1 (satu)\",$B$3=\"2 (dua)\"),HLOOKUP($C$3,TABMAPEL_X,DBLOGIC!CL2,FALSE),IF(OR($B$3=\"3 (tiga)\",$B$3=\"4 (empat)\"),HLOOKUP($C$3,TABMAPEL_XI,DBLOGIC!CL2,FALSE),IF(OR($B$3=\"5 (lima)\",$B$3=\"6 (enam)\"),HLOOKUP($C$3,TABMAPEL_XII,DBLOGIC!CL2,FALSE),IF(OR($B$3=\"7 (tujuh)\",$B$3=\"8 (delapan)\"),HLOOKUP($C$3,TABMAPEL_XIII,DBLOGIC!CL2,FALSE),0))))","v":"Fisika"},{"$f":"IF(OR($B$3=\"1 (satu)\",$B$3=\"2 (dua)\"),HLOOKUP($C$3,TABMAPEL_X,DBLOGIC!CM2,FALSE),IF(OR($B$3=\"3 (tiga)\",$B$3=\"4 (empat)\"),HLOOKUP($C$3,TABMAPEL_XI,DBLOGIC!CM2,FALSE),IF(OR($B$3=\"5 (lima)\",$B$3=\"6 (enam)\"),HLOOKUP($C$3,TABMAPEL_XII,DBLOGIC!CM2,FALSE),IF(OR($B$3=\"7 (tujuh)\",$B$3=\"8 (delapan)\"),HLOOKUP($C$3,TABMAPEL_XIII,DBLOGIC!CM2,FALSE),0))))","v":"Fisika"},{"$f":"IF(OR($B$3=\"1 (satu)\",$B$3=\"2 (dua)\"),HLOOKUP($C$3,TABMAPEL_X,DBLOGIC!CN2,FALSE),IF(OR($B$3=\"3 (tiga)\",$B$3=\"4 (empat)\"),HLOOKUP($C$3,TABMAPEL_XI,DBLOGIC!CN2,FALSE),IF(OR($B$3=\"5 (lima)\",$B$3=\"6 (enam)\"),HLOOKUP($C$3,TABMAPEL_XII,DBLOGIC!CN2,FALSE),IF(OR($B$3=\"7 (tujuh)\",$B$3=\"8 (delapan)\"),HLOOKUP($C$3,TABMAPEL_XIII,DBLOGIC!CN2,FALSE),0))))","v":"Fisika"},{"$f":"IF(OR($B$3=\"1 (satu)\",$B$3=\"2 (dua)\"),HLOOKUP($C$3,TABMAPEL_X,DBLOGIC!CO2,FALSE),IF(OR($B$3=\"3 (tiga)\",$B$3=\"4 (empat)\"),HLOOKUP($C$3,TABMAPEL_XI,DBLOGIC!CO2,FALSE),IF(OR($B$3=\"5 (lima)\",$B$3=\"6 (enam)\"),HLOOKUP($C$3,TABMAPEL_XII,DBLOGIC!CO2,FALSE),IF(OR($B$3=\"7 (tujuh)\",$B$3=\"8 (delapan)\"),HLOOKUP($C$3,TABMAPEL_XIII,DBLOGIC!CO2,FALSE),0))))","v":"Fisika"},{"$f":"IF(OR($B$3=\"1 (satu)\",$B$3=\"2 (dua)\"),HLOOKUP($C$3,TABMAPEL_X,DBLOGIC!CP2,FALSE),IF(OR($B$3=\"3 (tiga)\",$B$3=\"4 (empat)\"),HLOOKUP($C$3,TABMAPEL_XI,DBLOGIC!CP2,FALSE),IF(OR($B$3=\"5 (lima)\",$B$3=\"6 (enam)\"),HLOOKUP($C$3,TABMAPEL_XII,DBLOGIC!CP2,FALSE),IF(OR($B$3=\"7 (tujuh)\",$B$3=\"8 (delapan)\"),HLOOKUP($C$3,TABMAPEL_XIII,DBLOGIC!CP2,FALSE),0))))","v":"Kimia"},{"$f":"IF(OR($B$3=\"1 (satu)\",$B$3=\"2 (dua)\"),HLOOKUP($C$3,TABMAPEL_X,DBLOGIC!CQ2,FALSE),IF(OR($B$3=\"3 (tiga)\",$B$3=\"4 (empat)\"),HLOOKUP($C$3,TABMAPEL_XI,DBLOGIC!CQ2,FALSE),IF(OR($B$3=\"5 (lima)\",$B$3=\"6 (enam)\"),HLOOKUP($C$3,TABMAPEL_XII,DBLOGIC!CQ2,FALSE),IF(OR($B$3=\"7 (tujuh)\",$B$3=\"8 (delapan)\"),HLOOKUP($C$3,TABMAPEL_XIII,DBLOGIC!CQ2,FALSE),0))))","v":"Kimia"},{"$f":"IF(OR($B$3=\"1 (satu)\",$B$3=\"2 (dua)\"),HLOOKUP($C$3,TABMAPEL_X,DBLOGIC!CR2,FALSE),IF(OR($B$3=\"3 (tiga)\",$B$3=\"4 (empat)\"),HLOOKUP($C$3,TABMAPEL_XI,DBLOGIC!CR2,FALSE),IF(OR($B$3=\"5 (lima)\",$B$3=\"6 (enam)\"),HLOOKUP($C$3,TABMAPEL_XII,DBLOGIC!CR2,FALSE),IF(OR($B$3=\"7 (tujuh)\",$B$3=\"8 (delapan)\"),HLOOKUP($C$3,TABMAPEL_XIII,DBLOGIC!CR2,FALSE),0))))","v":"Kimia"},{"$f":"IF(OR($B$3=\"1 (satu)\",$B$3=\"2 (dua)\"),HLOOKUP($C$3,TABMAPEL_X,DBLOGIC!CS2,FALSE),IF(OR($B$3=\"3 (tiga)\",$B$3=\"4 (empat)\"),HLOOKUP($C$3,TABMAPEL_XI,DBLOGIC!CS2,FALSE),IF(OR($B$3=\"5 (lima)\",$B$3=\"6 (enam)\"),HLOOKUP($C$3,TABMAPEL_XII,DBLOGIC!CS2,FALSE),IF(OR($B$3=\"7 (tujuh)\",$B$3=\"8 (delapan)\"),HLOOKUP($C$3,TABMAPEL_XIII,DBLOGIC!CS2,FALSE),0))))","v":"Kimia"},{"$f":"IF(OR($B$3=\"1 (satu)\",$B$3=\"2 (dua)\"),HLOOKUP($C$3,TABMAPEL_X,DBLOGIC!CT2,FALSE),IF(OR($B$3=\"3 (tiga)\",$B$3=\"4 (empat)\"),HLOOKUP($C$3,TABMAPEL_XI,DBLOGIC!CT2,FALSE),IF(OR($B$3=\"5 (lima)\",$B$3=\"6 (enam)\"),HLOOKUP($C$3,TABMAPEL_XII,DBLOGIC!CT2,FALSE),IF(OR($B$3=\"7 (tujuh)\",$B$3=\"8 (delapan)\"),HLOOKUP($C$3,TABMAPEL_XIII,DBLOGIC!CT2,FALSE),0))))","v":"Kimia"},{"$f":"IF(OR($B$3=\"1 (satu)\",$B$3=\"2 (dua)\"),HLOOKUP($C$3,TABMAPEL_X,DBLOGIC!CU2,FALSE),IF(OR($B$3=\"3 (tiga)\",$B$3=\"4 (empat)\"),HLOOKUP($C$3,TABMAPEL_XI,DBLOGIC!CU2,FALSE),IF(OR($B$3=\"5 (lima)\",$B$3=\"6 (enam)\"),HLOOKUP($C$3,TABMAPEL_XII,DBLOGIC!CU2,FALSE),IF(OR($B$3=\"7 (tujuh)\",$B$3=\"8 (delapan)\"),HLOOKUP($C$3,TABMAPEL_XIII,DBLOGIC!CU2,FALSE),0))))","v":"Kimia"},{"$f":"IF(OR($B$3=\"1 (satu)\",$B$3=\"2 (dua)\"),HLOOKUP($C$3,TABMAPEL_X,DBLOGIC!CV2,FALSE),IF(OR($B$3=\"3 (tiga)\",$B$3=\"4 (empat)\"),HLOOKUP($C$3,TABMAPEL_XI,DBLOGIC!CV2,FALSE),IF(OR($B$3=\"5 (lima)\",$B$3=\"6 (enam)\"),HLOOKUP($C$3,TABMAPEL_XII,DBLOGIC!CV2,FALSE),IF(OR($B$3=\"7 (tujuh)\",$B$3=\"8 (delapan)\"),HLOOKUP($C$3,TABMAPEL_XIII,DBLOGIC!CV2,FALSE),0))))","v":"Kimia"},{"$f":"IF(OR($B$3=\"1 (satu)\",$B$3=\"2 (dua)\"),HLOOKUP($C$3,TABMAPEL_X,DBLOGIC!CW2,FALSE),IF(OR($B$3=\"3 (tiga)\",$B$3=\"4 (empat)\"),HLOOKUP($C$3,TABMAPEL_XI,DBLOGIC!CW2,FALSE),IF(OR($B$3=\"5 (lima)\",$B$3=\"6 (enam)\"),HLOOKUP($C$3,TABMAPEL_XII,DBLOGIC!CW2,FALSE),IF(OR($B$3=\"7 (tujuh)\",$B$3=\"8 (delapan)\"),HLOOKUP($C$3,TABMAPEL_XIII,DBLOGIC!CW2,FALSE),0))))","v":"Gambar Teknik Otomotif"},{"$f":"IF(OR($B$3=\"1 (satu)\",$B$3=\"2 (dua)\"),HLOOKUP($C$3,TABMAPEL_X,DBLOGIC!CX2,FALSE),IF(OR($B$3=\"3 (tiga)\",$B$3=\"4 (empat)\"),HLOOKUP($C$3,TABMAPEL_XI,DBLOGIC!CX2,FALSE),IF(OR($B$3=\"5 (lima)\",$B$3=\"6 (enam)\"),HLOOKUP($C$3,TABMAPEL_XII,DBLOGIC!CX2,FALSE),IF(OR($B$3=\"7 (tujuh)\",$B$3=\"8 (delapan)\"),HLOOKUP($C$3,TABMAPEL_XIII,DBLOGIC!CX2,FALSE),0))))","v":"Gambar Teknik Otomotif"},{"$f":"IF(OR($B$3=\"1 (satu)\",$B$3=\"2 (dua)\"),HLOOKUP($C$3,TABMAPEL_X,DBLOGIC!CY2,FALSE),IF(OR($B$3=\"3 (tiga)\",$B$3=\"4 (empat)\"),HLOOKUP($C$3,TABMAPEL_XI,DBLOGIC!CY2,FALSE),IF(OR($B$3=\"5 (lima)\",$B$3=\"6 (enam)\"),HLOOKUP($C$3,TABMAPEL_XII,DBLOGIC!CY2,FALSE),IF(OR($B$3=\"7 (tujuh)\",$B$3=\"8 (delapan)\"),HLOOKUP($C$3,TABMAPEL_XIII,DBLOGIC!CY2,FALSE),0))))","v":"Gambar Teknik Otomotif"},{"$f":"IF(OR($B$3=\"1 (satu)\",$B$3=\"2 (dua)\"),HLOOKUP($C$3,TABMAPEL_X,DBLOGIC!CZ2,FALSE),IF(OR($B$3=\"3 (tiga)\",$B$3=\"4 (empat)\"),HLOOKUP($C$3,TABMAPEL_XI,DBLOGIC!CZ2,FALSE),IF(OR($B$3=\"5 (lima)\",$B$3=\"6 (enam)\"),HLOOKUP($C$3,TABMAPEL_XII,DBLOGIC!CZ2,FALSE),IF(OR($B$3=\"7 (tujuh)\",$B$3=\"8 (delapan)\"),HLOOKUP($C$3,TABMAPEL_XIII,DBLOGIC!CZ2,FALSE),0))))","v":"Gambar Teknik Otomotif"},{"$f":"IF(OR($B$3=\"1 (satu)\",$B$3=\"2 (dua)\"),HLOOKUP($C$3,TABMAPEL_X,DBLOGIC!DA2,FALSE),IF(OR($B$3=\"3 (tiga)\",$B$3=\"4 (empat)\"),HLOOKUP($C$3,TABMAPEL_XI,DBLOGIC!DA2,FALSE),IF(OR($B$3=\"5 (lima)\",$B$3=\"6 (enam)\"),HLOOKUP($C$3,TABMAPEL_XII,DBLOGIC!DA2,FALSE),IF(OR($B$3=\"7 (tujuh)\",$B$3=\"8 (delapan)\"),HLOOKUP($C$3,TABMAPEL_XIII,DBLOGIC!DA2,FALSE),0))))","v":"Gambar Teknik Otomotif"},{"$f":"IF(OR($B$3=\"1 (satu)\",$B$3=\"2 (dua)\"),HLOOKUP($C$3,TABMAPEL_X,DBLOGIC!DB2,FALSE),IF(OR($B$3=\"3 (tiga)\",$B$3=\"4 (empat)\"),HLOOKUP($C$3,TABMAPEL_XI,DBLOGIC!DB2,FALSE),IF(OR($B$3=\"5 (lima)\",$B$3=\"6 (enam)\"),HLOOKUP($C$3,TABMAPEL_XII,DBLOGIC!DB2,FALSE),IF(OR($B$3=\"7 (tujuh)\",$B$3=\"8 (delapan)\"),HLOOKUP($C$3,TABMAPEL_XIII,DBLOGIC!DB2,FALSE),0))))","v":"Gambar Teknik Otomotif"},{"$f":"IF(OR($B$3=\"1 (satu)\",$B$3=\"2 (dua)\"),HLOOKUP($C$3,TABMAPEL_X,DBLOGIC!DC2,FALSE),IF(OR($B$3=\"3 (tiga)\",$B$3=\"4 (empat)\"),HLOOKUP($C$3,TABMAPEL_XI,DBLOGIC!DC2,FALSE),IF(OR($B$3=\"5 (lima)\",$B$3=\"6 (enam)\"),HLOOKUP($C$3,TABMAPEL_XII,DBLOGIC!DC2,FALSE),IF(OR($B$3=\"7 (tujuh)\",$B$3=\"8 (delapan)\"),HLOOKUP($C$3,TABMAPEL_XIII,DBLOGIC!DC2,FALSE),0))))","v":"Gambar Teknik Otomotif"},{"$f":"IF(OR($B$3=\"1 (satu)\",$B$3=\"2 (dua)\"),HLOOKUP($C$3,TABMAPEL_X,DBLOGIC!DD2,FALSE),IF(OR($B$3=\"3 (tiga)\",$B$3=\"4 (empat)\"),HLOOKUP($C$3,TABMAPEL_XI,DBLOGIC!DD2,FALSE),IF(OR($B$3=\"5 (lima)\",$B$3=\"6 (enam)\"),HLOOKUP($C$3,TABMAPEL_XII,DBLOGIC!DD2,FALSE),IF(OR($B$3=\"7 (tujuh)\",$B$3=\"8 (delapan)\"),HLOOKUP($C$3,TABMAPEL_XIII,DBLOGIC!DD2,FALSE),0))))","v":"Teknologi Dasar Otomotif"},{"$f":"IF(OR($B$3=\"1 (satu)\",$B$3=\"2 (dua)\"),HLOOKUP($C$3,TABMAPEL_X,DBLOGIC!DE2,FALSE),IF(OR($B$3=\"3 (tiga)\",$B$3=\"4 (empat)\"),HLOOKUP($C$3,TABMAPEL_XI,DBLOGIC!DE2,FALSE),IF(OR($B$3=\"5 (lima)\",$B$3=\"6 (enam)\"),HLOOKUP($C$3,TABMAPEL_XII,DBLOGIC!DE2,FALSE),IF(OR($B$3=\"7 (tujuh)\",$B$3=\"8 (delapan)\"),HLOOKUP($C$3,TABMAPEL_XIII,DBLOGIC!DE2,FALSE),0))))","v":"Teknologi Dasar Otomotif"},{"$f":"IF(OR($B$3=\"1 (satu)\",$B$3=\"2 (dua)\"),HLOOKUP($C$3,TABMAPEL_X,DBLOGIC!DF2,FALSE),IF(OR($B$3=\"3 (tiga)\",$B$3=\"4 (empat)\"),HLOOKUP($C$3,TABMAPEL_XI,DBLOGIC!DF2,FALSE),IF(OR($B$3=\"5 (lima)\",$B$3=\"6 (enam)\"),HLOOKUP($C$3,TABMAPEL_XII,DBLOGIC!DF2,FALSE),IF(OR($B$3=\"7 (tujuh)\",$B$3=\"8 (delapan)\"),HLOOKUP($C$3,TABMAPEL_XIII,DBLOGIC!DF2,FALSE),0))))","v":"Teknologi Dasar Otomotif"},{"$f":"IF(OR($B$3=\"1 (satu)\",$B$3=\"2 (dua)\"),HLOOKUP($C$3,TABMAPEL_X,DBLOGIC!DG2,FALSE),IF(OR($B$3=\"3 (tiga)\",$B$3=\"4 (empat)\"),HLOOKUP($C$3,TABMAPEL_XI,DBLOGIC!DG2,FALSE),IF(OR($B$3=\"5 (lima)\",$B$3=\"6 (enam)\"),HLOOKUP($C$3,TABMAPEL_XII,DBLOGIC!DG2,FALSE),IF(OR($B$3=\"7 (tujuh)\",$B$3=\"8 (delapan)\"),HLOOKUP($C$3,TABMAPEL_XIII,DBLOGIC!DG2,FALSE),0))))","v":"Teknologi Dasar Otomotif"},{"$f":"IF(OR($B$3=\"1 (satu)\",$B$3=\"2 (dua)\"),HLOOKUP($C$3,TABMAPEL_X,DBLOGIC!DH2,FALSE),IF(OR($B$3=\"3 (tiga)\",$B$3=\"4 (empat)\"),HLOOKUP($C$3,TABMAPEL_XI,DBLOGIC!DH2,FALSE),IF(OR($B$3=\"5 (lima)\",$B$3=\"6 (enam)\"),HLOOKUP($C$3,TABMAPEL_XII,DBLOGIC!DH2,FALSE),IF(OR($B$3=\"7 (tujuh)\",$B$3=\"8 (delapan)\"),HLOOKUP($C$3,TABMAPEL_XIII,DBLOGIC!DH2,FALSE),0))))","v":"Teknologi Dasar Otomotif"},{"$f":"IF(OR($B$3=\"1 (satu)\",$B$3=\"2 (dua)\"),HLOOKUP($C$3,TABMAPEL_X,DBLOGIC!DI2,FALSE),IF(OR($B$3=\"3 (tiga)\",$B$3=\"4 (empat)\"),HLOOKUP($C$3,TABMAPEL_XI,DBLOGIC!DI2,FALSE),IF(OR($B$3=\"5 (lima)\",$B$3=\"6 (enam)\"),HLOOKUP($C$3,TABMAPEL_XII,DBLOGIC!DI2,FALSE),IF(OR($B$3=\"7 (tujuh)\",$B$3=\"8 (delapan)\"),HLOOKUP($C$3,TABMAPEL_XIII,DBLOGIC!DI2,FALSE),0))))","v":"Teknologi Dasar Otomotif"},{"$f":"IF(OR($B$3=\"1 (satu)\",$B$3=\"2 (dua)\"),HLOOKUP($C$3,TABMAPEL_X,DBLOGIC!DJ2,FALSE),IF(OR($B$3=\"3 (tiga)\",$B$3=\"4 (empat)\"),HLOOKUP($C$3,TABMAPEL_XI,DBLOGIC!DJ2,FALSE),IF(OR($B$3=\"5 (lima)\",$B$3=\"6 (enam)\"),HLOOKUP($C$3,TABMAPEL_XII,DBLOGIC!DJ2,FALSE),IF(OR($B$3=\"7 (tujuh)\",$B$3=\"8 (delapan)\"),HLOOKUP($C$3,TABMAPEL_XIII,DBLOGIC!DJ2,FALSE),0))))","v":"Teknologi Dasar Otomotif"},{"$f":"IF(OR($B$3=\"1 (satu)\",$B$3=\"2 (dua)\"),HLOOKUP($C$3,TABMAPEL_X,DBLOGIC!DK2,FALSE),IF(OR($B$3=\"3 (tiga)\",$B$3=\"4 (empat)\"),HLOOKUP($C$3,TABMAPEL_XI,DBLOGIC!DK2,FALSE),IF(OR($B$3=\"5 (lima)\",$B$3=\"6 (enam)\"),HLOOKUP($C$3,TABMAPEL_XII,DBLOGIC!DK2,FALSE),IF(OR($B$3=\"7 (tujuh)\",$B$3=\"8 (delapan)\"),HLOOKUP($C$3,TABMAPEL_XIII,DBLOGIC!DK2,FALSE),0))))","v":"Pekerjaan Dasar Teknik Otomotif"},{"$f":"IF(OR($B$3=\"1 (satu)\",$B$3=\"2 (dua)\"),HLOOKUP($C$3,TABMAPEL_X,DBLOGIC!DL2,FALSE),IF(OR($B$3=\"3 (tiga)\",$B$3=\"4 (empat)\"),HLOOKUP($C$3,TABMAPEL_XI,DBLOGIC!DL2,FALSE),IF(OR($B$3=\"5 (lima)\",$B$3=\"6 (enam)\"),HLOOKUP($C$3,TABMAPEL_XII,DBLOGIC!DL2,FALSE),IF(OR($B$3=\"7 (tujuh)\",$B$3=\"8 (delapan)\"),HLOOKUP($C$3,TABMAPEL_XIII,DBLOGIC!DL2,FALSE),0))))","v":"Pekerjaan Dasar Teknik Otomotif"},{"$f":"IF(OR($B$3=\"1 (satu)\",$B$3=\"2 (dua)\"),HLOOKUP($C$3,TABMAPEL_X,DBLOGIC!DM2,FALSE),IF(OR($B$3=\"3 (tiga)\",$B$3=\"4 (empat)\"),HLOOKUP($C$3,TABMAPEL_XI,DBLOGIC!DM2,FALSE),IF(OR($B$3=\"5 (lima)\",$B$3=\"6 (enam)\"),HLOOKUP($C$3,TABMAPEL_XII,DBLOGIC!DM2,FALSE),IF(OR($B$3=\"7 (tujuh)\",$B$3=\"8 (delapan)\"),HLOOKUP($C$3,TABMAPEL_XIII,DBLOGIC!DM2,FALSE),0))))","v":"Pekerjaan Dasar Teknik Otomotif"},{"$f":"IF(OR($B$3=\"1 (satu)\",$B$3=\"2 (dua)\"),HLOOKUP($C$3,TABMAPEL_X,DBLOGIC!DN2,FALSE),IF(OR($B$3=\"3 (tiga)\",$B$3=\"4 (empat)\"),HLOOKUP($C$3,TABMAPEL_XI,DBLOGIC!DN2,FALSE),IF(OR($B$3=\"5 (lima)\",$B$3=\"6 (enam)\"),HLOOKUP($C$3,TABMAPEL_XII,DBLOGIC!DN2,FALSE),IF(OR($B$3=\"7 (tujuh)\",$B$3=\"8 (delapan)\"),HLOOKUP($C$3,TABMAPEL_XIII,DBLOGIC!DN2,FALSE),0))))","v":"Pekerjaan Dasar Teknik Otomotif"},{"$f":"IF(OR($B$3=\"1 (satu)\",$B$3=\"2 (dua)\"),HLOOKUP($C$3,TABMAPEL_X,DBLOGIC!DO2,FALSE),IF(OR($B$3=\"3 (tiga)\",$B$3=\"4 (empat)\"),HLOOKUP($C$3,TABMAPEL_XI,DBLOGIC!DO2,FALSE),IF(OR($B$3=\"5 (lima)\",$B$3=\"6 (enam)\"),HLOOKUP($C$3,TABMAPEL_XII,DBLOGIC!DO2,FALSE),IF(OR($B$3=\"7 (tujuh)\",$B$3=\"8 (delapan)\"),HLOOKUP($C$3,TABMAPEL_XIII,DBLOGIC!DO2,FALSE),0))))","v":"Pekerjaan Dasar Teknik Otomotif"},{"$f":"IF(OR($B$3=\"1 (satu)\",$B$3=\"2 (dua)\"),HLOOKUP($C$3,TABMAPEL_X,DBLOGIC!DP2,FALSE),IF(OR($B$3=\"3 (tiga)\",$B$3=\"4 (empat)\"),HLOOKUP($C$3,TABMAPEL_XI,DBLOGIC!DP2,FALSE),IF(OR($B$3=\"5 (lima)\",$B$3=\"6 (enam)\"),HLOOKUP($C$3,TABMAPEL_XII,DBLOGIC!DP2,FALSE),IF(OR($B$3=\"7 (tujuh)\",$B$3=\"8 (delapan)\"),HLOOKUP($C$3,TABMAPEL_XIII,DBLOGIC!DP2,FALSE),0))))","v":"Pekerjaan Dasar Teknik Otomotif"},{"$f":"IF(OR($B$3=\"1 (satu)\",$B$3=\"2 (dua)\"),HLOOKUP($C$3,TABMAPEL_X,DBLOGIC!DQ2,FALSE),IF(OR($B$3=\"3 (tiga)\",$B$3=\"4 (empat)\"),HLOOKUP($C$3,TABMAPEL_XI,DBLOGIC!DQ2,FALSE),IF(OR($B$3=\"5 (lima)\",$B$3=\"6 (enam)\"),HLOOKUP($C$3,TABMAPEL_XII,DBLOGIC!DQ2,FALSE),IF(OR($B$3=\"7 (tujuh)\",$B$3=\"8 (delapan)\"),HLOOKUP($C$3,TABMAPEL_XIII,DBLOGIC!DQ2,FALSE),0))))","v":"Pekerjaan Dasar Teknik Otomotif"},{"$f":"IF(OR($B$3=\"1 (satu)\",$B$3=\"2 (dua)\"),HLOOKUP($C$3,TABMAPEL_X,DBLOGIC!DR2,FALSE),IF(OR($B$3=\"3 (tiga)\",$B$3=\"4 (empat)\"),HLOOKUP($C$3,TABMAPEL_XI,DBLOGIC!DR2,FALSE),IF(OR($B$3=\"5 (lima)\",$B$3=\"6 (enam)\"),HLOOKUP($C$3,TABMAPEL_XII,DBLOGIC!DR2,FALSE),IF(OR($B$3=\"7 (tujuh)\",$B$3=\"8 (delapan)\"),HLOOKUP($C$3,TABMAPEL_XIII,DBLOGIC!DR2,FALSE),0))))","v":"-"},{"$f":"IF(OR($B$3=\"1 (satu)\",$B$3=\"2 (dua)\"),HLOOKUP($C$3,TABMAPEL_X,DBLOGIC!DS2,FALSE),IF(OR($B$3=\"3 (tiga)\",$B$3=\"4 (empat)\"),HLOOKUP($C$3,TABMAPEL_XI,DBLOGIC!DS2,FALSE),IF(OR($B$3=\"5 (lima)\",$B$3=\"6 (enam)\"),HLOOKUP($C$3,TABMAPEL_XII,DBLOGIC!DS2,FALSE),IF(OR($B$3=\"7 (tujuh)\",$B$3=\"8 (delapan)\"),HLOOKUP($C$3,TABMAPEL_XIII,DBLOGIC!DS2,FALSE),0))))","v":"-"},{"$f":"IF(OR($B$3=\"1 (satu)\",$B$3=\"2 (dua)\"),HLOOKUP($C$3,TABMAPEL_X,DBLOGIC!DT2,FALSE),IF(OR($B$3=\"3 (tiga)\",$B$3=\"4 (empat)\"),HLOOKUP($C$3,TABMAPEL_XI,DBLOGIC!DT2,FALSE),IF(OR($B$3=\"5 (lima)\",$B$3=\"6 (enam)\"),HLOOKUP($C$3,TABMAPEL_XII,DBLOGIC!DT2,FALSE),IF(OR($B$3=\"7 (tujuh)\",$B$3=\"8 (delapan)\"),HLOOKUP($C$3,TABMAPEL_XIII,DBLOGIC!DT2,FALSE),0))))","v":"-"},{"$f":"IF(OR($B$3=\"1 (satu)\",$B$3=\"2 (dua)\"),HLOOKUP($C$3,TABMAPEL_X,DBLOGIC!DU2,FALSE),IF(OR($B$3=\"3 (tiga)\",$B$3=\"4 (empat)\"),HLOOKUP($C$3,TABMAPEL_XI,DBLOGIC!DU2,FALSE),IF(OR($B$3=\"5 (lima)\",$B$3=\"6 (enam)\"),HLOOKUP($C$3,TABMAPEL_XII,DBLOGIC!DU2,FALSE),IF(OR($B$3=\"7 (tujuh)\",$B$3=\"8 (delapan)\"),HLOOKUP($C$3,TABMAPEL_XIII,DBLOGIC!DU2,FALSE),0))))","v":"-"},{"$f":"IF(OR($B$3=\"1 (satu)\",$B$3=\"2 (dua)\"),HLOOKUP($C$3,TABMAPEL_X,DBLOGIC!DV2,FALSE),IF(OR($B$3=\"3 (tiga)\",$B$3=\"4 (empat)\"),HLOOKUP($C$3,TABMAPEL_XI,DBLOGIC!DV2,FALSE),IF(OR($B$3=\"5 (lima)\",$B$3=\"6 (enam)\"),HLOOKUP($C$3,TABMAPEL_XII,DBLOGIC!DV2,FALSE),IF(OR($B$3=\"7 (tujuh)\",$B$3=\"8 (delapan)\"),HLOOKUP($C$3,TABMAPEL_XIII,DBLOGIC!DV2,FALSE),0))))","v":"-"},{"$f":"IF(OR($B$3=\"1 (satu)\",$B$3=\"2 (dua)\"),HLOOKUP($C$3,TABMAPEL_X,DBLOGIC!DW2,FALSE),IF(OR($B$3=\"3 (tiga)\",$B$3=\"4 (empat)\"),HLOOKUP($C$3,TABMAPEL_XI,DBLOGIC!DW2,FALSE),IF(OR($B$3=\"5 (lima)\",$B$3=\"6 (enam)\"),HLOOKUP($C$3,TABMAPEL_XII,DBLOGIC!DW2,FALSE),IF(OR($B$3=\"7 (tujuh)\",$B$3=\"8 (delapan)\"),HLOOKUP($C$3,TABMAPEL_XIII,DBLOGIC!DW2,FALSE),0))))","v":"-"},{"$f":"IF(OR($B$3=\"1 (satu)\",$B$3=\"2 (dua)\"),HLOOKUP($C$3,TABMAPEL_X,DBLOGIC!DX2,FALSE),IF(OR($B$3=\"3 (tiga)\",$B$3=\"4 (empat)\"),HLOOKUP($C$3,TABMAPEL_XI,DBLOGIC!DX2,FALSE),IF(OR($B$3=\"5 (lima)\",$B$3=\"6 (enam)\"),HLOOKUP($C$3,TABMAPEL_XII,DBLOGIC!DX2,FALSE),IF(OR($B$3=\"7 (tujuh)\",$B$3=\"8 (delapan)\"),HLOOKUP($C$3,TABMAPEL_XIII,DBLOGIC!DX2,FALSE),0))))","v":"-"},{"$f":"IF(OR($B$3=\"1 (satu)\",$B$3=\"2 (dua)\"),HLOOKUP($C$3,TABMAPEL_X,DBLOGIC!DY2,FALSE),IF(OR($B$3=\"3 (tiga)\",$B$3=\"4 (empat)\"),HLOOKUP($C$3,TABMAPEL_XI,DBLOGIC!DY2,FALSE),IF(OR($B$3=\"5 (lima)\",$B$3=\"6 (enam)\"),HLOOKUP($C$3,TABMAPEL_XII,DBLOGIC!DY2,FALSE),IF(OR($B$3=\"7 (tujuh)\",$B$3=\"8 (delapan)\"),HLOOKUP($C$3,TABMAPEL_XIII,DBLOGIC!DY2,FALSE),0))))","v":"-"},{"$f":"IF(OR($B$3=\"1 (satu)\",$B$3=\"2 (dua)\"),HLOOKUP($C$3,TABMAPEL_X,DBLOGIC!DZ2,FALSE),IF(OR($B$3=\"3 (tiga)\",$B$3=\"4 (empat)\"),HLOOKUP($C$3,TABMAPEL_XI,DBLOGIC!DZ2,FALSE),IF(OR($B$3=\"5 (lima)\",$B$3=\"6 (enam)\"),HLOOKUP($C$3,TABMAPEL_XII,DBLOGIC!DZ2,FALSE),IF(OR($B$3=\"7 (tujuh)\",$B$3=\"8 (delapan)\"),HLOOKUP($C$3,TABMAPEL_XIII,DBLOGIC!DZ2,FALSE),0))))","v":"-"},{"$f":"IF(OR($B$3=\"1 (satu)\",$B$3=\"2 (dua)\"),HLOOKUP($C$3,TABMAPEL_X,DBLOGIC!EA2,FALSE),IF(OR($B$3=\"3 (tiga)\",$B$3=\"4 (empat)\"),HLOOKUP($C$3,TABMAPEL_XI,DBLOGIC!EA2,FALSE),IF(OR($B$3=\"5 (lima)\",$B$3=\"6 (enam)\"),HLOOKUP($C$3,TABMAPEL_XII,DBLOGIC!EA2,FALSE),IF(OR($B$3=\"7 (tujuh)\",$B$3=\"8 (delapan)\"),HLOOKUP($C$3,TABMAPEL_XIII,DBLOGIC!EA2,FALSE),0))))","v":"-"},{"$f":"IF(OR($B$3=\"1 (satu)\",$B$3=\"2 (dua)\"),HLOOKUP($C$3,TABMAPEL_X,DBLOGIC!EB2,FALSE),IF(OR($B$3=\"3 (tiga)\",$B$3=\"4 (empat)\"),HLOOKUP($C$3,TABMAPEL_XI,DBLOGIC!EB2,FALSE),IF(OR($B$3=\"5 (lima)\",$B$3=\"6 (enam)\"),HLOOKUP($C$3,TABMAPEL_XII,DBLOGIC!EB2,FALSE),IF(OR($B$3=\"7 (tujuh)\",$B$3=\"8 (delapan)\"),HLOOKUP($C$3,TABMAPEL_XIII,DBLOGIC!EB2,FALSE),0))))","v":"-"},{"$f":"IF(OR($B$3=\"1 (satu)\",$B$3=\"2 (dua)\"),HLOOKUP($C$3,TABMAPEL_X,DBLOGIC!EC2,FALSE),IF(OR($B$3=\"3 (tiga)\",$B$3=\"4 (empat)\"),HLOOKUP($C$3,TABMAPEL_XI,DBLOGIC!EC2,FALSE),IF(OR($B$3=\"5 (lima)\",$B$3=\"6 (enam)\"),HLOOKUP($C$3,TABMAPEL_XII,DBLOGIC!EC2,FALSE),IF(OR($B$3=\"7 (tujuh)\",$B$3=\"8 (delapan)\"),HLOOKUP($C$3,TABMAPEL_XIII,DBLOGIC!EC2,FALSE),0))))","v":"-"},{"$f":"IF(OR($B$3=\"1 (satu)\",$B$3=\"2 (dua)\"),HLOOKUP($C$3,TABMAPEL_X,DBLOGIC!ED2,FALSE),IF(OR($B$3=\"3 (tiga)\",$B$3=\"4 (empat)\"),HLOOKUP($C$3,TABMAPEL_XI,DBLOGIC!ED2,FALSE),IF(OR($B$3=\"5 (lima)\",$B$3=\"6 (enam)\"),HLOOKUP($C$3,TABMAPEL_XII,DBLOGIC!ED2,FALSE),IF(OR($B$3=\"7 (tujuh)\",$B$3=\"8 (delapan)\"),HLOOKUP($C$3,TABMAPEL_XIII,DBLOGIC!ED2,FALSE),0))))","v":"-"},{"$f":"IF(OR($B$3=\"1 (satu)\",$B$3=\"2 (dua)\"),HLOOKUP($C$3,TABMAPEL_X,DBLOGIC!EE2,FALSE),IF(OR($B$3=\"3 (tiga)\",$B$3=\"4 (empat)\"),HLOOKUP($C$3,TABMAPEL_XI,DBLOGIC!EE2,FALSE),IF(OR($B$3=\"5 (lima)\",$B$3=\"6 (enam)\"),HLOOKUP($C$3,TABMAPEL_XII,DBLOGIC!EE2,FALSE),IF(OR($B$3=\"7 (tujuh)\",$B$3=\"8 (delapan)\"),HLOOKUP($C$3,TABMAPEL_XIII,DBLOGIC!EE2,FALSE),0))))","v":"-"},{"$f":"IF(OR($B$3=\"1 (satu)\",$B$3=\"2 (dua)\"),HLOOKUP($C$3,TABMAPEL_X,DBLOGIC!EF2,FALSE),IF(OR($B$3=\"3 (tiga)\",$B$3=\"4 (empat)\"),HLOOKUP($C$3,TABMAPEL_XI,DBLOGIC!EF2,FALSE),IF(OR($B$3=\"5 (lima)\",$B$3=\"6 (enam)\"),HLOOKUP($C$3,TABMAPEL_XII,DBLOGIC!EF2,FALSE),IF(OR($B$3=\"7 (tujuh)\",$B$3=\"8 (delapan)\"),HLOOKUP($C$3,TABMAPEL_XIII,DBLOGIC!EF2,FALSE),0))))","v":"-"},{"$f":"IF(OR($B$3=\"1 (satu)\",$B$3=\"2 (dua)\"),HLOOKUP($C$3,TABMAPEL_X,DBLOGIC!EG2,FALSE),IF(OR($B$3=\"3 (tiga)\",$B$3=\"4 (empat)\"),HLOOKUP($C$3,TABMAPEL_XI,DBLOGIC!EG2,FALSE),IF(OR($B$3=\"5 (lima)\",$B$3=\"6 (enam)\"),HLOOKUP($C$3,TABMAPEL_XII,DBLOGIC!EG2,FALSE),IF(OR($B$3=\"7 (tujuh)\",$B$3=\"8 (delapan)\"),HLOOKUP($C$3,TABMAPEL_XIII,DBLOGIC!EG2,FALSE),0))))","v":"-"},{"$f":"IF(OR($B$3=\"1 (satu)\",$B$3=\"2 (dua)\"),HLOOKUP($C$3,TABMAPEL_X,DBLOGIC!EH2,FALSE),IF(OR($B$3=\"3 (tiga)\",$B$3=\"4 (empat)\"),HLOOKUP($C$3,TABMAPEL_XI,DBLOGIC!EH2,FALSE),IF(OR($B$3=\"5 (lima)\",$B$3=\"6 (enam)\"),HLOOKUP($C$3,TABMAPEL_XII,DBLOGIC!EH2,FALSE),IF(OR($B$3=\"7 (tujuh)\",$B$3=\"8 (delapan)\"),HLOOKUP($C$3,TABMAPEL_XIII,DBLOGIC!EH2,FALSE),0))))","v":"-"},{"$f":"IF(OR($B$3=\"1 (satu)\",$B$3=\"2 (dua)\"),HLOOKUP($C$3,TABMAPEL_X,DBLOGIC!EI2,FALSE),IF(OR($B$3=\"3 (tiga)\",$B$3=\"4 (empat)\"),HLOOKUP($C$3,TABMAPEL_XI,DBLOGIC!EI2,FALSE),IF(OR($B$3=\"5 (lima)\",$B$3=\"6 (enam)\"),HLOOKUP($C$3,TABMAPEL_XII,DBLOGIC!EI2,FALSE),IF(OR($B$3=\"7 (tujuh)\",$B$3=\"8 (delapan)\"),HLOOKUP($C$3,TABMAPEL_XIII,DBLOGIC!EI2,FALSE),0))))","v":"-"},{"$f":"IF(OR($B$3=\"1 (satu)\",$B$3=\"2 (dua)\"),HLOOKUP($C$3,TABMAPEL_X,DBLOGIC!EJ2,FALSE),IF(OR($B$3=\"3 (tiga)\",$B$3=\"4 (empat)\"),HLOOKUP($C$3,TABMAPEL_XI,DBLOGIC!EJ2,FALSE),IF(OR($B$3=\"5 (lima)\",$B$3=\"6 (enam)\"),HLOOKUP($C$3,TABMAPEL_XII,DBLOGIC!EJ2,FALSE),IF(OR($B$3=\"7 (tujuh)\",$B$3=\"8 (delapan)\"),HLOOKUP($C$3,TABMAPEL_XIII,DBLOGIC!EJ2,FALSE),0))))","v":"-"},{"$f":"IF(OR($B$3=\"1 (satu)\",$B$3=\"2 (dua)\"),HLOOKUP($C$3,TABMAPEL_X,DBLOGIC!EK2,FALSE),IF(OR($B$3=\"3 (tiga)\",$B$3=\"4 (empat)\"),HLOOKUP($C$3,TABMAPEL_XI,DBLOGIC!EK2,FALSE),IF(OR($B$3=\"5 (lima)\",$B$3=\"6 (enam)\"),HLOOKUP($C$3,TABMAPEL_XII,DBLOGIC!EK2,FALSE),IF(OR($B$3=\"7 (tujuh)\",$B$3=\"8 (delapan)\"),HLOOKUP($C$3,TABMAPEL_XIII,DBLOGIC!EK2,FALSE),0))))","v":"-"},{"$f":"IF(OR($B$3=\"1 (satu)\",$B$3=\"2 (dua)\"),HLOOKUP($C$3,TABMAPEL_X,DBLOGIC!EL2,FALSE),IF(OR($B$3=\"3 (tiga)\",$B$3=\"4 (empat)\"),HLOOKUP($C$3,TABMAPEL_XI,DBLOGIC!EL2,FALSE),IF(OR($B$3=\"5 (lima)\",$B$3=\"6 (enam)\"),HLOOKUP($C$3,TABMAPEL_XII,DBLOGIC!EL2,FALSE),IF(OR($B$3=\"7 (tujuh)\",$B$3=\"8 (delapan)\"),HLOOKUP($C$3,TABMAPEL_XIII,DBLOGIC!EL2,FALSE),0))))","v":"-"},{"$f":"IF(OR($B$3=\"1 (satu)\",$B$3=\"2 (dua)\"),HLOOKUP($C$3,TABMAPEL_X,DBLOGIC!EM2,FALSE),IF(OR($B$3=\"3 (tiga)\",$B$3=\"4 (empat)\"),HLOOKUP($C$3,TABMAPEL_XI,DBLOGIC!EM2,FALSE),IF(OR($B$3=\"5 (lima)\",$B$3=\"6 (enam)\"),HLOOKUP($C$3,TABMAPEL_XII,DBLOGIC!EM2,FALSE),IF(OR($B$3=\"7 (tujuh)\",$B$3=\"8 (delapan)\"),HLOOKUP($C$3,TABMAPEL_XIII,DBLOGIC!EM2,FALSE),0))))","v":"-"},{"$f":"IF(OR($B$3=\"1 (satu)\",$B$3=\"2 (dua)\"),HLOOKUP($C$3,TABMAPEL_X,DBLOGIC!EN2,FALSE),IF(OR($B$3=\"3 (tiga)\",$B$3=\"4 (empat)\"),HLOOKUP($C$3,TABMAPEL_XI,DBLOGIC!EN2,FALSE),IF(OR($B$3=\"5 (lima)\",$B$3=\"6 (enam)\"),HLOOKUP($C$3,TABMAPEL_XII,DBLOGIC!EN2,FALSE),IF(OR($B$3=\"7 (tujuh)\",$B$3=\"8 (delapan)\"),HLOOKUP($C$3,TABMAPEL_XIII,DBLOGIC!EN2,FALSE),0))))","v":"-"},{"$f":"IF(OR($B$3=\"1 (satu)\",$B$3=\"2 (dua)\"),HLOOKUP($C$3,TABMAPEL_X,DBLOGIC!EO2,FALSE),IF(OR($B$3=\"3 (tiga)\",$B$3=\"4 (empat)\"),HLOOKUP($C$3,TABMAPEL_XI,DBLOGIC!EO2,FALSE),IF(OR($B$3=\"5 (lima)\",$B$3=\"6 (enam)\"),HLOOKUP($C$3,TABMAPEL_XII,DBLOGIC!EO2,FALSE),IF(OR($B$3=\"7 (tujuh)\",$B$3=\"8 (delapan)\"),HLOOKUP($C$3,TABMAPEL_XIII,DBLOGIC!EO2,FALSE),0))))","v":"-"},{"$f":"IF(OR($B$3=\"1 (satu)\",$B$3=\"2 (dua)\"),HLOOKUP($C$3,TABMAPEL_X,DBLOGIC!EP2,FALSE),IF(OR($B$3=\"3 (tiga)\",$B$3=\"4 (empat)\"),HLOOKUP($C$3,TABMAPEL_XI,DBLOGIC!EP2,FALSE),IF(OR($B$3=\"5 (lima)\",$B$3=\"6 (enam)\"),HLOOKUP($C$3,TABMAPEL_XII,DBLOGIC!EP2,FALSE),IF(OR($B$3=\"7 (tujuh)\",$B$3=\"8 (delapan)\"),HLOOKUP($C$3,TABMAPEL_XIII,DBLOGIC!EP2,FALSE),0))))","v":"-"},{"$f":"IF(OR($B$3=\"1 (satu)\",$B$3=\"2 (dua)\"),HLOOKUP($C$3,TABMAPEL_X,DBLOGIC!EQ2,FALSE),IF(OR($B$3=\"3 (tiga)\",$B$3=\"4 (empat)\"),HLOOKUP($C$3,TABMAPEL_XI,DBLOGIC!EQ2,FALSE),IF(OR($B$3=\"5 (lima)\",$B$3=\"6 (enam)\"),HLOOKUP($C$3,TABMAPEL_XII,DBLOGIC!EQ2,FALSE),IF(OR($B$3=\"7 (tujuh)\",$B$3=\"8 (delapan)\"),HLOOKUP($C$3,TABMAPEL_XIII,DBLOGIC!EQ2,FALSE),0))))","v":"-"},{"$f":"IF(OR($B$3=\"1 (satu)\",$B$3=\"2 (dua)\"),HLOOKUP($C$3,TABMAPEL_X,DBLOGIC!ER2,FALSE),IF(OR($B$3=\"3 (tiga)\",$B$3=\"4 (empat)\"),HLOOKUP($C$3,TABMAPEL_XI,DBLOGIC!ER2,FALSE),IF(OR($B$3=\"5 (lima)\",$B$3=\"6 (enam)\"),HLOOKUP($C$3,TABMAPEL_XII,DBLOGIC!ER2,FALSE),IF(OR($B$3=\"7 (tujuh)\",$B$3=\"8 (delapan)\"),HLOOKUP($C$3,TABMAPEL_XIII,DBLOGIC!ER2,FALSE),0))))","v":"-"},{"$f":"IF(OR($B$3=\"1 (satu)\",$B$3=\"2 (dua)\"),HLOOKUP($C$3,TABMAPEL_X,DBLOGIC!ES2,FALSE),IF(OR($B$3=\"3 (tiga)\",$B$3=\"4 (empat)\"),HLOOKUP($C$3,TABMAPEL_XI,DBLOGIC!ES2,FALSE),IF(OR($B$3=\"5 (lima)\",$B$3=\"6 (enam)\"),HLOOKUP($C$3,TABMAPEL_XII,DBLOGIC!ES2,FALSE),IF(OR($B$3=\"7 (tujuh)\",$B$3=\"8 (delapan)\"),HLOOKUP($C$3,TABMAPEL_XIII,DBLOGIC!ES2,FALSE),0))))","v":"-"},{"$f":"IF(OR($B$3=\"1 (satu)\",$B$3=\"2 (dua)\"),HLOOKUP($C$3,TABMAPEL_X,DBLOGIC!ET2,FALSE),IF(OR($B$3=\"3 (tiga)\",$B$3=\"4 (empat)\"),HLOOKUP($C$3,TABMAPEL_XI,DBLOGIC!ET2,FALSE),IF(OR($B$3=\"5 (lima)\",$B$3=\"6 (enam)\"),HLOOKUP($C$3,TABMAPEL_XII,DBLOGIC!ET2,FALSE),IF(OR($B$3=\"7 (tujuh)\",$B$3=\"8 (delapan)\"),HLOOKUP($C$3,TABMAPEL_XIII,DBLOGIC!ET2,FALSE),0))))","v":"-"},{"$f":"IF(OR($B$3=\"1 (satu)\",$B$3=\"2 (dua)\"),HLOOKUP($C$3,TABMAPEL_X,DBLOGIC!EU2,FALSE),IF(OR($B$3=\"3 (tiga)\",$B$3=\"4 (empat)\"),HLOOKUP($C$3,TABMAPEL_XI,DBLOGIC!EU2,FALSE),IF(OR($B$3=\"5 (lima)\",$B$3=\"6 (enam)\"),HLOOKUP($C$3,TABMAPEL_XII,DBLOGIC!EU2,FALSE),IF(OR($B$3=\"7 (tujuh)\",$B$3=\"8 (delapan)\"),HLOOKUP($C$3,TABMAPEL_XIII,DBLOGIC!EU2,FALSE),0))))","v":"-"},{"$f":"IF(OR($B$3=\"1 (satu)\",$B$3=\"2 (dua)\"),HLOOKUP($C$3,TABMAPEL_X,DBLOGIC!EV2,FALSE),IF(OR($B$3=\"3 (tiga)\",$B$3=\"4 (empat)\"),HLOOKUP($C$3,TABMAPEL_XI,DBLOGIC!EV2,FALSE),IF(OR($B$3=\"5 (lima)\",$B$3=\"6 (enam)\"),HLOOKUP($C$3,TABMAPEL_XII,DBLOGIC!EV2,FALSE),IF(OR($B$3=\"7 (tujuh)\",$B$3=\"8 (delapan)\"),HLOOKUP($C$3,TABMAPEL_XIII,DBLOGIC!EV2,FALSE),0))))","v":"-"},{"$f":"IF(OR($B$3=\"1 (satu)\",$B$3=\"2 (dua)\"),HLOOKUP($C$3,TABMAPEL_X,DBLOGIC!EW2,FALSE),IF(OR($B$3=\"3 (tiga)\",$B$3=\"4 (empat)\"),HLOOKUP($C$3,TABMAPEL_XI,DBLOGIC!EW2,FALSE),IF(OR($B$3=\"5 (lima)\",$B$3=\"6 (enam)\"),HLOOKUP($C$3,TABMAPEL_XII,DBLOGIC!EW2,FALSE),IF(OR($B$3=\"7 (tujuh)\",$B$3=\"8 (delapan)\"),HLOOKUP($C$3,TABMAPEL_XIII,DBLOGIC!EW2,FALSE),0))))","v":"-"},{"$f":"IF(OR($B$3=\"1 (satu)\",$B$3=\"2 (dua)\"),HLOOKUP($C$3,TABMAPEL_X,DBLOGIC!EX2,FALSE),IF(OR($B$3=\"3 (tiga)\",$B$3=\"4 (empat)\"),HLOOKUP($C$3,TABMAPEL_XI,DBLOGIC!EX2,FALSE),IF(OR($B$3=\"5 (lima)\",$B$3=\"6 (enam)\"),HLOOKUP($C$3,TABMAPEL_XII,DBLOGIC!EX2,FALSE),IF(OR($B$3=\"7 (tujuh)\",$B$3=\"8 (delapan)\"),HLOOKUP($C$3,TABMAPEL_XIII,DBLOGIC!EX2,FALSE),0))))","v":"-"},{"$f":"IF(OR($B$3=\"1 (satu)\",$B$3=\"2 (dua)\"),HLOOKUP($C$3,TABMAPEL_X,DBLOGIC!EY2,FALSE),IF(OR($B$3=\"3 (tiga)\",$B$3=\"4 (empat)\"),HLOOKUP($C$3,TABMAPEL_XI,DBLOGIC!EY2,FALSE),IF(OR($B$3=\"5 (lima)\",$B$3=\"6 (enam)\"),HLOOKUP($C$3,TABMAPEL_XII,DBLOGIC!EY2,FALSE),IF(OR($B$3=\"7 (tujuh)\",$B$3=\"8 (delapan)\"),HLOOKUP($C$3,TABMAPEL_XIII,DBLOGIC!EY2,FALSE),0))))","v":"-"},{"$f":"IF(OR($B$3=\"1 (satu)\",$B$3=\"2 (dua)\"),HLOOKUP($C$3,TABMAPEL_X,DBLOGIC!EZ2,FALSE),IF(OR($B$3=\"3 (tiga)\",$B$3=\"4 (empat)\"),HLOOKUP($C$3,TABMAPEL_XI,DBLOGIC!EZ2,FALSE),IF(OR($B$3=\"5 (lima)\",$B$3=\"6 (enam)\"),HLOOKUP($C$3,TABMAPEL_XII,DBLOGIC!EZ2,FALSE),IF(OR($B$3=\"7 (tujuh)\",$B$3=\"8 (delapan)\"),HLOOKUP($C$3,TABMAPEL_XIII,DBLOGIC!EZ2,FALSE),0))))","v":"-"},{"$f":"IF(OR($B$3=\"1 (satu)\",$B$3=\"2 (dua)\"),HLOOKUP($C$3,TABMAPEL_X,DBLOGIC!FA2,FALSE),IF(OR($B$3=\"3 (tiga)\",$B$3=\"4 (empat)\"),HLOOKUP($C$3,TABMAPEL_XI,DBLOGIC!FA2,FALSE),IF(OR($B$3=\"5 (lima)\",$B$3=\"6 (enam)\"),HLOOKUP($C$3,TABMAPEL_XII,DBLOGIC!FA2,FALSE),IF(OR($B$3=\"7 (tujuh)\",$B$3=\"8 (delapan)\"),HLOOKUP($C$3,TABMAPEL_XIII,DBLOGIC!FA2,FALSE),0))))","v":"-"},{"$f":"IF(OR($B$3=\"1 (satu)\",$B$3=\"2 (dua)\"),HLOOKUP($C$3,TABMAPEL_X,DBLOGIC!FB2,FALSE),IF(OR($B$3=\"3 (tiga)\",$B$3=\"4 (empat)\"),HLOOKUP($C$3,TABMAPEL_XI,DBLOGIC!FB2,FALSE),IF(OR($B$3=\"5 (lima)\",$B$3=\"6 (enam)\"),HLOOKUP($C$3,TABMAPEL_XII,DBLOGIC!FB2,FALSE),IF(OR($B$3=\"7 (tujuh)\",$B$3=\"8 (delapan)\"),HLOOKUP($C$3,TABMAPEL_XIII,DBLOGIC!FB2,FALSE),0))))","v":"-"},{"$f":"IF(OR($B$3=\"1 (satu)\",$B$3=\"2 (dua)\"),HLOOKUP($C$3,TABMAPEL_X,DBLOGIC!FC2,FALSE),IF(OR($B$3=\"3 (tiga)\",$B$3=\"4 (empat)\"),HLOOKUP($C$3,TABMAPEL_XI,DBLOGIC!FC2,FALSE),IF(OR($B$3=\"5 (lima)\",$B$3=\"6 (enam)\"),HLOOKUP($C$3,TABMAPEL_XII,DBLOGIC!FC2,FALSE),IF(OR($B$3=\"7 (tujuh)\",$B$3=\"8 (delapan)\"),HLOOKUP($C$3,TABMAPEL_XIII,DBLOGIC!FC2,FALSE),0))))","v":"-"},{"$f":"IF(OR($B$3=\"1 (satu)\",$B$3=\"2 (dua)\"),HLOOKUP($C$3,TABMAPEL_X,DBLOGIC!FD2,FALSE),IF(OR($B$3=\"3 (tiga)\",$B$3=\"4 (empat)\"),HLOOKUP($C$3,TABMAPEL_XI,DBLOGIC!FD2,FALSE),IF(OR($B$3=\"5 (lima)\",$B$3=\"6 (enam)\"),HLOOKUP($C$3,TABMAPEL_XII,DBLOGIC!FD2,FALSE),IF(OR($B$3=\"7 (tujuh)\",$B$3=\"8 (delapan)\"),HLOOKUP($C$3,TABMAPEL_XIII,DBLOGIC!FD2,FALSE),0))))","v":"-"},{"$f":"IF(OR($B$3=\"1 (satu)\",$B$3=\"2 (dua)\"),HLOOKUP($C$3,TABMAPEL_X,DBLOGIC!FE2,FALSE),IF(OR($B$3=\"3 (tiga)\",$B$3=\"4 (empat)\"),HLOOKUP($C$3,TABMAPEL_XI,DBLOGIC!FE2,FALSE),IF(OR($B$3=\"5 (lima)\",$B$3=\"6 (enam)\"),HLOOKUP($C$3,TABMAPEL_XII,DBLOGIC!FE2,FALSE),IF(OR($B$3=\"7 (tujuh)\",$B$3=\"8 (delapan)\"),HLOOKUP($C$3,TABMAPEL_XIII,DBLOGIC!FE2,FALSE),0))))","v":"-"},{"$f":"IF(OR($B$3=\"1 (satu)\",$B$3=\"2 (dua)\"),HLOOKUP($C$3,TABMAPEL_X,DBLOGIC!FF2,FALSE),IF(OR($B$3=\"3 (tiga)\",$B$3=\"4 (empat)\"),HLOOKUP($C$3,TABMAPEL_XI,DBLOGIC!FF2,FALSE),IF(OR($B$3=\"5 (lima)\",$B$3=\"6 (enam)\"),HLOOKUP($C$3,TABMAPEL_XII,DBLOGIC!FF2,FALSE),IF(OR($B$3=\"7 (tujuh)\",$B$3=\"8 (delapan)\"),HLOOKUP($C$3,TABMAPEL_XIII,DBLOGIC!FF2,FALSE),0))))","v":"-"},{"$f":"IF(OR($B$3=\"1 (satu)\",$B$3=\"2 (dua)\"),HLOOKUP($C$3,TABMAPEL_X,DBLOGIC!FG2,FALSE),IF(OR($B$3=\"3 (tiga)\",$B$3=\"4 (empat)\"),HLOOKUP($C$3,TABMAPEL_XI,DBLOGIC!FG2,FALSE),IF(OR($B$3=\"5 (lima)\",$B$3=\"6 (enam)\"),HLOOKUP($C$3,TABMAPEL_XII,DBLOGIC!FG2,FALSE),IF(OR($B$3=\"7 (tujuh)\",$B$3=\"8 (delapan)\"),HLOOKUP($C$3,TABMAPEL_XIII,DBLOGIC!FG2,FALSE),0))))","v":"-"},{"$f":"IF(OR($B$3=\"1 (satu)\",$B$3=\"2 (dua)\"),HLOOKUP($C$3,TABMAPEL_X,DBLOGIC!FH2,FALSE),IF(OR($B$3=\"3 (tiga)\",$B$3=\"4 (empat)\"),HLOOKUP($C$3,TABMAPEL_XI,DBLOGIC!FH2,FALSE),IF(OR($B$3=\"5 (lima)\",$B$3=\"6 (enam)\"),HLOOKUP($C$3,TABMAPEL_XII,DBLOGIC!FH2,FALSE),IF(OR($B$3=\"7 (tujuh)\",$B$3=\"8 (delapan)\"),HLOOKUP($C$3,TABMAPEL_XIII,DBLOGIC!FH2,FALSE),0))))","v":"-"},{"$f":"IF(OR($B$3=\"1 (satu)\",$B$3=\"2 (dua)\"),HLOOKUP($C$3,TABMAPEL_X,DBLOGIC!FI2,FALSE),IF(OR($B$3=\"3 (tiga)\",$B$3=\"4 (empat)\"),HLOOKUP($C$3,TABMAPEL_XI,DBLOGIC!FI2,FALSE),IF(OR($B$3=\"5 (lima)\",$B$3=\"6 (enam)\"),HLOOKUP($C$3,TABMAPEL_XII,DBLOGIC!FI2,FALSE),IF(OR($B$3=\"7 (tujuh)\",$B$3=\"8 (delapan)\"),HLOOKUP($C$3,TABMAPEL_XIII,DBLOGIC!FI2,FALSE),0))))","v":"-"},{"$f":"IF(OR($B$3=\"1 (satu)\",$B$3=\"2 (dua)\"),HLOOKUP($C$3,TABMAPEL_X,DBLOGIC!FJ2,FALSE),IF(OR($B$3=\"3 (tiga)\",$B$3=\"4 (empat)\"),HLOOKUP($C$3,TABMAPEL_XI,DBLOGIC!FJ2,FALSE),IF(OR($B$3=\"5 (lima)\",$B$3=\"6 (enam)\"),HLOOKUP($C$3,TABMAPEL_XII,DBLOGIC!FJ2,FALSE),IF(OR($B$3=\"7 (tujuh)\",$B$3=\"8 (delapan)\"),HLOOKUP($C$3,TABMAPEL_XIII,DBLOGIC!FJ2,FALSE),0))))","v":"-"},{"$f":"IF(OR($B$3=\"1 (satu)\",$B$3=\"2 (dua)\"),HLOOKUP($C$3,TABMAPEL_X,DBLOGIC!FK2,FALSE),IF(OR($B$3=\"3 (tiga)\",$B$3=\"4 (empat)\"),HLOOKUP($C$3,TABMAPEL_XI,DBLOGIC!FK2,FALSE),IF(OR($B$3=\"5 (lima)\",$B$3=\"6 (enam)\"),HLOOKUP($C$3,TABMAPEL_XII,DBLOGIC!FK2,FALSE),IF(OR($B$3=\"7 (tujuh)\",$B$3=\"8 (delapan)\"),HLOOKUP($C$3,TABMAPEL_XIII,DBLOGIC!FK2,FALSE),0))))","v":"-"},{"$f":"IF(OR($B$3=\"1 (satu)\",$B$3=\"2 (dua)\"),HLOOKUP($C$3,TABMAPEL_X,DBLOGIC!FL2,FALSE),IF(OR($B$3=\"3 (tiga)\",$B$3=\"4 (empat)\"),HLOOKUP($C$3,TABMAPEL_XI,DBLOGIC!FL2,FALSE),IF(OR($B$3=\"5 (lima)\",$B$3=\"6 (enam)\"),HLOOKUP($C$3,TABMAPEL_XII,DBLOGIC!FL2,FALSE),IF(OR($B$3=\"7 (tujuh)\",$B$3=\"8 (delapan)\"),HLOOKUP($C$3,TABMAPEL_XIII,DBLOGIC!FL2,FALSE),0))))","v":"-"},{"$f":"IF(OR($B$3=\"1 (satu)\",$B$3=\"2 (dua)\"),HLOOKUP($C$3,TABMAPEL_X,DBLOGIC!FM2,FALSE),IF(OR($B$3=\"3 (tiga)\",$B$3=\"4 (empat)\"),HLOOKUP($C$3,TABMAPEL_XI,DBLOGIC!FM2,FALSE),IF(OR($B$3=\"5 (lima)\",$B$3=\"6 (enam)\"),HLOOKUP($C$3,TABMAPEL_XII,DBLOGIC!FM2,FALSE),IF(OR($B$3=\"7 (tujuh)\",$B$3=\"8 (delapan)\"),HLOOKUP($C$3,TABMAPEL_XIII,DBLOGIC!FM2,FALSE),0))))","v":"-"},{"$f":"IF(OR($B$3=\"1 (satu)\",$B$3=\"2 (dua)\"),HLOOKUP($C$3,TABMAPEL_X,DBLOGIC!FN2,FALSE),IF(OR($B$3=\"3 (tiga)\",$B$3=\"4 (empat)\"),HLOOKUP($C$3,TABMAPEL_XI,DBLOGIC!FN2,FALSE),IF(OR($B$3=\"5 (lima)\",$B$3=\"6 (enam)\"),HLOOKUP($C$3,TABMAPEL_XII,DBLOGIC!FN2,FALSE),IF(OR($B$3=\"7 (tujuh)\",$B$3=\"8 (delapan)\"),HLOOKUP($C$3,TABMAPEL_XIII,DBLOGIC!FN2,FALSE),0))))","v":"-"},{"$f":"IF(OR($B$3=\"1 (satu)\",$B$3=\"2 (dua)\"),HLOOKUP($C$3,TABMAPEL_X,DBLOGIC!FO2,FALSE),IF(OR($B$3=\"3 (tiga)\",$B$3=\"4 (empat)\"),HLOOKUP($C$3,TABMAPEL_XI,DBLOGIC!FO2,FALSE),IF(OR($B$3=\"5 (lima)\",$B$3=\"6 (enam)\"),HLOOKUP($C$3,TABMAPEL_XII,DBLOGIC!FO2,FALSE),IF(OR($B$3=\"7 (tujuh)\",$B$3=\"8 (delapan)\"),HLOOKUP($C$3,TABMAPEL_XIII,DBLOGIC!FO2,FALSE),0))))","v":"Bahasa dan Sastra Sunda"},{"$f":"IF(OR($B$3=\"1 (satu)\",$B$3=\"2 (dua)\"),HLOOKUP($C$3,TABMAPEL_X,DBLOGIC!FP2,FALSE),IF(OR($B$3=\"3 (tiga)\",$B$3=\"4 (empat)\"),HLOOKUP($C$3,TABMAPEL_XI,DBLOGIC!FP2,FALSE),IF(OR($B$3=\"5 (lima)\",$B$3=\"6 (enam)\"),HLOOKUP($C$3,TABMAPEL_XII,DBLOGIC!FP2,FALSE),IF(OR($B$3=\"7 (tujuh)\",$B$3=\"8 (delapan)\"),HLOOKUP($C$3,TABMAPEL_XIII,DBLOGIC!FP2,FALSE),0))))","v":"Bahasa dan Sastra Sunda"},{"$f":"IF(OR($B$3=\"1 (satu)\",$B$3=\"2 (dua)\"),HLOOKUP($C$3,TABMAPEL_X,DBLOGIC!FQ2,FALSE),IF(OR($B$3=\"3 (tiga)\",$B$3=\"4 (empat)\"),HLOOKUP($C$3,TABMAPEL_XI,DBLOGIC!FQ2,FALSE),IF(OR($B$3=\"5 (lima)\",$B$3=\"6 (enam)\"),HLOOKUP($C$3,TABMAPEL_XII,DBLOGIC!FQ2,FALSE),IF(OR($B$3=\"7 (tujuh)\",$B$3=\"8 (delapan)\"),HLOOKUP($C$3,TABMAPEL_XIII,DBLOGIC!FQ2,FALSE),0))))","v":"Bahasa dan Sastra Sunda"},{"$f":"IF(OR($B$3=\"1 (satu)\",$B$3=\"2 (dua)\"),HLOOKUP($C$3,TABMAPEL_X,DBLOGIC!FR2,FALSE),IF(OR($B$3=\"3 (tiga)\",$B$3=\"4 (empat)\"),HLOOKUP($C$3,TABMAPEL_XI,DBLOGIC!FR2,FALSE),IF(OR($B$3=\"5 (lima)\",$B$3=\"6 (enam)\"),HLOOKUP($C$3,TABMAPEL_XII,DBLOGIC!FR2,FALSE),IF(OR($B$3=\"7 (tujuh)\",$B$3=\"8 (delapan)\"),HLOOKUP($C$3,TABMAPEL_XIII,DBLOGIC!FR2,FALSE),0))))","v":"Bahasa dan Sastra Sunda"},{"$f":"IF(OR($B$3=\"1 (satu)\",$B$3=\"2 (dua)\"),HLOOKUP($C$3,TABMAPEL_X,DBLOGIC!FS2,FALSE),IF(OR($B$3=\"3 (tiga)\",$B$3=\"4 (empat)\"),HLOOKUP($C$3,TABMAPEL_XI,DBLOGIC!FS2,FALSE),IF(OR($B$3=\"5 (lima)\",$B$3=\"6 (enam)\"),HLOOKUP($C$3,TABMAPEL_XII,DBLOGIC!FS2,FALSE),IF(OR($B$3=\"7 (tujuh)\",$B$3=\"8 (delapan)\"),HLOOKUP($C$3,TABMAPEL_XIII,DBLOGIC!FS2,FALSE),0))))","v":"Bahasa dan Sastra Sunda"},{"$f":"IF(OR($B$3=\"1 (satu)\",$B$3=\"2 (dua)\"),HLOOKUP($C$3,TABMAPEL_X,DBLOGIC!FT2,FALSE),IF(OR($B$3=\"3 (tiga)\",$B$3=\"4 (empat)\"),HLOOKUP($C$3,TABMAPEL_XI,DBLOGIC!FT2,FALSE),IF(OR($B$3=\"5 (lima)\",$B$3=\"6 (enam)\"),HLOOKUP($C$3,TABMAPEL_XII,DBLOGIC!FT2,FALSE),IF(OR($B$3=\"7 (tujuh)\",$B$3=\"8 (delapan)\"),HLOOKUP($C$3,TABMAPEL_XIII,DBLOGIC!FT2,FALSE),0))))","v":"Bahasa dan Sastra Sunda"},{"$f":"IF(OR($B$3=\"1 (satu)\",$B$3=\"2 (dua)\"),HLOOKUP($C$3,TABMAPEL_X,DBLOGIC!FU2,FALSE),IF(OR($B$3=\"3 (tiga)\",$B$3=\"4 (empat)\"),HLOOKUP($C$3,TABMAPEL_XI,DBLOGIC!FU2,FALSE),IF(OR($B$3=\"5 (lima)\",$B$3=\"6 (enam)\"),HLOOKUP($C$3,TABMAPEL_XII,DBLOGIC!FU2,FALSE),IF(OR($B$3=\"7 (tujuh)\",$B$3=\"8 (delapan)\"),HLOOKUP($C$3,TABMAPEL_XIII,DBLOGIC!FU2,FALSE),0))))","v":"Bahasa dan Sastra Sunda"},{"$f":"IF(OR($B$3=\"1 (satu)\",$B$3=\"2 (dua)\"),HLOOKUP($C$3,TABMAPEL_X,DBLOGIC!FV2,FALSE),IF(OR($B$3=\"3 (tiga)\",$B$3=\"4 (empat)\"),HLOOKUP($C$3,TABMAPEL_XI,DBLOGIC!FV2,FALSE),IF(OR($B$3=\"5 (lima)\",$B$3=\"6 (enam)\"),HLOOKUP($C$3,TABMAPEL_XII,DBLOGIC!FV2,FALSE),IF(OR($B$3=\"7 (tujuh)\",$B$3=\"8 (delapan)\"),HLOOKUP($C$3,TABMAPEL_XIII,DBLOGIC!FV2,FALSE),0))))","v":"PLH"},{"$f":"IF(OR($B$3=\"1 (satu)\",$B$3=\"2 (dua)\"),HLOOKUP($C$3,TABMAPEL_X,DBLOGIC!FW2,FALSE),IF(OR($B$3=\"3 (tiga)\",$B$3=\"4 (empat)\"),HLOOKUP($C$3,TABMAPEL_XI,DBLOGIC!FW2,FALSE),IF(OR($B$3=\"5 (lima)\",$B$3=\"6 (enam)\"),HLOOKUP($C$3,TABMAPEL_XII,DBLOGIC!FW2,FALSE),IF(OR($B$3=\"7 (tujuh)\",$B$3=\"8 (delapan)\"),HLOOKUP($C$3,TABMAPEL_XIII,DBLOGIC!FW2,FALSE),0))))","v":"PLH"},{"$f":"IF(OR($B$3=\"1 (satu)\",$B$3=\"2 (dua)\"),HLOOKUP($C$3,TABMAPEL_X,DBLOGIC!FX2,FALSE),IF(OR($B$3=\"3 (tiga)\",$B$3=\"4 (empat)\"),HLOOKUP($C$3,TABMAPEL_XI,DBLOGIC!FX2,FALSE),IF(OR($B$3=\"5 (lima)\",$B$3=\"6 (enam)\"),HLOOKUP($C$3,TABMAPEL_XII,DBLOGIC!FX2,FALSE),IF(OR($B$3=\"7 (tujuh)\",$B$3=\"8 (delapan)\"),HLOOKUP($C$3,TABMAPEL_XIII,DBLOGIC!FX2,FALSE),0))))","v":"PLH"},{"$f":"IF(OR($B$3=\"1 (satu)\",$B$3=\"2 (dua)\"),HLOOKUP($C$3,TABMAPEL_X,DBLOGIC!FY2,FALSE),IF(OR($B$3=\"3 (tiga)\",$B$3=\"4 (empat)\"),HLOOKUP($C$3,TABMAPEL_XI,DBLOGIC!FY2,FALSE),IF(OR($B$3=\"5 (lima)\",$B$3=\"6 (enam)\"),HLOOKUP($C$3,TABMAPEL_XII,DBLOGIC!FY2,FALSE),IF(OR($B$3=\"7 (tujuh)\",$B$3=\"8 (delapan)\"),HLOOKUP($C$3,TABMAPEL_XIII,DBLOGIC!FY2,FALSE),0))))","v":"PLH"},{"$f":"IF(OR($B$3=\"1 (satu)\",$B$3=\"2 (dua)\"),HLOOKUP($C$3,TABMAPEL_X,DBLOGIC!FZ2,FALSE),IF(OR($B$3=\"3 (tiga)\",$B$3=\"4 (empat)\"),HLOOKUP($C$3,TABMAPEL_XI,DBLOGIC!FZ2,FALSE),IF(OR($B$3=\"5 (lima)\",$B$3=\"6 (enam)\"),HLOOKUP($C$3,TABMAPEL_XII,DBLOGIC!FZ2,FALSE),IF(OR($B$3=\"7 (tujuh)\",$B$3=\"8 (delapan)\"),HLOOKUP($C$3,TABMAPEL_XIII,DBLOGIC!FZ2,FALSE),0))))","v":"PLH"},{"$f":"IF(OR($B$3=\"1 (satu)\",$B$3=\"2 (dua)\"),HLOOKUP($C$3,TABMAPEL_X,DBLOGIC!GA2,FALSE),IF(OR($B$3=\"3 (tiga)\",$B$3=\"4 (empat)\"),HLOOKUP($C$3,TABMAPEL_XI,DBLOGIC!GA2,FALSE),IF(OR($B$3=\"5 (lima)\",$B$3=\"6 (enam)\"),HLOOKUP($C$3,TABMAPEL_XII,DBLOGIC!GA2,FALSE),IF(OR($B$3=\"7 (tujuh)\",$B$3=\"8 (delapan)\"),HLOOKUP($C$3,TABMAPEL_XIII,DBLOGIC!GA2,FALSE),0))))","v":"PLH"},{"$f":"IF(OR($B$3=\"1 (satu)\",$B$3=\"2 (dua)\"),HLOOKUP($C$3,TABMAPEL_X,DBLOGIC!GB2,FALSE),IF(OR($B$3=\"3 (tiga)\",$B$3=\"4 (empat)\"),HLOOKUP($C$3,TABMAPEL_XI,DBLOGIC!GB2,FALSE),IF(OR($B$3=\"5 (lima)\",$B$3=\"6 (enam)\"),HLOOKUP($C$3,TABMAPEL_XII,DBLOGIC!GB2,FALSE),IF(OR($B$3=\"7 (tujuh)\",$B$3=\"8 (delapan)\"),HLOOKUP($C$3,TABMAPEL_XIII,DBLOGIC!GB2,FALSE),0))))","v":"PLH"},null,"Bimbingan dan Konseling","Catatan Aakdemik"]
["Semester  :","1 (satu)",{"$f":"IF(OR(B3=\"1 (satu)\",B3=\"2 (dua)\"),\"X \"&MENU!F8,IF(OR(B3=\"3 (tiga)\",B3=\"4 (empat)\"),\"XI \"&MENU!F8,IF(OR(B3=\"5 (lima)\",B3=\"6 (enam)\"),\"XII \"&MENU!F8,\"\")))","v":"X TBSM"},{"$f":"HLOOKUP(\"KEL\",TABMAPEL_X,DBLOGIC!Q2,FALSE)","v":"A"},{"$f":"HLOOKUP(\"KEL\",TABMAPEL_X,DBLOGIC!R2,FALSE)","v":"A"},{"$f":"HLOOKUP(\"KEL\",TABMAPEL_X,DBLOGIC!S2,FALSE)","v":"A"},{"$f":"HLOOKUP(\"KEL\",TABMAPEL_X,DBLOGIC!T2,FALSE)","v":"A"},{"$f":"HLOOKUP(\"KEL\",TABMAPEL_X,DBLOGIC!U2,FALSE)","v":"A"},{"$f":"HLOOKUP(\"KEL\",TABMAPEL_X,DBLOGIC!V2,FALSE)","v":"A"},{"$f":"HLOOKUP(\"KEL\",TABMAPEL_X,DBLOGIC!W2,FALSE)","v":"A"},{"$f":"HLOOKUP(\"KEL\",TABMAPEL_X,DBLOGIC!X2,FALSE)","v":"A"},{"$f":"HLOOKUP(\"KEL\",TABMAPEL_X,DBLOGIC!Y2,FALSE)","v":"A"},{"$f":"HLOOKUP(\"KEL\",TABMAPEL_X,DBLOGIC!Z2,FALSE)","v":"A"},{"$f":"HLOOKUP(\"KEL\",TABMAPEL_X,DBLOGIC!AA2,FALSE)","v":"A"},{"$f":"HLOOKUP(\"KEL\",TABMAPEL_X,DBLOGIC!AB2,FALSE)","v":"A"},{"$f":"HLOOKUP(\"KEL\",TABMAPEL_X,DBLOGIC!AC2,FALSE)","v":"A"},{"$f":"HLOOKUP(\"KEL\",TABMAPEL_X,DBLOGIC!AD2,FALSE)","v":"A"},{"$f":"HLOOKUP(\"KEL\",TABMAPEL_X,DBLOGIC!AE2,FALSE)","v":"A"},{"$f":"HLOOKUP(\"KEL\",TABMAPEL_X,DBLOGIC!AF2,FALSE)","v":"A"},{"$f":"HLOOKUP(\"KEL\",TABMAPEL_X,DBLOGIC!AG2,FALSE)","v":"A"},{"$f":"HLOOKUP(\"KEL\",TABMAPEL_X,DBLOGIC!AH2,FALSE)","v":"A"},{"$f":"HLOOKUP(\"KEL\",TABMAPEL_X,DBLOGIC!AI2,FALSE)","v":"A"},{"$f":"HLOOKUP(\"KEL\",TABMAPEL_X,DBLOGIC!AJ2,FALSE)","v":"A"},{"$f":"HLOOKUP(\"KEL\",TABMAPEL_X,DBLOGIC!AK2,FALSE)","v":"A"},{"$f":"HLOOKUP(\"KEL\",TABMAPEL_X,DBLOGIC!AL2,FALSE)","v":"A"},{"$f":"HLOOKUP(\"KEL\",TABMAPEL_X,DBLOGIC!AM2,FALSE)","v":"A"},{"$f":"HLOOKUP(\"KEL\",TABMAPEL_X,DBLOGIC!AN2,FALSE)","v":"A"},{"$f":"HLOOKUP(\"KEL\",TABMAPEL_X,DBLOGIC!AO2,FALSE)","v":"A"},{"$f":"HLOOKUP(\"KEL\",TABMAPEL_X,DBLOGIC!AP2,FALSE)","v":"A"},{"$f":"HLOOKUP(\"KEL\",TABMAPEL_X,DBLOGIC!AQ2,FALSE)","v":"A"},{"$f":"HLOOKUP(\"KEL\",TABMAPEL_X,DBLOGIC!AR2,FALSE)","v":"A"},{"$f":"HLOOKUP(\"KEL\",TABMAPEL_X,DBLOGIC!AS2,FALSE)","v":"A"},{"$f":"HLOOKUP(\"KEL\",TABMAPEL_X,DBLOGIC!AT2,FALSE)","v":"A"},{"$f":"HLOOKUP(\"KEL\",TABMAPEL_X,DBLOGIC!AU2,FALSE)","v":"A"},{"$f":"HLOOKUP(\"KEL\",TABMAPEL_X,DBLOGIC!AV2,FALSE)","v":"A"},{"$f":"HLOOKUP(\"KEL\",TABMAPEL_X,DBLOGIC!AW2,FALSE)","v":"A"},{"$f":"HLOOKUP(\"KEL\",TABMAPEL_X,DBLOGIC!AX2,FALSE)","v":"A"},{"$f":"HLOOKUP(\"KEL\",TABMAPEL_X,DBLOGIC!AY2,FALSE)","v":"A"},{"$f":"HLOOKUP(\"KEL\",TABMAPEL_X,DBLOGIC!AZ2,FALSE)","v":"A"},{"$f":"HLOOKUP(\"KEL\",TABMAPEL_X,DBLOGIC!BA2,FALSE)","v":"A"},{"$f":"HLOOKUP(\"KEL\",TABMAPEL_X,DBLOGIC!BB2,FALSE)","v":"A"},{"$f":"HLOOKUP(\"KEL\",TABMAPEL_X,DBLOGIC!BC2,FALSE)","v":"A"},{"$f":"HLOOKUP(\"KEL\",TABMAPEL_X,DBLOGIC!BD2,FALSE)","v":"A"},{"$f":"HLOOKUP(\"KEL\",TABMAPEL_X,DBLOGIC!BE2,FALSE)","v":"A"},{"$f":"HLOOKUP(\"KEL\",TABMAPEL_X,DBLOGIC!BF2,FALSE)","v":"A"},{"$f":"HLOOKUP(\"KEL\",TABMAPEL_X,DBLOGIC!BG2,FALSE)","v":"A"},{"$f":"HLOOKUP(\"KEL\",TABMAPEL_X,DBLOGIC!BH2,FALSE)","v":"A"},{"$f":"HLOOKUP(\"KEL\",TABMAPEL_X,DBLOGIC!BI2,FALSE)","v":"A"},{"$f":"HLOOKUP(\"KEL\",TABMAPEL_X,DBLOGIC!BJ2,FALSE)","v":"A"},{"$f":"HLOOKUP(\"KEL\",TABMAPEL_X,DBLOGIC!BK2,FALSE)","v":"A"},{"$f":"HLOOKUP(\"KEL\",TABMAPEL_X,DBLOGIC!BL2,FALSE)","v":"A"},{"$f":"HLOOKUP(\"KEL\",TABMAPEL_X,DBLOGIC!BM2,FALSE)","v":"A"},{"$f":"HLOOKUP(\"KEL\",TABMAPEL_X,DBLOGIC!BN2,FALSE)","v":"B"},{"$f":"HLOOKUP(\"KEL\",TABMAPEL_X,DBLOGIC!BO2,FALSE)","v":"B"},{"$f":"HLOOKUP(\"KEL\",TABMAPEL_X,DBLOGIC!BP2,FALSE)","v":"B"},{"$f":"HLOOKUP(\"KEL\",TABMAPEL_X,DBLOGIC!BQ2,FALSE)","v":"B"},{"$f":"HLOOKUP(\"KEL\",TABMAPEL_X,DBLOGIC!BR2,FALSE)","v":"B"},{"$f":"HLOOKUP(\"KEL\",TABMAPEL_X,DBLOGIC!BS2,FALSE)","v":"B"},{"$f":"HLOOKUP(\"KEL\",TABMAPEL_X,DBLOGIC!BT2,FALSE)","v":"B"},{"$f":"HLOOKUP(\"KEL\",TABMAPEL_X,DBLOGIC!BU2,FALSE)","v":"B"},{"$f":"HLOOKUP(\"KEL\",TABMAPEL_X,DBLOGIC!BV2,FALSE)","v":"B"},{"$f":"HLOOKUP(\"KEL\",TABMAPEL_X,DBLOGIC!BW2,FALSE)","v":"B"},{"$f":"HLOOKUP(\"KEL\",TABMAPEL_X,DBLOGIC!BX2,FALSE)","v":"B"},{"$f":"HLOOKUP(\"KEL\",TABMAPEL_X,DBLOGIC!BY2,FALSE)","v":"B"},{"$f":"HLOOKUP(\"KEL\",TABMAPEL_X,DBLOGIC!BZ2,FALSE)","v":"B"},{"$f":"HLOOKUP(\"KEL\",TABMAPEL_X,DBLOGIC!CA2,FALSE)","v":"B"},{"$f":"HLOOKUP(\"KEL\",TABMAPEL_X,DBLOGIC!CB2,FALSE)","v":"C1"},{"$f":"HLOOKUP(\"KEL\",TABMAPEL_X,DBLOGIC!CC2,FALSE)","v":"C1"},{"$f":"HLOOKUP(\"KEL\",TABMAPEL_X,DBLOGIC!CD2,FALSE)","v":"C1"},{"$f":"HLOOKUP(\"KEL\",TABMAPEL_X,DBLOGIC!CE2,FALSE)","v":"C1"},{"$f":"HLOOKUP(\"KEL\",TABMAPEL_X,DBLOGIC!CF2,FALSE)","v":"C1"},{"$f":"HLOOKUP(\"KEL\",TABMAPEL_X,DBLOGIC!CG2,FALSE)","v":"C1"},{"$f":"HLOOKUP(\"KEL\",TABMAPEL_X,DBLOGIC!CH2,FALSE)","v":"C1"},{"$f":"HLOOKUP(\"KEL\",TABMAPEL_X,DBLOGIC!CI2,FALSE)","v":"C1"},{"$f":"HLOOKUP(\"KEL\",TABMAPEL_X,DBLOGIC!CJ2,FALSE)","v":"C1"},{"$f":"HLOOKUP(\"KEL\",TABMAPEL_X,DBLOGIC!CK2,FALSE)","v":"C1"},{"$f":"HLOOKUP(\"KEL\",TABMAPEL_X,DBLOGIC!CL2,FALSE)","v":"C1"},{"$f":"HLOOKUP(\"KEL\",TABMAPEL_X,DBLOGIC!CM2,FALSE)","v":"C1"},{"$f":"HLOOKUP(\"KEL\",TABMAPEL_X,DBLOGIC!CN2,FALSE)","v":"C1"},{"$f":"HLOOKUP(\"KEL\",TABMAPEL_X,DBLOGIC!CO2,FALSE)","v":"C1"},{"$f":"HLOOKUP(\"KEL\",TABMAPEL_X,DBLOGIC!CP2,FALSE)","v":"C1"},{"$f":"HLOOKUP(\"KEL\",TABMAPEL_X,DBLOGIC!CQ2,FALSE)","v":"C1"},{"$f":"HLOOKUP(\"KEL\",TABMAPEL_X,DBLOGIC!CR2,FALSE)","v":"C1"},{"$f":"HLOOKUP(\"KEL\",TABMAPEL_X,DBLOGIC!CS2,FALSE)","v":"C1"},{"$f":"HLOOKUP(\"KEL\",TABMAPEL_X,DBLOGIC!CT2,FALSE)","v":"C1"},{"$f":"HLOOKUP(\"KEL\",TABMAPEL_X,DBLOGIC!CU2,FALSE)","v":"C1"},{"$f":"HLOOKUP(\"KEL\",TABMAPEL_X,DBLOGIC!CV2,FALSE)","v":"C1"},{"$f":"HLOOKUP(\"KEL\",TABMAPEL_X,DBLOGIC!CW2,FALSE)","v":"C2"},{"$f":"HLOOKUP(\"KEL\",TABMAPEL_X,DBLOGIC!CX2,FALSE)","v":"C2"},{"$f":"HLOOKUP(\"KEL\",TABMAPEL_X,DBLOGIC!CY2,FALSE)","v":"C2"},{"$f":"HLOOKUP(\"KEL\",TABMAPEL_X,DBLOGIC!CZ2,FALSE)","v":"C2"},{"$f":"HLOOKUP(\"KEL\",TABMAPEL_X,DBLOGIC!DA2,FALSE)","v":"C2"},{"$f":"HLOOKUP(\"KEL\",TABMAPEL_X,DBLOGIC!DB2,FALSE)","v":"C2"},{"$f":"HLOOKUP(\"KEL\",TABMAPEL_X,DBLOGIC!DC2,FALSE)","v":"C2"},{"$f":"HLOOKUP(\"KEL\",TABMAPEL_X,DBLOGIC!DD2,FALSE)","v":"C2"},{"$f":"HLOOKUP(\"KEL\",TABMAPEL_X,DBLOGIC!DE2,FALSE)","v":"C2"},{"$f":"HLOOKUP(\"KEL\",TABMAPEL_X,DBLOGIC!DF2,FALSE)","v":"C2"},{"$f":"HLOOKUP(\"KEL\",TABMAPEL_X,DBLOGIC!DG2,FALSE)","v":"C2"},{"$f":"HLOOKUP(\"KEL\",TABMAPEL_X,DBLOGIC!DH2,FALSE)","v":"C2"},{"$f":"HLOOKUP(\"KEL\",TABMAPEL_X,DBLOGIC!DI2,FALSE)","v":"C2"},{"$f":"HLOOKUP(\"KEL\",TABMAPEL_X,DBLOGIC!DJ2,FALSE)","v":"C2"},{"$f":"HLOOKUP(\"KEL\",TABMAPEL_X,DBLOGIC!DK2,FALSE)","v":"C2"},{"$f":"HLOOKUP(\"KEL\",TABMAPEL_X,DBLOGIC!DL2,FALSE)","v":"C2"},{"$f":"HLOOKUP(\"KEL\",TABMAPEL_X,DBLOGIC!DM2,FALSE)","v":"C2"},{"$f":"HLOOKUP(\"KEL\",TABMAPEL_X,DBLOGIC!DN2,FALSE)","v":"C2"},{"$f":"HLOOKUP(\"KEL\",TABMAPEL_X,DBLOGIC!DO2,FALSE)","v":"C2"},{"$f":"HLOOKUP(\"KEL\",TABMAPEL_X,DBLOGIC!DP2,FALSE)","v":"C2"},{"$f":"HLOOKUP(\"KEL\",TABMAPEL_X,DBLOGIC!DQ2,FALSE)","v":"C2"},{"$f":"HLOOKUP(\"KEL\",TABMAPEL_X,DBLOGIC!DR2,FALSE)","v":"C2"},{"$f":"HLOOKUP(\"KEL\",TABMAPEL_X,DBLOGIC!DS2,FALSE)","v":"C2"},{"$f":"HLOOKUP(\"KEL\",TABMAPEL_X,DBLOGIC!DT2,FALSE)","v":"C2"},{"$f":"HLOOKUP(\"KEL\",TABMAPEL_X,DBLOGIC!DU2,FALSE)","v":"C2"},{"$f":"HLOOKUP(\"KEL\",TABMAPEL_X,DBLOGIC!DV2,FALSE)","v":"C2"},{"$f":"HLOOKUP(\"KEL\",TABMAPEL_X,DBLOGIC!DW2,FALSE)","v":"C2"},{"$f":"HLOOKUP(\"KEL\",TABMAPEL_X,DBLOGIC!DX2,FALSE)","v":"C2"},{"$f":"HLOOKUP(\"KEL\",TABMAPEL_X,DBLOGIC!DY2,FALSE)","v":"C3"},{"$f":"HLOOKUP(\"KEL\",TABMAPEL_X,DBLOGIC!DZ2,FALSE)","v":"C3"},{"$f":"HLOOKUP(\"KEL\",TABMAPEL_X,DBLOGIC!EA2,FALSE)","v":"C3"},{"$f":"HLOOKUP(\"KEL\",TABMAPEL_X,DBLOGIC!EB2,FALSE)","v":"C3"},{"$f":"HLOOKUP(\"KEL\",TABMAPEL_X,DBLOGIC!EC2,FALSE)","v":"C3"},{"$f":"HLOOKUP(\"KEL\",TABMAPEL_X,DBLOGIC!ED2,FALSE)","v":"C3"},{"$f":"HLOOKUP(\"KEL\",TABMAPEL_X,DBLOGIC!EE2,FALSE)","v":"C3"},{"$f":"HLOOKUP(\"KEL\",TABMAPEL_X,DBLOGIC!EF2,FALSE)","v":"C3"},{"$f":"HLOOKUP(\"KEL\",TABMAPEL_X,DBLOGIC!EG2,FALSE)","v":"C3"},{"$f":"HLOOKUP(\"KEL\",TABMAPEL_X,DBLOGIC!EH2,FALSE)","v":"C3"},{"$f":"HLOOKUP(\"KEL\",TABMAPEL_X,DBLOGIC!EI2,FALSE)","v":"C3"},{"$f":"HLOOKUP(\"KEL\",TABMAPEL_X,DBLOGIC!EJ2,FALSE)","v":"C3"},{"$f":"HLOOKUP(\"KEL\",TABMAPEL_X,DBLOGIC!EK2,FALSE)","v":"C3"},{"$f":"HLOOKUP(\"KEL\",TABMAPEL_X,DBLOGIC!EL2,FALSE)","v":"C3"},{"$f":"HLOOKUP(\"KEL\",TABMAPEL_X,DBLOGIC!EM2,FALSE)","v":"C3"},{"$f":"HLOOKUP(\"KEL\",TABMAPEL_X,DBLOGIC!EN2,FALSE)","v":"C3"},{"$f":"HLOOKUP(\"KEL\",TABMAPEL_X,DBLOGIC!EO2,FALSE)","v":"C3"},{"$f":"HLOOKUP(\"KEL\",TABMAPEL_X,DBLOGIC!EP2,FALSE)","v":"C3"},{"$f":"HLOOKUP(\"KEL\",TABMAPEL_X,DBLOGIC!EQ2,FALSE)","v":"C3"},{"$f":"HLOOKUP(\"KEL\",TABMAPEL_X,DBLOGIC!ER2,FALSE)","v":"C3"},{"$f":"HLOOKUP(\"KEL\",TABMAPEL_X,DBLOGIC!ES2,FALSE)","v":"C3"},{"$f":"HLOOKUP(\"KEL\",TABMAPEL_X,DBLOGIC!ET2,FALSE)","v":"C3"},{"$f":"HLOOKUP(\"KEL\",TABMAPEL_X,DBLOGIC!EU2,FALSE)","v":"C3"},{"$f":"HLOOKUP(\"KEL\",TABMAPEL_X,DBLOGIC!EV2,FALSE)","v":"C3"},{"$f":"HLOOKUP(\"KEL\",TABMAPEL_X,DBLOGIC!EW2,FALSE)","v":"C3"},{"$f":"HLOOKUP(\"KEL\",TABMAPEL_X,DBLOGIC!EX2,FALSE)","v":"C3"},{"$f":"HLOOKUP(\"KEL\",TABMAPEL_X,DBLOGIC!EY2,FALSE)","v":"C3"},{"$f":"HLOOKUP(\"KEL\",TABMAPEL_X,DBLOGIC!EZ2,FALSE)","v":"C3"},{"$f":"HLOOKUP(\"KEL\",TABMAPEL_X,DBLOGIC!FA2,FALSE)","v":"C3"},{"$f":"HLOOKUP(\"KEL\",TABMAPEL_X,DBLOGIC!FB2,FALSE)","v":"C3"},{"$f":"HLOOKUP(\"KEL\",TABMAPEL_X,DBLOGIC!FC2,FALSE)","v":"C3"},{"$f":"HLOOKUP(\"KEL\",TABMAPEL_X,DBLOGIC!FD2,FALSE)","v":"C3"},{"$f":"HLOOKUP(\"KEL\",TABMAPEL_X,DBLOGIC!FE2,FALSE)","v":"C3"},{"$f":"HLOOKUP(\"KEL\",TABMAPEL_X,DBLOGIC!FF2,FALSE)","v":"C3"},{"$f":"HLOOKUP(\"KEL\",TABMAPEL_X,DBLOGIC!FG2,FALSE)","v":"C3"},{"$f":"HLOOKUP(\"KEL\",TABMAPEL_X,DBLOGIC!FH2,FALSE)","v":"C3"},{"$f":"HLOOKUP(\"KEL\",TABMAPEL_X,DBLOGIC!FI2,FALSE)","v":"C3"},{"$f":"HLOOKUP(\"KEL\",TABMAPEL_X,DBLOGIC!FJ2,FALSE)","v":"C3"},{"$f":"HLOOKUP(\"KEL\",TABMAPEL_X,DBLOGIC!FK2,FALSE)","v":"C3"},{"$f":"HLOOKUP(\"KEL\",TABMAPEL_X,DBLOGIC!FL2,FALSE)","v":"C3"},{"$f":"HLOOKUP(\"KEL\",TABMAPEL_X,DBLOGIC!FM2,FALSE)","v":"C3"},{"$f":"HLOOKUP(\"KEL\",TABMAPEL_X,DBLOGIC!FN2,FALSE)","v":"C3"},{"$f":"HLOOKUP(\"KEL\",TABMAPEL_X,DBLOGIC!FO2,FALSE)","v":"M"},{"$f":"HLOOKUP(\"KEL\",TABMAPEL_X,DBLOGIC!FP2,FALSE)","v":"M"},{"$f":"HLOOKUP(\"KEL\",TABMAPEL_X,DBLOGIC!FQ2,FALSE)","v":"M"},{"$f":"HLOOKUP(\"KEL\",TABMAPEL_X,DBLOGIC!FR2,FALSE)","v":"M"},{"$f":"HLOOKUP(\"KEL\",TABMAPEL_X,DBLOGIC!FS2,FALSE)","v":"M"},{"$f":"HLOOKUP(\"KEL\",TABMAPEL_X,DBLOGIC!FT2,FALSE)","v":"M"},{"$f":"HLOOKUP(\"KEL\",TABMAPEL_X,DBLOGIC!FU2,FALSE)","v":"M"},{"$f":"HLOOKUP(\"KEL\",TABMAPEL_X,DBLOGIC!FV2,FALSE)","v":"M"},{"$f":"HLOOKUP(\"KEL\",TABMAPEL_X,DBLOGIC!FW2,FALSE)","v":"M"},{"$f":"HLOOKUP(\"KEL\",TABMAPEL_X,DBLOGIC!FX2,FALSE)","v":"M"},{"$f":"HLOOKUP(\"KEL\",TABMAPEL_X,DBLOGIC!FY2,FALSE)","v":"M"},{"$f":"HLOOKUP(\"KEL\",TABMAPEL_X,DBLOGIC!FZ2,FALSE)","v":"M"},{"$f":"HLOOKUP(\"KEL\",TABMAPEL_X,DBLOGIC!GA2,FALSE)","v":"M"},{"$f":"HLOOKUP(\"KEL\",TABMAPEL_X,DBLOGIC!GB2,FALSE)","v":"M"}]
["Wali Kelas :",{"$f":"TITIMANGSA!D5","v":"Abdul Hapid, S.P"},"URUTAN MAPEL",1,{"$f":"D4","v":1},{"$f":"E4","v":1},1,1,1,1,{"$f":"IF(K2=\"-\",0,MAX($D$4:J4)+1)","v":2},{"$f":"K4","v":2},2,2,2,2,2,{"$f":"IF(R2=\"-\",0,MAX($D$4:Q4)+1)","v":3},{"$f":"R4","v":3},3,3,3,3,3,{"$f":"IF(Y2=\"-\",0,MAX($D$4:X4)+1)","v":4},{"$f":"Y4","v":4},{"$f":"Z4","v":4},{"$f":"AA4","v":4},{"$f":"AB4","v":4},{"$f":"AC4","v":4},{"$f":"AD4","v":4},{"$f":"IF(AF2=\"-\",0,MAX($D$4:AE4)+1)","v":5},{"$f":"AF4","v":5},{"$f":"AG4","v":5},{"$f":"AH4","v":5},{"$f":"AI4","v":5},{"$f":"AJ4","v":5},{"$f":"AK4","v":5},{"$f":"IF(AM2=\"-\",0,MAX($D$4:AL4)+1)","v":6},{"$f":"AM4","v":6},{"$f":"AN4","v":6},{"$f":"AO4","v":6},{"$f":"AP4","v":6},{"$f":"AQ4","v":6},{"$f":"AR4","v":6},{"$f":"IF(AT2=\"-\",0,MAX($D$4:AS4)+1)","v":0},{"$f":"AT4","v":0},{"$f":"AU4","v":0},{"$f":"AV4","v":0},{"$f":"AW4","v":0},{"$f":"AX4","v":0},{"$f":"AY4","v":0},{"$f":"IF(BA2=\"-\",0,MAX($D$4:AZ4)+1)","v":7},{"$f":"BA4","v":7},{"$f":"BB4","v":7},{"$f":"BC4","v":7},{"$f":"BD4","v":7},{"$f":"BE4","v":7},{"$f":"BF4","v":7},{"$f":"IF(BH2=\"-\",0,MAX($D$4:BG4)+1)","v":8},{"$f":"BH4","v":8},{"$f":"BI4","v":8},{"$f":"BJ4","v":8},{"$f":"BK4","v":8},{"$f":"BL4","v":8},{"$f":"BM4","v":8},{"$f":"IF(BO2=\"-\",0,MAX($D$4:BN4)+1)","v":9},{"$f":"BO4","v":9},{"$f":"BP4","v":9},{"$f":"BQ4","v":9},{"$f":"BR4","v":9},{"$f":"BS4","v":9},{"$f":"BT4","v":9},{"$f":"IF(BV2=\"-\",0,MAX($D$4:BU4)+1)","v":10},{"$f":"BV4","v":10},{"$f":"BW4","v":10},{"$f":"BX4","v":10},{"$f":"BY4","v":10},{"$f":"BZ4","v":10},{"$f":"CA4","v":10},{"$f":"IF(CC2=\"-\",0,MAX($D$4:CB4)+1)","v":11},{"$f":"CC4","v":11},{"$f":"CD4","v":11},{"$f":"CE4","v":11},{"$f":"CF4","v":11},{"$f":"CG4","v":11},{"$f":"CH4","v":11},{"$f":"IF(CJ2=\"-\",0,MAX($D$4:CI4)+1)","v":12},{"$f":"CJ4","v":12},{"$f":"CK4","v":12},{"$f":"CL4","v":12},{"$f":"CM4","v":12},{"$f":"CN4","v":12},{"$f":"CO4","v":12},{"$f":"IF(CQ2=\"-\",0,MAX($D$4:CP4)+1)","v":13},{"$f":"CQ4","v":13},{"$f":"CR4","v":13},{"$f":"CS4","v":13},{"$f":"CT4","v":13},{"$f":"CU4","v":13},{"$f":"CV4","v":13},{"$f":"IF(CX2=\"-\",0,MAX($D$4:CW4)+1)","v":14},{"$f":"CX4","v":14},{"$f":"CY4","v":14},{"$f":"CZ4","v":14},{"$f":"DA4","v":14},{"$f":"DB4","v":14},{"$f":"DC4","v":14},{"$f":"IF(DE2=\"-\",0,MAX($D$4:DD4)+1)","v":0},{"$f":"DE4","v":0},{"$f":"DF4","v":0},{"$f":"DG4","v":0},{"$f":"DH4","v":0},{"$f":"DI4","v":0},{"$f":"DJ4","v":0},{"$f":"IF(DL2=\"-\",0,MAX($D$4:DK4)+1)","v":0},{"$f":"DL4","v":0},{"$f":"DM4","v":0},{"$f":"DN4","v":0},{"$f":"DO4","v":0},{"$f":"DP4","v":0},{"$f":"DQ4","v":0},{"$f":"IF(DS2=\"-\",0,MAX($D$4:DR4)+1)","v":0},{"$f":"DS4","v":0},{"$f":"DT4","v":0},{"$f":"DU4","v":0},{"$f":"DV4","v":0},{"$f":"DW4","v":0},{"$f":"DX4","v":0},{"$f":"IF(DZ2=\"-\",0,MAX($D$4:DY4)+1)","v":0},{"$f":"DZ4","v":0},{"$f":"EA4","v":0},{"$f":"EB4","v":0},{"$f":"EC4","v":0},{"$f":"ED4","v":0},{"$f":"EE4","v":0},{"$f":"IF(EG2=\"-\",0,MAX($D$4:EF4)+1)","v":0},{"$f":"EG4","v":0},{"$f":"EH4","v":0},{"$f":"EI4","v":0},{"$f":"EJ4","v":0},{"$f":"EK4","v":0},{"$f":"EL4","v":0},{"$f":"IF(EN2=\"-\",0,MAX($D$4:EM4)+1)","v":0},{"$f":"EN4","v":0},{"$f":"EO4","v":0},{"$f":"EP4","v":0},{"$f":"EQ4","v":0},{"$f":"ER4","v":0},{"$f":"ES4","v":0},{"$f":"IF(EU2=\"-\",0,MAX($D$4:ET4)+1)","v":0},{"$f":"EU4","v":0},{"$f":"EV4","v":0},{"$f":"EW4","v":0},{"$f":"EX4","v":0},{"$f":"EY4","v":0},{"$f":"EZ4","v":0},{"$f":"IF(FB2=\"-\",0,MAX($D$4:FA4)+1)","v":15},{"$f":"FB4","v":15},{"$f":"FC4","v":15},{"$f":"FD4","v":15},{"$f":"FE4","v":15},{"$f":"FF4","v":15},{"$f":"FG4","v":15},{"$f":"IF(FI2=\"-\",0,MAX($D$4:FH4)+1)","v":16},{"$f":"FI4","v":16},{"$f":"FJ4","v":16},{"$f":"FK4","v":16},{"$f":"FL4","v":16},{"$f":"FM4","v":16},{"$f":"FN4","v":16}]
[{"$f":"TITIMANGSA!D4","v":"Karawang, 18 Desember 2020"},{"$f":"TITIMANGSA!D6","v":"19680917 200012 1 003"},"KKM",75,75,75,75,75,75,75,75,75,75,75,75,75,75,75,75,75,75,75,75,75,75,75,75,75,75,75,75,75,75,75,75,75,75,75,75,75,75,75,75,75,75,75,75,75,75,75,75,75,75,75,75,75,75,75,75,75,75,75,75,75,75,75,75,75,75,75,75,75,75,75,75,75,75,75,75,75,75,75,75,75,75,75,75,75,75,75,75,75,75,75,75,75,75,75,75,75,75,75,75,75,75,75,75,75,75,75,75,75,75,75,75,75,75,75,75,75,75,75,75,75,75,75,75,75,75,75,75,75,75,75,75,75,75,75,75,75,75,75,75,75,75,75,75,75,75,75,75,75,75,75,75,75,75,75,75,75,75,75,75,75,75,75,75,75,75,75,75]
[null,null,"TOPIK PER KD","Syahadat",null,2,null,3,null,"-",{"$f":"H6+1","v":4},null,{"$f":"K6+1","v":5},null,{"$f":"M6+1","v":6},null,"-",{"$f":"O6+1","v":7},null,{"$f":"R6+1","v":8},null,{"$f":"T6+1","v":9},null,"-",{"$f":"V6+1","v":10},null,{"$f":"Y6+1","v":11},null,{"$f":"AA6+1","v":12},null,"-",{"$f":"AC6+1","v":13},null,{"$f":"AF6+1","v":14},null,{"$f":"AH6+1","v":15},null,"-",{"$f":"AJ6+1","v":16},null,{"$f":"AM6+1","v":17},null,{"$f":"AO6+1","v":18},null,"-",{"$f":"AQ6+1","v":19},null,{"$f":"AT6+1","v":20},null,{"$f":"AV6+1","v":21},null,"-",{"$f":"AX6+1","v":22},null,{"$f":"BA6+1","v":23},null,{"$f":"BC6+1","v":24},null,"-",{"$f":"BE6+1","v":25},null,{"$f":"BH6+1","v":26},null,{"$f":"BJ6+1","v":27},null,"-",{"$f":"BL6+1","v":28},null,{"$f":"BO6+1","v":29},null,{"$f":"BQ6+1","v":30},null,"-",{"$f":"BS6+1","v":31},null,{"$f":"BV6+1","v":32},null,{"$f":"BX6+1","v":33},null,"-",{"$f":"BZ6+1","v":34},null,{"$f":"CC6+1","v":35},null,{"$f":"CE6+1","v":36},null,"-",{"$f":"CG6+1","v":37},null,{"$f":"CJ6+1","v":38},null,{"$f":"CL6+1","v":39},null,"-",{"$f":"CN6+1","v":40},null,{"$f":"CQ6+1","v":41},null,{"$f":"CS6+1","v":42},null,"-",{"$f":"CU6+1","v":43},null,{"$f":"CX6+1","v":44},null,{"$f":"CZ6+1","v":45},null,"-",{"$f":"DB6+1","v":46},null,{"$f":"DE6+1","v":47},null,{"$f":"DG6+1","v":48},null,"-",{"$f":"DI6+1","v":49},null,{"$f":"DL6+1","v":50},null,{"$f":"DN6+1","v":51},null,"-",{"$f":"DP6+1","v":52},null,{"$f":"DS6+1","v":53},null,{"$f":"DU6+1","v":54},null,"-",{"$f":"DW6+1","v":55},null,{"$f":"DZ6+1","v":56},null,{"$f":"EB6+1","v":57},null,"-",{"$f":"ED6+1","v":58},null,{"$f":"EG6+1","v":59},null,{"$f":"EI6+1","v":60},null,"-",{"$f":"EK6+1","v":61},null,{"$f":"EN6+1","v":62},null,{"$f":"EP6+1","v":63},null,"-",{"$f":"ER6+1","v":64},null,{"$f":"EU6+1","v":65},null,{"$f":"EW6+1","v":66},null,"-",{"$f":"EY6+1","v":67},null,{"$f":"FB6+1","v":68},null,{"$f":"FD6+1","v":69},null,"-",{"$f":"FF6+1","v":70},null,{"$f":"FI6+1","v":71},null,{"$f":"FK6+1","v":72},null,"-"]
["NO. URUT","NAMA SISWA","NIS",2,{"$f":"D7+1","v":3},4,5,6,7,8,9,10,11,12,13,14,15,16,17,18,19,20,21,22,23,24,25,26,27,28,29,30,31,32,33,34,35,36,37,38,39,40,41,42,43,44,45,46,47,48,49,50,51,52,53,54,55,56,57,58,59,60,61,62,63,64,65,66,{"$f":"BP7+1","v":67},68,69,70,71,72,73,74,75,76,77,78,79,80,81,82,83,84,85,86,87,88,89,90,91,92,93,94,95,96,97,98,99,100,101,102,103,104,105,106,107,108,109,110,111,112,113,114,115,116,117,118,119,120,121,122,123,124,125,126,127,128,129,130,{"$f":"EB7+1","v":131},132,133,134,135,136,137,138,139,140,141,142,143,144,145,146,147,148,149,150,151,152,153,154,155,156,157,158,159,160,161,162,163,164,165,166,167,168,169,170,171,172]
[{"$f":"BIODATA!A5","v":1},{"$f":"BIODATA!C5","v":"ADAM ADIYAT HARTANTO"},{"$f":"BIODATA!D5","v":16170535},1,{"$f":"D8+1","v":2},{"$f":"IF(E8=100,75,E8+1)","v":3},4,5,6,7,8,9,10,11,12,13,14,15,16,17,18,19,20,21,22,23,24,25,26,27,28,29,30,31,32,33,34,35,36,37,38,39,40,41,42,43,44,45,46,47,48,49,50,51,52,53,54,55,56,57,58,59,60,61,62,63,64,65,66,{"$f":"IF(BQ8=100,75,BQ8+1)","v":67},68,69,70,71,72,73,74,75,76,77,78,79,80,81,82,83,84,85,86,87,88,89,90,91,92,93,94,95,96,97,98,99,100,75,76,77,78,79,80,81,82,83,84,85,86,87,88,89,90,91,92,93,94,95,96,97,98,99,100,1,2,3,4,{"$f":"IF(EC8=100,75,EC8+1)","v":5},6,7,8,9,10,11,12,13,14,15,16,17,18,19,20,21,22,23,24,25,26,27,28,29,30,31,32,33,34,35,36,37,38,39,40,41,42]
[{"$f":"BIODATA!A6","v":2},{"$f":"BIODATA!C6","v":"ADAM MAULANA RIZALDI"},{"$f":"BIODATA!D6","v":16170449},11,{"$f":"IF(D9=100,75,D9+1)","v":12},13,14,15,16,17,18,19,20,21,22,23,24,25,26,27,28,29,30,31,32,33,34,35,36,37,38,39,40,41,42,43,44,45,46,47,48,49,50,51,52,53,54,55,56,57,58,59,60,61,62,63,64,65,66,67,68,69,70,71,72,73,74,75,76,77,78,79,80,81,82,83,84,85,86,87,88,89,90,91,92,93,94,95,96,97,98,99,100,75,76,77,78,79,80,81,82,83,84,85,86,87,88,89,90,91,92,93,94,95,96,97,98,99,100,75,76,77,78,79,80,81,82,83,84,85,86,87,88,89,90,91,92,93,94,95,96,97,98,99,100,75,76,77,78,79,80,81,82,83,84,85,86,87,88,89,90,91,92,93,94,95,96,97,98,99,100]
[{"$f":"BIODATA!A7","v":3},{"$f":"BIODATA!C7","v":"BAGAS ADJI PRIANTOMO"},{"$f":"BIODATA!D7","v":16170371},75,76,77,78,79,80,81,82,83,84,85,86,87,88,89,90,91,92,93,94,95,96,97,98,99,100,75,76,77,78,79,80,81,82,83,84,85,86,87,88,89,90,91,92,93,94,95,96,97,98,99,100,75,76,77,78,79,80,81,82,83,84,85,86,87,88,89,90,91,92,93,94,95,96,97,98,99,100,75,76,77,78,79,80,81,82,83,84,85,86,87,88,89,90,91,92,93,94,95,96,97,98,99,100,75,76,77,78,79,80,81,82,83,84,85,86,87,88,89,90,91,92,93,94,95,96,97,98,99,100,75,76,77,78,79,80,81,82,83,84,85,86,87,88,89,90,91,92,93,94,95,96,97,98,99,100,75,76,77,78,79,80,81,82,83,84,85,86]
[{"$f":"BIODATA!A8","v":4},{"$f":"BIODATA!C8","v":"CARWAN HIDAYAT"},{"$f":"BIODATA!D8","v":16170585}]
[{"$f":"BIODATA!A9","v":5},{"$f":"BIODATA!C9","v":"CEPI YANWARI"},{"$f":"BIODATA!D9","v":16170586}]
[{"$f":"BIODATA!A10","v":6},{"$f":"BIODATA!C10","v":"DEDE MAULANA RUSDIANTA"},{"$f":"BIODATA!D10","v":16170414}]
[{"$f":"BIODATA!A11","v":7},{"$f":"BIODATA!C11","v":"DEDI ROCHMAN"},{"$f":"BIODATA!D11","v":16170457}]
[{"$f":"BIODATA!A12","v":8},{"$f":"BIODATA!C12","v":"DIMAS YOGA AJI SETIAWAN"},{"$f":"BIODATA!D12","v":16170546}]
[{"$f":"BIODATA!A13","v":9},{"$f":"BIODATA!C13","v":"ERIK PRIHASABA PEBRIANSYAH"},{"$f":"BIODATA!D13","v":16170547}]
[{"$f":"BIODATA!A14","v":10},{"$f":"BIODATA!C14","v":"GALIH RAKASIWI"},{"$f":"BIODATA!D14","v":16170464}]
[{"$f":"BIODATA!A15","v":11},{"$f":"BIODATA!C15","v":"JOHANI"},{"$f":"BIODATA!D15","v":16170468}]
[{"$f":"BIODATA!A16","v":12},{"$f":"BIODATA!C16","v":"LATHIF FERIANSYAH"},{"$f":"BIODATA!D16","v":16170675}]
[{"$f":"BIODATA!A17","v":13},{"$f":"BIODATA!C17","v":"MAULANA JUHRI"},{"$f":"BIODATA!D17","v":16170423}]
[{"$f":"BIODATA!A18","v":14},{"$f":"BIODATA!C18","v":"MOHAMMAD HERRY ALFAJRI"},{"$f":"BIODATA!D18","v":16170473}]
[{"$f":"BIODATA!A19","v":15},{"$f":"BIODATA!C19","v":"MUHAMAD SIDI"},{"$f":"BIODATA!D19","v":16170426}]
[{"$f":"BIODATA!A20","v":16},{"$f":"BIODATA!C20","v":"MUHAMMAD ARDI RUHYAT"},{"$f":"BIODATA!D20","v":16170427}]
[{"$f":"BIODATA!A21","v":17},{"$f":"BIODATA!C21","v":"MUHAMMAD FIKRI AWALUDIN"},{"$f":"BIODATA!D21","v":16170429}]
[{"$f":"BIODATA!A22","v":18},{"$f":"BIODATA!C22","v":"MUHAMMAD PADILAH"},{"$f":"BIODATA!D22","v":16170428}]
[{"$f":"BIODATA!A23","v":19},{"$f":"BIODATA!C23","v":"MUHIBU FATHURROHMAN"},{"$f":"BIODATA!D23","v":16170430}]
[{"$f":"BIODATA!A24","v":20},{"$f":"BIODATA!C24","v":"OKKE KINDI ADI PANGESTU"},{"$f":"BIODATA!D24","v":16170391}]
[{"$f":"BIODATA!A25","v":21},{"$f":"BIODATA!C25","v":"RAMADHAN"},{"$f":"BIODATA!D25","v":"16170480"}]
[{"$f":"BIODATA!A26","v":22},{"$f":"BIODATA!C26","v":"RENDY RAHMADI"},{"$f":"BIODATA!D26","v":16170683}]
[{"$f":"BIODATA!A27","v":23},{"$f":"BIODATA!C27","v":"RIFAN BAGUS ALDIANSYAH"},{"$f":"BIODATA!D27","v":16170433}]
[{"$f":"BIODATA!A28","v":24},{"$f":"BIODATA!C28","v":"RIVAL MAULANA"},{"$f":"BIODATA!D28","v":16170601}]
[{"$f":"BIODATA!A29","v":25},{"$f":"BIODATA!C29","v":"RIZKY FADHILAH"},{"$f":"BIODATA!D29","v":16170643}]
[{"$f":"BIODATA!A30","v":26},{"$f":"BIODATA!C30","v":"ROHMADI MUCHTAR"},{"$f":"BIODATA!D30","v":16170642}]
[{"$f":"BIODATA!A31","v":27},{"$f":"BIODATA!C31","v":"TANGGUH PRASETIA SUHARNA"},{"$f":"BIODATA!D31","v":16170605}]
[{"$f":"BIODATA!A32","v":28},{"$f":"BIODATA!C32","v":"TARIZ MAULIZIDANE FAZILLA"},{"$f":"BIODATA!D32","v":16170606}]
[{"$f":"BIODATA!A33","v":29},{"$f":"BIODATA!C33","v":"TUBAGUS AJANG SUMBOGA"},{"$f":"BIODATA!D33","v":16170443}]
[{"$f":"BIODATA!A34","v":30},{"$f":"BIODATA!C34","v":"WIKSAN ZUJALIS"},{"$f":"BIODATA!D34","v":16170611}]
[{"$f":"BIODATA!A35","v":31},{"$f":"BIODATA!C35","v":"YUNAN DWI SASONGKO"},{"$f":"BIODATA!D35","v":16170448}]
[{"$f":"BIODATA!A36","v":"-"},{"$f":"BIODATA!C36","v":0},{"$f":"BIODATA!D36","v":0}]
[{"$f":"BIODATA!A37","v":"-"},{"$f":"BIODATA!C37","v":0},{"$f":"BIODATA!D37","v":0}]
[{"$f":"BIODATA!A38","v":"-"},{"$f":"BIODATA!C38","v":0},{"$f":"BIODATA!D38","v":0}]
[{"$f":"BIODATA!A39","v":"-"},{"$f":"BIODATA!C39","v":0},{"$f":"BIODATA!D39","v":0}]
[{"$f":"BIODATA!A40","v":"-"},{"$f":"BIODATA!C40","v":0},{"$f":"BIODATA!D40","v":0}]
[]
[]
[]
[]
[]
[]
[]
[]
[]
[]
[]
[]
[]
[]
[]
[]
[]
[]
[]
[]
[]
[null,null,null,3.59]
[null,null,null,3.59]
[null,null,null,3.5]
[null,null,null,3.48]
[null,null,null,3.54]
[null,null,null,3.39]
[null,null,null,3.45]
[null,null,null,3.45]
[null,null,null,3.29]
[null,null,null,3.45]
[null,null,null,3.45]
[null,null,null,3.45]

{"sheet":"NILSM2","index":26,"n_rows":76,"n_cols":174,"rows_kept":76,"cut":false,"hidden":false,"merged":[[1,0,1,1]]}
[null,null,"NIS","PABT1","PABU1","PABT2","PABU2","PABT3","PABU3","PABH","PKNT1","PKNU1","PKNT2","PKNU2","PKNT3","PKNU3","PKNH","INDT1","INDU1","INDT2","INDU2","INDT3","INDU3","INDH","MTKT1","MTKU1","MTKT2","MTKU2","MTKT3","MTKU3","MTKH","SJIT1","SJIU1","SJIT2","SJIU2","SJIT3","SJIU3","SJIH","INGT1","INGU1","INGT2","INGU2","INGT3","INGU3","INGH","JERT1","JERU1","JERT2","JERU2","JERT3","JERU3","JERH","SBDT1","SBDU1","SBDT2","SBDU2","SBDT3","SBDU3","SBDH","PJOT1","PJOU1","PJOT2","PJOU2","PJOT3","PJOU3","PJOH","SKDT1","SKDU1","SKDT2","SKDU2","SKDT3","SKDU3","SKDH","FIST1","FISU1","FIST2","FISU2","FIST3","FISU3","FISH","KIMT1","KIMU1","KIMT2","KIMU2","KIMT3","KIMU3","KIMH","C21T1","C21U1","C21T2","C21U2","C21T3","C21U3","C21H","C22T1","C22U1","C22T2","C22U2","C22T3","C22U3","C22H","C23T1","C23U1","C23T2","C23U2","C23T3","C23U3","C23H","C24T1","C24U1","C24T2","C24U2","C24T3","C24U3","C24H","C31T1","C31U1","C31T2","C31U2","C31T3","C31U3","C31H","C32T1","C32U1","C32T2","C32U2","C32T3","C32U3","C32H","C33T1","C33U1","C33T2","C33U2","C33T3","C33U3","C33H","C34T1","C34U1","C34T2","C34U2","C34T3","C34U3","C34H","C35T1","C35U1","C35T2","C35U2","C35T3","C35U3","C35H","C36T1","C36U1","C36T2","C36U2","C36T3","C36U3","C36H","SUNT1","SUNU1","SUNT2","SUNU2","SUNT3","SUNU3","SUNH","PLHT1","PLHU1","PLHT2","PLHU2","PLHT3","PLHU3","PLHH",null,"BKN","CTT"]
[{"$f":"\"INPUT NILAI CAPAIAN KOMPETENSI TP \"&TITIMANGSA!D3","v":"INPUT NILAI CAPAIAN KOMPETENSI TP 2020 / 2021"},null,"                    NAMA MAPEL",{"$f":"IF(OR($B$3=\"1 (satu)\",$B$3=\"2 (dua)\"),HLOOKUP($C$3,TABMAPEL_X,DBLOGIC!Q2,FALSE),IF(OR($B$3=\"3 (tiga)\",$B$3=\"4 (empat)\"),HLOOKUP($C$3,TABMAPEL_XI,DBLOGIC!Q2,FALSE),IF(OR($B$3=\"5 (lima)\",$B$3=\"6 (enam)\"),HLOOKUP($C$3,TABMAPEL_XII,DBLOGIC!Q2,FALSE),IF(OR($B$3=\"7 (tujuh)\",$B$3=\"8 (delapan)\"),HLOOKUP($C$3,TABMAPEL_XIII,DBLOGIC!Q2,FALSE),0))))","v":"Pendidikan Agama dan Budi Pekerti"},{"$f":"IF(OR($B$3=\"1 (satu)\",$B$3=\"2 (dua)\"),HLOOKUP($C$3,TABMAPEL_X,DBLOGIC!R2,FALSE),IF(OR($B$3=\"3 (tiga)\",$B$3=\"4 (empat)\"),HLOOKUP($C$3,TABMAPEL_XI,DBLOGIC!R2,FALSE),IF(OR($B$3=\"5 (lima)\",$B$3=\"6 (enam)\"),HLOOKUP($C$3,TABMAPEL_XII,DBLOGIC!R2,FALSE),IF(OR($B$3=\"7 (tujuh)\",$B$3=\"8 (delapan)\"),HLOOKUP($C$3,TABMAPEL_XIII,DBLOGIC!R2,FALSE),0))))","v":"Pendidikan Agama dan Budi Pekerti"},{"$f":"IF(OR($B$3=\"1 (satu)\",$B$3=\"2 (dua)\"),HLOOKUP($C$3,TABMAPEL_X,DBLOGIC!S2,FALSE),IF(OR($B$3=\"3 (tiga)\",$B$3=\"4 (empat)\"),HLOOKUP($C$3,TABMAPEL_XI,DBLOGIC!S2,FALSE),IF(OR($B$3=\"5 (lima)\",$B$3=\"6 (enam)\"),HLOOKUP($C$3,TABMAPEL_XII,DBLOGIC!S2,FALSE),IF(OR($B$3=\"7 (tujuh)\",$B$3=\"8 (delapan)\"),HLOOKUP($C$3,TABMAPEL_XIII,DBLOGIC!S2,FALSE),0))))","v":"Pendidikan Agama dan Budi Pekerti"},{"$f":"IF(OR($B$3=\"1 (satu)\",$B$3=\"2 (dua)\"),HLOOKUP($C$3,TABMAPEL_X,DBLOGIC!T2,FALSE),IF(OR($B$3=\"3 (tiga)\",$B$3=\"4 (empat)\"),HLOOKUP($C$3,TABMAPEL_XI,DBLOGIC!T2,FALSE),IF(OR($B$3=\"5 (lima)\",$B$3=\"6 (enam)\"),HLOOKUP($C$3,TABMAPEL_XII,DBLOGIC!T2,FALSE),IF(OR($B$3=\"7 (tujuh)\",$B$3=\"8 (delapan)\"),HLOOKUP($C$3,TABMAPEL_XIII,DBLOGIC!T2,FALSE),0))))","v":"Pendidikan Agama dan Budi Pekerti"},{"$f":"IF(OR($B$3=\"1 (satu)\",$B$3=\"2 (dua)\"),HLOOKUP($C$3,TABMAPEL_X,DBLOGIC!U2,FALSE),IF(OR($B$3=\"3 (tiga)\",$B$3=\"4 (empat)\"),HLOOKUP($C$3,TABMAPEL_XI,DBLOGIC!U2,FALSE),IF(OR($B$3=\"5 (lima)\",$B$3=\"6 (enam)\"),HLOOKUP($C$3,TABMAPEL_XII,DBLOGIC!U2,FALSE),IF(OR($B$3=\"7 (tujuh)\",$B$3=\"8 (delapan)\"),HLOOKUP($C$3,TABMAPEL_XIII,DBLOGIC!U2,FALSE),0))))","v":"Pendidikan Agama dan Budi Pekerti"},{"$f":"IF(OR($B$3=\"1 (satu)\",$B$3=\"2 (dua)\"),HLOOKUP($C$3,TABMAPEL_X,DBLOGIC!V2,FALSE),IF(OR($B$3=\"3 (tiga)\",$B$3=\"4 (empat)\"),HLOOKUP($C$3,TABMAPEL_XI,DBLOGIC!V2,FALSE),IF(OR($B$3=\"5 (lima)\",$B$3=\"6 (enam)\"),HLOOKUP($C$3,TABMAPEL_XII,DBLOGIC!V2,FALSE),IF(OR($B$3=\"7 (tujuh)\",$B$3=\"8 (delapan)\"),HLOOKUP($C$3,TABMAPEL_XIII,DBLOGIC!V2,FALSE),0))))","v":"Pendidikan Agama dan Budi Pekerti"},{"$f":"IF(OR($B$3=\"1 (satu)\",$B$3=\"2 (dua)\"),HLOOKUP($C$3,TABMAPEL_X,DBLOGIC!W2,FALSE),IF(OR($B$3=\"3 (tiga)\",$B$3=\"4 (empat)\"),HLOOKUP($C$3,TABMAPEL_XI,DBLOGIC!W2,FALSE),IF(OR($B$3=\"5 (lima)\",$B$3=\"6 (enam)\"),HLOOKUP($C$3,TABMAPEL_XII,DBLOGIC!W2,FALSE),IF(OR($B$3=\"7 (tujuh)\",$B$3=\"8 (delapan)\"),HLOOKUP($C$3,TABMAPEL_XIII,DBLOGIC!W2,FALSE),0))))","v":"Pendidikan Agama dan Budi Pekerti"},{"$f":"IF(OR($B$3=\"1 (satu)\",$B$3=\"2 (dua)\"),HLOOKUP($C$3,TABMAPEL_X,DBLOGIC!X2,FALSE),IF(OR($B$3=\"3 (tiga)\",$B$3=\"4 (empat)\"),HLOOKUP($C$3,TABMAPEL_XI,DBLOGIC!X2,FALSE),IF(OR($B$3=\"5 (lima)\",$B$3=\"6 (enam)\"),HLOOKUP($C$3,TABMAPEL_XII,DBLOGIC!X2,FALSE),IF(OR($B$3=\"7 (tujuh)\",$B$3=\"8 (delapan)\"),HLOOKUP($C$3,TABMAPEL_XIII,DBLOGIC!X2,FALSE),0))))","v":"Pendidikan Pancasila dan Kewarganegaraan"},{"$f":"IF(OR($B$3=\"1 (satu)\",$B$3=\"2 (dua)\"),HLOOKUP($C$3,TABMAPEL_X,DBLOGIC!Y2,FALSE),IF(OR($B$3=\"3 (tiga)\",$B$3=\"4 (empat)\"),HLOOKUP($C$3,TABMAPEL_XI,DBLOGIC!Y2,FALSE),IF(OR($B$3=\"5 (lima)\",$B$3=\"6 (enam)\"),HLOOKUP($C$3,TABMAPEL_XII,DBLOGIC!Y2,FALSE),IF(OR($B$3=\"7 (tujuh)\",$B$3=\"8 (delapan)\"),HLOOKUP($C$3,TABMAPEL_XIII,DBLOGIC!Y2,FALSE),0))))","v":"Pendidikan Pancasila dan Kewarganegaraan"},{"$f":"IF(OR($B$3=\"1 (satu)\",$B$3=\"2 (dua)\"),HLOOKUP($C$3,TABMAPEL_X,DBLOGIC!Z2,FALSE),IF(OR($B$3=\"3 (tiga)\",$B$3=\"4 (empat)\"),HLOOKUP($C$3,TABMAPEL_XI,DBLOGIC!Z2,FALSE),IF(OR($B$3=\"5 (lima)\",$B$3=\"6 (enam)\"),HLOOKUP($C$3,TABMAPEL_XII,DBLOGIC!Z2,FALSE),IF(OR($B$3=\"7 (tujuh)\",$B$3=\"8 (delapan)\"),HLOOKUP($C$3,TABMAPEL_XIII,DBLOGIC!Z2,FALSE),0))))","v":"Pendidikan Pancasila dan Kewarganegaraan"},{"$f":"IF(OR($B$3=\"1 (satu)\",$B$3=\"2 (dua)\"),HLOOKUP($C$3,TABMAPEL_X,DBLOGIC!AA2,FALSE),IF(OR($B$3=\"3 (tiga)\",$B$3=\"4 (empat)\"),HLOOKUP($C$3,TABMAPEL_XI,DBLOGIC!AA2,FALSE),IF(OR($B$3=\"5 (lima)\",$B$3=\"6 (enam)\"),HLOOKUP($C$3,TABMAPEL_XII,DBLOGIC!AA2,FALSE),IF(OR($B$3=\"7 (tujuh)\",$B$3=\"8 (delapan)\"),HLOOKUP($C$3,TABMAPEL_XIII,DBLOGIC!AA2,FALSE),0))))","v":"Pendidikan Pancasila dan Kewarganegaraan"},{"$f":"IF(OR($B$3=\"1 (satu)\",$B$3=\"2 (dua)\"),HLOOKUP($C$3,TABMAPEL_X,DBLOGIC!AB2,FALSE),IF(OR($B$3=\"3 (tiga)\",$B$3=\"4 (empat)\"),HLOOKUP($C$3,TABMAPEL_XI,DBLOGIC!AB2,FALSE),IF(OR($B$3=\"5 (lima)\",$B$3=\"6 (enam)\"),HLOOKUP($C$3,TABMAPEL_XII,DBLOGIC!AB2,FALSE),IF(OR($B$3=\"7 (tujuh)\",$B$3=\"8 (delapan)\"),HLOOKUP($C$3,TABMAPEL_XIII,DBLOGIC!AB2,FALSE),0))))","v":"Pendidikan Pancasila dan Kewarganegaraan"},{"$f":"IF(OR($B$3=\"1 (satu)\",$B$3=\"2 (dua)\"),HLOOKUP($C$3,TABMAPEL_X,DBLOGIC!AC2,FALSE),IF(OR($B$3=\"3 (tiga)\",$B$3=\"4 (empat)\"),HLOOKUP($C$3,TABMAPEL_XI,DBLOGIC!AC2,FALSE),IF(OR($B$3=\"5 (lima)\",$B$3=\"6 (enam)\"),HLOOKUP($C$3,TABMAPEL_XII,DBLOGIC!AC2,FALSE),IF(OR($B$3=\"7 (tujuh)\",$B$3=\"8 (delapan)\"),HLOOKUP($C$3,TABMAPEL_XIII,DBLOGIC!AC2,FALSE),0))))","v":"Pendidikan Pancasila dan Kewarganegaraan"},{"$f":"IF(OR($B$3=\"1 (satu)\",$B$3=\"2 (dua)\"),HLOOKUP($C$3,TABMAPEL_X,DBLOGIC!AD2,FALSE),IF(OR($B$3=\"3 (tiga)\",$B$3=\"4 (empat)\"),HLOOKUP($C$3,TABMAPEL_XI,DBLOGIC!AD2,FALSE),IF(OR($B$3=\"5 (lima)\",$B$3=\"6 (enam)\"),HLOOKUP($C$3,TABMAPEL_XII,DBLOGIC!AD2,FALSE),IF(OR($B$3=\"7 (tujuh)\",$B$3=\"8 (delapan)\"),HLOOKUP($C$3,TABMAPEL_XIII,DBLOGIC!AD2,FALSE),0))))","v":"Pendidikan Pancasila dan Kewarganegaraan"},{"$f":"IF(OR($B$3=\"1 (satu)\",$B$3=\"2 (dua)\"),HLOOKUP($C$3,TABMAPEL_X,DBLOGIC!AE2,FALSE),IF(OR($B$3=\"3 (tiga)\",$B$3=\"4 (empat)\"),HLOOKUP($C$3,TABMAPEL_XI,DBLOGIC!AE2,FALSE),IF(OR($B$3=\"5 (lima)\",$B$3=\"6 (enam)\"),HLOOKUP($C$3,TABMAPEL_XII,DBLOGIC!AE2,FALSE),IF(OR($B$3=\"7 (tujuh)\",$B$3=\"8 (delapan)\"),HLOOKUP($C$3,TABMAPEL_XIII,DBLOGIC!AE2,FALSE),0))))","v":"Bahasa Indonesia"},{"$f":"IF(OR($B$3=\"1 (satu)\",$B$3=\"2 (dua)\"),HLOOKUP($C$3,TABMAPEL_X,DBLOGIC!AF2,FALSE),IF(OR($B$3=\"3 (tiga)\",$B$3=\"4 (empat)\"),HLOOKUP($C$3,TABMAPEL_XI,DBLOGIC!AF2,FALSE),IF(OR($B$3=\"5 (lima)\",$B$3=\"6 (enam)\"),HLOOKUP($C$3,TABMAPEL_XII,DBLOGIC!AF2,FALSE),IF(OR($B$3=\"7 (tujuh)\",$B$3=\"8 (delapan)\"),HLOOKUP($C$3,TABMAPEL_XIII,DBLOGIC!AF2,FALSE),0))))","v":"Bahasa Indonesia"},{"$f":"IF(OR($B$3=\"1 (satu)\",$B$3=\"2 (dua)\"),HLOOKUP($C$3,TABMAPEL_X,DBLOGIC!AG2,FALSE),IF(OR($B$3=\"3 (tiga)\",$B$3=\"4 (empat)\"),HLOOKUP($C$3,TABMAPEL_XI,DBLOGIC!AG2,FALSE),IF(OR($B$3=\"5 (lima)\",$B$3=\"6 (enam)\"),HLOOKUP($C$3,TABMAPEL_XII,DBLOGIC!AG2,FALSE),IF(OR($B$3=\"7 (tujuh)\",$B$3=\"8 (delapan)\"),HLOOKUP($C$3,TABMAPEL_XIII,DBLOGIC!AG2,FALSE),0))))","v":"Bahasa Indonesia"},{"$f":"IF(OR($B$3=\"1 (satu)\",$B$3=\"2 (dua)\"),HLOOKUP($C$3,TABMAPEL_X,DBLOGIC!AH2,FALSE),IF(OR($B$3=\"3 (tiga)\",$B$3=\"4 (empat)\"),HLOOKUP($C$3,TABMAPEL_XI,DBLOGIC!AH2,FALSE),IF(OR($B$3=\"5 (lima)\",$B$3=\"6 (enam)\"),HLOOKUP($C$3,TABMAPEL_XII,DBLOGIC!AH2,FALSE),IF(OR($B$3=\"7 (tujuh)\",$B$3=\"8 (delapan)\"),HLOOKUP($C$3,TABMAPEL_XIII,DBLOGIC!AH2,FALSE),0))))","v":"Bahasa Indonesia"},{"$f":"IF(OR($B$3=\"1 (satu)\",$B$3=\"2 (dua)\"),HLOOKUP($C$3,TABMAPEL_X,DBLOGIC!AI2,FALSE),IF(OR($B$3=\"3 (tiga)\",$B$3=\"4 (empat)\"),HLOOKUP($C$3,TABMAPEL_XI,DBLOGIC!AI2,FALSE),IF(OR($B$3=\"5 (lima)\",$B$3=\"6 (enam)\"),HLOOKUP($C$3,TABMAPEL_XII,DBLOGIC!AI2,FALSE),IF(OR($B$3=\"7 (tujuh)\",$B$3=\"8 (delapan)\"),HLOOKUP($C$3,TABMAPEL_XIII,DBLOGIC!AI2,FALSE),0))))","v":"Bahasa Indonesia"},{"$f":"IF(OR($B$3=\"1 (satu)\",$B$3=\"2 (dua)\"),HLOOKUP($C$3,TABMAPEL_X,DBLOGIC!AJ2,FALSE),IF(OR($B$3=\"3 (tiga)\",$B$3=\"4 (empat)\"),HLOOKUP($C$3,TABMAPEL_XI,DBLOGIC!AJ2,FALSE),IF(OR($B$3=\"5 (lima)\",$B$3=\"6 (enam)\"),HLOOKUP($C$3,TABMAPEL_XII,DBLOGIC!AJ2,FALSE),IF(OR($B$3=\"7 (tujuh)\",$B$3=\"8 (delapan)\"),HLOOKUP($C$3,TABMAPEL_XIII,DBLOGIC!AJ2,FALSE),0))))","v":"Bahasa Indonesia"},{"$f":"IF(OR($B$3=\"1 (satu)\",$B$3=\"2 (dua)\"),HLOOKUP($C$3,TABMAPEL_X,DBLOGIC!AK2,FALSE),IF(OR($B$3=\"3 (tiga)\",$B$3=\"4 (empat)\"),HLOOKUP($C$3,TABMAPEL_XI,DBLOGIC!AK2,FALSE),IF(OR($B$3=\"5 (lima)\",$B$3=\"6 (enam)\"),HLOOKUP($C$3,TABMAPEL_XII,DBLOGIC!AK2,FALSE),IF(OR($B$3=\"7 (tujuh)\",$B$3=\"8 (delapan)\"),HLOOKUP($C$3,TABMAPEL_XIII,DBLOGIC!AK2,FALSE),0))))","v":"Bahasa Indonesia"},{"$f":"IF(OR($B$3=\"1 (satu)\",$B$3=\"2 (dua)\"),HLOOKUP($C$3,TABMAPEL_X,DBLOGIC!AL2,FALSE),IF(OR($B$3=\"3 (tiga)\",$B$3=\"4 (empat)\"),HLOOKUP($C$3,TABMAPEL_XI,DBLOGIC!AL2,FALSE),IF(OR($B$3=\"5 (lima)\",$B$3=\"6 (enam)\"),HLOOKUP($C$3,TABMAPEL_XII,DBLOGIC!AL2,FALSE),IF(OR($B$3=\"7 (tujuh)\",$B$3=\"8 (delapan)\"),HLOOKUP($C$3,TABMAPEL_XIII,DBLOGIC!AL2,FALSE),0))))","v":"Matematika"},{"$f":"IF(OR($B$3=\"1 (satu)\",$B$3=\"2 (dua)\"),HLOOKUP($C$3,TABMAPEL_X,DBLOGIC!AM2,FALSE),IF(OR($B$3=\"3 (tiga)\",$B$3=\"4 (empat)\"),HLOOKUP($C$3,TABMAPEL_XI,DBLOGIC!AM2,FALSE),IF(OR($B$3=\"5 (lima)\",$B$3=\"6 (enam)\"),HLOOKUP($C$3,TABMAPEL_XII,DBLOGIC!AM2,FALSE),IF(OR($B$3=\"7 (tujuh)\",$B$3=\"8 (delapan)\"),HLOOKUP($C$3,TABMAPEL_XIII,DBLOGIC!AM2,FALSE),0))))","v":"Matematika"},{"$f":"IF(OR($B$3=\"1 (satu)\",$B$3=\"2 (dua)\"),HLOOKUP($C$3,TABMAPEL_X,DBLOGIC!AN2,FALSE),IF(OR($B$3=\"3 (tiga)\",$B$3=\"4 (empat)\"),HLOOKUP($C$3,TABMAPEL_XI,DBLOGIC!AN2,FALSE),IF(OR($B$3=\"5 (lima)\",$B$3=\"6 (enam)\"),HLOOKUP($C$3,TABMAPEL_XII,DBLOGIC!AN2,FALSE),IF(OR($B$3=\"7 (tujuh)\",$B$3=\"8 (delapan)\"),HLOOKUP($C$3,TABMAPEL_XIII,DBLOGIC!AN2,FALSE),0))))","v":"Matematika"},{"$f":"IF(OR($B$3=\"1 (satu)\",$B$3=\"2 (dua)\"),HLOOKUP($C$3,TABMAPEL_X,DBLOGIC!AO2,FALSE),IF(OR($B$3=\"3 (tiga)\",$B$3=\"4 (empat)\"),HLOOKUP($C$3,TABMAPEL_XI,DBLOGIC!AO2,FALSE),IF(OR($B$3=\"5 (lima)\",$B$3=\"6 (enam)\"),HLOOKUP($C$3,TABMAPEL_XII,DBLOGIC!AO2,FALSE),IF(OR($B$3=\"7 (tujuh)\",$B$3=\"8 (delapan)\"),HLOOKUP($C$3,TABMAPEL_XIII,DBLOGIC!AO2,FALSE),0))))","v":"Matematika"},{"$f":"IF(OR($B$3=\"1 (satu)\",$B$3=\"2 (dua)\"),HLOOKUP($C$3,TABMAPEL_X,DBLOGIC!AP2,FALSE),IF(OR($B$3=\"3 (tiga)\",$B$3=\"4 (empat)\"),HLOOKUP($C$3,TABMAPEL_XI,DBLOGIC!AP2,FALSE),IF(OR($B$3=\"5 (lima)\",$B$3=\"6 (enam)\"),HLOOKUP($C$3,TABMAPEL_XII,DBLOGIC!AP2,FALSE),IF(OR($B$3=\"7 (tujuh)\",$B$3=\"8 (delapan)\"),HLOOKUP($C$3,TABMAPEL_XIII,DBLOGIC!AP2,FALSE),0))))","v":"Matematika"},{"$f":"IF(OR($B$3=\"1 (satu)\",$B$3=\"2 (dua)\"),HLOOKUP($C$3,TABMAPEL_X,DBLOGIC!AQ2,FALSE),IF(OR($B$3=\"3 (tiga)\",$B$3=\"4 (empat)\"),HLOOKUP($C$3,TABMAPEL_XI,DBLOGIC!AQ2,FALSE),IF(OR($B$3=\"5 (lima)\",$B$3=\"6 (enam)\"),HLOOKUP($C$3,TABMAPEL_XII,DBLOGIC!AQ2,FALSE),IF(OR($B$3=\"7 (tujuh)\",$B$3=\"8 (delapan)\"),HLOOKUP($C$3,TABMAPEL_XIII,DBLOGIC!AQ2,FALSE),0))))","v":"Matematika"},{"$f":"IF(OR($B$3=\"1 (satu)\",$B$3=\"2 (dua)\"),HLOOKUP($C$3,TABMAPEL_X,DBLOGIC!AR2,FALSE),IF(OR($B$3=\"3 (tiga)\",$B$3=\"4 (empat)\"),HLOOKUP($C$3,TABMAPEL_XI,DBLOGIC!AR2,FALSE),IF(OR($B$3=\"5 (lima)\",$B$3=\"6 (enam)\"),HLOOKUP($C$3,TABMAPEL_XII,DBLOGIC!AR2,FALSE),IF(OR($B$3=\"7 (tujuh)\",$B$3=\"8 (delapan)\"),HLOOKUP($C$3,TABMAPEL_XIII,DBLOGIC!AR2,FALSE),0))))","v":"Matematika"},{"$f":"IF(OR($B$3=\"1 (satu)\",$B$3=\"2 (dua)\"),HLOOKUP($C$3,TABMAPEL_X,DBLOGIC!AS2,FALSE),IF(OR($B$3=\"3 (tiga)\",$B$3=\"4 (empat)\"),HLOOKUP($C$3,TABMAPEL_XI,DBLOGIC!AS2,FALSE),IF(OR($B$3=\"5 (lima)\",$B$3=\"6 (enam)\"),HLOOKUP($C$3,TABMAPEL_XII,DBLOGIC!AS2,FALSE),IF(OR($B$3=\"7 (tujuh)\",$B$3=\"8 (delapan)\"),HLOOKUP($C$3,TABMAPEL_XIII,DBLOGIC!AS2,FALSE),0))))","v":"Sejarah Indonesia"},{"$f":"IF(OR($B$3=\"1 (satu)\",$B$3=\"2 (dua)\"),HLOOKUP($C$3,TABMAPEL_X,DBLOGIC!AT2,FALSE),IF(OR($B$3=\"3 (tiga)\",$B$3=\"4 (empat)\"),HLOOKUP($C$3,TABMAPEL_XI,DBLOGIC!AT2,FALSE),IF(OR($B$3=\"5 (lima)\",$B$3=\"6 (enam)\"),HLOOKUP($C$3,TABMAPEL_XII,DBLOGIC!AT2,FALSE),IF(OR($B$3=\"7 (tujuh)\",$B$3=\"8 (delapan)\"),HLOOKUP($C$3,TABMAPEL_XIII,DBLOGIC!AT2,FALSE),0))))","v":"Sejarah Indonesia"},{"$f":"IF(OR($B$3=\"1 (satu)\",$B$3=\"2 (dua)\"),HLOOKUP($C$3,TABMAPEL_X,DBLOGIC!AU2,FALSE),IF(OR($B$3=\"3 (tiga)\",$B$3=\"4 (empat)\"),HLOOKUP($C$3,TABMAPEL_XI,DBLOGIC!AU2,FALSE),IF(OR($B$3=\"5 (lima)\",$B$3=\"6 (enam)\"),HLOOKUP($C$3,TABMAPEL_XII,DBLOGIC!AU2,FALSE),IF(OR($B$3=\"7 (tujuh)\",$B$3=\"8 (delapan)\"),HLOOKUP($C$3,TABMAPEL_XIII,DBLOGIC!AU2,FALSE),0))))","v":"Sejarah Indonesia"},{"$f":"IF(OR($B$3=\"1 (satu)\",$B$3=\"2 (dua)\"),HLOOKUP($C$3,TABMAPEL_X,DBLOGIC!AV2,FALSE),IF(OR($B$3=\"3 (tiga)\",$B$3=\"4 (empat)\"),HLOOKUP($C$3,TABMAPEL_XI,DBLOGIC!AV2,FALSE),IF(OR($B$3=\"5 (lima)\",$B$3=\"6 (enam)\"),HLOOKUP($C$3,TABMAPEL_XII,DBLOGIC!AV2,FALSE),IF(OR($B$3=\"7 (tujuh)\",$B$3=\"8 (delapan)\"),HLOOKUP($C$3,TABMAPEL_XIII,DBLOGIC!AV2,FALSE),0))))","v":"Sejarah Indonesia"},{"$f":"IF(OR($B$3=\"1 (satu)\",$B$3=\"2 (dua)\"),HLOOKUP($C$3,TABMAPEL_X,DBLOGIC!AW2,FALSE),IF(OR($B$3=\"3 (tiga)\",$B$3=\"4 (empat)\"),HLOOKUP($C$3,TABMAPEL_XI,DBLOGIC!AW2,FALSE),IF(OR($B$3=\"5 (lima)\",$B$3=\"6 (enam)\"),HLOOKUP($C$3,TABMAPEL_XII,DBLOGIC!AW2,FALSE),IF(OR($B$3=\"7 (tujuh)\",$B$3=\"8 (delapan)\"),HLOOKUP($C$3,TABMAPEL_XIII,DBLOGIC!AW2,FALSE),0))))","v":"Sejarah Indonesia"},{"$f":"IF(OR($B$3=\"1 (satu)\",$B$3=\"2 (dua)\"),HLOOKUP($C$3,TABMAPEL_X,DBLOGIC!AX2,FALSE),IF(OR($B$3=\"3 (tiga)\",$B$3=\"4 (empat)\"),HLOOKUP($C$3,TABMAPEL_XI,DBLOGIC!AX2,FALSE),IF(OR($B$3=\"5 (lima)\",$B$3=\"6 (enam)\"),HLOOKUP($C$3,TABMAPEL_XII,DBLOGIC!AX2,FALSE),IF(OR($B$3=\"7 (tujuh)\",$B$3=\"8 (delapan)\"),HLOOKUP($C$3,TABMAPEL_XIII,DBLOGIC!AX2,FALSE),0))))","v":"Sejarah Indonesia"},{"$f":"IF(OR($B$3=\"1 (satu)\",$B$3=\"2 (dua)\"),HLOOKUP($C$3,TABMAPEL_X,DBLOGIC!AY2,FALSE),IF(OR($B$3=\"3 (tiga)\",$B$3=\"4 (empat)\"),HLOOKUP($C$3,TABMAPEL_XI,DBLOGIC!AY2,FALSE),IF(OR($B$3=\"5 (lima)\",$B$3=\"6 (enam)\"),HLOOKUP($C$3,TABMAPEL_XII,DBLOGIC!AY2,FALSE),IF(OR($B$3=\"7 (tujuh)\",$B$3=\"8 (delapan)\"),HLOOKUP($C$3,TABMAPEL_XIII,DBLOGIC!AY2,FALSE),0))))","v":"Sejarah Indonesia"},{"$f":"IF(OR($B$3=\"1 (satu)\",$B$3=\"2 (dua)\"),HLOOKUP($C$3,TABMAPEL_X,DBLOGIC!AZ2,FALSE),IF(OR($B$3=\"3 (tiga)\",$B$3=\"4 (empat)\"),HLOOKUP($C$3,TABMAPEL_XI,DBLOGIC!AZ2,FALSE),IF(OR($B$3=\"5 (lima)\",$B$3=\"6 (enam)\"),HLOOKUP($C$3,TABMAPEL_XII,DBLOGIC!AZ2,FALSE),IF(OR($B$3=\"7 (tujuh)\",$B$3=\"8 (delapan)\"),HLOOKUP($C$3,TABMAPEL_XIII,DBLOGIC!AZ2,FALSE),0))))","v":"Bahasa Inggris"},{"$f":"IF(OR($B$3=\"1 (satu)\",$B$3=\"2 (dua)\"),HLOOKUP($C$3,TABMAPEL_X,DBLOGIC!BA2,FALSE),IF(OR($B$3=\"3 (tiga)\",$B$3=\"4 (empat)\"),HLOOKUP($C$3,TABMAPEL_XI,DBLOGIC!BA2,FALSE),IF(OR($B$3=\"5 (lima)\",$B$3=\"6 (enam)\"),HLOOKUP($C$3,TABMAPEL_XII,DBLOGIC!BA2,FALSE),IF(OR($B$3=\"7 (tujuh)\",$B$3=\"8 (delapan)\"),HLOOKUP($C$3,TABMAPEL_XIII,DBLOGIC!BA2,FALSE),0))))","v":"Bahasa Inggris"},{"$f":"IF(OR($B$3=\"1 (satu)\",$B$3=\"2 (dua)\"),HLOOKUP($C$3,TABMAPEL_X,DBLOGIC!BB2,FALSE),IF(OR($B$3=\"3 (tiga)\",$B$3=\"4 (empat)\"),HLOOKUP($C$3,TABMAPEL_XI,DBLOGIC!BB2,FALSE),IF(OR($B$3=\"5 (lima)\",$B$3=\"6 (enam)\"),HLOOKUP($C$3,TABMAPEL_XII,DBLOGIC!BB2,FALSE),IF(OR($B$3=\"7 (tujuh)\",$B$3=\"8 (delapan)\"),HLOOKUP($C$3,TABMAPEL_XIII,DBLOGIC!BB2,FALSE),0))))","v":"Bahasa Inggris"},{"$f":"IF(OR($B$3=\"1 (satu)\",$B$3=\"2 (dua)\"),HLOOKUP($C$3,TABMAPEL_X,DBLOGIC!BC2,FALSE),IF(OR($B$3=\"3 (tiga)\",$B$3=\"4 (empat)\"),HLOOKUP($C$3,TABMAPEL_XI,DBLOGIC!BC2,FALSE),IF(OR($B$3=\"5 (lima)\",$B$3=\"6 (enam)\"),HLOOKUP($C$3,TABMAPEL_XII,DBLOGIC!BC2,FALSE),IF(OR($B$3=\"7 (tujuh)\",$B$3=\"8 (delapan)\"),HLOOKUP($C$3,TABMAPEL_XIII,DBLOGIC!BC2,FALSE),0))))","v":"Bahasa Inggris"},{"$f":"IF(OR($B$3=\"1 (satu)\",$B$3=\"2 (dua)\"),HLOOKUP($C$3,TABMAPEL_X,DBLOGIC!BD2,FALSE),IF(OR($B$3=\"3 (tiga)\",$B$3=\"4 (empat)\"),HLOOKUP($C$3,TABMAPEL_XI,DBLOGIC!BD2,FALSE),IF(OR($B$3=\"5 (lima)\",$B$3=\"6 (enam)\"),HLOOKUP($C$3,TABMAPEL_XII,DBLOGIC!BD2,FALSE),IF(OR($B$3=\"7 (tujuh)\",$B$3=\"8 (delapan)\"),HLOOKUP($C$3,TABMAPEL_XIII,DBLOGIC!BD2,FALSE),0))))","v":"Bahasa Inggris"},{"$f":"IF(OR($B$3=\"1 (satu)\",$B$3=\"2 (dua)\"),HLOOKUP($C$3,TABMAPEL_X,DBLOGIC!BE2,FALSE),IF(OR($B$3=\"3 (tiga)\",$B$3=\"4 (empat)\"),HLOOKUP($C$3,TABMAPEL_XI,DBLOGIC!BE2,FALSE),IF(OR($B$3=\"5 (lima)\",$B$3=\"6 (enam)\"),HLOOKUP($C$3,TABMAPEL_XII,DBLOGIC!BE2,FALSE),IF(OR($B$3=\"7 (tujuh)\",$B$3=\"8 (delapan)\"),HLOOKUP($C$3,TABMAPEL_XIII,DBLOGIC!BE2,FALSE),0))))","v":"Bahasa Inggris"},{"$f":"IF(OR($B$3=\"1 (satu)\",$B$3=\"2 (dua)\"),HLOOKUP($C$3,TABMAPEL_X,DBLOGIC!BF2,FALSE),IF(OR($B$3=\"3 (tiga)\",$B$3=\"4 (empat)\"),HLOOKUP($C$3,TABMAPEL_XI,DBLOGIC!BF2,FALSE),IF(OR($B$3=\"5 (lima)\",$B$3=\"6 (enam)\"),HLOOKUP($C$3,TABMAPEL_XII,DBLOGIC!BF2,FALSE),IF(OR($B$3=\"7 (tujuh)\",$B$3=\"8 (delapan)\"),HLOOKUP($C$3,TABMAPEL_XIII,DBLOGIC!BF2,FALSE),0))))","v":"Bahasa Inggris"},{"$f":"IF(OR($B$3=\"1 (satu)\",$B$3=\"2 (dua)\"),HLOOKUP($C$3,TABMAPEL_X,DBLOGIC!BG2,FALSE),IF(OR($B$3=\"3 (tiga)\",$B$3=\"4 (empat)\"),HLOOKUP($C$3,TABMAPEL_XI,DBLOGIC!BG2,FALSE),IF(OR($B$3=\"5 (lima)\",$B$3=\"6 (enam)\"),HLOOKUP($C$3,TABMAPEL_XII,DBLOGIC!BG2,FALSE),IF(OR($B$3=\"7 (tujuh)\",$B$3=\"8 (delapan)\"),HLOOKUP($C$3,TABMAPEL_XIII,DBLOGIC!BG2,FALSE),0))))","v":"-"},{"$f":"IF(OR($B$3=\"1 (satu)\",$B$3=\"2 (dua)\"),HLOOKUP($C$3,TABMAPEL_X,DBLOGIC!BH2,FALSE),IF(OR($B$3=\"3 (tiga)\",$B$3=\"4 (empat)\"),HLOOKUP($C$3,TABMAPEL_XI,DBLOGIC!BH2,FALSE),IF(OR($B$3=\"5 (lima)\",$B$3=\"6 (enam)\"),HLOOKUP($C$3,TABMAPEL_XII,DBLOGIC!BH2,FALSE),IF(OR($B$3=\"7 (tujuh)\",$B$3=\"8 (delapan)\"),HLOOKUP($C$3,TABMAPEL_XIII,DBLOGIC!BH2,FALSE),0))))","v":"-"},{"$f":"IF(OR($B$3=\"1 (satu)\",$B$3=\"2 (dua)\"),HLOOKUP($C$3,TABMAPEL_X,DBLOGIC!BI2,FALSE),IF(OR($B$3=\"3 (tiga)\",$B$3=\"4 (empat)\"),HLOOKUP($C$3,TABMAPEL_XI,DBLOGIC!BI2,FALSE),IF(OR($B$3=\"5 (lima)\",$B$3=\"6 (enam)\"),HLOOKUP($C$3,TABMAPEL_XII,DBLOGIC!BI2,FALSE),IF(OR($B$3=\"7 (tujuh)\",$B$3=\"8 (delapan)\"),HLOOKUP($C$3,TABMAPEL_XIII,DBLOGIC!BI2,FALSE),0))))","v":"-"},{"$f":"IF(OR($B$3=\"1 (satu)\",$B$3=\"2 (dua)\"),HLOOKUP($C$3,TABMAPEL_X,DBLOGIC!BJ2,FALSE),IF(OR($B$3=\"3 (tiga)\",$B$3=\"4 (empat)\"),HLOOKUP($C$3,TABMAPEL_XI,DBLOGIC!BJ2,FALSE),IF(OR($B$3=\"5 (lima)\",$B$3=\"6 (enam)\"),HLOOKUP($C$3,TABMAPEL_XII,DBLOGIC!BJ2,FALSE),IF(OR($B$3=\"7 (tujuh)\",$B$3=\"8 (delapan)\"),HLOOKUP($C$3,TABMAPEL_XIII,DBLOGIC!BJ2,FALSE),0))))","v":"-"},{"$f":"IF(OR($B$3=\"1 (satu)\",$B$3=\"2 (dua)\"),HLOOKUP($C$3,TABMAPEL_X,DBLOGIC!BK2,FALSE),IF(OR($B$3=\"3 (tiga)\",$B$3=\"4 (empat)\"),HLOOKUP($C$3,TABMAPEL_XI,DBLOGIC!BK2,FALSE),IF(OR($B$3=\"5 (lima)\",$B$3=\"6 (enam)\"),HLOOKUP($C$3,TABMAPEL_XII,DBLOGIC!BK2,FALSE),IF(OR($B$3=\"7 (tujuh)\",$B$3=\"8 (delapan)\"),HLOOKUP($C$3,TABMAPEL_XIII,DBLOGIC!BK2,FALSE),0))))","v":"-"},{"$f":"IF(OR($B$3=\"1 (satu)\",$B$3=\"2 (dua)\"),HLOOKUP($C$3,TABMAPEL_X,DBLOGIC!BL2,FALSE),IF(OR($B$3=\"3 (tiga)\",$B$3=\"4 (empat)\"),HLOOKUP($C$3,TABMAPEL_XI,DBLOGIC!BL2,FALSE),IF(OR($B$3=\"5 (lima)\",$B$3=\"6 (enam)\"),HLOOKUP($C$3,TABMAPEL_XII,DBLOGIC!BL2,FALSE),IF(OR($B$3=\"7 (tujuh)\",$B$3=\"8 (delapan)\"),HLOOKUP($C$3,TABMAPEL_XIII,DBLOGIC!BL2,FALSE),0))))","v":"-"},{"$f":"IF(OR($B$3=\"1 (satu)\",$B$3=\"2 (dua)\"),HLOOKUP($C$3,TABMAPEL_X,DBLOGIC!BM2,FALSE),IF(OR($B$3=\"3 (tiga)\",$B$3=\"4 (empat)\"),HLOOKUP($C$3,TABMAPEL_XI,DBLOGIC!BM2,FALSE),IF(OR($B$3=\"5 (lima)\",$B$3=\"6 (enam)\"),HLOOKUP($C$3,TABMAPEL_XII,DBLOGIC!BM2,FALSE),IF(OR($B$3=\"7 (tujuh)\",$B$3=\"8 (delapan)\"),HLOOKUP($C$3,TABMAPEL_XIII,DBLOGIC!BM2,FALSE),0))))","v":"-"},{"$f":"IF(OR($B$3=\"1 (satu)\",$B$3=\"2 (dua)\"),HLOOKUP($C$3,TABMAPEL_X,DBLOGIC!BN2,FALSE),IF(OR($B$3=\"3 (tiga)\",$B$3=\"4 (empat)\"),HLOOKUP($C$3,TABMAPEL_XI,DBLOGIC!BN2,FALSE),IF(OR($B$3=\"5 (lima)\",$B$3=\"6 (enam)\"),HLOOKUP($C$3,TABMAPEL_XII,DBLOGIC!BN2,FALSE),IF(OR($B$3=\"7 (tujuh)\",$B$3=\"8 (delapan)\"),HLOOKUP($C$3,TABMAPEL_XIII,DBLOGIC!BN2,FALSE),0))))","v":"Seni Budaya"},{"$f":"IF(OR($B$3=\"1 (satu)\",$B$3=\"2 (dua)\"),HLOOKUP($C$3,TABMAPEL_X,DBLOGIC!BO2,FALSE),IF(OR($B$3=\"3 (tiga)\",$B$3=\"4 (empat)\"),HLOOKUP($C$3,TABMAPEL_XI,DBLOGIC!BO2,FALSE),IF(OR($B$3=\"5 (lima)\",$B$3=\"6 (enam)\"),HLOOKUP($C$3,TABMAPEL_XII,DBLOGIC!BO2,FALSE),IF(OR($B$3=\"7 (tujuh)\",$B$3=\"8 (delapan)\"),HLOOKUP($C$3,TABMAPEL_XIII,DBLOGIC!BO2,FALSE),0))))","v":"Seni Budaya"},{"$f":"IF(OR($B$3=\"1 (satu)\",$B$3=\"2 (dua)\"),HLOOKUP($C$3,TABMAPEL_X,DBLOGIC!BP2,FALSE),IF(OR($B$3=\"3 (tiga)\",$B$3=\"4 (empat)\"),HLOOKUP($C$3,TABMAPEL_XI,DBLOGIC!BP2,FALSE),IF(OR($B$3=\"5 (lima)\",$B$3=\"6 (enam)\"),HLOOKUP($C$3,TABMAPEL_XII,DBLOGIC!BP2,FALSE),IF(OR($B$3=\"7 (tujuh)\",$B$3=\"8 (delapan)\"),HLOOKUP($C$3,TABMAPEL_XIII,DBLOGIC!BP2,FALSE),0))))","v":"Seni Budaya"},{"$f":"IF(OR($B$3=\"1 (satu)\",$B$3=\"2 (dua)\"),HLOOKUP($C$3,TABMAPEL_X,DBLOGIC!BQ2,FALSE),IF(OR($B$3=\"3 (tiga)\",$B$3=\"4 (empat)\"),HLOOKUP($C$3,TABMAPEL_XI,DBLOGIC!BQ2,FALSE),IF(OR($B$3=\"5 (lima)\",$B$3=\"6 (enam)\"),HLOOKUP($C$3,TABMAPEL_XII,DBLOGIC!BQ2,FALSE),IF(OR($B$3=\"7 (tujuh)\",$B$3=\"8 (delapan)\"),HLOOKUP($C$3,TABMAPEL_XIII,DBLOGIC!BQ2,FALSE),0))))","v":"Seni Budaya"},{"$f":"IF(OR($B$3=\"1 (satu)\",$B$3=\"2 (dua)\"),HLOOKUP($C$3,TABMAPEL_X,DBLOGIC!BR2,FALSE),IF(OR($B$3=\"3 (tiga)\",$B$3=\"4 (empat)\"),HLOOKUP($C$3,TABMAPEL_XI,DBLOGIC!BR2,FALSE),IF(OR($B$3=\"5 (lima)\",$B$3=\"6 (enam)\"),HLOOKUP($C$3,TABMAPEL_XII,DBLOGIC!BR2,FALSE),IF(OR($B$3=\"7 (tujuh)\",$B$3=\"8 (delapan)\"),HLOOKUP($C$3,TABMAPEL_XIII,DBLOGIC!BR2,FALSE),0))))","v":"Seni Budaya"},{"$f":"IF(OR($B$3=\"1 (satu)\",$B$3=\"2 (dua)\"),HLOOKUP($C$3,TABMAPEL_X,DBLOGIC!BS2,FALSE),IF(OR($B$3=\"3 (tiga)\",$B$3=\"4 (empat)\"),HLOOKUP($C$3,TABMAPEL_XI,DBLOGIC!BS2,FALSE),IF(OR($B$3=\"5 (lima)\",$B$3=\"6 (enam)\"),HLOOKUP($C$3,TABMAPEL_XII,DBLOGIC!BS2,FALSE),IF(OR($B$3=\"7 (tujuh)\",$B$3=\"8 (delapan)\"),HLOOKUP($C$3,TABMAPEL_XIII,DBLOGIC!BS2,FALSE),0))))","v":"Seni Budaya"},{"$f":"IF(OR($B$3=\"1 (satu)\",$B$3=\"2 (dua)\"),HLOOKUP($C$3,TABMAPEL_X,DBLOGIC!BT2,FALSE),IF(OR($B$3=\"3 (tiga)\",$B$3=\"4 (empat)\"),HLOOKUP($C$3,TABMAPEL_XI,DBLOGIC!BT2,FALSE),IF(OR($B$3=\"5 (lima)\",$B$3=\"6 (enam)\"),HLOOKUP($C$3,TABMAPEL_XII,DBLOGIC!BT2,FALSE),IF(OR($B$3=\"7 (tujuh)\",$B$3=\"8 (delapan)\"),HLOOKUP($C$3,TABMAPEL_XIII,DBLOGIC!BT2,FALSE),0))))","v":"Seni Budaya"},{"$f":"IF(OR($B$3=\"1 (satu)\",$B$3=\"2 (dua)\"),HLOOKUP($C$3,TABMAPEL_X,DBLOGIC!BU2,FALSE),IF(OR($B$3=\"3 (tiga)\",$B$3=\"4 (empat)\"),HLOOKUP($C$3,TABMAPEL_XI,DBLOGIC!BU2,FALSE),IF(OR($B$3=\"5 (lima)\",$B$3=\"6 (enam)\"),HLOOKUP($C$3,TABMAPEL_XII,DBLOGIC!BU2,FALSE),IF(OR($B$3=\"7 (tujuh)\",$B$3=\"8 (delapan)\"),HLOOKUP($C$3,TABMAPEL_XIII,DBLOGIC!BU2,FALSE),0))))","v":"Pendidikan Jasmani, Olahraga dan Kesehatan"},{"$f":"IF(OR($B$3=\"1 (satu)\",$B$3=\"2 (dua)\"),HLOOKUP($C$3,TABMAPEL_X,DBLOGIC!BV2,FALSE),IF(OR($B$3=\"3 (tiga)\",$B$3=\"4 (empat)\"),HLOOKUP($C$3,TABMAPEL_XI,DBLOGIC!BV2,FALSE),IF(OR($B$3=\"5 (lima)\",$B$3=\"6 (enam)\"),HLOOKUP($C$3,TABMAPEL_XII,DBLOGIC!BV2,FALSE),IF(OR($B$3=\"7 (tujuh)\",$B$3=\"8 (delapan)\"),HLOOKUP($C$3,TABMAPEL_XIII,DBLOGIC!BV2,FALSE),0))))","v":"Pendidikan Jasmani, Olahraga dan Kesehatan"},{"$f":"IF(OR($B$3=\"1 (satu)\",$B$3=\"2 (dua)\"),HLOOKUP($C$3,TABMAPEL_X,DBLOGIC!BW2,FALSE),IF(OR($B$3=\"3 (tiga)\",$B$3=\"4 (empat)\"),HLOOKUP($C$3,TABMAPEL_XI,DBLOGIC!BW2,FALSE),IF(OR($B$3=\"5 (lima)\",$B$3=\"6 (enam)\"),HLOOKUP($C$3,TABMAPEL_XII,DBLOGIC!BW2,FALSE),IF(OR($B$3=\"7 (tujuh)\",$B$3=\"8 (delapan)\"),HLOOKUP($C$3,TABMAPEL_XIII,DBLOGIC!BW2,FALSE),0))))","v":"Pendidikan Jasmani, Olahraga dan Kesehatan"},{"$f":"IF(OR($B$3=\"1 (satu)\",$B$3=\"2 (dua)\"),HLOOKUP($C$3,TABMAPEL_X,DBLOGIC!BX2,FALSE),IF(OR($B$3=\"3 (tiga)\",$B$3=\"4 (empat)\"),HLOOKUP($C$3,TABMAPEL_XI,DBLOGIC!BX2,FALSE),IF(OR($B$3=\"5 (lima)\",$B$3=\"6 (enam)\"),HLOOKUP($C$3,TABMAPEL_XII,DBLOGIC!BX2,FALSE),IF(OR($B$3=\"7 (tujuh)\",$B$3=\"8 (delapan)\"),HLOOKUP($C$3,TABMAPEL_XIII,DBLOGIC!BX2,FALSE),0))))","v":"Pendidikan Jasmani, Olahraga dan Kesehatan"},{"$f":"IF(OR($B$3=\"1 (satu)\",$B$3=\"2 (dua)\"),HLOOKUP($C$3,TABMAPEL_X,DBLOGIC!BY2,FALSE),IF(OR($B$3=\"3 (tiga)\",$B$3=\"4 (empat)\"),HLOOKUP($C$3,TABMAPEL_XI,DBLOGIC!BY2,FALSE),IF(OR($B$3=\"5 (lima)\",$B$3=\"6 (enam)\"),HLOOKUP($C$3,TABMAPEL_XII,DBLOGIC!BY2,FALSE),IF(OR($B$3=\"7 (tujuh)\",$B$3=\"8 (delapan)\"),HLOOKUP($C$3,TABMAPEL_XIII,DBLOGIC!BY2,FALSE),0))))","v":"Pendidikan Jasmani, Olahraga dan Kesehatan"},{"$f":"IF(OR($B$3=\"1 (satu)\",$B$3=\"2 (dua)\"),HLOOKUP($C$3,TABMAPEL_X,DBLOGIC!BZ2,FALSE),IF(OR($B$3=\"3 (tiga)\",$B$3=\"4 (empat)\"),HLOOKUP($C$3,TABMAPEL_XI,DBLOGIC!BZ2,FALSE),IF(OR($B$3=\"5 (lima)\",$B$3=\"6 (enam)\"),HLOOKUP($C$3,TABMAPEL_XII,DBLOGIC!BZ2,FALSE),IF(OR($B$3=\"7 (tujuh)\",$B$3=\"8 (delapan)\"),HLOOKUP($C$3,TABMAPEL_XIII,DBLOGIC!BZ2,FALSE),0))))","v":"Pendidikan Jasmani, Olahraga dan Kesehatan"},{"$f":"IF(OR($B$3=\"1 (satu)\",$B$3=\"2 (dua)\"),HLOOKUP($C$3,TABMAPEL_X,DBLOGIC!CA2,FALSE),IF(OR($B$3=\"3 (tiga)\",$B$3=\"4 (empat)\"),HLOOKUP($C$3,TABMAPEL_XI,DBLOGIC!CA2,FALSE),IF(OR($B$3=\"5 (lima)\",$B$3=\"6 (enam)\"),HLOOKUP($C$3,TABMAPEL_XII,DBLOGIC!CA2,FALSE),IF(OR($B$3=\"7 (tujuh)\",$B$3=\"8 (delapan)\"),HLOOKUP($C$3,TABMAPEL_XIII,DBLOGIC!CA2,FALSE),0))))","v":"Pendidikan Jasmani, Olahraga dan Kesehatan"},{"$f":"IF(OR($B$3=\"1 (satu)\",$B$3=\"2 (dua)\"),HLOOKUP($C$3,TABMAPEL_X,DBLOGIC!CB2,FALSE),IF(OR($B$3=\"3 (tiga)\",$B$3=\"4 (empat)\"),HLOOKUP($C$3,TABMAPEL_XI,DBLOGIC!CB2,FALSE),IF(OR($B$3=\"5 (lima)\",$B$3=\"6 (enam)\"),HLOOKUP($C$3,TABMAPEL_XII,DBLOGIC!CB2,FALSE),IF(OR($B$3=\"7 (tujuh)\",$B$3=\"8 (delapan)\"),HLOOKUP($C$3,TABMAPEL_XIII,DBLOGIC!CB2,FALSE),0))))","v":"Simulasi dan Komunikasi Digital"},{"$f":"IF(OR($B$3=\"1 (satu)\",$B$3=\"2 (dua)\"),HLOOKUP($C$3,TABMAPEL_X,DBLOGIC!CC2,FALSE),IF(OR($B$3=\"3 (tiga)\",$B$3=\"4 (empat)\"),HLOOKUP($C$3,TABMAPEL_XI,DBLOGIC!CC2,FALSE),IF(OR($B$3=\"5 (lima)\",$B$3=\"6 (enam)\"),HLOOKUP($C$3,TABMAPEL_XII,DBLOGIC!CC2,FALSE),IF(OR($B$3=\"7 (tujuh)\",$B$3=\"8 (delapan)\"),HLOOKUP($C$3,TABMAPEL_XIII,DBLOGIC!CC2,FALSE),0))))","v":"Simulasi dan Komunikasi Digital"},{"$f":"IF(OR($B$3=\"1 (satu)\",$B$3=\"2 (dua)\"),HLOOKUP($C$3,TABMAPEL_X,DBLOGIC!CD2,FALSE),IF(OR($B$3=\"3 (tiga)\",$B$3=\"4 (empat)\"),HLOOKUP($C$3,TABMAPEL_XI,DBLOGIC!CD2,FALSE),IF(OR($B$3=\"5 (lima)\",$B$3=\"6 (enam)\"),HLOOKUP($C$3,TABMAPEL_XII,DBLOGIC!CD2,FALSE),IF(OR($B$3=\"7 (tujuh)\",$B$3=\"8 (delapan)\"),HLOOKUP($C$3,TABMAPEL_XIII,DBLOGIC!CD2,FALSE),0))))","v":"Simulasi dan Komunikasi Digital"},{"$f":"IF(OR($B$3=\"1 (satu)\",$B$3=\"2 (dua)\"),HLOOKUP($C$3,TABMAPEL_X,DBLOGIC!CE2,FALSE),IF(OR($B$3=\"3 (tiga)\",$B$3=\"4 (empat)\"),HLOOKUP($C$3,TABMAPEL_XI,DBLOGIC!CE2,FALSE),IF(OR($B$3=\"5 (lima)\",$B$3=\"6 (enam)\"),HLOOKUP($C$3,TABMAPEL_XII,DBLOGIC!CE2,FALSE),IF(OR($B$3=\"7 (tujuh)\",$B$3=\"8 (delapan)\"),HLOOKUP($C$3,TABMAPEL_XIII,DBLOGIC!CE2,FALSE),0))))","v":"Simulasi dan Komunikasi Digital"},{"$f":"IF(OR($B$3=\"1 (satu)\",$B$3=\"2 (dua)\"),HLOOKUP($C$3,TABMAPEL_X,DBLOGIC!CF2,FALSE),IF(OR($B$3=\"3 (tiga)\",$B$3=\"4 (empat)\"),HLOOKUP($C$3,TABMAPEL_XI,DBLOGIC!CF2,FALSE),IF(OR($B$3=\"5 (lima)\",$B$3=\"6 (enam)\"),HLOOKUP($C$3,TABMAPEL_XII,DBLOGIC!CF2,FALSE),IF(OR($B$3=\"7 (tujuh)\",$B$3=\"8 (delapan)\"),HLOOKUP($C$3,TABMAPEL_XIII,DBLOGIC!CF2,FALSE),0))))","v":"Simulasi dan Komunikasi Digital"},{"$f":"IF(OR($B$3=\"1 (satu)\",$B$3=\"2 (dua)\"),HLOOKUP($C$3,TABMAPEL_X,DBLOGIC!CG2,FALSE),IF(OR($B$3=\"3 (tiga)\",$B$3=\"4 (empat)\"),HLOOKUP($C$3,TABMAPEL_XI,DBLOGIC!CG2,FALSE),IF(OR($B$3=\"5 (lima)\",$B$3=\"6 (enam)\"),HLOOKUP($C$3,TABMAPEL_XII,DBLOGIC!CG2,FALSE),IF(OR($B$3=\"7 (tujuh)\",$B$3=\"8 (delapan)\"),HLOOKUP($C$3,TABMAPEL_XIII,DBLOGIC!CG2,FALSE),0))))","v":"Simulasi dan Komunikasi Digital"},{"$f":"IF(OR($B$3=\"1 (satu)\",$B$3=\"2 (dua)\"),HLOOKUP($C$3,TABMAPEL_X,DBLOGIC!CH2,FALSE),IF(OR($B$3=\"3 (tiga)\",$B$3=\"4 (empat)\"),HLOOKUP($C$3,TABMAPEL_XI,DBLOGIC!CH2,FALSE),IF(OR($B$3=\"5 (lima)\",$B$3=\"6 (enam)\"),HLOOKUP($C$3,TABMAPEL_XII,DBLOGIC!CH2,FALSE),IF(OR($B$3=\"7 (tujuh)\",$B$3=\"8 (delapan)\"),HLOOKUP($C$3,TABMAPEL_XIII,DBLOGIC!CH2,FALSE),0))))","v":"Simulasi dan Komunikasi Digital"},{"$f":"IF(OR($B$3=\"1 (satu)\",$B$3=\"2 (dua)\"),HLOOKUP($C$3,TABMAPEL_X,DBLOGIC!CI2,FALSE),IF(OR($B$3=\"3 (tiga)\",$B$3=\"4 (empat)\"),HLOOKUP($C$3,TABMAPEL_XI,DBLOGIC!CI2,FALSE),IF(OR($B$3=\"5 (lima)\",$B$3=\"6 (enam)\"),HLOOKUP($C$3,TABMAPEL_XII,DBLOGIC!CI2,FALSE),IF(OR($B$3=\"7 (tujuh)\",$B$3=\"8 (delapan)\"),HLOOKUP($C$3,TABMAPEL_XIII,DBLOGIC!CI2,FALSE),0))))","v":"Fisika"},{"$f":"IF(OR($B$3=\"1 (satu)\",$B$3=\"2 (dua)\"),HLOOKUP($C$3,TABMAPEL_X,DBLOGIC!CJ2,FALSE),IF(OR($B$3=\"3 (tiga)\",$B$3=\"4 (empat)\"),HLOOKUP($C$3,TABMAPEL_XI,DBLOGIC!CJ2,FALSE),IF(OR($B$3=\"5 (lima)\",$B$3=\"6 (enam)\"),HLOOKUP($C$3,TABMAPEL_XII,DBLOGIC!CJ2,FALSE),IF(OR($B$3=\"7 (tujuh)\",$B$3=\"8 (delapan)\"),HLOOKUP($C$3,TABMAPEL_XIII,DBLOGIC!CJ2,FALSE),0))))","v":"Fisika"},{"$f":"IF(OR($B$3=\"1 (satu)\",$B$3=\"2 (dua)\"),HLOOKUP($C$3,TABMAPEL_X,DBLOGIC!CK2,FALSE),IF(OR($B$3=\"3 (tiga)\",$B$3=\"4 (empat)\"),HLOOKUP($C$3,TABMAPEL_XI,DBLOGIC!CK2,FALSE),IF(OR($B$3=\"5 (lima)\",$B$3=\"6 (enam)\"),HLOOKUP($C$3,TABMAPEL_XII,DBLOGIC!CK2,FALSE),IF(OR($B$3=\"7 (tujuh)\",$B$3=\"8 (delapan)\"),HLOOKUP($C$3,TABMAPEL_XIII,DBLOGIC!CK2,FALSE),0))))","v":"Fisika"},{"$f":"IF(OR($B$3=\"1 (satu)\",$B$3=\"2 (dua)\"),HLOOKUP($C$3,TABMAPEL_X,DBLOGIC!CL2,FALSE),IF(OR($B$3=\"3 (tiga)\",$B$3=\"4 (empat)\"),HLOOKUP($C$3,TABMAPEL_XI,DBLOGIC!CL2,FALSE),IF(OR($B$3=\"5 (lima)\",$B$3=\"6 (enam)\"),HLOOKUP($C$3,TABMAPEL_XII,DBLOGIC!CL2,FALSE),IF(OR($B$3=\"7 (tujuh)\",$B$3=\"8 (delapan)\"),HLOOKUP($C$3,TABMAPEL_XIII,DBLOGIC!CL2,FALSE),0))))","v":"Fisika"},{"$f":"IF(OR($B$3=\"1 (satu)\",$B$3=\"2 (dua)\"),HLOOKUP($C$3,TABMAPEL_X,DBLOGIC!CM2,FALSE),IF(OR($B$3=\"3 (tiga)\",$B$3=\"4 (empat)\"),HLOOKUP($C$3,TABMAPEL_XI,DBLOGIC!CM2,FALSE),IF(OR($B$3=\"5 (lima)\",$B$3=\"6 (enam)\"),HLOOKUP($C$3,TABMAPEL_XII,DBLOGIC!CM2,FALSE),IF(OR($B$3=\"7 (tujuh)\",$B$3=\"8 (delapan)\"),HLOOKUP($C$3,TABMAPEL_XIII,DBLOGIC!CM2,FALSE),0))))","v":"Fisika"},{"$f":"IF(OR($B$3=\"1 (satu)\",$B$3=\"2 (dua)\"),HLOOKUP($C$3,TABMAPEL_X,DBLOGIC!CN2,FALSE),IF(OR($B$3=\"3 (tiga)\",$B$3=\"4 (empat)\"),HLOOKUP($C$3,TABMAPEL_XI,DBLOGIC!CN2,FALSE),IF(OR($B$3=\"5 (lima)\",$B$3=\"6 (enam)\"),HLOOKUP($C$3,TABMAPEL_XII,DBLOGIC!CN2,FALSE),IF(OR($B$3=\"7 (tujuh)\",$B$3=\"8 (delapan)\"),HLOOKUP($C$3,TABMAPEL_XIII,DBLOGIC!CN2,FALSE),0))))","v":"Fisika"},{"$f":"IF(OR($B$3=\"1 (satu)\",$B$3=\"2 (dua)\"),HLOOKUP($C$3,TABMAPEL_X,DBLOGIC!CO2,FALSE),IF(OR($B$3=\"3 (tiga)\",$B$3=\"4 (empat)\"),HLOOKUP($C$3,TABMAPEL_XI,DBLOGIC!CO2,FALSE),IF(OR($B$3=\"5 (lima)\",$B$3=\"6 (enam)\"),HLOOKUP($C$3,TABMAPEL_XII,DBLOGIC!CO2,FALSE),IF(OR($B$3=\"7 (tujuh)\",$B$3=\"8 (delapan)\"),HLOOKUP($C$3,TABMAPEL_XIII,DBLOGIC!CO2,FALSE),0))))","v":"Fisika"},{"$f":"IF(OR($B$3=\"1 (satu)\",$B$3=\"2 (dua)\"),HLOOKUP($C$3,TABMAPEL_X,DBLOGIC!CP2,FALSE),IF(OR($B$3=\"3 (tiga)\",$B$3=\"4 (empat)\"),HLOOKUP($C$3,TABMAPEL_XI,DBLOGIC!CP2,FALSE),IF(OR($B$3=\"5 (lima)\",$B$3=\"6 (enam)\"),HLOOKUP($C$3,TABMAPEL_XII,DBLOGIC!CP2,FALSE),IF(OR($B$3=\"7 (tujuh)\",$B$3=\"8 (delapan)\"),HLOOKUP($C$3,TABMAPEL_XIII,DBLOGIC!CP2,FALSE),0))))","v":"Kimia"},{"$f":"IF(OR($B$3=\"1 (satu)\",$B$3=\"2 (dua)\"),HLOOKUP($C$3,TABMAPEL_X,DBLOGIC!CQ2,FALSE),IF(OR($B$3=\"3 (tiga)\",$B$3=\"4 (empat)\"),HLOOKUP($C$3,TABMAPEL_XI,DBLOGIC!CQ2,FALSE),IF(OR($B$3=\"5 (lima)\",$B$3=\"6 (enam)\"),HLOOKUP($C$3,TABMAPEL_XII,DBLOGIC!CQ2,FALSE),IF(OR($B$3=\"7 (tujuh)\",$B$3=\"8 (delapan)\"),HLOOKUP($C$3,TABMAPEL_XIII,DBLOGIC!CQ2,FALSE),0))))","v":"Kimia"},{"$f":"IF(OR($B$3=\"1 (satu)\",$B$3=\"2 (dua)\"),HLOOKUP($C$3,TABMAPEL_X,DBLOGIC!CR2,FALSE),IF(OR($B$3=\"3 (tiga)\",$B$3=\"4 (empat)\"),HLOOKUP($C$3,TABMAPEL_XI,DBLOGIC!CR2,FALSE),IF(OR($B$3=\"5 (lima)\",$B$3=\"6 (enam)\"),HLOOKUP($C$3,TABMAPEL_XII,DBLOGIC!CR2,FALSE),IF(OR($B$3=\"7 (tujuh)\",$B$3=\"8 (delapan)\"),HLOOKUP($C$3,TABMAPEL_XIII,DBLOGIC!CR2,FALSE),0))))","v":"Kimia"},{"$f":"IF(OR($B$3=\"1 (satu)\",$B$3=\"2 (dua)\"),HLOOKUP($C$3,TABMAPEL_X,DBLOGIC!CS2,FALSE),IF(OR($B$3=\"3 (tiga)\",$B$3=\"4 (empat)\"),HLOOKUP($C$3,TABMAPEL_XI,DBLOGIC!CS2,FALSE),IF(OR($B$3=\"5 (lima)\",$B$3=\"6 (enam)\"),HLOOKUP($C$3,TABMAPEL_XII,DBLOGIC!CS2,FALSE),IF(OR($B$3=\"7 (tujuh)\",$B$3=\"8 (delapan)\"),HLOOKUP($C$3,TABMAPEL_XIII,DBLOGIC!CS2,FALSE),0))))","v":"Kimia"},{"$f":"IF(OR($B$3=\"1 (satu)\",$B$3=\"2 (dua)\"),HLOOKUP($C$3,TABMAPEL_X,DBLOGIC!CT2,FALSE),IF(OR($B$3=\"3 (tiga)\",$B$3=\"4 (empat)\"),HLOOKUP($C$3,TABMAPEL_XI,DBLOGIC!CT2,FALSE),IF(OR($B$3=\"5 (lima)\",$B$3=\"6 (enam)\"),HLOOKUP($C$3,TABMAPEL_XII,DBLOGIC!CT2,FALSE),IF(OR($B$3=\"7 (tujuh)\",$B$3=\"8 (delapan)\"),HLOOKUP($C$3,TABMAPEL_XIII,DBLOGIC!CT2,FALSE),0))))","v":"Kimia"},{"$f":"IF(OR($B$3=\"1 (satu)\",$B$3=\"2 (dua)\"),HLOOKUP($C$3,TABMAPEL_X,DBLOGIC!CU2,FALSE),IF(OR($B$3=\"3 (tiga)\",$B$3=\"4 (empat)\"),HLOOKUP($C$3,TABMAPEL_XI,DBLOGIC!CU2,FALSE),IF(OR($B$3=\"5 (lima)\",$B$3=\"6 (enam)\"),HLOOKUP($C$3,TABMAPEL_XII,DBLOGIC!CU2,FALSE),IF(OR($B$3=\"7 (tujuh)\",$B$3=\"8 (delapan)\"),HLOOKUP($C$3,TABMAPEL_XIII,DBLOGIC!CU2,FALSE),0))))","v":"Kimia"},{"$f":"IF(OR($B$3=\"1 (satu)\",$B$3=\"2 (dua)\"),HLOOKUP($C$3,TABMAPEL_X,DBLOGIC!CV2,FALSE),IF(OR($B$3=\"3 (tiga)\",$B$3=\"4 (empat)\"),HLOOKUP($C$3,TABMAPEL_XI,DBLOGIC!CV2,FALSE),IF(OR($B$3=\"5 (lima)\",$B$3=\"6 (enam)\"),HLOOKUP($C$3,TABMAPEL_XII,DBLOGIC!CV2,FALSE),IF(OR($B$3=\"7 (tujuh)\",$B$3=\"8 (delapan)\"),HLOOKUP($C$3,TABMAPEL_XIII,DBLOGIC!CV2,FALSE),0))))","v":"Kimia"},{"$f":"IF(OR($B$3=\"1 (satu)\",$B$3=\"2 (dua)\"),HLOOKUP($C$3,TABMAPEL_X,DBLOGIC!CW2,FALSE),IF(OR($B$3=\"3 (tiga)\",$B$3=\"4 (empat)\"),HLOOKUP($C$3,TABMAPEL_XI,DBLOGIC!CW2,FALSE),IF(OR($B$3=\"5 (lima)\",$B$3=\"6 (enam)\"),HLOOKUP($C$3,TABMAPEL_XII,DBLOGIC!CW2,FALSE),IF(OR($B$3=\"7 (tujuh)\",$B$3=\"8 (delapan)\"),HLOOKUP($C$3,TABMAPEL_XIII,DBLOGIC!CW2,FALSE),0))))","v":"Gambar Teknik Otomotif"},{"$f":"IF(OR($B$3=\"1 (satu)\",$B$3=\"2 (dua)\"),HLOOKUP($C$3,TABMAPEL_X,DBLOGIC!CX2,FALSE),IF(OR($B$3=\"3 (tiga)\",$B$3=\"4 (empat)\"),HLOOKUP($C$3,TABMAPEL_XI,DBLOGIC!CX2,FALSE),IF(OR($B$3=\"5 (lima)\",$B$3=\"6 (enam)\"),HLOOKUP($C$3,TABMAPEL_XII,DBLOGIC!CX2,FALSE),IF(OR($B$3=\"7 (tujuh)\",$B$3=\"8 (delapan)\"),HLOOKUP($C$3,TABMAPEL_XIII,DBLOGIC!CX2,FALSE),0))))","v":"Gambar Teknik Otomotif"},{"$f":"IF(OR($B$3=\"1 (satu)\",$B$3=\"2 (dua)\"),HLOOKUP($C$3,TABMAPEL_X,DBLOGIC!CY2,FALSE),IF(OR($B$3=\"3 (tiga)\",$B$3=\"4 (empat)\"),HLOOKUP($C$3,TABMAPEL_XI,DBLOGIC!CY2,FALSE),IF(OR($B$3=\"5 (lima)\",$B$3=\"6 (enam)\"),HLOOKUP($C$3,TABMAPEL_XII,DBLOGIC!CY2,FALSE),IF(OR($B$3=\"7 (tujuh)\",$B$3=\"8 (delapan)\"),HLOOKUP($C$3,TABMAPEL_XIII,DBLOGIC!CY2,FALSE),0))))","v":"Gambar Teknik Otomotif"},{"$f":"IF(OR($B$3=\"1 (satu)\",$B$3=\"2 (dua)\"),HLOOKUP($C$3,TABMAPEL_X,DBLOGIC!CZ2,FALSE),IF(OR($B$3=\"3 (tiga)\",$B$3=\"4 (empat)\"),HLOOKUP($C$3,TABMAPEL_XI,DBLOGIC!CZ2,FALSE),IF(OR($B$3=\"5 (lima)\",$B$3=\"6 (enam)\"),HLOOKUP($C$3,TABMAPEL_XII,DBLOGIC!CZ2,FALSE),IF(OR($B$3=\"7 (tujuh)\",$B$3=\"8 (delapan)\"),HLOOKUP($C$3,TABMAPEL_XIII,DBLOGIC!CZ2,FALSE),0))))","v":"Gambar Teknik Otomotif"},{"$f":"IF(OR($B$3=\"1 (satu)\",$B$3=\"2 (dua)\"),HLOOKUP($C$3,TABMAPEL_X,DBLOGIC!DA2,FALSE),IF(OR($B$3=\"3 (tiga)\",$B$3=\"4 (empat)\"),HLOOKUP($C$3,TABMAPEL_XI,DBLOGIC!DA2,FALSE),IF(OR($B$3=\"5 (lima)\",$B$3=\"6 (enam)\"),HLOOKUP($C$3,TABMAPEL_XII,DBLOGIC!DA2,FALSE),IF(OR($B$3=\"7 (tujuh)\",$B$3=\"8 (delapan)\"),HLOOKUP($C$3,TABMAPEL_XIII,DBLOGIC!DA2,FALSE),0))))","v":"Gambar Teknik Otomotif"},{"$f":"IF(OR($B$3=\"1 (satu)\",$B$3=\"2 (dua)\"),HLOOKUP($C$3,TABMAPEL_X,DBLOGIC!DB2,FALSE),IF(OR($B$3=\"3 (tiga)\",$B$3=\"4 (empat)\"),HLOOKUP($C$3,TABMAPEL_XI,DBLOGIC!DB2,FALSE),IF(OR($B$3=\"5 (lima)\",$B$3=\"6 (enam)\"),HLOOKUP($C$3,TABMAPEL_XII,DBLOGIC!DB2,FALSE),IF(OR($B$3=\"7 (tujuh)\",$B$3=\"8 (delapan)\"),HLOOKUP($C$3,TABMAPEL_XIII,DBLOGIC!DB2,FALSE),0))))","v":"Gambar Teknik Otomotif"},{"$f":"IF(OR($B$3=\"1 (satu)\",$B$3=\"2 (dua)\"),HLOOKUP($C$3,TABMAPEL_X,DBLOGIC!DC2,FALSE),IF(OR($B$3=\"3 (tiga)\",$B$3=\"4 (empat)\"),HLOOKUP($C$3,TABMAPEL_XI,DBLOGIC!DC2,FALSE),IF(OR($B$3=\"5 (lima)\",$B$3=\"6 (enam)\"),HLOOKUP($C$3,TABMAPEL_XII,DBLOGIC!DC2,FALSE),IF(OR($B$3=\"7 (tujuh)\",$B$3=\"8 (delapan)\"),HLOOKUP($C$3,TABMAPEL_XIII,DBLOGIC!DC2,FALSE),0))))","v":"Gambar Teknik Otomotif"},{"$f":"IF(OR($B$3=\"1 (satu)\",$B$3=\"2 (dua)\"),HLOOKUP($C$3,TABMAPEL_X,DBLOGIC!DD2,FALSE),IF(OR($B$3=\"3 (tiga)\",$B$3=\"4 (empat)\"),HLOOKUP($C$3,TABMAPEL_XI,DBLOGIC!DD2,FALSE),IF(OR($B$3=\"5 (lima)\",$B$3=\"6 (enam)\"),HLOOKUP($C$3,TABMAPEL_XII,DBLOGIC!DD2,FALSE),IF(OR($B$3=\"7 (tujuh)\",$B$3=\"8 (delapan)\"),HLOOKUP($C$3,TABMAPEL_XIII,DBLOGIC!DD2,FALSE),0))))","v":"Teknologi Dasar Otomotif"},{"$f":"IF(OR($B$3=\"1 (satu)\",$B$3=\"2 (dua)\"),HLOOKUP($C$3,TABMAPEL_X,DBLOGIC!DE2,FALSE),IF(OR($B$3=\"3 (tiga)\",$B$3=\"4 (empat)\"),HLOOKUP($C$3,TABMAPEL_XI,DBLOGIC!DE2,FALSE),IF(OR($B$3=\"5 (lima)\",$B$3=\"6 (enam)\"),HLOOKUP($C$3,TABMAPEL_XII,DBLOGIC!DE2,FALSE),IF(OR($B$3=\"7 (tujuh)\",$B$3=\"8 (delapan)\"),HLOOKUP($C$3,TABMAPEL_XIII,DBLOGIC!DE2,FALSE),0))))","v":"Teknologi Dasar Otomotif"},{"$f":"IF(OR($B$3=\"1 (satu)\",$B$3=\"2 (dua)\"),HLOOKUP($C$3,TABMAPEL_X,DBLOGIC!DF2,FALSE),IF(OR($B$3=\"3 (tiga)\",$B$3=\"4 (empat)\"),HLOOKUP($C$3,TABMAPEL_XI,DBLOGIC!DF2,FALSE),IF(OR($B$3=\"5 (lima)\",$B$3=\"6 (enam)\"),HLOOKUP($C$3,TABMAPEL_XII,DBLOGIC!DF2,FALSE),IF(OR($B$3=\"7 (tujuh)\",$B$3=\"8 (delapan)\"),HLOOKUP($C$3,TABMAPEL_XIII,DBLOGIC!DF2,FALSE),0))))","v":"Teknologi Dasar Otomotif"},{"$f":"IF(OR($B$3=\"1 (satu)\",$B$3=\"2 (dua)\"),HLOOKUP($C$3,TABMAPEL_X,DBLOGIC!DG2,FALSE),IF(OR($B$3=\"3 (tiga)\",$B$3=\"4 (empat)\"),HLOOKUP($C$3,TABMAPEL_XI,DBLOGIC!DG2,FALSE),IF(OR($B$3=\"5 (lima)\",$B$3=\"6 (enam)\"),HLOOKUP($C$3,TABMAPEL_XII,DBLOGIC!DG2,FALSE),IF(OR($B$3=\"7 (tujuh)\",$B$3=\"8 (delapan)\"),HLOOKUP($C$3,TABMAPEL_XIII,DBLOGIC!DG2,FALSE),0))))","v":"Teknologi Dasar Otomotif"},{"$f":"IF(OR($B$3=\"1 (satu)\",$B$3=\"2 (dua)\"),HLOOKUP($C$3,TABMAPEL_X,DBLOGIC!DH2,FALSE),IF(OR($B$3=\"3 (tiga)\",$B$3=\"4 (empat)\"),HLOOKUP($C$3,TABMAPEL_XI,DBLOGIC!DH2,FALSE),IF(OR($B$3=\"5 (lima)\",$B$3=\"6 (enam)\"),HLOOKUP($C$3,TABMAPEL_XII,DBLOGIC!DH2,FALSE),IF(OR($B$3=\"7 (tujuh)\",$B$3=\"8 (delapan)\"),HLOOKUP($C$3,TABMAPEL_XIII,DBLOGIC!DH2,FALSE),0))))","v":"Teknologi Dasar Otomotif"},{"$f":"IF(OR($B$3=\"1 (satu)\",$B$3=\"2 (dua)\"),HLOOKUP($C$3,TABMAPEL_X,DBLOGIC!DI2,FALSE),IF(OR($B$3=\"3 (tiga)\",$B$3=\"4 (empat)\"),HLOOKUP($C$3,TABMAPEL_XI,DBLOGIC!DI2,FALSE),IF(OR($B$3=\"5 (lima)\",$B$3=\"6 (enam)\"),HLOOKUP($C$3,TABMAPEL_XII,DBLOGIC!DI2,FALSE),IF(OR($B$3=\"7 (tujuh)\",$B$3=\"8 (delapan)\"),HLOOKUP($C$3,TABMAPEL_XIII,DBLOGIC!DI2,FALSE),0))))","v":"Teknologi Dasar Otomotif"},{"$f":"IF(OR($B$3=\"1 (satu)\",$B$3=\"2 (dua)\"),HLOOKUP($C$3,TABMAPEL_X,DBLOGIC!DJ2,FALSE),IF(OR($B$3=\"3 (tiga)\",$B$3=\"4 (empat)\"),HLOOKUP($C$3,TABMAPEL_XI,DBLOGIC!DJ2,FALSE),IF(OR($B$3=\"5 (lima)\",$B$3=\"6 (enam)\"),HLOOKUP($C$3,TABMAPEL_XII,DBLOGIC!DJ2,FALSE),IF(OR($B$3=\"7 (tujuh)\",$B$3=\"8 (delapan)\"),HLOOKUP($C$3,TABMAPEL_XIII,DBLOGIC!DJ2,FALSE),0))))","v":"Teknologi Dasar Otomotif"},{"$f":"IF(OR($B$3=\"1 (satu)\",$B$3=\"2 (dua)\"),HLOOKUP($C$3,TABMAPEL_X,DBLOGIC!DK2,FALSE),IF(OR($B$3=\"3 (tiga)\",$B$3=\"4 (empat)\"),HLOOKUP($C$3,TABMAPEL_XI,DBLOGIC!DK2,FALSE),IF(OR($B$3=\"5 (lima)\",$B$3=\"6 (enam)\"),HLOOKUP($C$3,TABMAPEL_XII,DBLOGIC!DK2,FALSE),IF(OR($B$3=\"7 (tujuh)\",$B$3=\"8 (delapan)\"),HLOOKUP($C$3,TABMAPEL_XIII,DBLOGIC!DK2,FALSE),0))))","v":"Pekerjaan Dasar Teknik Otomotif"},{"$f":"IF(OR($B$3=\"1 (satu)\",$B$3=\"2 (dua)\"),HLOOKUP($C$3,TABMAPEL_X,DBLOGIC!DL2,FALSE),IF(OR($B$3=\"3 (tiga)\",$B$3=\"4 (empat)\"),HLOOKUP($C$3,TABMAPEL_XI,DBLOGIC!DL2,FALSE),IF(OR($B$3=\"5 (lima)\",$B$3=\"6 (enam)\"),HLOOKUP($C$3,TABMAPEL_XII,DBLOGIC!DL2,FALSE),IF(OR($B$3=\"7 (tujuh)\",$B$3=\"8 (delapan)\"),HLOOKUP($C$3,TABMAPEL_XIII,DBLOGIC!DL2,FALSE),0))))","v":"Pekerjaan Dasar Teknik Otomotif"},{"$f":"IF(OR($B$3=\"1 (satu)\",$B$3=\"2 (dua)\"),HLOOKUP($C$3,TABMAPEL_X,DBLOGIC!DM2,FALSE),IF(OR($B$3=\"3 (tiga)\",$B$3=\"4 (empat)\"),HLOOKUP($C$3,TABMAPEL_XI,DBLOGIC!DM2,FALSE),IF(OR($B$3=\"5 (lima)\",$B$3=\"6 (enam)\"),HLOOKUP($C$3,TABMAPEL_XII,DBLOGIC!DM2,FALSE),IF(OR($B$3=\"7 (tujuh)\",$B$3=\"8 (delapan)\"),HLOOKUP($C$3,TABMAPEL_XIII,DBLOGIC!DM2,FALSE),0))))","v":"Pekerjaan Dasar Teknik Otomotif"},{"$f":"IF(OR($B$3=\"1 (satu)\",$B$3=\"2 (dua)\"),HLOOKUP($C$3,TABMAPEL_X,DBLOGIC!DN2,FALSE),IF(OR($B$3=\"3 (tiga)\",$B$3=\"4 (empat)\"),HLOOKUP($C$3,TABMAPEL_XI,DBLOGIC!DN2,FALSE),IF(OR($B$3=\"5 (lima)\",$B$3=\"6 (enam)\"),HLOOKUP($C$3,TABMAPEL_XII,DBLOGIC!DN2,FALSE),IF(OR($B$3=\"7 (tujuh)\",$B$3=\"8 (delapan)\"),HLOOKUP($C$3,TABMAPEL_XIII,DBLOGIC!DN2,FALSE),0))))","v":"Pekerjaan Dasar Teknik Otomotif"},{"$f":"IF(OR($B$3=\"1 (satu)\",$B$3=\"2 (dua)\"),HLOOKUP($C$3,TABMAPEL_X,DBLOGIC!DO2,FALSE),IF(OR($B$3=\"3 (tiga)\",$B$3=\"4 (empat)\"),HLOOKUP($C$3,TABMAPEL_XI,DBLOGIC!DO2,FALSE),IF(OR($B$3=\"5 (lima)\",$B$3=\"6 (enam)\"),HLOOKUP($C$3,TABMAPEL_XII,DBLOGIC!DO2,FALSE),IF(OR($B$3=\"7 (tujuh)\",$B$3=\"8 (delapan)\"),HLOOKUP($C$3,TABMAPEL_XIII,DBLOGIC!DO2,FALSE),0))))","v":"Pekerjaan Dasar Teknik Otomotif"},{"$f":"IF(OR($B$3=\"1 (satu)\",$B$3=\"2 (dua)\"),HLOOKUP($C$3,TABMAPEL_X,DBLOGIC!DP2,FALSE),IF(OR($B$3=\"3 (tiga)\",$B$3=\"4 (empat)\"),HLOOKUP($C$3,TABMAPEL_XI,DBLOGIC!DP2,FALSE),IF(OR($B$3=\"5 (lima)\",$B$3=\"6 (enam)\"),HLOOKUP($C$3,TABMAPEL_XII,DBLOGIC!DP2,FALSE),IF(OR($B$3=\"7 (tujuh)\",$B$3=\"8 (delapan)\"),HLOOKUP($C$3,TABMAPEL_XIII,DBLOGIC!DP2,FALSE),0))))","v":"Pekerjaan Dasar Teknik Otomotif"},{"$f":"IF(OR($B$3=\"1 (satu)\",$B$3=\"2 (dua)\"),HLOOKUP($C$3,TABMAPEL_X,DBLOGIC!DQ2,FALSE),IF(OR($B$3=\"3 (tiga)\",$B$3=\"4 (empat)\"),HLOOKUP($C$3,TABMAPEL_XI,DBLOGIC!DQ2,FALSE),IF(OR($B$3=\"5 (lima)\",$B$3=\"6 (enam)\"),HLOOKUP($C$3,TABMAPEL_XII,DBLOGIC!DQ2,FALSE),IF(OR($B$3=\"7 (tujuh)\",$B$3=\"8 (delapan)\"),HLOOKUP($C$3,TABMAPEL_XIII,DBLOGIC!DQ2,FALSE),0))))","v":"Pekerjaan Dasar Teknik Otomotif"},{"$f":"IF(OR($B$3=\"1 (satu)\",$B$3=\"2 (dua)\"),HLOOKUP($C$3,TABMAPEL_X,DBLOGIC!DR2,FALSE),IF(OR($B$3=\"3 (tiga)\",$B$3=\"4 (empat)\"),HLOOKUP($C$3,TABMAPEL_XI,DBLOGIC!DR2,FALSE),IF(OR($B$3=\"5 (lima)\",$B$3=\"6 (enam)\"),HLOOKUP($C$3,TABMAPEL_XII,DBLOGIC!DR2,FALSE),IF(OR($B$3=\"7 (tujuh)\",$B$3=\"8 (delapan)\"),HLOOKUP($C$3,TABMAPEL_XIII,DBLOGIC!DR2,FALSE),0))))","v":"-"},{"$f":"IF(OR($B$3=\"1 (satu)\",$B$3=\"2 (dua)\"),HLOOKUP($C$3,TABMAPEL_X,DBLOGIC!DS2,FALSE),IF(OR($B$3=\"3 (tiga)\",$B$3=\"4 (empat)\"),HLOOKUP($C$3,TABMAPEL_XI,DBLOGIC!DS2,FALSE),IF(OR($B$3=\"5 (lima)\",$B$3=\"6 (enam)\"),HLOOKUP($C$3,TABMAPEL_XII,DBLOGIC!DS2,FALSE),IF(OR($B$3=\"7 (tujuh)\",$B$3=\"8 (delapan)\"),HLOOKUP($C$3,TABMAPEL_XIII,DBLOGIC!DS2,FALSE),0))))","v":"-"},{"$f":"IF(OR($B$3=\"1 (satu)\",$B$3=\"2 (dua)\"),HLOOKUP($C$3,TABMAPEL_X,DBLOGIC!DT2,FALSE),IF(OR($B$3=\"3 (tiga)\",$B$3=\"4 (empat)\"),HLOOKUP($C$3,TABMAPEL_XI,DBLOGIC!DT2,FALSE),IF(OR($B$3=\"5 (lima)\",$B$3=\"6 (enam)\"),HLOOKUP($C$3,TABMAPEL_XII,DBLOGIC!DT2,FALSE),IF(OR($B$3=\"7 (tujuh)\",$B$3=\"8 (delapan)\"),HLOOKUP($C$3,TABMAPEL_XIII,DBLOGIC!DT2,FALSE),0))))","v":"-"},{"$f":"IF(OR($B$3=\"1 (satu)\",$B$3=\"2 (dua)\"),HLOOKUP($C$3,TABMAPEL_X,DBLOGIC!DU2,FALSE),IF(OR($B$3=\"3 (tiga)\",$B$3=\"4 (empat)\"),HLOOKUP($C$3,TABMAPEL_XI,DBLOGIC!DU2,FALSE),IF(OR($B$3=\"5 (lima)\",$B$3=\"6 (enam)\"),HLOOKUP($C$3,TABMAPEL_XII,DBLOGIC!DU2,FALSE),IF(OR($B$3=\"7 (tujuh)\",$B$3=\"8 (delapan)\"),HLOOKUP($C$3,TABMAPEL_XIII,DBLOGIC!DU2,FALSE),0))))","v":"-"},{"$f":"IF(OR($B$3=\"1 (satu)\",$B$3=\"2 (dua)\"),HLOOKUP($C$3,TABMAPEL_X,DBLOGIC!DV2,FALSE),IF(OR($B$3=\"3 (tiga)\",$B$3=\"4 (empat)\"),HLOOKUP($C$3,TABMAPEL_XI,DBLOGIC!DV2,FALSE),IF(OR($B$3=\"5 (lima)\",$B$3=\"6 (enam)\"),HLOOKUP($C$3,TABMAPEL_XII,DBLOGIC!DV2,FALSE),IF(OR($B$3=\"7 (tujuh)\",$B$3=\"8 (delapan)\"),HLOOKUP($C$3,TABMAPEL_XIII,DBLOGIC!DV2,FALSE),0))))","v":"-"},{"$f":"IF(OR($B$3=\"1 (satu)\",$B$3=\"2 (dua)\"),HLOOKUP($C$3,TABMAPEL_X,DBLOGIC!DW2,FALSE),IF(OR($B$3=\"3 (tiga)\",$B$3=\"4 (empat)\"),HLOOKUP($C$3,TABMAPEL_XI,DBLOGIC!DW2,FALSE),IF(OR($B$3=\"5 (lima)\",$B$3=\"6 (enam)\"),HLOOKUP($C$3,TABMAPEL_XII,DBLOGIC!DW2,FALSE),IF(OR($B$3=\"7 (tujuh)\",$B$3=\"8 (delapan)\"),HLOOKUP($C$3,TABMAPEL_XIII,DBLOGIC!DW2,FALSE),0))))","v":"-"},{"$f":"IF(OR($B$3=\"1 (satu)\",$B$3=\"2 (dua)\"),HLOOKUP($C$3,TABMAPEL_X,DBLOGIC!DX2,FALSE),IF(OR($B$3=\"3 (tiga)\",$B$3=\"4 (empat)\"),HLOOKUP($C$3,TABMAPEL_XI,DBLOGIC!DX2,FALSE),IF(OR($B$3=\"5 (lima)\",$B$3=\"6 (enam)\"),HLOOKUP($C$3,TABMAPEL_XII,DBLOGIC!DX2,FALSE),IF(OR($B$3=\"7 (tujuh)\",$B$3=\"8 (delapan)\"),HLOOKUP($C$3,TABMAPEL_XIII,DBLOGIC!DX2,FALSE),0))))","v":"-"},{"$f":"IF(OR($B$3=\"1 (satu)\",$B$3=\"2 (dua)\"),HLOOKUP($C$3,TABMAPEL_X,DBLOGIC!DY2,FALSE),IF(OR($B$3=\"3 (tiga)\",$B$3=\"4 (empat)\"),HLOOKUP($C$3,TABMAPEL_XI,DBLOGIC!DY2,FALSE),IF(OR($B$3=\"5 (lima)\",$B$3=\"6 (enam)\"),HLOOKUP($C$3,TABMAPEL_XII,DBLOGIC!DY2,FALSE),IF(OR($B$3=\"7 (tujuh)\",$B$3=\"8 (delapan)\"),HLOOKUP($C$3,TABMAPEL_XIII,DBLOGIC!DY2,FALSE),0))))","v":"-"},{"$f":"IF(OR($B$3=\"1 (satu)\",$B$3=\"2 (dua)\"),HLOOKUP($C$3,TABMAPEL_X,DBLOGIC!DZ2,FALSE),IF(OR($B$3=\"3 (tiga)\",$B$3=\"4 (empat)\"),HLOOKUP($C$3,TABMAPEL_XI,DBLOGIC!DZ2,FALSE),IF(OR($B$3=\"5 (lima)\",$B$3=\"6 (enam)\"),HLOOKUP($C$3,TABMAPEL_XII,DBLOGIC!DZ2,FALSE),IF(OR($B$3=\"7 (tujuh)\",$B$3=\"8 (delapan)\"),HLOOKUP($C$3,TABMAPEL_XIII,DBLOGIC!DZ2,FALSE),0))))","v":"-"},{"$f":"IF(OR($B$3=\"1 (satu)\",$B$3=\"2 (dua)\"),HLOOKUP($C$3,TABMAPEL_X,DBLOGIC!EA2,FALSE),IF(OR($B$3=\"3 (tiga)\",$B$3=\"4 (empat)\"),HLOOKUP($C$3,TABMAPEL_XI,DBLOGIC!EA2,FALSE),IF(OR($B$3=\"5 (lima)\",$B$3=\"6 (enam)\"),HLOOKUP($C$3,TABMAPEL_XII,DBLOGIC!EA2,FALSE),IF(OR($B$3=\"7 (tujuh)\",$B$3=\"8 (delapan)\"),HLOOKUP($C$3,TABMAPEL_XIII,DBLOGIC!EA2,FALSE),0))))","v":"-"},{"$f":"IF(OR($B$3=\"1 (satu)\",$B$3=\"2 (dua)\"),HLOOKUP($C$3,TABMAPEL_X,DBLOGIC!EB2,FALSE),IF(OR($B$3=\"3 (tiga)\",$B$3=\"4 (empat)\"),HLOOKUP($C$3,TABMAPEL_XI,DBLOGIC!EB2,FALSE),IF(OR($B$3=\"5 (lima)\",$B$3=\"6 (enam)\"),HLOOKUP($C$3,TABMAPEL_XII,DBLOGIC!EB2,FALSE),IF(OR($B$3=\"7 (tujuh)\",$B$3=\"8 (delapan)\"),HLOOKUP($C$3,TABMAPEL_XIII,DBLOGIC!EB2,FALSE),0))))","v":"-"},{"$f":"IF(OR($B$3=\"1 (satu)\",$B$3=\"2 (dua)\"),HLOOKUP($C$3,TABMAPEL_X,DBLOGIC!EC2,FALSE),IF(OR($B$3=\"3 (tiga)\",$B$3=\"4 (empat)\"),HLOOKUP($C$3,TABMAPEL_XI,DBLOGIC!EC2,FALSE),IF(OR($B$3=\"5 (lima)\",$B$3=\"6 (enam)\"),HLOOKUP($C$3,TABMAPEL_XII,DBLOGIC!EC2,FALSE),IF(OR($B$3=\"7 (tujuh)\",$B$3=\"8 (delapan)\"),HLOOKUP($C$3,TABMAPEL_XIII,DBLOGIC!EC2,FALSE),0))))","v":"-"},{"$f":"IF(OR($B$3=\"1 (satu)\",$B$3=\"2 (dua)\"),HLOOKUP($C$3,TABMAPEL_X,DBLOGIC!ED2,FALSE),IF(OR($B$3=\"3 (tiga)\",$B$3=\"4 (empat)\"),HLOOKUP($C$3,TABMAPEL_XI,DBLOGIC!ED2,FALSE),IF(OR($B$3=\"5 (lima)\",$B$3=\"6 (enam)\"),HLOOKUP($C$3,TABMAPEL_XII,DBLOGIC!ED2,FALSE),IF(OR($B$3=\"7 (tujuh)\",$B$3=\"8 (delapan)\"),HLOOKUP($C$3,TABMAPEL_XIII,DBLOGIC!ED2,FALSE),0))))","v":"-"},{"$f":"IF(OR($B$3=\"1 (satu)\",$B$3=\"2 (dua)\"),HLOOKUP($C$3,TABMAPEL_X,DBLOGIC!EE2,FALSE),IF(OR($B$3=\"3 (tiga)\",$B$3=\"4 (empat)\"),HLOOKUP($C$3,TABMAPEL_XI,DBLOGIC!EE2,FALSE),IF(OR($B$3=\"5 (lima)\",$B$3=\"6 (enam)\"),HLOOKUP($C$3,TABMAPEL_XII,DBLOGIC!EE2,FALSE),IF(OR($B$3=\"7 (tujuh)\",$B$3=\"8 (delapan)\"),HLOOKUP($C$3,TABMAPEL_XIII,DBLOGIC!EE2,FALSE),0))))","v":"-"},{"$f":"IF(OR($B$3=\"1 (satu)\",$B$3=\"2 (dua)\"),HLOOKUP($C$3,TABMAPEL_X,DBLOGIC!EF2,FALSE),IF(OR($B$3=\"3 (tiga)\",$B$3=\"4 (empat)\"),HLOOKUP($C$3,TABMAPEL_XI,DBLOGIC!EF2,FALSE),IF(OR($B$3=\"5 (lima)\",$B$3=\"6 (enam)\"),HLOOKUP($C$3,TABMAPEL_XII,DBLOGIC!EF2,FALSE),IF(OR($B$3=\"7 (tujuh)\",$B$3=\"8 (delapan)\"),HLOOKUP($C$3,TABMAPEL_XIII,DBLOGIC!EF2,FALSE),0))))","v":"-"},{"$f":"IF(OR($B$3=\"1 (satu)\",$B$3=\"2 (dua)\"),HLOOKUP($C$3,TABMAPEL_X,DBLOGIC!EG2,FALSE),IF(OR($B$3=\"3 (tiga)\",$B$3=\"4 (empat)\"),HLOOKUP($C$3,TABMAPEL_XI,DBLOGIC!EG2,FALSE),IF(OR($B$3=\"5 (lima)\",$B$3=\"6 (enam)\"),HLOOKUP($C$3,TABMAPEL_XII,DBLOGIC!EG2,FALSE),IF(OR($B$3=\"7 (tujuh)\",$B$3=\"8 (delapan)\"),HLOOKUP($C$3,TABMAPEL_XIII,DBLOGIC!EG2,FALSE),0))))","v":"-"},{"$f":"IF(OR($B$3=\"1 (satu)\",$B$3=\"2 (dua)\"),HLOOKUP($C$3,TABMAPEL_X,DBLOGIC!EH2,FALSE),IF(OR($B$3=\"3 (tiga)\",$B$3=\"4 (empat)\"),HLOOKUP($C$3,TABMAPEL_XI,DBLOGIC!EH2,FALSE),IF(OR($B$3=\"5 (lima)\",$B$3=\"6 (enam)\"),HLOOKUP($C$3,TABMAPEL_XII,DBLOGIC!EH2,FALSE),IF(OR($B$3=\"7 (tujuh)\",$B$3=\"8 (delapan)\"),HLOOKUP($C$3,TABMAPEL_XIII,DBLOGIC!EH2,FALSE),0))))","v":"-"},{"$f":"IF(OR($B$3=\"1 (satu)\",$B$3=\"2 (dua)\"),HLOOKUP($C$3,TABMAPEL_X,DBLOGIC!EI2,FALSE),IF(OR($B$3=\"3 (tiga)\",$B$3=\"4 (empat)\"),HLOOKUP($C$3,TABMAPEL_XI,DBLOGIC!EI2,FALSE),IF(OR($B$3=\"5 (lima)\",$B$3=\"6 (enam)\"),HLOOKUP($C$3,TABMAPEL_XII,DBLOGIC!EI2,FALSE),IF(OR($B$3=\"7 (tujuh)\",$B$3=\"8 (delapan)\"),HLOOKUP($C$3,TABMAPEL_XIII,DBLOGIC!EI2,FALSE),0))))","v":"-"},{"$f":"IF(OR($B$3=\"1 (satu)\",$B$3=\"2 (dua)\"),HLOOKUP($C$3,TABMAPEL_X,DBLOGIC!EJ2,FALSE),IF(OR($B$3=\"3 (tiga)\",$B$3=\"4 (empat)\"),HLOOKUP($C$3,TABMAPEL_XI,DBLOGIC!EJ2,FALSE),IF(OR($B$3=\"5 (lima)\",$B$3=\"6 (enam)\"),HLOOKUP($C$3,TABMAPEL_XII,DBLOGIC!EJ2,FALSE),IF(OR($B$3=\"7 (tujuh)\",$B$3=\"8 (delapan)\"),HLOOKUP($C$3,TABMAPEL_XIII,DBLOGIC!EJ2,FALSE),0))))","v":"-"},{"$f":"IF(OR($B$3=\"1 (satu)\",$B$3=\"2 (dua)\"),HLOOKUP($C$3,TABMAPEL_X,DBLOGIC!EK2,FALSE),IF(OR($B$3=\"3 (tiga)\",$B$3=\"4 (empat)\"),HLOOKUP($C$3,TABMAPEL_XI,DBLOGIC!EK2,FALSE),IF(OR($B$3=\"5 (lima)\",$B$3=\"6 (enam)\"),HLOOKUP($C$3,TABMAPEL_XII,DBLOGIC!EK2,FALSE),IF(OR($B$3=\"7 (tujuh)\",$B$3=\"8 (delapan)\"),HLOOKUP($C$3,TABMAPEL_XIII,DBLOGIC!EK2,FALSE),0))))","v":"-"},{"$f":"IF(OR($B$3=\"1 (satu)\",$B$3=\"2 (dua)\"),HLOOKUP($C$3,TABMAPEL_X,DBLOGIC!EL2,FALSE),IF(OR($B$3=\"3 (tiga)\",$B$3=\"4 (empat)\"),HLOOKUP($C$3,TABMAPEL_XI,DBLOGIC!EL2,FALSE),IF(OR($B$3=\"5 (lima)\",$B$3=\"6 (enam)\"),HLOOKUP($C$3,TABMAPEL_XII,DBLOGIC!EL2,FALSE),IF(OR($B$3=\"7 (tujuh)\",$B$3=\"8 (delapan)\"),HLOOKUP($C$3,TABMAPEL_XIII,DBLOGIC!EL2,FALSE),0))))","v":"-"},{"$f":"IF(OR($B$3=\"1 (satu)\",$B$3=\"2 (dua)\"),HLOOKUP($C$3,TABMAPEL_X,DBLOGIC!EM2,FALSE),IF(OR($B$3=\"3 (tiga)\",$B$3=\"4 (empat)\"),HLOOKUP($C$3,TABMAPEL_XI,DBLOGIC!EM2,FALSE),IF(OR($B$3=\"5 (lima)\",$B$3=\"6 (enam)\"),HLOOKUP($C$3,TABMAPEL_XII,DBLOGIC!EM2,FALSE),IF(OR($B$3=\"7 (tujuh)\",$B$3=\"8 (delapan)\"),HLOOKUP($C$3,TABMAPEL_XIII,DBLOGIC!EM2,FALSE),0))))","v":"-"},{"$f":"IF(OR($B$3=\"1 (satu)\",$B$3=\"2 (dua)\"),HLOOKUP($C$3,TABMAPEL_X,DBLOGIC!EN2,FALSE),IF(OR($B$3=\"3 (tiga)\",$B$3=\"4 (empat)\"),HLOOKUP($C$3,TABMAPEL_XI,DBLOGIC!EN2,FALSE),IF(OR($B$3=\"5 (lima)\",$B$3=\"6 (enam)\"),HLOOKUP($C$3,TABMAPEL_XII,DBLOGIC!EN2,FALSE),IF(OR($B$3=\"7 (tujuh)\",$B$3=\"8 (delapan)\"),HLOOKUP($C$3,TABMAPEL_XIII,DBLOGIC!EN2,FALSE),0))))","v":"-"},{"$f":"IF(OR($B$3=\"1 (satu)\",$B$3=\"2 (dua)\"),HLOOKUP($C$3,TABMAPEL_X,DBLOGIC!EO2,FALSE),IF(OR($B$3=\"3 (tiga)\",$B$3=\"4 (empat)\"),HLOOKUP($C$3,TABMAPEL_XI,DBLOGIC!EO2,FALSE),IF(OR($B$3=\"5 (lima)\",$B$3=\"6 (enam)\"),HLOOKUP($C$3,TABMAPEL_XII,DBLOGIC!EO2,FALSE),IF(OR($B$3=\"7 (tujuh)\",$B$3=\"8 (delapan)\"),HLOOKUP($C$3,TABMAPEL_XIII,DBLOGIC!EO2,FALSE),0))))","v":"-"},{"$f":"IF(OR($B$3=\"1 (satu)\",$B$3=\"2 (dua)\"),HLOOKUP($C$3,TABMAPEL_X,DBLOGIC!EP2,FALSE),IF(OR($B$3=\"3 (tiga)\",$B$3=\"4 (empat)\"),HLOOKUP($C$3,TABMAPEL_XI,DBLOGIC!EP2,FALSE),IF(OR($B$3=\"5 (lima)\",$B$3=\"6 (enam)\"),HLOOKUP($C$3,TABMAPEL_XII,DBLOGIC!EP2,FALSE),IF(OR($B$3=\"7 (tujuh)\",$B$3=\"8 (delapan)\"),HLOOKUP($C$3,TABMAPEL_XIII,DBLOGIC!EP2,FALSE),0))))","v":"-"},{"$f":"IF(OR($B$3=\"1 (satu)\",$B$3=\"2 (dua)\"),HLOOKUP($C$3,TABMAPEL_X,DBLOGIC!EQ2,FALSE),IF(OR($B$3=\"3 (tiga)\",$B$3=\"4 (empat)\"),HLOOKUP($C$3,TABMAPEL_XI,DBLOGIC!EQ2,FALSE),IF(OR($B$3=\"5 (lima)\",$B$3=\"6 (enam)\"),HLOOKUP($C$3,TABMAPEL_XII,DBLOGIC!EQ2,FALSE),IF(OR($B$3=\"7 (tujuh)\",$B$3=\"8 (delapan)\"),HLOOKUP($C$3,TABMAPEL_XIII,DBLOGIC!EQ2,FALSE),0))))","v":"-"},{"$f":"IF(OR($B$3=\"1 (satu)\",$B$3=\"2 (dua)\"),HLOOKUP($C$3,TABMAPEL_X,DBLOGIC!ER2,FALSE),IF(OR($B$3=\"3 (tiga)\",$B$3=\"4 (empat)\"),HLOOKUP($C$3,TABMAPEL_XI,DBLOGIC!ER2,FALSE),IF(OR($B$3=\"5 (lima)\",$B$3=\"6 (enam)\"),HLOOKUP($C$3,TABMAPEL_XII,DBLOGIC!ER2,FALSE),IF(OR($B$3=\"7 (tujuh)\",$B$3=\"8 (delapan)\"),HLOOKUP($C$3,TABMAPEL_XIII,DBLOGIC!ER2,FALSE),0))))","v":"-"},{"$f":"IF(OR($B$3=\"1 (satu)\",$B$3=\"2 (dua)\"),HLOOKUP($C$3,TABMAPEL_X,DBLOGIC!ES2,FALSE),IF(OR($B$3=\"3 (tiga)\",$B$3=\"4 (empat)\"),HLOOKUP($C$3,TABMAPEL_XI,DBLOGIC!ES2,FALSE),IF(OR($B$3=\"5 (lima)\",$B$3=\"6 (enam)\"),HLOOKUP($C$3,TABMAPEL_XII,DBLOGIC!ES2,FALSE),IF(OR($B$3=\"7 (tujuh)\",$B$3=\"8 (delapan)\"),HLOOKUP($C$3,TABMAPEL_XIII,DBLOGIC!ES2,FALSE),0))))","v":"-"},{"$f":"IF(OR($B$3=\"1 (satu)\",$B$3=\"2 (dua)\"),HLOOKUP($C$3,TABMAPEL_X,DBLOGIC!ET2,FALSE),IF(OR($B$3=\"3 (tiga)\",$B$3=\"4 (empat)\"),HLOOKUP($C$3,TABMAPEL_XI,DBLOGIC!ET2,FALSE),IF(OR($B$3=\"5 (lima)\",$B$3=\"6 (enam)\"),HLOOKUP($C$3,TABMAPEL_XII,DBLOGIC!ET2,FALSE),IF(OR($B$3=\"7 (tujuh)\",$B$3=\"8 (delapan)\"),HLOOKUP($C$3,TABMAPEL_XIII,DBLOGIC!ET2,FALSE),0))))","v":"-"},{"$f":"IF(OR($B$3=\"1 (satu)\",$B$3=\"2 (dua)\"),HLOOKUP($C$3,TABMAPEL_X,DBLOGIC!EU2,FALSE),IF(OR($B$3=\"3 (tiga)\",$B$3=\"4 (empat)\"),HLOOKUP($C$3,TABMAPEL_XI,DBLOGIC!EU2,FALSE),IF(OR($B$3=\"5 (lima)\",$B$3=\"6 (enam)\"),HLOOKUP($C$3,TABMAPEL_XII,DBLOGIC!EU2,FALSE),IF(OR($B$3=\"7 (tujuh)\",$B$3=\"8 (delapan)\"),HLOOKUP($C$3,TABMAPEL_XIII,DBLOGIC!EU2,FALSE),0))))","v":"-"},{"$f":"IF(OR($B$3=\"1 (satu)\",$B$3=\"2 (dua)\"),HLOOKUP($C$3,TABMAPEL_X,DBLOGIC!EV2,FALSE),IF(OR($B$3=\"3 (tiga)\",$B$3=\"4 (empat)\"),HLOOKUP($C$3,TABMAPEL_XI,DBLOGIC!EV2,FALSE),IF(OR($B$3=\"5 (lima)\",$B$3=\"6 (enam)\"),HLOOKUP($C$3,TABMAPEL_XII,DBLOGIC!EV2,FALSE),IF(OR($B$3=\"7 (tujuh)\",$B$3=\"8 (delapan)\"),HLOOKUP($C$3,TABMAPEL_XIII,DBLOGIC!EV2,FALSE),0))))","v":"-"},{"$f":"IF(OR($B$3=\"1 (satu)\",$B$3=\"2 (dua)\"),HLOOKUP($C$3,TABMAPEL_X,DBLOGIC!EW2,FALSE),IF(OR($B$3=\"3 (tiga)\",$B$3=\"4 (empat)\"),HLOOKUP($C$3,TABMAPEL_XI,DBLOGIC!EW2,FALSE),IF(OR($B$3=\"5 (lima)\",$B$3=\"6 (enam)\"),HLOOKUP($C$3,TABMAPEL_XII,DBLOGIC!EW2,FALSE),IF(OR($B$3=\"7 (tujuh)\",$B$3=\"8 (delapan)\"),HLOOKUP($C$3,TABMAPEL_XIII,DBLOGIC!EW2,FALSE),0))))","v":"-"},{"$f":"IF(OR($B$3=\"1 (satu)\",$B$3=\"2 (dua)\"),HLOOKUP($C$3,TABMAPEL_X,DBLOGIC!EX2,FALSE),IF(OR($B$3=\"3 (tiga)\",$B$3=\"4 (empat)\"),HLOOKUP($C$3,TABMAPEL_XI,DBLOGIC!EX2,FALSE),IF(OR($B$3=\"5 (lima)\",$B$3=\"6 (enam)\"),HLOOKUP($C$3,TABMAPEL_XII,DBLOGIC!EX2,FALSE),IF(OR($B$3=\"7 (tujuh)\",$B$3=\"8 (delapan)\"),HLOOKUP($C$3,TABMAPEL_XIII,DBLOGIC!EX2,FALSE),0))))","v":"-"},{"$f":"IF(OR($B$3=\"1 (satu)\",$B$3=\"2 (dua)\"),HLOOKUP($C$3,TABMAPEL_X,DBLOGIC!EY2,FALSE),IF(OR($B$3=\"3 (tiga)\",$B$3=\"4 (empat)\"),HLOOKUP($C$3,TABMAPEL_XI,DBLOGIC!EY2,FALSE),IF(OR($B$3=\"5 (lima)\",$B$3=\"6 (enam)\"),HLOOKUP($C$3,TABMAPEL_XII,DBLOGIC!EY2,FALSE),IF(OR($B$3=\"7 (tujuh)\",$B$3=\"8 (delapan)\"),HLOOKUP($C$3,TABMAPEL_XIII,DBLOGIC!EY2,FALSE),0))))","v":"-"},{"$f":"IF(OR($B$3=\"1 (satu)\",$B$3=\"2 (dua)\"),HLOOKUP($C$3,TABMAPEL_X,DBLOGIC!EZ2,FALSE),IF(OR($B$3=\"3 (tiga)\",$B$3=\"4 (empat)\"),HLOOKUP($C$3,TABMAPEL_XI,DBLOGIC!EZ2,FALSE),IF(OR($B$3=\"5 (lima)\",$B$3=\"6 (enam)\"),HLOOKUP($C$3,TABMAPEL_XII,DBLOGIC!EZ2,FALSE),IF(OR($B$3=\"7 (tujuh)\",$B$3=\"8 (delapan)\"),HLOOKUP($C$3,TABMAPEL_XIII,DBLOGIC!EZ2,FALSE),0))))","v":"-"},{"$f":"IF(OR($B$3=\"1 (satu)\",$B$3=\"2 (dua)\"),HLOOKUP($C$3,TABMAPEL_X,DBLOGIC!FA2,FALSE),IF(OR($B$3=\"3 (tiga)\",$B$3=\"4 (empat)\"),HLOOKUP($C$3,TABMAPEL_XI,DBLOGIC!FA2,FALSE),IF(OR($B$3=\"5 (lima)\",$B$3=\"6 (enam)\"),HLOOKUP($C$3,TABMAPEL_XII,DBLOGIC!FA2,FALSE),IF(OR($B$3=\"7 (tujuh)\",$B$3=\"8 (delapan)\"),HLOOKUP($C$3,TABMAPEL_XIII,DBLOGIC!FA2,FALSE),0))))","v":"-"},{"$f":"IF(OR($B$3=\"1 (satu)\",$B$3=\"2 (dua)\"),HLOOKUP($C$3,TABMAPEL_X,DBLOGIC!FB2,FALSE),IF(OR($B$3=\"3 (tiga)\",$B$3=\"4 (empat)\"),HLOOKUP($C$3,TABMAPEL_XI,DBLOGIC!FB2,FALSE),IF(OR($B$3=\"5 (lima)\",$B$3=\"6 (enam)\"),HLOOKUP($C$3,TABMAPEL_XII,DBLOGIC!FB2,FALSE),IF(OR($B$3=\"7 (tujuh)\",$B$3=\"8 (delapan)\"),HLOOKUP($C$3,TABMAPEL_XIII,DBLOGIC!FB2,FALSE),0))))","v":"-"},{"$f":"IF(OR($B$3=\"1 (satu)\",$B$3=\"2 (dua)\"),HLOOKUP($C$3,TABMAPEL_X,DBLOGIC!FC2,FALSE),IF(OR($B$3=\"3 (tiga)\",$B$3=\"4 (empat)\"),HLOOKUP($C$3,TABMAPEL_XI,DBLOGIC!FC2,FALSE),IF(OR($B$3=\"5 (lima)\",$B$3=\"6 (enam)\"),HLOOKUP($C$3,TABMAPEL_XII,DBLOGIC!FC2,FALSE),IF(OR($B$3=\"7 (tujuh)\",$B$3=\"8 (delapan)\"),HLOOKUP($C$3,TABMAPEL_XIII,DBLOGIC!FC2,FALSE),0))))","v":"-"},{"$f":"IF(OR($B$3=\"1 (satu)\",$B$3=\"2 (dua)\"),HLOOKUP($C$3,TABMAPEL_X,DBLOGIC!FD2,FALSE),IF(OR($B$3=\"3 (tiga)\",$B$3=\"4 (empat)\"),HLOOKUP($C$3,TABMAPEL_XI,DBLOGIC!FD2,FALSE),IF(OR($B$3=\"5 (lima)\",$B$3=\"6 (enam)\"),HLOOKUP($C$3,TABMAPEL_XII,DBLOGIC!FD2,FALSE),IF(OR($B$3=\"7 (tujuh)\",$B$3=\"8 (delapan)\"),HLOOKUP($C$3,TABMAPEL_XIII,DBLOGIC!FD2,FALSE),0))))","v":"-"},{"$f":"IF(OR($B$3=\"1 (satu)\",$B$3=\"2 (dua)\"),HLOOKUP($C$3,TABMAPEL_X,DBLOGIC!FE2,FALSE),IF(OR($B$3=\"3 (tiga)\",$B$3=\"4 (empat)\"),HLOOKUP($C$3,TABMAPEL_XI,DBLOGIC!FE2,FALSE),IF(OR($B$3=\"5 (lima)\",$B$3=\"6 (enam)\"),HLOOKUP($C$3,TABMAPEL_XII,DBLOGIC!FE2,FALSE),IF(OR($B$3=\"7 (tujuh)\",$B$3=\"8 (delapan)\"),HLOOKUP($C$3,TABMAPEL_XIII,DBLOGIC!FE2,FALSE),0))))","v":"-"},{"$f":"IF(OR($B$3=\"1 (satu)\",$B$3=\"2 (dua)\"),HLOOKUP($C$3,TABMAPEL_X,DBLOGIC!FF2,FALSE),IF(OR($B$3=\"3 (tiga)\",$B$3=\"4 (empat)\"),HLOOKUP($C$3,TABMAPEL_XI,DBLOGIC!FF2,FALSE),IF(OR($B$3=\"5 (lima)\",$B$3=\"6 (enam)\"),HLOOKUP($C$3,TABMAPEL_XII,DBLOGIC!FF2,FALSE),IF(OR($B$3=\"7 (tujuh)\",$B$3=\"8 (delapan)\"),HLOOKUP($C$3,TABMAPEL_XIII,DBLOGIC!FF2,FALSE),0))))","v":"-"},{"$f":"IF(OR($B$3=\"1 (satu)\",$B$3=\"2 (dua)\"),HLOOKUP($C$3,TABMAPEL_X,DBLOGIC!FG2,FALSE),IF(OR($B$3=\"3 (tiga)\",$B$3=\"4 (empat)\"),HLOOKUP($C$3,TABMAPEL_XI,DBLOGIC!FG2,FALSE),IF(OR($B$3=\"5 (lima)\",$B$3=\"6 (enam)\"),HLOOKUP($C$3,TABMAPEL_XII,DBLOGIC!FG2,FALSE),IF(OR($B$3=\"7 (tujuh)\",$B$3=\"8 (delapan)\"),HLOOKUP($C$3,TABMAPEL_XIII,DBLOGIC!FG2,FALSE),0))))","v":"-"},{"$f":"IF(OR($B$3=\"1 (satu)\",$B$3=\"2 (dua)\"),HLOOKUP($C$3,TABMAPEL_X,DBLOGIC!FH2,FALSE),IF(OR($B$3=\"3 (tiga)\",$B$3=\"4 (empat)\"),HLOOKUP($C$3,TABMAPEL_XI,DBLOGIC!FH2,FALSE),IF(OR($B$3=\"5 (lima)\",$B$3=\"6 (enam)\"),HLOOKUP($C$3,TABMAPEL_XII,DBLOGIC!FH2,FALSE),IF(OR($B$3=\"7 (tujuh)\",$B$3=\"8 (delapan)\"),HLOOKUP($C$3,TABMAPEL_XIII,DBLOGIC!FH2,FALSE),0))))","v":"-"},{"$f":"IF(OR($B$3=\"1 (satu)\",$B$3=\"2 (dua)\"),HLOOKUP($C$3,TABMAPEL_X,DBLOGIC!FI2,FALSE),IF(OR($B$3=\"3 (tiga)\",$B$3=\"4 (empat)\"),HLOOKUP($C$3,TABMAPEL_XI,DBLOGIC!FI2,FALSE),IF(OR($B$3=\"5 (lima)\",$B$3=\"6 (enam)\"),HLOOKUP($C$3,TABMAPEL_XII,DBLOGIC!FI2,FALSE),IF(OR($B$3=\"7 (tujuh)\",$B$3=\"8 (delapan)\"),HLOOKUP($C$3,TABMAPEL_XIII,DBLOGIC!FI2,FALSE),0))))","v":"-"},{"$f":"IF(OR($B$3=\"1 (satu)\",$B$3=\"2 (dua)\"),HLOOKUP($C$3,TABMAPEL_X,DBLOGIC!FJ2,FALSE),IF(OR($B$3=\"3 (tiga)\",$B$3=\"4 (empat)\"),HLOOKUP($C$3,TABMAPEL_XI,DBLOGIC!FJ2,FALSE),IF(OR($B$3=\"5 (lima)\",$B$3=\"6 (enam)\"),HLOOKUP($C$3,TABMAPEL_XII,DBLOGIC!FJ2,FALSE),IF(OR($B$3=\"7 (tujuh)\",$B$3=\"8 (delapan)\"),HLOOKUP($C$3,TABMAPEL_XIII,DBLOGIC!FJ2,FALSE),0))))","v":"-"},{"$f":"IF(OR($B$3=\"1 (satu)\",$B$3=\"2 (dua)\"),HLOOKUP($C$3,TABMAPEL_X,DBLOGIC!FK2,FALSE),IF(OR($B$3=\"3 (tiga)\",$B$3=\"4 (empat)\"),HLOOKUP($C$3,TABMAPEL_XI,DBLOGIC!FK2,FALSE),IF(OR($B$3=\"5 (lima)\",$B$3=\"6 (enam)\"),HLOOKUP($C$3,TABMAPEL_XII,DBLOGIC!FK2,FALSE),IF(OR($B$3=\"7 (tujuh)\",$B$3=\"8 (delapan)\"),HLOOKUP($C$3,TABMAPEL_XIII,DBLOGIC!FK2,FALSE),0))))","v":"-"},{"$f":"IF(OR($B$3=\"1 (satu)\",$B$3=\"2 (dua)\"),HLOOKUP($C$3,TABMAPEL_X,DBLOGIC!FL2,FALSE),IF(OR($B$3=\"3 (tiga)\",$B$3=\"4 (empat)\"),HLOOKUP($C$3,TABMAPEL_XI,DBLOGIC!FL2,FALSE),IF(OR($B$3=\"5 (lima)\",$B$3=\"6 (enam)\"),HLOOKUP($C$3,TABMAPEL_XII,DBLOGIC!FL2,FALSE),IF(OR($B$3=\"7 (tujuh)\",$B$3=\"8 (delapan)\"),HLOOKUP($C$3,TABMAPEL_XIII,DBLOGIC!FL2,FALSE),0))))","v":"-"},{"$f":"IF(OR($B$3=\"1 (satu)\",$B$3=\"2 (dua)\"),HLOOKUP($C$3,TABMAPEL_X,DBLOGIC!FM2,FALSE),IF(OR($B$3=\"3 (tiga)\",$B$3=\"4 (empat)\"),HLOOKUP($C$3,TABMAPEL_XI,DBLOGIC!FM2,FALSE),IF(OR($B$3=\"5 (lima)\",$B$3=\"6 (enam)\"),HLOOKUP($C$3,TABMAPEL_XII,DBLOGIC!FM2,FALSE),IF(OR($B$3=\"7 (tujuh)\",$B$3=\"8 (delapan)\"),HLOOKUP($C$3,TABMAPEL_XIII,DBLOGIC!FM2,FALSE),0))))","v":"-"},{"$f":"IF(OR($B$3=\"1 (satu)\",$B$3=\"2 (dua)\"),HLOOKUP($C$3,TABMAPEL_X,DBLOGIC!FN2,FALSE),IF(OR($B$3=\"3 (tiga)\",$B$3=\"4 (empat)\"),HLOOKUP($C$3,TABMAPEL_XI,DBLOGIC!FN2,FALSE),IF(OR($B$3=\"5 (lima)\",$B$3=\"6 (enam)\"),HLOOKUP($C$3,TABMAPEL_XII,DBLOGIC!FN2,FALSE),IF(OR($B$3=\"7 (tujuh)\",$B$3=\"8 (delapan)\"),HLOOKUP($C$3,TABMAPEL_XIII,DBLOGIC!FN2,FALSE),0))))","v":"-"},{"$f":"IF(OR($B$3=\"1 (satu)\",$B$3=\"2 (dua)\"),HLOOKUP($C$3,TABMAPEL_X,DBLOGIC!FO2,FALSE),IF(OR($B$3=\"3 (tiga)\",$B$3=\"4 (empat)\"),HLOOKUP($C$3,TABMAPEL_XI,DBLOGIC!FO2,FALSE),IF(OR($B$3=\"5 (lima)\",$B$3=\"6 (enam)\"),HLOOKUP($C$3,TABMAPEL_XII,DBLOGIC!FO2,FALSE),IF(OR($B$3=\"7 (tujuh)\",$B$3=\"8 (delapan)\"),HLOOKUP($C$3,TABMAPEL_XIII,DBLOGIC!FO2,FALSE),0))))","v":"Bahasa dan Sastra Sunda"},{"$f":"IF(OR($B$3=\"1 (satu)\",$B$3=\"2 (dua)\"),HLOOKUP($C$3,TABMAPEL_X,DBLOGIC!FP2,FALSE),IF(OR($B$3=\"3 (tiga)\",$B$3=\"4 (empat)\"),HLOOKUP($C$3,TABMAPEL_XI,DBLOGIC!FP2,FALSE),IF(OR($B$3=\"5 (lima)\",$B$3=\"6 (enam)\"),HLOOKUP($C$3,TABMAPEL_XII,DBLOGIC!FP2,FALSE),IF(OR($B$3=\"7 (tujuh)\",$B$3=\"8 (delapan)\"),HLOOKUP($C$3,TABMAPEL_XIII,DBLOGIC!FP2,FALSE),0))))","v":"Bahasa dan Sastra Sunda"},{"$f":"IF(OR($B$3=\"1 (satu)\",$B$3=\"2 (dua)\"),HLOOKUP($C$3,TABMAPEL_X,DBLOGIC!FQ2,FALSE),IF(OR($B$3=\"3 (tiga)\",$B$3=\"4 (empat)\"),HLOOKUP($C$3,TABMAPEL_XI,DBLOGIC!FQ2,FALSE),IF(OR($B$3=\"5 (lima)\",$B$3=\"6 (enam)\"),HLOOKUP($C$3,TABMAPEL_XII,DBLOGIC!FQ2,FALSE),IF(OR($B$3=\"7 (tujuh)\",$B$3=\"8 (delapan)\"),HLOOKUP($C$3,TABMAPEL_XIII,DBLOGIC!FQ2,FALSE),0))))","v":"Bahasa dan Sastra Sunda"},{"$f":"IF(OR($B$3=\"1 (satu)\",$B$3=\"2 (dua)\"),HLOOKUP($C$3,TABMAPEL_X,DBLOGIC!FR2,FALSE),IF(OR($B$3=\"3 (tiga)\",$B$3=\"4 (empat)\"),HLOOKUP($C$3,TABMAPEL_XI,DBLOGIC!FR2,FALSE),IF(OR($B$3=\"5 (lima)\",$B$3=\"6 (enam)\"),HLOOKUP($C$3,TABMAPEL_XII,DBLOGIC!FR2,FALSE),IF(OR($B$3=\"7 (tujuh)\",$B$3=\"8 (delapan)\"),HLOOKUP($C$3,TABMAPEL_XIII,DBLOGIC!FR2,FALSE),0))))","v":"Bahasa dan Sastra Sunda"},{"$f":"IF(OR($B$3=\"1 (satu)\",$B$3=\"2 (dua)\"),HLOOKUP($C$3,TABMAPEL_X,DBLOGIC!FS2,FALSE),IF(OR($B$3=\"3 (tiga)\",$B$3=\"4 (empat)\"),HLOOKUP($C$3,TABMAPEL_XI,DBLOGIC!FS2,FALSE),IF(OR($B$3=\"5 (lima)\",$B$3=\"6 (enam)\"),HLOOKUP($C$3,TABMAPEL_XII,DBLOGIC!FS2,FALSE),IF(OR($B$3=\"7 (tujuh)\",$B$3=\"8 (delapan)\"),HLOOKUP($C$3,TABMAPEL_XIII,DBLOGIC!FS2,FALSE),0))))","v":"Bahasa dan Sastra Sunda"},{"$f":"IF(OR($B$3=\"1 (satu)\",$B$3=\"2 (dua)\"),HLOOKUP($C$3,TABMAPEL_X,DBLOGIC!FT2,FALSE),IF(OR($B$3=\"3 (tiga)\",$B$3=\"4 (empat)\"),HLOOKUP($C$3,TABMAPEL_XI,DBLOGIC!FT2,FALSE),IF(OR($B$3=\"5 (lima)\",$B$3=\"6 (enam)\"),HLOOKUP($C$3,TABMAPEL_XII,DBLOGIC!FT2,FALSE),IF(OR($B$3=\"7 (tujuh)\",$B$3=\"8 (delapan)\"),HLOOKUP($C$3,TABMAPEL_XIII,DBLOGIC!FT2,FALSE),0))))","v":"Bahasa dan Sastra Sunda"},{"$f":"IF(OR($B$3=\"1 (satu)\",$B$3=\"2 (dua)\"),HLOOKUP($C$3,TABMAPEL_X,DBLOGIC!FU2,FALSE),IF(OR($B$3=\"3 (tiga)\",$B$3=\"4 (empat)\"),HLOOKUP($C$3,TABMAPEL_XI,DBLOGIC!FU2,FALSE),IF(OR($B$3=\"5 (lima)\",$B$3=\"6 (enam)\"),HLOOKUP($C$3,TABMAPEL_XII,DBLOGIC!FU2,FALSE),IF(OR($B$3=\"7 (tujuh)\",$B$3=\"8 (delapan)\"),HLOOKUP($C$3,TABMAPEL_XIII,DBLOGIC!FU2,FALSE),0))))","v":"Bahasa dan Sastra Sunda"},{"$f":"IF(OR($B$3=\"1 (satu)\",$B$3=\"2 (dua)\"),HLOOKUP($C$3,TABMAPEL_X,DBLOGIC!FV2,FALSE),IF(OR($B$3=\"3 (tiga)\",$B$3=\"4 (empat)\"),HLOOKUP($C$3,TABMAPEL_XI,DBLOGIC!FV2,FALSE),IF(OR($B$3=\"5 (lima)\",$B$3=\"6 (enam)\"),HLOOKUP($C$3,TABMAPEL_XII,DBLOGIC!FV2,FALSE),IF(OR($B$3=\"7 (tujuh)\",$B$3=\"8 (delapan)\"),HLOOKUP($C$3,TABMAPEL_XIII,DBLOGIC!FV2,FALSE),0))))","v":"PLH"},{"$f":"IF(OR($B$3=\"1 (satu)\",$B$3=\"2 (dua)\"),HLOOKUP($C$3,TABMAPEL_X,DBLOGIC!FW2,FALSE),IF(OR($B$3=\"3 (tiga)\",$B$3=\"4 (empat)\"),HLOOKUP($C$3,TABMAPEL_XI,DBLOGIC!FW2,FALSE),IF(OR($B$3=\"5 (lima)\",$B$3=\"6 (enam)\"),HLOOKUP($C$3,TABMAPEL_XII,DBLOGIC!FW2,FALSE),IF(OR($B$3=\"7 (tujuh)\",$B$3=\"8 (delapan)\"),HLOOKUP($C$3,TABMAPEL_XIII,DBLOGIC!FW2,FALSE),0))))","v":"PLH"},{"$f":"IF(OR($B$3=\"1 (satu)\",$B$3=\"2 (dua)\"),HLOOKUP($C$3,TABMAPEL_X,DBLOGIC!FX2,FALSE),IF(OR($B$3=\"3 (tiga)\",$B$3=\"4 (empat)\"),HLOOKUP($C$3,TABMAPEL_XI,DBLOGIC!FX2,FALSE),IF(OR($B$3=\"5 (lima)\",$B$3=\"6 (enam)\"),HLOOKUP($C$3,TABMAPEL_XII,DBLOGIC!FX2,FALSE),IF(OR($B$3=\"7 (tujuh)\",$B$3=\"8 (delapan)\"),HLOOKUP($C$3,TABMAPEL_XIII,DBLOGIC!FX2,FALSE),0))))","v":"PLH"},{"$f":"IF(OR($B$3=\"1 (satu)\",$B$3=\"2 (dua)\"),HLOOKUP($C$3,TABMAPEL_X,DBLOGIC!FY2,FALSE),IF(OR($B$3=\"3 (tiga)\",$B$3=\"4 (empat)\"),HLOOKUP($C$3,TABMAPEL_XI,DBLOGIC!FY2,FALSE),IF(OR($B$3=\"5 (lima)\",$B$3=\"6 (enam)\"),HLOOKUP($C$3,TABMAPEL_XII,DBLOGIC!FY2,FALSE),IF(OR($B$3=\"7 (tujuh)\",$B$3=\"8 (delapan)\"),HLOOKUP($C$3,TABMAPEL_XIII,DBLOGIC!FY2,FALSE),0))))","v":"PLH"},{"$f":"IF(OR($B$3=\"1 (satu)\",$B$3=\"2 (dua)\"),HLOOKUP($C$3,TABMAPEL_X,DBLOGIC!FZ2,FALSE),IF(OR($B$3=\"3 (tiga)\",$B$3=\"4 (empat)\"),HLOOKUP($C$3,TABMAPEL_XI,DBLOGIC!FZ2,FALSE),IF(OR($B$3=\"5 (lima)\",$B$3=\"6 (enam)\"),HLOOKUP($C$3,TABMAPEL_XII,DBLOGIC!FZ2,FALSE),IF(OR($B$3=\"7 (tujuh)\",$B$3=\"8 (delapan)\"),HLOOKUP($C$3,TABMAPEL_XIII,DBLOGIC!FZ2,FALSE),0))))","v":"PLH"},{"$f":"IF(OR($B$3=\"1 (satu)\",$B$3=\"2 (dua)\"),HLOOKUP($C$3,TABMAPEL_X,DBLOGIC!GA2,FALSE),IF(OR($B$3=\"3 (tiga)\",$B$3=\"4 (empat)\"),HLOOKUP($C$3,TABMAPEL_XI,DBLOGIC!GA2,FALSE),IF(OR($B$3=\"5 (lima)\",$B$3=\"6 (enam)\"),HLOOKUP($C$3,TABMAPEL_XII,DBLOGIC!GA2,FALSE),IF(OR($B$3=\"7 (tujuh)\",$B$3=\"8 (delapan)\"),HLOOKUP($C$3,TABMAPEL_XIII,DBLOGIC!GA2,FALSE),0))))","v":"PLH"},{"$f":"IF(OR($B$3=\"1 (satu)\",$B$3=\"2 (dua)\"),HLOOKUP($C$3,TABMAPEL_X,DBLOGIC!GB2,FALSE),IF(OR($B$3=\"3 (tiga)\",$B$3=\"4 (empat)\"),HLOOKUP($C$3,TABMAPEL_XI,DBLOGIC!GB2,FALSE),IF(OR($B$3=\"5 (lima)\",$B$3=\"6 (enam)\"),HLOOKUP($C$3,TABMAPEL_XII,DBLOGIC!GB2,FALSE),IF(OR($B$3=\"7 (tujuh)\",$B$3=\"8 (delapan)\"),HLOOKUP($C$3,TABMAPEL_XIII,DBLOGIC!GB2,FALSE),0))))","v":"PLH"},null,"Bimbingan dan Konseling","Catatan Aakdemik"]
["Semester  :","2 (dua)",{"$f":"IF(OR(B3=\"1 (satu)\",B3=\"2 (dua)\"),\"X \"&MENU!F8,IF(OR(B3=\"3 (tiga)\",B3=\"4 (empat)\"),\"XI \"&MENU!F8,IF(OR(B3=\"5 (lima)\",B3=\"6 (enam)\"),\"XII \"&MENU!F8,\"\")))","v":"X TBSM"},{"$f":"HLOOKUP(\"KEL\",TABMAPEL_X,DBLOGIC!Q2,FALSE)","v":"A"},{"$f":"HLOOKUP(\"KEL\",TABMAPEL_X,DBLOGIC!R2,FALSE)","v":"A"},{"$f":"HLOOKUP(\"KEL\",TABMAPEL_X,DBLOGIC!S2,FALSE)","v":"A"},{"$f":"HLOOKUP(\"KEL\",TABMAPEL_X,DBLOGIC!T2,FALSE)","v":"A"},{"$f":"HLOOKUP(\"KEL\",TABMAPEL_X,DBLOGIC!U2,FALSE)","v":"A"},{"$f":"HLOOKUP(\"KEL\",TABMAPEL_X,DBLOGIC!V2,FALSE)","v":"A"},{"$f":"HLOOKUP(\"KEL\",TABMAPEL_X,DBLOGIC!W2,FALSE)","v":"A"},{"$f":"HLOOKUP(\"KEL\",TABMAPEL_X,DBLOGIC!X2,FALSE)","v":"A"},{"$f":"HLOOKUP(\"KEL\",TABMAPEL_X,DBLOGIC!Y2,FALSE)","v":"A"},{"$f":"HLOOKUP(\"KEL\",TABMAPEL_X,DBLOGIC!Z2,FALSE)","v":"A"},{"$f":"HLOOKUP(\"KEL\",TABMAPEL_X,DBLOGIC!AA2,FALSE)","v":"A"},{"$f":"HLOOKUP(\"KEL\",TABMAPEL_X,DBLOGIC!AB2,FALSE)","v":"A"},{"$f":"HLOOKUP(\"KEL\",TABMAPEL_X,DBLOGIC!AC2,FALSE)","v":"A"},{"$f":"HLOOKUP(\"KEL\",TABMAPEL_X,DBLOGIC!AD2,FALSE)","v":"A"},{"$f":"HLOOKUP(\"KEL\",TABMAPEL_X,DBLOGIC!AE2,FALSE)","v":"A"},{"$f":"HLOOKUP(\"KEL\",TABMAPEL_X,DBLOGIC!AF2,FALSE)","v":"A"},{"$f":"HLOOKUP(\"KEL\",TABMAPEL_X,DBLOGIC!AG2,FALSE)","v":"A"},{"$f":"HLOOKUP(\"KEL\",TABMAPEL_X,DBLOGIC!AH2,FALSE)","v":"A"},{"$f":"HLOOKUP(\"KEL\",TABMAPEL_X,DBLOGIC!AI2,FALSE)","v":"A"},{"$f":"HLOOKUP(\"KEL\",TABMAPEL_X,DBLOGIC!AJ2,FALSE)","v":"A"},{"$f":"HLOOKUP(\"KEL\",TABMAPEL_X,DBLOGIC!AK2,FALSE)","v":"A"},{"$f":"HLOOKUP(\"KEL\",TABMAPEL_X,DBLOGIC!AL2,FALSE)","v":"A"},{"$f":"HLOOKUP(\"KEL\",TABMAPEL_X,DBLOGIC!AM2,FALSE)","v":"A"},{"$f":"HLOOKUP(\"KEL\",TABMAPEL_X,DBLOGIC!AN2,FALSE)","v":"A"},{"$f":"HLOOKUP(\"KEL\",TABMAPEL_X,DBLOGIC!AO2,FALSE)","v":"A"},{"$f":"HLOOKUP(\"KEL\",TABMAPEL_X,DBLOGIC!AP2,FALSE)","v":"A"},{"$f":"HLOOKUP(\"KEL\",TABMAPEL_X,DBLOGIC!AQ2,FALSE)","v":"A"},{"$f":"HLOOKUP(\"KEL\",TABMAPEL_X,DBLOGIC!AR2,FALSE)","v":"A"},{"$f":"HLOOKUP(\"KEL\",TABMAPEL_X,DBLOGIC!AS2,FALSE)","v":"A"},{"$f":"HLOOKUP(\"KEL\",TABMAPEL_X,DBLOGIC!AT2,FALSE)","v":"A"},{"$f":"HLOOKUP(\"KEL\",TABMAPEL_X,DBLOGIC!AU2,FALSE)","v":"A"},{"$f":"HLOOKUP(\"KEL\",TABMAPEL_X,DBLOGIC!AV2,FALSE)","v":"A"},{"$f":"HLOOKUP(\"KEL\",TABMAPEL_X,DBLOGIC!AW2,FALSE)","v":"A"},{"$f":"HLOOKUP(\"KEL\",TABMAPEL_X,DBLOGIC!AX2,FALSE)","v":"A"},{"$f":"HLOOKUP(\"KEL\",TABMAPEL_X,DBLOGIC!AY2,FALSE)","v":"A"},{"$f":"HLOOKUP(\"KEL\",TABMAPEL_X,DBLOGIC!AZ2,FALSE)","v":"A"},{"$f":"HLOOKUP(\"KEL\",TABMAPEL_X,DBLOGIC!BA2,FALSE)","v":"A"},{"$f":"HLOOKUP(\"KEL\",TABMAPEL_X,DBLOGIC!BB2,FALSE)","v":"A"},{"$f":"HLOOKUP(\"KEL\",TABMAPEL_X,DBLOGIC!BC2,FALSE)","v":"A"},{"$f":"HLOOKUP(\"KEL\",TABMAPEL_X,DBLOGIC!BD2,FALSE)","v":"A"},{"$f":"HLOOKUP(\"KEL\",TABMAPEL_X,DBLOGIC!BE2,FALSE)","v":"A"},{"$f":"HLOOKUP(\"KEL\",TABMAPEL_X,DBLOGIC!BF2,FALSE)","v":"A"},{"$f":"HLOOKUP(\"KEL\",TABMAPEL_X,DBLOGIC!BG2,FALSE)","v":"A"},{"$f":"HLOOKUP(\"KEL\",TABMAPEL_X,DBLOGIC!BH2,FALSE)","v":"A"},{"$f":"HLOOKUP(\"KEL\",TABMAPEL_X,DBLOGIC!BI2,FALSE)","v":"A"},{"$f":"HLOOKUP(\"KEL\",TABMAPEL_X,DBLOGIC!BJ2,FALSE)","v":"A"},{"$f":"HLOOKUP(\"KEL\",TABMAPEL_X,DBLOGIC!BK2,FALSE)","v":"A"},{"$f":"HLOOKUP(\"KEL\",TABMAPEL_X,DBLOGIC!BL2,FALSE)","v":"A"},{"$f":"HLOOKUP(\"KEL\",TABMAPEL_X,DBLOGIC!BM2,FALSE)","v":"A"},{"$f":"HLOOKUP(\"KEL\",TABMAPEL_X,DBLOGIC!BN2,FALSE)","v":"B"},{"$f":"HLOOKUP(\"KEL\",TABMAPEL_X,DBLOGIC!BO2,FALSE)","v":"B"},{"$f":"HLOOKUP(\"KEL\",TABMAPEL_X,DBLOGIC!BP2,FALSE)","v":"B"},{"$f":"HLOOKUP(\"KEL\",TABMAPEL_X,DBLOGIC!BQ2,FALSE)","v":"B"},{"$f":"HLOOKUP(\"KEL\",TABMAPEL_X,DBLOGIC!BR2,FALSE)","v":"B"},{"$f":"HLOOKUP(\"KEL\",TABMAPEL_X,DBLOGIC!BS2,FALSE)","v":"B"},{"$f":"HLOOKUP(\"KEL\",TABMAPEL_X,DBLOGIC!BT2,FALSE)","v":"B"},{"$f":"HLOOKUP(\"KEL\",TABMAPEL_X,DBLOGIC!BU2,FALSE)","v":"B"},{"$f":"HLOOKUP(\"KEL\",TABMAPEL_X,DBLOGIC!BV2,FALSE)","v":"B"},{"$f":"HLOOKUP(\"KEL\",TABMAPEL_X,DBLOGIC!BW2,FALSE)","v":"B"},{"$f":"HLOOKUP(\"KEL\",TABMAPEL_X,DBLOGIC!BX2,FALSE)","v":"B"},{"$f":"HLOOKUP(\"KEL\",TABMAPEL_X,DBLOGIC!BY2,FALSE)","v":"B"},{"$f":"HLOOKUP(\"KEL\",TABMAPEL_X,DBLOGIC!BZ2,FALSE)","v":"B"},{"$f":"HLOOKUP(\"KEL\",TABMAPEL_X,DBLOGIC!CA2,FALSE)","v":"B"},{"$f":"HLOOKUP(\"KEL\",TABMAPEL_X,DBLOGIC!CB2,FALSE)","v":"C1"},{"$f":"HLOOKUP(\"KEL\",TABMAPEL_X,DBLOGIC!CC2,FALSE)","v":"C1"},{"$f":"HLOOKUP(\"KEL\",TABMAPEL_X,DBLOGIC!CD2,FALSE)","v":"C1"},{"$f":"HLOOKUP(\"KEL\",TABMAPEL_X,DBLOGIC!CE2,FALSE)","v":"C1"},{"$f":"HLOOKUP(\"KEL\",TABMAPEL_X,DBLOGIC!CF2,FALSE)","v":"C1"},{"$f":"HLOOKUP(\"KEL\",TABMAPEL_X,DBLOGIC!CG2,FALSE)","v":"C1"},{"$f":"HLOOKUP(\"KEL\",TABMAPEL_X,DBLOGIC!CH2,FALSE)","v":"C1"},{"$f":"HLOOKUP(\"KEL\",TABMAPEL_X,DBLOGIC!CI2,FALSE)","v":"C1"},{"$f":"HLOOKUP(\"KEL\",TABMAPEL_X,DBLOGIC!CJ2,FALSE)","v":"C1"},{"$f":"HLOOKUP(\"KEL\",TABMAPEL_X,DBLOGIC!CK2,FALSE)","v":"C1"},{"$f":"HLOOKUP(\"KEL\",TABMAPEL_X,DBLOGIC!CL2,FALSE)","v":"C1"},{"$f":"HLOOKUP(\"KEL\",TABMAPEL_X,DBLOGIC!CM2,FALSE)","v":"C1"},{"$f":"HLOOKUP(\"KEL\",TABMAPEL_X,DBLOGIC!CN2,FALSE)","v":"C1"},{"$f":"HLOOKUP(\"KEL\",TABMAPEL_X,DBLOGIC!CO2,FALSE)","v":"C1"},{"$f":"HLOOKUP(\"KEL\",TABMAPEL_X,DBLOGIC!CP2,FALSE)","v":"C1"},{"$f":"HLOOKUP(\"KEL\",TABMAPEL_X,DBLOGIC!CQ2,FALSE)","v":"C1"},{"$f":"HLOOKUP(\"KEL\",TABMAPEL_X,DBLOGIC!CR2,FALSE)","v":"C1"},{"$f":"HLOOKUP(\"KEL\",TABMAPEL_X,DBLOGIC!CS2,FALSE)","v":"C1"},{"$f":"HLOOKUP(\"KEL\",TABMAPEL_X,DBLOGIC!CT2,FALSE)","v":"C1"},{"$f":"HLOOKUP(\"KEL\",TABMAPEL_X,DBLOGIC!CU2,FALSE)","v":"C1"},{"$f":"HLOOKUP(\"KEL\",TABMAPEL_X,DBLOGIC!CV2,FALSE)","v":"C1"},{"$f":"HLOOKUP(\"KEL\",TABMAPEL_X,DBLOGIC!CW2,FALSE)","v":"C2"},{"$f":"HLOOKUP(\"KEL\",TABMAPEL_X,DBLOGIC!CX2,FALSE)","v":"C2"},{"$f":"HLOOKUP(\"KEL\",TABMAPEL_X,DBLOGIC!CY2,FALSE)","v":"C2"},{"$f":"HLOOKUP(\"KEL\",TABMAPEL_X,DBLOGIC!CZ2,FALSE)","v":"C2"},{"$f":"HLOOKUP(\"KEL\",TABMAPEL_X,DBLOGIC!DA2,FALSE)","v":"C2"},{"$f":"HLOOKUP(\"KEL\",TABMAPEL_X,DBLOGIC!DB2,FALSE)","v":"C2"},{"$f":"HLOOKUP(\"KEL\",TABMAPEL_X,DBLOGIC!DC2,FALSE)","v":"C2"},{"$f":"HLOOKUP(\"KEL\",TABMAPEL_X,DBLOGIC!DD2,FALSE)","v":"C2"},{"$f":"HLOOKUP(\"KEL\",TABMAPEL_X,DBLOGIC!DE2,FALSE)","v":"C2"},{"$f":"HLOOKUP(\"KEL\",TABMAPEL_X,DBLOGIC!DF2,FALSE)","v":"C2"},{"$f":"HLOOKUP(\"KEL\",TABMAPEL_X,DBLOGIC!DG2,FALSE)","v":"C2"},{"$f":"HLOOKUP(\"KEL\",TABMAPEL_X,DBLOGIC!DH2,FALSE)","v":"C2"},{"$f":"HLOOKUP(\"KEL\",TABMAPEL_X,DBLOGIC!DI2,FALSE)","v":"C2"},{"$f":"HLOOKUP(\"KEL\",TABMAPEL_X,DBLOGIC!DJ2,FALSE)","v":"C2"},{"$f":"HLOOKUP(\"KEL\",TABMAPEL_X,DBLOGIC!DK2,FALSE)","v":"C2"},{"$f":"HLOOKUP(\"KEL\",TABMAPEL_X,DBLOGIC!DL2,FALSE)","v":"C2"},{"$f":"HLOOKUP(\"KEL\",TABMAPEL_X,DBLOGIC!DM2,FALSE)","v":"C2"},{"$f":"HLOOKUP(\"KEL\",TABMAPEL_X,DBLOGIC!DN2,FALSE)","v":"C2"},{"$f":"HLOOKUP(\"KEL\",TABMAPEL_X,DBLOGIC!DO2,FALSE)","v":"C2"},{"$f":"HLOOKUP(\"KEL\",TABMAPEL_X,DBLOGIC!DP2,FALSE)","v":"C2"},{"$f":"HLOOKUP(\"KEL\",TABMAPEL_X,DBLOGIC!DQ2,FALSE)","v":"C2"},{"$f":"HLOOKUP(\"KEL\",TABMAPEL_X,DBLOGIC!DR2,FALSE)","v":"C2"},{"$f":"HLOOKUP(\"KEL\",TABMAPEL_X,DBLOGIC!DS2,FALSE)","v":"C2"},{"$f":"HLOOKUP(\"KEL\",TABMAPEL_X,DBLOGIC!DT2,FALSE)","v":"C2"},{"$f":"HLOOKUP(\"KEL\",TABMAPEL_X,DBLOGIC!DU2,FALSE)","v":"C2"},{"$f":"HLOOKUP(\"KEL\",TABMAPEL_X,DBLOGIC!DV2,FALSE)","v":"C2"},{"$f":"HLOOKUP(\"KEL\",TABMAPEL_X,DBLOGIC!DW2,FALSE)","v":"C2"},{"$f":"HLOOKUP(\"KEL\",TABMAPEL_X,DBLOGIC!DX2,FALSE)","v":"C2"},{"$f":"HLOOKUP(\"KEL\",TABMAPEL_X,DBLOGIC!DY2,FALSE)","v":"C3"},{"$f":"HLOOKUP(\"KEL\",TABMAPEL_X,DBLOGIC!DZ2,FALSE)","v":"C3"},{"$f":"HLOOKUP(\"KEL\",TABMAPEL_X,DBLOGIC!EA2,FALSE)","v":"C3"},{"$f":"HLOOKUP(\"KEL\",TABMAPEL_X,DBLOGIC!EB2,FALSE)","v":"C3"},{"$f":"HLOOKUP(\"KEL\",TABMAPEL_X,DBLOGIC!EC2,FALSE)","v":"C3"},{"$f":"HLOOKUP(\"KEL\",TABMAPEL_X,DBLOGIC!ED2,FALSE)","v":"C3"},{"$f":"HLOOKUP(\"KEL\",TABMAPEL_X,DBLOGIC!EE2,FALSE)","v":"C3"},{"$f":"HLOOKUP(\"KEL\",TABMAPEL_X,DBLOGIC!EF2,FALSE)","v":"C3"},{"$f":"HLOOKUP(\"KEL\",TABMAPEL_X,DBLOGIC!EG2,FALSE)","v":"C3"},{"$f":"HLOOKUP(\"KEL\",TABMAPEL_X,DBLOGIC!EH2,FALSE)","v":"C3"},{"$f":"HLOOKUP(\"KEL\",TABMAPEL_X,DBLOGIC!EI2,FALSE)","v":"C3"},{"$f":"HLOOKUP(\"KEL\",TABMAPEL_X,DBLOGIC!EJ2,FALSE)","v":"C3"},{"$f":"HLOOKUP(\"KEL\",TABMAPEL_X,DBLOGIC!EK2,FALSE)","v":"C3"},{"$f":"HLOOKUP(\"KEL\",TABMAPEL_X,DBLOGIC!EL2,FALSE)","v":"C3"},{"$f":"HLOOKUP(\"KEL\",TABMAPEL_X,DBLOGIC!EM2,FALSE)","v":"C3"},{"$f":"HLOOKUP(\"KEL\",TABMAPEL_X,DBLOGIC!EN2,FALSE)","v":"C3"},{"$f":"HLOOKUP(\"KEL\",TABMAPEL_X,DBLOGIC!EO2,FALSE)","v":"C3"},{"$f":"HLOOKUP(\"KEL\",TABMAPEL_X,DBLOGIC!EP2,FALSE)","v":"C3"},{"$f":"HLOOKUP(\"KEL\",TABMAPEL_X,DBLOGIC!EQ2,FALSE)","v":"C3"},{"$f":"HLOOKUP(\"KEL\",TABMAPEL_X,DBLOGIC!ER2,FALSE)","v":"C3"},{"$f":"HLOOKUP(\"KEL\",TABMAPEL_X,DBLOGIC!ES2,FALSE)","v":"C3"},{"$f":"HLOOKUP(\"KEL\",TABMAPEL_X,DBLOGIC!ET2,FALSE)","v":"C3"},{"$f":"HLOOKUP(\"KEL\",TABMAPEL_X,DBLOGIC!EU2,FALSE)","v":"C3"},{"$f":"HLOOKUP(\"KEL\",TABMAPEL_X,DBLOGIC!EV2,FALSE)","v":"C3"},{"$f":"HLOOKUP(\"KEL\",TABMAPEL_X,DBLOGIC!EW2,FALSE)","v":"C3"},{"$f":"HLOOKUP(\"KEL\",TABMAPEL_X,DBLOGIC!EX2,FALSE)","v":"C3"},{"$f":"HLOOKUP(\"KEL\",TABMAPEL_X,DBLOGIC!EY2,FALSE)","v":"C3"},{"$f":"HLOOKUP(\"KEL\",TABMAPEL_X,DBLOGIC!EZ2,FALSE)","v":"C3"},{"$f":"HLOOKUP(\"KEL\",TABMAPEL_X,DBLOGIC!FA2,FALSE)","v":"C3"},{"$f":"HLOOKUP(\"KEL\",TABMAPEL_X,DBLOGIC!FB2,FALSE)","v":"C3"},{"$f":"HLOOKUP(\"KEL\",TABMAPEL_X,DBLOGIC!FC2,FALSE)","v":"C3"},{"$f":"HLOOKUP(\"KEL\",TABMAPEL_X,DBLOGIC!FD2,FALSE)","v":"C3"},{"$f":"HLOOKUP(\"KEL\",TABMAPEL_X,DBLOGIC!FE2,FALSE)","v":"C3"},{"$f":"HLOOKUP(\"KEL\",TABMAPEL_X,DBLOGIC!FF2,FALSE)","v":"C3"},{"$f":"HLOOKUP(\"KEL\",TABMAPEL_X,DBLOGIC!FG2,FALSE)","v":"C3"},{"$f":"HLOOKUP(\"KEL\",TABMAPEL_X,DBLOGIC!FH2,FALSE)","v":"C3"},{"$f":"HLOOKUP(\"KEL\",TABMAPEL_X,DBLOGIC!FI2,FALSE)","v":"C3"},{"$f":"HLOOKUP(\"KEL\",TABMAPEL_X,DBLOGIC!FJ2,FALSE)","v":"C3"},{"$f":"HLOOKUP(\"KEL\",TABMAPEL_X,DBLOGIC!FK2,FALSE)","v":"C3"},{"$f":"HLOOKUP(\"KEL\",TABMAPEL_X,DBLOGIC!FL2,FALSE)","v":"C3"},{"$f":"HLOOKUP(\"KEL\",TABMAPEL_X,DBLOGIC!FM2,FALSE)","v":"C3"},{"$f":"HLOOKUP(\"KEL\",TABMAPEL_X,DBLOGIC!FN2,FALSE)","v":"C3"},{"$f":"HLOOKUP(\"KEL\",TABMAPEL_X,DBLOGIC!FO2,FALSE)","v":"M"},{"$f":"HLOOKUP(\"KEL\",TABMAPEL_X,DBLOGIC!FP2,FALSE)","v":"M"},{"$f":"HLOOKUP(\"KEL\",TABMAPEL_X,DBLOGIC!FQ2,FALSE)","v":"M"},{"$f":"HLOOKUP(\"KEL\",TABMAPEL_X,DBLOGIC!FR2,FALSE)","v":"M"},{"$f":"HLOOKUP(\"KEL\",TABMAPEL_X,DBLOGIC!FS2,FALSE)","v":"M"},{"$f":"HLOOKUP(\"KEL\",TABMAPEL_X,DBLOGIC!FT2,FALSE)","v":"M"},{"$f":"HLOOKUP(\"KEL\",TABMAPEL_X,DBLOGIC!FU2,FALSE)","v":"M"},{"$f":"HLOOKUP(\"KEL\",TABMAPEL_X,DBLOGIC!FV2,FALSE)","v":"M"},{"$f":"HLOOKUP(\"KEL\",TABMAPEL_X,DBLOGIC!FW2,FALSE)","v":"M"},{"$f":"HLOOKUP(\"KEL\",TABMAPEL_X,DBLOGIC!FX2,FALSE)","v":"M"},{"$f":"HLOOKUP(\"KEL\",TABMAPEL_X,DBLOGIC!FY2,FALSE)","v":"M"},{"$f":"HLOOKUP(\"KEL\",TABMAPEL_X,DBLOGIC!FZ2,FALSE)","v":"M"},{"$f":"HLOOKUP(\"KEL\",TABMAPEL_X,DBLOGIC!GA2,FALSE)","v":"M"},{"$f":"HLOOKUP(\"KEL\",TABMAPEL_X,DBLOGIC!GB2,FALSE)","v":"M"}]
["Wali Kelas :",{"$f":"TITIMANGSA!D8","v":"Amo Sisdianto, S.Kom"},"URUTAN MAPEL",1,{"$f":"D4","v":1},{"$f":"E4","v":1},1,1,1,1,{"$f":"IF(K2=\"-\",0,MAX($D$4:J4)+1)","v":2},{"$f":"K4","v":2},2,2,2,2,2,{"$f":"IF(R2=\"-\",0,MAX($D$4:Q4)+1)","v":3},{"$f":"R4","v":3},3,3,3,3,3,{"$f":"IF(Y2=\"-\",0,MAX($D$4:X4)+1)","v":4},{"$f":"Y4","v":4},4,4,4,4,4,{"$f":"IF(AF2=\"-\",0,MAX($D$4:AE4)+1)","v":5},{"$f":"AF4","v":5},5,5,5,5,5,{"$f":"IF(AM2=\"-\",0,MAX($D$4:AL4)+1)","v":6},{"$f":"AM4","v":6},6,6,6,6,6,{"$f":"IF(AT2=\"-\",0,MAX($D$4:AS4)+1)","v":0},{"$f":"AT4","v":0},0,0,0,0,0,{"$f":"IF(BA2=\"-\",0,MAX($D$4:AZ4)+1)","v":7},{"$f":"BA4","v":7},7,7,7,7,7,{"$f":"IF(BH2=\"-\",0,MAX($D$4:BG4)+1)","v":8},{"$f":"BH4","v":8},8,8,8,8,8,{"$f":"IF(BO2=\"-\",0,MAX($D$4:BN4)+1)","v":9},{"$f":"BO4","v":9},9,9,9,9,9,{"$f":"IF(BV2=\"-\",0,MAX($D$4:BU4)+1)","v":10},{"$f":"BV4","v":10},10,10,10,10,10,{"$f":"IF(CC2=\"-\",0,MAX($D$4:CB4)+1)","v":11},{"$f":"CC4","v":11},11,11,11,11,11,{"$f":"IF(CJ2=\"-\",0,MAX($D$4:CI4)+1)","v":12},{"$f":"CJ4","v":12},12,12,12,12,12,{"$f":"IF(CQ2=\"-\",0,MAX($D$4:CP4)+1)","v":13},{"$f":"CQ4","v":13},13,13,13,13,13,{"$f":"IF(CX2=\"-\",0,MAX($D$4:CW4)+1)","v":14},{"$f":"CX4","v":14},14,14,14,14,14,{"$f":"IF(DE2=\"-\",0,MAX($D$4:DD4)+1)","v":0},{"$f":"DE4","v":0},0,0,0,0,0,{"$f":"IF(DL2=\"-\",0,MAX($D$4:DK4)+1)","v":0},{"$f":"DL4","v":0},0,0,0,0,0,{"$f":"IF(DS2=\"-\",0,MAX($D$4:DR4)+1)","v":0},{"$f":"DS4","v":0},0,0,0,0,0,{"$f":"IF(DZ2=\"-\",0,MAX($D$4:DY4)+1)","v":0},{"$f":"DZ4","v":0},0,0,0,0,0,{"$f":"IF(EG2=\"-\",0,MAX($D$4:EF4)+1)","v":0},{"$f":"EG4","v":0},0,0,0,0,0,{"$f":"IF(EN2=\"-\",0,MAX($D$4:EM4)+1)","v":0},{"$f":"EN4","v":0},0,0,0,0,0,{"$f":"IF(EU2=\"-\",0,MAX($D$4:ET4)+1)","v":0},{"$f":"EU4","v":0},0,0,0,0,0,{"$f":"IF(FB2=\"-\",0,MAX($D$4:FA4)+1)","v":15},{"$f":"FB4","v":15},15,15,15,15,15,{"$f":"IF(FI2=\"-\",0,MAX($D$4:FH4)+1)","v":16},{"$f":"FI4","v":16},16,16,16,16,16]
[{"$f":"TITIMANGSA!D7","v":0},{"$f":"TITIMANGSA!D9","v":0},"KKM",75,75,75,75,75,75,75,75,75,75,75,75,75,75,75,75,75,75,75,75,75,75,75,75,75,75,75,75,75,75,75,75,75,75,75,75,75,75,75,75,75,75,75,75,75,75,75,75,75,75,75,75,75,75,75,75,75,75,75,75,75,75,75,75,75,75,75,75,75,75,75,75,75,75,75,75,75,75,75,75,75,75,75,75,75,75,75,75,75,75,75,75,75,75,75,75,75,75,75,75,75,75,75,75,75,75,75,75,75,75,75,75,75,75,75,75,75,75,75,75,75,75,75,75,75,75,75,75,75,75,75,75,75,75,75,75,75,75,75,75,75,75,75,75,75,75,75,75,75,75,75,75,75,75,75,75,75,75,75,75,75,75,75,75,75,75,75,75]
[null,null,"TOPIK PER KD","Shalat",null,"Zakat",null,3,null,"-",{"$f":"H6+1","v":4},null,{"$f":"K6+1","v":5},null,{"$f":"M6+1","v":6},null,"-",{"$f":"O6+1","v":7},null,{"$f":"R6+1","v":8},null,{"$f":"T6+1","v":9},null,"-",{"$f":"V6+1","v":10},null,{"$f":"Y6+1","v":11},null,{"$f":"AA6+1","v":12},null,"-",{"$f":"AC6+1","v":13},null,{"$f":"AF6+1","v":14},null,{"$f":"AH6+1","v":15},null,"-",{"$f":"AJ6+1","v":16},null,{"$f":"AM6+1","v":17},null,{"$f":"AO6+1","v":18},null,"-",{"$f":"AQ6+1","v":19},null,{"$f":"AT6+1","v":20},null,{"$f":"AV6+1","v":21},null,"-",{"$f":"AX6+1","v":22},null,{"$f":"BA6+1","v":23},null,{"$f":"BC6+1","v":24},null,"-",{"$f":"BE6+1","v":25},null,{"$f":"BH6+1","v":26},null,{"$f":"BJ6+1","v":27},null,"-",{"$f":"BL6+1","v":28},null,{"$f":"BO6+1","v":29},null,{"$f":"BQ6+1","v":30},null,"-",{"$f":"BS6+1","v":31},null,{"$f":"BV6+1","v":32},null,{"$f":"BX6+1","v":33},null,"-",{"$f":"BZ6+1","v":34},null,{"$f":"CC6+1","v":35},null,{"$f":"CE6+1","v":36},null,"-",{"$f":"CG6+1","v":37},null,{"$f":"CJ6+1","v":38},null,{"$f":"CL6+1","v":39},null,"-",{"$f":"CN6+1","v":40},null,{"$f":"CQ6+1","v":41},null,{"$f":"CS6+1","v":42},null,"-",{"$f":"CU6+1","v":43},null,{"$f":"CX6+1","v":44},null,{"$f":"CZ6+1","v":45},null,"-",{"$f":"DB6+1","v":46},null,{"$f":"DE6+1","v":47},null,{"$f":"DG6+1","v":48},null,"-",{"$f":"DI6+1","v":49},null,{"$f":"DL6+1","v":50},null,{"$f":"DN6+1","v":51},null,"-",{"$f":"DP6+1","v":52},null,{"$f":"DS6+1","v":53},null,{"$f":"DU6+1","v":54},null,"-",{"$f":"DW6+1","v":55},null,{"$f":"DZ6+1","v":56},null,{"$f":"EB6+1","v":57},null,"-",{"$f":"ED6+1","v":58},null,{"$f":"EG6+1","v":59},null,{"$f":"EI6+1","v":60},null,"-",{"$f":"EK6+1","v":61},null,{"$f":"EN6+1","v":62},null,{"$f":"EP6+1","v":63},null,"-",{"$f":"ER6+1","v":64},null,{"$f":"EU6+1","v":65},null,{"$f":"EW6+1","v":66},null,"-",{"$f":"EY6+1","v":67},null,{"$f":"FB6+1","v":68},null,{"$f":"FD6+1","v":69},null,"-",{"$f":"FF6+1","v":70},null,{"$f":"FI6+1","v":71},null,{"$f":"FK6+1","v":72},null,"-"]
["NO. URUT","NAMA SISWA","NIS",2,{"$f":"D7+1","v":3},{"$f":"E7+1","v":4},{"$f":"F7+1","v":5},{"$f":"G7+1","v":6},{"$f":"H7+1","v":7},{"$f":"I7+1","v":8},{"$f":"J7+1","v":9},{"$f":"K7+1","v":10},{"$f":"L7+1","v":11},{"$f":"M7+1","v":12},{"$f":"N7+1","v":13},{"$f":"O7+1","v":14},{"$f":"P7+1","v":15},{"$f":"Q7+1","v":16},{"$f":"R7+1","v":17},{"$f":"S7+1","v":18},{"$f":"T7+1","v":19},{"$f":"U7+1","v":20},{"$f":"V7+1","v":21},{"$f":"W7+1","v":22},{"$f":"X7+1","v":23},{"$f":"Y7+1","v":24},{"$f":"Z7+1","v":25},{"$f":"AA7+1","v":26},{"$f":"AB7+1","v":27},{"$f":"AC7+1","v":28},{"$f":"AD7+1","v":29},{"$f":"AE7+1","v":30},{"$f":"AF7+1","v":31},{"$f":"AG7+1","v":32},{"$f":"AH7+1","v":33},{"$f":"AI7+1","v":34},{"$f":"AJ7+1","v":35},{"$f":"AK7+1","v":36},{"$f":"AL7+1","v":37},{"$f":"AM7+1","v":38},{"$f":"AN7+1","v":39},{"$f":"AO7+1","v":40},{"$f":"AP7+1","v":41},{"$f":"AQ7+1","v":42},{"$f":"AR7+1","v":43},{"$f":"AS7+1","v":44},{"$f":"AT7+1","v":45},{"$f":"AU7+1","v":46},{"$f":"AV7+1","v":47},{"$f":"AW7+1","v":48},{"$f":"AX7+1","v":49},{"$f":"AY7+1","v":50},{"$f":"AZ7+1","v":51},{"$f":"BA7+1","v":52},{"$f":"BB7+1","v":53},{"$f":"BC7+1","v":54},{"$f":"BD7+1","v":55},{"$f":"BE7+1","v":56},{"$f":"BF7+1","v":57},{"$f":"BG7+1","v":58},{"$f":"BH7+1","v":59},{"$f":"BI7+1","v":60},{"$f":"BJ7+1","v":61},{"$f":"BK7+1","v":62},{"$f":"BL7+1","v":63},{"$f":"BM7+1","v":64},{"$f":"BN7+1","v":65},{"$f":"BO7+1","v":66},{"$f":"BP7+1","v":67},{"$f":"BQ7+1","v":68},{"$f":"BR7+1","v":69},{"$f":"BS7+1","v":70},{"$f":"BT7+1","v":71},{"$f":"BU7+1","v":72},{"$f":"BV7+1","v":73},{"$f":"BW7+1","v":74},{"$f":"BX7+1","v":75},{"$f":"BY7+1","v":76},{"$f":"BZ7+1","v":77},{"$f":"CA7+1","v":78},{"$f":"CB7+1","v":79},{"$f":"CC7+1","v":80},{"$f":"CD7+1","v":81},{"$f":"CE7+1","v":82},{"$f":"CF7+1","v":83},{"$f":"CG7+1","v":84},{"$f":"CH7+1","v":85},{"$f":"CI7+1","v":86},{"$f":"CJ7+1","v":87},{"$f":"CK7+1","v":88},{"$f":"CL7+1","v":89},{"$f":"CM7+1","v":90},{"$f":"CN7+1","v":91},{"$f":"CO7+1","v":92},{"$f":"CP7+1","v":93},{"$f":"CQ7+1","v":94},{"$f":"CR7+1","v":95},{"$f":"CS7+1","v":96},{"$f":"CT7+1","v":97},{"$f":"CU7+1","v":98},{"$f":"CV7+1","v":99},{"$f":"CW7+1","v":100},{"$f":"CX7+1","v":101},{"$f":"CY7+1","v":102},{"$f":"CZ7+1","v":103},{"$f":"DA7+1","v":104},{"$f":"DB7+1","v":105},{"$f":"DC7+1","v":106},{"$f":"DD7+1","v":107},{"$f":"DE7+1","v":108},{"$f":"DF7+1","v":109},{"$f":"DG7+1","v":110},{"$f":"DH7+1","v":111},{"$f":"DI7+1","v":112},{"$f":"DJ7+1","v":113},{"$f":"DK7+1","v":114},{"$f":"DL7+1","v":115},{"$f":"DM7+1","v":116},{"$f":"DN7+1","v":117},{"$f":"DO7+1","v":118},{"$f":"DP7+1","v":119},{"$f":"DQ7+1","v":120},{"$f":"DR7+1","v":121},{"$f":"DS7+1","v":122},{"$f":"DT7+1","v":123},{"$f":"DU7+1","v":124},{"$f":"DV7+1","v":125},{"$f":"DW7+1","v":126},{"$f":"DX7+1","v":127},{"$f":"DY7+1","v":128},{"$f":"DZ7+1","v":129},{"$f":"EA7+1","v":130},{"$f":"EB7+1","v":131},{"$f":"EC7+1","v":132},{"$f":"ED7+1","v":133},{"$f":"EE7+1","v":134},{"$f":"EF7+1","v":135},{"$f":"EG7+1","v":136},{"$f":"EH7+1","v":137},{"$f":"EI7+1","v":138},{"$f":"EJ7+1","v":139},{"$f":"EK7+1","v":140},{"$f":"EL7+1","v":141},{"$f":"EM7+1","v":142},{"$f":"EN7+1","v":143},{"$f":"EO7+1","v":144},{"$f":"EP7+1","v":145},{"$f":"EQ7+1","v":146},{"$f":"ER7+1","v":147},{"$f":"ES7+1","v":148},{"$f":"ET7+1","v":149},{"$f":"EU7+1","v":150},{"$f":"EV7+1","v":151},{"$f":"EW7+1","v":152},{"$f":"EX7+1","v":153},{"$f":"EY7+1","v":154},{"$f":"EZ7+1","v":155},{"$f":"FA7+1","v":156},{"$f":"FB7+1","v":157},{"$f":"FC7+1","v":158},{"$f":"FD7+1","v":159},{"$f":"FE7+1","v":160},{"$f":"FF7+1","v":161},{"$f":"FG7+1","v":162},{"$f":"FH7+1","v":163},{"$f":"FI7+1","v":164},{"$f":"FJ7+1","v":165},{"$f":"FK7+1","v":166},{"$f":"FL7+1","v":167},{"$f":"FM7+1","v":168},{"$f":"FN7+1","v":169},{"$f":"FO7+1","v":170},{"$f":"FP7+1","v":171},{"$f":"FQ7+1","v":172}]
[{"$f":"BIODATA!A5","v":1},{"$f":"BIODATA!C5","v":"ADAM ADIYAT HARTANTO"},{"$f":"BIODATA!D5","v":16170535},2,{"$f":"D8+1","v":3},{"$f":"IF(E8=100,75,E8+1)","v":4},5,6,7,8,9,10,11,12,13,14,15,16,17,18,19,20,21,22,23,24,25,26,27,28,29,30,31,32,33,34,35,36,37,38,39,40,41,42,43,44,45,46,47,48,49,50,51,52,53,54,55,56,57,58,59,60,61,62,63,64,65,66,67,{"$f":"IF(BQ8=100,75,BQ8+1)","v":68},69,70,71,72,73,74,75,76,77,78,79,80,81,82,83,84,85,86,87,88,89,90,91,92,93,94,95,96,97,98,99,100,75,76,77,78,79,80,81,82,83,84,85,86,87,88,89,90,91,92,93,94,95,96,97,98,99,100,75,76,77,78,79,{"$f":"IF(EC8=100,75,EC8+1)","v":80},81,82,83,84,85,86,87,88,89,90,91,92,93,94,95,96,97,98,99,100,75,76,77,78,79,80,81,82,83,84,85,86,87,88,89,90,91]
[{"$f":"BIODATA!A6","v":2},{"$f":"BIODATA!C6","v":"ADAM MAULANA RIZALDI"},{"$f":"BIODATA!D6","v":16170449},11,{"$f":"IF(D9=100,75,D9+1)","v":12},13,14,15,16,17,18,19,20,21,22,23,24,25,26,27,28,29,30,31,32,33,34,35,36,37,38,39,40,41,42,43,44,45,46,47,48,49,50,51,52,53,54,55,56,57,58,59,60,61,62,63,64,65,66,67,68,69,70,71,72,73,74,75,{"$f":"IF(BP9=100,75,BP9+1)","v":76},77,78,79,80,81,82,83,84,85,86,87,88,89,90,91,92,93,94,95,96,97,98,99,100,75,76,77,78,79,80,81,82,83,84,85,86,87,88,89,90,91,92,93,94,95,96,97,98,99,100,75,76,77,78,79,80,81,82,83,84,85,86,87,{"$f":"IF(EB9=100,75,EB9+1)","v":88},89,90,91,92,93,94,95,96,97,98,99,100,75,76,77,78,79,80,81,82,83,84,85,86,87,88,89,90,91,92,93,94,95,96,97,98,99,100]
[{"$f":"BIODATA!A7","v":3},{"$f":"BIODATA!C7","v":"BAGAS ADJI PRIANTOMO"},{"$f":"BIODATA!D7","v":16170371},75,76,77,78,79,80,81,82,83,84,85,86,87,88,89,90,91,92,93,94,95,96,97,98,99,100,75,76,77,78,79,80,81,82,83,84,85,86,87,88,89,90,91,92,93,94,95,96,97,98,99,100,75,76,77,78,79,80,81,82,83,84,85,86,87,88,89,90,91,92,93,94,95,96,97,98,99,100,75,76,77,78,79,80,81,82,83,84,85,86,87,88,89,90,91,92,93,94,95,96,97,98,99,100,75,76,77,78,79,80,81,82,83,84,85,86,87,88,89,90,91,92,93,94,95,96,97,98,99,100,75,76,77,78,79,80,81,82,83,84,85,86,87,88,89,90,91,92,93,94,95,96,97,98,99,100,75,76,77,78,79,80,81,82,83,84,85,86]
[{"$f":"BIODATA!A8","v":4},{"$f":"BIODATA!C8","v":"CARWAN HIDAYAT"},{"$f":"BIODATA!D8","v":16170585}]
[{"$f":"BIODATA!A9","v":5},{"$f":"BIODATA!C9","v":"CEPI YANWARI"},{"$f":"BIODATA!D9","v":16170586}]
[{"$f":"BIODATA!A10","v":6},{"$f":"BIODATA!C10","v":"DEDE MAULANA RUSDIANTA"},{"$f":"BIODATA!D10","v":16170414}]
[{"$f":"BIODATA!A11","v":7},{"$f":"BIODATA!C11","v":"DEDI ROCHMAN"},{"$f":"BIODATA!D11","v":16170457}]
[{"$f":"BIODATA!A12","v":8},{"$f":"BIODATA!C12","v":"DIMAS YOGA AJI SETIAWAN"},{"$f":"BIODATA!D12","v":16170546}]
[{"$f":"BIODATA!A13","v":9},{"$f":"BIODATA!C13","v":"ERIK PRIHASABA PEBRIANSYAH"},{"$f":"BIODATA!D13","v":16170547}]
[{"$f":"BIODATA!A14","v":10},{"$f":"BIODATA!C14","v":"GALIH RAKASIWI"},{"$f":"BIODATA!D14","v":16170464}]
[{"$f":"BIODATA!A15","v":11},{"$f":"BIODATA!C15","v":"JOHANI"},{"$f":"BIODATA!D15","v":16170468}]
[{"$f":"BIODATA!A16","v":12},{"$f":"BIODATA!C16","v":"LATHIF FERIANSYAH"},{"$f":"BIODATA!D16","v":16170675}]
[{"$f":"BIODATA!A17","v":13},{"$f":"BIODATA!C17","v":"MAULANA JUHRI"},{"$f":"BIODATA!D17","v":16170423}]
[{"$f":"BIODATA!A18","v":14},{"$f":"BIODATA!C18","v":"MOHAMMAD HERRY ALFAJRI"},{"$f":"BIODATA!D18","v":16170473}]
[{"$f":"BIODATA!A19","v":15},{"$f":"BIODATA!C19","v":"MUHAMAD SIDI"},{"$f":"BIODATA!D19","v":16170426}]
[{"$f":"BIODATA!A20","v":16},{"$f":"BIODATA!C20","v":"MUHAMMAD ARDI RUHYAT"},{"$f":"BIODATA!D20","v":16170427}]
[{"$f":"BIODATA!A21","v":17},{"$f":"BIODATA!C21","v":"MUHAMMAD FIKRI AWALUDIN"},{"$f":"BIODATA!D21","v":16170429}]
[{"$f":"BIODATA!A22","v":18},{"$f":"BIODATA!C22","v":"MUHAMMAD PADILAH"},{"$f":"BIODATA!D22","v":16170428}]
[{"$f":"BIODATA!A23","v":19},{"$f":"BIODATA!C23","v":"MUHIBU FATHURROHMAN"},{"$f":"BIODATA!D23","v":16170430}]
[{"$f":"BIODATA!A24","v":20},{"$f":"BIODATA!C24","v":"OKKE KINDI ADI PANGESTU"},{"$f":"BIODATA!D24","v":16170391}]
[{"$f":"BIODATA!A25","v":21},{"$f":"BIODATA!C25","v":"RAMADHAN"},{"$f":"BIODATA!D25","v":"16170480"}]
[{"$f":"BIODATA!A26","v":22},{"$f":"BIODATA!C26","v":"RENDY RAHMADI"},{"$f":"BIODATA!D26","v":16170683}]
[{"$f":"BIODATA!A27","v":23},{"$f":"BIODATA!C27","v":"RIFAN BAGUS ALDIANSYAH"},{"$f":"BIODATA!D27","v":16170433}]
[{"$f":"BIODATA!A28","v":24},{"$f":"BIODATA!C28","v":"RIVAL MAULANA"},{"$f":"BIODATA!D28","v":16170601}]
[{"$f":"BIODATA!A29","v":25},{"$f":"BIODATA!C29","v":"RIZKY FADHILAH"},{"$f":"BIODATA!D29","v":16170643}]
[{"$f":"BIODATA!A30","v":26},{"$f":"BIODATA!C30","v":"ROHMADI MUCHTAR"},{"$f":"BIODATA!D30","v":16170642}]
[{"$f":"BIODATA!A31","v":27},{"$f":"BIODATA!C31","v":"TANGGUH PRASETIA SUHARNA"},{"$f":"BIODATA!D31","v":16170605}]
[{"$f":"BIODATA!A32","v":28},{"$f":"BIODATA!C32","v":"TARIZ MAULIZIDANE FAZILLA"},{"$f":"BIODATA!D32","v":16170606}]
[{"$f":"BIODATA!A33","v":29},{"$f":"BIODATA!C33","v":"TUBAGUS AJANG SUMBOGA"},{"$f":"BIODATA!D33","v":16170443}]
[{"$f":"BIODATA!A34","v":30},{"$f":"BIODATA!C34","v":"WIKSAN ZUJALIS"},{"$f":"BIODATA!D34","v":16170611}]
[{"$f":"BIODATA!A35","v":31},{"$f":"BIODATA!C35","v":"YUNAN DWI SASONGKO"},{"$f":"BIODATA!D35","v":16170448}]
[{"$f":"BIODATA!A36","v":"-"},{"$f":"BIODATA!C36","v":0},{"$f":"BIODATA!D36","v":0}]
[{"$f":"BIODATA!A37","v":"-"},{"$f":"BIODATA!C37","v":0},{"$f":"BIODATA!D37","v":0}]
[{"$f":"BIODATA!A38","v":"-"},{"$f":"BIODATA!C38","v":0},{"$f":"BIODATA!D38","v":0}]
[{"$f":"BIODATA!A39","v":"-"},{"$f":"BIODATA!C39","v":0},{"$f":"BIODATA!D39","v":0}]
[{"$f":"BIODATA!A40","v":"-"},{"$f":"BIODATA!C40","v":0},{"$f":"BIODATA!D40","v":0}]
[]
[]
[]
[]
[]
[]
[]
[]
[]
[]
[]
[]
[]
[]
[]
[]
[]
[]
[]
[]
[]
[null,null,null,3.59]
[null,null,null,3.59]
[null,null,null,3.5]
[null,null,null,3.48]
[null,null,null,3.54]
[null,null,null,3.39]
[null,null,null,3.45]
[null,null,null,3.45]
[null,null,null,3.29]
[null,null,null,3.45]
[null,null,null,3.45]
[null,null,null,3.45]

{"sheet":"NILSM3","index":27,"n_rows":76,"n_cols":174,"rows_kept":76,"cut":false,"hidden":false,"merged":[[1,0,1,1]]}
[null,null,"NIS","PABT1","PABU1","PABT2","PABU2","PABT3","PABU3","PABH","PKNT1","PKNU1","PKNT2","PKNU2","PKNT3","PKNU3","PKNH","INDT1","INDU1","INDT2","INDU2","INDT3","INDU3","INDH","MTKT1","MTKU1","MTKT2","MTKU2","MTKT3","MTKU3","MTKH","SJIT1","SJIU1","SJIT2","SJIU2","SJIT3","SJIU3","SJIH","INGT1","INGU1","INGT2","INGU2","INGT3","INGU3","INGH","JERT1","JERU1","JERT2","JERU2","JERT3","JERU3","JERH","SBDT1","SBDU1","SBDT2","SBDU2","SBDT3","SBDU3","SBDH","PJOT1","PJOU1","PJOT2","PJOU2","PJOT3","PJOU3","PJOH","SKDT1","SKDU1","SKDT2","SKDU2","SKDT3","SKDU3","SKDH","FIST1","FISU1","FIST2","FISU2","FIST3","FISU3","FISH","KIMT1","KIMU1","KIMT2","KIMU2","KIMT3","KIMU3","KIMH","C21T1","C21U1","C21T2","C21U2","C21T3","C21U3","C21H","C22T1","C22U1","C22T2","C22U2","C22T3","C22U3","C22H","C23T1","C23U1","C23T2","C23U2","C23T3","C23U3","C23H","C24T1","C24U1","C24T2","C24U2","C24T3","C24U3","C24H","C31T1","C31U1","C31T2","C31U2","C31T3","C31U3","C31H","C32T1","C32U1","C32T2","C32U2","C32T3","C32U3","C32H","C33T1","C33U1","C33T2","C33U2","C33T3","C33U3","C33H","C34T1","C34U1","C34T2","C34U2","C34T3","C34U3","C34H","C35T1","C35U1","C35T2","C35U2","C35T3","C35U3","C35H","C36T1","C36U1","C36T2","C36U2","C36T3","C36U3","C36H","SUNT1","SUNU1","SUNT2","SUNU2","SUNT3","SUNU3","SUNH","PLHT1","PLHU1","PLHT2","PLHU2","PLHT3","PLHU3","PLHH",null,"BKN","CTT"]
[{"$f":"\"INPUT NILAI CAPAIAN KOMPETENSI TP \"&TITIMANGSA!D3","v":"INPUT NILAI CAPAIAN KOMPETENSI TP 2020 / 2021"},null,"                    NAMA MAPEL",{"$f":"IF(OR($B$3=\"1 (satu)\",$B$3=\"2 (dua)\"),HLOOKUP($C$3,TABMAPEL_X,DBLOGIC!Q2,FALSE),IF(OR($B$3=\"3 (tiga)\",$B$3=\"4 (empat)\"),HLOOKUP($C$3,TABMAPEL_XI,DBLOGIC!Q2,FALSE),IF(OR($B$3=\"5 (lima)\",$B$3=\"6 (enam)\"),HLOOKUP($C$3,TABMAPEL_XII,DBLOGIC!Q2,FALSE),IF(OR($B$3=\"7 (tujuh)\",$B$3=\"8 (delapan)\"),HLOOKUP($C$3,TABMAPEL_XIII,DBLOGIC!Q2,FALSE),0))))","v":"Pendidikan Agama dan Budi Pekerti"},{"$f":"IF(OR($B$3=\"1 (satu)\",$B$3=\"2 (dua)\"),HLOOKUP($C$3,TABMAPEL_X,DBLOGIC!R2,FALSE),IF(OR($B$3=\"3 (tiga)\",$B$3=\"4 (empat)\"),HLOOKUP($C$3,TABMAPEL_XI,DBLOGIC!R2,FALSE),IF(OR($B$3=\"5 (lima)\",$B$3=\"6 (enam)\"),HLOOKUP($C$3,TABMAPEL_XII,DBLOGIC!R2,FALSE),IF(OR($B$3=\"7 (tujuh)\",$B$3=\"8 (delapan)\"),HLOOKUP($C$3,TABMAPEL_XIII,DBLOGIC!R2,FALSE),0))))","v":"Pendidikan Agama dan Budi Pekerti"},{"$f":"IF(OR($B$3=\"1 (satu)\",$B$3=\"2 (dua)\"),HLOOKUP($C$3,TABMAPEL_X,DBLOGIC!S2,FALSE),IF(OR($B$3=\"3 (tiga)\",$B$3=\"4 (empat)\"),HLOOKUP($C$3,TABMAPEL_XI,DBLOGIC!S2,FALSE),IF(OR($B$3=\"5 (lima)\",$B$3=\"6 (enam)\"),HLOOKUP($C$3,TABMAPEL_XII,DBLOGIC!S2,FALSE),IF(OR($B$3=\"7 (tujuh)\",$B$3=\"8 (delapan)\"),HLOOKUP($C$3,TABMAPEL_XIII,DBLOGIC!S2,FALSE),0))))","v":"Pendidikan Agama dan Budi Pekerti"},{"$f":"IF(OR($B$3=\"1 (satu)\",$B$3=\"2 (dua)\"),HLOOKUP($C$3,TABMAPEL_X,DBLOGIC!T2,FALSE),IF(OR($B$3=\"3 (tiga)\",$B$3=\"4 (empat)\"),HLOOKUP($C$3,TABMAPEL_XI,DBLOGIC!T2,FALSE),IF(OR($B$3=\"5 (lima)\",$B$3=\"6 (enam)\"),HLOOKUP($C$3,TABMAPEL_XII,DBLOGIC!T2,FALSE),IF(OR($B$3=\"7 (tujuh)\",$B$3=\"8 (delapan)\"),HLOOKUP($C$3,TABMAPEL_XIII,DBLOGIC!T2,FALSE),0))))","v":"Pendidikan Agama dan Budi Pekerti"},{"$f":"IF(OR($B$3=\"1 (satu)\",$B$3=\"2 (dua)\"),HLOOKUP($C$3,TABMAPEL_X,DBLOGIC!U2,FALSE),IF(OR($B$3=\"3 (tiga)\",$B$3=\"4 (empat)\"),HLOOKUP($C$3,TABMAPEL_XI,DBLOGIC!U2,FALSE),IF(OR($B$3=\"5 (lima)\",$B$3=\"6 (enam)\"),HLOOKUP($C$3,TABMAPEL_XII,DBLOGIC!U2,FALSE),IF(OR($B$3=\"7 (tujuh)\",$B$3=\"8 (delapan)\"),HLOOKUP($C$3,TABMAPEL_XIII,DBLOGIC!U2,FALSE),0))))","v":"Pendidikan Agama dan Budi Pekerti"},{"$f":"IF(OR($B$3=\"1 (satu)\",$B$3=\"2 (dua)\"),HLOOKUP($C$3,TABMAPEL_X,DBLOGIC!V2,FALSE),IF(OR($B$3=\"3 (tiga)\",$B$3=\"4 (empat)\"),HLOOKUP($C$3,TABMAPEL_XI,DBLOGIC!V2,FALSE),IF(OR($B$3=\"5 (lima)\",$B$3=\"6 (enam)\"),HLOOKUP($C$3,TABMAPEL_XII,DBLOGIC!V2,FALSE),IF(OR($B$3=\"7 (tujuh)\",$B$3=\"8 (delapan)\"),HLOOKUP($C$3,TABMAPEL_XIII,DBLOGIC!V2,FALSE),0))))","v":"Pendidikan Agama dan Budi Pekerti"},{"$f":"IF(OR($B$3=\"1 (satu)\",$B$3=\"2 (dua)\"),HLOOKUP($C$3,TABMAPEL_X,DBLOGIC!W2,FALSE),IF(OR($B$3=\"3 (tiga)\",$B$3=\"4 (empat)\"),HLOOKUP($C$3,TABMAPEL_XI,DBLOGIC!W2,FALSE),IF(OR($B$3=\"5 (lima)\",$B$3=\"6 (enam)\"),HLOOKUP($C$3,TABMAPEL_XII,DBLOGIC!W2,FALSE),IF(OR($B$3=\"7 (tujuh)\",$B$3=\"8 (delapan)\"),HLOOKUP($C$3,TABMAPEL_XIII,DBLOGIC!W2,FALSE),0))))","v":"Pendidikan Agama dan Budi Pekerti"},{"$f":"IF(OR($B$3=\"1 (satu)\",$B$3=\"2 (dua)\"),HLOOKUP($C$3,TABMAPEL_X,DBLOGIC!X2,FALSE),IF(OR($B$3=\"3 (tiga)\",$B$3=\"4 (empat)\"),HLOOKUP($C$3,TABMAPEL_XI,DBLOGIC!X2,FALSE),IF(OR($B$3=\"5 (lima)\",$B$3=\"6 (enam)\"),HLOOKUP($C$3,TABMAPEL_XII,DBLOGIC!X2,FALSE),IF(OR($B$3=\"7 (tujuh)\",$B$3=\"8 (delapan)\"),HLOOKUP($C$3,TABMAPEL_XIII,DBLOGIC!X2,FALSE),0))))","v":"Pendidikan Pancasila dan Kewarganegaraan"},{"$f":"IF(OR($B$3=\"1 (satu)\",$B$3=\"2 (dua)\"),HLOOKUP($C$3,TABMAPEL_X,DBLOGIC!Y2,FALSE),IF(OR($B$3=\"3 (tiga)\",$B$3=\"4 (empat)\"),HLOOKUP($C$3,TABMAPEL_XI,DBLOGIC!Y2,FALSE),IF(OR($B$3=\"5 (lima)\",$B$3=\"6 (enam)\"),HLOOKUP($C$3,TABMAPEL_XII,DBLOGIC!Y2,FALSE),IF(OR($B$3=\"7 (tujuh)\",$B$3=\"8 (delapan)\"),HLOOKUP($C$3,TABMAPEL_XIII,DBLOGIC!Y2,FALSE),0))))","v":"Pendidikan Pancasila dan Kewarganegaraan"},{"$f":"IF(OR($B$3=\"1 (satu)\",$B$3=\"2 (dua)\"),HLOOKUP($C$3,TABMAPEL_X,DBLOGIC!Z2,FALSE),IF(OR($B$3=\"3 (tiga)\",$B$3=\"4 (empat)\"),HLOOKUP($C$3,TABMAPEL_XI,DBLOGIC!Z2,FALSE),IF(OR($B$3=\"5 (lima)\",$B$3=\"6 (enam)\"),HLOOKUP($C$3,TABMAPEL_XII,DBLOGIC!Z2,FALSE),IF(OR($B$3=\"7 (tujuh)\",$B$3=\"8 (delapan)\"),HLOOKUP($C$3,TABMAPEL_XIII,DBLOGIC!Z2,FALSE),0))))","v":"Pendidikan Pancasila dan Kewarganegaraan"},{"$f":"IF(OR($B$3=\"1 (satu)\",$B$3=\"2 (dua)\"),HLOOKUP($C$3,TABMAPEL_X,DBLOGIC!AA2,FALSE),IF(OR($B$3=\"3 (tiga)\",$B$3=\"4 (empat)\"),HLOOKUP($C$3,TABMAPEL_XI,DBLOGIC!AA2,FALSE),IF(OR($B$3=\"5 (lima)\",$B$3=\"6 (enam)\"),HLOOKUP($C$3,TABMAPEL_XII,DBLOGIC!AA2,FALSE),IF(OR($B$3=\"7 (tujuh)\",$B$3=\"8 (delapan)\"),HLOOKUP($C$3,TABMAPEL_XIII,DBLOGIC!AA2,FALSE),0))))","v":"Pendidikan Pancasila dan Kewarganegaraan"},{"$f":"IF(OR($B$3=\"1 (satu)\",$B$3=\"2 (dua)\"),HLOOKUP($C$3,TABMAPEL_X,DBLOGIC!AB2,FALSE),IF(OR($B$3=\"3 (tiga)\",$B$3=\"4 (empat)\"),HLOOKUP($C$3,TABMAPEL_XI,DBLOGIC!AB2,FALSE),IF(OR($B$3=\"5 (lima)\",$B$3=\"6 (enam)\"),HLOOKUP($C$3,TABMAPEL_XII,DBLOGIC!AB2,FALSE),IF(OR($B$3=\"7 (tujuh)\",$B$3=\"8 (delapan)\"),HLOOKUP($C$3,TABMAPEL_XIII,DBLOGIC!AB2,FALSE),0))))","v":"Pendidikan Pancasila dan Kewarganegaraan"},{"$f":"IF(OR($B$3=\"1 (satu)\",$B$3=\"2 (dua)\"),HLOOKUP($C$3,TABMAPEL_X,DBLOGIC!AC2,FALSE),IF(OR($B$3=\"3 (tiga)\",$B$3=\"4 (empat)\"),HLOOKUP($C$3,TABMAPEL_XI,DBLOGIC!AC2,FALSE),IF(OR($B$3=\"5 (lima)\",$B$3=\"6 (enam)\"),HLOOKUP($C$3,TABMAPEL_XII,DBLOGIC!AC2,FALSE),IF(OR($B$3=\"7 (tujuh)\",$B$3=\"8 (delapan)\"),HLOOKUP($C$3,TABMAPEL_XIII,DBLOGIC!AC2,FALSE),0))))","v":"Pendidikan Pancasila dan Kewarganegaraan"},{"$f":"IF(OR($B$3=\"1 (satu)\",$B$3=\"2 (dua)\"),HLOOKUP($C$3,TABMAPEL_X,DBLOGIC!AD2,FALSE),IF(OR($B$3=\"3 (tiga)\",$B$3=\"4 (empat)\"),HLOOKUP($C$3,TABMAPEL_XI,DBLOGIC!AD2,FALSE),IF(OR($B$3=\"5 (lima)\",$B$3=\"6 (enam)\"),HLOOKUP($C$3,TABMAPEL_XII,DBLOGIC!AD2,FALSE),IF(OR($B$3=\"7 (tujuh)\",$B$3=\"8 (delapan)\"),HLOOKUP($C$3,TABMAPEL_XIII,DBLOGIC!AD2,FALSE),0))))","v":"Pendidikan Pancasila dan Kewarganegaraan"},{"$f":"IF(OR($B$3=\"1 (satu)\",$B$3=\"2 (dua)\"),HLOOKUP($C$3,TABMAPEL_X,DBLOGIC!AE2,FALSE),IF(OR($B$3=\"3 (tiga)\",$B$3=\"4 (empat)\"),HLOOKUP($C$3,TABMAPEL_XI,DBLOGIC!AE2,FALSE),IF(OR($B$3=\"5 (lima)\",$B$3=\"6 (enam)\"),HLOOKUP($C$3,TABMAPEL_XII,DBLOGIC!AE2,FALSE),IF(OR($B$3=\"7 (tujuh)\",$B$3=\"8 (delapan)\"),HLOOKUP($C$3,TABMAPEL_XIII,DBLOGIC!AE2,FALSE),0))))","v":"Bahasa Indonesia"},{"$f":"IF(OR($B$3=\"1 (satu)\",$B$3=\"2 (dua)\"),HLOOKUP($C$3,TABMAPEL_X,DBLOGIC!AF2,FALSE),IF(OR($B$3=\"3 (tiga)\",$B$3=\"4 (empat)\"),HLOOKUP($C$3,TABMAPEL_XI,DBLOGIC!AF2,FALSE),IF(OR($B$3=\"5 (lima)\",$B$3=\"6 (enam)\"),HLOOKUP($C$3,TABMAPEL_XII,DBLOGIC!AF2,FALSE),IF(OR($B$3=\"7 (tujuh)\",$B$3=\"8 (delapan)\"),HLOOKUP($C$3,TABMAPEL_XIII,DBLOGIC!AF2,FALSE),0))))","v":"Bahasa Indonesia"},{"$f":"IF(OR($B$3=\"1 (satu)\",$B$3=\"2 (dua)\"),HLOOKUP($C$3,TABMAPEL_X,DBLOGIC!AG2,FALSE),IF(OR($B$3=\"3 (tiga)\",$B$3=\"4 (empat)\"),HLOOKUP($C$3,TABMAPEL_XI,DBLOGIC!AG2,FALSE),IF(OR($B$3=\"5 (lima)\",$B$3=\"6 (enam)\"),HLOOKUP($C$3,TABMAPEL_XII,DBLOGIC!AG2,FALSE),IF(OR($B$3=\"7 (tujuh)\",$B$3=\"8 (delapan)\"),HLOOKUP($C$3,TABMAPEL_XIII,DBLOGIC!AG2,FALSE),0))))","v":"Bahasa Indonesia"},{"$f":"IF(OR($B$3=\"1 (satu)\",$B$3=\"2 (dua)\"),HLOOKUP($C$3,TABMAPEL_X,DBLOGIC!AH2,FALSE),IF(OR($B$3=\"3 (tiga)\",$B$3=\"4 (empat)\"),HLOOKUP($C$3,TABMAPEL_XI,DBLOGIC!AH2,FALSE),IF(OR($B$3=\"5 (lima)\",$B$3=\"6 (enam)\"),HLOOKUP($C$3,TABMAPEL_XII,DBLOGIC!AH2,FALSE),IF(OR($B$3=\"7 (tujuh)\",$B$3=\"8 (delapan)\"),HLOOKUP($C$3,TABMAPEL_XIII,DBLOGIC!AH2,FALSE),0))))","v":"Bahasa Indonesia"},{"$f":"IF(OR($B$3=\"1 (satu)\",$B$3=\"2 (dua)\"),HLOOKUP($C$3,TABMAPEL_X,DBLOGIC!AI2,FALSE),IF(OR($B$3=\"3 (tiga)\",$B$3=\"4 (empat)\"),HLOOKUP($C$3,TABMAPEL_XI,DBLOGIC!AI2,FALSE),IF(OR($B$3=\"5 (lima)\",$B$3=\"6 (enam)\"),HLOOKUP($C$3,TABMAPEL_XII,DBLOGIC!AI2,FALSE),IF(OR($B$3=\"7 (tujuh)\",$B$3=\"8 (delapan)\"),HLOOKUP($C$3,TABMAPEL_XIII,DBLOGIC!AI2,FALSE),0))))","v":"Bahasa Indonesia"},{"$f":"IF(OR($B$3=\"1 (satu)\",$B$3=\"2 (dua)\"),HLOOKUP($C$3,TABMAPEL_X,DBLOGIC!AJ2,FALSE),IF(OR($B$3=\"3 (tiga)\",$B$3=\"4 (empat)\"),HLOOKUP($C$3,TABMAPEL_XI,DBLOGIC!AJ2,FALSE),IF(OR($B$3=\"5 (lima)\",$B$3=\"6 (enam)\"),HLOOKUP($C$3,TABMAPEL_XII,DBLOGIC!AJ2,FALSE),IF(OR($B$3=\"7 (tujuh)\",$B$3=\"8 (delapan)\"),HLOOKUP($C$3,TABMAPEL_XIII,DBLOGIC!AJ2,FALSE),0))))","v":"Bahasa Indonesia"},{"$f":"IF(OR($B$3=\"1 (satu)\",$B$3=\"2 (dua)\"),HLOOKUP($C$3,TABMAPEL_X,DBLOGIC!AK2,FALSE),IF(OR($B$3=\"3 (tiga)\",$B$3=\"4 (empat)\"),HLOOKUP($C$3,TABMAPEL_XI,DBLOGIC!AK2,FALSE),IF(OR($B$3=\"5 (lima)\",$B$3=\"6 (enam)\"),HLOOKUP($C$3,TABMAPEL_XII,DBLOGIC!AK2,FALSE),IF(OR($B$3=\"7 (tujuh)\",$B$3=\"8 (delapan)\"),HLOOKUP($C$3,TABMAPEL_XIII,DBLOGIC!AK2,FALSE),0))))","v":"Bahasa Indonesia"},{"$f":"IF(OR($B$3=\"1 (satu)\",$B$3=\"2 (dua)\"),HLOOKUP($C$3,TABMAPEL_X,DBLOGIC!AL2,FALSE),IF(OR($B$3=\"3 (tiga)\",$B$3=\"4 (empat)\"),HLOOKUP($C$3,TABMAPEL_XI,DBLOGIC!AL2,FALSE),IF(OR($B$3=\"5 (lima)\",$B$3=\"6 (enam)\"),HLOOKUP($C$3,TABMAPEL_XII,DBLOGIC!AL2,FALSE),IF(OR($B$3=\"7 (tujuh)\",$B$3=\"8 (delapan)\"),HLOOKUP($C$3,TABMAPEL_XIII,DBLOGIC!AL2,FALSE),0))))","v":"Matematika"},{"$f":"IF(OR($B$3=\"1 (satu)\",$B$3=\"2 (dua)\"),HLOOKUP($C$3,TABMAPEL_X,DBLOGIC!AM2,FALSE),IF(OR($B$3=\"3 (tiga)\",$B$3=\"4 (empat)\"),HLOOKUP($C$3,TABMAPEL_XI,DBLOGIC!AM2,FALSE),IF(OR($B$3=\"5 (lima)\",$B$3=\"6 (enam)\"),HLOOKUP($C$3,TABMAPEL_XII,DBLOGIC!AM2,FALSE),IF(OR($B$3=\"7 (tujuh)\",$B$3=\"8 (delapan)\"),HLOOKUP($C$3,TABMAPEL_XIII,DBLOGIC!AM2,FALSE),0))))","v":"Matematika"},{"$f":"IF(OR($B$3=\"1 (satu)\",$B$3=\"2 (dua)\"),HLOOKUP($C$3,TABMAPEL_X,DBLOGIC!AN2,FALSE),IF(OR($B$3=\"3 (tiga)\",$B$3=\"4 (empat)\"),HLOOKUP($C$3,TABMAPEL_XI,DBLOGIC!AN2,FALSE),IF(OR($B$3=\"5 (lima)\",$B$3=\"6 (enam)\"),HLOOKUP($C$3,TABMAPEL_XII,DBLOGIC!AN2,FALSE),IF(OR($B$3=\"7 (tujuh)\",$B$3=\"8 (delapan)\"),HLOOKUP($C$3,TABMAPEL_XIII,DBLOGIC!AN2,FALSE),0))))","v":"Matematika"},{"$f":"IF(OR($B$3=\"1 (satu)\",$B$3=\"2 (dua)\"),HLOOKUP($C$3,TABMAPEL_X,DBLOGIC!AO2,FALSE),IF(OR($B$3=\"3 (tiga)\",$B$3=\"4 (empat)\"),HLOOKUP($C$3,TABMAPEL_XI,DBLOGIC!AO2,FALSE),IF(OR($B$3=\"5 (lima)\",$B$3=\"6 (enam)\"),HLOOKUP($C$3,TABMAPEL_XII,DBLOGIC!AO2,FALSE),IF(OR($B$3=\"7 (tujuh)\",$B$3=\"8 (delapan)\"),HLOOKUP($C$3,TABMAPEL_XIII,DBLOGIC!AO2,FALSE),0))))","v":"Matematika"},{"$f":"IF(OR($B$3=\"1 (satu)\",$B$3=\"2 (dua)\"),HLOOKUP($C$3,TABMAPEL_X,DBLOGIC!AP2,FALSE),IF(OR($B$3=\"3 (tiga)\",$B$3=\"4 (empat)\"),HLOOKUP($C$3,TABMAPEL_XI,DBLOGIC!AP2,FALSE),IF(OR($B$3=\"5 (lima)\",$B$3=\"6 (enam)\"),HLOOKUP($C$3,TABMAPEL_XII,DBLOGIC!AP2,FALSE),IF(OR($B$3=\"7 (tujuh)\",$B$3=\"8 (delapan)\"),HLOOKUP($C$3,TABMAPEL_XIII,DBLOGIC!AP2,FALSE),0))))","v":"Matematika"},{"$f":"IF(OR($B$3=\"1 (satu)\",$B$3=\"2 (dua)\"),HLOOKUP($C$3,TABMAPEL_X,DBLOGIC!AQ2,FALSE),IF(OR($B$3=\"3 (tiga)\",$B$3=\"4 (empat)\"),HLOOKUP($C$3,TABMAPEL_XI,DBLOGIC!AQ2,FALSE),IF(OR($B$3=\"5 (lima)\",$B$3=\"6 (enam)\"),HLOOKUP($C$3,TABMAPEL_XII,DBLOGIC!AQ2,FALSE),IF(OR($B$3=\"7 (tujuh)\",$B$3=\"8 (delapan)\"),HLOOKUP($C$3,TABMAPEL_XIII,DBLOGIC!AQ2,FALSE),0))))","v":"Matematika"},{"$f":"IF(OR($B$3=\"1 (satu)\",$B$3=\"2 (dua)\"),HLOOKUP($C$3,TABMAPEL_X,DBLOGIC!AR2,FALSE),IF(OR($B$3=\"3 (tiga)\",$B$3=\"4 (empat)\"),HLOOKUP($C$3,TABMAPEL_XI,DBLOGIC!AR2,FALSE),IF(OR($B$3=\"5 (lima)\",$B$3=\"6 (enam)\"),HLOOKUP($C$3,TABMAPEL_XII,DBLOGIC!AR2,FALSE),IF(OR($B$3=\"7 (tujuh)\",$B$3=\"8 (delapan)\"),HLOOKUP($C$3,TABMAPEL_XIII,DBLOGIC!AR2,FALSE),0))))","v":"Matematika"},{"$f":"IF(OR($B$3=\"1 (satu)\",$B$3=\"2 (dua)\"),HLOOKUP($C$3,TABMAPEL_X,DBLOGIC!AS2,FALSE),IF(OR($B$3=\"3 (tiga)\",$B$3=\"4 (empat)\"),HLOOKUP($C$3,TABMAPEL_XI,DBLOGIC!AS2,FALSE),IF(OR($B$3=\"5 (lima)\",$B$3=\"6 (enam)\"),HLOOKUP($C$3,TABMAPEL_XII,DBLOGIC!AS2,FALSE),IF(OR($B$3=\"7 (tujuh)\",$B$3=\"8 (delapan)\"),HLOOKUP($C$3,TABMAPEL_XIII,DBLOGIC!AS2,FALSE),0))))","v":"-"},{"$f":"IF(OR($B$3=\"1 (satu)\",$B$3=\"2 (dua)\"),HLOOKUP($C$3,TABMAPEL_X,DBLOGIC!AT2,FALSE),IF(OR($B$3=\"3 (tiga)\",$B$3=\"4 (empat)\"),HLOOKUP($C$3,TABMAPEL_XI,DBLOGIC!AT2,FALSE),IF(OR($B$3=\"5 (lima)\",$B$3=\"6 (enam)\"),HLOOKUP($C$3,TABMAPEL_XII,DBLOGIC!AT2,FALSE),IF(OR($B$3=\"7 (tujuh)\",$B$3=\"8 (delapan)\"),HLOOKUP($C$3,TABMAPEL_XIII,DBLOGIC!AT2,FALSE),0))))","v":"-"},{"$f":"IF(OR($B$3=\"1 (satu)\",$B$3=\"2 (dua)\"),HLOOKUP($C$3,TABMAPEL_X,DBLOGIC!AU2,FALSE),IF(OR($B$3=\"3 (tiga)\",$B$3=\"4 (empat)\"),HLOOKUP($C$3,TABMAPEL_XI,DBLOGIC!AU2,FALSE),IF(OR($B$3=\"5 (lima)\",$B$3=\"6 (enam)\"),HLOOKUP($C$3,TABMAPEL_XII,DBLOGIC!AU2,FALSE),IF(OR($B$3=\"7 (tujuh)\",$B$3=\"8 (delapan)\"),HLOOKUP($C$3,TABMAPEL_XIII,DBLOGIC!AU2,FALSE),0))))","v":"-"},{"$f":"IF(OR($B$3=\"1 (satu)\",$B$3=\"2 (dua)\"),HLOOKUP($C$3,TABMAPEL_X,DBLOGIC!AV2,FALSE),IF(OR($B$3=\"3 (tiga)\",$B$3=\"4 (empat)\"),HLOOKUP($C$3,TABMAPEL_XI,DBLOGIC!AV2,FALSE),IF(OR($B$3=\"5 (lima)\",$B$3=\"6 (enam)\"),HLOOKUP($C$3,TABMAPEL_XII,DBLOGIC!AV2,FALSE),IF(OR($B$3=\"7 (tujuh)\",$B$3=\"8 (delapan)\"),HLOOKUP($C$3,TABMAPEL_XIII,DBLOGIC!AV2,FALSE),0))))","v":"-"},{"$f":"IF(OR($B$3=\"1 (satu)\",$B$3=\"2 (dua)\"),HLOOKUP($C$3,TABMAPEL_X,DBLOGIC!AW2,FALSE),IF(OR($B$3=\"3 (tiga)\",$B$3=\"4 (empat)\"),HLOOKUP($C$3,TABMAPEL_XI,DBLOGIC!AW2,FALSE),IF(OR($B$3=\"5 (lima)\",$B$3=\"6 (enam)\"),HLOOKUP($C$3,TABMAPEL_XII,DBLOGIC!AW2,FALSE),IF(OR($B$3=\"7 (tujuh)\",$B$3=\"8 (delapan)\"),HLOOKUP($C$3,TABMAPEL_XIII,DBLOGIC!AW2,FALSE),0))))","v":"-"},{"$f":"IF(OR($B$3=\"1 (satu)\",$B$3=\"2 (dua)\"),HLOOKUP($C$3,TABMAPEL_X,DBLOGIC!AX2,FALSE),IF(OR($B$3=\"3 (tiga)\",$B$3=\"4 (empat)\"),HLOOKUP($C$3,TABMAPEL_XI,DBLOGIC!AX2,FALSE),IF(OR($B$3=\"5 (lima)\",$B$3=\"6 (enam)\"),HLOOKUP($C$3,TABMAPEL_XII,DBLOGIC!AX2,FALSE),IF(OR($B$3=\"7 (tujuh)\",$B$3=\"8 (delapan)\"),HLOOKUP($C$3,TABMAPEL_XIII,DBLOGIC!AX2,FALSE),0))))","v":"-"},{"$f":"IF(OR($B$3=\"1 (satu)\",$B$3=\"2 (dua)\"),HLOOKUP($C$3,TABMAPEL_X,DBLOGIC!AY2,FALSE),IF(OR($B$3=\"3 (tiga)\",$B$3=\"4 (empat)\"),HLOOKUP($C$3,TABMAPEL_XI,DBLOGIC!AY2,FALSE),IF(OR($B$3=\"5 (lima)\",$B$3=\"6 (enam)\"),HLOOKUP($C$3,TABMAPEL_XII,DBLOGIC!AY2,FALSE),IF(OR($B$3=\"7 (tujuh)\",$B$3=\"8 (delapan)\"),HLOOKUP($C$3,TABMAPEL_XIII,DBLOGIC!AY2,FALSE),0))))","v":"-"},{"$f":"IF(OR($B$3=\"1 (satu)\",$B$3=\"2 (dua)\"),HLOOKUP($C$3,TABMAPEL_X,DBLOGIC!AZ2,FALSE),IF(OR($B$3=\"3 (tiga)\",$B$3=\"4 (empat)\"),HLOOKUP($C$3,TABMAPEL_XI,DBLOGIC!AZ2,FALSE),IF(OR($B$3=\"5 (lima)\",$B$3=\"6 (enam)\"),HLOOKUP($C$3,TABMAPEL_XII,DBLOGIC!AZ2,FALSE),IF(OR($B$3=\"7 (tujuh)\",$B$3=\"8 (delapan)\"),HLOOKUP($C$3,TABMAPEL_XIII,DBLOGIC!AZ2,FALSE),0))))","v":"Bahasa Inggris"},{"$f":"IF(OR($B$3=\"1 (satu)\",$B$3=\"2 (dua)\"),HLOOKUP($C$3,TABMAPEL_X,DBLOGIC!BA2,FALSE),IF(OR($B$3=\"3 (tiga)\",$B$3=\"4 (empat)\"),HLOOKUP($C$3,TABMAPEL_XI,DBLOGIC!BA2,FALSE),IF(OR($B$3=\"5 (lima)\",$B$3=\"6 (enam)\"),HLOOKUP($C$3,TABMAPEL_XII,DBLOGIC!BA2,FALSE),IF(OR($B$3=\"7 (tujuh)\",$B$3=\"8 (delapan)\"),HLOOKUP($C$3,TABMAPEL_XIII,DBLOGIC!BA2,FALSE),0))))","v":"Bahasa Inggris"},{"$f":"IF(OR($B$3=\"1 (satu)\",$B$3=\"2 (dua)\"),HLOOKUP($C$3,TABMAPEL_X,DBLOGIC!BB2,FALSE),IF(OR($B$3=\"3 (tiga)\",$B$3=\"4 (empat)\"),HLOOKUP($C$3,TABMAPEL_XI,DBLOGIC!BB2,FALSE),IF(OR($B$3=\"5 (lima)\",$B$3=\"6 (enam)\"),HLOOKUP($C$3,TABMAPEL_XII,DBLOGIC!BB2,FALSE),IF(OR($B$3=\"7 (tujuh)\",$B$3=\"8 (delapan)\"),HLOOKUP($C$3,TABMAPEL_XIII,DBLOGIC!BB2,FALSE),0))))","v":"Bahasa Inggris"},{"$f":"IF(OR($B$3=\"1 (satu)\",$B$3=\"2 (dua)\"),HLOOKUP($C$3,TABMAPEL_X,DBLOGIC!BC2,FALSE),IF(OR($B$3=\"3 (tiga)\",$B$3=\"4 (empat)\"),HLOOKUP($C$3,TABMAPEL_XI,DBLOGIC!BC2,FALSE),IF(OR($B$3=\"5 (lima)\",$B$3=\"6 (enam)\"),HLOOKUP($C$3,TABMAPEL_XII,DBLOGIC!BC2,FALSE),IF(OR($B$3=\"7 (tujuh)\",$B$3=\"8 (delapan)\"),HLOOKUP($C$3,TABMAPEL_XIII,DBLOGIC!BC2,FALSE),0))))","v":"Bahasa Inggris"},{"$f":"IF(OR($B$3=\"1 (satu)\",$B$3=\"2 (dua)\"),HLOOKUP($C$3,TABMAPEL_X,DBLOGIC!BD2,FALSE),IF(OR($B$3=\"3 (tiga)\",$B$3=\"4 (empat)\"),HLOOKUP($C$3,TABMAPEL_XI,DBLOGIC!BD2,FALSE),IF(OR($B$3=\"5 (lima)\",$B$3=\"6 (enam)\"),HLOOKUP($C$3,TABMAPEL_XII,DBLOGIC!BD2,FALSE),IF(OR($B$3=\"7 (tujuh)\",$B$3=\"8 (delapan)\"),HLOOKUP($C$3,TABMAPEL_XIII,DBLOGIC!BD2,FALSE),0))))","v":"Bahasa Inggris"},{"$f":"IF(OR($B$3=\"1 (satu)\",$B$3=\"2 (dua)\"),HLOOKUP($C$3,TABMAPEL_X,DBLOGIC!BE2,FALSE),IF(OR($B$3=\"3 (tiga)\",$B$3=\"4 (empat)\"),HLOOKUP($C$3,TABMAPEL_XI,DBLOGIC!BE2,FALSE),IF(OR($B$3=\"5 (lima)\",$B$3=\"6 (enam)\"),HLOOKUP($C$3,TABMAPEL_XII,DBLOGIC!BE2,FALSE),IF(OR($B$3=\"7 (tujuh)\",$B$3=\"8 (delapan)\"),HLOOKUP($C$3,TABMAPEL_XIII,DBLOGIC!BE2,FALSE),0))))","v":"Bahasa Inggris"},{"$f":"IF(OR($B$3=\"1 (satu)\",$B$3=\"2 (dua)\"),HLOOKUP($C$3,TABMAPEL_X,DBLOGIC!BF2,FALSE),IF(OR($B$3=\"3 (tiga)\",$B$3=\"4 (empat)\"),HLOOKUP($C$3,TABMAPEL_XI,DBLOGIC!BF2,FALSE),IF(OR($B$3=\"5 (lima)\",$B$3=\"6 (enam)\"),HLOOKUP($C$3,TABMAPEL_XII,DBLOGIC!BF2,FALSE),IF(OR($B$3=\"7 (tujuh)\",$B$3=\"8 (delapan)\"),HLOOKUP($C$3,TABMAPEL_XIII,DBLOGIC!BF2,FALSE),0))))","v":"Bahasa Inggris"},{"$f":"IF(OR($B$3=\"1 (satu)\",$B$3=\"2 (dua)\"),HLOOKUP($C$3,TABMAPEL_X,DBLOGIC!BG2,FALSE),IF(OR($B$3=\"3 (tiga)\",$B$3=\"4 (empat)\"),HLOOKUP($C$3,TABMAPEL_XI,DBLOGIC!BG2,FALSE),IF(OR($B$3=\"5 (lima)\",$B$3=\"6 (enam)\"),HLOOKUP($C$3,TABMAPEL_XII,DBLOGIC!BG2,FALSE),IF(OR($B$3=\"7 (tujuh)\",$B$3=\"8 (delapan)\"),HLOOKUP($C$3,TABMAPEL_XIII,DBLOGIC!BG2,FALSE),0))))","v":"-"},{"$f":"IF(OR($B$3=\"1 (satu)\",$B$3=\"2 (dua)\"),HLOOKUP($C$3,TABMAPEL_X,DBLOGIC!BH2,FALSE),IF(OR($B$3=\"3 (tiga)\",$B$3=\"4 (empat)\"),HLOOKUP($C$3,TABMAPEL_XI,DBLOGIC!BH2,FALSE),IF(OR($B$3=\"5 (lima)\",$B$3=\"6 (enam)\"),HLOOKUP($C$3,TABMAPEL_XII,DBLOGIC!BH2,FALSE),IF(OR($B$3=\"7 (tujuh)\",$B$3=\"8 (delapan)\"),HLOOKUP($C$3,TABMAPEL_XIII,DBLOGIC!BH2,FALSE),0))))","v":"-"},{"$f":"IF(OR($B$3=\"1 (satu)\",$B$3=\"2 (dua)\"),HLOOKUP($C$3,TABMAPEL_X,DBLOGIC!BI2,FALSE),IF(OR($B$3=\"3 (tiga)\",$B$3=\"4 (empat)\"),HLOOKUP($C$3,TABMAPEL_XI,DBLOGIC!BI2,FALSE),IF(OR($B$3=\"5 (lima)\",$B$3=\"6 (enam)\"),HLOOKUP($C$3,TABMAPEL_XII,DBLOGIC!BI2,FALSE),IF(OR($B$3=\"7 (tujuh)\",$B$3=\"8 (delapan)\"),HLOOKUP($C$3,TABMAPEL_XIII,DBLOGIC!BI2,FALSE),0))))","v":"-"},{"$f":"IF(OR($B$3=\"1 (satu)\",$B$3=\"2 (dua)\"),HLOOKUP($C$3,TABMAPEL_X,DBLOGIC!BJ2,FALSE),IF(OR($B$3=\"3 (tiga)\",$B$3=\"4 (empat)\"),HLOOKUP($C$3,TABMAPEL_XI,DBLOGIC!BJ2,FALSE),IF(OR($B$3=\"5 (lima)\",$B$3=\"6 (enam)\"),HLOOKUP($C$3,TABMAPEL_XII,DBLOGIC!BJ2,FALSE),IF(OR($B$3=\"7 (tujuh)\",$B$3=\"8 (delapan)\"),HLOOKUP($C$3,TABMAPEL_XIII,DBLOGIC!BJ2,FALSE),0))))","v":"-"},{"$f":"IF(OR($B$3=\"1 (satu)\",$B$3=\"2 (dua)\"),HLOOKUP($C$3,TABMAPEL_X,DBLOGIC!BK2,FALSE),IF(OR($B$3=\"3 (tiga)\",$B$3=\"4 (empat)\"),HLOOKUP($C$3,TABMAPEL_XI,DBLOGIC!BK2,FALSE),IF(OR($B$3=\"5 (lima)\",$B$3=\"6 (enam)\"),HLOOKUP($C$3,TABMAPEL_XII,DBLOGIC!BK2,FALSE),IF(OR($B$3=\"7 (tujuh)\",$B$3=\"8 (delapan)\"),HLOOKUP($C$3,TABMAPEL_XIII,DBLOGIC!BK2,FALSE),0))))","v":"-"},{"$f":"IF(OR($B$3=\"1 (satu)\",$B$3=\"2 (dua)\"),HLOOKUP($C$3,TABMAPEL_X,DBLOGIC!BL2,FALSE),IF(OR($B$3=\"3 (tiga)\",$B$3=\"4 (empat)\"),HLOOKUP($C$3,TABMAPEL_XI,DBLOGIC!BL2,FALSE),IF(OR($B$3=\"5 (lima)\",$B$3=\"6 (enam)\"),HLOOKUP($C$3,TABMAPEL_XII,DBLOGIC!BL2,FALSE),IF(OR($B$3=\"7 (tujuh)\",$B$3=\"8 (delapan)\"),HLOOKUP($C$3,TABMAPEL_XIII,DBLOGIC!BL2,FALSE),0))))","v":"-"},{"$f":"IF(OR($B$3=\"1 (satu)\",$B$3=\"2 (dua)\"),HLOOKUP($C$3,TABMAPEL_X,DBLOGIC!BM2,FALSE),IF(OR($B$3=\"3 (tiga)\",$B$3=\"4 (empat)\"),HLOOKUP($C$3,TABMAPEL_XI,DBLOGIC!BM2,FALSE),IF(OR($B$3=\"5 (lima)\",$B$3=\"6 (enam)\"),HLOOKUP($C$3,TABMAPEL_XII,DBLOGIC!BM2,FALSE),IF(OR($B$3=\"7 (tujuh)\",$B$3=\"8 (delapan)\"),HLOOKUP($C$3,TABMAPEL_XIII,DBLOGIC!BM2,FALSE),0))))","v":"-"},{"$f":"IF(OR($B$3=\"1 (satu)\",$B$3=\"2 (dua)\"),HLOOKUP($C$3,TABMAPEL_X,DBLOGIC!BN2,FALSE),IF(OR($B$3=\"3 (tiga)\",$B$3=\"4 (empat)\"),HLOOKUP($C$3,TABMAPEL_XI,DBLOGIC!BN2,FALSE),IF(OR($B$3=\"5 (lima)\",$B$3=\"6 (enam)\"),HLOOKUP($C$3,TABMAPEL_XII,DBLOGIC!BN2,FALSE),IF(OR($B$3=\"7 (tujuh)\",$B$3=\"8 (delapan)\"),HLOOKUP($C$3,TABMAPEL_XIII,DBLOGIC!BN2,FALSE),0))))","v":"-"},{"$f":"IF(OR($B$3=\"1 (satu)\",$B$3=\"2 (dua)\"),HLOOKUP($C$3,TABMAPEL_X,DBLOGIC!BO2,FALSE),IF(OR($B$3=\"3 (tiga)\",$B$3=\"4 (empat)\"),HLOOKUP($C$3,TABMAPEL_XI,DBLOGIC!BO2,FALSE),IF(OR($B$3=\"5 (lima)\",$B$3=\"6 (enam)\"),HLOOKUP($C$3,TABMAPEL_XII,DBLOGIC!BO2,FALSE),IF(OR($B$3=\"7 (tujuh)\",$B$3=\"8 (delapan)\"),HLOOKUP($C$3,TABMAPEL_XIII,DBLOGIC!BO2,FALSE),0))))","v":"-"},{"$f":"IF(OR($B$3=\"1 (satu)\",$B$3=\"2 (dua)\"),HLOOKUP($C$3,TABMAPEL_X,DBLOGIC!BP2,FALSE),IF(OR($B$3=\"3 (tiga)\",$B$3=\"4 (empat)\"),HLOOKUP($C$3,TABMAPEL_XI,DBLOGIC!BP2,FALSE),IF(OR($B$3=\"5 (lima)\",$B$3=\"6 (enam)\"),HLOOKUP($C$3,TABMAPEL_XII,DBLOGIC!BP2,FALSE),IF(OR($B$3=\"7 (tujuh)\",$B$3=\"8 (delapan)\"),HLOOKUP($C$3,TABMAPEL_XIII,DBLOGIC!BP2,FALSE),0))))","v":"-"},{"$f":"IF(OR($B$3=\"1 (satu)\",$B$3=\"2 (dua)\"),HLOOKUP($C$3,TABMAPEL_X,DBLOGIC!BQ2,FALSE),IF(OR($B$3=\"3 (tiga)\",$B$3=\"4 (empat)\"),HLOOKUP($C$3,TABMAPEL_XI,DBLOGIC!BQ2,FALSE),IF(OR($B$3=\"5 (lima)\",$B$3=\"6 (enam)\"),HLOOKUP($C$3,TABMAPEL_XII,DBLOGIC!BQ2,FALSE),IF(OR($B$3=\"7 (tujuh)\",$B$3=\"8 (delapan)\"),HLOOKUP($C$3,TABMAPEL_XIII,DBLOGIC!BQ2,FALSE),0))))","v":"-"},{"$f":"IF(OR($B$3=\"1 (satu)\",$B$3=\"2 (dua)\"),HLOOKUP($C$3,TABMAPEL_X,DBLOGIC!BR2,FALSE),IF(OR($B$3=\"3 (tiga)\",$B$3=\"4 (empat)\"),HLOOKUP($C$3,TABMAPEL_XI,DBLOGIC!BR2,FALSE),IF(OR($B$3=\"5 (lima)\",$B$3=\"6 (enam)\"),HLOOKUP($C$3,TABMAPEL_XII,DBLOGIC!BR2,FALSE),IF(OR($B$3=\"7 (tujuh)\",$B$3=\"8 (delapan)\"),HLOOKUP($C$3,TABMAPEL_XIII,DBLOGIC!BR2,FALSE),0))))","v":"-"},{"$f":"IF(OR($B$3=\"1 (satu)\",$B$3=\"2 (dua)\"),HLOOKUP($C$3,TABMAPEL_X,DBLOGIC!BS2,FALSE),IF(OR($B$3=\"3 (tiga)\",$B$3=\"4 (empat)\"),HLOOKUP($C$3,TABMAPEL_XI,DBLOGIC!BS2,FALSE),IF(OR($B$3=\"5 (lima)\",$B$3=\"6 (enam)\"),HLOOKUP($C$3,TABMAPEL_XII,DBLOGIC!BS2,FALSE),IF(OR($B$3=\"7 (tujuh)\",$B$3=\"8 (delapan)\"),HLOOKUP($C$3,TABMAPEL_XIII,DBLOGIC!BS2,FALSE),0))))","v":"-"},{"$f":"IF(OR($B$3=\"1 (satu)\",$B$3=\"2 (dua)\"),HLOOKUP($C$3,TABMAPEL_X,DBLOGIC!BT2,FALSE),IF(OR($B$3=\"3 (tiga)\",$B$3=\"4 (empat)\"),HLOOKUP($C$3,TABMAPEL_XI,DBLOGIC!BT2,FALSE),IF(OR($B$3=\"5 (lima)\",$B$3=\"6 (enam)\"),HLOOKUP($C$3,TABMAPEL_XII,DBLOGIC!BT2,FALSE),IF(OR($B$3=\"7 (tujuh)\",$B$3=\"8 (delapan)\"),HLOOKUP($C$3,TABMAPEL_XIII,DBLOGIC!BT2,FALSE),0))))","v":"-"},{"$f":"IF(OR($B$3=\"1 (satu)\",$B$3=\"2 (dua)\"),HLOOKUP($C$3,TABMAPEL_X,DBLOGIC!BU2,FALSE),IF(OR($B$3=\"3 (tiga)\",$B$3=\"4 (empat)\"),HLOOKUP($C$3,TABMAPEL_XI,DBLOGIC!BU2,FALSE),IF(OR($B$3=\"5 (lima)\",$B$3=\"6 (enam)\"),HLOOKUP($C$3,TABMAPEL_XII,DBLOGIC!BU2,FALSE),IF(OR($B$3=\"7 (tujuh)\",$B$3=\"8 (delapan)\"),HLOOKUP($C$3,TABMAPEL_XIII,DBLOGIC!BU2,FALSE),0))))","v":"Pendidikan Jasmani, Olahraga dan Kesehatan"},{"$f":"IF(OR($B$3=\"1 (satu)\",$B$3=\"2 (dua)\"),HLOOKUP($C$3,TABMAPEL_X,DBLOGIC!BV2,FALSE),IF(OR($B$3=\"3 (tiga)\",$B$3=\"4 (empat)\"),HLOOKUP($C$3,TABMAPEL_XI,DBLOGIC!BV2,FALSE),IF(OR($B$3=\"5 (lima)\",$B$3=\"6 (enam)\"),HLOOKUP($C$3,TABMAPEL_XII,DBLOGIC!BV2,FALSE),IF(OR($B$3=\"7 (tujuh)\",$B$3=\"8 (delapan)\"),HLOOKUP($C$3,TABMAPEL_XIII,DBLOGIC!BV2,FALSE),0))))","v":"Pendidikan Jasmani, Olahraga dan Kesehatan"},{"$f":"IF(OR($B$3=\"1 (satu)\",$B$3=\"2 (dua)\"),HLOOKUP($C$3,TABMAPEL_X,DBLOGIC!BW2,FALSE),IF(OR($B$3=\"3 (tiga)\",$B$3=\"4 (empat)\"),HLOOKUP($C$3,TABMAPEL_XI,DBLOGIC!BW2,FALSE),IF(OR($B$3=\"5 (lima)\",$B$3=\"6 (enam)\"),HLOOKUP($C$3,TABMAPEL_XII,DBLOGIC!BW2,FALSE),IF(OR($B$3=\"7 (tujuh)\",$B$3=\"8 (delapan)\"),HLOOKUP($C$3,TABMAPEL_XIII,DBLOGIC!BW2,FALSE),0))))","v":"Pendidikan Jasmani, Olahraga dan Kesehatan"},{"$f":"IF(OR($B$3=\"1 (satu)\",$B$3=\"2 (dua)\"),HLOOKUP($C$3,TABMAPEL_X,DBLOGIC!BX2,FALSE),IF(OR($B$3=\"3 (tiga)\",$B$3=\"4 (empat)\"),HLOOKUP($C$3,TABMAPEL_XI,DBLOGIC!BX2,FALSE),IF(OR($B$3=\"5 (lima)\",$B$3=\"6 (enam)\"),HLOOKUP($C$3,TABMAPEL_XII,DBLOGIC!BX2,FALSE),IF(OR($B$3=\"7 (tujuh)\",$B$3=\"8 (delapan)\"),HLOOKUP($C$3,TABMAPEL_XIII,DBLOGIC!BX2,FALSE),0))))","v":"Pendidikan Jasmani, Olahraga dan Kesehatan"},{"$f":"IF(OR($B$3=\"1 (satu)\",$B$3=\"2 (dua)\"),HLOOKUP($C$3,TABMAPEL_X,DBLOGIC!BY2,FALSE),IF(OR($B$3=\"3 (tiga)\",$B$3=\"4 (empat)\"),HLOOKUP($C$3,TABMAPEL_XI,DBLOGIC!BY2,FALSE),IF(OR($B$3=\"5 (lima)\",$B$3=\"6 (enam)\"),HLOOKUP($C$3,TABMAPEL_XII,DBLOGIC!BY2,FALSE),IF(OR($B$3=\"7 (tujuh)\",$B$3=\"8 (delapan)\"),HLOOKUP($C$3,TABMAPEL_XIII,DBLOGIC!BY2,FALSE),0))))","v":"Pendidikan Jasmani, Olahraga dan Kesehatan"},{"$f":"IF(OR($B$3=\"1 (satu)\",$B$3=\"2 (dua)\"),HLOOKUP($C$3,TABMAPEL_X,DBLOGIC!BZ2,FALSE),IF(OR($B$3=\"3 (tiga)\",$B$3=\"4 (empat)\"),HLOOKUP($C$3,TABMAPEL_XI,DBLOGIC!BZ2,FALSE),IF(OR($B$3=\"5 (lima)\",$B$3=\"6 (enam)\"),HLOOKUP($C$3,TABMAPEL_XII,DBLOGIC!BZ2,FALSE),IF(OR($B$3=\"7 (tujuh)\",$B$3=\"8 (delapan)\"),HLOOKUP($C$3,TABMAPEL_XIII,DBLOGIC!BZ2,FALSE),0))))","v":"Pendidikan Jasmani, Olahraga dan Kesehatan"},{"$f":"IF(OR($B$3=\"1 (satu)\",$B$3=\"2 (dua)\"),HLOOKUP($C$3,TABMAPEL_X,DBLOGIC!CA2,FALSE),IF(OR($B$3=\"3 (tiga)\",$B$3=\"4 (empat)\"),HLOOKUP($C$3,TABMAPEL_XI,DBLOGIC!CA2,FALSE),IF(OR($B$3=\"5 (lima)\",$B$3=\"6 (enam)\"),HLOOKUP($C$3,TABMAPEL_XII,DBLOGIC!CA2,FALSE),IF(OR($B$3=\"7 (tujuh)\",$B$3=\"8 (delapan)\"),HLOOKUP($C$3,TABMAPEL_XIII,DBLOGIC!CA2,FALSE),0))))","v":"Pendidikan Jasmani, Olahraga dan Kesehatan"},{"$f":"IF(OR($B$3=\"1 (satu)\",$B$3=\"2 (dua)\"),HLOOKUP($C$3,TABMAPEL_X,DBLOGIC!CB2,FALSE),IF(OR($B$3=\"3 (tiga)\",$B$3=\"4 (empat)\"),HLOOKUP($C$3,TABMAPEL_XI,DBLOGIC!CB2,FALSE),IF(OR($B$3=\"5 (lima)\",$B$3=\"6 (enam)\"),HLOOKUP($C$3,TABMAPEL_XII,DBLOGIC!CB2,FALSE),IF(OR($B$3=\"7 (tujuh)\",$B$3=\"8 (delapan)\"),HLOOKUP($C$3,TABMAPEL_XIII,DBLOGIC!CB2,FALSE),0))))","v":"-"},{"$f":"IF(OR($B$3=\"1 (satu)\",$B$3=\"2 (dua)\"),HLOOKUP($C$3,TABMAPEL_X,DBLOGIC!CC2,FALSE),IF(OR($B$3=\"3 (tiga)\",$B$3=\"4 (empat)\"),HLOOKUP($C$3,TABMAPEL_XI,DBLOGIC!CC2,FALSE),IF(OR($B$3=\"5 (lima)\",$B$3=\"6 (enam)\"),HLOOKUP($C$3,TABMAPEL_XII,DBLOGIC!CC2,FALSE),IF(OR($B$3=\"7 (tujuh)\",$B$3=\"8 (delapan)\"),HLOOKUP($C$3,TABMAPEL_XIII,DBLOGIC!CC2,FALSE),0))))","v":"-"},{"$f":"IF(OR($B$3=\"1 (satu)\",$B$3=\"2 (dua)\"),HLOOKUP($C$3,TABMAPEL_X,DBLOGIC!CD2,FALSE),IF(OR($B$3=\"3 (tiga)\",$B$3=\"4 (empat)\"),HLOOKUP($C$3,TABMAPEL_XI,DBLOGIC!CD2,FALSE),IF(OR($B$3=\"5 (lima)\",$B$3=\"6 (enam)\"),HLOOKUP($C$3,TABMAPEL_XII,DBLOGIC!CD2,FALSE),IF(OR($B$3=\"7 (tujuh)\",$B$3=\"8 (delapan)\"),HLOOKUP($C$3,TABMAPEL_XIII,DBLOGIC!CD2,FALSE),0))))","v":"-"},{"$f":"IF(OR($B$3=\"1 (satu)\",$B$3=\"2 (dua)\"),HLOOKUP($C$3,TABMAPEL_X,DBLOGIC!CE2,FALSE),IF(OR($B$3=\"3 (tiga)\",$B$3=\"4 (empat)\"),HLOOKUP($C$3,TABMAPEL_XI,DBLOGIC!CE2,FALSE),IF(OR($B$3=\"5 (lima)\",$B$3=\"6 (enam)\"),HLOOKUP($C$3,TABMAPEL_XII,DBLOGIC!CE2,FALSE),IF(OR($B$3=\"7 (tujuh)\",$B$3=\"8 (delapan)\"),HLOOKUP($C$3,TABMAPEL_XIII,DBLOGIC!CE2,FALSE),0))))","v":"-"},{"$f":"IF(OR($B$3=\"1 (satu)\",$B$3=\"2 (dua)\"),HLOOKUP($C$3,TABMAPEL_X,DBLOGIC!CF2,FALSE),IF(OR($B$3=\"3 (tiga)\",$B$3=\"4 (empat)\"),HLOOKUP($C$3,TABMAPEL_XI,DBLOGIC!CF2,FALSE),IF(OR($B$3=\"5 (lima)\",$B$3=\"6 (enam)\"),HLOOKUP($C$3,TABMAPEL_XII,DBLOGIC!CF2,FALSE),IF(OR($B$3=\"7 (tujuh)\",$B$3=\"8 (delapan)\"),HLOOKUP($C$3,TABMAPEL_XIII,DBLOGIC!CF2,FALSE),0))))","v":"-"},{"$f":"IF(OR($B$3=\"1 (satu)\",$B$3=\"2 (dua)\"),HLOOKUP($C$3,TABMAPEL_X,DBLOGIC!CG2,FALSE),IF(OR($B$3=\"3 (tiga)\",$B$3=\"4 (empat)\"),HLOOKUP($C$3,TABMAPEL_XI,DBLOGIC!CG2,FALSE),IF(OR($B$3=\"5 (lima)\",$B$3=\"6 (enam)\"),HLOOKUP($C$3,TABMAPEL_XII,DBLOGIC!CG2,FALSE),IF(OR($B$3=\"7 (tujuh)\",$B$3=\"8 (delapan)\"),HLOOKUP($C$3,TABMAPEL_XIII,DBLOGIC!CG2,FALSE),0))))","v":"-"},{"$f":"IF(OR($B$3=\"1 (satu)\",$B$3=\"2 (dua)\"),HLOOKUP($C$3,TABMAPEL_X,DBLOGIC!CH2,FALSE),IF(OR($B$3=\"3 (tiga)\",$B$3=\"4 (empat)\"),HLOOKUP($C$3,TABMAPEL_XI,DBLOGIC!CH2,FALSE),IF(OR($B$3=\"5 (lima)\",$B$3=\"6 (enam)\"),HLOOKUP($C$3,TABMAPEL_XII,DBLOGIC!CH2,FALSE),IF(OR($B$3=\"7 (tujuh)\",$B$3=\"8 (delapan)\"),HLOOKUP($C$3,TABMAPEL_XIII,DBLOGIC!CH2,FALSE),0))))","v":"-"},{"$f":"IF(OR($B$3=\"1 (satu)\",$B$3=\"2 (dua)\"),HLOOKUP($C$3,TABMAPEL_X,DBLOGIC!CI2,FALSE),IF(OR($B$3=\"3 (tiga)\",$B$3=\"4 (empat)\"),HLOOKUP($C$3,TABMAPEL_XI,DBLOGIC!CI2,FALSE),IF(OR($B$3=\"5 (lima)\",$B$3=\"6 (enam)\"),HLOOKUP($C$3,TABMAPEL_XII,DBLOGIC!CI2,FALSE),IF(OR($B$3=\"7 (tujuh)\",$B$3=\"8 (delapan)\"),HLOOKUP($C$3,TABMAPEL_XIII,DBLOGIC!CI2,FALSE),0))))","v":"-"},{"$f":"IF(OR($B$3=\"1 (satu)\",$B$3=\"2 (dua)\"),HLOOKUP($C$3,TABMAPEL_X,DBLOGIC!CJ2,FALSE),IF(OR($B$3=\"3 (tiga)\",$B$3=\"4 (empat)\"),HLOOKUP($C$3,TABMAPEL_XI,DBLOGIC!CJ2,FALSE),IF(OR($B$3=\"5 (lima)\",$B$3=\"6 (enam)\"),HLOOKUP($C$3,TABMAPEL_XII,DBLOGIC!CJ2,FALSE),IF(OR($B$3=\"7 (tujuh)\",$B$3=\"8 (delapan)\"),HLOOKUP($C$3,TABMAPEL_XIII,DBLOGIC!CJ2,FALSE),0))))","v":"-"},{"$f":"IF(OR($B$3=\"1 (satu)\",$B$3=\"2 (dua)\"),HLOOKUP($C$3,TABMAPEL_X,DBLOGIC!CK2,FALSE),IF(OR($B$3=\"3 (tiga)\",$B$3=\"4 (empat)\"),HLOOKUP($C$3,TABMAPEL_XI,DBLOGIC!CK2,FALSE),IF(OR($B$3=\"5 (lima)\",$B$3=\"6 (enam)\"),HLOOKUP($C$3,TABMAPEL_XII,DBLOGIC!CK2,FALSE),IF(OR($B$3=\"7 (tujuh)\",$B$3=\"8 (delapan)\"),HLOOKUP($C$3,TABMAPEL_XIII,DBLOGIC!CK2,FALSE),0))))","v":"-"},{"$f":"IF(OR($B$3=\"1 (satu)\",$B$3=\"2 (dua)\"),HLOOKUP($C$3,TABMAPEL_X,DBLOGIC!CL2,FALSE),IF(OR($B$3=\"3 (tiga)\",$B$3=\"4 (empat)\"),HLOOKUP($C$3,TABMAPEL_XI,DBLOGIC!CL2,FALSE),IF(OR($B$3=\"5 (lima)\",$B$3=\"6 (enam)\"),HLOOKUP($C$3,TABMAPEL_XII,DBLOGIC!CL2,FALSE),IF(OR($B$3=\"7 (tujuh)\",$B$3=\"8 (delapan)\"),HLOOKUP($C$3,TABMAPEL_XIII,DBLOGIC!CL2,FALSE),0))))","v":"-"},{"$f":"IF(OR($B$3=\"1 (satu)\",$B$3=\"2 (dua)\"),HLOOKUP($C$3,TABMAPEL_X,DBLOGIC!CM2,FALSE),IF(OR($B$3=\"3 (tiga)\",$B$3=\"4 (empat)\"),HLOOKUP($C$3,TABMAPEL_XI,DBLOGIC!CM2,FALSE),IF(OR($B$3=\"5 (lima)\",$B$3=\"6 (enam)\"),HLOOKUP($C$3,TABMAPEL_XII,DBLOGIC!CM2,FALSE),IF(OR($B$3=\"7 (tujuh)\",$B$3=\"8 (delapan)\"),HLOOKUP($C$3,TABMAPEL_XIII,DBLOGIC!CM2,FALSE),0))))","v":"-"},{"$f":"IF(OR($B$3=\"1 (satu)\",$B$3=\"2 (dua)\"),HLOOKUP($C$3,TABMAPEL_X,DBLOGIC!CN2,FALSE),IF(OR($B$3=\"3 (tiga)\",$B$3=\"4 (empat)\"),HLOOKUP($C$3,TABMAPEL_XI,DBLOGIC!CN2,FALSE),IF(OR($B$3=\"5 (lima)\",$B$3=\"6 (enam)\"),HLOOKUP($C$3,TABMAPEL_XII,DBLOGIC!CN2,FALSE),IF(OR($B$3=\"7 (tujuh)\",$B$3=\"8 (delapan)\"),HLOOKUP($C$3,TABMAPEL_XIII,DBLOGIC!CN2,FALSE),0))))","v":"-"},{"$f":"IF(OR($B$3=\"1 (satu)\",$B$3=\"2 (dua)\"),HLOOKUP($C$3,TABMAPEL_X,DBLOGIC!CO2,FALSE),IF(OR($B$3=\"3 (tiga)\",$B$3=\"4 (empat)\"),HLOOKUP($C$3,TABMAPEL_XI,DBLOGIC!CO2,FALSE),IF(OR($B$3=\"5 (lima)\",$B$3=\"6 (enam)\"),HLOOKUP($C$3,TABMAPEL_XII,DBLOGIC!CO2,FALSE),IF(OR($B$3=\"7 (tujuh)\",$B$3=\"8 (delapan)\"),HLOOKUP($C$3,TABMAPEL_XIII,DBLOGIC!CO2,FALSE),0))))","v":"-"},{"$f":"IF(OR($B$3=\"1 (satu)\",$B$3=\"2 (dua)\"),HLOOKUP($C$3,TABMAPEL_X,DBLOGIC!CP2,FALSE),IF(OR($B$3=\"3 (tiga)\",$B$3=\"4 (empat)\"),HLOOKUP($C$3,TABMAPEL_XI,DBLOGIC!CP2,FALSE),IF(OR($B$3=\"5 (lima)\",$B$3=\"6 (enam)\"),HLOOKUP($C$3,TABMAPEL_XII,DBLOGIC!CP2,FALSE),IF(OR($B$3=\"7 (tujuh)\",$B$3=\"8 (delapan)\"),HLOOKUP($C$3,TABMAPEL_XIII,DBLOGIC!CP2,FALSE),0))))","v":"-"},{"$f":"IF(OR($B$3=\"1 (satu)\",$B$3=\"2 (dua)\"),HLOOKUP($C$3,TABMAPEL_X,DBLOGIC!CQ2,FALSE),IF(OR($B$3=\"3 (tiga)\",$B$3=\"4 (empat)\"),HLOOKUP($C$3,TABMAPEL_XI,DBLOGIC!CQ2,FALSE),IF(OR($B$3=\"5 (lima)\",$B$3=\"6 (enam)\"),HLOOKUP($C$3,TABMAPEL_XII,DBLOGIC!CQ2,FALSE),IF(OR($B$3=\"7 (tujuh)\",$B$3=\"8 (delapan)\"),HLOOKUP($C$3,TABMAPEL_XIII,DBLOGIC!CQ2,FALSE),0))))","v":"-"},{"$f":"IF(OR($B$3=\"1 (satu)\",$B$3=\"2 (dua)\"),HLOOKUP($C$3,TABMAPEL_X,DBLOGIC!CR2,FALSE),IF(OR($B$3=\"3 (tiga)\",$B$3=\"4 (empat)\"),HLOOKUP($C$3,TABMAPEL_XI,DBLOGIC!CR2,FALSE),IF(OR($B$3=\"5 (lima)\",$B$3=\"6 (enam)\"),HLOOKUP($C$3,TABMAPEL_XII,DBLOGIC!CR2,FALSE),IF(OR($B$3=\"7 (tujuh)\",$B$3=\"8 (delapan)\"),HLOOKUP($C$3,TABMAPEL_XIII,DBLOGIC!CR2,FALSE),0))))","v":"-"},{"$f":"IF(OR($B$3=\"1 (satu)\",$B$3=\"2 (dua)\"),HLOOKUP($C$3,TABMAPEL_X,DBLOGIC!CS2,FALSE),IF(OR($B$3=\"3 (tiga)\",$B$3=\"4 (empat)\"),HLOOKUP($C$3,TABMAPEL_XI,DBLOGIC!CS2,FALSE),IF(OR($B$3=\"5 (lima)\",$B$3=\"6 (enam)\"),HLOOKUP($C$3,TABMAPEL_XII,DBLOGIC!CS2,FALSE),IF(OR($B$3=\"7 (tujuh)\",$B$3=\"8 (delapan)\"),HLOOKUP($C$3,TABMAPEL_XIII,DBLOGIC!CS2,FALSE),0))))","v":"-"},{"$f":"IF(OR($B$3=\"1 (satu)\",$B$3=\"2 (dua)\"),HLOOKUP($C$3,TABMAPEL_X,DBLOGIC!CT2,FALSE),IF(OR($B$3=\"3 (tiga)\",$B$3=\"4 (empat)\"),HLOOKUP($C$3,TABMAPEL_XI,DBLOGIC!CT2,FALSE),IF(OR($B$3=\"5 (lima)\",$B$3=\"6 (enam)\"),HLOOKUP($C$3,TABMAPEL_XII,DBLOGIC!CT2,FALSE),IF(OR($B$3=\"7 (tujuh)\",$B$3=\"8 (delapan)\"),HLOOKUP($C$3,TABMAPEL_XIII,DBLOGIC!CT2,FALSE),0))))","v":"-"},{"$f":"IF(OR($B$3=\"1 (satu)\",$B$3=\"2 (dua)\"),HLOOKUP($C$3,TABMAPEL_X,DBLOGIC!CU2,FALSE),IF(OR($B$3=\"3 (tiga)\",$B$3=\"4 (empat)\"),HLOOKUP($C$3,TABMAPEL_XI,DBLOGIC!CU2,FALSE),IF(OR($B$3=\"5 (lima)\",$B$3=\"6 (enam)\"),HLOOKUP($C$3,TABMAPEL_XII,DBLOGIC!CU2,FALSE),IF(OR($B$3=\"7 (tujuh)\",$B$3=\"8 (delapan)\"),HLOOKUP($C$3,TABMAPEL_XIII,DBLOGIC!CU2,FALSE),0))))","v":"-"},{"$f":"IF(OR($B$3=\"1 (satu)\",$B$3=\"2 (dua)\"),HLOOKUP($C$3,TABMAPEL_X,DBLOGIC!CV2,FALSE),IF(OR($B$3=\"3 (tiga)\",$B$3=\"4 (empat)\"),HLOOKUP($C$3,TABMAPEL_XI,DBLOGIC!CV2,FALSE),IF(OR($B$3=\"5 (lima)\",$B$3=\"6 (enam)\"),HLOOKUP($C$3,TABMAPEL_XII,DBLOGIC!CV2,FALSE),IF(OR($B$3=\"7 (tujuh)\",$B$3=\"8 (delapan)\"),HLOOKUP($C$3,TABMAPEL_XIII,DBLOGIC!CV2,FALSE),0))))","v":"-"},{"$f":"IF(OR($B$3=\"1 (satu)\",$B$3=\"2 (dua)\"),HLOOKUP($C$3,TABMAPEL_X,DBLOGIC!CW2,FALSE),IF(OR($B$3=\"3 (tiga)\",$B$3=\"4 (empat)\"),HLOOKUP($C$3,TABMAPEL_XI,DBLOGIC!CW2,FALSE),IF(OR($B$3=\"5 (lima)\",$B$3=\"6 (enam)\"),HLOOKUP($C$3,TABMAPEL_XII,DBLOGIC!CW2,FALSE),IF(OR($B$3=\"7 (tujuh)\",$B$3=\"8 (delapan)\"),HLOOKUP($C$3,TABMAPEL_XIII,DBLOGIC!CW2,FALSE),0))))","v":"-"},{"$f":"IF(OR($B$3=\"1 (satu)\",$B$3=\"2 (dua)\"),HLOOKUP($C$3,TABMAPEL_X,DBLOGIC!CX2,FALSE),IF(OR($B$3=\"3 (tiga)\",$B$3=\"4 (empat)\"),HLOOKUP($C$3,TABMAPEL_XI,DBLOGIC!CX2,FALSE),IF(OR($B$3=\"5 (lima)\",$B$3=\"6 (enam)\"),HLOOKUP($C$3,TABMAPEL_XII,DBLOGIC!CX2,FALSE),IF(OR($B$3=\"7 (tujuh)\",$B$3=\"8 (delapan)\"),HLOOKUP($C$3,TABMAPEL_XIII,DBLOGIC!CX2,FALSE),0))))","v":"-"},{"$f":"IF(OR($B$3=\"1 (satu)\",$B$3=\"2 (dua)\"),HLOOKUP($C$3,TABMAPEL_X,DBLOGIC!CY2,FALSE),IF(OR($B$3=\"3 (tiga)\",$B$3=\"4 (empat)\"),HLOOKUP($C$3,TABMAPEL_XI,DBLOGIC!CY2,FALSE),IF(OR($B$3=\"5 (lima)\",$B$3=\"6 (enam)\"),HLOOKUP($C$3,TABMAPEL_XII,DBLOGIC!CY2,FALSE),IF(OR($B$3=\"7 (tujuh)\",$B$3=\"8 (delapan)\"),HLOOKUP($C$3,TABMAPEL_XIII,DBLOGIC!CY2,FALSE),0))))","v":"-"},{"$f":"IF(OR($B$3=\"1 (satu)\",$B$3=\"2 (dua)\"),HLOOKUP($C$3,TABMAPEL_X,DBLOGIC!CZ2,FALSE),IF(OR($B$3=\"3 (tiga)\",$B$3=\"4 (empat)\"),HLOOKUP($C$3,TABMAPEL_XI,DBLOGIC!CZ2,FALSE),IF(OR($B$3=\"5 (lima)\",$B$3=\"6 (enam)\"),HLOOKUP($C$3,TABMAPEL_XII,DBLOGIC!CZ2,FALSE),IF(OR($B$3=\"7 (tujuh)\",$B$3=\"8 (delapan)\"),HLOOKUP($C$3,TABMAPEL_XIII,DBLOGIC!CZ2,FALSE),0))))","v":"-"},{"$f":"IF(OR($B$3=\"1 (satu)\",$B$3=\"2 (dua)\"),HLOOKUP($C$3,TABMAPEL_X,DBLOGIC!DA2,FALSE),IF(OR($B$3=\"3 (tiga)\",$B$3=\"4 (empat)\"),HLOOKUP($C$3,TABMAPEL_XI,DBLOGIC!DA2,FALSE),IF(OR($B$3=\"5 (lima)\",$B$3=\"6 (enam)\"),HLOOKUP($C$3,TABMAPEL_XII,DBLOGIC!DA2,FALSE),IF(OR($B$3=\"7 (tujuh)\",$B$3=\"8 (delapan)\"),HLOOKUP($C$3,TABMAPEL_XIII,DBLOGIC!DA2,FALSE),0))))","v":"-"},{"$f":"IF(OR($B$3=\"1 (satu)\",$B$3=\"2 (dua)\"),HLOOKUP($C$3,TABMAPEL_X,DBLOGIC!DB2,FALSE),IF(OR($B$3=\"3 (tiga)\",$B$3=\"4 (empat)\"),HLOOKUP($C$3,TABMAPEL_XI,DBLOGIC!DB2,FALSE),IF(OR($B$3=\"5 (lima)\",$B$3=\"6 (enam)\"),HLOOKUP($C$3,TABMAPEL_XII,DBLOGIC!DB2,FALSE),IF(OR($B$3=\"7 (tujuh)\",$B$3=\"8 (delapan)\"),HLOOKUP($C$3,TABMAPEL_XIII,DBLOGIC!DB2,FALSE),0))))","v":"-"},{"$f":"IF(OR($B$3=\"1 (satu)\",$B$3=\"2 (dua)\"),HLOOKUP($C$3,TABMAPEL_X,DBLOGIC!DC2,FALSE),IF(OR($B$3=\"3 (tiga)\",$B$3=\"4 (empat)\"),HLOOKUP($C$3,TABMAPEL_XI,DBLOGIC!DC2,FALSE),IF(OR($B$3=\"5 (lima)\",$B$3=\"6 (enam)\"),HLOOKUP($C$3,TABMAPEL_XII,DBLOGIC!DC2,FALSE),IF(OR($B$3=\"7 (tujuh)\",$B$3=\"8 (delapan)\"),HLOOKUP($C$3,TABMAPEL_XIII,DBLOGIC!DC2,FALSE),0))))","v":"-"},{"$f":"IF(OR($B$3=\"1 (satu)\",$B$3=\"2 (dua)\"),HLOOKUP($C$3,TABMAPEL_X,DBLOGIC!DD2,FALSE),IF(OR($B$3=\"3 (tiga)\",$B$3=\"4 (empat)\"),HLOOKUP($C$3,TABMAPEL_XI,DBLOGIC!DD2,FALSE),IF(OR($B$3=\"5 (lima)\",$B$3=\"6 (enam)\"),HLOOKUP($C$3,TABMAPEL_XII,DBLOGIC!DD2,FALSE),IF(OR($B$3=\"7 (tujuh)\",$B$3=\"8 (delapan)\"),HLOOKUP($C$3,TABMAPEL_XIII,DBLOGIC!DD2,FALSE),0))))","v":"-"},{"$f":"IF(OR($B$3=\"1 (satu)\",$B$3=\"2 (dua)\"),HLOOKUP($C$3,TABMAPEL_X,DBLOGIC!DE2,FALSE),IF(OR($B$3=\"3 (tiga)\",$B$3=\"4 (empat)\"),HLOOKUP($C$3,TABMAPEL_XI,DBLOGIC!DE2,FALSE),IF(OR($B$3=\"5 (lima)\",$B$3=\"6 (enam)\"),HLOOKUP($C$3,TABMAPEL_XII,DBLOGIC!DE2,FALSE),IF(OR($B$3=\"7 (tujuh)\",$B$3=\"8 (delapan)\"),HLOOKUP($C$3,TABMAPEL_XIII,DBLOGIC!DE2,FALSE),0))))","v":"-"},{"$f":"IF(OR($B$3=\"1 (satu)\",$B$3=\"2 (dua)\"),HLOOKUP($C$3,TABMAPEL_X,DBLOGIC!DF2,FALSE),IF(OR($B$3=\"3 (tiga)\",$B$3=\"4 (empat)\"),HLOOKUP($C$3,TABMAPEL_XI,DBLOGIC!DF2,FALSE),IF(OR($B$3=\"5 (lima)\",$B$3=\"6 (enam)\"),HLOOKUP($C$3,TABMAPEL_XII,DBLOGIC!DF2,FALSE),IF(OR($B$3=\"7 (tujuh)\",$B$3=\"8 (delapan)\"),HLOOKUP($C$3,TABMAPEL_XIII,DBLOGIC!DF2,FALSE),0))))","v":"-"},{"$f":"IF(OR($B$3=\"1 (satu)\",$B$3=\"2 (dua)\"),HLOOKUP($C$3,TABMAPEL_X,DBLOGIC!DG2,FALSE),IF(OR($B$3=\"3 (tiga)\",$B$3=\"4 (empat)\"),HLOOKUP($C$3,TABMAPEL_XI,DBLOGIC!DG2,FALSE),IF(OR($B$3=\"5 (lima)\",$B$3=\"6 (enam)\"),HLOOKUP($C$3,TABMAPEL_XII,DBLOGIC!DG2,FALSE),IF(OR($B$3=\"7 (tujuh)\",$B$3=\"8 (delapan)\"),HLOOKUP($C$3,TABMAPEL_XIII,DBLOGIC!DG2,FALSE),0))))","v":"-"},{"$f":"IF(OR($B$3=\"1 (satu)\",$B$3=\"2 (dua)\"),HLOOKUP($C$3,TABMAPEL_X,DBLOGIC!DH2,FALSE),IF(OR($B$3=\"3 (tiga)\",$B$3=\"4 (empat)\"),HLOOKUP($C$3,TABMAPEL_XI,DBLOGIC!DH2,FALSE),IF(OR($B$3=\"5 (lima)\",$B$3=\"6 (enam)\"),HLOOKUP($C$3,TABMAPEL_XII,DBLOGIC!DH2,FALSE),IF(OR($B$3=\"7 (tujuh)\",$B$3=\"8 (delapan)\"),HLOOKUP($C$3,TABMAPEL_XIII,DBLOGIC!DH2,FALSE),0))))","v":"-"},{"$f":"IF(OR($B$3=\"1 (satu)\",$B$3=\"2 (dua)\"),HLOOKUP($C$3,TABMAPEL_X,DBLOGIC!DI2,FALSE),IF(OR($B$3=\"3 (tiga)\",$B$3=\"4 (empat)\"),HLOOKUP($C$3,TABMAPEL_XI,DBLOGIC!DI2,FALSE),IF(OR($B$3=\"5 (lima)\",$B$3=\"6 (enam)\"),HLOOKUP($C$3,TABMAPEL_XII,DBLOGIC!DI2,FALSE),IF(OR($B$3=\"7 (tujuh)\",$B$3=\"8 (delapan)\"),HLOOKUP($C$3,TABMAPEL_XIII,DBLOGIC!DI2,FALSE),0))))","v":"-"},{"$f":"IF(OR($B$3=\"1 (satu)\",$B$3=\"2 (dua)\"),HLOOKUP($C$3,TABMAPEL_X,DBLOGIC!DJ2,FALSE),IF(OR($B$3=\"3 (tiga)\",$B$3=\"4 (empat)\"),HLOOKUP($C$3,TABMAPEL_XI,DBLOGIC!DJ2,FALSE),IF(OR($B$3=\"5 (lima)\",$B$3=\"6 (enam)\"),HLOOKUP($C$3,TABMAPEL_XII,DBLOGIC!DJ2,FALSE),IF(OR($B$3=\"7 (tujuh)\",$B$3=\"8 (delapan)\"),HLOOKUP($C$3,TABMAPEL_XIII,DBLOGIC!DJ2,FALSE),0))))","v":"-"},{"$f":"IF(OR($B$3=\"1 (satu)\",$B$3=\"2 (dua)\"),HLOOKUP($C$3,TABMAPEL_X,DBLOGIC!DK2,FALSE),IF(OR($B$3=\"3 (tiga)\",$B$3=\"4 (empat)\"),HLOOKUP($C$3,TABMAPEL_XI,DBLOGIC!DK2,FALSE),IF(OR($B$3=\"5 (lima)\",$B$3=\"6 (enam)\"),HLOOKUP($C$3,TABMAPEL_XII,DBLOGIC!DK2,FALSE),IF(OR($B$3=\"7 (tujuh)\",$B$3=\"8 (delapan)\"),HLOOKUP($C$3,TABMAPEL_XIII,DBLOGIC!DK2,FALSE),0))))","v":"-"},{"$f":"IF(OR($B$3=\"1 (satu)\",$B$3=\"2 (dua)\"),HLOOKUP($C$3,TABMAPEL_X,DBLOGIC!DL2,FALSE),IF(OR($B$3=\"3 (tiga)\",$B$3=\"4 (empat)\"),HLOOKUP($C$3,TABMAPEL_XI,DBLOGIC!DL2,FALSE),IF(OR($B$3=\"5 (lima)\",$B$3=\"6 (enam)\"),HLOOKUP($C$3,TABMAPEL_XII,DBLOGIC!DL2,FALSE),IF(OR($B$3=\"7 (tujuh)\",$B$3=\"8 (delapan)\"),HLOOKUP($C$3,TABMAPEL_XIII,DBLOGIC!DL2,FALSE),0))))","v":"-"},{"$f":"IF(OR($B$3=\"1 (satu)\",$B$3=\"2 (dua)\"),HLOOKUP($C$3,TABMAPEL_X,DBLOGIC!DM2,FALSE),IF(OR($B$3=\"3 (tiga)\",$B$3=\"4 (empat)\"),HLOOKUP($C$3,TABMAPEL_XI,DBLOGIC!DM2,FALSE),IF(OR($B$3=\"5 (lima)\",$B$3=\"6 (enam)\"),HLOOKUP($C$3,TABMAPEL_XII,DBLOGIC!DM2,FALSE),IF(OR($B$3=\"7 (tujuh)\",$B$3=\"8 (delapan)\"),HLOOKUP($C$3,TABMAPEL_XIII,DBLOGIC!DM2,FALSE),0))))","v":"-"},{"$f":"IF(OR($B$3=\"1 (satu)\",$B$3=\"2 (dua)\"),HLOOKUP($C$3,TABMAPEL_X,DBLOGIC!DN2,FALSE),IF(OR($B$3=\"3 (tiga)\",$B$3=\"4 (empat)\"),HLOOKUP($C$3,TABMAPEL_XI,DBLOGIC!DN2,FALSE),IF(OR($B$3=\"5 (lima)\",$B$3=\"6 (enam)\"),HLOOKUP($C$3,TABMAPEL_XII,DBLOGIC!DN2,FALSE),IF(OR($B$3=\"7 (tujuh)\",$B$3=\"8 (delapan)\"),HLOOKUP($C$3,TABMAPEL_XIII,DBLOGIC!DN2,FALSE),0))))","v":"-"},{"$f":"IF(OR($B$3=\"1 (satu)\",$B$3=\"2 (dua)\"),HLOOKUP($C$3,TABMAPEL_X,DBLOGIC!DO2,FALSE),IF(OR($B$3=\"3 (tiga)\",$B$3=\"4 (empat)\"),HLOOKUP($C$3,TABMAPEL_XI,DBLOGIC!DO2,FALSE),IF(OR($B$3=\"5 (lima)\",$B$3=\"6 (enam)\"),HLOOKUP($C$3,TABMAPEL_XII,DBLOGIC!DO2,FALSE),IF(OR($B$3=\"7 (tujuh)\",$B$3=\"8 (delapan)\"),HLOOKUP($C$3,TABMAPEL_XIII,DBLOGIC!DO2,FALSE),0))))","v":"-"},{"$f":"IF(OR($B$3=\"1 (satu)\",$B$3=\"2 (dua)\"),HLOOKUP($C$3,TABMAPEL_X,DBLOGIC!DP2,FALSE),IF(OR($B$3=\"3 (tiga)\",$B$3=\"4 (empat)\"),HLOOKUP($C$3,TABMAPEL_XI,DBLOGIC!DP2,FALSE),IF(OR($B$3=\"5 (lima)\",$B$3=\"6 (enam)\"),HLOOKUP($C$3,TABMAPEL_XII,DBLOGIC!DP2,FALSE),IF(OR($B$3=\"7 (tujuh)\",$B$3=\"8 (delapan)\"),HLOOKUP($C$3,TABMAPEL_XIII,DBLOGIC!DP2,FALSE),0))))","v":"-"},{"$f":"IF(OR($B$3=\"1 (satu)\",$B$3=\"2 (dua)\"),HLOOKUP($C$3,TABMAPEL_X,DBLOGIC!DQ2,FALSE),IF(OR($B$3=\"3 (tiga)\",$B$3=\"4 (empat)\"),HLOOKUP($C$3,TABMAPEL_XI,DBLOGIC!DQ2,FALSE),IF(OR($B$3=\"5 (lima)\",$B$3=\"6 (enam)\"),HLOOKUP($C$3,TABMAPEL_XII,DBLOGIC!DQ2,FALSE),IF(OR($B$3=\"7 (tujuh)\",$B$3=\"8 (delapan)\"),HLOOKUP($C$3,TABMAPEL_XIII,DBLOGIC!DQ2,FALSE),0))))","v":"-"},{"$f":"IF(OR($B$3=\"1 (satu)\",$B$3=\"2 (dua)\"),HLOOKUP($C$3,TABMAPEL_X,DBLOGIC!DR2,FALSE),IF(OR($B$3=\"3 (tiga)\",$B$3=\"4 (empat)\"),HLOOKUP($C$3,TABMAPEL_XI,DBLOGIC!DR2,FALSE),IF(OR($B$3=\"5 (lima)\",$B$3=\"6 (enam)\"),HLOOKUP($C$3,TABMAPEL_XII,DBLOGIC!DR2,FALSE),IF(OR($B$3=\"7 (tujuh)\",$B$3=\"8 (delapan)\"),HLOOKUP($C$3,TABMAPEL_XIII,DBLOGIC!DR2,FALSE),0))))","v":"-"},{"$f":"IF(OR($B$3=\"1 (satu)\",$B$3=\"2 (dua)\"),HLOOKUP($C$3,TABMAPEL_X,DBLOGIC!DS2,FALSE),IF(OR($B$3=\"3 (tiga)\",$B$3=\"4 (empat)\"),HLOOKUP($C$3,TABMAPEL_XI,DBLOGIC!DS2,FALSE),IF(OR($B$3=\"5 (lima)\",$B$3=\"6 (enam)\"),HLOOKUP($C$3,TABMAPEL_XII,DBLOGIC!DS2,FALSE),IF(OR($B$3=\"7 (tujuh)\",$B$3=\"8 (delapan)\"),HLOOKUP($C$3,TABMAPEL_XIII,DBLOGIC!DS2,FALSE),0))))","v":"-"},{"$f":"IF(OR($B$3=\"1 (satu)\",$B$3=\"2 (dua)\"),HLOOKUP($C$3,TABMAPEL_X,DBLOGIC!DT2,FALSE),IF(OR($B$3=\"3 (tiga)\",$B$3=\"4 (empat)\"),HLOOKUP($C$3,TABMAPEL_XI,DBLOGIC!DT2,FALSE),IF(OR($B$3=\"5 (lima)\",$B$3=\"6 (enam)\"),HLOOKUP($C$3,TABMAPEL_XII,DBLOGIC!DT2,FALSE),IF(OR($B$3=\"7 (tujuh)\",$B$3=\"8 (delapan)\"),HLOOKUP($C$3,TABMAPEL_XIII,DBLOGIC!DT2,FALSE),0))))","v":"-"},{"$f":"IF(OR($B$3=\"1 (satu)\",$B$3=\"2 (dua)\"),HLOOKUP($C$3,TABMAPEL_X,DBLOGIC!DU2,FALSE),IF(OR($B$3=\"3 (tiga)\",$B$3=\"4 (empat)\"),HLOOKUP($C$3,TABMAPEL_XI,DBLOGIC!DU2,FALSE),IF(OR($B$3=\"5 (lima)\",$B$3=\"6 (enam)\"),HLOOKUP($C$3,TABMAPEL_XII,DBLOGIC!DU2,FALSE),IF(OR($B$3=\"7 (tujuh)\",$B$3=\"8 (delapan)\"),HLOOKUP($C$3,TABMAPEL_XIII,DBLOGIC!DU2,FALSE),0))))","v":"-"},{"$f":"IF(OR($B$3=\"1 (satu)\",$B$3=\"2 (dua)\"),HLOOKUP($C$3,TABMAPEL_X,DBLOGIC!DV2,FALSE),IF(OR($B$3=\"3 (tiga)\",$B$3=\"4 (empat)\"),HLOOKUP($C$3,TABMAPEL_XI,DBLOGIC!DV2,FALSE),IF(OR($B$3=\"5 (lima)\",$B$3=\"6 (enam)\"),HLOOKUP($C$3,TABMAPEL_XII,DBLOGIC!DV2,FALSE),IF(OR($B$3=\"7 (tujuh)\",$B$3=\"8 (delapan)\"),HLOOKUP($C$3,TABMAPEL_XIII,DBLOGIC!DV2,FALSE),0))))","v":"-"},{"$f":"IF(OR($B$3=\"1 (satu)\",$B$3=\"2 (dua)\"),HLOOKUP($C$3,TABMAPEL_X,DBLOGIC!DW2,FALSE),IF(OR($B$3=\"3 (tiga)\",$B$3=\"4 (empat)\"),HLOOKUP($C$3,TABMAPEL_XI,DBLOGIC!DW2,FALSE),IF(OR($B$3=\"5 (lima)\",$B$3=\"6 (enam)\"),HLOOKUP($C$3,TABMAPEL_XII,DBLOGIC!DW2,FALSE),IF(OR($B$3=\"7 (tujuh)\",$B$3=\"8 (delapan)\"),HLOOKUP($C$3,TABMAPEL_XIII,DBLOGIC!DW2,FALSE),0))))","v":"-"},{"$f":"IF(OR($B$3=\"1 (satu)\",$B$3=\"2 (dua)\"),HLOOKUP($C$3,TABMAPEL_X,DBLOGIC!DX2,FALSE),IF(OR($B$3=\"3 (tiga)\",$B$3=\"4 (empat)\"),HLOOKUP($C$3,TABMAPEL_XI,DBLOGIC!DX2,FALSE),IF(OR($B$3=\"5 (lima)\",$B$3=\"6 (enam)\"),HLOOKUP($C$3,TABMAPEL_XII,DBLOGIC!DX2,FALSE),IF(OR($B$3=\"7 (tujuh)\",$B$3=\"8 (delapan)\"),HLOOKUP($C$3,TABMAPEL_XIII,DBLOGIC!DX2,FALSE),0))))","v":"-"},{"$f":"IF(OR($B$3=\"1 (satu)\",$B$3=\"2 (dua)\"),HLOOKUP($C$3,TABMAPEL_X,DBLOGIC!DY2,FALSE),IF(OR($B$3=\"3 (tiga)\",$B$3=\"4 (empat)\"),HLOOKUP($C$3,TABMAPEL_XI,DBLOGIC!DY2,FALSE),IF(OR($B$3=\"5 (lima)\",$B$3=\"6 (enam)\"),HLOOKUP($C$3,TABMAPEL_XII,DBLOGIC!DY2,FALSE),IF(OR($B$3=\"7 (tujuh)\",$B$3=\"8 (delapan)\"),HLOOKUP($C$3,TABMAPEL_XIII,DBLOGIC!DY2,FALSE),0))))","v":"Pemeliharaan Mesin Sepeda Motor"},{"$f":"IF(OR($B$3=\"1 (satu)\",$B$3=\"2 (dua)\"),HLOOKUP($C$3,TABMAPEL_X,DBLOGIC!DZ2,FALSE),IF(OR($B$3=\"3 (tiga)\",$B$3=\"4 (empat)\"),HLOOKUP($C$3,TABMAPEL_XI,DBLOGIC!DZ2,FALSE),IF(OR($B$3=\"5 (lima)\",$B$3=\"6 (enam)\"),HLOOKUP($C$3,TABMAPEL_XII,DBLOGIC!DZ2,FALSE),IF(OR($B$3=\"7 (tujuh)\",$B$3=\"8 (delapan)\"),HLOOKUP($C$3,TABMAPEL_XIII,DBLOGIC!DZ2,FALSE),0))))","v":"Pemeliharaan Mesin Sepeda Motor"},{"$f":"IF(OR($B$3=\"1 (satu)\",$B$3=\"2 (dua)\"),HLOOKUP($C$3,TABMAPEL_X,DBLOGIC!EA2,FALSE),IF(OR($B$3=\"3 (tiga)\",$B$3=\"4 (empat)\"),HLOOKUP($C$3,TABMAPEL_XI,DBLOGIC!EA2,FALSE),IF(OR($B$3=\"5 (lima)\",$B$3=\"6 (enam)\"),HLOOKUP($C$3,TABMAPEL_XII,DBLOGIC!EA2,FALSE),IF(OR($B$3=\"7 (tujuh)\",$B$3=\"8 (delapan)\"),HLOOKUP($C$3,TABMAPEL_XIII,DBLOGIC!EA2,FALSE),0))))","v":"Pemeliharaan Mesin Sepeda Motor"},{"$f":"IF(OR($B$3=\"1 (satu)\",$B$3=\"2 (dua)\"),HLOOKUP($C$3,TABMAPEL_X,DBLOGIC!EB2,FALSE),IF(OR($B$3=\"3 (tiga)\",$B$3=\"4 (empat)\"),HLOOKUP($C$3,TABMAPEL_XI,DBLOGIC!EB2,FALSE),IF(OR($B$3=\"5 (lima)\",$B$3=\"6 (enam)\"),HLOOKUP($C$3,TABMAPEL_XII,DBLOGIC!EB2,FALSE),IF(OR($B$3=\"7 (tujuh)\",$B$3=\"8 (delapan)\"),HLOOKUP($C$3,TABMAPEL_XIII,DBLOGIC!EB2,FALSE),0))))","v":"Pemeliharaan Mesin Sepeda Motor"},{"$f":"IF(OR($B$3=\"1 (satu)\",$B$3=\"2 (dua)\"),HLOOKUP($C$3,TABMAPEL_X,DBLOGIC!EC2,FALSE),IF(OR($B$3=\"3 (tiga)\",$B$3=\"4 (empat)\"),HLOOKUP($C$3,TABMAPEL_XI,DBLOGIC!EC2,FALSE),IF(OR($B$3=\"5 (lima)\",$B$3=\"6 (enam)\"),HLOOKUP($C$3,TABMAPEL_XII,DBLOGIC!EC2,FALSE),IF(OR($B$3=\"7 (tujuh)\",$B$3=\"8 (delapan)\"),HLOOKUP($C$3,TABMAPEL_XIII,DBLOGIC!EC2,FALSE),0))))","v":"Pemeliharaan Mesin Sepeda Motor"},{"$f":"IF(OR($B$3=\"1 (satu)\",$B$3=\"2 (dua)\"),HLOOKUP($C$3,TABMAPEL_X,DBLOGIC!ED2,FALSE),IF(OR($B$3=\"3 (tiga)\",$B$3=\"4 (empat)\"),HLOOKUP($C$3,TABMAPEL_XI,DBLOGIC!ED2,FALSE),IF(OR($B$3=\"5 (lima)\",$B$3=\"6 (enam)\"),HLOOKUP($C$3,TABMAPEL_XII,DBLOGIC!ED2,FALSE),IF(OR($B$3=\"7 (tujuh)\",$B$3=\"8 (delapan)\"),HLOOKUP($C$3,TABMAPEL_XIII,DBLOGIC!ED2,FALSE),0))))","v":"Pemeliharaan Mesin Sepeda Motor"},{"$f":"IF(OR($B$3=\"1 (satu)\",$B$3=\"2 (dua)\"),HLOOKUP($C$3,TABMAPEL_X,DBLOGIC!EE2,FALSE),IF(OR($B$3=\"3 (tiga)\",$B$3=\"4 (empat)\"),HLOOKUP($C$3,TABMAPEL_XI,DBLOGIC!EE2,FALSE),IF(OR($B$3=\"5 (lima)\",$B$3=\"6 (enam)\"),HLOOKUP($C$3,TABMAPEL_XII,DBLOGIC!EE2,FALSE),IF(OR($B$3=\"7 (tujuh)\",$B$3=\"8 (delapan)\"),HLOOKUP($C$3,TABMAPEL_XIII,DBLOGIC!EE2,FALSE),0))))","v":"Pemeliharaan Mesin Sepeda Motor"},{"$f":"IF(OR($B$3=\"1 (satu)\",$B$3=\"2 (dua)\"),HLOOKUP($C$3,TABMAPEL_X,DBLOGIC!EF2,FALSE),IF(OR($B$3=\"3 (tiga)\",$B$3=\"4 (empat)\"),HLOOKUP($C$3,TABMAPEL_XI,DBLOGIC!EF2,FALSE),IF(OR($B$3=\"5 (lima)\",$B$3=\"6 (enam)\"),HLOOKUP($C$3,TABMAPEL_XII,DBLOGIC!EF2,FALSE),IF(OR($B$3=\"7 (tujuh)\",$B$3=\"8 (delapan)\"),HLOOKUP($C$3,TABMAPEL_XIII,DBLOGIC!EF2,FALSE),0))))","v":"Pemeliharaan Sasis Sepeda Motor"},{"$f":"IF(OR($B$3=\"1 (satu)\",$B$3=\"2 (dua)\"),HLOOKUP($C$3,TABMAPEL_X,DBLOGIC!EG2,FALSE),IF(OR($B$3=\"3 (tiga)\",$B$3=\"4 (empat)\"),HLOOKUP($C$3,TABMAPEL_XI,DBLOGIC!EG2,FALSE),IF(OR($B$3=\"5 (lima)\",$B$3=\"6 (enam)\"),HLOOKUP($C$3,TABMAPEL_XII,DBLOGIC!EG2,FALSE),IF(OR($B$3=\"7 (tujuh)\",$B$3=\"8 (delapan)\"),HLOOKUP($C$3,TABMAPEL_XIII,DBLOGIC!EG2,FALSE),0))))","v":"Pemeliharaan Sasis Sepeda Motor"},{"$f":"IF(OR($B$3=\"1 (satu)\",$B$3=\"2 (dua)\"),HLOOKUP($C$3,TABMAPEL_X,DBLOGIC!EH2,FALSE),IF(OR($B$3=\"3 (tiga)\",$B$3=\"4 (empat)\"),HLOOKUP($C$3,TABMAPEL_XI,DBLOGIC!EH2,FALSE),IF(OR($B$3=\"5 (lima)\",$B$3=\"6 (enam)\"),HLOOKUP($C$3,TABMAPEL_XII,DBLOGIC!EH2,FALSE),IF(OR($B$3=\"7 (tujuh)\",$B$3=\"8 (delapan)\"),HLOOKUP($C$3,TABMAPEL_XIII,DBLOGIC!EH2,FALSE),0))))","v":"Pemeliharaan Sasis Sepeda Motor"},{"$f":"IF(OR($B$3=\"1 (satu)\",$B$3=\"2 (dua)\"),HLOOKUP($C$3,TABMAPEL_X,DBLOGIC!EI2,FALSE),IF(OR($B$3=\"3 (tiga)\",$B$3=\"4 (empat)\"),HLOOKUP($C$3,TABMAPEL_XI,DBLOGIC!EI2,FALSE),IF(OR($B$3=\"5 (lima)\",$B$3=\"6 (enam)\"),HLOOKUP($C$3,TABMAPEL_XII,DBLOGIC!EI2,FALSE),IF(OR($B$3=\"7 (tujuh)\",$B$3=\"8 (delapan)\"),HLOOKUP($C$3,TABMAPEL_XIII,DBLOGIC!EI2,FALSE),0))))","v":"Pemeliharaan Sasis Sepeda Motor"},{"$f":"IF(OR($B$3=\"1 (satu)\",$B$3=\"2 (dua)\"),HLOOKUP($C$3,TABMAPEL_X,DBLOGIC!EJ2,FALSE),IF(OR($B$3=\"3 (tiga)\",$B$3=\"4 (empat)\"),HLOOKUP($C$3,TABMAPEL_XI,DBLOGIC!EJ2,FALSE),IF(OR($B$3=\"5 (lima)\",$B$3=\"6 (enam)\"),HLOOKUP($C$3,TABMAPEL_XII,DBLOGIC!EJ2,FALSE),IF(OR($B$3=\"7 (tujuh)\",$B$3=\"8 (delapan)\"),HLOOKUP($C$3,TABMAPEL_XIII,DBLOGIC!EJ2,FALSE),0))))","v":"Pemeliharaan Sasis Sepeda Motor"},{"$f":"IF(OR($B$3=\"1 (satu)\",$B$3=\"2 (dua)\"),HLOOKUP($C$3,TABMAPEL_X,DBLOGIC!EK2,FALSE),IF(OR($B$3=\"3 (tiga)\",$B$3=\"4 (empat)\"),HLOOKUP($C$3,TABMAPEL_XI,DBLOGIC!EK2,FALSE),IF(OR($B$3=\"5 (lima)\",$B$3=\"6 (enam)\"),HLOOKUP($C$3,TABMAPEL_XII,DBLOGIC!EK2,FALSE),IF(OR($B$3=\"7 (tujuh)\",$B$3=\"8 (delapan)\"),HLOOKUP($C$3,TABMAPEL_XIII,DBLOGIC!EK2,FALSE),0))))","v":"Pemeliharaan Sasis Sepeda Motor"},{"$f":"IF(OR($B$3=\"1 (satu)\",$B$3=\"2 (dua)\"),HLOOKUP($C$3,TABMAPEL_X,DBLOGIC!EL2,FALSE),IF(OR($B$3=\"3 (tiga)\",$B$3=\"4 (empat)\"),HLOOKUP($C$3,TABMAPEL_XI,DBLOGIC!EL2,FALSE),IF(OR($B$3=\"5 (lima)\",$B$3=\"6 (enam)\"),HLOOKUP($C$3,TABMAPEL_XII,DBLOGIC!EL2,FALSE),IF(OR($B$3=\"7 (tujuh)\",$B$3=\"8 (delapan)\"),HLOOKUP($C$3,TABMAPEL_XIII,DBLOGIC!EL2,FALSE),0))))","v":"Pemeliharaan Sasis Sepeda Motor"},{"$f":"IF(OR($B$3=\"1 (satu)\",$B$3=\"2 (dua)\"),HLOOKUP($C$3,TABMAPEL_X,DBLOGIC!EM2,FALSE),IF(OR($B$3=\"3 (tiga)\",$B$3=\"4 (empat)\"),HLOOKUP($C$3,TABMAPEL_XI,DBLOGIC!EM2,FALSE),IF(OR($B$3=\"5 (lima)\",$B$3=\"6 (enam)\"),HLOOKUP($C$3,TABMAPEL_XII,DBLOGIC!EM2,FALSE),IF(OR($B$3=\"7 (tujuh)\",$B$3=\"8 (delapan)\"),HLOOKUP($C$3,TABMAPEL_XIII,DBLOGIC!EM2,FALSE),0))))","v":"Pemeliharaan Kelistrikan Sepeda Motor"},{"$f":"IF(OR($B$3=\"1 (satu)\",$B$3=\"2 (dua)\"),HLOOKUP($C$3,TABMAPEL_X,DBLOGIC!EN2,FALSE),IF(OR($B$3=\"3 (tiga)\",$B$3=\"4 (empat)\"),HLOOKUP($C$3,TABMAPEL_XI,DBLOGIC!EN2,FALSE),IF(OR($B$3=\"5 (lima)\",$B$3=\"6 (enam)\"),HLOOKUP($C$3,TABMAPEL_XII,DBLOGIC!EN2,FALSE),IF(OR($B$3=\"7 (tujuh)\",$B$3=\"8 (delapan)\"),HLOOKUP($C$3,TABMAPEL_XIII,DBLOGIC!EN2,FALSE),0))))","v":"Pemeliharaan Kelistrikan Sepeda Motor"},{"$f":"IF(OR($B$3=\"1 (satu)\",$B$3=\"2 (dua)\"),HLOOKUP($C$3,TABMAPEL_X,DBLOGIC!EO2,FALSE),IF(OR($B$3=\"3 (tiga)\",$B$3=\"4 (empat)\"),HLOOKUP($C$3,TABMAPEL_XI,DBLOGIC!EO2,FALSE),IF(OR($B$3=\"5 (lima)\",$B$3=\"6 (enam)\"),HLOOKUP($C$3,TABMAPEL_XII,DBLOGIC!EO2,FALSE),IF(OR($B$3=\"7 (tujuh)\",$B$3=\"8 (delapan)\"),HLOOKUP($C$3,TABMAPEL_XIII,DBLOGIC!EO2,FALSE),0))))","v":"Pemeliharaan Kelistrikan Sepeda Motor"},{"$f":"IF(OR($B$3=\"1 (satu)\",$B$3=\"2 (dua)\"),HLOOKUP($C$3,TABMAPEL_X,DBLOGIC!EP2,FALSE),IF(OR($B$3=\"3 (tiga)\",$B$3=\"4 (empat)\"),HLOOKUP($C$3,TABMAPEL_XI,DBLOGIC!EP2,FALSE),IF(OR($B$3=\"5 (lima)\",$B$3=\"6 (enam)\"),HLOOKUP($C$3,TABMAPEL_XII,DBLOGIC!EP2,FALSE),IF(OR($B$3=\"7 (tujuh)\",$B$3=\"8 (delapan)\"),HLOOKUP($C$3,TABMAPEL_XIII,DBLOGIC!EP2,FALSE),0))))","v":"Pemeliharaan Kelistrikan Sepeda Motor"},{"$f":"IF(OR($B$3=\"1 (satu)\",$B$3=\"2 (dua)\"),HLOOKUP($C$3,TABMAPEL_X,DBLOGIC!EQ2,FALSE),IF(OR($B$3=\"3 (tiga)\",$B$3=\"4 (empat)\"),HLOOKUP($C$3,TABMAPEL_XI,DBLOGIC!EQ2,FALSE),IF(OR($B$3=\"5 (lima)\",$B$3=\"6 (enam)\"),HLOOKUP($C$3,TABMAPEL_XII,DBLOGIC!EQ2,FALSE),IF(OR($B$3=\"7 (tujuh)\",$B$3=\"8 (delapan)\"),HLOOKUP($C$3,TABMAPEL_XIII,DBLOGIC!EQ2,FALSE),0))))","v":"Pemeliharaan Kelistrikan Sepeda Motor"},{"$f":"IF(OR($B$3=\"1 (satu)\",$B$3=\"2 (dua)\"),HLOOKUP($C$3,TABMAPEL_X,DBLOGIC!ER2,FALSE),IF(OR($B$3=\"3 (tiga)\",$B$3=\"4 (empat)\"),HLOOKUP($C$3,TABMAPEL_XI,DBLOGIC!ER2,FALSE),IF(OR($B$3=\"5 (lima)\",$B$3=\"6 (enam)\"),HLOOKUP($C$3,TABMAPEL_XII,DBLOGIC!ER2,FALSE),IF(OR($B$3=\"7 (tujuh)\",$B$3=\"8 (delapan)\"),HLOOKUP($C$3,TABMAPEL_XIII,DBLOGIC!ER2,FALSE),0))))","v":"Pemeliharaan Kelistrikan Sepeda Motor"},{"$f":"IF(OR($B$3=\"1 (satu)\",$B$3=\"2 (dua)\"),HLOOKUP($C$3,TABMAPEL_X,DBLOGIC!ES2,FALSE),IF(OR($B$3=\"3 (tiga)\",$B$3=\"4 (empat)\"),HLOOKUP($C$3,TABMAPEL_XI,DBLOGIC!ES2,FALSE),IF(OR($B$3=\"5 (lima)\",$B$3=\"6 (enam)\"),HLOOKUP($C$3,TABMAPEL_XII,DBLOGIC!ES2,FALSE),IF(OR($B$3=\"7 (tujuh)\",$B$3=\"8 (delapan)\"),HLOOKUP($C$3,TABMAPEL_XIII,DBLOGIC!ES2,FALSE),0))))","v":"Pemeliharaan Kelistrikan Sepeda Motor"},{"$f":"IF(OR($B$3=\"1 (satu)\",$B$3=\"2 (dua)\"),HLOOKUP($C$3,TABMAPEL_X,DBLOGIC!ET2,FALSE),IF(OR($B$3=\"3 (tiga)\",$B$3=\"4 (empat)\"),HLOOKUP($C$3,TABMAPEL_XI,DBLOGIC!ET2,FALSE),IF(OR($B$3=\"5 (lima)\",$B$3=\"6 (enam)\"),HLOOKUP($C$3,TABMAPEL_XII,DBLOGIC!ET2,FALSE),IF(OR($B$3=\"7 (tujuh)\",$B$3=\"8 (delapan)\"),HLOOKUP($C$3,TABMAPEL_XIII,DBLOGIC!ET2,FALSE),0))))","v":"-"},{"$f":"IF(OR($B$3=\"1 (satu)\",$B$3=\"2 (dua)\"),HLOOKUP($C$3,TABMAPEL_X,DBLOGIC!EU2,FALSE),IF(OR($B$3=\"3 (tiga)\",$B$3=\"4 (empat)\"),HLOOKUP($C$3,TABMAPEL_XI,DBLOGIC!EU2,FALSE),IF(OR($B$3=\"5 (lima)\",$B$3=\"6 (enam)\"),HLOOKUP($C$3,TABMAPEL_XII,DBLOGIC!EU2,FALSE),IF(OR($B$3=\"7 (tujuh)\",$B$3=\"8 (delapan)\"),HLOOKUP($C$3,TABMAPEL_XIII,DBLOGIC!EU2,FALSE),0))))","v":"-"},{"$f":"IF(OR($B$3=\"1 (satu)\",$B$3=\"2 (dua)\"),HLOOKUP($C$3,TABMAPEL_X,DBLOGIC!EV2,FALSE),IF(OR($B$3=\"3 (tiga)\",$B$3=\"4 (empat)\"),HLOOKUP($C$3,TABMAPEL_XI,DBLOGIC!EV2,FALSE),IF(OR($B$3=\"5 (lima)\",$B$3=\"6 (enam)\"),HLOOKUP($C$3,TABMAPEL_XII,DBLOGIC!EV2,FALSE),IF(OR($B$3=\"7 (tujuh)\",$B$3=\"8 (delapan)\"),HLOOKUP($C$3,TABMAPEL_XIII,DBLOGIC!EV2,FALSE),0))))","v":"-"},{"$f":"IF(OR($B$3=\"1 (satu)\",$B$3=\"2 (dua)\"),HLOOKUP($C$3,TABMAPEL_X,DBLOGIC!EW2,FALSE),IF(OR($B$3=\"3 (tiga)\",$B$3=\"4 (empat)\"),HLOOKUP($C$3,TABMAPEL_XI,DBLOGIC!EW2,FALSE),IF(OR($B$3=\"5 (lima)\",$B$3=\"6 (enam)\"),HLOOKUP($C$3,TABMAPEL_XII,DBLOGIC!EW2,FALSE),IF(OR($B$3=\"7 (tujuh)\",$B$3=\"8 (delapan)\"),HLOOKUP($C$3,TABMAPEL_XIII,DBLOGIC!EW2,FALSE),0))))","v":"-"},{"$f":"IF(OR($B$3=\"1 (satu)\",$B$3=\"2 (dua)\"),HLOOKUP($C$3,TABMAPEL_X,DBLOGIC!EX2,FALSE),IF(OR($B$3=\"3 (tiga)\",$B$3=\"4 (empat)\"),HLOOKUP($C$3,TABMAPEL_XI,DBLOGIC!EX2,FALSE),IF(OR($B$3=\"5 (lima)\",$B$3=\"6 (enam)\"),HLOOKUP($C$3,TABMAPEL_XII,DBLOGIC!EX2,FALSE),IF(OR($B$3=\"7 (tujuh)\",$B$3=\"8 (delapan)\"),HLOOKUP($C$3,TABMAPEL_XIII,DBLOGIC!EX2,FALSE),0))))","v":"-"},{"$f":"IF(OR($B$3=\"1 (satu)\",$B$3=\"2 (dua)\"),HLOOKUP($C$3,TABMAPEL_X,DBLOGIC!EY2,FALSE),IF(OR($B$3=\"3 (tiga)\",$B$3=\"4 (empat)\"),HLOOKUP($C$3,TABMAPEL_XI,DBLOGIC!EY2,FALSE),IF(OR($B$3=\"5 (lima)\",$B$3=\"6 (enam)\"),HLOOKUP($C$3,TABMAPEL_XII,DBLOGIC!EY2,FALSE),IF(OR($B$3=\"7 (tujuh)\",$B$3=\"8 (delapan)\"),HLOOKUP($C$3,TABMAPEL_XIII,DBLOGIC!EY2,FALSE),0))))","v":"-"},{"$f":"IF(OR($B$3=\"1 (satu)\",$B$3=\"2 (dua)\"),HLOOKUP($C$3,TABMAPEL_X,DBLOGIC!EZ2,FALSE),IF(OR($B$3=\"3 (tiga)\",$B$3=\"4 (empat)\"),HLOOKUP($C$3,TABMAPEL_XI,DBLOGIC!EZ2,FALSE),IF(OR($B$3=\"5 (lima)\",$B$3=\"6 (enam)\"),HLOOKUP($C$3,TABMAPEL_XII,DBLOGIC!EZ2,FALSE),IF(OR($B$3=\"7 (tujuh)\",$B$3=\"8 (delapan)\"),HLOOKUP($C$3,TABMAPEL_XIII,DBLOGIC!EZ2,FALSE),0))))","v":"-"},{"$f":"IF(OR($B$3=\"1 (satu)\",$B$3=\"2 (dua)\"),HLOOKUP($C$3,TABMAPEL_X,DBLOGIC!FA2,FALSE),IF(OR($B$3=\"3 (tiga)\",$B$3=\"4 (empat)\"),HLOOKUP($C$3,TABMAPEL_XI,DBLOGIC!FA2,FALSE),IF(OR($B$3=\"5 (lima)\",$B$3=\"6 (enam)\"),HLOOKUP($C$3,TABMAPEL_XII,DBLOGIC!FA2,FALSE),IF(OR($B$3=\"7 (tujuh)\",$B$3=\"8 (delapan)\"),HLOOKUP($C$3,TABMAPEL_XIII,DBLOGIC!FA2,FALSE),0))))","v":"-"},{"$f":"IF(OR($B$3=\"1 (satu)\",$B$3=\"2 (dua)\"),HLOOKUP($C$3,TABMAPEL_X,DBLOGIC!FB2,FALSE),IF(OR($B$3=\"3 (tiga)\",$B$3=\"4 (empat)\"),HLOOKUP($C$3,TABMAPEL_XI,DBLOGIC!FB2,FALSE),IF(OR($B$3=\"5 (lima)\",$B$3=\"6 (enam)\"),HLOOKUP($C$3,TABMAPEL_XII,DBLOGIC!FB2,FALSE),IF(OR($B$3=\"7 (tujuh)\",$B$3=\"8 (delapan)\"),HLOOKUP($C$3,TABMAPEL_XIII,DBLOGIC!FB2,FALSE),0))))","v":"-"},{"$f":"IF(OR($B$3=\"1 (satu)\",$B$3=\"2 (dua)\"),HLOOKUP($C$3,TABMAPEL_X,DBLOGIC!FC2,FALSE),IF(OR($B$3=\"3 (tiga)\",$B$3=\"4 (empat)\"),HLOOKUP($C$3,TABMAPEL_XI,DBLOGIC!FC2,FALSE),IF(OR($B$3=\"5 (lima)\",$B$3=\"6 (enam)\"),HLOOKUP($C$3,TABMAPEL_XII,DBLOGIC!FC2,FALSE),IF(OR($B$3=\"7 (tujuh)\",$B$3=\"8 (delapan)\"),HLOOKUP($C$3,TABMAPEL_XIII,DBLOGIC!FC2,FALSE),0))))","v":"-"},{"$f":"IF(OR($B$3=\"1 (satu)\",$B$3=\"2 (dua)\"),HLOOKUP($C$3,TABMAPEL_X,DBLOGIC!FD2,FALSE),IF(OR($B$3=\"3 (tiga)\",$B$3=\"4 (empat)\"),HLOOKUP($C$3,TABMAPEL_XI,DBLOGIC!FD2,FALSE),IF(OR($B$3=\"5 (lima)\",$B$3=\"6 (enam)\"),HLOOKUP($C$3,TABMAPEL_XII,DBLOGIC!FD2,FALSE),IF(OR($B$3=\"7 (tujuh)\",$B$3=\"8 (delapan)\"),HLOOKUP($C$3,TABMAPEL_XIII,DBLOGIC!FD2,FALSE),0))))","v":"-"},{"$f":"IF(OR($B$3=\"1 (satu)\",$B$3=\"2 (dua)\"),HLOOKUP($C$3,TABMAPEL_X,DBLOGIC!FE2,FALSE),IF(OR($B$3=\"3 (tiga)\",$B$3=\"4 (empat)\"),HLOOKUP($C$3,TABMAPEL_XI,DBLOGIC!FE2,FALSE),IF(OR($B$3=\"5 (lima)\",$B$3=\"6 (enam)\"),HLOOKUP($C$3,TABMAPEL_XII,DBLOGIC!FE2,FALSE),IF(OR($B$3=\"7 (tujuh)\",$B$3=\"8 (delapan)\"),HLOOKUP($C$3,TABMAPEL_XIII,DBLOGIC!FE2,FALSE),0))))","v":"-"},{"$f":"IF(OR($B$3=\"1 (satu)\",$B$3=\"2 (dua)\"),HLOOKUP($C$3,TABMAPEL_X,DBLOGIC!FF2,FALSE),IF(OR($B$3=\"3 (tiga)\",$B$3=\"4 (empat)\"),HLOOKUP($C$3,TABMAPEL_XI,DBLOGIC!FF2,FALSE),IF(OR($B$3=\"5 (lima)\",$B$3=\"6 (enam)\"),HLOOKUP($C$3,TABMAPEL_XII,DBLOGIC!FF2,FALSE),IF(OR($B$3=\"7 (tujuh)\",$B$3=\"8 (delapan)\"),HLOOKUP($C$3,TABMAPEL_XIII,DBLOGIC!FF2,FALSE),0))))","v":"-"},{"$f":"IF(OR($B$3=\"1 (satu)\",$B$3=\"2 (dua)\"),HLOOKUP($C$3,TABMAPEL_X,DBLOGIC!FG2,FALSE),IF(OR($B$3=\"3 (tiga)\",$B$3=\"4 (empat)\"),HLOOKUP($C$3,TABMAPEL_XI,DBLOGIC!FG2,FALSE),IF(OR($B$3=\"5 (lima)\",$B$3=\"6 (enam)\"),HLOOKUP($C$3,TABMAPEL_XII,DBLOGIC!FG2,FALSE),IF(OR($B$3=\"7 (tujuh)\",$B$3=\"8 (delapan)\"),HLOOKUP($C$3,TABMAPEL_XIII,DBLOGIC!FG2,FALSE),0))))","v":"-"},{"$f":"IF(OR($B$3=\"1 (satu)\",$B$3=\"2 (dua)\"),HLOOKUP($C$3,TABMAPEL_X,DBLOGIC!FH2,FALSE),IF(OR($B$3=\"3 (tiga)\",$B$3=\"4 (empat)\"),HLOOKUP($C$3,TABMAPEL_XI,DBLOGIC!FH2,FALSE),IF(OR($B$3=\"5 (lima)\",$B$3=\"6 (enam)\"),HLOOKUP($C$3,TABMAPEL_XII,DBLOGIC!FH2,FALSE),IF(OR($B$3=\"7 (tujuh)\",$B$3=\"8 (delapan)\"),HLOOKUP($C$3,TABMAPEL_XIII,DBLOGIC!FH2,FALSE),0))))","v":"Produk Kreatif dan Kewirausahaan "},{"$f":"IF(OR($B$3=\"1 (satu)\",$B$3=\"2 (dua)\"),HLOOKUP($C$3,TABMAPEL_X,DBLOGIC!FI2,FALSE),IF(OR($B$3=\"3 (tiga)\",$B$3=\"4 (empat)\"),HLOOKUP($C$3,TABMAPEL_XI,DBLOGIC!FI2,FALSE),IF(OR($B$3=\"5 (lima)\",$B$3=\"6 (enam)\"),HLOOKUP($C$3,TABMAPEL_XII,DBLOGIC!FI2,FALSE),IF(OR($B$3=\"7 (tujuh)\",$B$3=\"8 (delapan)\"),HLOOKUP($C$3,TABMAPEL_XIII,DBLOGIC!FI2,FALSE),0))))","v":"Produk Kreatif dan Kewirausahaan "},{"$f":"IF(OR($B$3=\"1 (satu)\",$B$3=\"2 (dua)\"),HLOOKUP($C$3,TABMAPEL_X,DBLOGIC!FJ2,FALSE),IF(OR($B$3=\"3 (tiga)\",$B$3=\"4 (empat)\"),HLOOKUP($C$3,TABMAPEL_XI,DBLOGIC!FJ2,FALSE),IF(OR($B$3=\"5 (lima)\",$B$3=\"6 (enam)\"),HLOOKUP($C$3,TABMAPEL_XII,DBLOGIC!FJ2,FALSE),IF(OR($B$3=\"7 (tujuh)\",$B$3=\"8 (delapan)\"),HLOOKUP($C$3,TABMAPEL_XIII,DBLOGIC!FJ2,FALSE),0))))","v":"Produk Kreatif dan Kewirausahaan "},{"$f":"IF(OR($B$3=\"1 (satu)\",$B$3=\"2 (dua)\"),HLOOKUP($C$3,TABMAPEL_X,DBLOGIC!FK2,FALSE),IF(OR($B$3=\"3 (tiga)\",$B$3=\"4 (empat)\"),HLOOKUP($C$3,TABMAPEL_XI,DBLOGIC!FK2,FALSE),IF(OR($B$3=\"5 (lima)\",$B$3=\"6 (enam)\"),HLOOKUP($C$3,TABMAPEL_XII,DBLOGIC!FK2,FALSE),IF(OR($B$3=\"7 (tujuh)\",$B$3=\"8 (delapan)\"),HLOOKUP($C$3,TABMAPEL_XIII,DBLOGIC!FK2,FALSE),0))))","v":"Produk Kreatif dan Kewirausahaan "},{"$f":"IF(OR($B$3=\"1 (satu)\",$B$3=\"2 (dua)\"),HLOOKUP($C$3,TABMAPEL_X,DBLOGIC!FL2,FALSE),IF(OR($B$3=\"3 (tiga)\",$B$3=\"4 (empat)\"),HLOOKUP($C$3,TABMAPEL_XI,DBLOGIC!FL2,FALSE),IF(OR($B$3=\"5 (lima)\",$B$3=\"6 (enam)\"),HLOOKUP($C$3,TABMAPEL_XII,DBLOGIC!FL2,FALSE),IF(OR($B$3=\"7 (tujuh)\",$B$3=\"8 (delapan)\"),HLOOKUP($C$3,TABMAPEL_XIII,DBLOGIC!FL2,FALSE),0))))","v":"Produk Kreatif dan Kewirausahaan "},{"$f":"IF(OR($B$3=\"1 (satu)\",$B$3=\"2 (dua)\"),HLOOKUP($C$3,TABMAPEL_X,DBLOGIC!FM2,FALSE),IF(OR($B$3=\"3 (tiga)\",$B$3=\"4 (empat)\"),HLOOKUP($C$3,TABMAPEL_XI,DBLOGIC!FM2,FALSE),IF(OR($B$3=\"5 (lima)\",$B$3=\"6 (enam)\"),HLOOKUP($C$3,TABMAPEL_XII,DBLOGIC!FM2,FALSE),IF(OR($B$3=\"7 (tujuh)\",$B$3=\"8 (delapan)\"),HLOOKUP($C$3,TABMAPEL_XIII,DBLOGIC!FM2,FALSE),0))))","v":"Produk Kreatif dan Kewirausahaan "},{"$f":"IF(OR($B$3=\"1 (satu)\",$B$3=\"2 (dua)\"),HLOOKUP($C$3,TABMAPEL_X,DBLOGIC!FN2,FALSE),IF(OR($B$3=\"3 (tiga)\",$B$3=\"4 (empat)\"),HLOOKUP($C$3,TABMAPEL_XI,DBLOGIC!FN2,FALSE),IF(OR($B$3=\"5 (lima)\",$B$3=\"6 (enam)\"),HLOOKUP($C$3,TABMAPEL_XII,DBLOGIC!FN2,FALSE),IF(OR($B$3=\"7 (tujuh)\",$B$3=\"8 (delapan)\"),HLOOKUP($C$3,TABMAPEL_XIII,DBLOGIC!FN2,FALSE),0))))","v":"Produk Kreatif dan Kewirausahaan "},{"$f":"IF(OR($B$3=\"1 (satu)\",$B$3=\"2 (dua)\"),HLOOKUP($C$3,TABMAPEL_X,DBLOGIC!FO2,FALSE),IF(OR($B$3=\"3 (tiga)\",$B$3=\"4 (empat)\"),HLOOKUP($C$3,TABMAPEL_XI,DBLOGIC!FO2,FALSE),IF(OR($B$3=\"5 (lima)\",$B$3=\"6 (enam)\"),HLOOKUP($C$3,TABMAPEL_XII,DBLOGIC!FO2,FALSE),IF(OR($B$3=\"7 (tujuh)\",$B$3=\"8 (delapan)\"),HLOOKUP($C$3,TABMAPEL_XIII,DBLOGIC!FO2,FALSE),0))))","v":"-"},{"$f":"IF(OR($B$3=\"1 (satu)\",$B$3=\"2 (dua)\"),HLOOKUP($C$3,TABMAPEL_X,DBLOGIC!FP2,FALSE),IF(OR($B$3=\"3 (tiga)\",$B$3=\"4 (empat)\"),HLOOKUP($C$3,TABMAPEL_XI,DBLOGIC!FP2,FALSE),IF(OR($B$3=\"5 (lima)\",$B$3=\"6 (enam)\"),HLOOKUP($C$3,TABMAPEL_XII,DBLOGIC!FP2,FALSE),IF(OR($B$3=\"7 (tujuh)\",$B$3=\"8 (delapan)\"),HLOOKUP($C$3,TABMAPEL_XIII,DBLOGIC!FP2,FALSE),0))))","v":"-"},{"$f":"IF(OR($B$3=\"1 (satu)\",$B$3=\"2 (dua)\"),HLOOKUP($C$3,TABMAPEL_X,DBLOGIC!FQ2,FALSE),IF(OR($B$3=\"3 (tiga)\",$B$3=\"4 (empat)\"),HLOOKUP($C$3,TABMAPEL_XI,DBLOGIC!FQ2,FALSE),IF(OR($B$3=\"5 (lima)\",$B$3=\"6 (enam)\"),HLOOKUP($C$3,TABMAPEL_XII,DBLOGIC!FQ2,FALSE),IF(OR($B$3=\"7 (tujuh)\",$B$3=\"8 (delapan)\"),HLOOKUP($C$3,TABMAPEL_XIII,DBLOGIC!FQ2,FALSE),0))))","v":"-"},{"$f":"IF(OR($B$3=\"1 (satu)\",$B$3=\"2 (dua)\"),HLOOKUP($C$3,TABMAPEL_X,DBLOGIC!FR2,FALSE),IF(OR($B$3=\"3 (tiga)\",$B$3=\"4 (empat)\"),HLOOKUP($C$3,TABMAPEL_XI,DBLOGIC!FR2,FALSE),IF(OR($B$3=\"5 (lima)\",$B$3=\"6 (enam)\"),HLOOKUP($C$3,TABMAPEL_XII,DBLOGIC!FR2,FALSE),IF(OR($B$3=\"7 (tujuh)\",$B$3=\"8 (delapan)\"),HLOOKUP($C$3,TABMAPEL_XIII,DBLOGIC!FR2,FALSE),0))))","v":"-"},{"$f":"IF(OR($B$3=\"1 (satu)\",$B$3=\"2 (dua)\"),HLOOKUP($C$3,TABMAPEL_X,DBLOGIC!FS2,FALSE),IF(OR($B$3=\"3 (tiga)\",$B$3=\"4 (empat)\"),HLOOKUP($C$3,TABMAPEL_XI,DBLOGIC!FS2,FALSE),IF(OR($B$3=\"5 (lima)\",$B$3=\"6 (enam)\"),HLOOKUP($C$3,TABMAPEL_XII,DBLOGIC!FS2,FALSE),IF(OR($B$3=\"7 (tujuh)\",$B$3=\"8 (delapan)\"),HLOOKUP($C$3,TABMAPEL_XIII,DBLOGIC!FS2,FALSE),0))))","v":"-"},{"$f":"IF(OR($B$3=\"1 (satu)\",$B$3=\"2 (dua)\"),HLOOKUP($C$3,TABMAPEL_X,DBLOGIC!FT2,FALSE),IF(OR($B$3=\"3 (tiga)\",$B$3=\"4 (empat)\"),HLOOKUP($C$3,TABMAPEL_XI,DBLOGIC!FT2,FALSE),IF(OR($B$3=\"5 (lima)\",$B$3=\"6 (enam)\"),HLOOKUP($C$3,TABMAPEL_XII,DBLOGIC!FT2,FALSE),IF(OR($B$3=\"7 (tujuh)\",$B$3=\"8 (delapan)\"),HLOOKUP($C$3,TABMAPEL_XIII,DBLOGIC!FT2,FALSE),0))))","v":"-"},{"$f":"IF(OR($B$3=\"1 (satu)\",$B$3=\"2 (dua)\"),HLOOKUP($C$3,TABMAPEL_X,DBLOGIC!FU2,FALSE),IF(OR($B$3=\"3 (tiga)\",$B$3=\"4 (empat)\"),HLOOKUP($C$3,TABMAPEL_XI,DBLOGIC!FU2,FALSE),IF(OR($B$3=\"5 (lima)\",$B$3=\"6 (enam)\"),HLOOKUP($C$3,TABMAPEL_XII,DBLOGIC!FU2,FALSE),IF(OR($B$3=\"7 (tujuh)\",$B$3=\"8 (delapan)\"),HLOOKUP($C$3,TABMAPEL_XIII,DBLOGIC!FU2,FALSE),0))))","v":"-"},{"$f":"IF(OR($B$3=\"1 (satu)\",$B$3=\"2 (dua)\"),HLOOKUP($C$3,TABMAPEL_X,DBLOGIC!FV2,FALSE),IF(OR($B$3=\"3 (tiga)\",$B$3=\"4 (empat)\"),HLOOKUP($C$3,TABMAPEL_XI,DBLOGIC!FV2,FALSE),IF(OR($B$3=\"5 (lima)\",$B$3=\"6 (enam)\"),HLOOKUP($C$3,TABMAPEL_XII,DBLOGIC!FV2,FALSE),IF(OR($B$3=\"7 (tujuh)\",$B$3=\"8 (delapan)\"),HLOOKUP($C$3,TABMAPEL_XIII,DBLOGIC!FV2,FALSE),0))))","v":"-"},{"$f":"IF(OR($B$3=\"1 (satu)\",$B$3=\"2 (dua)\"),HLOOKUP($C$3,TABMAPEL_X,DBLOGIC!FW2,FALSE),IF(OR($B$3=\"3 (tiga)\",$B$3=\"4 (empat)\"),HLOOKUP($C$3,TABMAPEL_XI,DBLOGIC!FW2,FALSE),IF(OR($B$3=\"5 (lima)\",$B$3=\"6 (enam)\"),HLOOKUP($C$3,TABMAPEL_XII,DBLOGIC!FW2,FALSE),IF(OR($B$3=\"7 (tujuh)\",$B$3=\"8 (delapan)\"),HLOOKUP($C$3,TABMAPEL_XIII,DBLOGIC!FW2,FALSE),0))))","v":"-"},{"$f":"IF(OR($B$3=\"1 (satu)\",$B$3=\"2 (dua)\"),HLOOKUP($C$3,TABMAPEL_X,DBLOGIC!FX2,FALSE),IF(OR($B$3=\"3 (tiga)\",$B$3=\"4 (empat)\"),HLOOKUP($C$3,TABMAPEL_XI,DBLOGIC!FX2,FALSE),IF(OR($B$3=\"5 (lima)\",$B$3=\"6 (enam)\"),HLOOKUP($C$3,TABMAPEL_XII,DBLOGIC!FX2,FALSE),IF(OR($B$3=\"7 (tujuh)\",$B$3=\"8 (delapan)\"),HLOOKUP($C$3,TABMAPEL_XIII,DBLOGIC!FX2,FALSE),0))))","v":"-"},{"$f":"IF(OR($B$3=\"1 (satu)\",$B$3=\"2 (dua)\"),HLOOKUP($C$3,TABMAPEL_X,DBLOGIC!FY2,FALSE),IF(OR($B$3=\"3 (tiga)\",$B$3=\"4 (empat)\"),HLOOKUP($C$3,TABMAPEL_XI,DBLOGIC!FY2,FALSE),IF(OR($B$3=\"5 (lima)\",$B$3=\"6 (enam)\"),HLOOKUP($C$3,TABMAPEL_XII,DBLOGIC!FY2,FALSE),IF(OR($B$3=\"7 (tujuh)\",$B$3=\"8 (delapan)\"),HLOOKUP($C$3,TABMAPEL_XIII,DBLOGIC!FY2,FALSE),0))))","v":"-"},{"$f":"IF(OR($B$3=\"1 (satu)\",$B$3=\"2 (dua)\"),HLOOKUP($C$3,TABMAPEL_X,DBLOGIC!FZ2,FALSE),IF(OR($B$3=\"3 (tiga)\",$B$3=\"4 (empat)\"),HLOOKUP($C$3,TABMAPEL_XI,DBLOGIC!FZ2,FALSE),IF(OR($B$3=\"5 (lima)\",$B$3=\"6 (enam)\"),HLOOKUP($C$3,TABMAPEL_XII,DBLOGIC!FZ2,FALSE),IF(OR($B$3=\"7 (tujuh)\",$B$3=\"8 (delapan)\"),HLOOKUP($C$3,TABMAPEL_XIII,DBLOGIC!FZ2,FALSE),0))))","v":"-"},{"$f":"IF(OR($B$3=\"1 (satu)\",$B$3=\"2 (dua)\"),HLOOKUP($C$3,TABMAPEL_X,DBLOGIC!GA2,FALSE),IF(OR($B$3=\"3 (tiga)\",$B$3=\"4 (empat)\"),HLOOKUP($C$3,TABMAPEL_XI,DBLOGIC!GA2,FALSE),IF(OR($B$3=\"5 (lima)\",$B$3=\"6 (enam)\"),HLOOKUP($C$3,TABMAPEL_XII,DBLOGIC!GA2,FALSE),IF(OR($B$3=\"7 (tujuh)\",$B$3=\"8 (delapan)\"),HLOOKUP($C$3,TABMAPEL_XIII,DBLOGIC!GA2,FALSE),0))))","v":"-"},{"$f":"IF(OR($B$3=\"1 (satu)\",$B$3=\"2 (dua)\"),HLOOKUP($C$3,TABMAPEL_X,DBLOGIC!GB2,FALSE),IF(OR($B$3=\"3 (tiga)\",$B$3=\"4 (empat)\"),HLOOKUP($C$3,TABMAPEL_XI,DBLOGIC!GB2,FALSE),IF(OR($B$3=\"5 (lima)\",$B$3=\"6 (enam)\"),HLOOKUP($C$3,TABMAPEL_XII,DBLOGIC!GB2,FALSE),IF(OR($B$3=\"7 (tujuh)\",$B$3=\"8 (delapan)\"),HLOOKUP($C$3,TABMAPEL_XIII,DBLOGIC!GB2,FALSE),0))))","v":"-"},null,"Bimbingan dan Konseling","Catatan Aakdemik"]
["Semester  :","3 (tiga)",{"$f":"IF(OR(B3=\"1 (satu)\",B3=\"2 (dua)\"),\"X \"&MENU!F8,IF(OR(B3=\"3 (tiga)\",B3=\"4 (empat)\"),\"XI \"&MENU!F8,IF(OR(B3=\"5 (lima)\",B3=\"6 (enam)\"),\"XII \"&MENU!F8,\"\")))","v":"XI TBSM"},{"$f":"HLOOKUP(\"KEL\",TABMAPEL_X,DBLOGIC!Q2,FALSE)","v":"A"},{"$f":"HLOOKUP(\"KEL\",TABMAPEL_X,DBLOGIC!R2,FALSE)","v":"A"},{"$f":"HLOOKUP(\"KEL\",TABMAPEL_X,DBLOGIC!S2,FALSE)","v":"A"},{"$f":"HLOOKUP(\"KEL\",TABMAPEL_X,DBLOGIC!T2,FALSE)","v":"A"},{"$f":"HLOOKUP(\"KEL\",TABMAPEL_X,DBLOGIC!U2,FALSE)","v":"A"},{"$f":"HLOOKUP(\"KEL\",TABMAPEL_X,DBLOGIC!V2,FALSE)","v":"A"},{"$f":"HLOOKUP(\"KEL\",TABMAPEL_X,DBLOGIC!W2,FALSE)","v":"A"},{"$f":"HLOOKUP(\"KEL\",TABMAPEL_X,DBLOGIC!X2,FALSE)","v":"A"},{"$f":"HLOOKUP(\"KEL\",TABMAPEL_X,DBLOGIC!Y2,FALSE)","v":"A"},{"$f":"HLOOKUP(\"KEL\",TABMAPEL_X,DBLOGIC!Z2,FALSE)","v":"A"},{"$f":"HLOOKUP(\"KEL\",TABMAPEL_X,DBLOGIC!AA2,FALSE)","v":"A"},{"$f":"HLOOKUP(\"KEL\",TABMAPEL_X,DBLOGIC!AB2,FALSE)","v":"A"},{"$f":"HLOOKUP(\"KEL\",TABMAPEL_X,DBLOGIC!AC2,FALSE)","v":"A"},{"$f":"HLOOKUP(\"KEL\",TABMAPEL_X,DBLOGIC!AD2,FALSE)","v":"A"},{"$f":"HLOOKUP(\"KEL\",TABMAPEL_X,DBLOGIC!AE2,FALSE)","v":"A"},{"$f":"HLOOKUP(\"KEL\",TABMAPEL_X,DBLOGIC!AF2,FALSE)","v":"A"},{"$f":"HLOOKUP(\"KEL\",TABMAPEL_X,DBLOGIC!AG2,FALSE)","v":"A"},{"$f":"HLOOKUP(\"KEL\",TABMAPEL_X,DBLOGIC!AH2,FALSE)","v":"A"},{"$f":"HLOOKUP(\"KEL\",TABMAPEL_X,DBLOGIC!AI2,FALSE)","v":"A"},{"$f":"HLOOKUP(\"KEL\",TABMAPEL_X,DBLOGIC!AJ2,FALSE)","v":"A"},{"$f":"HLOOKUP(\"KEL\",TABMAPEL_X,DBLOGIC!AK2,FALSE)","v":"A"},{"$f":"HLOOKUP(\"KEL\",TABMAPEL_X,DBLOGIC!AL2,FALSE)","v":"A"},{"$f":"HLOOKUP(\"KEL\",TABMAPEL_X,DBLOGIC!AM2,FALSE)","v":"A"},{"$f":"HLOOKUP(\"KEL\",TABMAPEL_X,DBLOGIC!AN2,FALSE)","v":"A"},{"$f":"HLOOKUP(\"KEL\",TABMAPEL_X,DBLOGIC!AO2,FALSE)","v":"A"},{"$f":"HLOOKUP(\"KEL\",TABMAPEL_X,DBLOGIC!AP2,FALSE)","v":"A"},{"$f":"HLOOKUP(\"KEL\",TABMAPEL_X,DBLOGIC!AQ2,FALSE)","v":"A"},{"$f":"HLOOKUP(\"KEL\",TABMAPEL_X,DBLOGIC!AR2,FALSE)","v":"A"},{"$f":"HLOOKUP(\"KEL\",TABMAPEL_X,DBLOGIC!AS2,FALSE)","v":"A"},{"$f":"HLOOKUP(\"KEL\",TABMAPEL_X,DBLOGIC!AT2,FALSE)","v":"A"},{"$f":"HLOOKUP(\"KEL\",TABMAPEL_X,DBLOGIC!AU2,FALSE)","v":"A"},{"$f":"HLOOKUP(\"KEL\",TABMAPEL_X,DBLOGIC!AV2,FALSE)","v":"A"},{"$f":"HLOOKUP(\"KEL\",TABMAPEL_X,DBLOGIC!AW2,FALSE)","v":"A"},{"$f":"HLOOKUP(\"KEL\",TABMAPEL_X,DBLOGIC!AX2,FALSE)","v":"A"},{"$f":"HLOOKUP(\"KEL\",TABMAPEL_X,DBLOGIC!AY2,FALSE)","v":"A"},{"$f":"HLOOKUP(\"KEL\",TABMAPEL_X,DBLOGIC!AZ2,FALSE)","v":"A"},{"$f":"HLOOKUP(\"KEL\",TABMAPEL_X,DBLOGIC!BA2,FALSE)","v":"A"},{"$f":"HLOOKUP(\"KEL\",TABMAPEL_X,DBLOGIC!BB2,FALSE)","v":"A"},{"$f":"HLOOKUP(\"KEL\",TABMAPEL_X,DBLOGIC!BC2,FALSE)","v":"A"},{"$f":"HLOOKUP(\"KEL\",TABMAPEL_X,DBLOGIC!BD2,FALSE)","v":"A"},{"$f":"HLOOKUP(\"KEL\",TABMAPEL_X,DBLOGIC!BE2,FALSE)","v":"A"},{"$f":"HLOOKUP(\"KEL\",TABMAPEL_X,DBLOGIC!BF2,FALSE)","v":"A"},{"$f":"HLOOKUP(\"KEL\",TABMAPEL_X,DBLOGIC!BG2,FALSE)","v":"A"},{"$f":"HLOOKUP(\"KEL\",TABMAPEL_X,DBLOGIC!BH2,FALSE)","v":"A"},{"$f":"HLOOKUP(\"KEL\",TABMAPEL_X,DBLOGIC!BI2,FALSE)","v":"A"},{"$f":"HLOOKUP(\"KEL\",TABMAPEL_X,DBLOGIC!BJ2,FALSE)","v":"A"},{"$f":"HLOOKUP(\"KEL\",TABMAPEL_X,DBLOGIC!BK2,FALSE)","v":"A"},{"$f":"HLOOKUP(\"KEL\",TABMAPEL_X,DBLOGIC!BL2,FALSE)","v":"A"},{"$f":"HLOOKUP(\"KEL\",TABMAPEL_X,DBLOGIC!BM2,FALSE)","v":"A"},{"$f":"HLOOKUP(\"KEL\",TABMAPEL_X,DBLOGIC!BN2,FALSE)","v":"B"},{"$f":"HLOOKUP(\"KEL\",TABMAPEL_X,DBLOGIC!BO2,FALSE)","v":"B"},{"$f":"HLOOKUP(\"KEL\",TABMAPEL_X,DBLOGIC!BP2,FALSE)","v":"B"},{"$f":"HLOOKUP(\"KEL\",TABMAPEL_X,DBLOGIC!BQ2,FALSE)","v":"B"},{"$f":"HLOOKUP(\"KEL\",TABMAPEL_X,DBLOGIC!BR2,FALSE)","v":"B"},{"$f":"HLOOKUP(\"KEL\",TABMAPEL_X,DBLOGIC!BS2,FALSE)","v":"B"},{"$f":"HLOOKUP(\"KEL\",TABMAPEL_X,DBLOGIC!BT2,FALSE)","v":"B"},{"$f":"HLOOKUP(\"KEL\",TABMAPEL_X,DBLOGIC!BU2,FALSE)","v":"B"},{"$f":"HLOOKUP(\"KEL\",TABMAPEL_X,DBLOGIC!BV2,FALSE)","v":"B"},{"$f":"HLOOKUP(\"KEL\",TABMAPEL_X,DBLOGIC!BW2,FALSE)","v":"B"},{"$f":"HLOOKUP(\"KEL\",TABMAPEL_X,DBLOGIC!BX2,FALSE)","v":"B"},{"$f":"HLOOKUP(\"KEL\",TABMAPEL_X,DBLOGIC!BY2,FALSE)","v":"B"},{"$f":"HLOOKUP(\"KEL\",TABMAPEL_X,DBLOGIC!BZ2,FALSE)","v":"B"},{"$f":"HLOOKUP(\"KEL\",TABMAPEL_X,DBLOGIC!CA2,FALSE)","v":"B"},{"$f":"HLOOKUP(\"KEL\",TABMAPEL_X,DBLOGIC!CB2,FALSE)","v":"C1"},{"$f":"HLOOKUP(\"KEL\",TABMAPEL_X,DBLOGIC!CC2,FALSE)","v":"C1"},{"$f":"HLOOKUP(\"KEL\",TABMAPEL_X,DBLOGIC!CD2,FALSE)","v":"C1"},{"$f":"HLOOKUP(\"KEL\",TABMAPEL_X,DBLOGIC!CE2,FALSE)","v":"C1"},{"$f":"HLOOKUP(\"KEL\",TABMAPEL_X,DBLOGIC!CF2,FALSE)","v":"C1"},{"$f":"HLOOKUP(\"KEL\",TABMAPEL_X,DBLOGIC!CG2,FALSE)","v":"C1"},{"$f":"HLOOKUP(\"KEL\",TABMAPEL_X,DBLOGIC!CH2,FALSE)","v":"C1"},{"$f":"HLOOKUP(\"KEL\",TABMAPEL_X,DBLOGIC!CI2,FALSE)","v":"C1"},{"$f":"HLOOKUP(\"KEL\",TABMAPEL_X,DBLOGIC!CJ2,FALSE)","v":"C1"},{"$f":"HLOOKUP(\"KEL\",TABMAPEL_X,DBLOGIC!CK2,FALSE)","v":"C1"},{"$f":"HLOOKUP(\"KEL\",TABMAPEL_X,DBLOGIC!CL2,FALSE)","v":"C1"},{"$f":"HLOOKUP(\"KEL\",TABMAPEL_X,DBLOGIC!CM2,FALSE)","v":"C1"},{"$f":"HLOOKUP(\"KEL\",TABMAPEL_X,DBLOGIC!CN2,FALSE)","v":"C1"},{"$f":"HLOOKUP(\"KEL\",TABMAPEL_X,DBLOGIC!CO2,FALSE)","v":"C1"},{"$f":"HLOOKUP(\"KEL\",TABMAPEL_X,DBLOGIC!CP2,FALSE)","v":"C1"},{"$f":"HLOOKUP(\"KEL\",TABMAPEL_X,DBLOGIC!CQ2,FALSE)","v":"C1"},{"$f":"HLOOKUP(\"KEL\",TABMAPEL_X,DBLOGIC!CR2,FALSE)","v":"C1"},{"$f":"HLOOKUP(\"KEL\",TABMAPEL_X,DBLOGIC!CS2,FALSE)","v":"C1"},{"$f":"HLOOKUP(\"KEL\",TABMAPEL_X,DBLOGIC!CT2,FALSE)","v":"C1"},{"$f":"HLOOKUP(\"KEL\",TABMAPEL_X,DBLOGIC!CU2,FALSE)","v":"C1"},{"$f":"HLOOKUP(\"KEL\",TABMAPEL_X,DBLOGIC!CV2,FALSE)","v":"C1"},{"$f":"HLOOKUP(\"KEL\",TABMAPEL_X,DBLOGIC!CW2,FALSE)","v":"C2"},{"$f":"HLOOKUP(\"KEL\",TABMAPEL_X,DBLOGIC!CX2,FALSE)","v":"C2"},{"$f":"HLOOKUP(\"KEL\",TABMAPEL_X,DBLOGIC!CY2,FALSE)","v":"C2"},{"$f":"HLOOKUP(\"KEL\",TABMAPEL_X,DBLOGIC!CZ2,FALSE)","v":"C2"},{"$f":"HLOOKUP(\"KEL\",TABMAPEL_X,DBLOGIC!DA2,FALSE)","v":"C2"},{"$f":"HLOOKUP(\"KEL\",TABMAPEL_X,DBLOGIC!DB2,FALSE)","v":"C2"},{"$f":"HLOOKUP(\"KEL\",TABMAPEL_X,DBLOGIC!DC2,FALSE)","v":"C2"},{"$f":"HLOOKUP(\"KEL\",TABMAPEL_X,DBLOGIC!DD2,FALSE)","v":"C2"},{"$f":"HLOOKUP(\"KEL\",TABMAPEL_X,DBLOGIC!DE2,FALSE)","v":"C2"},{"$f":"HLOOKUP(\"KEL\",TABMAPEL_X,DBLOGIC!DF2,FALSE)","v":"C2"},{"$f":"HLOOKUP(\"KEL\",TABMAPEL_X,DBLOGIC!DG2,FALSE)","v":"C2"},{"$f":"HLOOKUP(\"KEL\",TABMAPEL_X,DBLOGIC!DH2,FALSE)","v":"C2"},{"$f":"HLOOKUP(\"KEL\",TABMAPEL_X,DBLOGIC!DI2,FALSE)","v":"C2"},{"$f":"HLOOKUP(\"KEL\",TABMAPEL_X,DBLOGIC!DJ2,FALSE)","v":"C2"},{"$f":"HLOOKUP(\"KEL\",TABMAPEL_X,DBLOGIC!DK2,FALSE)","v":"C2"},{"$f":"HLOOKUP(\"KEL\",TABMAPEL_X,DBLOGIC!DL2,FALSE)","v":"C2"},{"$f":"HLOOKUP(\"KEL\",TABMAPEL_X,DBLOGIC!DM2,FALSE)","v":"C2"},{"$f":"HLOOKUP(\"KEL\",TABMAPEL_X,DBLOGIC!DN2,FALSE)","v":"C2"},{"$f":"HLOOKUP(\"KEL\",TABMAPEL_X,DBLOGIC!DO2,FALSE)","v":"C2"},{"$f":"HLOOKUP(\"KEL\",TABMAPEL_X,DBLOGIC!DP2,FALSE)","v":"C2"},{"$f":"HLOOKUP(\"KEL\",TABMAPEL_X,DBLOGIC!DQ2,FALSE)","v":"C2"},{"$f":"HLOOKUP(\"KEL\",TABMAPEL_X,DBLOGIC!DR2,FALSE)","v":"C2"},{"$f":"HLOOKUP(\"KEL\",TABMAPEL_X,DBLOGIC!DS2,FALSE)","v":"C2"},{"$f":"HLOOKUP(\"KEL\",TABMAPEL_X,DBLOGIC!DT2,FALSE)","v":"C2"},{"$f":"HLOOKUP(\"KEL\",TABMAPEL_X,DBLOGIC!DU2,FALSE)","v":"C2"},{"$f":"HLOOKUP(\"KEL\",TABMAPEL_X,DBLOGIC!DV2,FALSE)","v":"C2"},{"$f":"HLOOKUP(\"KEL\",TABMAPEL_X,DBLOGIC!DW2,FALSE)","v":"C2"},{"$f":"HLOOKUP(\"KEL\",TABMAPEL_X,DBLOGIC!DX2,FALSE)","v":"C2"},{"$f":"HLOOKUP(\"KEL\",TABMAPEL_X,DBLOGIC!DY2,FALSE)","v":"C3"},{"$f":"HLOOKUP(\"KEL\",TABMAPEL_X,DBLOGIC!DZ2,FALSE)","v":"C3"},{"$f":"HLOOKUP(\"KEL\",TABMAPEL_X,DBLOGIC!EA2,FALSE)","v":"C3"},{"$f":"HLOOKUP(\"KEL\",TABMAPEL_X,DBLOGIC!EB2,FALSE)","v":"C3"},{"$f":"HLOOKUP(\"KEL\",TABMAPEL_X,DBLOGIC!EC2,FALSE)","v":"C3"},{"$f":"HLOOKUP(\"KEL\",TABMAPEL_X,DBLOGIC!ED2,FALSE)","v":"C3"},{"$f":"HLOOKUP(\"KEL\",TABMAPEL_X,DBLOGIC!EE2,FALSE)","v":"C3"},{"$f":"HLOOKUP(\"KEL\",TABMAPEL_X,DBLOGIC!EF2,FALSE)","v":"C3"},{"$f":"HLOOKUP(\"KEL\",TABMAPEL_X,DBLOGIC!EG2,FALSE)","v":"C3"},{"$f":"HLOOKUP(\"KEL\",TABMAPEL_X,DBLOGIC!EH2,FALSE)","v":"C3"},{"$f":"HLOOKUP(\"KEL\",TABMAPEL_X,DBLOGIC!EI2,FALSE)","v":"C3"},{"$f":"HLOOKUP(\"KEL\",TABMAPEL_X,DBLOGIC!EJ2,FALSE)","v":"C3"},{"$f":"HLOOKUP(\"KEL\",TABMAPEL_X,DBLOGIC!EK2,FALSE)","v":"C3"},{"$f":"HLOOKUP(\"KEL\",TABMAPEL_X,DBLOGIC!EL2,FALSE)","v":"C3"},{"$f":"HLOOKUP(\"KEL\",TABMAPEL_X,DBLOGIC!EM2,FALSE)","v":"C3"},{"$f":"HLOOKUP(\"KEL\",TABMAPEL_X,DBLOGIC!EN2,FALSE)","v":"C3"},{"$f":"HLOOKUP(\"KEL\",TABMAPEL_X,DBLOGIC!EO2,FALSE)","v":"C3"},{"$f":"HLOOKUP(\"KEL\",TABMAPEL_X,DBLOGIC!EP2,FALSE)","v":"C3"},{"$f":"HLOOKUP(\"KEL\",TABMAPEL_X,DBLOGIC!EQ2,FALSE)","v":"C3"},{"$f":"HLOOKUP(\"KEL\",TABMAPEL_X,DBLOGIC!ER2,FALSE)","v":"C3"},{"$f":"HLOOKUP(\"KEL\",TABMAPEL_X,DBLOGIC!ES2,FALSE)","v":"C3"},{"$f":"HLOOKUP(\"KEL\",TABMAPEL_X,DBLOGIC!ET2,FALSE)","v":"C3"},{"$f":"HLOOKUP(\"KEL\",TABMAPEL_X,DBLOGIC!EU2,FALSE)","v":"C3"},{"$f":"HLOOKUP(\"KEL\",TABMAPEL_X,DBLOGIC!EV2,FALSE)","v":"C3"},{"$f":"HLOOKUP(\"KEL\",TABMAPEL_X,DBLOGIC!EW2,FALSE)","v":"C3"},{"$f":"HLOOKUP(\"KEL\",TABMAPEL_X,DBLOGIC!EX2,FALSE)","v":"C3"},{"$f":"HLOOKUP(\"KEL\",TABMAPEL_X,DBLOGIC!EY2,FALSE)","v":"C3"},{"$f":"HLOOKUP(\"KEL\",TABMAPEL_X,DBLOGIC!EZ2,FALSE)","v":"C3"},{"$f":"HLOOKUP(\"KEL\",TABMAPEL_X,DBLOGIC!FA2,FALSE)","v":"C3"},{"$f":"HLOOKUP(\"KEL\",TABMAPEL_X,DBLOGIC!FB2,FALSE)","v":"C3"},{"$f":"HLOOKUP(\"KEL\",TABMAPEL_X,DBLOGIC!FC2,FALSE)","v":"C3"},{"$f":"HLOOKUP(\"KEL\",TABMAPEL_X,DBLOGIC!FD2,FALSE)","v":"C3"},{"$f":"HLOOKUP(\"KEL\",TABMAPEL_X,DBLOGIC!FE2,FALSE)","v":"C3"},{"$f":"HLOOKUP(\"KEL\",TABMAPEL_X,DBLOGIC!FF2,FALSE)","v":"C3"},{"$f":"HLOOKUP(\"KEL\",TABMAPEL_X,DBLOGIC!FG2,FALSE)","v":"C3"},{"$f":"HLOOKUP(\"KEL\",TABMAPEL_X,DBLOGIC!FH2,FALSE)","v":"C3"},{"$f":"HLOOKUP(\"KEL\",TABMAPEL_X,DBLOGIC!FI2,FALSE)","v":"C3"},{"$f":"HLOOKUP(\"KEL\",TABMAPEL_X,DBLOGIC!FJ2,FALSE)","v":"C3"},{"$f":"HLOOKUP(\"KEL\",TABMAPEL_X,DBLOGIC!FK2,FALSE)","v":"C3"},{"$f":"HLOOKUP(\"KEL\",TABMAPEL_X,DBLOGIC!FL2,FALSE)","v":"C3"},{"$f":"HLOOKUP(\"KEL\",TABMAPEL_X,DBLOGIC!FM2,FALSE)","v":"C3"},{"$f":"HLOOKUP(\"KEL\",TABMAPEL_X,DBLOGIC!FN2,FALSE)","v":"C3"},{"$f":"HLOOKUP(\"KEL\",TABMAPEL_X,DBLOGIC!FO2,FALSE)","v":"M"},{"$f":"HLOOKUP(\"KEL\",TABMAPEL_X,DBLOGIC!FP2,FALSE)","v":"M"},{"$f":"HLOOKUP(\"KEL\",TABMAPEL_X,DBLOGIC!FQ2,FALSE)","v":"M"},{"$f":"HLOOKUP(\"KEL\",TABMAPEL_X,DBLOGIC!FR2,FALSE)","v":"M"},{"$f":"HLOOKUP(\"KEL\",TABMAPEL_X,DBLOGIC!FS2,FALSE)","v":"M"},{"$f":"HLOOKUP(\"KEL\",TABMAPEL_X,DBLOGIC!FT2,FALSE)","v":"M"},{"$f":"HLOOKUP(\"KEL\",TABMAPEL_X,DBLOGIC!FU2,FALSE)","v":"M"},{"$f":"HLOOKUP(\"KEL\",TABMAPEL_X,DBLOGIC!FV2,FALSE)","v":"M"},{"$f":"HLOOKUP(\"KEL\",TABMAPEL_X,DBLOGIC!FW2,FALSE)","v":"M"},{"$f":"HLOOKUP(\"KEL\",TABMAPEL_X,DBLOGIC!FX2,FALSE)","v":"M"},{"$f":"HLOOKUP(\"KEL\",TABMAPEL_X,DBLOGIC!FY2,FALSE)","v":"M"},{"$f":"HLOOKUP(\"KEL\",TABMAPEL_X,DBLOGIC!FZ2,FALSE)","v":"M"},{"$f":"HLOOKUP(\"KEL\",TABMAPEL_X,DBLOGIC!GA2,FALSE)","v":"M"},{"$f":"HLOOKUP(\"KEL\",TABMAPEL_X,DBLOGIC!GB2,FALSE)","v":"M"}]
["Wali Kelas :",{"$f":"TITIMANGSA!D13","v":"Amo Sisdianto, S.Kom"},"URUTAN MAPEL",1,{"$f":"D4","v":1},{"$f":"E4","v":1},1,1,1,1,{"$f":"IF(K2=\"-\",0,MAX($D$4:J4)+1)","v":2},{"$f":"K4","v":2},2,2,2,2,2,{"$f":"IF(R2=\"-\",0,MAX($D$4:Q4)+1)","v":3},{"$f":"R4","v":3},3,3,3,3,3,{"$f":"IF(Y2=\"-\",0,MAX($D$4:X4)+1)","v":4},{"$f":"Y4","v":4},4,4,4,4,4,{"$f":"IF(AF2=\"-\",0,MAX($D$4:AE4)+1)","v":0},{"$f":"AF4","v":0},0,0,0,0,0,{"$f":"IF(AM2=\"-\",0,MAX($D$4:AL4)+1)","v":5},{"$f":"AM4","v":5},5,5,5,5,5,{"$f":"IF(AT2=\"-\",0,MAX($D$4:AS4)+1)","v":0},{"$f":"AT4","v":0},0,0,0,0,0,{"$f":"IF(BA2=\"-\",0,MAX($D$4:AZ4)+1)","v":0},{"$f":"BA4","v":0},0,0,0,0,0,{"$f":"IF(BH2=\"-\",0,MAX($D$4:BG4)+1)","v":6},{"$f":"BH4","v":6},6,6,6,6,6,{"$f":"IF(BO2=\"-\",0,MAX($D$4:BN4)+1)","v":0},{"$f":"BO4","v":0},0,0,0,0,0,{"$f":"IF(BV2=\"-\",0,MAX($D$4:BU4)+1)","v":0},{"$f":"BV4","v":0},0,0,0,0,0,{"$f":"IF(CC2=\"-\",0,MAX($D$4:CB4)+1)","v":0},{"$f":"CC4","v":0},0,0,0,0,0,{"$f":"IF(CJ2=\"-\",0,MAX($D$4:CI4)+1)","v":0},{"$f":"CJ4","v":0},0,0,0,0,0,{"$f":"IF(CQ2=\"-\",0,MAX($D$4:CP4)+1)","v":0},{"$f":"CQ4","v":0},0,0,0,0,0,{"$f":"IF(CX2=\"-\",0,MAX($D$4:CW4)+1)","v":0},{"$f":"CX4","v":0},0,0,0,0,0,{"$f":"IF(DE2=\"-\",0,MAX($D$4:DD4)+1)","v":0},{"$f":"DE4","v":0},0,0,0,0,0,{"$f":"IF(DL2=\"-\",0,MAX($D$4:DK4)+1)","v":7},{"$f":"DL4","v":7},7,7,7,7,7,{"$f":"IF(DS2=\"-\",0,MAX($D$4:DR4)+1)","v":8},{"$f":"DS4","v":8},8,8,8,8,8,{"$f":"IF(DZ2=\"-\",0,MAX($D$4:DY4)+1)","v":9},{"$f":"DZ4","v":9},9,9,9,9,9,{"$f":"IF(EG2=\"-\",0,MAX($D$4:EF4)+1)","v":0},{"$f":"EG4","v":0},0,0,0,0,0,{"$f":"IF(EN2=\"-\",0,MAX($D$4:EM4)+1)","v":0},{"$f":"EN4","v":0},0,0,0,0,0,{"$f":"IF(EU2=\"-\",0,MAX($D$4:ET4)+1)","v":10},{"$f":"EU4","v":10},10,10,10,10,10,{"$f":"IF(FB2=\"-\",0,MAX($D$4:FA4)+1)","v":0},{"$f":"FB4","v":0},0,0,0,0,0,{"$f":"IF(FI2=\"-\",0,MAX($D$4:FH4)+1)","v":0},{"$f":"FI4","v":0},0,0,0,0,0]
[{"$f":"TITIMANGSA!D12","v":0},{"$f":"TITIMANGSA!D14","v":0},"KKM",77,77,77,77,77,77,77,77,77,77,77,77,77,77,77,77,77,77,77,77,77,77,77,77,77,77,77,77,77,77,77,77,77,77,77,77,77,77,77,77,77,77,77,77,77,77,77,77,77,77,77,77,77,77,77,77,77,77,77,77,77,77,77,77,77,77,77,77,77,77,77,77,77,77,77,77,77,77,77,77,77,77,77,77,77,77,77,77,77,77,77,77,77,77,77,77,77,77,77,77,77,77,77,77,77,77,77,77,77,77,77,77,77,77,77,77,77,77,77,77,77,77,77,77,77,77,77,77,77,77,77,77,77,77,77,77,77,77,77,77,77,77,77,77,77,77,77,77,77,77,77,77,77,77,77,77,77,77,77,77,77,77,77,77,77,77,77,77]
[null,null,"TOPIK PER KD","Zakat",null,"Puasa",null,3,null,"-",{"$f":"H6+1","v":4},null,{"$f":"K6+1","v":5},null,{"$f":"M6+1","v":6},null,"-",{"$f":"O6+1","v":7},null,{"$f":"R6+1","v":8},null,{"$f":"T6+1","v":9},null,"-",{"$f":"V6+1","v":10},null,{"$f":"Y6+1","v":11},null,{"$f":"AA6+1","v":12},null,"-",{"$f":"AC6+1","v":13},null,{"$f":"AF6+1","v":14},null,{"$f":"AH6+1","v":15},null,"-",{"$f":"AJ6+1","v":16},null,{"$f":"AM6+1","v":17},null,{"$f":"AO6+1","v":18},null,"-",{"$f":"AQ6+1","v":19},null,{"$f":"AT6+1","v":20},null,{"$f":"AV6+1","v":21},null,"-",{"$f":"AX6+1","v":22},null,{"$f":"BA6+1","v":23},null,{"$f":"BC6+1","v":24},null,"-",{"$f":"BE6+1","v":25},null,{"$f":"BH6+1","v":26},null,{"$f":"BJ6+1","v":27},null,"-",{"$f":"BL6+1","v":28},null,{"$f":"BO6+1","v":29},null,{"$f":"BQ6+1","v":30},null,"-",{"$f":"BS6+1","v":31},null,{"$f":"BV6+1","v":32},null,{"$f":"BX6+1","v":33},null,"-",{"$f":"BZ6+1","v":34},null,{"$f":"CC6+1","v":35},null,{"$f":"CE6+1","v":36},null,"-",{"$f":"CG6+1","v":37},null,{"$f":"CJ6+1","v":38},null,{"$f":"CL6+1","v":39},null,"-",{"$f":"CN6+1","v":40},null,{"$f":"CQ6+1","v":41},null,{"$f":"CS6+1","v":42},null,"-",{"$f":"CU6+1","v":43},null,{"$f":"CX6+1","v":44},null,{"$f":"CZ6+1","v":45},null,"-",{"$f":"DB6+1","v":46},null,{"$f":"DE6+1","v":47},null,{"$f":"DG6+1","v":48},null,"-",{"$f":"DI6+1","v":49},null,{"$f":"DL6+1","v":50},null,{"$f":"DN6+1","v":51},null,"-",{"$f":"DP6+1","v":52},null,{"$f":"DS6+1","v":53},null,{"$f":"DU6+1","v":54},null,"-",{"$f":"DW6+1","v":55},null,{"$f":"DZ6+1","v":56},null,{"$f":"EB6+1","v":57},null,"-",{"$f":"ED6+1","v":58},null,{"$f":"EG6+1","v":59},null,{"$f":"EI6+1","v":60},null,"-",{"$f":"EK6+1","v":61},null,{"$f":"EN6+1","v":62},null,{"$f":"EP6+1","v":63},null,"-",{"$f":"ER6+1","v":64},null,{"$f":"EU6+1","v":65},null,{"$f":"EW6+1","v":66},null,"-",{"$f":"EY6+1","v":67},null,{"$f":"FB6+1","v":68},null,{"$f":"FD6+1","v":69},null,"-",{"$f":"FF6+1","v":70},null,{"$f":"FI6+1","v":71},null,{"$f":"FK6+1","v":72},null,"-"]
["NO. URUT","NAMA SISWA","NIS",2,{"$f":"D7+1","v":3},4,5,6,7,8,9,10,11,12,13,14,15,16,17,18,19,20,21,22,23,24,25,26,27,28,29,30,31,32,33,34,35,36,37,38,39,40,41,42,43,44,45,46,47,48,49,50,51,52,53,54,55,56,57,58,59,60,61,62,63,64,65,66,{"$f":"BP7+1","v":67},68,69,70,71,72,73,74,75,76,77,78,79,80,81,82,{"$f":"CF7+1","v":83},84,85,86,87,88,89,90,91,92,93,94,95,96,97,98,{"$f":"CV7+1","v":99},100,101,102,103,104,105,106,107,108,109,110,111,112,113,114,{"$f":"DL7+1","v":115},116,117,118,119,120,121,122,123,124,125,126,127,128,129,130,{"$f":"EB7+1","v":131},132,133,134,135,136,137,138,139,140,141,142,143,144,145,146,{"$f":"ER7+1","v":147},148,149,150,151,152,153,154,155,156,157,158,159,160,161,162,{"$f":"FH7+1","v":163},164,165,166,167,168,169,170,171,172]
[{"$f":"BIODATA!A5","v":1},{"$f":"BIODATA!C5","v":"ADAM ADIYAT HARTANTO"},{"$f":"BIODATA!D5","v":16170535},3,{"$f":"D8+1","v":4},{"$f":"IF(E8=100,75,E8+1)","v":5},6,7,8,9,10,11,12,13,14,15,16,17,18,19,20,21,22,23,24,25,26,27,28,29,30,31,32,33,34,35,36,37,38,39,40,41,42,43,44,45,46,47,48,49,50,51,52,53,54,55,56,57,58,59,60,61,62,63,64,65,66,67,68,{"$f":"IF(BQ8=100,75,BQ8+1)","v":69},70,71,72,73,74,75,76,77,78,79,80,81,82,83,84,85,86,87,88,89,90,91,92,93,94,95,96,97,98,99,100,75,76,77,78,79,80,81,82,83,84,85,86,87,88,89,90,91,92,93,94,95,96,97,98,99,100,75,76,77,78,79,80,{"$f":"IF(EC8=100,75,EC8+1)","v":81},82,83,84,85,86,87,88,89,90,91,92,93,94,95,96,97,98,99,100,75,76,77,78,79,80,81,82,83,84,85,86,87,88,89,90,91,92]
[{"$f":"BIODATA!A6","v":2},{"$f":"BIODATA!C6","v":"ADAM MAULANA RIZALDI"},{"$f":"BIODATA!D6","v":16170449},11,{"$f":"IF(D9=100,75,D9+1)","v":12},13,14,15,16,17,18,19,20,21,22,23,24,25,26,27,28,29,30,31,32,33,34,35,36,37,38,39,40,41,42,43,44,45,46,47,48,49,50,51,52,53,54,55,56,57,58,59,60,61,62,63,64,65,66,67,68,69,70,71,72,73,74,75,76,77,78,79,80,81,82,83,84,85,86,87,88,89,90,91,92,93,94,95,96,97,98,99,100,75,76,77,78,79,80,81,82,83,84,85,86,87,88,89,90,91,92,93,94,95,96,97,98,99,100,75,76,77,78,79,80,81,82,83,84,85,86,87,88,89,90,91,92,93,94,95,96,97,98,99,100,75,76,77,78,79,80,81,82,83,84,85,86,87,88,89,90,91,92,93,94,95,96,97,98,99,100]
[{"$f":"BIODATA!A7","v":3},{"$f":"BIODATA!C7","v":"BAGAS ADJI PRIANTOMO"},{"$f":"BIODATA!D7","v":16170371},21,22,23,24,25,26,27,28,29,30,31,32,33,34,35,36,37,38,39,40,41,42,43,44,45,46,47,48,49,50,51,52,53,54,55,56,57,58,59,60,61,62,63,64,65,66,67,68,69,70,71,72,73,74,75,76,77,78,79,80,81,82,83,84,85,86,87,88,89,90,91,92,93,94,95,96,97,98,99,100,75,76,77,78,79,80,81,82,83,84,85,86,87,88,89,90,91,92,93,94,95,96,97,98,99,100,75,76,77,78,79,80,81,82,83,84,85,86,87,88,89,90,91,92,93,94,95,96,97,98,99,100,75,76,77,78,79,80,81,82,83,84,85,86,87,88,89,90,91,92,93,94,95,96,97,98,99,100,75,76,77,78,79,80,81,82,83,84]
[{"$f":"BIODATA!A8","v":4},{"$f":"BIODATA!C8","v":"CARWAN HIDAYAT"},{"$f":"BIODATA!D8","v":16170585}]
[{"$f":"BIODATA!A9","v":5},{"$f":"BIODATA!C9","v":"CEPI YANWARI"},{"$f":"BIODATA!D9","v":16170586}]
[{"$f":"BIODATA!A10","v":6},{"$f":"BIODATA!C10","v":"DEDE MAULANA RUSDIANTA"},{"$f":"BIODATA!D10","v":16170414}]
[{"$f":"BIODATA!A11","v":7},{"$f":"BIODATA!C11","v":"DEDI ROCHMAN"},{"$f":"BIODATA!D11","v":16170457}]
[{"$f":"BIODATA!A12","v":8},{"$f":"BIODATA!C12","v":"DIMAS YOGA AJI SETIAWAN"},{"$f":"BIODATA!D12","v":16170546}]
[{"$f":"BIODATA!A13","v":9},{"$f":"BIODATA!C13","v":"ERIK PRIHASABA PEBRIANSYAH"},{"$f":"BIODATA!D13","v":16170547}]
[{"$f":"BIODATA!A14","v":10},{"$f":"BIODATA!C14","v":"GALIH RAKASIWI"},{"$f":"BIODATA!D14","v":16170464}]
[{"$f":"BIODATA!A15","v":11},{"$f":"BIODATA!C15","v":"JOHANI"},{"$f":"BIODATA!D15","v":16170468}]
[{"$f":"BIODATA!A16","v":12},{"$f":"BIODATA!C16","v":"LATHIF FERIANSYAH"},{"$f":"BIODATA!D16","v":16170675}]
[{"$f":"BIODATA!A17","v":13},{"$f":"BIODATA!C17","v":"MAULANA JUHRI"},{"$f":"BIODATA!D17","v":16170423}]
[{"$f":"BIODATA!A18","v":14},{"$f":"BIODATA!C18","v":"MOHAMMAD HERRY ALFAJRI"},{"$f":"BIODATA!D18","v":16170473}]
[{"$f":"BIODATA!A19","v":15},{"$f":"BIODATA!C19","v":"MUHAMAD SIDI"},{"$f":"BIODATA!D19","v":16170426}]
[{"$f":"BIODATA!A20","v":16},{"$f":"BIODATA!C20","v":"MUHAMMAD ARDI RUHYAT"},{"$f":"BIODATA!D20","v":16170427}]
[{"$f":"BIODATA!A21","v":17},{"$f":"BIODATA!C21","v":"MUHAMMAD FIKRI AWALUDIN"},{"$f":"BIODATA!D21","v":16170429}]
[{"$f":"BIODATA!A22","v":18},{"$f":"BIODATA!C22","v":"MUHAMMAD PADILAH"},{"$f":"BIODATA!D22","v":16170428}]
[{"$f":"BIODATA!A23","v":19},{"$f":"BIODATA!C23","v":"MUHIBU FATHURROHMAN"},{"$f":"BIODATA!D23","v":16170430}]
[{"$f":"BIODATA!A24","v":20},{"$f":"BIODATA!C24","v":"OKKE KINDI ADI PANGESTU"},{"$f":"BIODATA!D24","v":16170391}]
[{"$f":"BIODATA!A25","v":21},{"$f":"BIODATA!C25","v":"RAMADHAN"},{"$f":"BIODATA!D25","v":"16170480"}]
[{"$f":"BIODATA!A26","v":22},{"$f":"BIODATA!C26","v":"RENDY RAHMADI"},{"$f":"BIODATA!D26","v":16170683}]
[{"$f":"BIODATA!A27","v":23},{"$f":"BIODATA!C27","v":"RIFAN BAGUS ALDIANSYAH"},{"$f":"BIODATA!D27","v":16170433}]
[{"$f":"BIODATA!A28","v":24},{"$f":"BIODATA!C28","v":"RIVAL MAULANA"},{"$f":"BIODATA!D28","v":16170601}]
[{"$f":"BIODATA!A29","v":25},{"$f":"BIODATA!C29","v":"RIZKY FADHILAH"},{"$f":"BIODATA!D29","v":16170643}]
[{"$f":"BIODATA!A30","v":26},{"$f":"BIODATA!C30","v":"ROHMADI MUCHTAR"},{"$f":"BIODATA!D30","v":16170642}]
[{"$f":"BIODATA!A31","v":27},{"$f":"BIODATA!C31","v":"TANGGUH PRASETIA SUHARNA"},{"$f":"BIODATA!D31","v":16170605}]
[{"$f":"BIODATA!A32","v":28},{"$f":"BIODATA!C32","v":"TARIZ MAULIZIDANE FAZILLA"},{"$f":"BIODATA!D32","v":16170606}]
[{"$f":"BIODATA!A33","v":29},{"$f":"BIODATA!C33","v":"TUBAGUS AJANG SUMBOGA"},{"$f":"BIODATA!D33","v":16170443}]
[{"$f":"BIODATA!A34","v":30},{"$f":"BIODATA!C34","v":"WIKSAN ZUJALIS"},{"$f":"BIODATA!D34","v":16170611}]
[{"$f":"BIODATA!A35","v":31},{"$f":"BIODATA!C35","v":"YUNAN DWI SASONGKO"},{"$f":"BIODATA!D35","v":16170448}]
[{"$f":"BIODATA!A36","v":"-"},{"$f":"BIODATA!C36","v":0},{"$f":"BIODATA!D36","v":0}]
[{"$f":"BIODATA!A37","v":"-"},{"$f":"BIODATA!C37","v":0},{"$f":"BIODATA!D37","v":0}]
[{"$f":"BIODATA!A38","v":"-"},{"$f":"BIODATA!C38","v":0},{"$f":"BIODATA!D38","v":0}]
[{"$f":"BIODATA!A39","v":"-"},{"$f":"BIODATA!C39","v":0},{"$f":"BIODATA!D39","v":0}]
[{"$f":"BIODATA!A40","v":"-"},{"$f":"BIODATA!C40","v":0},{"$f":"BIODATA!D40","v":0}]
[]
[]
[]
[]
[]
[]
[]
[]
[]
[]
[]
[]
[]
[]
[]
[]
[]
[]
[]
[]
[]
[null,null,null,3.59]
[null,null,null,3.59]
[null,null,null,3.5]
[null,null,null,3.48]
[null,null,null,3.54]
[null,null,null,3.39]
[null,null,null,3.45]
[null,null,null,3.45]
[null,null,null,3.29]
[null,null,null,3.45]
[null,null,null,3.45]
[null,null,null,3.45]

{"sheet":"NILSM4","index":28,"n_rows":76,"n_cols":174,"rows_kept":76,"cut":false,"hidden":false,"merged":[[1,0,1,1]]}
[null,null,"NIS","PABT1","PABU1","PABT2","PABU2","PABT3","PABU3","PABH","PKNT1","PKNU1","PKNT2","PKNU2","PKNT3","PKNU3","PKNH","INDT1","INDU1","INDT2","INDU2","INDT3","INDU3","INDH","MTKT1","MTKU1","MTKT2","MTKU2","MTKT3","MTKU3","MTKH","SJIT1","SJIU1","SJIT2","SJIU2","SJIT3","SJIU3","SJIH","INGT1","INGU1","INGT2","INGU2","INGT3","INGU3","INGH","JERT1","JERU1","JERT2","JERU2","JERT3","JERU3","JERH","SBDT1","SBDU1","SBDT2","SBDU2","SBDT3","SBDU3","SBDH","PJOT1","PJOU1","PJOT2","PJOU2","PJOT3","PJOU3","PJOH","SKDT1","SKDU1","SKDT2","SKDU2","SKDT3","SKDU3","SKDH","FIST1","FISU1","FIST2","FISU2","FIST3","FISU3","FISH","KIMT1","KIMU1","KIMT2","KIMU2","KIMT3","KIMU3","KIMH","C21T1","C21U1","C21T2","C21U2","C21T3","C21U3","C21H","C22T1","C22U1","C22T2","C22U2","C22T3","C22U3","C22H","C23T1","C23U1","C23T2","C23U2","C23T3","C23U3","C23H","C24T1","C24U1","C24T2","C24U2","C24T3","C24U3","C24H","C31T1","C31U1","C31T2","C31U2","C31T3","C31U3","C31H","C32T1","C32U1","C32T2","C32U2","C32T3","C32U3","C32H","C33T1","C33U1","C33T2","C33U2","C33T3","C33U3","C33H","C34T1","C34U1","C34T2","C34U2","C34T3","C34U3","C34H","C35T1","C35U1","C35T2","C35U2","C35T3","C35U3","C35H","C36T1","C36U1","C36T2","C36U2","C36T3","C36U3","C36H","SUNT1","SUNU1","SUNT2","SUNU2","SUNT3","SUNU3","SUNH","PLHT1","PLHU1","PLHT2","PLHU2","PLHT3","PLHU3","PLHH",null,"BKN","CTT"]
[{"$f":"\"INPUT NILAI CAPAIAN KOMPETENSI TP \"&TITIMANGSA!D3","v":"INPUT NILAI CAPAIAN KOMPETENSI TP 2020 / 2021"},null,"                    NAMA MAPEL",{"$f":"IF(OR($B$3=\"1 (satu)\",$B$3=\"2 (dua)\"),HLOOKUP($C$3,TABMAPEL_X,DBLOGIC!Q2,FALSE),IF(OR($B$3=\"3 (tiga)\",$B$3=\"4 (empat)\"),HLOOKUP($C$3,TABMAPEL_XI,DBLOGIC!Q2,FALSE),IF(OR($B$3=\"5 (lima)\",$B$3=\"6 (enam)\"),HLOOKUP($C$3,TABMAPEL_XII,DBLOGIC!Q2,FALSE),IF(OR($B$3=\"7 (tujuh)\",$B$3=\"8 (delapan)\"),HLOOKUP($C$3,TABMAPEL_XIII,DBLOGIC!Q2,FALSE),0))))","v":"Pendidikan Agama dan Budi Pekerti"},{"$f":"IF(OR($B$3=\"1 (satu)\",$B$3=\"2 (dua)\"),HLOOKUP($C$3,TABMAPEL_X,DBLOGIC!R2,FALSE),IF(OR($B$3=\"3 (tiga)\",$B$3=\"4 (empat)\"),HLOOKUP($C$3,TABMAPEL_XI,DBLOGIC!R2,FALSE),IF(OR($B$3=\"5 (lima)\",$B$3=\"6 (enam)\"),HLOOKUP($C$3,TABMAPEL_XII,DBLOGIC!R2,FALSE),IF(OR($B$3=\"7 (tujuh)\",$B$3=\"8 (delapan)\"),HLOOKUP($C$3,TABMAPEL_XIII,DBLOGIC!R2,FALSE),0))))","v":"Pendidikan Agama dan Budi Pekerti"},{"$f":"IF(OR($B$3=\"1 (satu)\",$B$3=\"2 (dua)\"),HLOOKUP($C$3,TABMAPEL_X,DBLOGIC!S2,FALSE),IF(OR($B$3=\"3 (tiga)\",$B$3=\"4 (empat)\"),HLOOKUP($C$3,TABMAPEL_XI,DBLOGIC!S2,FALSE),IF(OR($B$3=\"5 (lima)\",$B$3=\"6 (enam)\"),HLOOKUP($C$3,TABMAPEL_XII,DBLOGIC!S2,FALSE),IF(OR($B$3=\"7 (tujuh)\",$B$3=\"8 (delapan)\"),HLOOKUP($C$3,TABMAPEL_XIII,DBLOGIC!S2,FALSE),0))))","v":"Pendidikan Agama dan Budi Pekerti"},{"$f":"IF(OR($B$3=\"1 (satu)\",$B$3=\"2 (dua)\"),HLOOKUP($C$3,TABMAPEL_X,DBLOGIC!T2,FALSE),IF(OR($B$3=\"3 (tiga)\",$B$3=\"4 (empat)\"),HLOOKUP($C$3,TABMAPEL_XI,DBLOGIC!T2,FALSE),IF(OR($B$3=\"5 (lima)\",$B$3=\"6 (enam)\"),HLOOKUP($C$3,TABMAPEL_XII,DBLOGIC!T2,FALSE),IF(OR($B$3=\"7 (tujuh)\",$B$3=\"8 (delapan)\"),HLOOKUP($C$3,TABMAPEL_XIII,DBLOGIC!T2,FALSE),0))))","v":"Pendidikan Agama dan Budi Pekerti"},{"$f":"IF(OR($B$3=\"1 (satu)\",$B$3=\"2 (dua)\"),HLOOKUP($C$3,TABMAPEL_X,DBLOGIC!U2,FALSE),IF(OR($B$3=\"3 (tiga)\",$B$3=\"4 (empat)\"),HLOOKUP($C$3,TABMAPEL_XI,DBLOGIC!U2,FALSE),IF(OR($B$3=\"5 (lima)\",$B$3=\"6 (enam)\"),HLOOKUP($C$3,TABMAPEL_XII,DBLOGIC!U2,FALSE),IF(OR($B$3=\"7 (tujuh)\",$B$3=\"8 (delapan)\"),HLOOKUP($C$3,TABMAPEL_XIII,DBLOGIC!U2,FALSE),0))))","v":"Pendidikan Agama dan Budi Pekerti"},{"$f":"IF(OR($B$3=\"1 (satu)\",$B$3=\"2 (dua)\"),HLOOKUP($C$3,TABMAPEL_X,DBLOGIC!V2,FALSE),IF(OR($B$3=\"3 (tiga)\",$B$3=\"4 (empat)\"),HLOOKUP($C$3,TABMAPEL_XI,DBLOGIC!V2,FALSE),IF(OR($B$3=\"5 (lima)\",$B$3=\"6 (enam)\"),HLOOKUP($C$3,TABMAPEL_XII,DBLOGIC!V2,FALSE),IF(OR($B$3=\"7 (tujuh)\",$B$3=\"8 (delapan)\"),HLOOKUP($C$3,TABMAPEL_XIII,DBLOGIC!V2,FALSE),0))))","v":"Pendidikan Agama dan Budi Pekerti"},{"$f":"IF(OR($B$3=\"1 (satu)\",$B$3=\"2 (dua)\"),HLOOKUP($C$3,TABMAPEL_X,DBLOGIC!W2,FALSE),IF(OR($B$3=\"3 (tiga)\",$B$3=\"4 (empat)\"),HLOOKUP($C$3,TABMAPEL_XI,DBLOGIC!W2,FALSE),IF(OR($B$3=\"5 (lima)\",$B$3=\"6 (enam)\"),HLOOKUP($C$3,TABMAPEL_XII,DBLOGIC!W2,FALSE),IF(OR($B$3=\"7 (tujuh)\",$B$3=\"8 (delapan)\"),HLOOKUP($C$3,TABMAPEL_XIII,DBLOGIC!W2,FALSE),0))))","v":"Pendidikan Agama dan Budi Pekerti"},{"$f":"IF(OR($B$3=\"1 (satu)\",$B$3=\"2 (dua)\"),HLOOKUP($C$3,TABMAPEL_X,DBLOGIC!X2,FALSE),IF(OR($B$3=\"3 (tiga)\",$B$3=\"4 (empat)\"),HLOOKUP($C$3,TABMAPEL_XI,DBLOGIC!X2,FALSE),IF(OR($B$3=\"5 (lima)\",$B$3=\"6 (enam)\"),HLOOKUP($C$3,TABMAPEL_XII,DBLOGIC!X2,FALSE),IF(OR($B$3=\"7 (tujuh)\",$B$3=\"8 (delapan)\"),HLOOKUP($C$3,TABMAPEL_XIII,DBLOGIC!X2,FALSE),0))))","v":"Pendidikan Pancasila dan Kewarganegaraan"},{"$f":"IF(OR($B$3=\"1 (satu)\",$B$3=\"2 (dua)\"),HLOOKUP($C$3,TABMAPEL_X,DBLOGIC!Y2,FALSE),IF(OR($B$3=\"3 (tiga)\",$B$3=\"4 (empat)\"),HLOOKUP($C$3,TABMAPEL_XI,DBLOGIC!Y2,FALSE),IF(OR($B$3=\"5 (lima)\",$B$3=\"6 (enam)\"),HLOOKUP($C$3,TABMAPEL_XII,DBLOGIC!Y2,FALSE),IF(OR($B$3=\"7 (tujuh)\",$B$3=\"8 (delapan)\"),HLOOKUP($C$3,TABMAPEL_XIII,DBLOGIC!Y2,FALSE),0))))","v":"Pendidikan Pancasila dan Kewarganegaraan"},{"$f":"IF(OR($B$3=\"1 (satu)\",$B$3=\"2 (dua)\"),HLOOKUP($C$3,TABMAPEL_X,DBLOGIC!Z2,FALSE),IF(OR($B$3=\"3 (tiga)\",$B$3=\"4 (empat)\"),HLOOKUP($C$3,TABMAPEL_XI,DBLOGIC!Z2,FALSE),IF(OR($B$3=\"5 (lima)\",$B$3=\"6 (enam)\"),HLOOKUP($C$3,TABMAPEL_XII,DBLOGIC!Z2,FALSE),IF(OR($B$3=\"7 (tujuh)\",$B$3=\"8 (delapan)\"),HLOOKUP($C$3,TABMAPEL_XIII,DBLOGIC!Z2,FALSE),0))))","v":"Pendidikan Pancasila dan Kewarganegaraan"},{"$f":"IF(OR($B$3=\"1 (satu)\",$B$3=\"2 (dua)\"),HLOOKUP($C$3,TABMAPEL_X,DBLOGIC!AA2,FALSE),IF(OR($B$3=\"3 (tiga)\",$B$3=\"4 (empat)\"),HLOOKUP($C$3,TABMAPEL_XI,DBLOGIC!AA2,FALSE),IF(OR($B$3=\"5 (lima)\",$B$3=\"6 (enam)\"),HLOOKUP($C$3,TABMAPEL_XII,DBLOGIC!AA2,FALSE),IF(OR($B$3=\"7 (tujuh)\",$B$3=\"8 (delapan)\"),HLOOKUP($C$3,TABMAPEL_XIII,DBLOGIC!AA2,FALSE),0))))","v":"Pendidikan Pancasila dan Kewarganegaraan"},{"$f":"IF(OR($B$3=\"1 (satu)\",$B$3=\"2 (dua)\"),HLOOKUP($C$3,TABMAPEL_X,DBLOGIC!AB2,FALSE),IF(OR($B$3=\"3 (tiga)\",$B$3=\"4 (empat)\"),HLOOKUP($C$3,TABMAPEL_XI,DBLOGIC!AB2,FALSE),IF(OR($B$3=\"5 (lima)\",$B$3=\"6 (enam)\"),HLOOKUP($C$3,TABMAPEL_XII,DBLOGIC!AB2,FALSE),IF(OR($B$3=\"7 (tujuh)\",$B$3=\"8 (delapan)\"),HLOOKUP($C$3,TABMAPEL_XIII,DBLOGIC!AB2,FALSE),0))))","v":"Pendidikan Pancasila dan Kewarganegaraan"},{"$f":"IF(OR($B$3=\"1 (satu)\",$B$3=\"2 (dua)\"),HLOOKUP($C$3,TABMAPEL_X,DBLOGIC!AC2,FALSE),IF(OR($B$3=\"3 (tiga)\",$B$3=\"4 (empat)\"),HLOOKUP($C$3,TABMAPEL_XI,DBLOGIC!AC2,FALSE),IF(OR($B$3=\"5 (lima)\",$B$3=\"6 (enam)\"),HLOOKUP($C$3,TABMAPEL_XII,DBLOGIC!AC2,FALSE),IF(OR($B$3=\"7 (tujuh)\",$B$3=\"8 (delapan)\"),HLOOKUP($C$3,TABMAPEL_XIII,DBLOGIC!AC2,FALSE),0))))","v":"Pendidikan Pancasila dan Kewarganegaraan"},{"$f":"IF(OR($B$3=\"1 (satu)\",$B$3=\"2 (dua)\"),HLOOKUP($C$3,TABMAPEL_X,DBLOGIC!AD2,FALSE),IF(OR($B$3=\"3 (tiga)\",$B$3=\"4 (empat)\"),HLOOKUP($C$3,TABMAPEL_XI,DBLOGIC!AD2,FALSE),IF(OR($B$3=\"5 (lima)\",$B$3=\"6 (enam)\"),HLOOKUP($C$3,TABMAPEL_XII,DBLOGIC!AD2,FALSE),IF(OR($B$3=\"7 (tujuh)\",$B$3=\"8 (delapan)\"),HLOOKUP($C$3,TABMAPEL_XIII,DBLOGIC!AD2,FALSE),0))))","v":"Pendidikan Pancasila dan Kewarganegaraan"},{"$f":"IF(OR($B$3=\"1 (satu)\",$B$3=\"2 (dua)\"),HLOOKUP($C$3,TABMAPEL_X,DBLOGIC!AE2,FALSE),IF(OR($B$3=\"3 (tiga)\",$B$3=\"4 (empat)\"),HLOOKUP($C$3,TABMAPEL_XI,DBLOGIC!AE2,FALSE),IF(OR($B$3=\"5 (lima)\",$B$3=\"6 (enam)\"),HLOOKUP($C$3,TABMAPEL_XII,DBLOGIC!AE2,FALSE),IF(OR($B$3=\"7 (tujuh)\",$B$3=\"8 (delapan)\"),HLOOKUP($C$3,TABMAPEL_XIII,DBLOGIC!AE2,FALSE),0))))","v":"Bahasa Indonesia"},{"$f":"IF(OR($B$3=\"1 (satu)\",$B$3=\"2 (dua)\"),HLOOKUP($C$3,TABMAPEL_X,DBLOGIC!AF2,FALSE),IF(OR($B$3=\"3 (tiga)\",$B$3=\"4 (empat)\"),HLOOKUP($C$3,TABMAPEL_XI,DBLOGIC!AF2,FALSE),IF(OR($B$3=\"5 (lima)\",$B$3=\"6 (enam)\"),HLOOKUP($C$3,TABMAPEL_XII,DBLOGIC!AF2,FALSE),IF(OR($B$3=\"7 (tujuh)\",$B$3=\"8 (delapan)\"),HLOOKUP($C$3,TABMAPEL_XIII,DBLOGIC!AF2,FALSE),0))))","v":"Bahasa Indonesia"},{"$f":"IF(OR($B$3=\"1 (satu)\",$B$3=\"2 (dua)\"),HLOOKUP($C$3,TABMAPEL_X,DBLOGIC!AG2,FALSE),IF(OR($B$3=\"3 (tiga)\",$B$3=\"4 (empat)\"),HLOOKUP($C$3,TABMAPEL_XI,DBLOGIC!AG2,FALSE),IF(OR($B$3=\"5 (lima)\",$B$3=\"6 (enam)\"),HLOOKUP($C$3,TABMAPEL_XII,DBLOGIC!AG2,FALSE),IF(OR($B$3=\"7 (tujuh)\",$B$3=\"8 (delapan)\"),HLOOKUP($C$3,TABMAPEL_XIII,DBLOGIC!AG2,FALSE),0))))","v":"Bahasa Indonesia"},{"$f":"IF(OR($B$3=\"1 (satu)\",$B$3=\"2 (dua)\"),HLOOKUP($C$3,TABMAPEL_X,DBLOGIC!AH2,FALSE),IF(OR($B$3=\"3 (tiga)\",$B$3=\"4 (empat)\"),HLOOKUP($C$3,TABMAPEL_XI,DBLOGIC!AH2,FALSE),IF(OR($B$3=\"5 (lima)\",$B$3=\"6 (enam)\"),HLOOKUP($C$3,TABMAPEL_XII,DBLOGIC!AH2,FALSE),IF(OR($B$3=\"7 (tujuh)\",$B$3=\"8 (delapan)\"),HLOOKUP($C$3,TABMAPEL_XIII,DBLOGIC!AH2,FALSE),0))))","v":"Bahasa Indonesia"},{"$f":"IF(OR($B$3=\"1 (satu)\",$B$3=\"2 (dua)\"),HLOOKUP($C$3,TABMAPEL_X,DBLOGIC!AI2,FALSE),IF(OR($B$3=\"3 (tiga)\",$B$3=\"4 (empat)\"),HLOOKUP($C$3,TABMAPEL_XI,DBLOGIC!AI2,FALSE),IF(OR($B$3=\"5 (lima)\",$B$3=\"6 (enam)\"),HLOOKUP($C$3,TABMAPEL_XII,DBLOGIC!AI2,FALSE),IF(OR($B$3=\"7 (tujuh)\",$B$3=\"8 (delapan)\"),HLOOKUP($C$3,TABMAPEL_XIII,DBLOGIC!AI2,FALSE),0))))","v":"Bahasa Indonesia"},{"$f":"IF(OR($B$3=\"1 (satu)\",$B$3=\"2 (dua)\"),HLOOKUP($C$3,TABMAPEL_X,DBLOGIC!AJ2,FALSE),IF(OR($B$3=\"3 (tiga)\",$B$3=\"4 (empat)\"),HLOOKUP($C$3,TABMAPEL_XI,DBLOGIC!AJ2,FALSE),IF(OR($B$3=\"5 (lima)\",$B$3=\"6 (enam)\"),HLOOKUP($C$3,TABMAPEL_XII,DBLOGIC!AJ2,FALSE),IF(OR($B$3=\"7 (tujuh)\",$B$3=\"8 (delapan)\"),HLOOKUP($C$3,TABMAPEL_XIII,DBLOGIC!AJ2,FALSE),0))))","v":"Bahasa Indonesia"},{"$f":"IF(OR($B$3=\"1 (satu)\",$B$3=\"2 (dua)\"),HLOOKUP($C$3,TABMAPEL_X,DBLOGIC!AK2,FALSE),IF(OR($B$3=\"3 (tiga)\",$B$3=\"4 (empat)\"),HLOOKUP($C$3,TABMAPEL_XI,DBLOGIC!AK2,FALSE),IF(OR($B$3=\"5 (lima)\",$B$3=\"6 (enam)\"),HLOOKUP($C$3,TABMAPEL_XII,DBLOGIC!AK2,FALSE),IF(OR($B$3=\"7 (tujuh)\",$B$3=\"8 (delapan)\"),HLOOKUP($C$3,TABMAPEL_XIII,DBLOGIC!AK2,FALSE),0))))","v":"Bahasa Indonesia"},{"$f":"IF(OR($B$3=\"1 (satu)\",$B$3=\"2 (dua)\"),HLOOKUP($C$3,TABMAPEL_X,DBLOGIC!AL2,FALSE),IF(OR($B$3=\"3 (tiga)\",$B$3=\"4 (empat)\"),HLOOKUP($C$3,TABMAPEL_XI,DBLOGIC!AL2,FALSE),IF(OR($B$3=\"5 (lima)\",$B$3=\"6 (enam)\"),HLOOKUP($C$3,TABMAPEL_XII,DBLOGIC!AL2,FALSE),IF(OR($B$3=\"7 (tujuh)\",$B$3=\"8 (delapan)\"),HLOOKUP($C$3,TABMAPEL_XIII,DBLOGIC!AL2,FALSE),0))))","v":"Matematika"},{"$f":"IF(OR($B$3=\"1 (satu)\",$B$3=\"2 (dua)\"),HLOOKUP($C$3,TABMAPEL_X,DBLOGIC!AM2,FALSE),IF(OR($B$3=\"3 (tiga)\",$B$3=\"4 (empat)\"),HLOOKUP($C$3,TABMAPEL_XI,DBLOGIC!AM2,FALSE),IF(OR($B$3=\"5 (lima)\",$B$3=\"6 (enam)\"),HLOOKUP($C$3,TABMAPEL_XII,DBLOGIC!AM2,FALSE),IF(OR($B$3=\"7 (tujuh)\",$B$3=\"8 (delapan)\"),HLOOKUP($C$3,TABMAPEL_XIII,DBLOGIC!AM2,FALSE),0))))","v":"Matematika"},{"$f":"IF(OR($B$3=\"1 (satu)\",$B$3=\"2 (dua)\"),HLOOKUP($C$3,TABMAPEL_X,DBLOGIC!AN2,FALSE),IF(OR($B$3=\"3 (tiga)\",$B$3=\"4 (empat)\"),HLOOKUP($C$3,TABMAPEL_XI,DBLOGIC!AN2,FALSE),IF(OR($B$3=\"5 (lima)\",$B$3=\"6 (enam)\"),HLOOKUP($C$3,TABMAPEL_XII,DBLOGIC!AN2,FALSE),IF(OR($B$3=\"7 (tujuh)\",$B$3=\"8 (delapan)\"),HLOOKUP($C$3,TABMAPEL_XIII,DBLOGIC!AN2,FALSE),0))))","v":"Matematika"},{"$f":"IF(OR($B$3=\"1 (satu)\",$B$3=\"2 (dua)\"),HLOOKUP($C$3,TABMAPEL_X,DBLOGIC!AO2,FALSE),IF(OR($B$3=\"3 (tiga)\",$B$3=\"4 (empat)\"),HLOOKUP($C$3,TABMAPEL_XI,DBLOGIC!AO2,FALSE),IF(OR($B$3=\"5 (lima)\",$B$3=\"6 (enam)\"),HLOOKUP($C$3,TABMAPEL_XII,DBLOGIC!AO2,FALSE),IF(OR($B$3=\"7 (tujuh)\",$B$3=\"8 (delapan)\"),HLOOKUP($C$3,TABMAPEL_XIII,DBLOGIC!AO2,FALSE),0))))","v":"Matematika"},{"$f":"IF(OR($B$3=\"1 (satu)\",$B$3=\"2 (dua)\"),HLOOKUP($C$3,TABMAPEL_X,DBLOGIC!AP2,FALSE),IF(OR($B$3=\"3 (tiga)\",$B$3=\"4 (empat)\"),HLOOKUP($C$3,TABMAPEL_XI,DBLOGIC!AP2,FALSE),IF(OR($B$3=\"5 (lima)\",$B$3=\"6 (enam)\"),HLOOKUP($C$3,TABMAPEL_XII,DBLOGIC!AP2,FALSE),IF(OR($B$3=\"7 (tujuh)\",$B$3=\"8 (delapan)\"),HLOOKUP($C$3,TABMAPEL_XIII,DBLOGIC!AP2,FALSE),0))))","v":"Matematika"},{"$f":"IF(OR($B$3=\"1 (satu)\",$B$3=\"2 (dua)\"),HLOOKUP($C$3,TABMAPEL_X,DBLOGIC!AQ2,FALSE),IF(OR($B$3=\"3 (tiga)\",$B$3=\"4 (empat)\"),HLOOKUP($C$3,TABMAPEL_XI,DBLOGIC!AQ2,FALSE),IF(OR($B$3=\"5 (lima)\",$B$3=\"6 (enam)\"),HLOOKUP($C$3,TABMAPEL_XII,DBLOGIC!AQ2,FALSE),IF(OR($B$3=\"7 (tujuh)\",$B$3=\"8 (delapan)\"),HLOOKUP($C$3,TABMAPEL_XIII,DBLOGIC!AQ2,FALSE),0))))","v":"Matematika"},{"$f":"IF(OR($B$3=\"1 (satu)\",$B$3=\"2 (dua)\"),HLOOKUP($C$3,TABMAPEL_X,DBLOGIC!AR2,FALSE),IF(OR($B$3=\"3 (tiga)\",$B$3=\"4 (empat)\"),HLOOKUP($C$3,TABMAPEL_XI,DBLOGIC!AR2,FALSE),IF(OR($B$3=\"5 (lima)\",$B$3=\"6 (enam)\"),HLOOKUP($C$3,TABMAPEL_XII,DBLOGIC!AR2,FALSE),IF(OR($B$3=\"7 (tujuh)\",$B$3=\"8 (delapan)\"),HLOOKUP($C$3,TABMAPEL_XIII,DBLOGIC!AR2,FALSE),0))))","v":"Matematika"},{"$f":"IF(OR($B$3=\"1 (satu)\",$B$3=\"2 (dua)\"),HLOOKUP($C$3,TABMAPEL_X,DBLOGIC!AS2,FALSE),IF(OR($B$3=\"3 (tiga)\",$B$3=\"4 (empat)\"),HLOOKUP($C$3,TABMAPEL_XI,DBLOGIC!AS2,FALSE),IF(OR($B$3=\"5 (lima)\",$B$3=\"6 (enam)\"),HLOOKUP($C$3,TABMAPEL_XII,DBLOGIC!AS2,FALSE),IF(OR($B$3=\"7 (tujuh)\",$B$3=\"8 (delapan)\"),HLOOKUP($C$3,TABMAPEL_XIII,DBLOGIC!AS2,FALSE),0))))","v":"-"},{"$f":"IF(OR($B$3=\"1 (satu)\",$B$3=\"2 (dua)\"),HLOOKUP($C$3,TABMAPEL_X,DBLOGIC!AT2,FALSE),IF(OR($B$3=\"3 (tiga)\",$B$3=\"4 (empat)\"),HLOOKUP($C$3,TABMAPEL_XI,DBLOGIC!AT2,FALSE),IF(OR($B$3=\"5 (lima)\",$B$3=\"6 (enam)\"),HLOOKUP($C$3,TABMAPEL_XII,DBLOGIC!AT2,FALSE),IF(OR($B$3=\"7 (tujuh)\",$B$3=\"8 (delapan)\"),HLOOKUP($C$3,TABMAPEL_XIII,DBLOGIC!AT2,FALSE),0))))","v":"-"},{"$f":"IF(OR($B$3=\"1 (satu)\",$B$3=\"2 (dua)\"),HLOOKUP($C$3,TABMAPEL_X,DBLOGIC!AU2,FALSE),IF(OR($B$3=\"3 (tiga)\",$B$3=\"4 (empat)\"),HLOOKUP($C$3,TABMAPEL_XI,DBLOGIC!AU2,FALSE),IF(OR($B$3=\"5 (lima)\",$B$3=\"6 (enam)\"),HLOOKUP($C$3,TABMAPEL_XII,DBLOGIC!AU2,FALSE),IF(OR($B$3=\"7 (tujuh)\",$B$3=\"8 (delapan)\"),HLOOKUP($C$3,TABMAPEL_XIII,DBLOGIC!AU2,FALSE),0))))","v":"-"},{"$f":"IF(OR($B$3=\"1 (satu)\",$B$3=\"2 (dua)\"),HLOOKUP($C$3,TABMAPEL_X,DBLOGIC!AV2,FALSE),IF(OR($B$3=\"3 (tiga)\",$B$3=\"4 (empat)\"),HLOOKUP($C$3,TABMAPEL_XI,DBLOGIC!AV2,FALSE),IF(OR($B$3=\"5 (lima)\",$B$3=\"6 (enam)\"),HLOOKUP($C$3,TABMAPEL_XII,DBLOGIC!AV2,FALSE),IF(OR($B$3=\"7 (tujuh)\",$B$3=\"8 (delapan)\"),HLOOKUP($C$3,TABMAPEL_XIII,DBLOGIC!AV2,FALSE),0))))","v":"-"},{"$f":"IF(OR($B$3=\"1 (satu)\",$B$3=\"2 (dua)\"),HLOOKUP($C$3,TABMAPEL_X,DBLOGIC!AW2,FALSE),IF(OR($B$3=\"3 (tiga)\",$B$3=\"4 (empat)\"),HLOOKUP($C$3,TABMAPEL_XI,DBLOGIC!AW2,FALSE),IF(OR($B$3=\"5 (lima)\",$B$3=\"6 (enam)\"),HLOOKUP($C$3,TABMAPEL_XII,DBLOGIC!AW2,FALSE),IF(OR($B$3=\"7 (tujuh)\",$B$3=\"8 (delapan)\"),HLOOKUP($C$3,TABMAPEL_XIII,DBLOGIC!AW2,FALSE),0))))","v":"-"},{"$f":"IF(OR($B$3=\"1 (satu)\",$B$3=\"2 (dua)\"),HLOOKUP($C$3,TABMAPEL_X,DBLOGIC!AX2,FALSE),IF(OR($B$3=\"3 (tiga)\",$B$3=\"4 (empat)\"),HLOOKUP($C$3,TABMAPEL_XI,DBLOGIC!AX2,FALSE),IF(OR($B$3=\"5 (lima)\",$B$3=\"6 (enam)\"),HLOOKUP($C$3,TABMAPEL_XII,DBLOGIC!AX2,FALSE),IF(OR($B$3=\"7 (tujuh)\",$B$3=\"8 (delapan)\"),HLOOKUP($C$3,TABMAPEL_XIII,DBLOGIC!AX2,FALSE),0))))","v":"-"},{"$f":"IF(OR($B$3=\"1 (satu)\",$B$3=\"2 (dua)\"),HLOOKUP($C$3,TABMAPEL_X,DBLOGIC!AY2,FALSE),IF(OR($B$3=\"3 (tiga)\",$B$3=\"4 (empat)\"),HLOOKUP($C$3,TABMAPEL_XI,DBLOGIC!AY2,FALSE),IF(OR($B$3=\"5 (lima)\",$B$3=\"6 (enam)\"),HLOOKUP($C$3,TABMAPEL_XII,DBLOGIC!AY2,FALSE),IF(OR($B$3=\"7 (tujuh)\",$B$3=\"8 (delapan)\"),HLOOKUP($C$3,TABMAPEL_XIII,DBLOGIC!AY2,FALSE),0))))","v":"-"},{"$f":"IF(OR($B$3=\"1 (satu)\",$B$3=\"2 (dua)\"),HLOOKUP($C$3,TABMAPEL_X,DBLOGIC!AZ2,FALSE),IF(OR($B$3=\"3 (tiga)\",$B$3=\"4 (empat)\"),HLOOKUP($C$3,TABMAPEL_XI,DBLOGIC!AZ2,FALSE),IF(OR($B$3=\"5 (lima)\",$B$3=\"6 (enam)\"),HLOOKUP($C$3,TABMAPEL_XII,DBLOGIC!AZ2,FALSE),IF(OR($B$3=\"7 (tujuh)\",$B$3=\"8 (delapan)\"),HLOOKUP($C$3,TABMAPEL_XIII,DBLOGIC!AZ2,FALSE),0))))","v":"Bahasa Inggris"},{"$f":"IF(OR($B$3=\"1 (satu)\",$B$3=\"2 (dua)\"),HLOOKUP($C$3,TABMAPEL_X,DBLOGIC!BA2,FALSE),IF(OR($B$3=\"3 (tiga)\",$B$3=\"4 (empat)\"),HLOOKUP($C$3,TABMAPEL_XI,DBLOGIC!BA2,FALSE),IF(OR($B$3=\"5 (lima)\",$B$3=\"6 (enam)\"),HLOOKUP($C$3,TABMAPEL_XII,DBLOGIC!BA2,FALSE),IF(OR($B$3=\"7 (tujuh)\",$B$3=\"8 (delapan)\"),HLOOKUP($C$3,TABMAPEL_XIII,DBLOGIC!BA2,FALSE),0))))","v":"Bahasa Inggris"},{"$f":"IF(OR($B$3=\"1 (satu)\",$B$3=\"2 (dua)\"),HLOOKUP($C$3,TABMAPEL_X,DBLOGIC!BB2,FALSE),IF(OR($B$3=\"3 (tiga)\",$B$3=\"4 (empat)\"),HLOOKUP($C$3,TABMAPEL_XI,DBLOGIC!BB2,FALSE),IF(OR($B$3=\"5 (lima)\",$B$3=\"6 (enam)\"),HLOOKUP($C$3,TABMAPEL_XII,DBLOGIC!BB2,FALSE),IF(OR($B$3=\"7 (tujuh)\",$B$3=\"8 (delapan)\"),HLOOKUP($C$3,TABMAPEL_XIII,DBLOGIC!BB2,FALSE),0))))","v":"Bahasa Inggris"},{"$f":"IF(OR($B$3=\"1 (satu)\",$B$3=\"2 (dua)\"),HLOOKUP($C$3,TABMAPEL_X,DBLOGIC!BC2,FALSE),IF(OR($B$3=\"3 (tiga)\",$B$3=\"4 (empat)\"),HLOOKUP($C$3,TABMAPEL_XI,DBLOGIC!BC2,FALSE),IF(OR($B$3=\"5 (lima)\",$B$3=\"6 (enam)\"),HLOOKUP($C$3,TABMAPEL_XII,DBLOGIC!BC2,FALSE),IF(OR($B$3=\"7 (tujuh)\",$B$3=\"8 (delapan)\"),HLOOKUP($C$3,TABMAPEL_XIII,DBLOGIC!BC2,FALSE),0))))","v":"Bahasa Inggris"},{"$f":"IF(OR($B$3=\"1 (satu)\",$B$3=\"2 (dua)\"),HLOOKUP($C$3,TABMAPEL_X,DBLOGIC!BD2,FALSE),IF(OR($B$3=\"3 (tiga)\",$B$3=\"4 (empat)\"),HLOOKUP($C$3,TABMAPEL_XI,DBLOGIC!BD2,FALSE),IF(OR($B$3=\"5 (lima)\",$B$3=\"6 (enam)\"),HLOOKUP($C$3,TABMAPEL_XII,DBLOGIC!BD2,FALSE),IF(OR($B$3=\"7 (tujuh)\",$B$3=\"8 (delapan)\"),HLOOKUP($C$3,TABMAPEL_XIII,DBLOGIC!BD2,FALSE),0))))","v":"Bahasa Inggris"},{"$f":"IF(OR($B$3=\"1 (satu)\",$B$3=\"2 (dua)\"),HLOOKUP($C$3,TABMAPEL_X,DBLOGIC!BE2,FALSE),IF(OR($B$3=\"3 (tiga)\",$B$3=\"4 (empat)\"),HLOOKUP($C$3,TABMAPEL_XI,DBLOGIC!BE2,FALSE),IF(OR($B$3=\"5 (lima)\",$B$3=\"6 (enam)\"),HLOOKUP($C$3,TABMAPEL_XII,DBLOGIC!BE2,FALSE),IF(OR($B$3=\"7 (tujuh)\",$B$3=\"8 (delapan)\"),HLOOKUP($C$3,TABMAPEL_XIII,DBLOGIC!BE2,FALSE),0))))","v":"Bahasa Inggris"},{"$f":"IF(OR($B$3=\"1 (satu)\",$B$3=\"2 (dua)\"),HLOOKUP($C$3,TABMAPEL_X,DBLOGIC!BF2,FALSE),IF(OR($B$3=\"3 (tiga)\",$B$3=\"4 (empat)\"),HLOOKUP($C$3,TABMAPEL_XI,DBLOGIC!BF2,FALSE),IF(OR($B$3=\"5 (lima)\",$B$3=\"6 (enam)\"),HLOOKUP($C$3,TABMAPEL_XII,DBLOGIC!BF2,FALSE),IF(OR($B$3=\"7 (tujuh)\",$B$3=\"8 (delapan)\"),HLOOKUP($C$3,TABMAPEL_XIII,DBLOGIC!BF2,FALSE),0))))","v":"Bahasa Inggris"},{"$f":"IF(OR($B$3=\"1 (satu)\",$B$3=\"2 (dua)\"),HLOOKUP($C$3,TABMAPEL_X,DBLOGIC!BG2,FALSE),IF(OR($B$3=\"3 (tiga)\",$B$3=\"4 (empat)\"),HLOOKUP($C$3,TABMAPEL_XI,DBLOGIC!BG2,FALSE),IF(OR($B$3=\"5 (lima)\",$B$3=\"6 (enam)\"),HLOOKUP($C$3,TABMAPEL_XII,DBLOGIC!BG2,FALSE),IF(OR($B$3=\"7 (tujuh)\",$B$3=\"8 (delapan)\"),HLOOKUP($C$3,TABMAPEL_XIII,DBLOGIC!BG2,FALSE),0))))","v":"-"},{"$f":"IF(OR($B$3=\"1 (satu)\",$B$3=\"2 (dua)\"),HLOOKUP($C$3,TABMAPEL_X,DBLOGIC!BH2,FALSE),IF(OR($B$3=\"3 (tiga)\",$B$3=\"4 (empat)\"),HLOOKUP($C$3,TABMAPEL_XI,DBLOGIC!BH2,FALSE),IF(OR($B$3=\"5 (lima)\",$B$3=\"6 (enam)\"),HLOOKUP($C$3,TABMAPEL_XII,DBLOGIC!BH2,FALSE),IF(OR($B$3=\"7 (tujuh)\",$B$3=\"8 (delapan)\"),HLOOKUP($C$3,TABMAPEL_XIII,DBLOGIC!BH2,FALSE),0))))","v":"-"},{"$f":"IF(OR($B$3=\"1 (satu)\",$B$3=\"2 (dua)\"),HLOOKUP($C$3,TABMAPEL_X,DBLOGIC!BI2,FALSE),IF(OR($B$3=\"3 (tiga)\",$B$3=\"4 (empat)\"),HLOOKUP($C$3,TABMAPEL_XI,DBLOGIC!BI2,FALSE),IF(OR($B$3=\"5 (lima)\",$B$3=\"6 (enam)\"),HLOOKUP($C$3,TABMAPEL_XII,DBLOGIC!BI2,FALSE),IF(OR($B$3=\"7 (tujuh)\",$B$3=\"8 (delapan)\"),HLOOKUP($C$3,TABMAPEL_XIII,DBLOGIC!BI2,FALSE),0))))","v":"-"},{"$f":"IF(OR($B$3=\"1 (satu)\",$B$3=\"2 (dua)\"),HLOOKUP($C$3,TABMAPEL_X,DBLOGIC!BJ2,FALSE),IF(OR($B$3=\"3 (tiga)\",$B$3=\"4 (empat)\"),HLOOKUP($C$3,TABMAPEL_XI,DBLOGIC!BJ2,FALSE),IF(OR($B$3=\"5 (lima)\",$B$3=\"6 (enam)\"),HLOOKUP($C$3,TABMAPEL_XII,DBLOGIC!BJ2,FALSE),IF(OR($B$3=\"7 (tujuh)\",$B$3=\"8 (delapan)\"),HLOOKUP($C$3,TABMAPEL_XIII,DBLOGIC!BJ2,FALSE),0))))","v":"-"},{"$f":"IF(OR($B$3=\"1 (satu)\",$B$3=\"2 (dua)\"),HLOOKUP($C$3,TABMAPEL_X,DBLOGIC!BK2,FALSE),IF(OR($B$3=\"3 (tiga)\",$B$3=\"4 (empat)\"),HLOOKUP($C$3,TABMAPEL_XI,DBLOGIC!BK2,FALSE),IF(OR($B$3=\"5 (lima)\",$B$3=\"6 (enam)\"),HLOOKUP($C$3,TABMAPEL_XII,DBLOGIC!BK2,FALSE),IF(OR($B$3=\"7 (tujuh)\",$B$3=\"8 (delapan)\"),HLOOKUP($C$3,TABMAPEL_XIII,DBLOGIC!BK2,FALSE),0))))","v":"-"},{"$f":"IF(OR($B$3=\"1 (satu)\",$B$3=\"2 (dua)\"),HLOOKUP($C$3,TABMAPEL_X,DBLOGIC!BL2,FALSE),IF(OR($B$3=\"3 (tiga)\",$B$3=\"4 (empat)\"),HLOOKUP($C$3,TABMAPEL_XI,DBLOGIC!BL2,FALSE),IF(OR($B$3=\"5 (lima)\",$B$3=\"6 (enam)\"),HLOOKUP($C$3,TABMAPEL_XII,DBLOGIC!BL2,FALSE),IF(OR($B$3=\"7 (tujuh)\",$B$3=\"8 (delapan)\"),HLOOKUP($C$3,TABMAPEL_XIII,DBLOGIC!BL2,FALSE),0))))","v":"-"},{"$f":"IF(OR($B$3=\"1 (satu)\",$B$3=\"2 (dua)\"),HLOOKUP($C$3,TABMAPEL_X,DBLOGIC!BM2,FALSE),IF(OR($B$3=\"3 (tiga)\",$B$3=\"4 (empat)\"),HLOOKUP($C$3,TABMAPEL_XI,DBLOGIC!BM2,FALSE),IF(OR($B$3=\"5 (lima)\",$B$3=\"6 (enam)\"),HLOOKUP($C$3,TABMAPEL_XII,DBLOGIC!BM2,FALSE),IF(OR($B$3=\"7 (tujuh)\",$B$3=\"8 (delapan)\"),HLOOKUP($C$3,TABMAPEL_XIII,DBLOGIC!BM2,FALSE),0))))","v":"-"},{"$f":"IF(OR($B$3=\"1 (satu)\",$B$3=\"2 (dua)\"),HLOOKUP($C$3,TABMAPEL_X,DBLOGIC!BN2,FALSE),IF(OR($B$3=\"3 (tiga)\",$B$3=\"4 (empat)\"),HLOOKUP($C$3,TABMAPEL_XI,DBLOGIC!BN2,FALSE),IF(OR($B$3=\"5 (lima)\",$B$3=\"6 (enam)\"),HLOOKUP($C$3,TABMAPEL_XII,DBLOGIC!BN2,FALSE),IF(OR($B$3=\"7 (tujuh)\",$B$3=\"8 (delapan)\"),HLOOKUP($C$3,TABMAPEL_XIII,DBLOGIC!BN2,FALSE),0))))","v":"-"},{"$f":"IF(OR($B$3=\"1 (satu)\",$B$3=\"2 (dua)\"),HLOOKUP($C$3,TABMAPEL_X,DBLOGIC!BO2,FALSE),IF(OR($B$3=\"3 (tiga)\",$B$3=\"4 (empat)\"),HLOOKUP($C$3,TABMAPEL_XI,DBLOGIC!BO2,FALSE),IF(OR($B$3=\"5 (lima)\",$B$3=\"6 (enam)\"),HLOOKUP($C$3,TABMAPEL_XII,DBLOGIC!BO2,FALSE),IF(OR($B$3=\"7 (tujuh)\",$B$3=\"8 (delapan)\"),HLOOKUP($C$3,TABMAPEL_XIII,DBLOGIC!BO2,FALSE),0))))","v":"-"},{"$f":"IF(OR($B$3=\"1 (satu)\",$B$3=\"2 (dua)\"),HLOOKUP($C$3,TABMAPEL_X,DBLOGIC!BP2,FALSE),IF(OR($B$3=\"3 (tiga)\",$B$3=\"4 (empat)\"),HLOOKUP($C$3,TABMAPEL_XI,DBLOGIC!BP2,FALSE),IF(OR($B$3=\"5 (lima)\",$B$3=\"6 (enam)\"),HLOOKUP($C$3,TABMAPEL_XII,DBLOGIC!BP2,FALSE),IF(OR($B$3=\"7 (tujuh)\",$B$3=\"8 (delapan)\"),HLOOKUP($C$3,TABMAPEL_XIII,DBLOGIC!BP2,FALSE),0))))","v":"-"},{"$f":"IF(OR($B$3=\"1 (satu)\",$B$3=\"2 (dua)\"),HLOOKUP($C$3,TABMAPEL_X,DBLOGIC!BQ2,FALSE),IF(OR($B$3=\"3 (tiga)\",$B$3=\"4 (empat)\"),HLOOKUP($C$3,TABMAPEL_XI,DBLOGIC!BQ2,FALSE),IF(OR($B$3=\"5 (lima)\",$B$3=\"6 (enam)\"),HLOOKUP($C$3,TABMAPEL_XII,DBLOGIC!BQ2,FALSE),IF(OR($B$3=\"7 (tujuh)\",$B$3=\"8 (delapan)\"),HLOOKUP($C$3,TABMAPEL_XIII,DBLOGIC!BQ2,FALSE),0))))","v":"-"},{"$f":"IF(OR($B$3=\"1 (satu)\",$B$3=\"2 (dua)\"),HLOOKUP($C$3,TABMAPEL_X,DBLOGIC!BR2,FALSE),IF(OR($B$3=\"3 (tiga)\",$B$3=\"4 (empat)\"),HLOOKUP($C$3,TABMAPEL_XI,DBLOGIC!BR2,FALSE),IF(OR($B$3=\"5 (lima)\",$B$3=\"6 (enam)\"),HLOOKUP($C$3,TABMAPEL_XII,DBLOGIC!BR2,FALSE),IF(OR($B$3=\"7 (tujuh)\",$B$3=\"8 (delapan)\"),HLOOKUP($C$3,TABMAPEL_XIII,DBLOGIC!BR2,FALSE),0))))","v":"-"},{"$f":"IF(OR($B$3=\"1 (satu)\",$B$3=\"2 (dua)\"),HLOOKUP($C$3,TABMAPEL_X,DBLOGIC!BS2,FALSE),IF(OR($B$3=\"3 (tiga)\",$B$3=\"4 (empat)\"),HLOOKUP($C$3,TABMAPEL_XI,DBLOGIC!BS2,FALSE),IF(OR($B$3=\"5 (lima)\",$B$3=\"6 (enam)\"),HLOOKUP($C$3,TABMAPEL_XII,DBLOGIC!BS2,FALSE),IF(OR($B$3=\"7 (tujuh)\",$B$3=\"8 (delapan)\"),HLOOKUP($C$3,TABMAPEL_XIII,DBLOGIC!BS2,FALSE),0))))","v":"-"},{"$f":"IF(OR($B$3=\"1 (satu)\",$B$3=\"2 (dua)\"),HLOOKUP($C$3,TABMAPEL_X,DBLOGIC!BT2,FALSE),IF(OR($B$3=\"3 (tiga)\",$B$3=\"4 (empat)\"),HLOOKUP($C$3,TABMAPEL_XI,DBLOGIC!BT2,FALSE),IF(OR($B$3=\"5 (lima)\",$B$3=\"6 (enam)\"),HLOOKUP($C$3,TABMAPEL_XII,DBLOGIC!BT2,FALSE),IF(OR($B$3=\"7 (tujuh)\",$B$3=\"8 (delapan)\"),HLOOKUP($C$3,TABMAPEL_XIII,DBLOGIC!BT2,FALSE),0))))","v":"-"},{"$f":"IF(OR($B$3=\"1 (satu)\",$B$3=\"2 (dua)\"),HLOOKUP($C$3,TABMAPEL_X,DBLOGIC!BU2,FALSE),IF(OR($B$3=\"3 (tiga)\",$B$3=\"4 (empat)\"),HLOOKUP($C$3,TABMAPEL_XI,DBLOGIC!BU2,FALSE),IF(OR($B$3=\"5 (lima)\",$B$3=\"6 (enam)\"),HLOOKUP($C$3,TABMAPEL_XII,DBLOGIC!BU2,FALSE),IF(OR($B$3=\"7 (tujuh)\",$B$3=\"8 (delapan)\"),HLOOKUP($C$3,TABMAPEL_XIII,DBLOGIC!BU2,FALSE),0))))","v":"Pendidikan Jasmani, Olahraga dan Kesehatan"},{"$f":"IF(OR($B$3=\"1 (satu)\",$B$3=\"2 (dua)\"),HLOOKUP($C$3,TABMAPEL_X,DBLOGIC!BV2,FALSE),IF(OR($B$3=\"3 (tiga)\",$B$3=\"4 (empat)\"),HLOOKUP($C$3,TABMAPEL_XI,DBLOGIC!BV2,FALSE),IF(OR($B$3=\"5 (lima)\",$B$3=\"6 (enam)\"),HLOOKUP($C$3,TABMAPEL_XII,DBLOGIC!BV2,FALSE),IF(OR($B$3=\"7 (tujuh)\",$B$3=\"8 (delapan)\"),HLOOKUP($C$3,TABMAPEL_XIII,DBLOGIC!BV2,FALSE),0))))","v":"Pendidikan Jasmani, Olahraga dan Kesehatan"},{"$f":"IF(OR($B$3=\"1 (satu)\",$B$3=\"2 (dua)\"),HLOOKUP($C$3,TABMAPEL_X,DBLOGIC!BW2,FALSE),IF(OR($B$3=\"3 (tiga)\",$B$3=\"4 (empat)\"),HLOOKUP($C$3,TABMAPEL_XI,DBLOGIC!BW2,FALSE),IF(OR($B$3=\"5 (lima)\",$B$3=\"6 (enam)\"),HLOOKUP($C$3,TABMAPEL_XII,DBLOGIC!BW2,FALSE),IF(OR($B$3=\"7 (tujuh)\",$B$3=\"8 (delapan)\"),HLOOKUP($C$3,TABMAPEL_XIII,DBLOGIC!BW2,FALSE),0))))","v":"Pendidikan Jasmani, Olahraga dan Kesehatan"},{"$f":"IF(OR($B$3=\"1 (satu)\",$B$3=\"2 (dua)\"),HLOOKUP($C$3,TABMAPEL_X,DBLOGIC!BX2,FALSE),IF(OR($B$3=\"3 (tiga)\",$B$3=\"4 (empat)\"),HLOOKUP($C$3,TABMAPEL_XI,DBLOGIC!BX2,FALSE),IF(OR($B$3=\"5 (lima)\",$B$3=\"6 (enam)\"),HLOOKUP($C$3,TABMAPEL_XII,DBLOGIC!BX2,FALSE),IF(OR($B$3=\"7 (tujuh)\",$B$3=\"8 (delapan)\"),HLOOKUP($C$3,TABMAPEL_XIII,DBLOGIC!BX2,FALSE),0))))","v":"Pendidikan Jasmani, Olahraga dan Kesehatan"},{"$f":"IF(OR($B$3=\"1 (satu)\",$B$3=\"2 (dua)\"),HLOOKUP($C$3,TABMAPEL_X,DBLOGIC!BY2,FALSE),IF(OR($B$3=\"3 (tiga)\",$B$3=\"4 (empat)\"),HLOOKUP($C$3,TABMAPEL_XI,DBLOGIC!BY2,FALSE),IF(OR($B$3=\"5 (lima)\",$B$3=\"6 (enam)\"),HLOOKUP($C$3,TABMAPEL_XII,DBLOGIC!BY2,FALSE),IF(OR($B$3=\"7 (tujuh)\",$B$3=\"8 (delapan)\"),HLOOKUP($C$3,TABMAPEL_XIII,DBLOGIC!BY2,FALSE),0))))","v":"Pendidikan Jasmani, Olahraga dan Kesehatan"},{"$f":"IF(OR($B$3=\"1 (satu)\",$B$3=\"2 (dua)\"),HLOOKUP($C$3,TABMAPEL_X,DBLOGIC!BZ2,FALSE),IF(OR($B$3=\"3 (tiga)\",$B$3=\"4 (empat)\"),HLOOKUP($C$3,TABMAPEL_XI,DBLOGIC!BZ2,FALSE),IF(OR($B$3=\"5 (lima)\",$B$3=\"6 (enam)\"),HLOOKUP($C$3,TABMAPEL_XII,DBLOGIC!BZ2,FALSE),IF(OR($B$3=\"7 (tujuh)\",$B$3=\"8 (delapan)\"),HLOOKUP($C$3,TABMAPEL_XIII,DBLOGIC!BZ2,FALSE),0))))","v":"Pendidikan Jasmani, Olahraga dan Kesehatan"},{"$f":"IF(OR($B$3=\"1 (satu)\",$B$3=\"2 (dua)\"),HLOOKUP($C$3,TABMAPEL_X,DBLOGIC!CA2,FALSE),IF(OR($B$3=\"3 (tiga)\",$B$3=\"4 (empat)\"),HLOOKUP($C$3,TABMAPEL_XI,DBLOGIC!CA2,FALSE),IF(OR($B$3=\"5 (lima)\",$B$3=\"6 (enam)\"),HLOOKUP($C$3,TABMAPEL_XII,DBLOGIC!CA2,FALSE),IF(OR($B$3=\"7 (tujuh)\",$B$3=\"8 (delapan)\"),HLOOKUP($C$3,TABMAPEL_XIII,DBLOGIC!CA2,FALSE),0))))","v":"Pendidikan Jasmani, Olahraga dan Kesehatan"},{"$f":"IF(OR($B$3=\"1 (satu)\",$B$3=\"2 (dua)\"),HLOOKUP($C$3,TABMAPEL_X,DBLOGIC!CB2,FALSE),IF(OR($B$3=\"3 (tiga)\",$B$3=\"4 (empat)\"),HLOOKUP($C$3,TABMAPEL_XI,DBLOGIC!CB2,FALSE),IF(OR($B$3=\"5 (lima)\",$B$3=\"6 (enam)\"),HLOOKUP($C$3,TABMAPEL_XII,DBLOGIC!CB2,FALSE),IF(OR($B$3=\"7 (tujuh)\",$B$3=\"8 (delapan)\"),HLOOKUP($C$3,TABMAPEL_XIII,DBLOGIC!CB2,FALSE),0))))","v":"-"},{"$f":"IF(OR($B$3=\"1 (satu)\",$B$3=\"2 (dua)\"),HLOOKUP($C$3,TABMAPEL_X,DBLOGIC!CC2,FALSE),IF(OR($B$3=\"3 (tiga)\",$B$3=\"4 (empat)\"),HLOOKUP($C$3,TABMAPEL_XI,DBLOGIC!CC2,FALSE),IF(OR($B$3=\"5 (lima)\",$B$3=\"6 (enam)\"),HLOOKUP($C$3,TABMAPEL_XII,DBLOGIC!CC2,FALSE),IF(OR($B$3=\"7 (tujuh)\",$B$3=\"8 (delapan)\"),HLOOKUP($C$3,TABMAPEL_XIII,DBLOGIC!CC2,FALSE),0))))","v":"-"},{"$f":"IF(OR($B$3=\"1 (satu)\",$B$3=\"2 (dua)\"),HLOOKUP($C$3,TABMAPEL_X,DBLOGIC!CD2,FALSE),IF(OR($B$3=\"3 (tiga)\",$B$3=\"4 (empat)\"),HLOOKUP($C$3,TABMAPEL_XI,DBLOGIC!CD2,FALSE),IF(OR($B$3=\"5 (lima)\",$B$3=\"6 (enam)\"),HLOOKUP($C$3,TABMAPEL_XII,DBLOGIC!CD2,FALSE),IF(OR($B$3=\"7 (tujuh)\",$B$3=\"8 (delapan)\"),HLOOKUP($C$3,TABMAPEL_XIII,DBLOGIC!CD2,FALSE),0))))","v":"-"},{"$f":"IF(OR($B$3=\"1 (satu)\",$B$3=\"2 (dua)\"),HLOOKUP($C$3,TABMAPEL_X,DBLOGIC!CE2,FALSE),IF(OR($B$3=\"3 (tiga)\",$B$3=\"4 (empat)\"),HLOOKUP($C$3,TABMAPEL_XI,DBLOGIC!CE2,FALSE),IF(OR($B$3=\"5 (lima)\",$B$3=\"6 (enam)\"),HLOOKUP($C$3,TABMAPEL_XII,DBLOGIC!CE2,FALSE),IF(OR($B$3=\"7 (tujuh)\",$B$3=\"8 (delapan)\"),HLOOKUP($C$3,TABMAPEL_XIII,DBLOGIC!CE2,FALSE),0))))","v":"-"},{"$f":"IF(OR($B$3=\"1 (satu)\",$B$3=\"2 (dua)\"),HLOOKUP($C$3,TABMAPEL_X,DBLOGIC!CF2,FALSE),IF(OR($B$3=\"3 (tiga)\",$B$3=\"4 (empat)\"),HLOOKUP($C$3,TABMAPEL_XI,DBLOGIC!CF2,FALSE),IF(OR($B$3=\"5 (lima)\",$B$3=\"6 (enam)\"),HLOOKUP($C$3,TABMAPEL_XII,DBLOGIC!CF2,FALSE),IF(OR($B$3=\"7 (tujuh)\",$B$3=\"8 (delapan)\"),HLOOKUP($C$3,TABMAPEL_XIII,DBLOGIC!CF2,FALSE),0))))","v":"-"},{"$f":"IF(OR($B$3=\"1 (satu)\",$B$3=\"2 (dua)\"),HLOOKUP($C$3,TABMAPEL_X,DBLOGIC!CG2,FALSE),IF(OR($B$3=\"3 (tiga)\",$B$3=\"4 (empat)\"),HLOOKUP($C$3,TABMAPEL_XI,DBLOGIC!CG2,FALSE),IF(OR($B$3=\"5 (lima)\",$B$3=\"6 (enam)\"),HLOOKUP($C$3,TABMAPEL_XII,DBLOGIC!CG2,FALSE),IF(OR($B$3=\"7 (tujuh)\",$B$3=\"8 (delapan)\"),HLOOKUP($C$3,TABMAPEL_XIII,DBLOGIC!CG2,FALSE),0))))","v":"-"},{"$f":"IF(OR($B$3=\"1 (satu)\",$B$3=\"2 (dua)\"),HLOOKUP($C$3,TABMAPEL_X,DBLOGIC!CH2,FALSE),IF(OR($B$3=\"3 (tiga)\",$B$3=\"4 (empat)\"),HLOOKUP($C$3,TABMAPEL_XI,DBLOGIC!CH2,FALSE),IF(OR($B$3=\"5 (lima)\",$B$3=\"6 (enam)\"),HLOOKUP($C$3,TABMAPEL_XII,DBLOGIC!CH2,FALSE),IF(OR($B$3=\"7 (tujuh)\",$B$3=\"8 (delapan)\"),HLOOKUP($C$3,TABMAPEL_XIII,DBLOGIC!CH2,FALSE),0))))","v":"-"},{"$f":"IF(OR($B$3=\"1 (satu)\",$B$3=\"2 (dua)\"),HLOOKUP($C$3,TABMAPEL_X,DBLOGIC!CI2,FALSE),IF(OR($B$3=\"3 (tiga)\",$B$3=\"4 (empat)\"),HLOOKUP($C$3,TABMAPEL_XI,DBLOGIC!CI2,FALSE),IF(OR($B$3=\"5 (lima)\",$B$3=\"6 (enam)\"),HLOOKUP($C$3,TABMAPEL_XII,DBLOGIC!CI2,FALSE),IF(OR($B$3=\"7 (tujuh)\",$B$3=\"8 (delapan)\"),HLOOKUP($C$3,TABMAPEL_XIII,DBLOGIC!CI2,FALSE),0))))","v":"-"},{"$f":"IF(OR($B$3=\"1 (satu)\",$B$3=\"2 (dua)\"),HLOOKUP($C$3,TABMAPEL_X,DBLOGIC!CJ2,FALSE),IF(OR($B$3=\"3 (tiga)\",$B$3=\"4 (empat)\"),HLOOKUP($C$3,TABMAPEL_XI,DBLOGIC!CJ2,FALSE),IF(OR($B$3=\"5 (lima)\",$B$3=\"6 (enam)\"),HLOOKUP($C$3,TABMAPEL_XII,DBLOGIC!CJ2,FALSE),IF(OR($B$3=\"7 (tujuh)\",$B$3=\"8 (delapan)\"),HLOOKUP($C$3,TABMAPEL_XIII,DBLOGIC!CJ2,FALSE),0))))","v":"-"},{"$f":"IF(OR($B$3=\"1 (satu)\",$B$3=\"2 (dua)\"),HLOOKUP($C$3,TABMAPEL_X,DBLOGIC!CK2,FALSE),IF(OR($B$3=\"3 (tiga)\",$B$3=\"4 (empat)\"),HLOOKUP($C$3,TABMAPEL_XI,DBLOGIC!CK2,FALSE),IF(OR($B$3=\"5 (lima)\",$B$3=\"6 (enam)\"),HLOOKUP($C$3,TABMAPEL_XII,DBLOGIC!CK2,FALSE),IF(OR($B$3=\"7 (tujuh)\",$B$3=\"8 (delapan)\"),HLOOKUP($C$3,TABMAPEL_XIII,DBLOGIC!CK2,FALSE),0))))","v":"-"},{"$f":"IF(OR($B$3=\"1 (satu)\",$B$3=\"2 (dua)\"),HLOOKUP($C$3,TABMAPEL_X,DBLOGIC!CL2,FALSE),IF(OR($B$3=\"3 (tiga)\",$B$3=\"4 (empat)\"),HLOOKUP($C$3,TABMAPEL_XI,DBLOGIC!CL2,FALSE),IF(OR($B$3=\"5 (lima)\",$B$3=\"6 (enam)\"),HLOOKUP($C$3,TABMAPEL_XII,DBLOGIC!CL2,FALSE),IF(OR($B$3=\"7 (tujuh)\",$B$3=\"8 (delapan)\"),HLOOKUP($C$3,TABMAPEL_XIII,DBLOGIC!CL2,FALSE),0))))","v":"-"},{"$f":"IF(OR($B$3=\"1 (satu)\",$B$3=\"2 (dua)\"),HLOOKUP($C$3,TABMAPEL_X,DBLOGIC!CM2,FALSE),IF(OR($B$3=\"3 (tiga)\",$B$3=\"4 (empat)\"),HLOOKUP($C$3,TABMAPEL_XI,DBLOGIC!CM2,FALSE),IF(OR($B$3=\"5 (lima)\",$B$3=\"6 (enam)\"),HLOOKUP($C$3,TABMAPEL_XII,DBLOGIC!CM2,FALSE),IF(OR($B$3=\"7 (tujuh)\",$B$3=\"8 (delapan)\"),HLOOKUP($C$3,TABMAPEL_XIII,DBLOGIC!CM2,FALSE),0))))","v":"-"},{"$f":"IF(OR($B$3=\"1 (satu)\",$B$3=\"2 (dua)\"),HLOOKUP($C$3,TABMAPEL_X,DBLOGIC!CN2,FALSE),IF(OR($B$3=\"3 (tiga)\",$B$3=\"4 (empat)\"),HLOOKUP($C$3,TABMAPEL_XI,DBLOGIC!CN2,FALSE),IF(OR($B$3=\"5 (lima)\",$B$3=\"6 (enam)\"),HLOOKUP($C$3,TABMAPEL_XII,DBLOGIC!CN2,FALSE),IF(OR($B$3=\"7 (tujuh)\",$B$3=\"8 (delapan)\"),HLOOKUP($C$3,TABMAPEL_XIII,DBLOGIC!CN2,FALSE),0))))","v":"-"},{"$f":"IF(OR($B$3=\"1 (satu)\",$B$3=\"2 (dua)\"),HLOOKUP($C$3,TABMAPEL_X,DBLOGIC!CO2,FALSE),IF(OR($B$3=\"3 (tiga)\",$B$3=\"4 (empat)\"),HLOOKUP($C$3,TABMAPEL_XI,DBLOGIC!CO2,FALSE),IF(OR($B$3=\"5 (lima)\",$B$3=\"6 (enam)\"),HLOOKUP($C$3,TABMAPEL_XII,DBLOGIC!CO2,FALSE),IF(OR($B$3=\"7 (tujuh)\",$B$3=\"8 (delapan)\"),HLOOKUP($C$3,TABMAPEL_XIII,DBLOGIC!CO2,FALSE),0))))","v":"-"},{"$f":"IF(OR($B$3=\"1 (satu)\",$B$3=\"2 (dua)\"),HLOOKUP($C$3,TABMAPEL_X,DBLOGIC!CP2,FALSE),IF(OR($B$3=\"3 (tiga)\",$B$3=\"4 (empat)\"),HLOOKUP($C$3,TABMAPEL_XI,DBLOGIC!CP2,FALSE),IF(OR($B$3=\"5 (lima)\",$B$3=\"6 (enam)\"),HLOOKUP($C$3,TABMAPEL_XII,DBLOGIC!CP2,FALSE),IF(OR($B$3=\"7 (tujuh)\",$B$3=\"8 (delapan)\"),HLOOKUP($C$3,TABMAPEL_XIII,DBLOGIC!CP2,FALSE),0))))","v":"-"},{"$f":"IF(OR($B$3=\"1 (satu)\",$B$3=\"2 (dua)\"),HLOOKUP($C$3,TABMAPEL_X,DBLOGIC!CQ2,FALSE),IF(OR($B$3=\"3 (tiga)\",$B$3=\"4 (empat)\"),HLOOKUP($C$3,TABMAPEL_XI,DBLOGIC!CQ2,FALSE),IF(OR($B$3=\"5 (lima)\",$B$3=\"6 (enam)\"),HLOOKUP($C$3,TABMAPEL_XII,DBLOGIC!CQ2,FALSE),IF(OR($B$3=\"7 (tujuh)\",$B$3=\"8 (delapan)\"),HLOOKUP($C$3,TABMAPEL_XIII,DBLOGIC!CQ2,FALSE),0))))","v":"-"},{"$f":"IF(OR($B$3=\"1 (satu)\",$B$3=\"2 (dua)\"),HLOOKUP($C$3,TABMAPEL_X,DBLOGIC!CR2,FALSE),IF(OR($B$3=\"3 (tiga)\",$B$3=\"4 (empat)\"),HLOOKUP($C$3,TABMAPEL_XI,DBLOGIC!CR2,FALSE),IF(OR($B$3=\"5 (lima)\",$B$3=\"6 (enam)\"),HLOOKUP($C$3,TABMAPEL_XII,DBLOGIC!CR2,FALSE),IF(OR($B$3=\"7 (tujuh)\",$B$3=\"8 (delapan)\"),HLOOKUP($C$3,TABMAPEL_XIII,DBLOGIC!CR2,FALSE),0))))","v":"-"},{"$f":"IF(OR($B$3=\"1 (satu)\",$B$3=\"2 (dua)\"),HLOOKUP($C$3,TABMAPEL_X,DBLOGIC!CS2,FALSE),IF(OR($B$3=\"3 (tiga)\",$B$3=\"4 (empat)\"),HLOOKUP($C$3,TABMAPEL_XI,DBLOGIC!CS2,FALSE),IF(OR($B$3=\"5 (lima)\",$B$3=\"6 (enam)\"),HLOOKUP($C$3,TABMAPEL_XII,DBLOGIC!CS2,FALSE),IF(OR($B$3=\"7 (tujuh)\",$B$3=\"8 (delapan)\"),HLOOKUP($C$3,TABMAPEL_XIII,DBLOGIC!CS2,FALSE),0))))","v":"-"},{"$f":"IF(OR($B$3=\"1 (satu)\",$B$3=\"2 (dua)\"),HLOOKUP($C$3,TABMAPEL_X,DBLOGIC!CT2,FALSE),IF(OR($B$3=\"3 (tiga)\",$B$3=\"4 (empat)\"),HLOOKUP($C$3,TABMAPEL_XI,DBLOGIC!CT2,FALSE),IF(OR($B$3=\"5 (lima)\",$B$3=\"6 (enam)\"),HLOOKUP($C$3,TABMAPEL_XII,DBLOGIC!CT2,FALSE),IF(OR($B$3=\"7 (tujuh)\",$B$3=\"8 (delapan)\"),HLOOKUP($C$3,TABMAPEL_XIII,DBLOGIC!CT2,FALSE),0))))","v":"-"},{"$f":"IF(OR($B$3=\"1 (satu)\",$B$3=\"2 (dua)\"),HLOOKUP($C$3,TABMAPEL_X,DBLOGIC!CU2,FALSE),IF(OR($B$3=\"3 (tiga)\",$B$3=\"4 (empat)\"),HLOOKUP($C$3,TABMAPEL_XI,DBLOGIC!CU2,FALSE),IF(OR($B$3=\"5 (lima)\",$B$3=\"6 (enam)\"),HLOOKUP($C$3,TABMAPEL_XII,DBLOGIC!CU2,FALSE),IF(OR($B$3=\"7 (tujuh)\",$B$3=\"8 (delapan)\"),HLOOKUP($C$3,TABMAPEL_XIII,DBLOGIC!CU2,FALSE),0))))","v":"-"},{"$f":"IF(OR($B$3=\"1 (satu)\",$B$3=\"2 (dua)\"),HLOOKUP($C$3,TABMAPEL_X,DBLOGIC!CV2,FALSE),IF(OR($B$3=\"3 (tiga)\",$B$3=\"4 (empat)\"),HLOOKUP($C$3,TABMAPEL_XI,DBLOGIC!CV2,FALSE),IF(OR($B$3=\"5 (lima)\",$B$3=\"6 (enam)\"),HLOOKUP($C$3,TABMAPEL_XII,DBLOGIC!CV2,FALSE),IF(OR($B$3=\"7 (tujuh)\",$B$3=\"8 (delapan)\"),HLOOKUP($C$3,TABMAPEL_XIII,DBLOGIC!CV2,FALSE),0))))","v":"-"},{"$f":"IF(OR($B$3=\"1 (satu)\",$B$3=\"2 (dua)\"),HLOOKUP($C$3,TABMAPEL_X,DBLOGIC!CW2,FALSE),IF(OR($B$3=\"3 (tiga)\",$B$3=\"4 (empat)\"),HLOOKUP($C$3,TABMAPEL_XI,DBLOGIC!CW2,FALSE),IF(OR($B$3=\"5 (lima)\",$B$3=\"6 (enam)\"),HLOOKUP($C$3,TABMAPEL_XII,DBLOGIC!CW2,FALSE),IF(OR($B$3=\"7 (tujuh)\",$B$3=\"8 (delapan)\"),HLOOKUP($C$3,TABMAPEL_XIII,DBLOGIC!CW2,FALSE),0))))","v":"-"},{"$f":"IF(OR($B$3=\"1 (satu)\",$B$3=\"2 (dua)\"),HLOOKUP($C$3,TABMAPEL_X,DBLOGIC!CX2,FALSE),IF(OR($B$3=\"3 (tiga)\",$B$3=\"4 (empat)\"),HLOOKUP($C$3,TABMAPEL_XI,DBLOGIC!CX2,FALSE),IF(OR($B$3=\"5 (lima)\",$B$3=\"6 (enam)\"),HLOOKUP($C$3,TABMAPEL_XII,DBLOGIC!CX2,FALSE),IF(OR($B$3=\"7 (tujuh)\",$B$3=\"8 (delapan)\"),HLOOKUP($C$3,TABMAPEL_XIII,DBLOGIC!CX2,FALSE),0))))","v":"-"},{"$f":"IF(OR($B$3=\"1 (satu)\",$B$3=\"2 (dua)\"),HLOOKUP($C$3,TABMAPEL_X,DBLOGIC!CY2,FALSE),IF(OR($B$3=\"3 (tiga)\",$B$3=\"4 (empat)\"),HLOOKUP($C$3,TABMAPEL_XI,DBLOGIC!CY2,FALSE),IF(OR($B$3=\"5 (lima)\",$B$3=\"6 (enam)\"),HLOOKUP($C$3,TABMAPEL_XII,DBLOGIC!CY2,FALSE),IF(OR($B$3=\"7 (tujuh)\",$B$3=\"8 (delapan)\"),HLOOKUP($C$3,TABMAPEL_XIII,DBLOGIC!CY2,FALSE),0))))","v":"-"},{"$f":"IF(OR($B$3=\"1 (satu)\",$B$3=\"2 (dua)\"),HLOOKUP($C$3,TABMAPEL_X,DBLOGIC!CZ2,FALSE),IF(OR($B$3=\"3 (tiga)\",$B$3=\"4 (empat)\"),HLOOKUP($C$3,TABMAPEL_XI,DBLOGIC!CZ2,FALSE),IF(OR($B$3=\"5 (lima)\",$B$3=\"6 (enam)\"),HLOOKUP($C$3,TABMAPEL_XII,DBLOGIC!CZ2,FALSE),IF(OR($B$3=\"7 (tujuh)\",$B$3=\"8 (delapan)\"),HLOOKUP($C$3,TABMAPEL_XIII,DBLOGIC!CZ2,FALSE),0))))","v":"-"},{"$f":"IF(OR($B$3=\"1 (satu)\",$B$3=\"2 (dua)\"),HLOOKUP($C$3,TABMAPEL_X,DBLOGIC!DA2,FALSE),IF(OR($B$3=\"3 (tiga)\",$B$3=\"4 (empat)\"),HLOOKUP($C$3,TABMAPEL_XI,DBLOGIC!DA2,FALSE),IF(OR($B$3=\"5 (lima)\",$B$3=\"6 (enam)\"),HLOOKUP($C$3,TABMAPEL_XII,DBLOGIC!DA2,FALSE),IF(OR($B$3=\"7 (tujuh)\",$B$3=\"8 (delapan)\"),HLOOKUP($C$3,TABMAPEL_XIII,DBLOGIC!DA2,FALSE),0))))","v":"-"},{"$f":"IF(OR($B$3=\"1 (satu)\",$B$3=\"2 (dua)\"),HLOOKUP($C$3,TABMAPEL_X,DBLOGIC!DB2,FALSE),IF(OR($B$3=\"3 (tiga)\",$B$3=\"4 (empat)\"),HLOOKUP($C$3,TABMAPEL_XI,DBLOGIC!DB2,FALSE),IF(OR($B$3=\"5 (lima)\",$B$3=\"6 (enam)\"),HLOOKUP($C$3,TABMAPEL_XII,DBLOGIC!DB2,FALSE),IF(OR($B$3=\"7 (tujuh)\",$B$3=\"8 (delapan)\"),HLOOKUP($C$3,TABMAPEL_XIII,DBLOGIC!DB2,FALSE),0))))","v":"-"},{"$f":"IF(OR($B$3=\"1 (satu)\",$B$3=\"2 (dua)\"),HLOOKUP($C$3,TABMAPEL_X,DBLOGIC!DC2,FALSE),IF(OR($B$3=\"3 (tiga)\",$B$3=\"4 (empat)\"),HLOOKUP($C$3,TABMAPEL_XI,DBLOGIC!DC2,FALSE),IF(OR($B$3=\"5 (lima)\",$B$3=\"6 (enam)\"),HLOOKUP($C$3,TABMAPEL_XII,DBLOGIC!DC2,FALSE),IF(OR($B$3=\"7 (tujuh)\",$B$3=\"8 (delapan)\"),HLOOKUP($C$3,TABMAPEL_XIII,DBLOGIC!DC2,FALSE),0))))","v":"-"},{"$f":"IF(OR($B$3=\"1 (satu)\",$B$3=\"2 (dua)\"),HLOOKUP($C$3,TABMAPEL_X,DBLOGIC!DD2,FALSE),IF(OR($B$3=\"3 (tiga)\",$B$3=\"4 (empat)\"),HLOOKUP($C$3,TABMAPEL_XI,DBLOGIC!DD2,FALSE),IF(OR($B$3=\"5 (lima)\",$B$3=\"6 (enam)\"),HLOOKUP($C$3,TABMAPEL_XII,DBLOGIC!DD2,FALSE),IF(OR($B$3=\"7 (tujuh)\",$B$3=\"8 (delapan)\"),HLOOKUP($C$3,TABMAPEL_XIII,DBLOGIC!DD2,FALSE),0))))","v":"-"},{"$f":"IF(OR($B$3=\"1 (satu)\",$B$3=\"2 (dua)\"),HLOOKUP($C$3,TABMAPEL_X,DBLOGIC!DE2,FALSE),IF(OR($B$3=\"3 (tiga)\",$B$3=\"4 (empat)\"),HLOOKUP($C$3,TABMAPEL_XI,DBLOGIC!DE2,FALSE),IF(OR($B$3=\"5 (lima)\",$B$3=\"6 (enam)\"),HLOOKUP($C$3,TABMAPEL_XII,DBLOGIC!DE2,FALSE),IF(OR($B$3=\"7 (tujuh)\",$B$3=\"8 (delapan)\"),HLOOKUP($C$3,TABMAPEL_XIII,DBLOGIC!DE2,FALSE),0))))","v":"-"},{"$f":"IF(OR($B$3=\"1 (satu)\",$B$3=\"2 (dua)\"),HLOOKUP($C$3,TABMAPEL_X,DBLOGIC!DF2,FALSE),IF(OR($B$3=\"3 (tiga)\",$B$3=\"4 (empat)\"),HLOOKUP($C$3,TABMAPEL_XI,DBLOGIC!DF2,FALSE),IF(OR($B$3=\"5 (lima)\",$B$3=\"6 (enam)\"),HLOOKUP($C$3,TABMAPEL_XII,DBLOGIC!DF2,FALSE),IF(OR($B$3=\"7 (tujuh)\",$B$3=\"8 (delapan)\"),HLOOKUP($C$3,TABMAPEL_XIII,DBLOGIC!DF2,FALSE),0))))","v":"-"},{"$f":"IF(OR($B$3=\"1 (satu)\",$B$3=\"2 (dua)\"),HLOOKUP($C$3,TABMAPEL_X,DBLOGIC!DG2,FALSE),IF(OR($B$3=\"3 (tiga)\",$B$3=\"4 (empat)\"),HLOOKUP($C$3,TABMAPEL_XI,DBLOGIC!DG2,FALSE),IF(OR($B$3=\"5 (lima)\",$B$3=\"6 (enam)\"),HLOOKUP($C$3,TABMAPEL_XII,DBLOGIC!DG2,FALSE),IF(OR($B$3=\"7 (tujuh)\",$B$3=\"8 (delapan)\"),HLOOKUP($C$3,TABMAPEL_XIII,DBLOGIC!DG2,FALSE),0))))","v":"-"},{"$f":"IF(OR($B$3=\"1 (satu)\",$B$3=\"2 (dua)\"),HLOOKUP($C$3,TABMAPEL_X,DBLOGIC!DH2,FALSE),IF(OR($B$3=\"3 (tiga)\",$B$3=\"4 (empat)\"),HLOOKUP($C$3,TABMAPEL_XI,DBLOGIC!DH2,FALSE),IF(OR($B$3=\"5 (lima)\",$B$3=\"6 (enam)\"),HLOOKUP($C$3,TABMAPEL_XII,DBLOGIC!DH2,FALSE),IF(OR($B$3=\"7 (tujuh)\",$B$3=\"8 (delapan)\"),HLOOKUP($C$3,TABMAPEL_XIII,DBLOGIC!DH2,FALSE),0))))","v":"-"},{"$f":"IF(OR($B$3=\"1 (satu)\",$B$3=\"2 (dua)\"),HLOOKUP($C$3,TABMAPEL_X,DBLOGIC!DI2,FALSE),IF(OR($B$3=\"3 (tiga)\",$B$3=\"4 (empat)\"),HLOOKUP($C$3,TABMAPEL_XI,DBLOGIC!DI2,FALSE),IF(OR($B$3=\"5 (lima)\",$B$3=\"6 (enam)\"),HLOOKUP($C$3,TABMAPEL_XII,DBLOGIC!DI2,FALSE),IF(OR($B$3=\"7 (tujuh)\",$B$3=\"8 (delapan)\"),HLOOKUP($C$3,TABMAPEL_XIII,DBLOGIC!DI2,FALSE),0))))","v":"-"},{"$f":"IF(OR($B$3=\"1 (satu)\",$B$3=\"2 (dua)\"),HLOOKUP($C$3,TABMAPEL_X,DBLOGIC!DJ2,FALSE),IF(OR($B$3=\"3 (tiga)\",$B$3=\"4 (empat)\"),HLOOKUP($C$3,TABMAPEL_XI,DBLOGIC!DJ2,FALSE),IF(OR($B$3=\"5 (lima)\",$B$3=\"6 (enam)\"),HLOOKUP($C$3,TABMAPEL_XII,DBLOGIC!DJ2,FALSE),IF(OR($B$3=\"7 (tujuh)\",$B$3=\"8 (delapan)\"),HLOOKUP($C$3,TABMAPEL_XIII,DBLOGIC!DJ2,FALSE),0))))","v":"-"},{"$f":"IF(OR($B$3=\"1 (satu)\",$B$3=\"2 (dua)\"),HLOOKUP($C$3,TABMAPEL_X,DBLOGIC!DK2,FALSE),IF(OR($B$3=\"3 (tiga)\",$B$3=\"4 (empat)\"),HLOOKUP($C$3,TABMAPEL_XI,DBLOGIC!DK2,FALSE),IF(OR($B$3=\"5 (lima)\",$B$3=\"6 (enam)\"),HLOOKUP($C$3,TABMAPEL_XII,DBLOGIC!DK2,FALSE),IF(OR($B$3=\"7 (tujuh)\",$B$3=\"8 (delapan)\"),HLOOKUP($C$3,TABMAPEL_XIII,DBLOGIC!DK2,FALSE),0))))","v":"-"},{"$f":"IF(OR($B$3=\"1 (satu)\",$B$3=\"2 (dua)\"),HLOOKUP($C$3,TABMAPEL_X,DBLOGIC!DL2,FALSE),IF(OR($B$3=\"3 (tiga)\",$B$3=\"4 (empat)\"),HLOOKUP($C$3,TABMAPEL_XI,DBLOGIC!DL2,FALSE),IF(OR($B$3=\"5 (lima)\",$B$3=\"6 (enam)\"),HLOOKUP($C$3,TABMAPEL_XII,DBLOGIC!DL2,FALSE),IF(OR($B$3=\"7 (tujuh)\",$B$3=\"8 (delapan)\"),HLOOKUP($C$3,TABMAPEL_XIII,DBLOGIC!DL2,FALSE),0))))","v":"-"},{"$f":"IF(OR($B$3=\"1 (satu)\",$B$3=\"2 (dua)\"),HLOOKUP($C$3,TABMAPEL_X,DBLOGIC!DM2,FALSE),IF(OR($B$3=\"3 (tiga)\",$B$3=\"4 (empat)\"),HLOOKUP($C$3,TABMAPEL_XI,DBLOGIC!DM2,FALSE),IF(OR($B$3=\"5 (lima)\",$B$3=\"6 (enam)\"),HLOOKUP($C$3,TABMAPEL_XII,DBLOGIC!DM2,FALSE),IF(OR($B$3=\"7 (tujuh)\",$B$3=\"8 (delapan)\"),HLOOKUP($C$3,TABMAPEL_XIII,DBLOGIC!DM2,FALSE),0))))","v":"-"},{"$f":"IF(OR($B$3=\"1 (satu)\",$B$3=\"2 (dua)\"),HLOOKUP($C$3,TABMAPEL_X,DBLOGIC!DN2,FALSE),IF(OR($B$3=\"3 (tiga)\",$B$3=\"4 (empat)\"),HLOOKUP($C$3,TABMAPEL_XI,DBLOGIC!DN2,FALSE),IF(OR($B$3=\"5 (lima)\",$B$3=\"6 (enam)\"),HLOOKUP($C$3,TABMAPEL_XII,DBLOGIC!DN2,FALSE),IF(OR($B$3=\"7 (tujuh)\",$B$3=\"8 (delapan)\"),HLOOKUP($C$3,TABMAPEL_XIII,DBLOGIC!DN2,FALSE),0))))","v":"-"},{"$f":"IF(OR($B$3=\"1 (satu)\",$B$3=\"2 (dua)\"),HLOOKUP($C$3,TABMAPEL_X,DBLOGIC!DO2,FALSE),IF(OR($B$3=\"3 (tiga)\",$B$3=\"4 (empat)\"),HLOOKUP($C$3,TABMAPEL_XI,DBLOGIC!DO2,FALSE),IF(OR($B$3=\"5 (lima)\",$B$3=\"6 (enam)\"),HLOOKUP($C$3,TABMAPEL_XII,DBLOGIC!DO2,FALSE),IF(OR($B$3=\"7 (tujuh)\",$B$3=\"8 (delapan)\"),HLOOKUP($C$3,TABMAPEL_XIII,DBLOGIC!DO2,FALSE),0))))","v":"-"},{"$f":"IF(OR($B$3=\"1 (satu)\",$B$3=\"2 (dua)\"),HLOOKUP($C$3,TABMAPEL_X,DBLOGIC!DP2,FALSE),IF(OR($B$3=\"3 (tiga)\",$B$3=\"4 (empat)\"),HLOOKUP($C$3,TABMAPEL_XI,DBLOGIC!DP2,FALSE),IF(OR($B$3=\"5 (lima)\",$B$3=\"6 (enam)\"),HLOOKUP($C$3,TABMAPEL_XII,DBLOGIC!DP2,FALSE),IF(OR($B$3=\"7 (tujuh)\",$B$3=\"8 (delapan)\"),HLOOKUP($C$3,TABMAPEL_XIII,DBLOGIC!DP2,FALSE),0))))","v":"-"},{"$f":"IF(OR($B$3=\"1 (satu)\",$B$3=\"2 (dua)\"),HLOOKUP($C$3,TABMAPEL_X,DBLOGIC!DQ2,FALSE),IF(OR($B$3=\"3 (tiga)\",$B$3=\"4 (empat)\"),HLOOKUP($C$3,TABMAPEL_XI,DBLOGIC!DQ2,FALSE),IF(OR($B$3=\"5 (lima)\",$B$3=\"6 (enam)\"),HLOOKUP($C$3,TABMAPEL_XII,DBLOGIC!DQ2,FALSE),IF(OR($B$3=\"7 (tujuh)\",$B$3=\"8 (delapan)\"),HLOOKUP($C$3,TABMAPEL_XIII,DBLOGIC!DQ2,FALSE),0))))","v":"-"},{"$f":"IF(OR($B$3=\"1 (satu)\",$B$3=\"2 (dua)\"),HLOOKUP($C$3,TABMAPEL_X,DBLOGIC!DR2,FALSE),IF(OR($B$3=\"3 (tiga)\",$B$3=\"4 (empat)\"),HLOOKUP($C$3,TABMAPEL_XI,DBLOGIC!DR2,FALSE),IF(OR($B$3=\"5 (lima)\",$B$3=\"6 (enam)\"),HLOOKUP($C$3,TABMAPEL_XII,DBLOGIC!DR2,FALSE),IF(OR($B$3=\"7 (tujuh)\",$B$3=\"8 (delapan)\"),HLOOKUP($C$3,TABMAPEL_XIII,DBLOGIC!DR2,FALSE),0))))","v":"-"},{"$f":"IF(OR($B$3=\"1 (satu)\",$B$3=\"2 (dua)\"),HLOOKUP($C$3,TABMAPEL_X,DBLOGIC!DS2,FALSE),IF(OR($B$3=\"3 (tiga)\",$B$3=\"4 (empat)\"),HLOOKUP($C$3,TABMAPEL_XI,DBLOGIC!DS2,FALSE),IF(OR($B$3=\"5 (lima)\",$B$3=\"6 (enam)\"),HLOOKUP($C$3,TABMAPEL_XII,DBLOGIC!DS2,FALSE),IF(OR($B$3=\"7 (tujuh)\",$B$3=\"8 (delapan)\"),HLOOKUP($C$3,TABMAPEL_XIII,DBLOGIC!DS2,FALSE),0))))","v":"-"},{"$f":"IF(OR($B$3=\"1 (satu)\",$B$3=\"2 (dua)\"),HLOOKUP($C$3,TABMAPEL_X,DBLOGIC!DT2,FALSE),IF(OR($B$3=\"3 (tiga)\",$B$3=\"4 (empat)\"),HLOOKUP($C$3,TABMAPEL_XI,DBLOGIC!DT2,FALSE),IF(OR($B$3=\"5 (lima)\",$B$3=\"6 (enam)\"),HLOOKUP($C$3,TABMAPEL_XII,DBLOGIC!DT2,FALSE),IF(OR($B$3=\"7 (tujuh)\",$B$3=\"8 (delapan)\"),HLOOKUP($C$3,TABMAPEL_XIII,DBLOGIC!DT2,FALSE),0))))","v":"-"},{"$f":"IF(OR($B$3=\"1 (satu)\",$B$3=\"2 (dua)\"),HLOOKUP($C$3,TABMAPEL_X,DBLOGIC!DU2,FALSE),IF(OR($B$3=\"3 (tiga)\",$B$3=\"4 (empat)\"),HLOOKUP($C$3,TABMAPEL_XI,DBLOGIC!DU2,FALSE),IF(OR($B$3=\"5 (lima)\",$B$3=\"6 (enam)\"),HLOOKUP($C$3,TABMAPEL_XII,DBLOGIC!DU2,FALSE),IF(OR($B$3=\"7 (tujuh)\",$B$3=\"8 (delapan)\"),HLOOKUP($C$3,TABMAPEL_XIII,DBLOGIC!DU2,FALSE),0))))","v":"-"},{"$f":"IF(OR($B$3=\"1 (satu)\",$B$3=\"2 (dua)\"),HLOOKUP($C$3,TABMAPEL_X,DBLOGIC!DV2,FALSE),IF(OR($B$3=\"3 (tiga)\",$B$3=\"4 (empat)\"),HLOOKUP($C$3,TABMAPEL_XI,DBLOGIC!DV2,FALSE),IF(OR($B$3=\"5 (lima)\",$B$3=\"6 (enam)\"),HLOOKUP($C$3,TABMAPEL_XII,DBLOGIC!DV2,FALSE),IF(OR($B$3=\"7 (tujuh)\",$B$3=\"8 (delapan)\"),HLOOKUP($C$3,TABMAPEL_XIII,DBLOGIC!DV2,FALSE),0))))","v":"-"},{"$f":"IF(OR($B$3=\"1 (satu)\",$B$3=\"2 (dua)\"),HLOOKUP($C$3,TABMAPEL_X,DBLOGIC!DW2,FALSE),IF(OR($B$3=\"3 (tiga)\",$B$3=\"4 (empat)\"),HLOOKUP($C$3,TABMAPEL_XI,DBLOGIC!DW2,FALSE),IF(OR($B$3=\"5 (lima)\",$B$3=\"6 (enam)\"),HLOOKUP($C$3,TABMAPEL_XII,DBLOGIC!DW2,FALSE),IF(OR($B$3=\"7 (tujuh)\",$B$3=\"8 (delapan)\"),HLOOKUP($C$3,TABMAPEL_XIII,DBLOGIC!DW2,FALSE),0))))","v":"-"},{"$f":"IF(OR($B$3=\"1 (satu)\",$B$3=\"2 (dua)\"),HLOOKUP($C$3,TABMAPEL_X,DBLOGIC!DX2,FALSE),IF(OR($B$3=\"3 (tiga)\",$B$3=\"4 (empat)\"),HLOOKUP($C$3,TABMAPEL_XI,DBLOGIC!DX2,FALSE),IF(OR($B$3=\"5 (lima)\",$B$3=\"6 (enam)\"),HLOOKUP($C$3,TABMAPEL_XII,DBLOGIC!DX2,FALSE),IF(OR($B$3=\"7 (tujuh)\",$B$3=\"8 (delapan)\"),HLOOKUP($C$3,TABMAPEL_XIII,DBLOGIC!DX2,FALSE),0))))","v":"-"},{"$f":"IF(OR($B$3=\"1 (satu)\",$B$3=\"2 (dua)\"),HLOOKUP($C$3,TABMAPEL_X,DBLOGIC!DY2,FALSE),IF(OR($B$3=\"3 (tiga)\",$B$3=\"4 (empat)\"),HLOOKUP($C$3,TABMAPEL_XI,DBLOGIC!DY2,FALSE),IF(OR($B$3=\"5 (lima)\",$B$3=\"6 (enam)\"),HLOOKUP($C$3,TABMAPEL_XII,DBLOGIC!DY2,FALSE),IF(OR($B$3=\"7 (tujuh)\",$B$3=\"8 (delapan)\"),HLOOKUP($C$3,TABMAPEL_XIII,DBLOGIC!DY2,FALSE),0))))","v":"Pemeliharaan Mesin Sepeda Motor"},{"$f":"IF(OR($B$3=\"1 (satu)\",$B$3=\"2 (dua)\"),HLOOKUP($C$3,TABMAPEL_X,DBLOGIC!DZ2,FALSE),IF(OR($B$3=\"3 (tiga)\",$B$3=\"4 (empat)\"),HLOOKUP($C$3,TABMAPEL_XI,DBLOGIC!DZ2,FALSE),IF(OR($B$3=\"5 (lima)\",$B$3=\"6 (enam)\"),HLOOKUP($C$3,TABMAPEL_XII,DBLOGIC!DZ2,FALSE),IF(OR($B$3=\"7 (tujuh)\",$B$3=\"8 (delapan)\"),HLOOKUP($C$3,TABMAPEL_XIII,DBLOGIC!DZ2,FALSE),0))))","v":"Pemeliharaan Mesin Sepeda Motor"},{"$f":"IF(OR($B$3=\"1 (satu)\",$B$3=\"2 (dua)\"),HLOOKUP($C$3,TABMAPEL_X,DBLOGIC!EA2,FALSE),IF(OR($B$3=\"3 (tiga)\",$B$3=\"4 (empat)\"),HLOOKUP($C$3,TABMAPEL_XI,DBLOGIC!EA2,FALSE),IF(OR($B$3=\"5 (lima)\",$B$3=\"6 (enam)\"),HLOOKUP($C$3,TABMAPEL_XII,DBLOGIC!EA2,FALSE),IF(OR($B$3=\"7 (tujuh)\",$B$3=\"8 (delapan)\"),HLOOKUP($C$3,TABMAPEL_XIII,DBLOGIC!EA2,FALSE),0))))","v":"Pemeliharaan Mesin Sepeda Motor"},{"$f":"IF(OR($B$3=\"1 (satu)\",$B$3=\"2 (dua)\"),HLOOKUP($C$3,TABMAPEL_X,DBLOGIC!EB2,FALSE),IF(OR($B$3=\"3 (tiga)\",$B$3=\"4 (empat)\"),HLOOKUP($C$3,TABMAPEL_XI,DBLOGIC!EB2,FALSE),IF(OR($B$3=\"5 (lima)\",$B$3=\"6 (enam)\"),HLOOKUP($C$3,TABMAPEL_XII,DBLOGIC!EB2,FALSE),IF(OR($B$3=\"7 (tujuh)\",$B$3=\"8 (delapan)\"),HLOOKUP($C$3,TABMAPEL_XIII,DBLOGIC!EB2,FALSE),0))))","v":"Pemeliharaan Mesin Sepeda Motor"},{"$f":"IF(OR($B$3=\"1 (satu)\",$B$3=\"2 (dua)\"),HLOOKUP($C$3,TABMAPEL_X,DBLOGIC!EC2,FALSE),IF(OR($B$3=\"3 (tiga)\",$B$3=\"4 (empat)\"),HLOOKUP($C$3,TABMAPEL_XI,DBLOGIC!EC2,FALSE),IF(OR($B$3=\"5 (lima)\",$B$3=\"6 (enam)\"),HLOOKUP($C$3,TABMAPEL_XII,DBLOGIC!EC2,FALSE),IF(OR($B$3=\"7 (tujuh)\",$B$3=\"8 (delapan)\"),HLOOKUP($C$3,TABMAPEL_XIII,DBLOGIC!EC2,FALSE),0))))","v":"Pemeliharaan Mesin Sepeda Motor"},{"$f":"IF(OR($B$3=\"1 (satu)\",$B$3=\"2 (dua)\"),HLOOKUP($C$3,TABMAPEL_X,DBLOGIC!ED2,FALSE),IF(OR($B$3=\"3 (tiga)\",$B$3=\"4 (empat)\"),HLOOKUP($C$3,TABMAPEL_XI,DBLOGIC!ED2,FALSE),IF(OR($B$3=\"5 (lima)\",$B$3=\"6 (enam)\"),HLOOKUP($C$3,TABMAPEL_XII,DBLOGIC!ED2,FALSE),IF(OR($B$3=\"7 (tujuh)\",$B$3=\"8 (delapan)\"),HLOOKUP($C$3,TABMAPEL_XIII,DBLOGIC!ED2,FALSE),0))))","v":"Pemeliharaan Mesin Sepeda Motor"},{"$f":"IF(OR($B$3=\"1 (satu)\",$B$3=\"2 (dua)\"),HLOOKUP($C$3,TABMAPEL_X,DBLOGIC!EE2,FALSE),IF(OR($B$3=\"3 (tiga)\",$B$3=\"4 (empat)\"),HLOOKUP($C$3,TABMAPEL_XI,DBLOGIC!EE2,FALSE),IF(OR($B$3=\"5 (lima)\",$B$3=\"6 (enam)\"),HLOOKUP($C$3,TABMAPEL_XII,DBLOGIC!EE2,FALSE),IF(OR($B$3=\"7 (tujuh)\",$B$3=\"8 (delapan)\"),HLOOKUP($C$3,TABMAPEL_XIII,DBLOGIC!EE2,FALSE),0))))","v":"Pemeliharaan Mesin Sepeda Motor"},{"$f":"IF(OR($B$3=\"1 (satu)\",$B$3=\"2 (dua)\"),HLOOKUP($C$3,TABMAPEL_X,DBLOGIC!EF2,FALSE),IF(OR($B$3=\"3 (tiga)\",$B$3=\"4 (empat)\"),HLOOKUP($C$3,TABMAPEL_XI,DBLOGIC!EF2,FALSE),IF(OR($B$3=\"5 (lima)\",$B$3=\"6 (enam)\"),HLOOKUP($C$3,TABMAPEL_XII,DBLOGIC!EF2,FALSE),IF(OR($B$3=\"7 (tujuh)\",$B$3=\"8 (delapan)\"),HLOOKUP($C$3,TABMAPEL_XIII,DBLOGIC!EF2,FALSE),0))))","v":"Pemeliharaan Sasis Sepeda Motor"},{"$f":"IF(OR($B$3=\"1 (satu)\",$B$3=\"2 (dua)\"),HLOOKUP($C$3,TABMAPEL_X,DBLOGIC!EG2,FALSE),IF(OR($B$3=\"3 (tiga)\",$B$3=\"4 (empat)\"),HLOOKUP($C$3,TABMAPEL_XI,DBLOGIC!EG2,FALSE),IF(OR($B$3=\"5 (lima)\",$B$3=\"6 (enam)\"),HLOOKUP($C$3,TABMAPEL_XII,DBLOGIC!EG2,FALSE),IF(OR($B$3=\"7 (tujuh)\",$B$3=\"8 (delapan)\"),HLOOKUP($C$3,TABMAPEL_XIII,DBLOGIC!EG2,FALSE),0))))","v":"Pemeliharaan Sasis Sepeda Motor"},{"$f":"IF(OR($B$3=\"1 (satu)\",$B$3=\"2 (dua)\"),HLOOKUP($C$3,TABMAPEL_X,DBLOGIC!EH2,FALSE),IF(OR($B$3=\"3 (tiga)\",$B$3=\"4 (empat)\"),HLOOKUP($C$3,TABMAPEL_XI,DBLOGIC!EH2,FALSE),IF(OR($B$3=\"5 (lima)\",$B$3=\"6 (enam)\"),HLOOKUP($C$3,TABMAPEL_XII,DBLOGIC!EH2,FALSE),IF(OR($B$3=\"7 (tujuh)\",$B$3=\"8 (delapan)\"),HLOOKUP($C$3,TABMAPEL_XIII,DBLOGIC!EH2,FALSE),0))))","v":"Pemeliharaan Sasis Sepeda Motor"},{"$f":"IF(OR($B$3=\"1 (satu)\",$B$3=\"2 (dua)\"),HLOOKUP($C$3,TABMAPEL_X,DBLOGIC!EI2,FALSE),IF(OR($B$3=\"3 (tiga)\",$B$3=\"4 (empat)\"),HLOOKUP($C$3,TABMAPEL_XI,DBLOGIC!EI2,FALSE),IF(OR($B$3=\"5 (lima)\",$B$3=\"6 (enam)\"),HLOOKUP($C$3,TABMAPEL_XII,DBLOGIC!EI2,FALSE),IF(OR($B$3=\"7 (tujuh)\",$B$3=\"8 (delapan)\"),HLOOKUP($C$3,TABMAPEL_XIII,DBLOGIC!EI2,FALSE),0))))","v":"Pemeliharaan Sasis Sepeda Motor"},{"$f":"IF(OR($B$3=\"1 (satu)\",$B$3=\"2 (dua)\"),HLOOKUP($C$3,TABMAPEL_X,DBLOGIC!EJ2,FALSE),IF(OR($B$3=\"3 (tiga)\",$B$3=\"4 (empat)\"),HLOOKUP($C$3,TABMAPEL_XI,DBLOGIC!EJ2,FALSE),IF(OR($B$3=\"5 (lima)\",$B$3=\"6 (enam)\"),HLOOKUP($C$3,TABMAPEL_XII,DBLOGIC!EJ2,FALSE),IF(OR($B$3=\"7 (tujuh)\",$B$3=\"8 (delapan)\"),HLOOKUP($C$3,TABMAPEL_XIII,DBLOGIC!EJ2,FALSE),0))))","v":"Pemeliharaan Sasis Sepeda Motor"},{"$f":"IF(OR($B$3=\"1 (satu)\",$B$3=\"2 (dua)\"),HLOOKUP($C$3,TABMAPEL_X,DBLOGIC!EK2,FALSE),IF(OR($B$3=\"3 (tiga)\",$B$3=\"4 (empat)\"),HLOOKUP($C$3,TABMAPEL_XI,DBLOGIC!EK2,FALSE),IF(OR($B$3=\"5 (lima)\",$B$3=\"6 (enam)\"),HLOOKUP($C$3,TABMAPEL_XII,DBLOGIC!EK2,FALSE),IF(OR($B$3=\"7 (tujuh)\",$B$3=\"8 (delapan)\"),HLOOKUP($C$3,TABMAPEL_XIII,DBLOGIC!EK2,FALSE),0))))","v":"Pemeliharaan Sasis Sepeda Motor"},{"$f":"IF(OR($B$3=\"1 (satu)\",$B$3=\"2 (dua)\"),HLOOKUP($C$3,TABMAPEL_X,DBLOGIC!EL2,FALSE),IF(OR($B$3=\"3 (tiga)\",$B$3=\"4 (empat)\"),HLOOKUP($C$3,TABMAPEL_XI,DBLOGIC!EL2,FALSE),IF(OR($B$3=\"5 (lima)\",$B$3=\"6 (enam)\"),HLOOKUP($C$3,TABMAPEL_XII,DBLOGIC!EL2,FALSE),IF(OR($B$3=\"7 (tujuh)\",$B$3=\"8 (delapan)\"),HLOOKUP($C$3,TABMAPEL_XIII,DBLOGIC!EL2,FALSE),0))))","v":"Pemeliharaan Sasis Sepeda Motor"},{"$f":"IF(OR($B$3=\"1 (satu)\",$B$3=\"2 (dua)\"),HLOOKUP($C$3,TABMAPEL_X,DBLOGIC!EM2,FALSE),IF(OR($B$3=\"3 (tiga)\",$B$3=\"4 (empat)\"),HLOOKUP($C$3,TABMAPEL_XI,DBLOGIC!EM2,FALSE),IF(OR($B$3=\"5 (lima)\",$B$3=\"6 (enam)\"),HLOOKUP($C$3,TABMAPEL_XII,DBLOGIC!EM2,FALSE),IF(OR($B$3=\"7 (tujuh)\",$B$3=\"8 (delapan)\"),HLOOKUP($C$3,TABMAPEL_XIII,DBLOGIC!EM2,FALSE),0))))","v":"Pemeliharaan Kelistrikan Sepeda Motor"},{"$f":"IF(OR($B$3=\"1 (satu)\",$B$3=\"2 (dua)\"),HLOOKUP($C$3,TABMAPEL_X,DBLOGIC!EN2,FALSE),IF(OR($B$3=\"3 (tiga)\",$B$3=\"4 (empat)\"),HLOOKUP($C$3,TABMAPEL_XI,DBLOGIC!EN2,FALSE),IF(OR($B$3=\"5 (lima)\",$B$3=\"6 (enam)\"),HLOOKUP($C$3,TABMAPEL_XII,DBLOGIC!EN2,FALSE),IF(OR($B$3=\"7 (tujuh)\",$B$3=\"8 (delapan)\"),HLOOKUP($C$3,TABMAPEL_XIII,DBLOGIC!EN2,FALSE),0))))","v":"Pemeliharaan Kelistrikan Sepeda Motor"},{"$f":"IF(OR($B$3=\"1 (satu)\",$B$3=\"2 (dua)\"),HLOOKUP($C$3,TABMAPEL_X,DBLOGIC!EO2,FALSE),IF(OR($B$3=\"3 (tiga)\",$B$3=\"4 (empat)\"),HLOOKUP($C$3,TABMAPEL_XI,DBLOGIC!EO2,FALSE),IF(OR($B$3=\"5 (lima)\",$B$3=\"6 (enam)\"),HLOOKUP($C$3,TABMAPEL_XII,DBLOGIC!EO2,FALSE),IF(OR($B$3=\"7 (tujuh)\",$B$3=\"8 (delapan)\"),HLOOKUP($C$3,TABMAPEL_XIII,DBLOGIC!EO2,FALSE),0))))","v":"Pemeliharaan Kelistrikan Sepeda Motor"},{"$f":"IF(OR($B$3=\"1 (satu)\",$B$3=\"2 (dua)\"),HLOOKUP($C$3,TABMAPEL_X,DBLOGIC!EP2,FALSE),IF(OR($B$3=\"3 (tiga)\",$B$3=\"4 (empat)\"),HLOOKUP($C$3,TABMAPEL_XI,DBLOGIC!EP2,FALSE),IF(OR($B$3=\"5 (lima)\",$B$3=\"6 (enam)\"),HLOOKUP($C$3,TABMAPEL_XII,DBLOGIC!EP2,FALSE),IF(OR($B$3=\"7 (tujuh)\",$B$3=\"8 (delapan)\"),HLOOKUP($C$3,TABMAPEL_XIII,DBLOGIC!EP2,FALSE),0))))","v":"Pemeliharaan Kelistrikan Sepeda Motor"},{"$f":"IF(OR($B$3=\"1 (satu)\",$B$3=\"2 (dua)\"),HLOOKUP($C$3,TABMAPEL_X,DBLOGIC!EQ2,FALSE),IF(OR($B$3=\"3 (tiga)\",$B$3=\"4 (empat)\"),HLOOKUP($C$3,TABMAPEL_XI,DBLOGIC!EQ2,FALSE),IF(OR($B$3=\"5 (lima)\",$B$3=\"6 (enam)\"),HLOOKUP($C$3,TABMAPEL_XII,DBLOGIC!EQ2,FALSE),IF(OR($B$3=\"7 (tujuh)\",$B$3=\"8 (delapan)\"),HLOOKUP($C$3,TABMAPEL_XIII,DBLOGIC!EQ2,FALSE),0))))","v":"Pemeliharaan Kelistrikan Sepeda Motor"},{"$f":"IF(OR($B$3=\"1 (satu)\",$B$3=\"2 (dua)\"),HLOOKUP($C$3,TABMAPEL_X,DBLOGIC!ER2,FALSE),IF(OR($B$3=\"3 (tiga)\",$B$3=\"4 (empat)\"),HLOOKUP($C$3,TABMAPEL_XI,DBLOGIC!ER2,FALSE),IF(OR($B$3=\"5 (lima)\",$B$3=\"6 (enam)\"),HLOOKUP($C$3,TABMAPEL_XII,DBLOGIC!ER2,FALSE),IF(OR($B$3=\"7 (tujuh)\",$B$3=\"8 (delapan)\"),HLOOKUP($C$3,TABMAPEL_XIII,DBLOGIC!ER2,FALSE),0))))","v":"Pemeliharaan Kelistrikan Sepeda Motor"},{"$f":"IF(OR($B$3=\"1 (satu)\",$B$3=\"2 (dua)\"),HLOOKUP($C$3,TABMAPEL_X,DBLOGIC!ES2,FALSE),IF(OR($B$3=\"3 (tiga)\",$B$3=\"4 (empat)\"),HLOOKUP($C$3,TABMAPEL_XI,DBLOGIC!ES2,FALSE),IF(OR($B$3=\"5 (lima)\",$B$3=\"6 (enam)\"),HLOOKUP($C$3,TABMAPEL_XII,DBLOGIC!ES2,FALSE),IF(OR($B$3=\"7 (tujuh)\",$B$3=\"8 (delapan)\"),HLOOKUP($C$3,TABMAPEL_XIII,DBLOGIC!ES2,FALSE),0))))","v":"Pemeliharaan Kelistrikan Sepeda Motor"},{"$f":"IF(OR($B$3=\"1 (satu)\",$B$3=\"2 (dua)\"),HLOOKUP($C$3,TABMAPEL_X,DBLOGIC!ET2,FALSE),IF(OR($B$3=\"3 (tiga)\",$B$3=\"4 (empat)\"),HLOOKUP($C$3,TABMAPEL_XI,DBLOGIC!ET2,FALSE),IF(OR($B$3=\"5 (lima)\",$B$3=\"6 (enam)\"),HLOOKUP($C$3,TABMAPEL_XII,DBLOGIC!ET2,FALSE),IF(OR($B$3=\"7 (tujuh)\",$B$3=\"8 (delapan)\"),HLOOKUP($C$3,TABMAPEL_XIII,DBLOGIC!ET2,FALSE),0))))","v":"-"},{"$f":"IF(OR($B$3=\"1 (satu)\",$B$3=\"2 (dua)\"),HLOOKUP($C$3,TABMAPEL_X,DBLOGIC!EU2,FALSE),IF(OR($B$3=\"3 (tiga)\",$B$3=\"4 (empat)\"),HLOOKUP($C$3,TABMAPEL_XI,DBLOGIC!EU2,FALSE),IF(OR($B$3=\"5 (lima)\",$B$3=\"6 (enam)\"),HLOOKUP($C$3,TABMAPEL_XII,DBLOGIC!EU2,FALSE),IF(OR($B$3=\"7 (tujuh)\",$B$3=\"8 (delapan)\"),HLOOKUP($C$3,TABMAPEL_XIII,DBLOGIC!EU2,FALSE),0))))","v":"-"},{"$f":"IF(OR($B$3=\"1 (satu)\",$B$3=\"2 (dua)\"),HLOOKUP($C$3,TABMAPEL_X,DBLOGIC!EV2,FALSE),IF(OR($B$3=\"3 (tiga)\",$B$3=\"4 (empat)\"),HLOOKUP($C$3,TABMAPEL_XI,DBLOGIC!EV2,FALSE),IF(OR($B$3=\"5 (lima)\",$B$3=\"6 (enam)\"),HLOOKUP($C$3,TABMAPEL_XII,DBLOGIC!EV2,FALSE),IF(OR($B$3=\"7 (tujuh)\",$B$3=\"8 (delapan)\"),HLOOKUP($C$3,TABMAPEL_XIII,DBLOGIC!EV2,FALSE),0))))","v":"-"},{"$f":"IF(OR($B$3=\"1 (satu)\",$B$3=\"2 (dua)\"),HLOOKUP($C$3,TABMAPEL_X,DBLOGIC!EW2,FALSE),IF(OR($B$3=\"3 (tiga)\",$B$3=\"4 (empat)\"),HLOOKUP($C$3,TABMAPEL_XI,DBLOGIC!EW2,FALSE),IF(OR($B$3=\"5 (lima)\",$B$3=\"6 (enam)\"),HLOOKUP($C$3,TABMAPEL_XII,DBLOGIC!EW2,FALSE),IF(OR($B$3=\"7 (tujuh)\",$B$3=\"8 (delapan)\"),HLOOKUP($C$3,TABMAPEL_XIII,DBLOGIC!EW2,FALSE),0))))","v":"-"},{"$f":"IF(OR($B$3=\"1 (satu)\",$B$3=\"2 (dua)\"),HLOOKUP($C$3,TABMAPEL_X,DBLOGIC!EX2,FALSE),IF(OR($B$3=\"3 (tiga)\",$B$3=\"4 (empat)\"),HLOOKUP($C$3,TABMAPEL_XI,DBLOGIC!EX2,FALSE),IF(OR($B$3=\"5 (lima)\",$B$3=\"6 (enam)\"),HLOOKUP($C$3,TABMAPEL_XII,DBLOGIC!EX2,FALSE),IF(OR($B$3=\"7 (tujuh)\",$B$3=\"8 (delapan)\"),HLOOKUP($C$3,TABMAPEL_XIII,DBLOGIC!EX2,FALSE),0))))","v":"-"},{"$f":"IF(OR($B$3=\"1 (satu)\",$B$3=\"2 (dua)\"),HLOOKUP($C$3,TABMAPEL_X,DBLOGIC!EY2,FALSE),IF(OR($B$3=\"3 (tiga)\",$B$3=\"4 (empat)\"),HLOOKUP($C$3,TABMAPEL_XI,DBLOGIC!EY2,FALSE),IF(OR($B$3=\"5 (lima)\",$B$3=\"6 (enam)\"),HLOOKUP($C$3,TABMAPEL_XII,DBLOGIC!EY2,FALSE),IF(OR($B$3=\"7 (tujuh)\",$B$3=\"8 (delapan)\"),HLOOKUP($C$3,TABMAPEL_XIII,DBLOGIC!EY2,FALSE),0))))","v":"-"},{"$f":"IF(OR($B$3=\"1 (satu)\",$B$3=\"2 (dua)\"),HLOOKUP($C$3,TABMAPEL_X,DBLOGIC!EZ2,FALSE),IF(OR($B$3=\"3 (tiga)\",$B$3=\"4 (empat)\"),HLOOKUP($C$3,TABMAPEL_XI,DBLOGIC!EZ2,FALSE),IF(OR($B$3=\"5 (lima)\",$B$3=\"6 (enam)\"),HLOOKUP($C$3,TABMAPEL_XII,DBLOGIC!EZ2,FALSE),IF(OR($B$3=\"7 (tujuh)\",$B$3=\"8 (delapan)\"),HLOOKUP($C$3,TABMAPEL_XIII,DBLOGIC!EZ2,FALSE),0))))","v":"-"},{"$f":"IF(OR($B$3=\"1 (satu)\",$B$3=\"2 (dua)\"),HLOOKUP($C$3,TABMAPEL_X,DBLOGIC!FA2,FALSE),IF(OR($B$3=\"3 (tiga)\",$B$3=\"4 (empat)\"),HLOOKUP($C$3,TABMAPEL_XI,DBLOGIC!FA2,FALSE),IF(OR($B$3=\"5 (lima)\",$B$3=\"6 (enam)\"),HLOOKUP($C$3,TABMAPEL_XII,DBLOGIC!FA2,FALSE),IF(OR($B$3=\"7 (tujuh)\",$B$3=\"8 (delapan)\"),HLOOKUP($C$3,TABMAPEL_XIII,DBLOGIC!FA2,FALSE),0))))","v":"-"},{"$f":"IF(OR($B$3=\"1 (satu)\",$B$3=\"2 (dua)\"),HLOOKUP($C$3,TABMAPEL_X,DBLOGIC!FB2,FALSE),IF(OR($B$3=\"3 (tiga)\",$B$3=\"4 (empat)\"),HLOOKUP($C$3,TABMAPEL_XI,DBLOGIC!FB2,FALSE),IF(OR($B$3=\"5 (lima)\",$B$3=\"6 (enam)\"),HLOOKUP($C$3,TABMAPEL_XII,DBLOGIC!FB2,FALSE),IF(OR($B$3=\"7 (tujuh)\",$B$3=\"8 (delapan)\"),HLOOKUP($C$3,TABMAPEL_XIII,DBLOGIC!FB2,FALSE),0))))","v":"-"},{"$f":"IF(OR($B$3=\"1 (satu)\",$B$3=\"2 (dua)\"),HLOOKUP($C$3,TABMAPEL_X,DBLOGIC!FC2,FALSE),IF(OR($B$3=\"3 (tiga)\",$B$3=\"4 (empat)\"),HLOOKUP($C$3,TABMAPEL_XI,DBLOGIC!FC2,FALSE),IF(OR($B$3=\"5 (lima)\",$B$3=\"6 (enam)\"),HLOOKUP($C$3,TABMAPEL_XII,DBLOGIC!FC2,FALSE),IF(OR($B$3=\"7 (tujuh)\",$B$3=\"8 (delapan)\"),HLOOKUP($C$3,TABMAPEL_XIII,DBLOGIC!FC2,FALSE),0))))","v":"-"},{"$f":"IF(OR($B$3=\"1 (satu)\",$B$3=\"2 (dua)\"),HLOOKUP($C$3,TABMAPEL_X,DBLOGIC!FD2,FALSE),IF(OR($B$3=\"3 (tiga)\",$B$3=\"4 (empat)\"),HLOOKUP($C$3,TABMAPEL_XI,DBLOGIC!FD2,FALSE),IF(OR($B$3=\"5 (lima)\",$B$3=\"6 (enam)\"),HLOOKUP($C$3,TABMAPEL_XII,DBLOGIC!FD2,FALSE),IF(OR($B$3=\"7 (tujuh)\",$B$3=\"8 (delapan)\"),HLOOKUP($C$3,TABMAPEL_XIII,DBLOGIC!FD2,FALSE),0))))","v":"-"},{"$f":"IF(OR($B$3=\"1 (satu)\",$B$3=\"2 (dua)\"),HLOOKUP($C$3,TABMAPEL_X,DBLOGIC!FE2,FALSE),IF(OR($B$3=\"3 (tiga)\",$B$3=\"4 (empat)\"),HLOOKUP($C$3,TABMAPEL_XI,DBLOGIC!FE2,FALSE),IF(OR($B$3=\"5 (lima)\",$B$3=\"6 (enam)\"),HLOOKUP($C$3,TABMAPEL_XII,DBLOGIC!FE2,FALSE),IF(OR($B$3=\"7 (tujuh)\",$B$3=\"8 (delapan)\"),HLOOKUP($C$3,TABMAPEL_XIII,DBLOGIC!FE2,FALSE),0))))","v":"-"},{"$f":"IF(OR($B$3=\"1 (satu)\",$B$3=\"2 (dua)\"),HLOOKUP($C$3,TABMAPEL_X,DBLOGIC!FF2,FALSE),IF(OR($B$3=\"3 (tiga)\",$B$3=\"4 (empat)\"),HLOOKUP($C$3,TABMAPEL_XI,DBLOGIC!FF2,FALSE),IF(OR($B$3=\"5 (lima)\",$B$3=\"6 (enam)\"),HLOOKUP($C$3,TABMAPEL_XII,DBLOGIC!FF2,FALSE),IF(OR($B$3=\"7 (tujuh)\",$B$3=\"8 (delapan)\"),HLOOKUP($C$3,TABMAPEL_XIII,DBLOGIC!FF2,FALSE),0))))","v":"-"},{"$f":"IF(OR($B$3=\"1 (satu)\",$B$3=\"2 (dua)\"),HLOOKUP($C$3,TABMAPEL_X,DBLOGIC!FG2,FALSE),IF(OR($B$3=\"3 (tiga)\",$B$3=\"4 (empat)\"),HLOOKUP($C$3,TABMAPEL_XI,DBLOGIC!FG2,FALSE),IF(OR($B$3=\"5 (lima)\",$B$3=\"6 (enam)\"),HLOOKUP($C$3,TABMAPEL_XII,DBLOGIC!FG2,FALSE),IF(OR($B$3=\"7 (tujuh)\",$B$3=\"8 (delapan)\"),HLOOKUP($C$3,TABMAPEL_XIII,DBLOGIC!FG2,FALSE),0))))","v":"-"},{"$f":"IF(OR($B$3=\"1 (satu)\",$B$3=\"2 (dua)\"),HLOOKUP($C$3,TABMAPEL_X,DBLOGIC!FH2,FALSE),IF(OR($B$3=\"3 (tiga)\",$B$3=\"4 (empat)\"),HLOOKUP($C$3,TABMAPEL_XI,DBLOGIC!FH2,FALSE),IF(OR($B$3=\"5 (lima)\",$B$3=\"6 (enam)\"),HLOOKUP($C$3,TABMAPEL_XII,DBLOGIC!FH2,FALSE),IF(OR($B$3=\"7 (tujuh)\",$B$3=\"8 (delapan)\"),HLOOKUP($C$3,TABMAPEL_XIII,DBLOGIC!FH2,FALSE),0))))","v":"Produk Kreatif dan Kewirausahaan "},{"$f":"IF(OR($B$3=\"1 (satu)\",$B$3=\"2 (dua)\"),HLOOKUP($C$3,TABMAPEL_X,DBLOGIC!FI2,FALSE),IF(OR($B$3=\"3 (tiga)\",$B$3=\"4 (empat)\"),HLOOKUP($C$3,TABMAPEL_XI,DBLOGIC!FI2,FALSE),IF(OR($B$3=\"5 (lima)\",$B$3=\"6 (enam)\"),HLOOKUP($C$3,TABMAPEL_XII,DBLOGIC!FI2,FALSE),IF(OR($B$3=\"7 (tujuh)\",$B$3=\"8 (delapan)\"),HLOOKUP($C$3,TABMAPEL_XIII,DBLOGIC!FI2,FALSE),0))))","v":"Produk Kreatif dan Kewirausahaan "},{"$f":"IF(OR($B$3=\"1 (satu)\",$B$3=\"2 (dua)\"),HLOOKUP($C$3,TABMAPEL_X,DBLOGIC!FJ2,FALSE),IF(OR($B$3=\"3 (tiga)\",$B$3=\"4 (empat)\"),HLOOKUP($C$3,TABMAPEL_XI,DBLOGIC!FJ2,FALSE),IF(OR($B$3=\"5 (lima)\",$B$3=\"6 (enam)\"),HLOOKUP($C$3,TABMAPEL_XII,DBLOGIC!FJ2,FALSE),IF(OR($B$3=\"7 (tujuh)\",$B$3=\"8 (delapan)\"),HLOOKUP($C$3,TABMAPEL_XIII,DBLOGIC!FJ2,FALSE),0))))","v":"Produk Kreatif dan Kewirausahaan "},{"$f":"IF(OR($B$3=\"1 (satu)\",$B$3=\"2 (dua)\"),HLOOKUP($C$3,TABMAPEL_X,DBLOGIC!FK2,FALSE),IF(OR($B$3=\"3 (tiga)\",$B$3=\"4 (empat)\"),HLOOKUP($C$3,TABMAPEL_XI,DBLOGIC!FK2,FALSE),IF(OR($B$3=\"5 (lima)\",$B$3=\"6 (enam)\"),HLOOKUP($C$3,TABMAPEL_XII,DBLOGIC!FK2,FALSE),IF(OR($B$3=\"7 (tujuh)\",$B$3=\"8 (delapan)\"),HLOOKUP($C$3,TABMAPEL_XIII,DBLOGIC!FK2,FALSE),0))))","v":"Produk Kreatif dan Kewirausahaan "},{"$f":"IF(OR($B$3=\"1 (satu)\",$B$3=\"2 (dua)\"),HLOOKUP($C$3,TABMAPEL_X,DBLOGIC!FL2,FALSE),IF(OR($B$3=\"3 (tiga)\",$B$3=\"4 (empat)\"),HLOOKUP($C$3,TABMAPEL_XI,DBLOGIC!FL2,FALSE),IF(OR($B$3=\"5 (lima)\",$B$3=\"6 (enam)\"),HLOOKUP($C$3,TABMAPEL_XII,DBLOGIC!FL2,FALSE),IF(OR($B$3=\"7 (tujuh)\",$B$3=\"8 (delapan)\"),HLOOKUP($C$3,TABMAPEL_XIII,DBLOGIC!FL2,FALSE),0))))","v":"Produk Kreatif dan Kewirausahaan "},{"$f":"IF(OR($B$3=\"1 (satu)\",$B$3=\"2 (dua)\"),HLOOKUP($C$3,TABMAPEL_X,DBLOGIC!FM2,FALSE),IF(OR($B$3=\"3 (tiga)\",$B$3=\"4 (empat)\"),HLOOKUP($C$3,TABMAPEL_XI,DBLOGIC!FM2,FALSE),IF(OR($B$3=\"5 (lima)\",$B$3=\"6 (enam)\"),HLOOKUP($C$3,TABMAPEL_XII,DBLOGIC!FM2,FALSE),IF(OR($B$3=\"7 (tujuh)\",$B$3=\"8 (delapan)\"),HLOOKUP($C$3,TABMAPEL_XIII,DBLOGIC!FM2,FALSE),0))))","v":"Produk Kreatif dan Kewirausahaan "},{"$f":"IF(OR($B$3=\"1 (satu)\",$B$3=\"2 (dua)\"),HLOOKUP($C$3,TABMAPEL_X,DBLOGIC!FN2,FALSE),IF(OR($B$3=\"3 (tiga)\",$B$3=\"4 (empat)\"),HLOOKUP($C$3,TABMAPEL_XI,DBLOGIC!FN2,FALSE),IF(OR($B$3=\"5 (lima)\",$B$3=\"6 (enam)\"),HLOOKUP($C$3,TABMAPEL_XII,DBLOGIC!FN2,FALSE),IF(OR($B$3=\"7 (tujuh)\",$B$3=\"8 (delapan)\"),HLOOKUP($C$3,TABMAPEL_XIII,DBLOGIC!FN2,FALSE),0))))","v":"Produk Kreatif dan Kewirausahaan "},{"$f":"IF(OR($B$3=\"1 (satu)\",$B$3=\"2 (dua)\"),HLOOKUP($C$3,TABMAPEL_X,DBLOGIC!FO2,FALSE),IF(OR($B$3=\"3 (tiga)\",$B$3=\"4 (empat)\"),HLOOKUP($C$3,TABMAPEL_XI,DBLOGIC!FO2,FALSE),IF(OR($B$3=\"5 (lima)\",$B$3=\"6 (enam)\"),HLOOKUP($C$3,TABMAPEL_XII,DBLOGIC!FO2,FALSE),IF(OR($B$3=\"7 (tujuh)\",$B$3=\"8 (delapan)\"),HLOOKUP($C$3,TABMAPEL_XIII,DBLOGIC!FO2,FALSE),0))))","v":"-"},{"$f":"IF(OR($B$3=\"1 (satu)\",$B$3=\"2 (dua)\"),HLOOKUP($C$3,TABMAPEL_X,DBLOGIC!FP2,FALSE),IF(OR($B$3=\"3 (tiga)\",$B$3=\"4 (empat)\"),HLOOKUP($C$3,TABMAPEL_XI,DBLOGIC!FP2,FALSE),IF(OR($B$3=\"5 (lima)\",$B$3=\"6 (enam)\"),HLOOKUP($C$3,TABMAPEL_XII,DBLOGIC!FP2,FALSE),IF(OR($B$3=\"7 (tujuh)\",$B$3=\"8 (delapan)\"),HLOOKUP($C$3,TABMAPEL_XIII,DBLOGIC!FP2,FALSE),0))))","v":"-"},{"$f":"IF(OR($B$3=\"1 (satu)\",$B$3=\"2 (dua)\"),HLOOKUP($C$3,TABMAPEL_X,DBLOGIC!FQ2,FALSE),IF(OR($B$3=\"3 (tiga)\",$B$3=\"4 (empat)\"),HLOOKUP($C$3,TABMAPEL_XI,DBLOGIC!FQ2,FALSE),IF(OR($B$3=\"5 (lima)\",$B$3=\"6 (enam)\"),HLOOKUP($C$3,TABMAPEL_XII,DBLOGIC!FQ2,FALSE),IF(OR($B$3=\"7 (tujuh)\",$B$3=\"8 (delapan)\"),HLOOKUP($C$3,TABMAPEL_XIII,DBLOGIC!FQ2,FALSE),0))))","v":"-"},{"$f":"IF(OR($B$3=\"1 (satu)\",$B$3=\"2 (dua)\"),HLOOKUP($C$3,TABMAPEL_X,DBLOGIC!FR2,FALSE),IF(OR($B$3=\"3 (tiga)\",$B$3=\"4 (empat)\"),HLOOKUP($C$3,TABMAPEL_XI,DBLOGIC!FR2,FALSE),IF(OR($B$3=\"5 (lima)\",$B$3=\"6 (enam)\"),HLOOKUP($C$3,TABMAPEL_XII,DBLOGIC!FR2,FALSE),IF(OR($B$3=\"7 (tujuh)\",$B$3=\"8 (delapan)\"),HLOOKUP($C$3,TABMAPEL_XIII,DBLOGIC!FR2,FALSE),0))))","v":"-"},{"$f":"IF(OR($B$3=\"1 (satu)\",$B$3=\"2 (dua)\"),HLOOKUP($C$3,TABMAPEL_X,DBLOGIC!FS2,FALSE),IF(OR($B$3=\"3 (tiga)\",$B$3=\"4 (empat)\"),HLOOKUP($C$3,TABMAPEL_XI,DBLOGIC!FS2,FALSE),IF(OR($B$3=\"5 (lima)\",$B$3=\"6 (enam)\"),HLOOKUP($C$3,TABMAPEL_XII,DBLOGIC!FS2,FALSE),IF(OR($B$3=\"7 (tujuh)\",$B$3=\"8 (delapan)\"),HLOOKUP($C$3,TABMAPEL_XIII,DBLOGIC!FS2,FALSE),0))))","v":"-"},{"$f":"IF(OR($B$3=\"1 (satu)\",$B$3=\"2 (dua)\"),HLOOKUP($C$3,TABMAPEL_X,DBLOGIC!FT2,FALSE),IF(OR($B$3=\"3 (tiga)\",$B$3=\"4 (empat)\"),HLOOKUP($C$3,TABMAPEL_XI,DBLOGIC!FT2,FALSE),IF(OR($B$3=\"5 (lima)\",$B$3=\"6 (enam)\"),HLOOKUP($C$3,TABMAPEL_XII,DBLOGIC!FT2,FALSE),IF(OR($B$3=\"7 (tujuh)\",$B$3=\"8 (delapan)\"),HLOOKUP($C$3,TABMAPEL_XIII,DBLOGIC!FT2,FALSE),0))))","v":"-"},{"$f":"IF(OR($B$3=\"1 (satu)\",$B$3=\"2 (dua)\"),HLOOKUP($C$3,TABMAPEL_X,DBLOGIC!FU2,FALSE),IF(OR($B$3=\"3 (tiga)\",$B$3=\"4 (empat)\"),HLOOKUP($C$3,TABMAPEL_XI,DBLOGIC!FU2,FALSE),IF(OR($B$3=\"5 (lima)\",$B$3=\"6 (enam)\"),HLOOKUP($C$3,TABMAPEL_XII,DBLOGIC!FU2,FALSE),IF(OR($B$3=\"7 (tujuh)\",$B$3=\"8 (delapan)\"),HLOOKUP($C$3,TABMAPEL_XIII,DBLOGIC!FU2,FALSE),0))))","v":"-"},{"$f":"IF(OR($B$3=\"1 (satu)\",$B$3=\"2 (dua)\"),HLOOKUP($C$3,TABMAPEL_X,DBLOGIC!FV2,FALSE),IF(OR($B$3=\"3 (tiga)\",$B$3=\"4 (empat)\"),HLOOKUP($C$3,TABMAPEL_XI,DBLOGIC!FV2,FALSE),IF(OR($B$3=\"5 (lima)\",$B$3=\"6 (enam)\"),HLOOKUP($C$3,TABMAPEL_XII,DBLOGIC!FV2,FALSE),IF(OR($B$3=\"7 (tujuh)\",$B$3=\"8 (delapan)\"),HLOOKUP($C$3,TABMAPEL_XIII,DBLOGIC!FV2,FALSE),0))))","v":"-"},{"$f":"IF(OR($B$3=\"1 (satu)\",$B$3=\"2 (dua)\"),HLOOKUP($C$3,TABMAPEL_X,DBLOGIC!FW2,FALSE),IF(OR($B$3=\"3 (tiga)\",$B$3=\"4 (empat)\"),HLOOKUP($C$3,TABMAPEL_XI,DBLOGIC!FW2,FALSE),IF(OR($B$3=\"5 (lima)\",$B$3=\"6 (enam)\"),HLOOKUP($C$3,TABMAPEL_XII,DBLOGIC!FW2,FALSE),IF(OR($B$3=\"7 (tujuh)\",$B$3=\"8 (delapan)\"),HLOOKUP($C$3,TABMAPEL_XIII,DBLOGIC!FW2,FALSE),0))))","v":"-"},{"$f":"IF(OR($B$3=\"1 (satu)\",$B$3=\"2 (dua)\"),HLOOKUP($C$3,TABMAPEL_X,DBLOGIC!FX2,FALSE),IF(OR($B$3=\"3 (tiga)\",$B$3=\"4 (empat)\"),HLOOKUP($C$3,TABMAPEL_XI,DBLOGIC!FX2,FALSE),IF(OR($B$3=\"5 (lima)\",$B$3=\"6 (enam)\"),HLOOKUP($C$3,TABMAPEL_XII,DBLOGIC!FX2,FALSE),IF(OR($B$3=\"7 (tujuh)\",$B$3=\"8 (delapan)\"),HLOOKUP($C$3,TABMAPEL_XIII,DBLOGIC!FX2,FALSE),0))))","v":"-"},{"$f":"IF(OR($B$3=\"1 (satu)\",$B$3=\"2 (dua)\"),HLOOKUP($C$3,TABMAPEL_X,DBLOGIC!FY2,FALSE),IF(OR($B$3=\"3 (tiga)\",$B$3=\"4 (empat)\"),HLOOKUP($C$3,TABMAPEL_XI,DBLOGIC!FY2,FALSE),IF(OR($B$3=\"5 (lima)\",$B$3=\"6 (enam)\"),HLOOKUP($C$3,TABMAPEL_XII,DBLOGIC!FY2,FALSE),IF(OR($B$3=\"7 (tujuh)\",$B$3=\"8 (delapan)\"),HLOOKUP($C$3,TABMAPEL_XIII,DBLOGIC!FY2,FALSE),0))))","v":"-"},{"$f":"IF(OR($B$3=\"1 (satu)\",$B$3=\"2 (dua)\"),HLOOKUP($C$3,TABMAPEL_X,DBLOGIC!FZ2,FALSE),IF(OR($B$3=\"3 (tiga)\",$B$3=\"4 (empat)\"),HLOOKUP($C$3,TABMAPEL_XI,DBLOGIC!FZ2,FALSE),IF(OR($B$3=\"5 (lima)\",$B$3=\"6 (enam)\"),HLOOKUP($C$3,TABMAPEL_XII,DBLOGIC!FZ2,FALSE),IF(OR($B$3=\"7 (tujuh)\",$B$3=\"8 (delapan)\"),HLOOKUP($C$3,TABMAPEL_XIII,DBLOGIC!FZ2,FALSE),0))))","v":"-"},{"$f":"IF(OR($B$3=\"1 (satu)\",$B$3=\"2 (dua)\"),HLOOKUP($C$3,TABMAPEL_X,DBLOGIC!GA2,FALSE),IF(OR($B$3=\"3 (tiga)\",$B$3=\"4 (empat)\"),HLOOKUP($C$3,TABMAPEL_XI,DBLOGIC!GA2,FALSE),IF(OR($B$3=\"5 (lima)\",$B$3=\"6 (enam)\"),HLOOKUP($C$3,TABMAPEL_XII,DBLOGIC!GA2,FALSE),IF(OR($B$3=\"7 (tujuh)\",$B$3=\"8 (delapan)\"),HLOOKUP($C$3,TABMAPEL_XIII,DBLOGIC!GA2,FALSE),0))))","v":"-"},{"$f":"IF(OR($B$3=\"1 (satu)\",$B$3=\"2 (dua)\"),HLOOKUP($C$3,TABMAPEL_X,DBLOGIC!GB2,FALSE),IF(OR($B$3=\"3 (tiga)\",$B$3=\"4 (empat)\"),HLOOKUP($C$3,TABMAPEL_XI,DBLOGIC!GB2,FALSE),IF(OR($B$3=\"5 (lima)\",$B$3=\"6 (enam)\"),HLOOKUP($C$3,TABMAPEL_XII,DBLOGIC!GB2,FALSE),IF(OR($B$3=\"7 (tujuh)\",$B$3=\"8 (delapan)\"),HLOOKUP($C$3,TABMAPEL_XIII,DBLOGIC!GB2,FALSE),0))))","v":"-"},null,"Bimbingan dan Konseling","Catatan Aakdemik"]
["Semester  :","4 (empat)",{"$f":"IF(OR(B3=\"1 (satu)\",B3=\"2 (dua)\"),\"X \"&MENU!F8,IF(OR(B3=\"3 (tiga)\",B3=\"4 (empat)\"),\"XI \"&MENU!F8,IF(OR(B3=\"5 (lima)\",B3=\"6 (enam)\"),\"XII \"&MENU!F8,\"\")))","v":"XI TBSM"},{"$f":"HLOOKUP(\"KEL\",TABMAPEL_X,DBLOGIC!Q2,FALSE)","v":"A"},{"$f":"HLOOKUP(\"KEL\",TABMAPEL_X,DBLOGIC!R2,FALSE)","v":"A"},{"$f":"HLOOKUP(\"KEL\",TABMAPEL_X,DBLOGIC!S2,FALSE)","v":"A"},{"$f":"HLOOKUP(\"KEL\",TABMAPEL_X,DBLOGIC!T2,FALSE)","v":"A"},{"$f":"HLOOKUP(\"KEL\",TABMAPEL_X,DBLOGIC!U2,FALSE)","v":"A"},{"$f":"HLOOKUP(\"KEL\",TABMAPEL_X,DBLOGIC!V2,FALSE)","v":"A"},{"$f":"HLOOKUP(\"KEL\",TABMAPEL_X,DBLOGIC!W2,FALSE)","v":"A"},{"$f":"HLOOKUP(\"KEL\",TABMAPEL_X,DBLOGIC!X2,FALSE)","v":"A"},{"$f":"HLOOKUP(\"KEL\",TABMAPEL_X,DBLOGIC!Y2,FALSE)","v":"A"},{"$f":"HLOOKUP(\"KEL\",TABMAPEL_X,DBLOGIC!Z2,FALSE)","v":"A"},{"$f":"HLOOKUP(\"KEL\",TABMAPEL_X,DBLOGIC!AA2,FALSE)","v":"A"},{"$f":"HLOOKUP(\"KEL\",TABMAPEL_X,DBLOGIC!AB2,FALSE)","v":"A"},{"$f":"HLOOKUP(\"KEL\",TABMAPEL_X,DBLOGIC!AC2,FALSE)","v":"A"},{"$f":"HLOOKUP(\"KEL\",TABMAPEL_X,DBLOGIC!AD2,FALSE)","v":"A"},{"$f":"HLOOKUP(\"KEL\",TABMAPEL_X,DBLOGIC!AE2,FALSE)","v":"A"},{"$f":"HLOOKUP(\"KEL\",TABMAPEL_X,DBLOGIC!AF2,FALSE)","v":"A"},{"$f":"HLOOKUP(\"KEL\",TABMAPEL_X,DBLOGIC!AG2,FALSE)","v":"A"},{"$f":"HLOOKUP(\"KEL\",TABMAPEL_X,DBLOGIC!AH2,FALSE)","v":"A"},{"$f":"HLOOKUP(\"KEL\",TABMAPEL_X,DBLOGIC!AI2,FALSE)","v":"A"},{"$f":"HLOOKUP(\"KEL\",TABMAPEL_X,DBLOGIC!AJ2,FALSE)","v":"A"},{"$f":"HLOOKUP(\"KEL\",TABMAPEL_X,DBLOGIC!AK2,FALSE)","v":"A"},{"$f":"HLOOKUP(\"KEL\",TABMAPEL_X,DBLOGIC!AL2,FALSE)","v":"A"},{"$f":"HLOOKUP(\"KEL\",TABMAPEL_X,DBLOGIC!AM2,FALSE)","v":"A"},{"$f":"HLOOKUP(\"KEL\",TABMAPEL_X,DBLOGIC!AN2,FALSE)","v":"A"},{"$f":"HLOOKUP(\"KEL\",TABMAPEL_X,DBLOGIC!AO2,FALSE)","v":"A"},{"$f":"HLOOKUP(\"KEL\",TABMAPEL_X,DBLOGIC!AP2,FALSE)","v":"A"},{"$f":"HLOOKUP(\"KEL\",TABMAPEL_X,DBLOGIC!AQ2,FALSE)","v":"A"},{"$f":"HLOOKUP(\"KEL\",TABMAPEL_X,DBLOGIC!AR2,FALSE)","v":"A"},{"$f":"HLOOKUP(\"KEL\",TABMAPEL_X,DBLOGIC!AS2,FALSE)","v":"A"},{"$f":"HLOOKUP(\"KEL\",TABMAPEL_X,DBLOGIC!AT2,FALSE)","v":"A"},{"$f":"HLOOKUP(\"KEL\",TABMAPEL_X,DBLOGIC!AU2,FALSE)","v":"A"},{"$f":"HLOOKUP(\"KEL\",TABMAPEL_X,DBLOGIC!AV2,FALSE)","v":"A"},{"$f":"HLOOKUP(\"KEL\",TABMAPEL_X,DBLOGIC!AW2,FALSE)","v":"A"},{"$f":"HLOOKUP(\"KEL\",TABMAPEL_X,DBLOGIC!AX2,FALSE)","v":"A"},{"$f":"HLOOKUP(\"KEL\",TABMAPEL_X,DBLOGIC!AY2,FALSE)","v":"A"},{"$f":"HLOOKUP(\"KEL\",TABMAPEL_X,DBLOGIC!AZ2,FALSE)","v":"A"},{"$f":"HLOOKUP(\"KEL\",TABMAPEL_X,DBLOGIC!BA2,FALSE)","v":"A"},{"$f":"HLOOKUP(\"KEL\",TABMAPEL_X,DBLOGIC!BB2,FALSE)","v":"A"},{"$f":"HLOOKUP(\"KEL\",TABMAPEL_X,DBLOGIC!BC2,FALSE)","v":"A"},{"$f":"HLOOKUP(\"KEL\",TABMAPEL_X,DBLOGIC!BD2,FALSE)","v":"A"},{"$f":"HLOOKUP(\"KEL\",TABMAPEL_X,DBLOGIC!BE2,FALSE)","v":"A"},{"$f":"HLOOKUP(\"KEL\",TABMAPEL_X,DBLOGIC!BF2,FALSE)","v":"A"},{"$f":"HLOOKUP(\"KEL\",TABMAPEL_X,DBLOGIC!BG2,FALSE)","v":"A"},{"$f":"HLOOKUP(\"KEL\",TABMAPEL_X,DBLOGIC!BH2,FALSE)","v":"A"},{"$f":"HLOOKUP(\"KEL\",TABMAPEL_X,DBLOGIC!BI2,FALSE)","v":"A"},{"$f":"HLOOKUP(\"KEL\",TABMAPEL_X,DBLOGIC!BJ2,FALSE)","v":"A"},{"$f":"HLOOKUP(\"KEL\",TABMAPEL_X,DBLOGIC!BK2,FALSE)","v":"A"},{"$f":"HLOOKUP(\"KEL\",TABMAPEL_X,DBLOGIC!BL2,FALSE)","v":"A"},{"$f":"HLOOKUP(\"KEL\",TABMAPEL_X,DBLOGIC!BM2,FALSE)","v":"A"},{"$f":"HLOOKUP(\"KEL\",TABMAPEL_X,DBLOGIC!BN2,FALSE)","v":"B"},{"$f":"HLOOKUP(\"KEL\",TABMAPEL_X,DBLOGIC!BO2,FALSE)","v":"B"},{"$f":"HLOOKUP(\"KEL\",TABMAPEL_X,DBLOGIC!BP2,FALSE)","v":"B"},{"$f":"HLOOKUP(\"KEL\",TABMAPEL_X,DBLOGIC!BQ2,FALSE)","v":"B"},{"$f":"HLOOKUP(\"KEL\",TABMAPEL_X,DBLOGIC!BR2,FALSE)","v":"B"},{"$f":"HLOOKUP(\"KEL\",TABMAPEL_X,DBLOGIC!BS2,FALSE)","v":"B"},{"$f":"HLOOKUP(\"KEL\",TABMAPEL_X,DBLOGIC!BT2,FALSE)","v":"B"},{"$f":"HLOOKUP(\"KEL\",TABMAPEL_X,DBLOGIC!BU2,FALSE)","v":"B"},{"$f":"HLOOKUP(\"KEL\",TABMAPEL_X,DBLOGIC!BV2,FALSE)","v":"B"},{"$f":"HLOOKUP(\"KEL\",TABMAPEL_X,DBLOGIC!BW2,FALSE)","v":"B"},{"$f":"HLOOKUP(\"KEL\",TABMAPEL_X,DBLOGIC!BX2,FALSE)","v":"B"},{"$f":"HLOOKUP(\"KEL\",TABMAPEL_X,DBLOGIC!BY2,FALSE)","v":"B"},{"$f":"HLOOKUP(\"KEL\",TABMAPEL_X,DBLOGIC!BZ2,FALSE)","v":"B"},{"$f":"HLOOKUP(\"KEL\",TABMAPEL_X,DBLOGIC!CA2,FALSE)","v":"B"},{"$f":"HLOOKUP(\"KEL\",TABMAPEL_X,DBLOGIC!CB2,FALSE)","v":"C1"},{"$f":"HLOOKUP(\"KEL\",TABMAPEL_X,DBLOGIC!CC2,FALSE)","v":"C1"},{"$f":"HLOOKUP(\"KEL\",TABMAPEL_X,DBLOGIC!CD2,FALSE)","v":"C1"},{"$f":"HLOOKUP(\"KEL\",TABMAPEL_X,DBLOGIC!CE2,FALSE)","v":"C1"},{"$f":"HLOOKUP(\"KEL\",TABMAPEL_X,DBLOGIC!CF2,FALSE)","v":"C1"},{"$f":"HLOOKUP(\"KEL\",TABMAPEL_X,DBLOGIC!CG2,FALSE)","v":"C1"},{"$f":"HLOOKUP(\"KEL\",TABMAPEL_X,DBLOGIC!CH2,FALSE)","v":"C1"},{"$f":"HLOOKUP(\"KEL\",TABMAPEL_X,DBLOGIC!CI2,FALSE)","v":"C1"},{"$f":"HLOOKUP(\"KEL\",TABMAPEL_X,DBLOGIC!CJ2,FALSE)","v":"C1"},{"$f":"HLOOKUP(\"KEL\",TABMAPEL_X,DBLOGIC!CK2,FALSE)","v":"C1"},{"$f":"HLOOKUP(\"KEL\",TABMAPEL_X,DBLOGIC!CL2,FALSE)","v":"C1"},{"$f":"HLOOKUP(\"KEL\",TABMAPEL_X,DBLOGIC!CM2,FALSE)","v":"C1"},{"$f":"HLOOKUP(\"KEL\",TABMAPEL_X,DBLOGIC!CN2,FALSE)","v":"C1"},{"$f":"HLOOKUP(\"KEL\",TABMAPEL_X,DBLOGIC!CO2,FALSE)","v":"C1"},{"$f":"HLOOKUP(\"KEL\",TABMAPEL_X,DBLOGIC!CP2,FALSE)","v":"C1"},{"$f":"HLOOKUP(\"KEL\",TABMAPEL_X,DBLOGIC!CQ2,FALSE)","v":"C1"},{"$f":"HLOOKUP(\"KEL\",TABMAPEL_X,DBLOGIC!CR2,FALSE)","v":"C1"},{"$f":"HLOOKUP(\"KEL\",TABMAPEL_X,DBLOGIC!CS2,FALSE)","v":"C1"},{"$f":"HLOOKUP(\"KEL\",TABMAPEL_X,DBLOGIC!CT2,FALSE)","v":"C1"},{"$f":"HLOOKUP(\"KEL\",TABMAPEL_X,DBLOGIC!CU2,FALSE)","v":"C1"},{"$f":"HLOOKUP(\"KEL\",TABMAPEL_X,DBLOGIC!CV2,FALSE)","v":"C1"},{"$f":"HLOOKUP(\"KEL\",TABMAPEL_X,DBLOGIC!CW2,FALSE)","v":"C2"},{"$f":"HLOOKUP(\"KEL\",TABMAPEL_X,DBLOGIC!CX2,FALSE)","v":"C2"},{"$f":"HLOOKUP(\"KEL\",TABMAPEL_X,DBLOGIC!CY2,FALSE)","v":"C2"},{"$f":"HLOOKUP(\"KEL\",TABMAPEL_X,DBLOGIC!CZ2,FALSE)","v":"C2"},{"$f":"HLOOKUP(\"KEL\",TABMAPEL_X,DBLOGIC!DA2,FALSE)","v":"C2"},{"$f":"HLOOKUP(\"KEL\",TABMAPEL_X,DBLOGIC!DB2,FALSE)","v":"C2"},{"$f":"HLOOKUP(\"KEL\",TABMAPEL_X,DBLOGIC!DC2,FALSE)","v":"C2"},{"$f":"HLOOKUP(\"KEL\",TABMAPEL_X,DBLOGIC!DD2,FALSE)","v":"C2"},{"$f":"HLOOKUP(\"KEL\",TABMAPEL_X,DBLOGIC!DE2,FALSE)","v":"C2"},{"$f":"HLOOKUP(\"KEL\",TABMAPEL_X,DBLOGIC!DF2,FALSE)","v":"C2"},{"$f":"HLOOKUP(\"KEL\",TABMAPEL_X,DBLOGIC!DG2,FALSE)","v":"C2"},{"$f":"HLOOKUP(\"KEL\",TABMAPEL_X,DBLOGIC!DH2,FALSE)","v":"C2"},{"$f":"HLOOKUP(\"KEL\",TABMAPEL_X,DBLOGIC!DI2,FALSE)","v":"C2"},{"$f":"HLOOKUP(\"KEL\",TABMAPEL_X,DBLOGIC!DJ2,FALSE)","v":"C2"},{"$f":"HLOOKUP(\"KEL\",TABMAPEL_X,DBLOGIC!DK2,FALSE)","v":"C2"},{"$f":"HLOOKUP(\"KEL\",TABMAPEL_X,DBLOGIC!DL2,FALSE)","v":"C2"},{"$f":"HLOOKUP(\"KEL\",TABMAPEL_X,DBLOGIC!DM2,FALSE)","v":"C2"},{"$f":"HLOOKUP(\"KEL\",TABMAPEL_X,DBLOGIC!DN2,FALSE)","v":"C2"},{"$f":"HLOOKUP(\"KEL\",TABMAPEL_X,DBLOGIC!DO2,FALSE)","v":"C2"},{"$f":"HLOOKUP(\"KEL\",TABMAPEL_X,DBLOGIC!DP2,FALSE)","v":"C2"},{"$f":"HLOOKUP(\"KEL\",TABMAPEL_X,DBLOGIC!DQ2,FALSE)","v":"C2"},{"$f":"HLOOKUP(\"KEL\",TABMAPEL_X,DBLOGIC!DR2,FALSE)","v":"C2"},{"$f":"HLOOKUP(\"KEL\",TABMAPEL_X,DBLOGIC!DS2,FALSE)","v":"C2"},{"$f":"HLOOKUP(\"KEL\",TABMAPEL_X,DBLOGIC!DT2,FALSE)","v":"C2"},{"$f":"HLOOKUP(\"KEL\",TABMAPEL_X,DBLOGIC!DU2,FALSE)","v":"C2"},{"$f":"HLOOKUP(\"KEL\",TABMAPEL_X,DBLOGIC!DV2,FALSE)","v":"C2"},{"$f":"HLOOKUP(\"KEL\",TABMAPEL_X,DBLOGIC!DW2,FALSE)","v":"C2"},{"$f":"HLOOKUP(\"KEL\",TABMAPEL_X,DBLOGIC!DX2,FALSE)","v":"C2"},{"$f":"HLOOKUP(\"KEL\",TABMAPEL_X,DBLOGIC!DY2,FALSE)","v":"C3"},{"$f":"HLOOKUP(\"KEL\",TABMAPEL_X,DBLOGIC!DZ2,FALSE)","v":"C3"},{"$f":"HLOOKUP(\"KEL\",TABMAPEL_X,DBLOGIC!EA2,FALSE)","v":"C3"},{"$f":"HLOOKUP(\"KEL\",TABMAPEL_X,DBLOGIC!EB2,FALSE)","v":"C3"},{"$f":"HLOOKUP(\"KEL\",TABMAPEL_X,DBLOGIC!EC2,FALSE)","v":"C3"},{"$f":"HLOOKUP(\"KEL\",TABMAPEL_X,DBLOGIC!ED2,FALSE)","v":"C3"},{"$f":"HLOOKUP(\"KEL\",TABMAPEL_X,DBLOGIC!EE2,FALSE)","v":"C3"},{"$f":"HLOOKUP(\"KEL\",TABMAPEL_X,DBLOGIC!EF2,FALSE)","v":"C3"},{"$f":"HLOOKUP(\"KEL\",TABMAPEL_X,DBLOGIC!EG2,FALSE)","v":"C3"},{"$f":"HLOOKUP(\"KEL\",TABMAPEL_X,DBLOGIC!EH2,FALSE)","v":"C3"},{"$f":"HLOOKUP(\"KEL\",TABMAPEL_X,DBLOGIC!EI2,FALSE)","v":"C3"},{"$f":"HLOOKUP(\"KEL\",TABMAPEL_X,DBLOGIC!EJ2,FALSE)","v":"C3"},{"$f":"HLOOKUP(\"KEL\",TABMAPEL_X,DBLOGIC!EK2,FALSE)","v":"C3"},{"$f":"HLOOKUP(\"KEL\",TABMAPEL_X,DBLOGIC!EL2,FALSE)","v":"C3"},{"$f":"HLOOKUP(\"KEL\",TABMAPEL_X,DBLOGIC!EM2,FALSE)","v":"C3"},{"$f":"HLOOKUP(\"KEL\",TABMAPEL_X,DBLOGIC!EN2,FALSE)","v":"C3"},{"$f":"HLOOKUP(\"KEL\",TABMAPEL_X,DBLOGIC!EO2,FALSE)","v":"C3"},{"$f":"HLOOKUP(\"KEL\",TABMAPEL_X,DBLOGIC!EP2,FALSE)","v":"C3"},{"$f":"HLOOKUP(\"KEL\",TABMAPEL_X,DBLOGIC!EQ2,FALSE)","v":"C3"},{"$f":"HLOOKUP(\"KEL\",TABMAPEL_X,DBLOGIC!ER2,FALSE)","v":"C3"},{"$f":"HLOOKUP(\"KEL\",TABMAPEL_X,DBLOGIC!ES2,FALSE)","v":"C3"},{"$f":"HLOOKUP(\"KEL\",TABMAPEL_X,DBLOGIC!ET2,FALSE)","v":"C3"},{"$f":"HLOOKUP(\"KEL\",TABMAPEL_X,DBLOGIC!EU2,FALSE)","v":"C3"},{"$f":"HLOOKUP(\"KEL\",TABMAPEL_X,DBLOGIC!EV2,FALSE)","v":"C3"},{"$f":"HLOOKUP(\"KEL\",TABMAPEL_X,DBLOGIC!EW2,FALSE)","v":"C3"},{"$f":"HLOOKUP(\"KEL\",TABMAPEL_X,DBLOGIC!EX2,FALSE)","v":"C3"},{"$f":"HLOOKUP(\"KEL\",TABMAPEL_X,DBLOGIC!EY2,FALSE)","v":"C3"},{"$f":"HLOOKUP(\"KEL\",TABMAPEL_X,DBLOGIC!EZ2,FALSE)","v":"C3"},{"$f":"HLOOKUP(\"KEL\",TABMAPEL_X,DBLOGIC!FA2,FALSE)","v":"C3"},{"$f":"HLOOKUP(\"KEL\",TABMAPEL_X,DBLOGIC!FB2,FALSE)","v":"C3"},{"$f":"HLOOKUP(\"KEL\",TABMAPEL_X,DBLOGIC!FC2,FALSE)","v":"C3"},{"$f":"HLOOKUP(\"KEL\",TABMAPEL_X,DBLOGIC!FD2,FALSE)","v":"C3"},{"$f":"HLOOKUP(\"KEL\",TABMAPEL_X,DBLOGIC!FE2,FALSE)","v":"C3"},{"$f":"HLOOKUP(\"KEL\",TABMAPEL_X,DBLOGIC!FF2,FALSE)","v":"C3"},{"$f":"HLOOKUP(\"KEL\",TABMAPEL_X,DBLOGIC!FG2,FALSE)","v":"C3"},{"$f":"HLOOKUP(\"KEL\",TABMAPEL_X,DBLOGIC!FH2,FALSE)","v":"C3"},{"$f":"HLOOKUP(\"KEL\",TABMAPEL_X,DBLOGIC!FI2,FALSE)","v":"C3"},{"$f":"HLOOKUP(\"KEL\",TABMAPEL_X,DBLOGIC!FJ2,FALSE)","v":"C3"},{"$f":"HLOOKUP(\"KEL\",TABMAPEL_X,DBLOGIC!FK2,FALSE)","v":"C3"},{"$f":"HLOOKUP(\"KEL\",TABMAPEL_X,DBLOGIC!FL2,FALSE)","v":"C3"},{"$f":"HLOOKUP(\"KEL\",TABMAPEL_X,DBLOGIC!FM2,FALSE)","v":"C3"},{"$f":"HLOOKUP(\"KEL\",TABMAPEL_X,DBLOGIC!FN2,FALSE)","v":"C3"},{"$f":"HLOOKUP(\"KEL\",TABMAPEL_X,DBLOGIC!FO2,FALSE)","v":"M"},{"$f":"HLOOKUP(\"KEL\",TABMAPEL_X,DBLOGIC!FP2,FALSE)","v":"M"},{"$f":"HLOOKUP(\"KEL\",TABMAPEL_X,DBLOGIC!FQ2,FALSE)","v":"M"},{"$f":"HLOOKUP(\"KEL\",TABMAPEL_X,DBLOGIC!FR2,FALSE)","v":"M"},{"$f":"HLOOKUP(\"KEL\",TABMAPEL_X,DBLOGIC!FS2,FALSE)","v":"M"},{"$f":"HLOOKUP(\"KEL\",TABMAPEL_X,DBLOGIC!FT2,FALSE)","v":"M"},{"$f":"HLOOKUP(\"KEL\",TABMAPEL_X,DBLOGIC!FU2,FALSE)","v":"M"},{"$f":"HLOOKUP(\"KEL\",TABMAPEL_X,DBLOGIC!FV2,FALSE)","v":"M"},{"$f":"HLOOKUP(\"KEL\",TABMAPEL_X,DBLOGIC!FW2,FALSE)","v":"M"},{"$f":"HLOOKUP(\"KEL\",TABMAPEL_X,DBLOGIC!FX2,FALSE)","v":"M"},{"$f":"HLOOKUP(\"KEL\",TABMAPEL_X,DBLOGIC!FY2,FALSE)","v":"M"},{"$f":"HLOOKUP(\"KEL\",TABMAPEL_X,DBLOGIC!FZ2,FALSE)","v":"M"},{"$f":"HLOOKUP(\"KEL\",TABMAPEL_X,DBLOGIC!GA2,FALSE)","v":"M"},{"$f":"HLOOKUP(\"KEL\",TABMAPEL_X,DBLOGIC!GB2,FALSE)","v":"M"}]
["Wali Kelas :",{"$f":"TITIMANGSA!D16","v":"Abdul Hapid, S.P"},"URUTAN MAPEL",1,{"$f":"D4","v":1},{"$f":"E4","v":1},1,1,1,1,{"$f":"IF(K2=\"-\",0,MAX($D$4:J4)+1)","v":2},{"$f":"K4","v":2},2,2,2,2,2,{"$f":"IF(R2=\"-\",0,MAX($D$4:Q4)+1)","v":3},{"$f":"R4","v":3},3,3,3,3,3,{"$f":"IF(Y2=\"-\",0,MAX($D$4:X4)+1)","v":4},{"$f":"Y4","v":4},4,4,4,4,4,{"$f":"IF(AF2=\"-\",0,MAX($D$4:AE4)+1)","v":0},{"$f":"AF4","v":0},0,0,0,0,0,{"$f":"IF(AM2=\"-\",0,MAX($D$4:AL4)+1)","v":5},{"$f":"AM4","v":5},5,5,5,5,5,{"$f":"IF(AT2=\"-\",0,MAX($D$4:AS4)+1)","v":0},{"$f":"AT4","v":0},0,0,0,0,0,{"$f":"IF(BA2=\"-\",0,MAX($D$4:AZ4)+1)","v":0},{"$f":"BA4","v":0},0,0,0,0,0,{"$f":"IF(BH2=\"-\",0,MAX($D$4:BG4)+1)","v":6},{"$f":"BH4","v":6},6,6,6,6,6,{"$f":"IF(BO2=\"-\",0,MAX($D$4:BN4)+1)","v":0},{"$f":"BO4","v":0},0,0,0,0,0,{"$f":"IF(BV2=\"-\",0,MAX($D$4:BU4)+1)","v":0},{"$f":"BV4","v":0},0,0,0,0,0,{"$f":"IF(CC2=\"-\",0,MAX($D$4:CB4)+1)","v":0},{"$f":"CC4","v":0},0,0,0,0,0,{"$f":"IF(CJ2=\"-\",0,MAX($D$4:CI4)+1)","v":0},{"$f":"CJ4","v":0},0,0,0,0,0,{"$f":"IF(CQ2=\"-\",0,MAX($D$4:CP4)+1)","v":0},{"$f":"CQ4","v":0},0,0,0,0,0,{"$f":"IF(CX2=\"-\",0,MAX($D$4:CW4)+1)","v":0},{"$f":"CX4","v":0},0,0,0,0,0,{"$f":"IF(DE2=\"-\",0,MAX($D$4:DD4)+1)","v":0},{"$f":"DE4","v":0},0,0,0,0,0,{"$f":"IF(DL2=\"-\",0,MAX($D$4:DK4)+1)","v":7},{"$f":"DL4","v":7},7,7,7,7,7,{"$f":"IF(DS2=\"-\",0,MAX($D$4:DR4)+1)","v":8},{"$f":"DS4","v":8},8,8,8,8,8,{"$f":"IF(DZ2=\"-\",0,MAX($D$4:DY4)+1)","v":9},{"$f":"DZ4","v":9},9,9,9,9,9,{"$f":"IF(EG2=\"-\",0,MAX($D$4:EF4)+1)","v":0},{"$f":"EG4","v":0},0,0,0,0,0,{"$f":"IF(EN2=\"-\",0,MAX($D$4:EM4)+1)","v":0},{"$f":"EN4","v":0},0,0,0,0,0,{"$f":"IF(EU2=\"-\",0,MAX($D$4:ET4)+1)","v":10},{"$f":"EU4","v":10},10,10,10,10,10,{"$f":"IF(FB2=\"-\",0,MAX($D$4:FA4)+1)","v":0},{"$f":"FB4","v":0},0,0,0,0,0,{"$f":"IF(FI2=\"-\",0,MAX($D$4:FH4)+1)","v":0},{"$f":"FI4","v":0},0,0,0,0,0]
[{"$f":"TITIMANGSA!D15","v":"Karawang, 30 Maret 2021"},{"$f":"TITIMANGSA!D17","v":"19680917 200012 1 003"},"KKM",77,77,77,77,77,77,77,77,77,77,77,77,77,77,77,77,77,77,77,77,77,77,77,77,77,77,77,77,77,77,77,77,77,77,77,77,77,77,77,77,77,77,77,77,77,77,77,77,77,77,77,77,77,77,77,77,77,77,77,77,77,77,77,77,77,77,77,77,77,77,77,77,77,77,77,77,77,77,77,77,77,77,77,77,77,77,77,77,77,77,77,77,77,77,77,77,77,77,77,77,77,77,77,77,77,77,77,77,77,77,77,77,77,77,77,77,77,77,77,77,77,77,77,77,77,77,77,77,77,77,77,77,77,77,77,77,77,77,77,77,77,77,77,77,77,77,77,77,77,77,77,77,77,77,77,77,77,77,77,77,77,77,77,77,77,77,77,77]
[null,null,"TOPIK PER KD","Haji, Zakat dan Wakaf",null,"Dakwah Nabi Muhammad SAW di Mekah",null,"Dakwah Nabi Muhammad SAW di Madinah",null,"-",4,null,{"$f":"K6+1","v":5},null,{"$f":"M6+1","v":6},null,"-",{"$f":"O6+1","v":7},null,{"$f":"R6+1","v":8},null,{"$f":"T6+1","v":9},null,"-",{"$f":"V6+1","v":10},null,{"$f":"Y6+1","v":11},null,{"$f":"AA6+1","v":12},null,"-",{"$f":"AC6+1","v":13},null,{"$f":"AF6+1","v":14},null,{"$f":"AH6+1","v":15},null,"-",{"$f":"AJ6+1","v":16},null,{"$f":"AM6+1","v":17},null,{"$f":"AO6+1","v":18},null,"-",{"$f":"AQ6+1","v":19},null,{"$f":"AT6+1","v":20},null,{"$f":"AV6+1","v":21},null,"-",{"$f":"AX6+1","v":22},null,{"$f":"BA6+1","v":23},null,{"$f":"BC6+1","v":24},null,"-",{"$f":"BE6+1","v":25},null,{"$f":"BH6+1","v":26},null,{"$f":"BJ6+1","v":27},null,"-",{"$f":"BL6+1","v":28},null,{"$f":"BO6+1","v":29},null,{"$f":"BQ6+1","v":30},null,"-",{"$f":"BS6+1","v":31},null,{"$f":"BV6+1","v":32},null,{"$f":"BX6+1","v":33},null,"-",{"$f":"BZ6+1","v":34},null,{"$f":"CC6+1","v":35},null,{"$f":"CE6+1","v":36},null,"-",{"$f":"CG6+1","v":37},null,{"$f":"CJ6+1","v":38},null,{"$f":"CL6+1","v":39},null,"-",{"$f":"CN6+1","v":40},null,{"$f":"CQ6+1","v":41},null,{"$f":"CS6+1","v":42},null,"-",{"$f":"CU6+1","v":43},null,{"$f":"CX6+1","v":44},null,{"$f":"CZ6+1","v":45},null,"-",{"$f":"DB6+1","v":46},null,{"$f":"DE6+1","v":47},null,{"$f":"DG6+1","v":48},null,"-",{"$f":"DI6+1","v":49},null,{"$f":"DL6+1","v":50},null,{"$f":"DN6+1","v":51},null,"-",{"$f":"DP6+1","v":52},null,{"$f":"DS6+1","v":53},null,{"$f":"DU6+1","v":54},null,"-",{"$f":"DW6+1","v":55},null,{"$f":"DZ6+1","v":56},null,{"$f":"EB6+1","v":57},null,"-",{"$f":"ED6+1","v":58},null,{"$f":"EG6+1","v":59},null,{"$f":"EI6+1","v":60},null,"-",{"$f":"EK6+1","v":61},null,{"$f":"EN6+1","v":62},null,{"$f":"EP6+1","v":63},null,"-",{"$f":"ER6+1","v":64},null,{"$f":"EU6+1","v":65},null,{"$f":"EW6+1","v":66},null,"-",{"$f":"EY6+1","v":67},null,{"$f":"FB6+1","v":68},null,{"$f":"FD6+1","v":69},null,"-",{"$f":"FF6+1","v":70},null,{"$f":"FI6+1","v":71},null,{"$f":"FK6+1","v":72},null,"-"]
["NO. URUT","NAMA SISWA","NIS",2,{"$f":"D7+1","v":3},4,5,6,7,8,9,10,11,12,13,14,15,16,17,18,19,20,21,22,23,24,25,26,27,28,29,30,31,32,33,34,35,36,37,38,39,40,41,42,43,44,45,46,47,48,49,50,51,52,53,54,55,56,57,58,59,60,61,62,63,64,65,66,{"$f":"BP7+1","v":67},68,69,70,71,72,73,74,75,76,77,78,79,80,81,82,83,84,85,86,87,88,89,90,91,92,93,94,95,96,97,98,99,100,101,102,103,104,105,106,107,108,109,110,111,112,113,114,115,116,117,118,119,120,121,122,123,124,125,126,127,128,129,130,{"$f":"EB7+1","v":131},132,133,134,135,136,137,138,139,140,141,142,143,144,145,146,147,148,149,150,151,152,153,154,155,156,157,158,159,160,161,162,163,164,165,166,167,168,169,170,171,172]
[{"$f":"BIODATA!A5","v":1},{"$f":"BIODATA!C5","v":"ADAM ADIYAT HARTANTO"},{"$f":"BIODATA!D5","v":16170535},4,{"$f":"D8+1","v":5},{"$f":"IF(E8=100,75,E8+1)","v":6},7,8,9,10,11,12,13,14,15,16,17,18,19,20,21,{"$f":"IF(U8=100,75,U8+1)","v":22},23,24,25,26,27,28,29,30,31,32,33,34,35,36,37,{"$f":"IF(AK8=100,75,AK8+1)","v":38},39,40,41,42,43,44,45,46,47,48,49,50,51,52,53,{"$f":"IF(BA8=100,75,BA8+1)","v":54},55,56,57,58,59,60,61,62,63,64,65,66,67,68,69,{"$f":"IF(BQ8=100,75,BQ8+1)","v":70},71,72,73,74,75,76,77,78,79,80,81,82,83,84,85,{"$f":"IF(CG8=100,75,CG8+1)","v":86},87,88,89,90,91,92,93,94,95,96,97,98,99,100,75,{"$f":"IF(CW8=100,75,CW8+1)","v":76},77,78,79,80,81,82,83,84,85,86,87,88,89,90,91,{"$f":"IF(DM8=100,75,DM8+1)","v":92},93,94,95,96,97,98,99,100,75,76,77,78,79,80,81,{"$f":"IF(EC8=100,75,EC8+1)","v":82},83,84,85,86,87,88,89,90,91,92,93,94,95,96,97,{"$f":"IF(ES8=100,75,ES8+1)","v":98},99,100,75,76,77,78,79,80,81,82,83,84,85,86,87,{"$f":"IF(FI8=100,75,FI8+1)","v":88},89,90,91,92,93]
[{"$f":"BIODATA!A6","v":2},{"$f":"BIODATA!C6","v":"ADAM MAULANA RIZALDI"},{"$f":"BIODATA!D6","v":16170449},11,{"$f":"IF(D9=100,75,D9+1)","v":12},13,14,15,16,17,18,19,20,21,22,23,24,25,26,27,28,29,30,31,32,33,34,35,36,37,38,39,40,41,42,43,44,45,46,47,48,49,50,51,52,53,54,55,56,57,58,59,60,61,62,63,64,65,66,67,68,69,70,71,72,73,74,75,76,77,78,79,80,81,82,83,84,85,86,87,88,89,90,91,92,93,94,95,96,97,98,99,100,75,76,77,78,79,80,81,82,83,84,85,86,87,88,89,90,91,92,93,94,95,96,97,98,99,100,75,76,77,78,79,80,81,82,83,84,85,86,87,88,89,90,91,92,93,94,95,96,97,98,99,100,75,76,77,78,79,80,81,82,83,84,85,86,87,88,89,90,91,92,93,94,95,96,97,98,99,100]
[{"$f":"BIODATA!A7","v":3},{"$f":"BIODATA!C7","v":"BAGAS ADJI PRIANTOMO"},{"$f":"BIODATA!D7","v":16170371},21,22,23,24,25,26,27,28,29,30,31,32,33,34,35,36,37,38,39,40,41,42,43,44,45,46,47,48,49,50,51,52,53,54,55,56,57,58,59,60,61,62,63,64,65,66,67,68,69,70,71,72,73,74,75,76,77,78,79,80,81,82,83,84,85,86,87,88,89,90,91,92,93,94,95,96,97,98,99,100,75,76,77,78,79,80,81,82,83,84,85,86,87,88,89,90,91,92,93,94,95,96,97,98,99,100,75,76,77,78,79,80,81,82,83,84,85,86,87,88,89,90,91,92,93,94,95,96,97,98,99,100,75,76,77,78,79,80,81,82,83,84,85,86,87,88,89,90,91,92,93,94,95,96,97,98,99,100,75,76,77,78,79,80,81,82,83,84]
[{"$f":"BIODATA!A8","v":4},{"$f":"BIODATA!C8","v":"CARWAN HIDAYAT"},{"$f":"BIODATA!D8","v":16170585},21,{"$f":"IF(D11=100,75,D11+1)","v":22},{"$f":"IF(E11=100,75,E11+1)","v":23},{"$f":"IF(F11=100,75,F11+1)","v":24},{"$f":"IF(G11=100,75,G11+1)","v":25},{"$f":"IF(H11=100,75,H11+1)","v":26},{"$f":"IF(I11=100,75,I11+1)","v":27},{"$f":"IF(J11=100,75,J11+1)","v":28},{"$f":"IF(K11=100,75,K11+1)","v":29},{"$f":"IF(L11=100,75,L11+1)","v":30},{"$f":"IF(M11=100,75,M11+1)","v":31},{"$f":"IF(N11=100,75,N11+1)","v":32},{"$f":"IF(O11=100,75,O11+1)","v":33},{"$f":"IF(P11=100,75,P11+1)","v":34}]
[{"$f":"BIODATA!A9","v":5},{"$f":"BIODATA!C9","v":"CEPI YANWARI"},{"$f":"BIODATA!D9","v":16170586},21,22,23,24,25,26,27,28,29,30,31,32,33,34]
[{"$f":"BIODATA!A10","v":6},{"$f":"BIODATA!C10","v":"DEDE MAULANA RUSDIANTA"},{"$f":"BIODATA!D10","v":16170414},21,22,23,24,25,26,27,28,29,30,31,32,33,34]
[{"$f":"BIODATA!A11","v":7},{"$f":"BIODATA!C11","v":"DEDI ROCHMAN"},{"$f":"BIODATA!D11","v":16170457},21,22,23,24,25,26,27,28,29,30,31,32,33,34]
[{"$f":"BIODATA!A12","v":8},{"$f":"BIODATA!C12","v":"DIMAS YOGA AJI SETIAWAN"},{"$f":"BIODATA!D12","v":16170546},21,22,23,24,25,26,27,28,29,30,31,32,33,34]
[{"$f":"BIODATA!A13","v":9},{"$f":"BIODATA!C13","v":"ERIK PRIHASABA PEBRIANSYAH"},{"$f":"BIODATA!D13","v":16170547},21,22,23,24,25,26,27,28,29,30,31,32,33,34]
[{"$f":"BIODATA!A14","v":10},{"$f":"BIODATA!C14","v":"GALIH RAKASIWI"},{"$f":"BIODATA!D14","v":16170464},21,22,23,24,25,26,27,28,29,30,31,32,33,34]
[{"$f":"BIODATA!A15","v":11},{"$f":"BIODATA!C15","v":"JOHANI"},{"$f":"BIODATA!D15","v":16170468},21,22,23,24,25,26,27,28,29,30,31,32,33,34]
[{"$f":"BIODATA!A16","v":12},{"$f":"BIODATA!C16","v":"LATHIF FERIANSYAH"},{"$f":"BIODATA!D16","v":16170675}]
[{"$f":"BIODATA!A17","v":13},{"$f":"BIODATA!C17","v":"MAULANA JUHRI"},{"$f":"BIODATA!D17","v":16170423}]
[{"$f":"BIODATA!A18","v":14},{"$f":"BIODATA!C18","v":"MOHAMMAD HERRY ALFAJRI"},{"$f":"BIODATA!D18","v":16170473}]
[{"$f":"BIODATA!A19","v":15},{"$f":"BIODATA!C19","v":"MUHAMAD SIDI"},{"$f":"BIODATA!D19","v":16170426}]
[{"$f":"BIODATA!A20","v":16},{"$f":"BIODATA!C20","v":"MUHAMMAD ARDI RUHYAT"},{"$f":"BIODATA!D20","v":16170427}]
[{"$f":"BIODATA!A21","v":17},{"$f":"BIODATA!C21","v":"MUHAMMAD FIKRI AWALUDIN"},{"$f":"BIODATA!D21","v":16170429}]
[{"$f":"BIODATA!A22","v":18},{"$f":"BIODATA!C22","v":"MUHAMMAD PADILAH"},{"$f":"BIODATA!D22","v":16170428}]
[{"$f":"BIODATA!A23","v":19},{"$f":"BIODATA!C23","v":"MUHIBU FATHURROHMAN"},{"$f":"BIODATA!D23","v":16170430}]
[{"$f":"BIODATA!A24","v":20},{"$f":"BIODATA!C24","v":"OKKE KINDI ADI PANGESTU"},{"$f":"BIODATA!D24","v":16170391}]
[{"$f":"BIODATA!A25","v":21},{"$f":"BIODATA!C25","v":"RAMADHAN"},{"$f":"BIODATA!D25","v":"16170480"}]
[{"$f":"BIODATA!A26","v":22},{"$f":"BIODATA!C26","v":"RENDY RAHMADI"},{"$f":"BIODATA!D26","v":16170683}]
[{"$f":"BIODATA!A27","v":23},{"$f":"BIODATA!C27","v":"RIFAN BAGUS ALDIANSYAH"},{"$f":"BIODATA!D27","v":16170433}]
[{"$f":"BIODATA!A28","v":24},{"$f":"BIODATA!C28","v":"RIVAL MAULANA"},{"$f":"BIODATA!D28","v":16170601}]
[{"$f":"BIODATA!A29","v":25},{"$f":"BIODATA!C29","v":"RIZKY FADHILAH"},{"$f":"BIODATA!D29","v":16170643}]
[{"$f":"BIODATA!A30","v":26},{"$f":"BIODATA!C30","v":"ROHMADI MUCHTAR"},{"$f":"BIODATA!D30","v":16170642}]
[{"$f":"BIODATA!A31","v":27},{"$f":"BIODATA!C31","v":"TANGGUH PRASETIA SUHARNA"},{"$f":"BIODATA!D31","v":16170605}]
[{"$f":"BIODATA!A32","v":28},{"$f":"BIODATA!C32","v":"TARIZ MAULIZIDANE FAZILLA"},{"$f":"BIODATA!D32","v":16170606}]
[{"$f":"BIODATA!A33","v":29},{"$f":"BIODATA!C33","v":"TUBAGUS AJANG SUMBOGA"},{"$f":"BIODATA!D33","v":16170443}]
[{"$f":"BIODATA!A34","v":30},{"$f":"BIODATA!C34","v":"WIKSAN ZUJALIS"},{"$f":"BIODATA!D34","v":16170611}]
[{"$f":"BIODATA!A35","v":31},{"$f":"BIODATA!C35","v":"YUNAN DWI SASONGKO"},{"$f":"BIODATA!D35","v":16170448}]
[{"$f":"BIODATA!A36","v":"-"},{"$f":"BIODATA!C36","v":0},{"$f":"BIODATA!D36","v":0}]
[{"$f":"BIODATA!A37","v":"-"},{"$f":"BIODATA!C37","v":0},{"$f":"BIODATA!D37","v":0}]
[{"$f":"BIODATA!A38","v":"-"},{"$f":"BIODATA!C38","v":0},{"$f":"BIODATA!D38","v":0}]
[{"$f":"BIODATA!A39","v":"-"},{"$f":"BIODATA!C39","v":0},{"$f":"BIODATA!D39","v":0}]
[{"$f":"BIODATA!A40","v":"-"},{"$f":"BIODATA!C40","v":0},{"$f":"BIODATA!D40","v":0}]
[]
[]
[]
[]
[]
[]
[]
[]
[]
[]
[]
[]
[]
[]
[]
[]
[]
[]
[]
[]
[]
[null,null,null,3.59]
[null,null,null,3.59]
[null,null,null,3.5]
[null,null,null,3.48]
[null,null,null,3.54]
[null,null,null,3.39]
[null,null,null,3.45]
[null,null,null,3.45]
[null,null,null,3.29]
[null,null,null,3.45]
[null,null,null,3.45]
[null,null,null,3.45]

{"sheet":"NILSM5","index":29,"n_rows":76,"n_cols":174,"rows_kept":76,"cut":false,"hidden":false,"merged":[[1,0,1,1]]}
[null,null,"NIS","PABT1","PABU1","PABT2","PABU2","PABT3","PABU3","PABH","PKNT1","PKNU1","PKNT2","PKNU2","PKNT3","PKNU3","PKNH","INDT1","INDU1","INDT2","INDU2","INDT3","INDU3","INDH","MTKT1","MTKU1","MTKT2","MTKU2","MTKT3","MTKU3","MTKH","SJIT1","SJIU1","SJIT2","SJIU2","SJIT3","SJIU3","SJIH","INGT1","INGU1","INGT2","INGU2","INGT3","INGU3","INGH","JERT1","JERU1","JERT2","JERU2","JERT3","JERU3","JERH","SBDT1","SBDU1","SBDT2","SBDU2","SBDT3","SBDU3","SBDH","PJOT1","PJOU1","PJOT2","PJOU2","PJOT3","PJOU3","PJOH","SKDT1","SKDU1","SKDT2","SKDU2","SKDT3","SKDU3","SKDH","FIST1","FISU1","FIST2","FISU2","FIST3","FISU3","FISH","KIMT1","KIMU1","KIMT2","KIMU2","KIMT3","KIMU3","KIMH","C21T1","C21U1","C21T2","C21U2","C21T3","C21U3","C21H","C22T1","C22U1","C22T2","C22U2","C22T3","C22U3","C22H","C23T1","C23U1","C23T2","C23U2","C23T3","C23U3","C23H","C24T1","C24U1","C24T2","C24U2","C24T3","C24U3","C24H","C31T1","C31U1","C31T2","C31U2","C31T3","C31U3","C31H","C32T1","C32U1","C32T2","C32U2","C32T3","C32U3","C32H","C33T1","C33U1","C33T2","C33U2","C33T3","C33U3","C33H","C34T1","C34U1","C34T2","C34U2","C34T3","C34U3","C34H","C35T1","C35U1","C35T2","C35U2","C35T3","C35U3","C35H","C36T1","C36U1","C36T2","C36U2","C36T3","C36U3","C36H","SUNT1","SUNU1","SUNT2","SUNU2","SUNT3","SUNU3","SUNH","PLHT1","PLHU1","PLHT2","PLHU2","PLHT3","PLHU3","PLHH",null,"BKN","CTT"]
[{"$f":"\"INPUT NILAI CAPAIAN KOMPETENSI TP \"&TITIMANGSA!D3","v":"INPUT NILAI CAPAIAN KOMPETENSI TP 2020 / 2021"},null,"                    NAMA MAPEL",{"$f":"IF(OR($B$3=\"1 (satu)\",$B$3=\"2 (dua)\"),HLOOKUP($C$3,TABMAPEL_X,DBLOGIC!Q2,FALSE),IF(OR($B$3=\"3 (tiga)\",$B$3=\"4 (empat)\"),HLOOKUP($C$3,TABMAPEL_XI,DBLOGIC!Q2,FALSE),IF(OR($B$3=\"5 (lima)\",$B$3=\"6 (enam)\"),HLOOKUP($C$3,TABMAPEL_XII,DBLOGIC!Q2,FALSE),IF(OR($B$3=\"7 (tujuh)\",$B$3=\"8 (delapan)\"),HLOOKUP($C$3,TABMAPEL_XIII,DBLOGIC!Q2,FALSE),0))))","v":"Pendidikan Agama dan Budi Pekerti"},{"$f":"IF(OR($B$3=\"1 (satu)\",$B$3=\"2 (dua)\"),HLOOKUP($C$3,TABMAPEL_X,DBLOGIC!R2,FALSE),IF(OR($B$3=\"3 (tiga)\",$B$3=\"4 (empat)\"),HLOOKUP($C$3,TABMAPEL_XI,DBLOGIC!R2,FALSE),IF(OR($B$3=\"5 (lima)\",$B$3=\"6 (enam)\"),HLOOKUP($C$3,TABMAPEL_XII,DBLOGIC!R2,FALSE),IF(OR($B$3=\"7 (tujuh)\",$B$3=\"8 (delapan)\"),HLOOKUP($C$3,TABMAPEL_XIII,DBLOGIC!R2,FALSE),0))))","v":"Pendidikan Agama dan Budi Pekerti"},{"$f":"IF(OR($B$3=\"1 (satu)\",$B$3=\"2 (dua)\"),HLOOKUP($C$3,TABMAPEL_X,DBLOGIC!S2,FALSE),IF(OR($B$3=\"3 (tiga)\",$B$3=\"4 (empat)\"),HLOOKUP($C$3,TABMAPEL_XI,DBLOGIC!S2,FALSE),IF(OR($B$3=\"5 (lima)\",$B$3=\"6 (enam)\"),HLOOKUP($C$3,TABMAPEL_XII,DBLOGIC!S2,FALSE),IF(OR($B$3=\"7 (tujuh)\",$B$3=\"8 (delapan)\"),HLOOKUP($C$3,TABMAPEL_XIII,DBLOGIC!S2,FALSE),0))))","v":"Pendidikan Agama dan Budi Pekerti"},{"$f":"IF(OR($B$3=\"1 (satu)\",$B$3=\"2 (dua)\"),HLOOKUP($C$3,TABMAPEL_X,DBLOGIC!T2,FALSE),IF(OR($B$3=\"3 (tiga)\",$B$3=\"4 (empat)\"),HLOOKUP($C$3,TABMAPEL_XI,DBLOGIC!T2,FALSE),IF(OR($B$3=\"5 (lima)\",$B$3=\"6 (enam)\"),HLOOKUP($C$3,TABMAPEL_XII,DBLOGIC!T2,FALSE),IF(OR($B$3=\"7 (tujuh)\",$B$3=\"8 (delapan)\"),HLOOKUP($C$3,TABMAPEL_XIII,DBLOGIC!T2,FALSE),0))))","v":"Pendidikan Agama dan Budi Pekerti"},{"$f":"IF(OR($B$3=\"1 (satu)\",$B$3=\"2 (dua)\"),HLOOKUP($C$3,TABMAPEL_X,DBLOGIC!U2,FALSE),IF(OR($B$3=\"3 (tiga)\",$B$3=\"4 (empat)\"),HLOOKUP($C$3,TABMAPEL_XI,DBLOGIC!U2,FALSE),IF(OR($B$3=\"5 (lima)\",$B$3=\"6 (enam)\"),HLOOKUP($C$3,TABMAPEL_XII,DBLOGIC!U2,FALSE),IF(OR($B$3=\"7 (tujuh)\",$B$3=\"8 (delapan)\"),HLOOKUP($C$3,TABMAPEL_XIII,DBLOGIC!U2,FALSE),0))))","v":"Pendidikan Agama dan Budi Pekerti"},{"$f":"IF(OR($B$3=\"1 (satu)\",$B$3=\"2 (dua)\"),HLOOKUP($C$3,TABMAPEL_X,DBLOGIC!V2,FALSE),IF(OR($B$3=\"3 (tiga)\",$B$3=\"4 (empat)\"),HLOOKUP($C$3,TABMAPEL_XI,DBLOGIC!V2,FALSE),IF(OR($B$3=\"5 (lima)\",$B$3=\"6 (enam)\"),HLOOKUP($C$3,TABMAPEL_XII,DBLOGIC!V2,FALSE),IF(OR($B$3=\"7 (tujuh)\",$B$3=\"8 (delapan)\"),HLOOKUP($C$3,TABMAPEL_XIII,DBLOGIC!V2,FALSE),0))))","v":"Pendidikan Agama dan Budi Pekerti"},{"$f":"IF(OR($B$3=\"1 (satu)\",$B$3=\"2 (dua)\"),HLOOKUP($C$3,TABMAPEL_X,DBLOGIC!W2,FALSE),IF(OR($B$3=\"3 (tiga)\",$B$3=\"4 (empat)\"),HLOOKUP($C$3,TABMAPEL_XI,DBLOGIC!W2,FALSE),IF(OR($B$3=\"5 (lima)\",$B$3=\"6 (enam)\"),HLOOKUP($C$3,TABMAPEL_XII,DBLOGIC!W2,FALSE),IF(OR($B$3=\"7 (tujuh)\",$B$3=\"8 (delapan)\"),HLOOKUP($C$3,TABMAPEL_XIII,DBLOGIC!W2,FALSE),0))))","v":"Pendidikan Agama dan Budi Pekerti"},{"$f":"IF(OR($B$3=\"1 (satu)\",$B$3=\"2 (dua)\"),HLOOKUP($C$3,TABMAPEL_X,DBLOGIC!X2,FALSE),IF(OR($B$3=\"3 (tiga)\",$B$3=\"4 (empat)\"),HLOOKUP($C$3,TABMAPEL_XI,DBLOGIC!X2,FALSE),IF(OR($B$3=\"5 (lima)\",$B$3=\"6 (enam)\"),HLOOKUP($C$3,TABMAPEL_XII,DBLOGIC!X2,FALSE),IF(OR($B$3=\"7 (tujuh)\",$B$3=\"8 (delapan)\"),HLOOKUP($C$3,TABMAPEL_XIII,DBLOGIC!X2,FALSE),0))))","v":"Pendidikan Pancasila dan Kewarganegaraan"},{"$f":"IF(OR($B$3=\"1 (satu)\",$B$3=\"2 (dua)\"),HLOOKUP($C$3,TABMAPEL_X,DBLOGIC!Y2,FALSE),IF(OR($B$3=\"3 (tiga)\",$B$3=\"4 (empat)\"),HLOOKUP($C$3,TABMAPEL_XI,DBLOGIC!Y2,FALSE),IF(OR($B$3=\"5 (lima)\",$B$3=\"6 (enam)\"),HLOOKUP($C$3,TABMAPEL_XII,DBLOGIC!Y2,FALSE),IF(OR($B$3=\"7 (tujuh)\",$B$3=\"8 (delapan)\"),HLOOKUP($C$3,TABMAPEL_XIII,DBLOGIC!Y2,FALSE),0))))","v":"Pendidikan Pancasila dan Kewarganegaraan"},{"$f":"IF(OR($B$3=\"1 (satu)\",$B$3=\"2 (dua)\"),HLOOKUP($C$3,TABMAPEL_X,DBLOGIC!Z2,FALSE),IF(OR($B$3=\"3 (tiga)\",$B$3=\"4 (empat)\"),HLOOKUP($C$3,TABMAPEL_XI,DBLOGIC!Z2,FALSE),IF(OR($B$3=\"5 (lima)\",$B$3=\"6 (enam)\"),HLOOKUP($C$3,TABMAPEL_XII,DBLOGIC!Z2,FALSE),IF(OR($B$3=\"7 (tujuh)\",$B$3=\"8 (delapan)\"),HLOOKUP($C$3,TABMAPEL_XIII,DBLOGIC!Z2,FALSE),0))))","v":"Pendidikan Pancasila dan Kewarganegaraan"},{"$f":"IF(OR($B$3=\"1 (satu)\",$B$3=\"2 (dua)\"),HLOOKUP($C$3,TABMAPEL_X,DBLOGIC!AA2,FALSE),IF(OR($B$3=\"3 (tiga)\",$B$3=\"4 (empat)\"),HLOOKUP($C$3,TABMAPEL_XI,DBLOGIC!AA2,FALSE),IF(OR($B$3=\"5 (lima)\",$B$3=\"6 (enam)\"),HLOOKUP($C$3,TABMAPEL_XII,DBLOGIC!AA2,FALSE),IF(OR($B$3=\"7 (tujuh)\",$B$3=\"8 (delapan)\"),HLOOKUP($C$3,TABMAPEL_XIII,DBLOGIC!AA2,FALSE),0))))","v":"Pendidikan Pancasila dan Kewarganegaraan"},{"$f":"IF(OR($B$3=\"1 (satu)\",$B$3=\"2 (dua)\"),HLOOKUP($C$3,TABMAPEL_X,DBLOGIC!AB2,FALSE),IF(OR($B$3=\"3 (tiga)\",$B$3=\"4 (empat)\"),HLOOKUP($C$3,TABMAPEL_XI,DBLOGIC!AB2,FALSE),IF(OR($B$3=\"5 (lima)\",$B$3=\"6 (enam)\"),HLOOKUP($C$3,TABMAPEL_XII,DBLOGIC!AB2,FALSE),IF(OR($B$3=\"7 (tujuh)\",$B$3=\"8 (delapan)\"),HLOOKUP($C$3,TABMAPEL_XIII,DBLOGIC!AB2,FALSE),0))))","v":"Pendidikan Pancasila dan Kewarganegaraan"},{"$f":"IF(OR($B$3=\"1 (satu)\",$B$3=\"2 (dua)\"),HLOOKUP($C$3,TABMAPEL_X,DBLOGIC!AC2,FALSE),IF(OR($B$3=\"3 (tiga)\",$B$3=\"4 (empat)\"),HLOOKUP($C$3,TABMAPEL_XI,DBLOGIC!AC2,FALSE),IF(OR($B$3=\"5 (lima)\",$B$3=\"6 (enam)\"),HLOOKUP($C$3,TABMAPEL_XII,DBLOGIC!AC2,FALSE),IF(OR($B$3=\"7 (tujuh)\",$B$3=\"8 (delapan)\"),HLOOKUP($C$3,TABMAPEL_XIII,DBLOGIC!AC2,FALSE),0))))","v":"Pendidikan Pancasila dan Kewarganegaraan"},{"$f":"IF(OR($B$3=\"1 (satu)\",$B$3=\"2 (dua)\"),HLOOKUP($C$3,TABMAPEL_X,DBLOGIC!AD2,FALSE),IF(OR($B$3=\"3 (tiga)\",$B$3=\"4 (empat)\"),HLOOKUP($C$3,TABMAPEL_XI,DBLOGIC!AD2,FALSE),IF(OR($B$3=\"5 (lima)\",$B$3=\"6 (enam)\"),HLOOKUP($C$3,TABMAPEL_XII,DBLOGIC!AD2,FALSE),IF(OR($B$3=\"7 (tujuh)\",$B$3=\"8 (delapan)\"),HLOOKUP($C$3,TABMAPEL_XIII,DBLOGIC!AD2,FALSE),0))))","v":"Pendidikan Pancasila dan Kewarganegaraan"},{"$f":"IF(OR($B$3=\"1 (satu)\",$B$3=\"2 (dua)\"),HLOOKUP($C$3,TABMAPEL_X,DBLOGIC!AE2,FALSE),IF(OR($B$3=\"3 (tiga)\",$B$3=\"4 (empat)\"),HLOOKUP($C$3,TABMAPEL_XI,DBLOGIC!AE2,FALSE),IF(OR($B$3=\"5 (lima)\",$B$3=\"6 (enam)\"),HLOOKUP($C$3,TABMAPEL_XII,DBLOGIC!AE2,FALSE),IF(OR($B$3=\"7 (tujuh)\",$B$3=\"8 (delapan)\"),HLOOKUP($C$3,TABMAPEL_XIII,DBLOGIC!AE2,FALSE),0))))","v":"Bahasa Indonesia"},{"$f":"IF(OR($B$3=\"1 (satu)\",$B$3=\"2 (dua)\"),HLOOKUP($C$3,TABMAPEL_X,DBLOGIC!AF2,FALSE),IF(OR($B$3=\"3 (tiga)\",$B$3=\"4 (empat)\"),HLOOKUP($C$3,TABMAPEL_XI,DBLOGIC!AF2,FALSE),IF(OR($B$3=\"5 (lima)\",$B$3=\"6 (enam)\"),HLOOKUP($C$3,TABMAPEL_XII,DBLOGIC!AF2,FALSE),IF(OR($B$3=\"7 (tujuh)\",$B$3=\"8 (delapan)\"),HLOOKUP($C$3,TABMAPEL_XIII,DBLOGIC!AF2,FALSE),0))))","v":"Bahasa Indonesia"},{"$f":"IF(OR($B$3=\"1 (satu)\",$B$3=\"2 (dua)\"),HLOOKUP($C$3,TABMAPEL_X,DBLOGIC!AG2,FALSE),IF(OR($B$3=\"3 (tiga)\",$B$3=\"4 (empat)\"),HLOOKUP($C$3,TABMAPEL_XI,DBLOGIC!AG2,FALSE),IF(OR($B$3=\"5 (lima)\",$B$3=\"6 (enam)\"),HLOOKUP($C$3,TABMAPEL_XII,DBLOGIC!AG2,FALSE),IF(OR($B$3=\"7 (tujuh)\",$B$3=\"8 (delapan)\"),HLOOKUP($C$3,TABMAPEL_XIII,DBLOGIC!AG2,FALSE),0))))","v":"Bahasa Indonesia"},{"$f":"IF(OR($B$3=\"1 (satu)\",$B$3=\"2 (dua)\"),HLOOKUP($C$3,TABMAPEL_X,DBLOGIC!AH2,FALSE),IF(OR($B$3=\"3 (tiga)\",$B$3=\"4 (empat)\"),HLOOKUP($C$3,TABMAPEL_XI,DBLOGIC!AH2,FALSE),IF(OR($B$3=\"5 (lima)\",$B$3=\"6 (enam)\"),HLOOKUP($C$3,TABMAPEL_XII,DBLOGIC!AH2,FALSE),IF(OR($B$3=\"7 (tujuh)\",$B$3=\"8 (delapan)\"),HLOOKUP($C$3,TABMAPEL_XIII,DBLOGIC!AH2,FALSE),0))))","v":"Bahasa Indonesia"},{"$f":"IF(OR($B$3=\"1 (satu)\",$B$3=\"2 (dua)\"),HLOOKUP($C$3,TABMAPEL_X,DBLOGIC!AI2,FALSE),IF(OR($B$3=\"3 (tiga)\",$B$3=\"4 (empat)\"),HLOOKUP($C$3,TABMAPEL_XI,DBLOGIC!AI2,FALSE),IF(OR($B$3=\"5 (lima)\",$B$3=\"6 (enam)\"),HLOOKUP($C$3,TABMAPEL_XII,DBLOGIC!AI2,FALSE),IF(OR($B$3=\"7 (tujuh)\",$B$3=\"8 (delapan)\"),HLOOKUP($C$3,TABMAPEL_XIII,DBLOGIC!AI2,FALSE),0))))","v":"Bahasa Indonesia"},{"$f":"IF(OR($B$3=\"1 (satu)\",$B$3=\"2 (dua)\"),HLOOKUP($C$3,TABMAPEL_X,DBLOGIC!AJ2,FALSE),IF(OR($B$3=\"3 (tiga)\",$B$3=\"4 (empat)\"),HLOOKUP($C$3,TABMAPEL_XI,DBLOGIC!AJ2,FALSE),IF(OR($B$3=\"5 (lima)\",$B$3=\"6 (enam)\"),HLOOKUP($C$3,TABMAPEL_XII,DBLOGIC!AJ2,FALSE),IF(OR($B$3=\"7 (tujuh)\",$B$3=\"8 (delapan)\"),HLOOKUP($C$3,TABMAPEL_XIII,DBLOGIC!AJ2,FALSE),0))))","v":"Bahasa Indonesia"},{"$f":"IF(OR($B$3=\"1 (satu)\",$B$3=\"2 (dua)\"),HLOOKUP($C$3,TABMAPEL_X,DBLOGIC!AK2,FALSE),IF(OR($B$3=\"3 (tiga)\",$B$3=\"4 (empat)\"),HLOOKUP($C$3,TABMAPEL_XI,DBLOGIC!AK2,FALSE),IF(OR($B$3=\"5 (lima)\",$B$3=\"6 (enam)\"),HLOOKUP($C$3,TABMAPEL_XII,DBLOGIC!AK2,FALSE),IF(OR($B$3=\"7 (tujuh)\",$B$3=\"8 (delapan)\"),HLOOKUP($C$3,TABMAPEL_XIII,DBLOGIC!AK2,FALSE),0))))","v":"Bahasa Indonesia"},{"$f":"IF(OR($B$3=\"1 (satu)\",$B$3=\"2 (dua)\"),HLOOKUP($C$3,TABMAPEL_X,DBLOGIC!AL2,FALSE),IF(OR($B$3=\"3 (tiga)\",$B$3=\"4 (empat)\"),HLOOKUP($C$3,TABMAPEL_XI,DBLOGIC!AL2,FALSE),IF(OR($B$3=\"5 (lima)\",$B$3=\"6 (enam)\"),HLOOKUP($C$3,TABMAPEL_XII,DBLOGIC!AL2,FALSE),IF(OR($B$3=\"7 (tujuh)\",$B$3=\"8 (delapan)\"),HLOOKUP($C$3,TABMAPEL_XIII,DBLOGIC!AL2,FALSE),0))))","v":"Matematika"},{"$f":"IF(OR($B$3=\"1 (satu)\",$B$3=\"2 (dua)\"),HLOOKUP($C$3,TABMAPEL_X,DBLOGIC!AM2,FALSE),IF(OR($B$3=\"3 (tiga)\",$B$3=\"4 (empat)\"),HLOOKUP($C$3,TABMAPEL_XI,DBLOGIC!AM2,FALSE),IF(OR($B$3=\"5 (lima)\",$B$3=\"6 (enam)\"),HLOOKUP($C$3,TABMAPEL_XII,DBLOGIC!AM2,FALSE),IF(OR($B$3=\"7 (tujuh)\",$B$3=\"8 (delapan)\"),HLOOKUP($C$3,TABMAPEL_XIII,DBLOGIC!AM2,FALSE),0))))","v":"Matematika"},{"$f":"IF(OR($B$3=\"1 (satu)\",$B$3=\"2 (dua)\"),HLOOKUP($C$3,TABMAPEL_X,DBLOGIC!AN2,FALSE),IF(OR($B$3=\"3 (tiga)\",$B$3=\"4 (empat)\"),HLOOKUP($C$3,TABMAPEL_XI,DBLOGIC!AN2,FALSE),IF(OR($B$3=\"5 (lima)\",$B$3=\"6 (enam)\"),HLOOKUP($C$3,TABMAPEL_XII,DBLOGIC!AN2,FALSE),IF(OR($B$3=\"7 (tujuh)\",$B$3=\"8 (delapan)\"),HLOOKUP($C$3,TABMAPEL_XIII,DBLOGIC!AN2,FALSE),0))))","v":"Matematika"},{"$f":"IF(OR($B$3=\"1 (satu)\",$B$3=\"2 (dua)\"),HLOOKUP($C$3,TABMAPEL_X,DBLOGIC!AO2,FALSE),IF(OR($B$3=\"3 (tiga)\",$B$3=\"4 (empat)\"),HLOOKUP($C$3,TABMAPEL_XI,DBLOGIC!AO2,FALSE),IF(OR($B$3=\"5 (lima)\",$B$3=\"6 (enam)\"),HLOOKUP($C$3,TABMAPEL_XII,DBLOGIC!AO2,FALSE),IF(OR($B$3=\"7 (tujuh)\",$B$3=\"8 (delapan)\"),HLOOKUP($C$3,TABMAPEL_XIII,DBLOGIC!AO2,FALSE),0))))","v":"Matematika"},{"$f":"IF(OR($B$3=\"1 (satu)\",$B$3=\"2 (dua)\"),HLOOKUP($C$3,TABMAPEL_X,DBLOGIC!AP2,FALSE),IF(OR($B$3=\"3 (tiga)\",$B$3=\"4 (empat)\"),HLOOKUP($C$3,TABMAPEL_XI,DBLOGIC!AP2,FALSE),IF(OR($B$3=\"5 (lima)\",$B$3=\"6 (enam)\"),HLOOKUP($C$3,TABMAPEL_XII,DBLOGIC!AP2,FALSE),IF(OR($B$3=\"7 (tujuh)\",$B$3=\"8 (delapan)\"),HLOOKUP($C$3,TABMAPEL_XIII,DBLOGIC!AP2,FALSE),0))))","v":"Matematika"},{"$f":"IF(OR($B$3=\"1 (satu)\",$B$3=\"2 (dua)\"),HLOOKUP($C$3,TABMAPEL_X,DBLOGIC!AQ2,FALSE),IF(OR($B$3=\"3 (tiga)\",$B$3=\"4 (empat)\"),HLOOKUP($C$3,TABMAPEL_XI,DBLOGIC!AQ2,FALSE),IF(OR($B$3=\"5 (lima)\",$B$3=\"6 (enam)\"),HLOOKUP($C$3,TABMAPEL_XII,DBLOGIC!AQ2,FALSE),IF(OR($B$3=\"7 (tujuh)\",$B$3=\"8 (delapan)\"),HLOOKUP($C$3,TABMAPEL_XIII,DBLOGIC!AQ2,FALSE),0))))","v":"Matematika"},{"$f":"IF(OR($B$3=\"1 (satu)\",$B$3=\"2 (dua)\"),HLOOKUP($C$3,TABMAPEL_X,DBLOGIC!AR2,FALSE),IF(OR($B$3=\"3 (tiga)\",$B$3=\"4 (empat)\"),HLOOKUP($C$3,TABMAPEL_XI,DBLOGIC!AR2,FALSE),IF(OR($B$3=\"5 (lima)\",$B$3=\"6 (enam)\"),HLOOKUP($C$3,TABMAPEL_XII,DBLOGIC!AR2,FALSE),IF(OR($B$3=\"7 (tujuh)\",$B$3=\"8 (delapan)\"),HLOOKUP($C$3,TABMAPEL_XIII,DBLOGIC!AR2,FALSE),0))))","v":"Matematika"},{"$f":"IF(OR($B$3=\"1 (satu)\",$B$3=\"2 (dua)\"),HLOOKUP($C$3,TABMAPEL_X,DBLOGIC!AS2,FALSE),IF(OR($B$3=\"3 (tiga)\",$B$3=\"4 (empat)\"),HLOOKUP($C$3,TABMAPEL_XI,DBLOGIC!AS2,FALSE),IF(OR($B$3=\"5 (lima)\",$B$3=\"6 (enam)\"),HLOOKUP($C$3,TABMAPEL_XII,DBLOGIC!AS2,FALSE),IF(OR($B$3=\"7 (tujuh)\",$B$3=\"8 (delapan)\"),HLOOKUP($C$3,TABMAPEL_XIII,DBLOGIC!AS2,FALSE),0))))","v":"-"},{"$f":"IF(OR($B$3=\"1 (satu)\",$B$3=\"2 (dua)\"),HLOOKUP($C$3,TABMAPEL_X,DBLOGIC!AT2,FALSE),IF(OR($B$3=\"3 (tiga)\",$B$3=\"4 (empat)\"),HLOOKUP($C$3,TABMAPEL_XI,DBLOGIC!AT2,FALSE),IF(OR($B$3=\"5 (lima)\",$B$3=\"6 (enam)\"),HLOOKUP($C$3,TABMAPEL_XII,DBLOGIC!AT2,FALSE),IF(OR($B$3=\"7 (tujuh)\",$B$3=\"8 (delapan)\"),HLOOKUP($C$3,TABMAPEL_XIII,DBLOGIC!AT2,FALSE),0))))","v":"-"},{"$f":"IF(OR($B$3=\"1 (satu)\",$B$3=\"2 (dua)\"),HLOOKUP($C$3,TABMAPEL_X,DBLOGIC!AU2,FALSE),IF(OR($B$3=\"3 (tiga)\",$B$3=\"4 (empat)\"),HLOOKUP($C$3,TABMAPEL_XI,DBLOGIC!AU2,FALSE),IF(OR($B$3=\"5 (lima)\",$B$3=\"6 (enam)\"),HLOOKUP($C$3,TABMAPEL_XII,DBLOGIC!AU2,FALSE),IF(OR($B$3=\"7 (tujuh)\",$B$3=\"8 (delapan)\"),HLOOKUP($C$3,TABMAPEL_XIII,DBLOGIC!AU2,FALSE),0))))","v":"-"},{"$f":"IF(OR($B$3=\"1 (satu)\",$B$3=\"2 (dua)\"),HLOOKUP($C$3,TABMAPEL_X,DBLOGIC!AV2,FALSE),IF(OR($B$3=\"3 (tiga)\",$B$3=\"4 (empat)\"),HLOOKUP($C$3,TABMAPEL_XI,DBLOGIC!AV2,FALSE),IF(OR($B$3=\"5 (lima)\",$B$3=\"6 (enam)\"),HLOOKUP($C$3,TABMAPEL_XII,DBLOGIC!AV2,FALSE),IF(OR($B$3=\"7 (tujuh)\",$B$3=\"8 (delapan)\"),HLOOKUP($C$3,TABMAPEL_XIII,DBLOGIC!AV2,FALSE),0))))","v":"-"},{"$f":"IF(OR($B$3=\"1 (satu)\",$B$3=\"2 (dua)\"),HLOOKUP($C$3,TABMAPEL_X,DBLOGIC!AW2,FALSE),IF(OR($B$3=\"3 (tiga)\",$B$3=\"4 (empat)\"),HLOOKUP($C$3,TABMAPEL_XI,DBLOGIC!AW2,FALSE),IF(OR($B$3=\"5 (lima)\",$B$3=\"6 (enam)\"),HLOOKUP($C$3,TABMAPEL_XII,DBLOGIC!AW2,FALSE),IF(OR($B$3=\"7 (tujuh)\",$B$3=\"8 (delapan)\"),HLOOKUP($C$3,TABMAPEL_XIII,DBLOGIC!AW2,FALSE),0))))","v":"-"},{"$f":"IF(OR($B$3=\"1 (satu)\",$B$3=\"2 (dua)\"),HLOOKUP($C$3,TABMAPEL_X,DBLOGIC!AX2,FALSE),IF(OR($B$3=\"3 (tiga)\",$B$3=\"4 (empat)\"),HLOOKUP($C$3,TABMAPEL_XI,DBLOGIC!AX2,FALSE),IF(OR($B$3=\"5 (lima)\",$B$3=\"6 (enam)\"),HLOOKUP($C$3,TABMAPEL_XII,DBLOGIC!AX2,FALSE),IF(OR($B$3=\"7 (tujuh)\",$B$3=\"8 (delapan)\"),HLOOKUP($C$3,TABMAPEL_XIII,DBLOGIC!AX2,FALSE),0))))","v":"-"},{"$f":"IF(OR($B$3=\"1 (satu)\",$B$3=\"2 (dua)\"),HLOOKUP($C$3,TABMAPEL_X,DBLOGIC!AY2,FALSE),IF(OR($B$3=\"3 (tiga)\",$B$3=\"4 (empat)\"),HLOOKUP($C$3,TABMAPEL_XI,DBLOGIC!AY2,FALSE),IF(OR($B$3=\"5 (lima)\",$B$3=\"6 (enam)\"),HLOOKUP($C$3,TABMAPEL_XII,DBLOGIC!AY2,FALSE),IF(OR($B$3=\"7 (tujuh)\",$B$3=\"8 (delapan)\"),HLOOKUP($C$3,TABMAPEL_XIII,DBLOGIC!AY2,FALSE),0))))","v":"-"},{"$f":"IF(OR($B$3=\"1 (satu)\",$B$3=\"2 (dua)\"),HLOOKUP($C$3,TABMAPEL_X,DBLOGIC!AZ2,FALSE),IF(OR($B$3=\"3 (tiga)\",$B$3=\"4 (empat)\"),HLOOKUP($C$3,TABMAPEL_XI,DBLOGIC!AZ2,FALSE),IF(OR($B$3=\"5 (lima)\",$B$3=\"6 (enam)\"),HLOOKUP($C$3,TABMAPEL_XII,DBLOGIC!AZ2,FALSE),IF(OR($B$3=\"7 (tujuh)\",$B$3=\"8 (delapan)\"),HLOOKUP($C$3,TABMAPEL_XIII,DBLOGIC!AZ2,FALSE),0))))","v":"Bahasa Inggris"},{"$f":"IF(OR($B$3=\"1 (satu)\",$B$3=\"2 (dua)\"),HLOOKUP($C$3,TABMAPEL_X,DBLOGIC!BA2,FALSE),IF(OR($B$3=\"3 (tiga)\",$B$3=\"4 (empat)\"),HLOOKUP($C$3,TABMAPEL_XI,DBLOGIC!BA2,FALSE),IF(OR($B$3=\"5 (lima)\",$B$3=\"6 (enam)\"),HLOOKUP($C$3,TABMAPEL_XII,DBLOGIC!BA2,FALSE),IF(OR($B$3=\"7 (tujuh)\",$B$3=\"8 (delapan)\"),HLOOKUP($C$3,TABMAPEL_XIII,DBLOGIC!BA2,FALSE),0))))","v":"Bahasa Inggris"},{"$f":"IF(OR($B$3=\"1 (satu)\",$B$3=\"2 (dua)\"),HLOOKUP($C$3,TABMAPEL_X,DBLOGIC!BB2,FALSE),IF(OR($B$3=\"3 (tiga)\",$B$3=\"4 (empat)\"),HLOOKUP($C$3,TABMAPEL_XI,DBLOGIC!BB2,FALSE),IF(OR($B$3=\"5 (lima)\",$B$3=\"6 (enam)\"),HLOOKUP($C$3,TABMAPEL_XII,DBLOGIC!BB2,FALSE),IF(OR($B$3=\"7 (tujuh)\",$B$3=\"8 (delapan)\"),HLOOKUP($C$3,TABMAPEL_XIII,DBLOGIC!BB2,FALSE),0))))","v":"Bahasa Inggris"},{"$f":"IF(OR($B$3=\"1 (satu)\",$B$3=\"2 (dua)\"),HLOOKUP($C$3,TABMAPEL_X,DBLOGIC!BC2,FALSE),IF(OR($B$3=\"3 (tiga)\",$B$3=\"4 (empat)\"),HLOOKUP($C$3,TABMAPEL_XI,DBLOGIC!BC2,FALSE),IF(OR($B$3=\"5 (lima)\",$B$3=\"6 (enam)\"),HLOOKUP($C$3,TABMAPEL_XII,DBLOGIC!BC2,FALSE),IF(OR($B$3=\"7 (tujuh)\",$B$3=\"8 (delapan)\"),HLOOKUP($C$3,TABMAPEL_XIII,DBLOGIC!BC2,FALSE),0))))","v":"Bahasa Inggris"},{"$f":"IF(OR($B$3=\"1 (satu)\",$B$3=\"2 (dua)\"),HLOOKUP($C$3,TABMAPEL_X,DBLOGIC!BD2,FALSE),IF(OR($B$3=\"3 (tiga)\",$B$3=\"4 (empat)\"),HLOOKUP($C$3,TABMAPEL_XI,DBLOGIC!BD2,FALSE),IF(OR($B$3=\"5 (lima)\",$B$3=\"6 (enam)\"),HLOOKUP($C$3,TABMAPEL_XII,DBLOGIC!BD2,FALSE),IF(OR($B$3=\"7 (tujuh)\",$B$3=\"8 (delapan)\"),HLOOKUP($C$3,TABMAPEL_XIII,DBLOGIC!BD2,FALSE),0))))","v":"Bahasa Inggris"},{"$f":"IF(OR($B$3=\"1 (satu)\",$B$3=\"2 (dua)\"),HLOOKUP($C$3,TABMAPEL_X,DBLOGIC!BE2,FALSE),IF(OR($B$3=\"3 (tiga)\",$B$3=\"4 (empat)\"),HLOOKUP($C$3,TABMAPEL_XI,DBLOGIC!BE2,FALSE),IF(OR($B$3=\"5 (lima)\",$B$3=\"6 (enam)\"),HLOOKUP($C$3,TABMAPEL_XII,DBLOGIC!BE2,FALSE),IF(OR($B$3=\"7 (tujuh)\",$B$3=\"8 (delapan)\"),HLOOKUP($C$3,TABMAPEL_XIII,DBLOGIC!BE2,FALSE),0))))","v":"Bahasa Inggris"},{"$f":"IF(OR($B$3=\"1 (satu)\",$B$3=\"2 (dua)\"),HLOOKUP($C$3,TABMAPEL_X,DBLOGIC!BF2,FALSE),IF(OR($B$3=\"3 (tiga)\",$B$3=\"4 (empat)\"),HLOOKUP($C$3,TABMAPEL_XI,DBLOGIC!BF2,FALSE),IF(OR($B$3=\"5 (lima)\",$B$3=\"6 (enam)\"),HLOOKUP($C$3,TABMAPEL_XII,DBLOGIC!BF2,FALSE),IF(OR($B$3=\"7 (tujuh)\",$B$3=\"8 (delapan)\"),HLOOKUP($C$3,TABMAPEL_XIII,DBLOGIC!BF2,FALSE),0))))","v":"Bahasa Inggris"},{"$f":"IF(OR($B$3=\"1 (satu)\",$B$3=\"2 (dua)\"),HLOOKUP($C$3,TABMAPEL_X,DBLOGIC!BG2,FALSE),IF(OR($B$3=\"3 (tiga)\",$B$3=\"4 (empat)\"),HLOOKUP($C$3,TABMAPEL_XI,DBLOGIC!BG2,FALSE),IF(OR($B$3=\"5 (lima)\",$B$3=\"6 (enam)\"),HLOOKUP($C$3,TABMAPEL_XII,DBLOGIC!BG2,FALSE),IF(OR($B$3=\"7 (tujuh)\",$B$3=\"8 (delapan)\"),HLOOKUP($C$3,TABMAPEL_XIII,DBLOGIC!BG2,FALSE),0))))","v":"Bahasa Jerman"},{"$f":"IF(OR($B$3=\"1 (satu)\",$B$3=\"2 (dua)\"),HLOOKUP($C$3,TABMAPEL_X,DBLOGIC!BH2,FALSE),IF(OR($B$3=\"3 (tiga)\",$B$3=\"4 (empat)\"),HLOOKUP($C$3,TABMAPEL_XI,DBLOGIC!BH2,FALSE),IF(OR($B$3=\"5 (lima)\",$B$3=\"6 (enam)\"),HLOOKUP($C$3,TABMAPEL_XII,DBLOGIC!BH2,FALSE),IF(OR($B$3=\"7 (tujuh)\",$B$3=\"8 (delapan)\"),HLOOKUP($C$3,TABMAPEL_XIII,DBLOGIC!BH2,FALSE),0))))","v":"Bahasa Jerman"},{"$f":"IF(OR($B$3=\"1 (satu)\",$B$3=\"2 (dua)\"),HLOOKUP($C$3,TABMAPEL_X,DBLOGIC!BI2,FALSE),IF(OR($B$3=\"3 (tiga)\",$B$3=\"4 (empat)\"),HLOOKUP($C$3,TABMAPEL_XI,DBLOGIC!BI2,FALSE),IF(OR($B$3=\"5 (lima)\",$B$3=\"6 (enam)\"),HLOOKUP($C$3,TABMAPEL_XII,DBLOGIC!BI2,FALSE),IF(OR($B$3=\"7 (tujuh)\",$B$3=\"8 (delapan)\"),HLOOKUP($C$3,TABMAPEL_XIII,DBLOGIC!BI2,FALSE),0))))","v":"Bahasa Jerman"},{"$f":"IF(OR($B$3=\"1 (satu)\",$B$3=\"2 (dua)\"),HLOOKUP($C$3,TABMAPEL_X,DBLOGIC!BJ2,FALSE),IF(OR($B$3=\"3 (tiga)\",$B$3=\"4 (empat)\"),HLOOKUP($C$3,TABMAPEL_XI,DBLOGIC!BJ2,FALSE),IF(OR($B$3=\"5 (lima)\",$B$3=\"6 (enam)\"),HLOOKUP($C$3,TABMAPEL_XII,DBLOGIC!BJ2,FALSE),IF(OR($B$3=\"7 (tujuh)\",$B$3=\"8 (delapan)\"),HLOOKUP($C$3,TABMAPEL_XIII,DBLOGIC!BJ2,FALSE),0))))","v":"Bahasa Jerman"},{"$f":"IF(OR($B$3=\"1 (satu)\",$B$3=\"2 (dua)\"),HLOOKUP($C$3,TABMAPEL_X,DBLOGIC!BK2,FALSE),IF(OR($B$3=\"3 (tiga)\",$B$3=\"4 (empat)\"),HLOOKUP($C$3,TABMAPEL_XI,DBLOGIC!BK2,FALSE),IF(OR($B$3=\"5 (lima)\",$B$3=\"6 (enam)\"),HLOOKUP($C$3,TABMAPEL_XII,DBLOGIC!BK2,FALSE),IF(OR($B$3=\"7 (tujuh)\",$B$3=\"8 (delapan)\"),HLOOKUP($C$3,TABMAPEL_XIII,DBLOGIC!BK2,FALSE),0))))","v":"Bahasa Jerman"},{"$f":"IF(OR($B$3=\"1 (satu)\",$B$3=\"2 (dua)\"),HLOOKUP($C$3,TABMAPEL_X,DBLOGIC!BL2,FALSE),IF(OR($B$3=\"3 (tiga)\",$B$3=\"4 (empat)\"),HLOOKUP($C$3,TABMAPEL_XI,DBLOGIC!BL2,FALSE),IF(OR($B$3=\"5 (lima)\",$B$3=\"6 (enam)\"),HLOOKUP($C$3,TABMAPEL_XII,DBLOGIC!BL2,FALSE),IF(OR($B$3=\"7 (tujuh)\",$B$3=\"8 (delapan)\"),HLOOKUP($C$3,TABMAPEL_XIII,DBLOGIC!BL2,FALSE),0))))","v":"Bahasa Jerman"},{"$f":"IF(OR($B$3=\"1 (satu)\",$B$3=\"2 (dua)\"),HLOOKUP($C$3,TABMAPEL_X,DBLOGIC!BM2,FALSE),IF(OR($B$3=\"3 (tiga)\",$B$3=\"4 (empat)\"),HLOOKUP($C$3,TABMAPEL_XI,DBLOGIC!BM2,FALSE),IF(OR($B$3=\"5 (lima)\",$B$3=\"6 (enam)\"),HLOOKUP($C$3,TABMAPEL_XII,DBLOGIC!BM2,FALSE),IF(OR($B$3=\"7 (tujuh)\",$B$3=\"8 (delapan)\"),HLOOKUP($C$3,TABMAPEL_XIII,DBLOGIC!BM2,FALSE),0))))","v":"Bahasa Jerman"},{"$f":"IF(OR($B$3=\"1 (satu)\",$B$3=\"2 (dua)\"),HLOOKUP($C$3,TABMAPEL_X,DBLOGIC!BN2,FALSE),IF(OR($B$3=\"3 (tiga)\",$B$3=\"4 (empat)\"),HLOOKUP($C$3,TABMAPEL_XI,DBLOGIC!BN2,FALSE),IF(OR($B$3=\"5 (lima)\",$B$3=\"6 (enam)\"),HLOOKUP($C$3,TABMAPEL_XII,DBLOGIC!BN2,FALSE),IF(OR($B$3=\"7 (tujuh)\",$B$3=\"8 (delapan)\"),HLOOKUP($C$3,TABMAPEL_XIII,DBLOGIC!BN2,FALSE),0))))","v":"-"},{"$f":"IF(OR($B$3=\"1 (satu)\",$B$3=\"2 (dua)\"),HLOOKUP($C$3,TABMAPEL_X,DBLOGIC!BO2,FALSE),IF(OR($B$3=\"3 (tiga)\",$B$3=\"4 (empat)\"),HLOOKUP($C$3,TABMAPEL_XI,DBLOGIC!BO2,FALSE),IF(OR($B$3=\"5 (lima)\",$B$3=\"6 (enam)\"),HLOOKUP($C$3,TABMAPEL_XII,DBLOGIC!BO2,FALSE),IF(OR($B$3=\"7 (tujuh)\",$B$3=\"8 (delapan)\"),HLOOKUP($C$3,TABMAPEL_XIII,DBLOGIC!BO2,FALSE),0))))","v":"-"},{"$f":"IF(OR($B$3=\"1 (satu)\",$B$3=\"2 (dua)\"),HLOOKUP($C$3,TABMAPEL_X,DBLOGIC!BP2,FALSE),IF(OR($B$3=\"3 (tiga)\",$B$3=\"4 (empat)\"),HLOOKUP($C$3,TABMAPEL_XI,DBLOGIC!BP2,FALSE),IF(OR($B$3=\"5 (lima)\",$B$3=\"6 (enam)\"),HLOOKUP($C$3,TABMAPEL_XII,DBLOGIC!BP2,FALSE),IF(OR($B$3=\"7 (tujuh)\",$B$3=\"8 (delapan)\"),HLOOKUP($C$3,TABMAPEL_XIII,DBLOGIC!BP2,FALSE),0))))","v":"-"},{"$f":"IF(OR($B$3=\"1 (satu)\",$B$3=\"2 (dua)\"),HLOOKUP($C$3,TABMAPEL_X,DBLOGIC!BQ2,FALSE),IF(OR($B$3=\"3 (tiga)\",$B$3=\"4 (empat)\"),HLOOKUP($C$3,TABMAPEL_XI,DBLOGIC!BQ2,FALSE),IF(OR($B$3=\"5 (lima)\",$B$3=\"6 (enam)\"),HLOOKUP($C$3,TABMAPEL_XII,DBLOGIC!BQ2,FALSE),IF(OR($B$3=\"7 (tujuh)\",$B$3=\"8 (delapan)\"),HLOOKUP($C$3,TABMAPEL_XIII,DBLOGIC!BQ2,FALSE),0))))","v":"-"},{"$f":"IF(OR($B$3=\"1 (satu)\",$B$3=\"2 (dua)\"),HLOOKUP($C$3,TABMAPEL_X,DBLOGIC!BR2,FALSE),IF(OR($B$3=\"3 (tiga)\",$B$3=\"4 (empat)\"),HLOOKUP($C$3,TABMAPEL_XI,DBLOGIC!BR2,FALSE),IF(OR($B$3=\"5 (lima)\",$B$3=\"6 (enam)\"),HLOOKUP($C$3,TABMAPEL_XII,DBLOGIC!BR2,FALSE),IF(OR($B$3=\"7 (tujuh)\",$B$3=\"8 (delapan)\"),HLOOKUP($C$3,TABMAPEL_XIII,DBLOGIC!BR2,FALSE),0))))","v":"-"},{"$f":"IF(OR($B$3=\"1 (satu)\",$B$3=\"2 (dua)\"),HLOOKUP($C$3,TABMAPEL_X,DBLOGIC!BS2,FALSE),IF(OR($B$3=\"3 (tiga)\",$B$3=\"4 (empat)\"),HLOOKUP($C$3,TABMAPEL_XI,DBLOGIC!BS2,FALSE),IF(OR($B$3=\"5 (lima)\",$B$3=\"6 (enam)\"),HLOOKUP($C$3,TABMAPEL_XII,DBLOGIC!BS2,FALSE),IF(OR($B$3=\"7 (tujuh)\",$B$3=\"8 (delapan)\"),HLOOKUP($C$3,TABMAPEL_XIII,DBLOGIC!BS2,FALSE),0))))","v":"-"},{"$f":"IF(OR($B$3=\"1 (satu)\",$B$3=\"2 (dua)\"),HLOOKUP($C$3,TABMAPEL_X,DBLOGIC!BT2,FALSE),IF(OR($B$3=\"3 (tiga)\",$B$3=\"4 (empat)\"),HLOOKUP($C$3,TABMAPEL_XI,DBLOGIC!BT2,FALSE),IF(OR($B$3=\"5 (lima)\",$B$3=\"6 (enam)\"),HLOOKUP($C$3,TABMAPEL_XII,DBLOGIC!BT2,FALSE),IF(OR($B$3=\"7 (tujuh)\",$B$3=\"8 (delapan)\"),HLOOKUP($C$3,TABMAPEL_XIII,DBLOGIC!BT2,FALSE),0))))","v":"-"},{"$f":"IF(OR($B$3=\"1 (satu)\",$B$3=\"2 (dua)\"),HLOOKUP($C$3,TABMAPEL_X,DBLOGIC!BU2,FALSE),IF(OR($B$3=\"3 (tiga)\",$B$3=\"4 (empat)\"),HLOOKUP($C$3,TABMAPEL_XI,DBLOGIC!BU2,FALSE),IF(OR($B$3=\"5 (lima)\",$B$3=\"6 (enam)\"),HLOOKUP($C$3,TABMAPEL_XII,DBLOGIC!BU2,FALSE),IF(OR($B$3=\"7 (tujuh)\",$B$3=\"8 (delapan)\"),HLOOKUP($C$3,TABMAPEL_XIII,DBLOGIC!BU2,FALSE),0))))","v":"-"},{"$f":"IF(OR($B$3=\"1 (satu)\",$B$3=\"2 (dua)\"),HLOOKUP($C$3,TABMAPEL_X,DBLOGIC!BV2,FALSE),IF(OR($B$3=\"3 (tiga)\",$B$3=\"4 (empat)\"),HLOOKUP($C$3,TABMAPEL_XI,DBLOGIC!BV2,FALSE),IF(OR($B$3=\"5 (lima)\",$B$3=\"6 (enam)\"),HLOOKUP($C$3,TABMAPEL_XII,DBLOGIC!BV2,FALSE),IF(OR($B$3=\"7 (tujuh)\",$B$3=\"8 (delapan)\"),HLOOKUP($C$3,TABMAPEL_XIII,DBLOGIC!BV2,FALSE),0))))","v":"-"},{"$f":"IF(OR($B$3=\"1 (satu)\",$B$3=\"2 (dua)\"),HLOOKUP($C$3,TABMAPEL_X,DBLOGIC!BW2,FALSE),IF(OR($B$3=\"3 (tiga)\",$B$3=\"4 (empat)\"),HLOOKUP($C$3,TABMAPEL_XI,DBLOGIC!BW2,FALSE),IF(OR($B$3=\"5 (lima)\",$B$3=\"6 (enam)\"),HLOOKUP($C$3,TABMAPEL_XII,DBLOGIC!BW2,FALSE),IF(OR($B$3=\"7 (tujuh)\",$B$3=\"8 (delapan)\"),HLOOKUP($C$3,TABMAPEL_XIII,DBLOGIC!BW2,FALSE),0))))","v":"-"},{"$f":"IF(OR($B$3=\"1 (satu)\",$B$3=\"2 (dua)\"),HLOOKUP($C$3,TABMAPEL_X,DBLOGIC!BX2,FALSE),IF(OR($B$3=\"3 (tiga)\",$B$3=\"4 (empat)\"),HLOOKUP($C$3,TABMAPEL_XI,DBLOGIC!BX2,FALSE),IF(OR($B$3=\"5 (lima)\",$B$3=\"6 (enam)\"),HLOOKUP($C$3,TABMAPEL_XII,DBLOGIC!BX2,FALSE),IF(OR($B$3=\"7 (tujuh)\",$B$3=\"8 (delapan)\"),HLOOKUP($C$3,TABMAPEL_XIII,DBLOGIC!BX2,FALSE),0))))","v":"-"},{"$f":"IF(OR($B$3=\"1 (satu)\",$B$3=\"2 (dua)\"),HLOOKUP($C$3,TABMAPEL_X,DBLOGIC!BY2,FALSE),IF(OR($B$3=\"3 (tiga)\",$B$3=\"4 (empat)\"),HLOOKUP($C$3,TABMAPEL_XI,DBLOGIC!BY2,FALSE),IF(OR($B$3=\"5 (lima)\",$B$3=\"6 (enam)\"),HLOOKUP($C$3,TABMAPEL_XII,DBLOGIC!BY2,FALSE),IF(OR($B$3=\"7 (tujuh)\",$B$3=\"8 (delapan)\"),HLOOKUP($C$3,TABMAPEL_XIII,DBLOGIC!BY2,FALSE),0))))","v":"-"},{"$f":"IF(OR($B$3=\"1 (satu)\",$B$3=\"2 (dua)\"),HLOOKUP($C$3,TABMAPEL_X,DBLOGIC!BZ2,FALSE),IF(OR($B$3=\"3 (tiga)\",$B$3=\"4 (empat)\"),HLOOKUP($C$3,TABMAPEL_XI,DBLOGIC!BZ2,FALSE),IF(OR($B$3=\"5 (lima)\",$B$3=\"6 (enam)\"),HLOOKUP($C$3,TABMAPEL_XII,DBLOGIC!BZ2,FALSE),IF(OR($B$3=\"7 (tujuh)\",$B$3=\"8 (delapan)\"),HLOOKUP($C$3,TABMAPEL_XIII,DBLOGIC!BZ2,FALSE),0))))","v":"-"},{"$f":"IF(OR($B$3=\"1 (satu)\",$B$3=\"2 (dua)\"),HLOOKUP($C$3,TABMAPEL_X,DBLOGIC!CA2,FALSE),IF(OR($B$3=\"3 (tiga)\",$B$3=\"4 (empat)\"),HLOOKUP($C$3,TABMAPEL_XI,DBLOGIC!CA2,FALSE),IF(OR($B$3=\"5 (lima)\",$B$3=\"6 (enam)\"),HLOOKUP($C$3,TABMAPEL_XII,DBLOGIC!CA2,FALSE),IF(OR($B$3=\"7 (tujuh)\",$B$3=\"8 (delapan)\"),HLOOKUP($C$3,TABMAPEL_XIII,DBLOGIC!CA2,FALSE),0))))","v":"-"},{"$f":"IF(OR($B$3=\"1 (satu)\",$B$3=\"2 (dua)\"),HLOOKUP($C$3,TABMAPEL_X,DBLOGIC!CB2,FALSE),IF(OR($B$3=\"3 (tiga)\",$B$3=\"4 (empat)\"),HLOOKUP($C$3,TABMAPEL_XI,DBLOGIC!CB2,FALSE),IF(OR($B$3=\"5 (lima)\",$B$3=\"6 (enam)\"),HLOOKUP($C$3,TABMAPEL_XII,DBLOGIC!CB2,FALSE),IF(OR($B$3=\"7 (tujuh)\",$B$3=\"8 (delapan)\"),HLOOKUP($C$3,TABMAPEL_XIII,DBLOGIC!CB2,FALSE),0))))","v":"-"},{"$f":"IF(OR($B$3=\"1 (satu)\",$B$3=\"2 (dua)\"),HLOOKUP($C$3,TABMAPEL_X,DBLOGIC!CC2,FALSE),IF(OR($B$3=\"3 (tiga)\",$B$3=\"4 (empat)\"),HLOOKUP($C$3,TABMAPEL_XI,DBLOGIC!CC2,FALSE),IF(OR($B$3=\"5 (lima)\",$B$3=\"6 (enam)\"),HLOOKUP($C$3,TABMAPEL_XII,DBLOGIC!CC2,FALSE),IF(OR($B$3=\"7 (tujuh)\",$B$3=\"8 (delapan)\"),HLOOKUP($C$3,TABMAPEL_XIII,DBLOGIC!CC2,FALSE),0))))","v":"-"},{"$f":"IF(OR($B$3=\"1 (satu)\",$B$3=\"2 (dua)\"),HLOOKUP($C$3,TABMAPEL_X,DBLOGIC!CD2,FALSE),IF(OR($B$3=\"3 (tiga)\",$B$3=\"4 (empat)\"),HLOOKUP($C$3,TABMAPEL_XI,DBLOGIC!CD2,FALSE),IF(OR($B$3=\"5 (lima)\",$B$3=\"6 (enam)\"),HLOOKUP($C$3,TABMAPEL_XII,DBLOGIC!CD2,FALSE),IF(OR($B$3=\"7 (tujuh)\",$B$3=\"8 (delapan)\"),HLOOKUP($C$3,TABMAPEL_XIII,DBLOGIC!CD2,FALSE),0))))","v":"-"},{"$f":"IF(OR($B$3=\"1 (satu)\",$B$3=\"2 (dua)\"),HLOOKUP($C$3,TABMAPEL_X,DBLOGIC!CE2,FALSE),IF(OR($B$3=\"3 (tiga)\",$B$3=\"4 (empat)\"),HLOOKUP($C$3,TABMAPEL_XI,DBLOGIC!CE2,FALSE),IF(OR($B$3=\"5 (lima)\",$B$3=\"6 (enam)\"),HLOOKUP($C$3,TABMAPEL_XII,DBLOGIC!CE2,FALSE),IF(OR($B$3=\"7 (tujuh)\",$B$3=\"8 (delapan)\"),HLOOKUP($C$3,TABMAPEL_XIII,DBLOGIC!CE2,FALSE),0))))","v":"-"},{"$f":"IF(OR($B$3=\"1 (satu)\",$B$3=\"2 (dua)\"),HLOOKUP($C$3,TABMAPEL_X,DBLOGIC!CF2,FALSE),IF(OR($B$3=\"3 (tiga)\",$B$3=\"4 (empat)\"),HLOOKUP($C$3,TABMAPEL_XI,DBLOGIC!CF2,FALSE),IF(OR($B$3=\"5 (lima)\",$B$3=\"6 (enam)\"),HLOOKUP($C$3,TABMAPEL_XII,DBLOGIC!CF2,FALSE),IF(OR($B$3=\"7 (tujuh)\",$B$3=\"8 (delapan)\"),HLOOKUP($C$3,TABMAPEL_XIII,DBLOGIC!CF2,FALSE),0))))","v":"-"},{"$f":"IF(OR($B$3=\"1 (satu)\",$B$3=\"2 (dua)\"),HLOOKUP($C$3,TABMAPEL_X,DBLOGIC!CG2,FALSE),IF(OR($B$3=\"3 (tiga)\",$B$3=\"4 (empat)\"),HLOOKUP($C$3,TABMAPEL_XI,DBLOGIC!CG2,FALSE),IF(OR($B$3=\"5 (lima)\",$B$3=\"6 (enam)\"),HLOOKUP($C$3,TABMAPEL_XII,DBLOGIC!CG2,FALSE),IF(OR($B$3=\"7 (tujuh)\",$B$3=\"8 (delapan)\"),HLOOKUP($C$3,TABMAPEL_XIII,DBLOGIC!CG2,FALSE),0))))","v":"-"},{"$f":"IF(OR($B$3=\"1 (satu)\",$B$3=\"2 (dua)\"),HLOOKUP($C$3,TABMAPEL_X,DBLOGIC!CH2,FALSE),IF(OR($B$3=\"3 (tiga)\",$B$3=\"4 (empat)\"),HLOOKUP($C$3,TABMAPEL_XI,DBLOGIC!CH2,FALSE),IF(OR($B$3=\"5 (lima)\",$B$3=\"6 (enam)\"),HLOOKUP($C$3,TABMAPEL_XII,DBLOGIC!CH2,FALSE),IF(OR($B$3=\"7 (tujuh)\",$B$3=\"8 (delapan)\"),HLOOKUP($C$3,TABMAPEL_XIII,DBLOGIC!CH2,FALSE),0))))","v":"-"},{"$f":"IF(OR($B$3=\"1 (satu)\",$B$3=\"2 (dua)\"),HLOOKUP($C$3,TABMAPEL_X,DBLOGIC!CI2,FALSE),IF(OR($B$3=\"3 (tiga)\",$B$3=\"4 (empat)\"),HLOOKUP($C$3,TABMAPEL_XI,DBLOGIC!CI2,FALSE),IF(OR($B$3=\"5 (lima)\",$B$3=\"6 (enam)\"),HLOOKUP($C$3,TABMAPEL_XII,DBLOGIC!CI2,FALSE),IF(OR($B$3=\"7 (tujuh)\",$B$3=\"8 (delapan)\"),HLOOKUP($C$3,TABMAPEL_XIII,DBLOGIC!CI2,FALSE),0))))","v":"-"},{"$f":"IF(OR($B$3=\"1 (satu)\",$B$3=\"2 (dua)\"),HLOOKUP($C$3,TABMAPEL_X,DBLOGIC!CJ2,FALSE),IF(OR($B$3=\"3 (tiga)\",$B$3=\"4 (empat)\"),HLOOKUP($C$3,TABMAPEL_XI,DBLOGIC!CJ2,FALSE),IF(OR($B$3=\"5 (lima)\",$B$3=\"6 (enam)\"),HLOOKUP($C$3,TABMAPEL_XII,DBLOGIC!CJ2,FALSE),IF(OR($B$3=\"7 (tujuh)\",$B$3=\"8 (delapan)\"),HLOOKUP($C$3,TABMAPEL_XIII,DBLOGIC!CJ2,FALSE),0))))","v":"-"},{"$f":"IF(OR($B$3=\"1 (satu)\",$B$3=\"2 (dua)\"),HLOOKUP($C$3,TABMAPEL_X,DBLOGIC!CK2,FALSE),IF(OR($B$3=\"3 (tiga)\",$B$3=\"4 (empat)\"),HLOOKUP($C$3,TABMAPEL_XI,DBLOGIC!CK2,FALSE),IF(OR($B$3=\"5 (lima)\",$B$3=\"6 (enam)\"),HLOOKUP($C$3,TABMAPEL_XII,DBLOGIC!CK2,FALSE),IF(OR($B$3=\"7 (tujuh)\",$B$3=\"8 (delapan)\"),HLOOKUP($C$3,TABMAPEL_XIII,DBLOGIC!CK2,FALSE),0))))","v":"-"},{"$f":"IF(OR($B$3=\"1 (satu)\",$B$3=\"2 (dua)\"),HLOOKUP($C$3,TABMAPEL_X,DBLOGIC!CL2,FALSE),IF(OR($B$3=\"3 (tiga)\",$B$3=\"4 (empat)\"),HLOOKUP($C$3,TABMAPEL_XI,DBLOGIC!CL2,FALSE),IF(OR($B$3=\"5 (lima)\",$B$3=\"6 (enam)\"),HLOOKUP($C$3,TABMAPEL_XII,DBLOGIC!CL2,FALSE),IF(OR($B$3=\"7 (tujuh)\",$B$3=\"8 (delapan)\"),HLOOKUP($C$3,TABMAPEL_XIII,DBLOGIC!CL2,FALSE),0))))","v":"-"},{"$f":"IF(OR($B$3=\"1 (satu)\",$B$3=\"2 (dua)\"),HLOOKUP($C$3,TABMAPEL_X,DBLOGIC!CM2,FALSE),IF(OR($B$3=\"3 (tiga)\",$B$3=\"4 (empat)\"),HLOOKUP($C$3,TABMAPEL_XI,DBLOGIC!CM2,FALSE),IF(OR($B$3=\"5 (lima)\",$B$3=\"6 (enam)\"),HLOOKUP($C$3,TABMAPEL_XII,DBLOGIC!CM2,FALSE),IF(OR($B$3=\"7 (tujuh)\",$B$3=\"8 (delapan)\"),HLOOKUP($C$3,TABMAPEL_XIII,DBLOGIC!CM2,FALSE),0))))","v":"-"},{"$f":"IF(OR($B$3=\"1 (satu)\",$B$3=\"2 (dua)\"),HLOOKUP($C$3,TABMAPEL_X,DBLOGIC!CN2,FALSE),IF(OR($B$3=\"3 (tiga)\",$B$3=\"4 (empat)\"),HLOOKUP($C$3,TABMAPEL_XI,DBLOGIC!CN2,FALSE),IF(OR($B$3=\"5 (lima)\",$B$3=\"6 (enam)\"),HLOOKUP($C$3,TABMAPEL_XII,DBLOGIC!CN2,FALSE),IF(OR($B$3=\"7 (tujuh)\",$B$3=\"8 (delapan)\"),HLOOKUP($C$3,TABMAPEL_XIII,DBLOGIC!CN2,FALSE),0))))","v":"-"},{"$f":"IF(OR($B$3=\"1 (satu)\",$B$3=\"2 (dua)\"),HLOOKUP($C$3,TABMAPEL_X,DBLOGIC!CO2,FALSE),IF(OR($B$3=\"3 (tiga)\",$B$3=\"4 (empat)\"),HLOOKUP($C$3,TABMAPEL_XI,DBLOGIC!CO2,FALSE),IF(OR($B$3=\"5 (lima)\",$B$3=\"6 (enam)\"),HLOOKUP($C$3,TABMAPEL_XII,DBLOGIC!CO2,FALSE),IF(OR($B$3=\"7 (tujuh)\",$B$3=\"8 (delapan)\"),HLOOKUP($C$3,TABMAPEL_XIII,DBLOGIC!CO2,FALSE),0))))","v":"-"},{"$f":"IF(OR($B$3=\"1 (satu)\",$B$3=\"2 (dua)\"),HLOOKUP($C$3,TABMAPEL_X,DBLOGIC!CP2,FALSE),IF(OR($B$3=\"3 (tiga)\",$B$3=\"4 (empat)\"),HLOOKUP($C$3,TABMAPEL_XI,DBLOGIC!CP2,FALSE),IF(OR($B$3=\"5 (lima)\",$B$3=\"6 (enam)\"),HLOOKUP($C$3,TABMAPEL_XII,DBLOGIC!CP2,FALSE),IF(OR($B$3=\"7 (tujuh)\",$B$3=\"8 (delapan)\"),HLOOKUP($C$3,TABMAPEL_XIII,DBLOGIC!CP2,FALSE),0))))","v":"-"},{"$f":"IF(OR($B$3=\"1 (satu)\",$B$3=\"2 (dua)\"),HLOOKUP($C$3,TABMAPEL_X,DBLOGIC!CQ2,FALSE),IF(OR($B$3=\"3 (tiga)\",$B$3=\"4 (empat)\"),HLOOKUP($C$3,TABMAPEL_XI,DBLOGIC!CQ2,FALSE),IF(OR($B$3=\"5 (lima)\",$B$3=\"6 (enam)\"),HLOOKUP($C$3,TABMAPEL_XII,DBLOGIC!CQ2,FALSE),IF(OR($B$3=\"7 (tujuh)\",$B$3=\"8 (delapan)\"),HLOOKUP($C$3,TABMAPEL_XIII,DBLOGIC!CQ2,FALSE),0))))","v":"-"},{"$f":"IF(OR($B$3=\"1 (satu)\",$B$3=\"2 (dua)\"),HLOOKUP($C$3,TABMAPEL_X,DBLOGIC!CR2,FALSE),IF(OR($B$3=\"3 (tiga)\",$B$3=\"4 (empat)\"),HLOOKUP($C$3,TABMAPEL_XI,DBLOGIC!CR2,FALSE),IF(OR($B$3=\"5 (lima)\",$B$3=\"6 (enam)\"),HLOOKUP($C$3,TABMAPEL_XII,DBLOGIC!CR2,FALSE),IF(OR($B$3=\"7 (tujuh)\",$B$3=\"8 (delapan)\"),HLOOKUP($C$3,TABMAPEL_XIII,DBLOGIC!CR2,FALSE),0))))","v":"-"},{"$f":"IF(OR($B$3=\"1 (satu)\",$B$3=\"2 (dua)\"),HLOOKUP($C$3,TABMAPEL_X,DBLOGIC!CS2,FALSE),IF(OR($B$3=\"3 (tiga)\",$B$3=\"4 (empat)\"),HLOOKUP($C$3,TABMAPEL_XI,DBLOGIC!CS2,FALSE),IF(OR($B$3=\"5 (lima)\",$B$3=\"6 (enam)\"),HLOOKUP($C$3,TABMAPEL_XII,DBLOGIC!CS2,FALSE),IF(OR($B$3=\"7 (tujuh)\",$B$3=\"8 (delapan)\"),HLOOKUP($C$3,TABMAPEL_XIII,DBLOGIC!CS2,FALSE),0))))","v":"-"},{"$f":"IF(OR($B$3=\"1 (satu)\",$B$3=\"2 (dua)\"),HLOOKUP($C$3,TABMAPEL_X,DBLOGIC!CT2,FALSE),IF(OR($B$3=\"3 (tiga)\",$B$3=\"4 (empat)\"),HLOOKUP($C$3,TABMAPEL_XI,DBLOGIC!CT2,FALSE),IF(OR($B$3=\"5 (lima)\",$B$3=\"6 (enam)\"),HLOOKUP($C$3,TABMAPEL_XII,DBLOGIC!CT2,FALSE),IF(OR($B$3=\"7 (tujuh)\",$B$3=\"8 (delapan)\"),HLOOKUP($C$3,TABMAPEL_XIII,DBLOGIC!CT2,FALSE),0))))","v":"-"},{"$f":"IF(OR($B$3=\"1 (satu)\",$B$3=\"2 (dua)\"),HLOOKUP($C$3,TABMAPEL_X,DBLOGIC!CU2,FALSE),IF(OR($B$3=\"3 (tiga)\",$B$3=\"4 (empat)\"),HLOOKUP($C$3,TABMAPEL_XI,DBLOGIC!CU2,FALSE),IF(OR($B$3=\"5 (lima)\",$B$3=\"6 (enam)\"),HLOOKUP($C$3,TABMAPEL_XII,DBLOGIC!CU2,FALSE),IF(OR($B$3=\"7 (tujuh)\",$B$3=\"8 (delapan)\"),HLOOKUP($C$3,TABMAPEL_XIII,DBLOGIC!CU2,FALSE),0))))","v":"-"},{"$f":"IF(OR($B$3=\"1 (satu)\",$B$3=\"2 (dua)\"),HLOOKUP($C$3,TABMAPEL_X,DBLOGIC!CV2,FALSE),IF(OR($B$3=\"3 (tiga)\",$B$3=\"4 (empat)\"),HLOOKUP($C$3,TABMAPEL_XI,DBLOGIC!CV2,FALSE),IF(OR($B$3=\"5 (lima)\",$B$3=\"6 (enam)\"),HLOOKUP($C$3,TABMAPEL_XII,DBLOGIC!CV2,FALSE),IF(OR($B$3=\"7 (tujuh)\",$B$3=\"8 (delapan)\"),HLOOKUP($C$3,TABMAPEL_XIII,DBLOGIC!CV2,FALSE),0))))","v":"-"},{"$f":"IF(OR($B$3=\"1 (satu)\",$B$3=\"2 (dua)\"),HLOOKUP($C$3,TABMAPEL_X,DBLOGIC!CW2,FALSE),IF(OR($B$3=\"3 (tiga)\",$B$3=\"4 (empat)\"),HLOOKUP($C$3,TABMAPEL_XI,DBLOGIC!CW2,FALSE),IF(OR($B$3=\"5 (lima)\",$B$3=\"6 (enam)\"),HLOOKUP($C$3,TABMAPEL_XII,DBLOGIC!CW2,FALSE),IF(OR($B$3=\"7 (tujuh)\",$B$3=\"8 (delapan)\"),HLOOKUP($C$3,TABMAPEL_XIII,DBLOGIC!CW2,FALSE),0))))","v":"-"},{"$f":"IF(OR($B$3=\"1 (satu)\",$B$3=\"2 (dua)\"),HLOOKUP($C$3,TABMAPEL_X,DBLOGIC!CX2,FALSE),IF(OR($B$3=\"3 (tiga)\",$B$3=\"4 (empat)\"),HLOOKUP($C$3,TABMAPEL_XI,DBLOGIC!CX2,FALSE),IF(OR($B$3=\"5 (lima)\",$B$3=\"6 (enam)\"),HLOOKUP($C$3,TABMAPEL_XII,DBLOGIC!CX2,FALSE),IF(OR($B$3=\"7 (tujuh)\",$B$3=\"8 (delapan)\"),HLOOKUP($C$3,TABMAPEL_XIII,DBLOGIC!CX2,FALSE),0))))","v":"-"},{"$f":"IF(OR($B$3=\"1 (satu)\",$B$3=\"2 (dua)\"),HLOOKUP($C$3,TABMAPEL_X,DBLOGIC!CY2,FALSE),IF(OR($B$3=\"3 (tiga)\",$B$3=\"4 (empat)\"),HLOOKUP($C$3,TABMAPEL_XI,DBLOGIC!CY2,FALSE),IF(OR($B$3=\"5 (lima)\",$B$3=\"6 (enam)\"),HLOOKUP($C$3,TABMAPEL_XII,DBLOGIC!CY2,FALSE),IF(OR($B$3=\"7 (tujuh)\",$B$3=\"8 (delapan)\"),HLOOKUP($C$3,TABMAPEL_XIII,DBLOGIC!CY2,FALSE),0))))","v":"-"},{"$f":"IF(OR($B$3=\"1 (satu)\",$B$3=\"2 (dua)\"),HLOOKUP($C$3,TABMAPEL_X,DBLOGIC!CZ2,FALSE),IF(OR($B$3=\"3 (tiga)\",$B$3=\"4 (empat)\"),HLOOKUP($C$3,TABMAPEL_XI,DBLOGIC!CZ2,FALSE),IF(OR($B$3=\"5 (lima)\",$B$3=\"6 (enam)\"),HLOOKUP($C$3,TABMAPEL_XII,DBLOGIC!CZ2,FALSE),IF(OR($B$3=\"7 (tujuh)\",$B$3=\"8 (delapan)\"),HLOOKUP($C$3,TABMAPEL_XIII,DBLOGIC!CZ2,FALSE),0))))","v":"-"},{"$f":"IF(OR($B$3=\"1 (satu)\",$B$3=\"2 (dua)\"),HLOOKUP($C$3,TABMAPEL_X,DBLOGIC!DA2,FALSE),IF(OR($B$3=\"3 (tiga)\",$B$3=\"4 (empat)\"),HLOOKUP($C$3,TABMAPEL_XI,DBLOGIC!DA2,FALSE),IF(OR($B$3=\"5 (lima)\",$B$3=\"6 (enam)\"),HLOOKUP($C$3,TABMAPEL_XII,DBLOGIC!DA2,FALSE),IF(OR($B$3=\"7 (tujuh)\",$B$3=\"8 (delapan)\"),HLOOKUP($C$3,TABMAPEL_XIII,DBLOGIC!DA2,FALSE),0))))","v":"-"},{"$f":"IF(OR($B$3=\"1 (satu)\",$B$3=\"2 (dua)\"),HLOOKUP($C$3,TABMAPEL_X,DBLOGIC!DB2,FALSE),IF(OR($B$3=\"3 (tiga)\",$B$3=\"4 (empat)\"),HLOOKUP($C$3,TABMAPEL_XI,DBLOGIC!DB2,FALSE),IF(OR($B$3=\"5 (lima)\",$B$3=\"6 (enam)\"),HLOOKUP($C$3,TABMAPEL_XII,DBLOGIC!DB2,FALSE),IF(OR($B$3=\"7 (tujuh)\",$B$3=\"8 (delapan)\"),HLOOKUP($C$3,TABMAPEL_XIII,DBLOGIC!DB2,FALSE),0))))","v":"-"},{"$f":"IF(OR($B$3=\"1 (satu)\",$B$3=\"2 (dua)\"),HLOOKUP($C$3,TABMAPEL_X,DBLOGIC!DC2,FALSE),IF(OR($B$3=\"3 (tiga)\",$B$3=\"4 (empat)\"),HLOOKUP($C$3,TABMAPEL_XI,DBLOGIC!DC2,FALSE),IF(OR($B$3=\"5 (lima)\",$B$3=\"6 (enam)\"),HLOOKUP($C$3,TABMAPEL_XII,DBLOGIC!DC2,FALSE),IF(OR($B$3=\"7 (tujuh)\",$B$3=\"8 (delapan)\"),HLOOKUP($C$3,TABMAPEL_XIII,DBLOGIC!DC2,FALSE),0))))","v":"-"},{"$f":"IF(OR($B$3=\"1 (satu)\",$B$3=\"2 (dua)\"),HLOOKUP($C$3,TABMAPEL_X,DBLOGIC!DD2,FALSE),IF(OR($B$3=\"3 (tiga)\",$B$3=\"4 (empat)\"),HLOOKUP($C$3,TABMAPEL_XI,DBLOGIC!DD2,FALSE),IF(OR($B$3=\"5 (lima)\",$B$3=\"6 (enam)\"),HLOOKUP($C$3,TABMAPEL_XII,DBLOGIC!DD2,FALSE),IF(OR($B$3=\"7 (tujuh)\",$B$3=\"8 (delapan)\"),HLOOKUP($C$3,TABMAPEL_XIII,DBLOGIC!DD2,FALSE),0))))","v":"-"},{"$f":"IF(OR($B$3=\"1 (satu)\",$B$3=\"2 (dua)\"),HLOOKUP($C$3,TABMAPEL_X,DBLOGIC!DE2,FALSE),IF(OR($B$3=\"3 (tiga)\",$B$3=\"4 (empat)\"),HLOOKUP($C$3,TABMAPEL_XI,DBLOGIC!DE2,FALSE),IF(OR($B$3=\"5 (lima)\",$B$3=\"6 (enam)\"),HLOOKUP($C$3,TABMAPEL_XII,DBLOGIC!DE2,FALSE),IF(OR($B$3=\"7 (tujuh)\",$B$3=\"8 (delapan)\"),HLOOKUP($C$3,TABMAPEL_XIII,DBLOGIC!DE2,FALSE),0))))","v":"-"},{"$f":"IF(OR($B$3=\"1 (satu)\",$B$3=\"2 (dua)\"),HLOOKUP($C$3,TABMAPEL_X,DBLOGIC!DF2,FALSE),IF(OR($B$3=\"3 (tiga)\",$B$3=\"4 (empat)\"),HLOOKUP($C$3,TABMAPEL_XI,DBLOGIC!DF2,FALSE),IF(OR($B$3=\"5 (lima)\",$B$3=\"6 (enam)\"),HLOOKUP($C$3,TABMAPEL_XII,DBLOGIC!DF2,FALSE),IF(OR($B$3=\"7 (tujuh)\",$B$3=\"8 (delapan)\"),HLOOKUP($C$3,TABMAPEL_XIII,DBLOGIC!DF2,FALSE),0))))","v":"-"},{"$f":"IF(OR($B$3=\"1 (satu)\",$B$3=\"2 (dua)\"),HLOOKUP($C$3,TABMAPEL_X,DBLOGIC!DG2,FALSE),IF(OR($B$3=\"3 (tiga)\",$B$3=\"4 (empat)\"),HLOOKUP($C$3,TABMAPEL_XI,DBLOGIC!DG2,FALSE),IF(OR($B$3=\"5 (lima)\",$B$3=\"6 (enam)\"),HLOOKUP($C$3,TABMAPEL_XII,DBLOGIC!DG2,FALSE),IF(OR($B$3=\"7 (tujuh)\",$B$3=\"8 (delapan)\"),HLOOKUP($C$3,TABMAPEL_XIII,DBLOGIC!DG2,FALSE),0))))","v":"-"},{"$f":"IF(OR($B$3=\"1 (satu)\",$B$3=\"2 (dua)\"),HLOOKUP($C$3,TABMAPEL_X,DBLOGIC!DH2,FALSE),IF(OR($B$3=\"3 (tiga)\",$B$3=\"4 (empat)\"),HLOOKUP($C$3,TABMAPEL_XI,DBLOGIC!DH2,FALSE),IF(OR($B$3=\"5 (lima)\",$B$3=\"6 (enam)\"),HLOOKUP($C$3,TABMAPEL_XII,DBLOGIC!DH2,FALSE),IF(OR($B$3=\"7 (tujuh)\",$B$3=\"8 (delapan)\"),HLOOKUP($C$3,TABMAPEL_XIII,DBLOGIC!DH2,FALSE),0))))","v":"-"},{"$f":"IF(OR($B$3=\"1 (satu)\",$B$3=\"2 (dua)\"),HLOOKUP($C$3,TABMAPEL_X,DBLOGIC!DI2,FALSE),IF(OR($B$3=\"3 (tiga)\",$B$3=\"4 (empat)\"),HLOOKUP($C$3,TABMAPEL_XI,DBLOGIC!DI2,FALSE),IF(OR($B$3=\"5 (lima)\",$B$3=\"6 (enam)\"),HLOOKUP($C$3,TABMAPEL_XII,DBLOGIC!DI2,FALSE),IF(OR($B$3=\"7 (tujuh)\",$B$3=\"8 (delapan)\"),HLOOKUP($C$3,TABMAPEL_XIII,DBLOGIC!DI2,FALSE),0))))","v":"-"},{"$f":"IF(OR($B$3=\"1 (satu)\",$B$3=\"2 (dua)\"),HLOOKUP($C$3,TABMAPEL_X,DBLOGIC!DJ2,FALSE),IF(OR($B$3=\"3 (tiga)\",$B$3=\"4 (empat)\"),HLOOKUP($C$3,TABMAPEL_XI,DBLOGIC!DJ2,FALSE),IF(OR($B$3=\"5 (lima)\",$B$3=\"6 (enam)\"),HLOOKUP($C$3,TABMAPEL_XII,DBLOGIC!DJ2,FALSE),IF(OR($B$3=\"7 (tujuh)\",$B$3=\"8 (delapan)\"),HLOOKUP($C$3,TABMAPEL_XIII,DBLOGIC!DJ2,FALSE),0))))","v":"-"},{"$f":"IF(OR($B$3=\"1 (satu)\",$B$3=\"2 (dua)\"),HLOOKUP($C$3,TABMAPEL_X,DBLOGIC!DK2,FALSE),IF(OR($B$3=\"3 (tiga)\",$B$3=\"4 (empat)\"),HLOOKUP($C$3,TABMAPEL_XI,DBLOGIC!DK2,FALSE),IF(OR($B$3=\"5 (lima)\",$B$3=\"6 (enam)\"),HLOOKUP($C$3,TABMAPEL_XII,DBLOGIC!DK2,FALSE),IF(OR($B$3=\"7 (tujuh)\",$B$3=\"8 (delapan)\"),HLOOKUP($C$3,TABMAPEL_XIII,DBLOGIC!DK2,FALSE),0))))","v":"-"},{"$f":"IF(OR($B$3=\"1 (satu)\",$B$3=\"2 (dua)\"),HLOOKUP($C$3,TABMAPEL_X,DBLOGIC!DL2,FALSE),IF(OR($B$3=\"3 (tiga)\",$B$3=\"4 (empat)\"),HLOOKUP($C$3,TABMAPEL_XI,DBLOGIC!DL2,FALSE),IF(OR($B$3=\"5 (lima)\",$B$3=\"6 (enam)\"),HLOOKUP($C$3,TABMAPEL_XII,DBLOGIC!DL2,FALSE),IF(OR($B$3=\"7 (tujuh)\",$B$3=\"8 (delapan)\"),HLOOKUP($C$3,TABMAPEL_XIII,DBLOGIC!DL2,FALSE),0))))","v":"-"},{"$f":"IF(OR($B$3=\"1 (satu)\",$B$3=\"2 (dua)\"),HLOOKUP($C$3,TABMAPEL_X,DBLOGIC!DM2,FALSE),IF(OR($B$3=\"3 (tiga)\",$B$3=\"4 (empat)\"),HLOOKUP($C$3,TABMAPEL_XI,DBLOGIC!DM2,FALSE),IF(OR($B$3=\"5 (lima)\",$B$3=\"6 (enam)\"),HLOOKUP($C$3,TABMAPEL_XII,DBLOGIC!DM2,FALSE),IF(OR($B$3=\"7 (tujuh)\",$B$3=\"8 (delapan)\"),HLOOKUP($C$3,TABMAPEL_XIII,DBLOGIC!DM2,FALSE),0))))","v":"-"},{"$f":"IF(OR($B$3=\"1 (satu)\",$B$3=\"2 (dua)\"),HLOOKUP($C$3,TABMAPEL_X,DBLOGIC!DN2,FALSE),IF(OR($B$3=\"3 (tiga)\",$B$3=\"4 (empat)\"),HLOOKUP($C$3,TABMAPEL_XI,DBLOGIC!DN2,FALSE),IF(OR($B$3=\"5 (lima)\",$B$3=\"6 (enam)\"),HLOOKUP($C$3,TABMAPEL_XII,DBLOGIC!DN2,FALSE),IF(OR($B$3=\"7 (tujuh)\",$B$3=\"8 (delapan)\"),HLOOKUP($C$3,TABMAPEL_XIII,DBLOGIC!DN2,FALSE),0))))","v":"-"},{"$f":"IF(OR($B$3=\"1 (satu)\",$B$3=\"2 (dua)\"),HLOOKUP($C$3,TABMAPEL_X,DBLOGIC!DO2,FALSE),IF(OR($B$3=\"3 (tiga)\",$B$3=\"4 (empat)\"),HLOOKUP($C$3,TABMAPEL_XI,DBLOGIC!DO2,FALSE),IF(OR($B$3=\"5 (lima)\",$B$3=\"6 (enam)\"),HLOOKUP($C$3,TABMAPEL_XII,DBLOGIC!DO2,FALSE),IF(OR($B$3=\"7 (tujuh)\",$B$3=\"8 (delapan)\"),HLOOKUP($C$3,TABMAPEL_XIII,DBLOGIC!DO2,FALSE),0))))","v":"-"},{"$f":"IF(OR($B$3=\"1 (satu)\",$B$3=\"2 (dua)\"),HLOOKUP($C$3,TABMAPEL_X,DBLOGIC!DP2,FALSE),IF(OR($B$3=\"3 (tiga)\",$B$3=\"4 (empat)\"),HLOOKUP($C$3,TABMAPEL_XI,DBLOGIC!DP2,FALSE),IF(OR($B$3=\"5 (lima)\",$B$3=\"6 (enam)\"),HLOOKUP($C$3,TABMAPEL_XII,DBLOGIC!DP2,FALSE),IF(OR($B$3=\"7 (tujuh)\",$B$3=\"8 (delapan)\"),HLOOKUP($C$3,TABMAPEL_XIII,DBLOGIC!DP2,FALSE),0))))","v":"-"},{"$f":"IF(OR($B$3=\"1 (satu)\",$B$3=\"2 (dua)\"),HLOOKUP($C$3,TABMAPEL_X,DBLOGIC!DQ2,FALSE),IF(OR($B$3=\"3 (tiga)\",$B$3=\"4 (empat)\"),HLOOKUP($C$3,TABMAPEL_XI,DBLOGIC!DQ2,FALSE),IF(OR($B$3=\"5 (lima)\",$B$3=\"6 (enam)\"),HLOOKUP($C$3,TABMAPEL_XII,DBLOGIC!DQ2,FALSE),IF(OR($B$3=\"7 (tujuh)\",$B$3=\"8 (delapan)\"),HLOOKUP($C$3,TABMAPEL_XIII,DBLOGIC!DQ2,FALSE),0))))","v":"-"},{"$f":"IF(OR($B$3=\"1 (satu)\",$B$3=\"2 (dua)\"),HLOOKUP($C$3,TABMAPEL_X,DBLOGIC!DR2,FALSE),IF(OR($B$3=\"3 (tiga)\",$B$3=\"4 (empat)\"),HLOOKUP($C$3,TABMAPEL_XI,DBLOGIC!DR2,FALSE),IF(OR($B$3=\"5 (lima)\",$B$3=\"6 (enam)\"),HLOOKUP($C$3,TABMAPEL_XII,DBLOGIC!DR2,FALSE),IF(OR($B$3=\"7 (tujuh)\",$B$3=\"8 (delapan)\"),HLOOKUP($C$3,TABMAPEL_XIII,DBLOGIC!DR2,FALSE),0))))","v":"-"},{"$f":"IF(OR($B$3=\"1 (satu)\",$B$3=\"2 (dua)\"),HLOOKUP($C$3,TABMAPEL_X,DBLOGIC!DS2,FALSE),IF(OR($B$3=\"3 (tiga)\",$B$3=\"4 (empat)\"),HLOOKUP($C$3,TABMAPEL_XI,DBLOGIC!DS2,FALSE),IF(OR($B$3=\"5 (lima)\",$B$3=\"6 (enam)\"),HLOOKUP($C$3,TABMAPEL_XII,DBLOGIC!DS2,FALSE),IF(OR($B$3=\"7 (tujuh)\",$B$3=\"8 (delapan)\"),HLOOKUP($C$3,TABMAPEL_XIII,DBLOGIC!DS2,FALSE),0))))","v":"-"},{"$f":"IF(OR($B$3=\"1 (satu)\",$B$3=\"2 (dua)\"),HLOOKUP($C$3,TABMAPEL_X,DBLOGIC!DT2,FALSE),IF(OR($B$3=\"3 (tiga)\",$B$3=\"4 (empat)\"),HLOOKUP($C$3,TABMAPEL_XI,DBLOGIC!DT2,FALSE),IF(OR($B$3=\"5 (lima)\",$B$3=\"6 (enam)\"),HLOOKUP($C$3,TABMAPEL_XII,DBLOGIC!DT2,FALSE),IF(OR($B$3=\"7 (tujuh)\",$B$3=\"8 (delapan)\"),HLOOKUP($C$3,TABMAPEL_XIII,DBLOGIC!DT2,FALSE),0))))","v":"-"},{"$f":"IF(OR($B$3=\"1 (satu)\",$B$3=\"2 (dua)\"),HLOOKUP($C$3,TABMAPEL_X,DBLOGIC!DU2,FALSE),IF(OR($B$3=\"3 (tiga)\",$B$3=\"4 (empat)\"),HLOOKUP($C$3,TABMAPEL_XI,DBLOGIC!DU2,FALSE),IF(OR($B$3=\"5 (lima)\",$B$3=\"6 (enam)\"),HLOOKUP($C$3,TABMAPEL_XII,DBLOGIC!DU2,FALSE),IF(OR($B$3=\"7 (tujuh)\",$B$3=\"8 (delapan)\"),HLOOKUP($C$3,TABMAPEL_XIII,DBLOGIC!DU2,FALSE),0))))","v":"-"},{"$f":"IF(OR($B$3=\"1 (satu)\",$B$3=\"2 (dua)\"),HLOOKUP($C$3,TABMAPEL_X,DBLOGIC!DV2,FALSE),IF(OR($B$3=\"3 (tiga)\",$B$3=\"4 (empat)\"),HLOOKUP($C$3,TABMAPEL_XI,DBLOGIC!DV2,FALSE),IF(OR($B$3=\"5 (lima)\",$B$3=\"6 (enam)\"),HLOOKUP($C$3,TABMAPEL_XII,DBLOGIC!DV2,FALSE),IF(OR($B$3=\"7 (tujuh)\",$B$3=\"8 (delapan)\"),HLOOKUP($C$3,TABMAPEL_XIII,DBLOGIC!DV2,FALSE),0))))","v":"-"},{"$f":"IF(OR($B$3=\"1 (satu)\",$B$3=\"2 (dua)\"),HLOOKUP($C$3,TABMAPEL_X,DBLOGIC!DW2,FALSE),IF(OR($B$3=\"3 (tiga)\",$B$3=\"4 (empat)\"),HLOOKUP($C$3,TABMAPEL_XI,DBLOGIC!DW2,FALSE),IF(OR($B$3=\"5 (lima)\",$B$3=\"6 (enam)\"),HLOOKUP($C$3,TABMAPEL_XII,DBLOGIC!DW2,FALSE),IF(OR($B$3=\"7 (tujuh)\",$B$3=\"8 (delapan)\"),HLOOKUP($C$3,TABMAPEL_XIII,DBLOGIC!DW2,FALSE),0))))","v":"-"},{"$f":"IF(OR($B$3=\"1 (satu)\",$B$3=\"2 (dua)\"),HLOOKUP($C$3,TABMAPEL_X,DBLOGIC!DX2,FALSE),IF(OR($B$3=\"3 (tiga)\",$B$3=\"4 (empat)\"),HLOOKUP($C$3,TABMAPEL_XI,DBLOGIC!DX2,FALSE),IF(OR($B$3=\"5 (lima)\",$B$3=\"6 (enam)\"),HLOOKUP($C$3,TABMAPEL_XII,DBLOGIC!DX2,FALSE),IF(OR($B$3=\"7 (tujuh)\",$B$3=\"8 (delapan)\"),HLOOKUP($C$3,TABMAPEL_XIII,DBLOGIC!DX2,FALSE),0))))","v":"-"},{"$f":"IF(OR($B$3=\"1 (satu)\",$B$3=\"2 (dua)\"),HLOOKUP($C$3,TABMAPEL_X,DBLOGIC!DY2,FALSE),IF(OR($B$3=\"3 (tiga)\",$B$3=\"4 (empat)\"),HLOOKUP($C$3,TABMAPEL_XI,DBLOGIC!DY2,FALSE),IF(OR($B$3=\"5 (lima)\",$B$3=\"6 (enam)\"),HLOOKUP($C$3,TABMAPEL_XII,DBLOGIC!DY2,FALSE),IF(OR($B$3=\"7 (tujuh)\",$B$3=\"8 (delapan)\"),HLOOKUP($C$3,TABMAPEL_XIII,DBLOGIC!DY2,FALSE),0))))","v":"Pemeliharaan Mesin Sepeda Motor"},{"$f":"IF(OR($B$3=\"1 (satu)\",$B$3=\"2 (dua)\"),HLOOKUP($C$3,TABMAPEL_X,DBLOGIC!DZ2,FALSE),IF(OR($B$3=\"3 (tiga)\",$B$3=\"4 (empat)\"),HLOOKUP($C$3,TABMAPEL_XI,DBLOGIC!DZ2,FALSE),IF(OR($B$3=\"5 (lima)\",$B$3=\"6 (enam)\"),HLOOKUP($C$3,TABMAPEL_XII,DBLOGIC!DZ2,FALSE),IF(OR($B$3=\"7 (tujuh)\",$B$3=\"8 (delapan)\"),HLOOKUP($C$3,TABMAPEL_XIII,DBLOGIC!DZ2,FALSE),0))))","v":"Pemeliharaan Mesin Sepeda Motor"},{"$f":"IF(OR($B$3=\"1 (satu)\",$B$3=\"2 (dua)\"),HLOOKUP($C$3,TABMAPEL_X,DBLOGIC!EA2,FALSE),IF(OR($B$3=\"3 (tiga)\",$B$3=\"4 (empat)\"),HLOOKUP($C$3,TABMAPEL_XI,DBLOGIC!EA2,FALSE),IF(OR($B$3=\"5 (lima)\",$B$3=\"6 (enam)\"),HLOOKUP($C$3,TABMAPEL_XII,DBLOGIC!EA2,FALSE),IF(OR($B$3=\"7 (tujuh)\",$B$3=\"8 (delapan)\"),HLOOKUP($C$3,TABMAPEL_XIII,DBLOGIC!EA2,FALSE),0))))","v":"Pemeliharaan Mesin Sepeda Motor"},{"$f":"IF(OR($B$3=\"1 (satu)\",$B$3=\"2 (dua)\"),HLOOKUP($C$3,TABMAPEL_X,DBLOGIC!EB2,FALSE),IF(OR($B$3=\"3 (tiga)\",$B$3=\"4 (empat)\"),HLOOKUP($C$3,TABMAPEL_XI,DBLOGIC!EB2,FALSE),IF(OR($B$3=\"5 (lima)\",$B$3=\"6 (enam)\"),HLOOKUP($C$3,TABMAPEL_XII,DBLOGIC!EB2,FALSE),IF(OR($B$3=\"7 (tujuh)\",$B$3=\"8 (delapan)\"),HLOOKUP($C$3,TABMAPEL_XIII,DBLOGIC!EB2,FALSE),0))))","v":"Pemeliharaan Mesin Sepeda Motor"},{"$f":"IF(OR($B$3=\"1 (satu)\",$B$3=\"2 (dua)\"),HLOOKUP($C$3,TABMAPEL_X,DBLOGIC!EC2,FALSE),IF(OR($B$3=\"3 (tiga)\",$B$3=\"4 (empat)\"),HLOOKUP($C$3,TABMAPEL_XI,DBLOGIC!EC2,FALSE),IF(OR($B$3=\"5 (lima)\",$B$3=\"6 (enam)\"),HLOOKUP($C$3,TABMAPEL_XII,DBLOGIC!EC2,FALSE),IF(OR($B$3=\"7 (tujuh)\",$B$3=\"8 (delapan)\"),HLOOKUP($C$3,TABMAPEL_XIII,DBLOGIC!EC2,FALSE),0))))","v":"Pemeliharaan Mesin Sepeda Motor"},{"$f":"IF(OR($B$3=\"1 (satu)\",$B$3=\"2 (dua)\"),HLOOKUP($C$3,TABMAPEL_X,DBLOGIC!ED2,FALSE),IF(OR($B$3=\"3 (tiga)\",$B$3=\"4 (empat)\"),HLOOKUP($C$3,TABMAPEL_XI,DBLOGIC!ED2,FALSE),IF(OR($B$3=\"5 (lima)\",$B$3=\"6 (enam)\"),HLOOKUP($C$3,TABMAPEL_XII,DBLOGIC!ED2,FALSE),IF(OR($B$3=\"7 (tujuh)\",$B$3=\"8 (delapan)\"),HLOOKUP($C$3,TABMAPEL_XIII,DBLOGIC!ED2,FALSE),0))))","v":"Pemeliharaan Mesin Sepeda Motor"},{"$f":"IF(OR($B$3=\"1 (satu)\",$B$3=\"2 (dua)\"),HLOOKUP($C$3,TABMAPEL_X,DBLOGIC!EE2,FALSE),IF(OR($B$3=\"3 (tiga)\",$B$3=\"4 (empat)\"),HLOOKUP($C$3,TABMAPEL_XI,DBLOGIC!EE2,FALSE),IF(OR($B$3=\"5 (lima)\",$B$3=\"6 (enam)\"),HLOOKUP($C$3,TABMAPEL_XII,DBLOGIC!EE2,FALSE),IF(OR($B$3=\"7 (tujuh)\",$B$3=\"8 (delapan)\"),HLOOKUP($C$3,TABMAPEL_XIII,DBLOGIC!EE2,FALSE),0))))","v":"Pemeliharaan Mesin Sepeda Motor"},{"$f":"IF(OR($B$3=\"1 (satu)\",$B$3=\"2 (dua)\"),HLOOKUP($C$3,TABMAPEL_X,DBLOGIC!EF2,FALSE),IF(OR($B$3=\"3 (tiga)\",$B$3=\"4 (empat)\"),HLOOKUP($C$3,TABMAPEL_XI,DBLOGIC!EF2,FALSE),IF(OR($B$3=\"5 (lima)\",$B$3=\"6 (enam)\"),HLOOKUP($C$3,TABMAPEL_XII,DBLOGIC!EF2,FALSE),IF(OR($B$3=\"7 (tujuh)\",$B$3=\"8 (delapan)\"),HLOOKUP($C$3,TABMAPEL_XIII,DBLOGIC!EF2,FALSE),0))))","v":"Pemeliharaan Sasis Sepeda Motor"},{"$f":"IF(OR($B$3=\"1 (satu)\",$B$3=\"2 (dua)\"),HLOOKUP($C$3,TABMAPEL_X,DBLOGIC!EG2,FALSE),IF(OR($B$3=\"3 (tiga)\",$B$3=\"4 (empat)\"),HLOOKUP($C$3,TABMAPEL_XI,DBLOGIC!EG2,FALSE),IF(OR($B$3=\"5 (lima)\",$B$3=\"6 (enam)\"),HLOOKUP($C$3,TABMAPEL_XII,DBLOGIC!EG2,FALSE),IF(OR($B$3=\"7 (tujuh)\",$B$3=\"8 (delapan)\"),HLOOKUP($C$3,TABMAPEL_XIII,DBLOGIC!EG2,FALSE),0))))","v":"Pemeliharaan Sasis Sepeda Motor"},{"$f":"IF(OR($B$3=\"1 (satu)\",$B$3=\"2 (dua)\"),HLOOKUP($C$3,TABMAPEL_X,DBLOGIC!EH2,FALSE),IF(OR($B$3=\"3 (tiga)\",$B$3=\"4 (empat)\"),HLOOKUP($C$3,TABMAPEL_XI,DBLOGIC!EH2,FALSE),IF(OR($B$3=\"5 (lima)\",$B$3=\"6 (enam)\"),HLOOKUP($C$3,TABMAPEL_XII,DBLOGIC!EH2,FALSE),IF(OR($B$3=\"7 (tujuh)\",$B$3=\"8 (delapan)\"),HLOOKUP($C$3,TABMAPEL_XIII,DBLOGIC!EH2,FALSE),0))))","v":"Pemeliharaan Sasis Sepeda Motor"},{"$f":"IF(OR($B$3=\"1 (satu)\",$B$3=\"2 (dua)\"),HLOOKUP($C$3,TABMAPEL_X,DBLOGIC!EI2,FALSE),IF(OR($B$3=\"3 (tiga)\",$B$3=\"4 (empat)\"),HLOOKUP($C$3,TABMAPEL_XI,DBLOGIC!EI2,FALSE),IF(OR($B$3=\"5 (lima)\",$B$3=\"6 (enam)\"),HLOOKUP($C$3,TABMAPEL_XII,DBLOGIC!EI2,FALSE),IF(OR($B$3=\"7 (tujuh)\",$B$3=\"8 (delapan)\"),HLOOKUP($C$3,TABMAPEL_XIII,DBLOGIC!EI2,FALSE),0))))","v":"Pemeliharaan Sasis Sepeda Motor"},{"$f":"IF(OR($B$3=\"1 (satu)\",$B$3=\"2 (dua)\"),HLOOKUP($C$3,TABMAPEL_X,DBLOGIC!EJ2,FALSE),IF(OR($B$3=\"3 (tiga)\",$B$3=\"4 (empat)\"),HLOOKUP($C$3,TABMAPEL_XI,DBLOGIC!EJ2,FALSE),IF(OR($B$3=\"5 (lima)\",$B$3=\"6 (enam)\"),HLOOKUP($C$3,TABMAPEL_XII,DBLOGIC!EJ2,FALSE),IF(OR($B$3=\"7 (tujuh)\",$B$3=\"8 (delapan)\"),HLOOKUP($C$3,TABMAPEL_XIII,DBLOGIC!EJ2,FALSE),0))))","v":"Pemeliharaan Sasis Sepeda Motor"},{"$f":"IF(OR($B$3=\"1 (satu)\",$B$3=\"2 (dua)\"),HLOOKUP($C$3,TABMAPEL_X,DBLOGIC!EK2,FALSE),IF(OR($B$3=\"3 (tiga)\",$B$3=\"4 (empat)\"),HLOOKUP($C$3,TABMAPEL_XI,DBLOGIC!EK2,FALSE),IF(OR($B$3=\"5 (lima)\",$B$3=\"6 (enam)\"),HLOOKUP($C$3,TABMAPEL_XII,DBLOGIC!EK2,FALSE),IF(OR($B$3=\"7 (tujuh)\",$B$3=\"8 (delapan)\"),HLOOKUP($C$3,TABMAPEL_XIII,DBLOGIC!EK2,FALSE),0))))","v":"Pemeliharaan Sasis Sepeda Motor"},{"$f":"IF(OR($B$3=\"1 (satu)\",$B$3=\"2 (dua)\"),HLOOKUP($C$3,TABMAPEL_X,DBLOGIC!EL2,FALSE),IF(OR($B$3=\"3 (tiga)\",$B$3=\"4 (empat)\"),HLOOKUP($C$3,TABMAPEL_XI,DBLOGIC!EL2,FALSE),IF(OR($B$3=\"5 (lima)\",$B$3=\"6 (enam)\"),HLOOKUP($C$3,TABMAPEL_XII,DBLOGIC!EL2,FALSE),IF(OR($B$3=\"7 (tujuh)\",$B$3=\"8 (delapan)\"),HLOOKUP($C$3,TABMAPEL_XIII,DBLOGIC!EL2,FALSE),0))))","v":"Pemeliharaan Sasis Sepeda Motor"},{"$f":"IF(OR($B$3=\"1 (satu)\",$B$3=\"2 (dua)\"),HLOOKUP($C$3,TABMAPEL_X,DBLOGIC!EM2,FALSE),IF(OR($B$3=\"3 (tiga)\",$B$3=\"4 (empat)\"),HLOOKUP($C$3,TABMAPEL_XI,DBLOGIC!EM2,FALSE),IF(OR($B$3=\"5 (lima)\",$B$3=\"6 (enam)\"),HLOOKUP($C$3,TABMAPEL_XII,DBLOGIC!EM2,FALSE),IF(OR($B$3=\"7 (tujuh)\",$B$3=\"8 (delapan)\"),HLOOKUP($C$3,TABMAPEL_XIII,DBLOGIC!EM2,FALSE),0))))","v":"Pemeliharaan Kelistrikan Sepeda Motor"},{"$f":"IF(OR($B$3=\"1 (satu)\",$B$3=\"2 (dua)\"),HLOOKUP($C$3,TABMAPEL_X,DBLOGIC!EN2,FALSE),IF(OR($B$3=\"3 (tiga)\",$B$3=\"4 (empat)\"),HLOOKUP($C$3,TABMAPEL_XI,DBLOGIC!EN2,FALSE),IF(OR($B$3=\"5 (lima)\",$B$3=\"6 (enam)\"),HLOOKUP($C$3,TABMAPEL_XII,DBLOGIC!EN2,FALSE),IF(OR($B$3=\"7 (tujuh)\",$B$3=\"8 (delapan)\"),HLOOKUP($C$3,TABMAPEL_XIII,DBLOGIC!EN2,FALSE),0))))","v":"Pemeliharaan Kelistrikan Sepeda Motor"},{"$f":"IF(OR($B$3=\"1 (satu)\",$B$3=\"2 (dua)\"),HLOOKUP($C$3,TABMAPEL_X,DBLOGIC!EO2,FALSE),IF(OR($B$3=\"3 (tiga)\",$B$3=\"4 (empat)\"),HLOOKUP($C$3,TABMAPEL_XI,DBLOGIC!EO2,FALSE),IF(OR($B$3=\"5 (lima)\",$B$3=\"6 (enam)\"),HLOOKUP($C$3,TABMAPEL_XII,DBLOGIC!EO2,FALSE),IF(OR($B$3=\"7 (tujuh)\",$B$3=\"8 (delapan)\"),HLOOKUP($C$3,TABMAPEL_XIII,DBLOGIC!EO2,FALSE),0))))","v":"Pemeliharaan Kelistrikan Sepeda Motor"},{"$f":"IF(OR($B$3=\"1 (satu)\",$B$3=\"2 (dua)\"),HLOOKUP($C$3,TABMAPEL_X,DBLOGIC!EP2,FALSE),IF(OR($B$3=\"3 (tiga)\",$B$3=\"4 (empat)\"),HLOOKUP($C$3,TABMAPEL_XI,DBLOGIC!EP2,FALSE),IF(OR($B$3=\"5 (lima)\",$B$3=\"6 (enam)\"),HLOOKUP($C$3,TABMAPEL_XII,DBLOGIC!EP2,FALSE),IF(OR($B$3=\"7 (tujuh)\",$B$3=\"8 (delapan)\"),HLOOKUP($C$3,TABMAPEL_XIII,DBLOGIC!EP2,FALSE),0))))","v":"Pemeliharaan Kelistrikan Sepeda Motor"},{"$f":"IF(OR($B$3=\"1 (satu)\",$B$3=\"2 (dua)\"),HLOOKUP($C$3,TABMAPEL_X,DBLOGIC!EQ2,FALSE),IF(OR($B$3=\"3 (tiga)\",$B$3=\"4 (empat)\"),HLOOKUP($C$3,TABMAPEL_XI,DBLOGIC!EQ2,FALSE),IF(OR($B$3=\"5 (lima)\",$B$3=\"6 (enam)\"),HLOOKUP($C$3,TABMAPEL_XII,DBLOGIC!EQ2,FALSE),IF(OR($B$3=\"7 (tujuh)\",$B$3=\"8 (delapan)\"),HLOOKUP($C$3,TABMAPEL_XIII,DBLOGIC!EQ2,FALSE),0))))","v":"Pemeliharaan Kelistrikan Sepeda Motor"},{"$f":"IF(OR($B$3=\"1 (satu)\",$B$3=\"2 (dua)\"),HLOOKUP($C$3,TABMAPEL_X,DBLOGIC!ER2,FALSE),IF(OR($B$3=\"3 (tiga)\",$B$3=\"4 (empat)\"),HLOOKUP($C$3,TABMAPEL_XI,DBLOGIC!ER2,FALSE),IF(OR($B$3=\"5 (lima)\",$B$3=\"6 (enam)\"),HLOOKUP($C$3,TABMAPEL_XII,DBLOGIC!ER2,FALSE),IF(OR($B$3=\"7 (tujuh)\",$B$3=\"8 (delapan)\"),HLOOKUP($C$3,TABMAPEL_XIII,DBLOGIC!ER2,FALSE),0))))","v":"Pemeliharaan Kelistrikan Sepeda Motor"},{"$f":"IF(OR($B$3=\"1 (satu)\",$B$3=\"2 (dua)\"),HLOOKUP($C$3,TABMAPEL_X,DBLOGIC!ES2,FALSE),IF(OR($B$3=\"3 (tiga)\",$B$3=\"4 (empat)\"),HLOOKUP($C$3,TABMAPEL_XI,DBLOGIC!ES2,FALSE),IF(OR($B$3=\"5 (lima)\",$B$3=\"6 (enam)\"),HLOOKUP($C$3,TABMAPEL_XII,DBLOGIC!ES2,FALSE),IF(OR($B$3=\"7 (tujuh)\",$B$3=\"8 (delapan)\"),HLOOKUP($C$3,TABMAPEL_XIII,DBLOGIC!ES2,FALSE),0))))","v":"Pemeliharaan Kelistrikan Sepeda Motor"},{"$f":"IF(OR($B$3=\"1 (satu)\",$B$3=\"2 (dua)\"),HLOOKUP($C$3,TABMAPEL_X,DBLOGIC!ET2,FALSE),IF(OR($B$3=\"3 (tiga)\",$B$3=\"4 (empat)\"),HLOOKUP($C$3,TABMAPEL_XI,DBLOGIC!ET2,FALSE),IF(OR($B$3=\"5 (lima)\",$B$3=\"6 (enam)\"),HLOOKUP($C$3,TABMAPEL_XII,DBLOGIC!ET2,FALSE),IF(OR($B$3=\"7 (tujuh)\",$B$3=\"8 (delapan)\"),HLOOKUP($C$3,TABMAPEL_XIII,DBLOGIC!ET2,FALSE),0))))","v":"Pengelolaan Bengkel Sepeda Motor"},{"$f":"IF(OR($B$3=\"1 (satu)\",$B$3=\"2 (dua)\"),HLOOKUP($C$3,TABMAPEL_X,DBLOGIC!EU2,FALSE),IF(OR($B$3=\"3 (tiga)\",$B$3=\"4 (empat)\"),HLOOKUP($C$3,TABMAPEL_XI,DBLOGIC!EU2,FALSE),IF(OR($B$3=\"5 (lima)\",$B$3=\"6 (enam)\"),HLOOKUP($C$3,TABMAPEL_XII,DBLOGIC!EU2,FALSE),IF(OR($B$3=\"7 (tujuh)\",$B$3=\"8 (delapan)\"),HLOOKUP($C$3,TABMAPEL_XIII,DBLOGIC!EU2,FALSE),0))))","v":"Pengelolaan Bengkel Sepeda Motor"},{"$f":"IF(OR($B$3=\"1 (satu)\",$B$3=\"2 (dua)\"),HLOOKUP($C$3,TABMAPEL_X,DBLOGIC!EV2,FALSE),IF(OR($B$3=\"3 (tiga)\",$B$3=\"4 (empat)\"),HLOOKUP($C$3,TABMAPEL_XI,DBLOGIC!EV2,FALSE),IF(OR($B$3=\"5 (lima)\",$B$3=\"6 (enam)\"),HLOOKUP($C$3,TABMAPEL_XII,DBLOGIC!EV2,FALSE),IF(OR($B$3=\"7 (tujuh)\",$B$3=\"8 (delapan)\"),HLOOKUP($C$3,TABMAPEL_XIII,DBLOGIC!EV2,FALSE),0))))","v":"Pengelolaan Bengkel Sepeda Motor"},{"$f":"IF(OR($B$3=\"1 (satu)\",$B$3=\"2 (dua)\"),HLOOKUP($C$3,TABMAPEL_X,DBLOGIC!EW2,FALSE),IF(OR($B$3=\"3 (tiga)\",$B$3=\"4 (empat)\"),HLOOKUP($C$3,TABMAPEL_XI,DBLOGIC!EW2,FALSE),IF(OR($B$3=\"5 (lima)\",$B$3=\"6 (enam)\"),HLOOKUP($C$3,TABMAPEL_XII,DBLOGIC!EW2,FALSE),IF(OR($B$3=\"7 (tujuh)\",$B$3=\"8 (delapan)\"),HLOOKUP($C$3,TABMAPEL_XIII,DBLOGIC!EW2,FALSE),0))))","v":"Pengelolaan Bengkel Sepeda Motor"},{"$f":"IF(OR($B$3=\"1 (satu)\",$B$3=\"2 (dua)\"),HLOOKUP($C$3,TABMAPEL_X,DBLOGIC!EX2,FALSE),IF(OR($B$3=\"3 (tiga)\",$B$3=\"4 (empat)\"),HLOOKUP($C$3,TABMAPEL_XI,DBLOGIC!EX2,FALSE),IF(OR($B$3=\"5 (lima)\",$B$3=\"6 (enam)\"),HLOOKUP($C$3,TABMAPEL_XII,DBLOGIC!EX2,FALSE),IF(OR($B$3=\"7 (tujuh)\",$B$3=\"8 (delapan)\"),HLOOKUP($C$3,TABMAPEL_XIII,DBLOGIC!EX2,FALSE),0))))","v":"Pengelolaan Bengkel Sepeda Motor"},{"$f":"IF(OR($B$3=\"1 (satu)\",$B$3=\"2 (dua)\"),HLOOKUP($C$3,TABMAPEL_X,DBLOGIC!EY2,FALSE),IF(OR($B$3=\"3 (tiga)\",$B$3=\"4 (empat)\"),HLOOKUP($C$3,TABMAPEL_XI,DBLOGIC!EY2,FALSE),IF(OR($B$3=\"5 (lima)\",$B$3=\"6 (enam)\"),HLOOKUP($C$3,TABMAPEL_XII,DBLOGIC!EY2,FALSE),IF(OR($B$3=\"7 (tujuh)\",$B$3=\"8 (delapan)\"),HLOOKUP($C$3,TABMAPEL_XIII,DBLOGIC!EY2,FALSE),0))))","v":"Pengelolaan Bengkel Sepeda Motor"},{"$f":"IF(OR($B$3=\"1 (satu)\",$B$3=\"2 (dua)\"),HLOOKUP($C$3,TABMAPEL_X,DBLOGIC!EZ2,FALSE),IF(OR($B$3=\"3 (tiga)\",$B$3=\"4 (empat)\"),HLOOKUP($C$3,TABMAPEL_XI,DBLOGIC!EZ2,FALSE),IF(OR($B$3=\"5 (lima)\",$B$3=\"6 (enam)\"),HLOOKUP($C$3,TABMAPEL_XII,DBLOGIC!EZ2,FALSE),IF(OR($B$3=\"7 (tujuh)\",$B$3=\"8 (delapan)\"),HLOOKUP($C$3,TABMAPEL_XIII,DBLOGIC!EZ2,FALSE),0))))","v":"Pengelolaan Bengkel Sepeda Motor"},{"$f":"IF(OR($B$3=\"1 (satu)\",$B$3=\"2 (dua)\"),HLOOKUP($C$3,TABMAPEL_X,DBLOGIC!FA2,FALSE),IF(OR($B$3=\"3 (tiga)\",$B$3=\"4 (empat)\"),HLOOKUP($C$3,TABMAPEL_XI,DBLOGIC!FA2,FALSE),IF(OR($B$3=\"5 (lima)\",$B$3=\"6 (enam)\"),HLOOKUP($C$3,TABMAPEL_XII,DBLOGIC!FA2,FALSE),IF(OR($B$3=\"7 (tujuh)\",$B$3=\"8 (delapan)\"),HLOOKUP($C$3,TABMAPEL_XIII,DBLOGIC!FA2,FALSE),0))))","v":"-"},{"$f":"IF(OR($B$3=\"1 (satu)\",$B$3=\"2 (dua)\"),HLOOKUP($C$3,TABMAPEL_X,DBLOGIC!FB2,FALSE),IF(OR($B$3=\"3 (tiga)\",$B$3=\"4 (empat)\"),HLOOKUP($C$3,TABMAPEL_XI,DBLOGIC!FB2,FALSE),IF(OR($B$3=\"5 (lima)\",$B$3=\"6 (enam)\"),HLOOKUP($C$3,TABMAPEL_XII,DBLOGIC!FB2,FALSE),IF(OR($B$3=\"7 (tujuh)\",$B$3=\"8 (delapan)\"),HLOOKUP($C$3,TABMAPEL_XIII,DBLOGIC!FB2,FALSE),0))))","v":"-"},{"$f":"IF(OR($B$3=\"1 (satu)\",$B$3=\"2 (dua)\"),HLOOKUP($C$3,TABMAPEL_X,DBLOGIC!FC2,FALSE),IF(OR($B$3=\"3 (tiga)\",$B$3=\"4 (empat)\"),HLOOKUP($C$3,TABMAPEL_XI,DBLOGIC!FC2,FALSE),IF(OR($B$3=\"5 (lima)\",$B$3=\"6 (enam)\"),HLOOKUP($C$3,TABMAPEL_XII,DBLOGIC!FC2,FALSE),IF(OR($B$3=\"7 (tujuh)\",$B$3=\"8 (delapan)\"),HLOOKUP($C$3,TABMAPEL_XIII,DBLOGIC!FC2,FALSE),0))))","v":"-"},{"$f":"IF(OR($B$3=\"1 (satu)\",$B$3=\"2 (dua)\"),HLOOKUP($C$3,TABMAPEL_X,DBLOGIC!FD2,FALSE),IF(OR($B$3=\"3 (tiga)\",$B$3=\"4 (empat)\"),HLOOKUP($C$3,TABMAPEL_XI,DBLOGIC!FD2,FALSE),IF(OR($B$3=\"5 (lima)\",$B$3=\"6 (enam)\"),HLOOKUP($C$3,TABMAPEL_XII,DBLOGIC!FD2,FALSE),IF(OR($B$3=\"7 (tujuh)\",$B$3=\"8 (delapan)\"),HLOOKUP($C$3,TABMAPEL_XIII,DBLOGIC!FD2,FALSE),0))))","v":"-"},{"$f":"IF(OR($B$3=\"1 (satu)\",$B$3=\"2 (dua)\"),HLOOKUP($C$3,TABMAPEL_X,DBLOGIC!FE2,FALSE),IF(OR($B$3=\"3 (tiga)\",$B$3=\"4 (empat)\"),HLOOKUP($C$3,TABMAPEL_XI,DBLOGIC!FE2,FALSE),IF(OR($B$3=\"5 (lima)\",$B$3=\"6 (enam)\"),HLOOKUP($C$3,TABMAPEL_XII,DBLOGIC!FE2,FALSE),IF(OR($B$3=\"7 (tujuh)\",$B$3=\"8 (delapan)\"),HLOOKUP($C$3,TABMAPEL_XIII,DBLOGIC!FE2,FALSE),0))))","v":"-"},{"$f":"IF(OR($B$3=\"1 (satu)\",$B$3=\"2 (dua)\"),HLOOKUP($C$3,TABMAPEL_X,DBLOGIC!FF2,FALSE),IF(OR($B$3=\"3 (tiga)\",$B$3=\"4 (empat)\"),HLOOKUP($C$3,TABMAPEL_XI,DBLOGIC!FF2,FALSE),IF(OR($B$3=\"5 (lima)\",$B$3=\"6 (enam)\"),HLOOKUP($C$3,TABMAPEL_XII,DBLOGIC!FF2,FALSE),IF(OR($B$3=\"7 (tujuh)\",$B$3=\"8 (delapan)\"),HLOOKUP($C$3,TABMAPEL_XIII,DBLOGIC!FF2,FALSE),0))))","v":"-"},{"$f":"IF(OR($B$3=\"1 (satu)\",$B$3=\"2 (dua)\"),HLOOKUP($C$3,TABMAPEL_X,DBLOGIC!FG2,FALSE),IF(OR($B$3=\"3 (tiga)\",$B$3=\"4 (empat)\"),HLOOKUP($C$3,TABMAPEL_XI,DBLOGIC!FG2,FALSE),IF(OR($B$3=\"5 (lima)\",$B$3=\"6 (enam)\"),HLOOKUP($C$3,TABMAPEL_XII,DBLOGIC!FG2,FALSE),IF(OR($B$3=\"7 (tujuh)\",$B$3=\"8 (delapan)\"),HLOOKUP($C$3,TABMAPEL_XIII,DBLOGIC!FG2,FALSE),0))))","v":"-"},{"$f":"IF(OR($B$3=\"1 (satu)\",$B$3=\"2 (dua)\"),HLOOKUP($C$3,TABMAPEL_X,DBLOGIC!FH2,FALSE),IF(OR($B$3=\"3 (tiga)\",$B$3=\"4 (empat)\"),HLOOKUP($C$3,TABMAPEL_XI,DBLOGIC!FH2,FALSE),IF(OR($B$3=\"5 (lima)\",$B$3=\"6 (enam)\"),HLOOKUP($C$3,TABMAPEL_XII,DBLOGIC!FH2,FALSE),IF(OR($B$3=\"7 (tujuh)\",$B$3=\"8 (delapan)\"),HLOOKUP($C$3,TABMAPEL_XIII,DBLOGIC!FH2,FALSE),0))))","v":"Produk Kreatif dan Kewirausahaan "},{"$f":"IF(OR($B$3=\"1 (satu)\",$B$3=\"2 (dua)\"),HLOOKUP($C$3,TABMAPEL_X,DBLOGIC!FI2,FALSE),IF(OR($B$3=\"3 (tiga)\",$B$3=\"4 (empat)\"),HLOOKUP($C$3,TABMAPEL_XI,DBLOGIC!FI2,FALSE),IF(OR($B$3=\"5 (lima)\",$B$3=\"6 (enam)\"),HLOOKUP($C$3,TABMAPEL_XII,DBLOGIC!FI2,FALSE),IF(OR($B$3=\"7 (tujuh)\",$B$3=\"8 (delapan)\"),HLOOKUP($C$3,TABMAPEL_XIII,DBLOGIC!FI2,FALSE),0))))","v":"Produk Kreatif dan Kewirausahaan "},{"$f":"IF(OR($B$3=\"1 (satu)\",$B$3=\"2 (dua)\"),HLOOKUP($C$3,TABMAPEL_X,DBLOGIC!FJ2,FALSE),IF(OR($B$3=\"3 (tiga)\",$B$3=\"4 (empat)\"),HLOOKUP($C$3,TABMAPEL_XI,DBLOGIC!FJ2,FALSE),IF(OR($B$3=\"5 (lima)\",$B$3=\"6 (enam)\"),HLOOKUP($C$3,TABMAPEL_XII,DBLOGIC!FJ2,FALSE),IF(OR($B$3=\"7 (tujuh)\",$B$3=\"8 (delapan)\"),HLOOKUP($C$3,TABMAPEL_XIII,DBLOGIC!FJ2,FALSE),0))))","v":"Produk Kreatif dan Kewirausahaan "},{"$f":"IF(OR($B$3=\"1 (satu)\",$B$3=\"2 (dua)\"),HLOOKUP($C$3,TABMAPEL_X,DBLOGIC!FK2,FALSE),IF(OR($B$3=\"3 (tiga)\",$B$3=\"4 (empat)\"),HLOOKUP($C$3,TABMAPEL_XI,DBLOGIC!FK2,FALSE),IF(OR($B$3=\"5 (lima)\",$B$3=\"6 (enam)\"),HLOOKUP($C$3,TABMAPEL_XII,DBLOGIC!FK2,FALSE),IF(OR($B$3=\"7 (tujuh)\",$B$3=\"8 (delapan)\"),HLOOKUP($C$3,TABMAPEL_XIII,DBLOGIC!FK2,FALSE),0))))","v":"Produk Kreatif dan Kewirausahaan "},{"$f":"IF(OR($B$3=\"1 (satu)\",$B$3=\"2 (dua)\"),HLOOKUP($C$3,TABMAPEL_X,DBLOGIC!FL2,FALSE),IF(OR($B$3=\"3 (tiga)\",$B$3=\"4 (empat)\"),HLOOKUP($C$3,TABMAPEL_XI,DBLOGIC!FL2,FALSE),IF(OR($B$3=\"5 (lima)\",$B$3=\"6 (enam)\"),HLOOKUP($C$3,TABMAPEL_XII,DBLOGIC!FL2,FALSE),IF(OR($B$3=\"7 (tujuh)\",$B$3=\"8 (delapan)\"),HLOOKUP($C$3,TABMAPEL_XIII,DBLOGIC!FL2,FALSE),0))))","v":"Produk Kreatif dan Kewirausahaan "},{"$f":"IF(OR($B$3=\"1 (satu)\",$B$3=\"2 (dua)\"),HLOOKUP($C$3,TABMAPEL_X,DBLOGIC!FM2,FALSE),IF(OR($B$3=\"3 (tiga)\",$B$3=\"4 (empat)\"),HLOOKUP($C$3,TABMAPEL_XI,DBLOGIC!FM2,FALSE),IF(OR($B$3=\"5 (lima)\",$B$3=\"6 (enam)\"),HLOOKUP($C$3,TABMAPEL_XII,DBLOGIC!FM2,FALSE),IF(OR($B$3=\"7 (tujuh)\",$B$3=\"8 (delapan)\"),HLOOKUP($C$3,TABMAPEL_XIII,DBLOGIC!FM2,FALSE),0))))","v":"Produk Kreatif dan Kewirausahaan "},{"$f":"IF(OR($B$3=\"1 (satu)\",$B$3=\"2 (dua)\"),HLOOKUP($C$3,TABMAPEL_X,DBLOGIC!FN2,FALSE),IF(OR($B$3=\"3 (tiga)\",$B$3=\"4 (empat)\"),HLOOKUP($C$3,TABMAPEL_XI,DBLOGIC!FN2,FALSE),IF(OR($B$3=\"5 (lima)\",$B$3=\"6 (enam)\"),HLOOKUP($C$3,TABMAPEL_XII,DBLOGIC!FN2,FALSE),IF(OR($B$3=\"7 (tujuh)\",$B$3=\"8 (delapan)\"),HLOOKUP($C$3,TABMAPEL_XIII,DBLOGIC!FN2,FALSE),0))))","v":"Produk Kreatif dan Kewirausahaan "},{"$f":"IF(OR($B$3=\"1 (satu)\",$B$3=\"2 (dua)\"),HLOOKUP($C$3,TABMAPEL_X,DBLOGIC!FO2,FALSE),IF(OR($B$3=\"3 (tiga)\",$B$3=\"4 (empat)\"),HLOOKUP($C$3,TABMAPEL_XI,DBLOGIC!FO2,FALSE),IF(OR($B$3=\"5 (lima)\",$B$3=\"6 (enam)\"),HLOOKUP($C$3,TABMAPEL_XII,DBLOGIC!FO2,FALSE),IF(OR($B$3=\"7 (tujuh)\",$B$3=\"8 (delapan)\"),HLOOKUP($C$3,TABMAPEL_XIII,DBLOGIC!FO2,FALSE),0))))","v":"-"},{"$f":"IF(OR($B$3=\"1 (satu)\",$B$3=\"2 (dua)\"),HLOOKUP($C$3,TABMAPEL_X,DBLOGIC!FP2,FALSE),IF(OR($B$3=\"3 (tiga)\",$B$3=\"4 (empat)\"),HLOOKUP($C$3,TABMAPEL_XI,DBLOGIC!FP2,FALSE),IF(OR($B$3=\"5 (lima)\",$B$3=\"6 (enam)\"),HLOOKUP($C$3,TABMAPEL_XII,DBLOGIC!FP2,FALSE),IF(OR($B$3=\"7 (tujuh)\",$B$3=\"8 (delapan)\"),HLOOKUP($C$3,TABMAPEL_XIII,DBLOGIC!FP2,FALSE),0))))","v":"-"},{"$f":"IF(OR($B$3=\"1 (satu)\",$B$3=\"2 (dua)\"),HLOOKUP($C$3,TABMAPEL_X,DBLOGIC!FQ2,FALSE),IF(OR($B$3=\"3 (tiga)\",$B$3=\"4 (empat)\"),HLOOKUP($C$3,TABMAPEL_XI,DBLOGIC!FQ2,FALSE),IF(OR($B$3=\"5 (lima)\",$B$3=\"6 (enam)\"),HLOOKUP($C$3,TABMAPEL_XII,DBLOGIC!FQ2,FALSE),IF(OR($B$3=\"7 (tujuh)\",$B$3=\"8 (delapan)\"),HLOOKUP($C$3,TABMAPEL_XIII,DBLOGIC!FQ2,FALSE),0))))","v":"-"},{"$f":"IF(OR($B$3=\"1 (satu)\",$B$3=\"2 (dua)\"),HLOOKUP($C$3,TABMAPEL_X,DBLOGIC!FR2,FALSE),IF(OR($B$3=\"3 (tiga)\",$B$3=\"4 (empat)\"),HLOOKUP($C$3,TABMAPEL_XI,DBLOGIC!FR2,FALSE),IF(OR($B$3=\"5 (lima)\",$B$3=\"6 (enam)\"),HLOOKUP($C$3,TABMAPEL_XII,DBLOGIC!FR2,FALSE),IF(OR($B$3=\"7 (tujuh)\",$B$3=\"8 (delapan)\"),HLOOKUP($C$3,TABMAPEL_XIII,DBLOGIC!FR2,FALSE),0))))","v":"-"},{"$f":"IF(OR($B$3=\"1 (satu)\",$B$3=\"2 (dua)\"),HLOOKUP($C$3,TABMAPEL_X,DBLOGIC!FS2,FALSE),IF(OR($B$3=\"3 (tiga)\",$B$3=\"4 (empat)\"),HLOOKUP($C$3,TABMAPEL_XI,DBLOGIC!FS2,FALSE),IF(OR($B$3=\"5 (lima)\",$B$3=\"6 (enam)\"),HLOOKUP($C$3,TABMAPEL_XII,DBLOGIC!FS2,FALSE),IF(OR($B$3=\"7 (tujuh)\",$B$3=\"8 (delapan)\"),HLOOKUP($C$3,TABMAPEL_XIII,DBLOGIC!FS2,FALSE),0))))","v":"-"},{"$f":"IF(OR($B$3=\"1 (satu)\",$B$3=\"2 (dua)\"),HLOOKUP($C$3,TABMAPEL_X,DBLOGIC!FT2,FALSE),IF(OR($B$3=\"3 (tiga)\",$B$3=\"4 (empat)\"),HLOOKUP($C$3,TABMAPEL_XI,DBLOGIC!FT2,FALSE),IF(OR($B$3=\"5 (lima)\",$B$3=\"6 (enam)\"),HLOOKUP($C$3,TABMAPEL_XII,DBLOGIC!FT2,FALSE),IF(OR($B$3=\"7 (tujuh)\",$B$3=\"8 (delapan)\"),HLOOKUP($C$3,TABMAPEL_XIII,DBLOGIC!FT2,FALSE),0))))","v":"-"},{"$f":"IF(OR($B$3=\"1 (satu)\",$B$3=\"2 (dua)\"),HLOOKUP($C$3,TABMAPEL_X,DBLOGIC!FU2,FALSE),IF(OR($B$3=\"3 (tiga)\",$B$3=\"4 (empat)\"),HLOOKUP($C$3,TABMAPEL_XI,DBLOGIC!FU2,FALSE),IF(OR($B$3=\"5 (lima)\",$B$3=\"6 (enam)\"),HLOOKUP($C$3,TABMAPEL_XII,DBLOGIC!FU2,FALSE),IF(OR($B$3=\"7 (tujuh)\",$B$3=\"8 (delapan)\"),HLOOKUP($C$3,TABMAPEL_XIII,DBLOGIC!FU2,FALSE),0))))","v":"-"},{"$f":"IF(OR($B$3=\"1 (satu)\",$B$3=\"2 (dua)\"),HLOOKUP($C$3,TABMAPEL_X,DBLOGIC!FV2,FALSE),IF(OR($B$3=\"3 (tiga)\",$B$3=\"4 (empat)\"),HLOOKUP($C$3,TABMAPEL_XI,DBLOGIC!FV2,FALSE),IF(OR($B$3=\"5 (lima)\",$B$3=\"6 (enam)\"),HLOOKUP($C$3,TABMAPEL_XII,DBLOGIC!FV2,FALSE),IF(OR($B$3=\"7 (tujuh)\",$B$3=\"8 (delapan)\"),HLOOKUP($C$3,TABMAPEL_XIII,DBLOGIC!FV2,FALSE),0))))","v":"-"},{"$f":"IF(OR($B$3=\"1 (satu)\",$B$3=\"2 (dua)\"),HLOOKUP($C$3,TABMAPEL_X,DBLOGIC!FW2,FALSE),IF(OR($B$3=\"3 (tiga)\",$B$3=\"4 (empat)\"),HLOOKUP($C$3,TABMAPEL_XI,DBLOGIC!FW2,FALSE),IF(OR($B$3=\"5 (lima)\",$B$3=\"6 (enam)\"),HLOOKUP($C$3,TABMAPEL_XII,DBLOGIC!FW2,FALSE),IF(OR($B$3=\"7 (tujuh)\",$B$3=\"8 (delapan)\"),HLOOKUP($C$3,TABMAPEL_XIII,DBLOGIC!FW2,FALSE),0))))","v":"-"},{"$f":"IF(OR($B$3=\"1 (satu)\",$B$3=\"2 (dua)\"),HLOOKUP($C$3,TABMAPEL_X,DBLOGIC!FX2,FALSE),IF(OR($B$3=\"3 (tiga)\",$B$3=\"4 (empat)\"),HLOOKUP($C$3,TABMAPEL_XI,DBLOGIC!FX2,FALSE),IF(OR($B$3=\"5 (lima)\",$B$3=\"6 (enam)\"),HLOOKUP($C$3,TABMAPEL_XII,DBLOGIC!FX2,FALSE),IF(OR($B$3=\"7 (tujuh)\",$B$3=\"8 (delapan)\"),HLOOKUP($C$3,TABMAPEL_XIII,DBLOGIC!FX2,FALSE),0))))","v":"-"},{"$f":"IF(OR($B$3=\"1 (satu)\",$B$3=\"2 (dua)\"),HLOOKUP($C$3,TABMAPEL_X,DBLOGIC!FY2,FALSE),IF(OR($B$3=\"3 (tiga)\",$B$3=\"4 (empat)\"),HLOOKUP($C$3,TABMAPEL_XI,DBLOGIC!FY2,FALSE),IF(OR($B$3=\"5 (lima)\",$B$3=\"6 (enam)\"),HLOOKUP($C$3,TABMAPEL_XII,DBLOGIC!FY2,FALSE),IF(OR($B$3=\"7 (tujuh)\",$B$3=\"8 (delapan)\"),HLOOKUP($C$3,TABMAPEL_XIII,DBLOGIC!FY2,FALSE),0))))","v":"-"},{"$f":"IF(OR($B$3=\"1 (satu)\",$B$3=\"2 (dua)\"),HLOOKUP($C$3,TABMAPEL_X,DBLOGIC!FZ2,FALSE),IF(OR($B$3=\"3 (tiga)\",$B$3=\"4 (empat)\"),HLOOKUP($C$3,TABMAPEL_XI,DBLOGIC!FZ2,FALSE),IF(OR($B$3=\"5 (lima)\",$B$3=\"6 (enam)\"),HLOOKUP($C$3,TABMAPEL_XII,DBLOGIC!FZ2,FALSE),IF(OR($B$3=\"7 (tujuh)\",$B$3=\"8 (delapan)\"),HLOOKUP($C$3,TABMAPEL_XIII,DBLOGIC!FZ2,FALSE),0))))","v":"-"},{"$f":"IF(OR($B$3=\"1 (satu)\",$B$3=\"2 (dua)\"),HLOOKUP($C$3,TABMAPEL_X,DBLOGIC!GA2,FALSE),IF(OR($B$3=\"3 (tiga)\",$B$3=\"4 (empat)\"),HLOOKUP($C$3,TABMAPEL_XI,DBLOGIC!GA2,FALSE),IF(OR($B$3=\"5 (lima)\",$B$3=\"6 (enam)\"),HLOOKUP($C$3,TABMAPEL_XII,DBLOGIC!GA2,FALSE),IF(OR($B$3=\"7 (tujuh)\",$B$3=\"8 (delapan)\"),HLOOKUP($C$3,TABMAPEL_XIII,DBLOGIC!GA2,FALSE),0))))","v":"-"},{"$f":"IF(OR($B$3=\"1 (satu)\",$B$3=\"2 (dua)\"),HLOOKUP($C$3,TABMAPEL_X,DBLOGIC!GB2,FALSE),IF(OR($B$3=\"3 (tiga)\",$B$3=\"4 (empat)\"),HLOOKUP($C$3,TABMAPEL_XI,DBLOGIC!GB2,FALSE),IF(OR($B$3=\"5 (lima)\",$B$3=\"6 (enam)\"),HLOOKUP($C$3,TABMAPEL_XII,DBLOGIC!GB2,FALSE),IF(OR($B$3=\"7 (tujuh)\",$B$3=\"8 (delapan)\"),HLOOKUP($C$3,TABMAPEL_XIII,DBLOGIC!GB2,FALSE),0))))","v":"-"},null,"Bimbingan dan Konseling","Catatan Aakdemik"]
["Semester  :","5 (lima)",{"$f":"IF(OR(B3=\"1 (satu)\",B3=\"2 (dua)\"),\"X \"&MENU!F8,IF(OR(B3=\"3 (tiga)\",B3=\"4 (empat)\"),\"XI \"&MENU!F8,IF(OR(B3=\"5 (lima)\",B3=\"6 (enam)\"),\"XII \"&MENU!F8,\"\")))","v":"XII TBSM"},{"$f":"HLOOKUP(\"KEL\",TABMAPEL_X,DBLOGIC!Q2,FALSE)","v":"A"},{"$f":"HLOOKUP(\"KEL\",TABMAPEL_X,DBLOGIC!R2,FALSE)","v":"A"},{"$f":"HLOOKUP(\"KEL\",TABMAPEL_X,DBLOGIC!S2,FALSE)","v":"A"},{"$f":"HLOOKUP(\"KEL\",TABMAPEL_X,DBLOGIC!T2,FALSE)","v":"A"},{"$f":"HLOOKUP(\"KEL\",TABMAPEL_X,DBLOGIC!U2,FALSE)","v":"A"},{"$f":"HLOOKUP(\"KEL\",TABMAPEL_X,DBLOGIC!V2,FALSE)","v":"A"},{"$f":"HLOOKUP(\"KEL\",TABMAPEL_X,DBLOGIC!W2,FALSE)","v":"A"},{"$f":"HLOOKUP(\"KEL\",TABMAPEL_X,DBLOGIC!X2,FALSE)","v":"A"},{"$f":"HLOOKUP(\"KEL\",TABMAPEL_X,DBLOGIC!Y2,FALSE)","v":"A"},{"$f":"HLOOKUP(\"KEL\",TABMAPEL_X,DBLOGIC!Z2,FALSE)","v":"A"},{"$f":"HLOOKUP(\"KEL\",TABMAPEL_X,DBLOGIC!AA2,FALSE)","v":"A"},{"$f":"HLOOKUP(\"KEL\",TABMAPEL_X,DBLOGIC!AB2,FALSE)","v":"A"},{"$f":"HLOOKUP(\"KEL\",TABMAPEL_X,DBLOGIC!AC2,FALSE)","v":"A"},{"$f":"HLOOKUP(\"KEL\",TABMAPEL_X,DBLOGIC!AD2,FALSE)","v":"A"},{"$f":"HLOOKUP(\"KEL\",TABMAPEL_X,DBLOGIC!AE2,FALSE)","v":"A"},{"$f":"HLOOKUP(\"KEL\",TABMAPEL_X,DBLOGIC!AF2,FALSE)","v":"A"},{"$f":"HLOOKUP(\"KEL\",TABMAPEL_X,DBLOGIC!AG2,FALSE)","v":"A"},{"$f":"HLOOKUP(\"KEL\",TABMAPEL_X,DBLOGIC!AH2,FALSE)","v":"A"},{"$f":"HLOOKUP(\"KEL\",TABMAPEL_X,DBLOGIC!AI2,FALSE)","v":"A"},{"$f":"HLOOKUP(\"KEL\",TABMAPEL_X,DBLOGIC!AJ2,FALSE)","v":"A"},{"$f":"HLOOKUP(\"KEL\",TABMAPEL_X,DBLOGIC!AK2,FALSE)","v":"A"},{"$f":"HLOOKUP(\"KEL\",TABMAPEL_X,DBLOGIC!AL2,FALSE)","v":"A"},{"$f":"HLOOKUP(\"KEL\",TABMAPEL_X,DBLOGIC!AM2,FALSE)","v":"A"},{"$f":"HLOOKUP(\"KEL\",TABMAPEL_X,DBLOGIC!AN2,FALSE)","v":"A"},{"$f":"HLOOKUP(\"KEL\",TABMAPEL_X,DBLOGIC!AO2,FALSE)","v":"A"},{"$f":"HLOOKUP(\"KEL\",TABMAPEL_X,DBLOGIC!AP2,FALSE)","v":"A"},{"$f":"HLOOKUP(\"KEL\",TABMAPEL_X,DBLOGIC!AQ2,FALSE)","v":"A"},{"$f":"HLOOKUP(\"KEL\",TABMAPEL_X,DBLOGIC!AR2,FALSE)","v":"A"},{"$f":"HLOOKUP(\"KEL\",TABMAPEL_X,DBLOGIC!AS2,FALSE)","v":"A"},{"$f":"HLOOKUP(\"KEL\",TABMAPEL_X,DBLOGIC!AT2,FALSE)","v":"A"},{"$f":"HLOOKUP(\"KEL\",TABMAPEL_X,DBLOGIC!AU2,FALSE)","v":"A"},{"$f":"HLOOKUP(\"KEL\",TABMAPEL_X,DBLOGIC!AV2,FALSE)","v":"A"},{"$f":"HLOOKUP(\"KEL\",TABMAPEL_X,DBLOGIC!AW2,FALSE)","v":"A"},{"$f":"HLOOKUP(\"KEL\",TABMAPEL_X,DBLOGIC!AX2,FALSE)","v":"A"},{"$f":"HLOOKUP(\"KEL\",TABMAPEL_X,DBLOGIC!AY2,FALSE)","v":"A"},{"$f":"HLOOKUP(\"KEL\",TABMAPEL_X,DBLOGIC!AZ2,FALSE)","v":"A"},{"$f":"HLOOKUP(\"KEL\",TABMAPEL_X,DBLOGIC!BA2,FALSE)","v":"A"},{"$f":"HLOOKUP(\"KEL\",TABMAPEL_X,DBLOGIC!BB2,FALSE)","v":"A"},{"$f":"HLOOKUP(\"KEL\",TABMAPEL_X,DBLOGIC!BC2,FALSE)","v":"A"},{"$f":"HLOOKUP(\"KEL\",TABMAPEL_X,DBLOGIC!BD2,FALSE)","v":"A"},{"$f":"HLOOKUP(\"KEL\",TABMAPEL_X,DBLOGIC!BE2,FALSE)","v":"A"},{"$f":"HLOOKUP(\"KEL\",TABMAPEL_X,DBLOGIC!BF2,FALSE)","v":"A"},{"$f":"HLOOKUP(\"KEL\",TABMAPEL_X,DBLOGIC!BG2,FALSE)","v":"A"},{"$f":"HLOOKUP(\"KEL\",TABMAPEL_X,DBLOGIC!BH2,FALSE)","v":"A"},{"$f":"HLOOKUP(\"KEL\",TABMAPEL_X,DBLOGIC!BI2,FALSE)","v":"A"},{"$f":"HLOOKUP(\"KEL\",TABMAPEL_X,DBLOGIC!BJ2,FALSE)","v":"A"},{"$f":"HLOOKUP(\"KEL\",TABMAPEL_X,DBLOGIC!BK2,FALSE)","v":"A"},{"$f":"HLOOKUP(\"KEL\",TABMAPEL_X,DBLOGIC!BL2,FALSE)","v":"A"},{"$f":"HLOOKUP(\"KEL\",TABMAPEL_X,DBLOGIC!BM2,FALSE)","v":"A"},{"$f":"HLOOKUP(\"KEL\",TABMAPEL_X,DBLOGIC!BN2,FALSE)","v":"B"},{"$f":"HLOOKUP(\"KEL\",TABMAPEL_X,DBLOGIC!BO2,FALSE)","v":"B"},{"$f":"HLOOKUP(\"KEL\",TABMAPEL_X,DBLOGIC!BP2,FALSE)","v":"B"},{"$f":"HLOOKUP(\"KEL\",TABMAPEL_X,DBLOGIC!BQ2,FALSE)","v":"B"},{"$f":"HLOOKUP(\"KEL\",TABMAPEL_X,DBLOGIC!BR2,FALSE)","v":"B"},{"$f":"HLOOKUP(\"KEL\",TABMAPEL_X,DBLOGIC!BS2,FALSE)","v":"B"},{"$f":"HLOOKUP(\"KEL\",TABMAPEL_X,DBLOGIC!BT2,FALSE)","v":"B"},{"$f":"HLOOKUP(\"KEL\",TABMAPEL_X,DBLOGIC!BU2,FALSE)","v":"B"},{"$f":"HLOOKUP(\"KEL\",TABMAPEL_X,DBLOGIC!BV2,FALSE)","v":"B"},{"$f":"HLOOKUP(\"KEL\",TABMAPEL_X,DBLOGIC!BW2,FALSE)","v":"B"},{"$f":"HLOOKUP(\"KEL\",TABMAPEL_X,DBLOGIC!BX2,FALSE)","v":"B"},{"$f":"HLOOKUP(\"KEL\",TABMAPEL_X,DBLOGIC!BY2,FALSE)","v":"B"},{"$f":"HLOOKUP(\"KEL\",TABMAPEL_X,DBLOGIC!BZ2,FALSE)","v":"B"},{"$f":"HLOOKUP(\"KEL\",TABMAPEL_X,DBLOGIC!CA2,FALSE)","v":"B"},{"$f":"HLOOKUP(\"KEL\",TABMAPEL_X,DBLOGIC!CB2,FALSE)","v":"C1"},{"$f":"HLOOKUP(\"KEL\",TABMAPEL_X,DBLOGIC!CC2,FALSE)","v":"C1"},{"$f":"HLOOKUP(\"KEL\",TABMAPEL_X,DBLOGIC!CD2,FALSE)","v":"C1"},{"$f":"HLOOKUP(\"KEL\",TABMAPEL_X,DBLOGIC!CE2,FALSE)","v":"C1"},{"$f":"HLOOKUP(\"KEL\",TABMAPEL_X,DBLOGIC!CF2,FALSE)","v":"C1"},{"$f":"HLOOKUP(\"KEL\",TABMAPEL_X,DBLOGIC!CG2,FALSE)","v":"C1"},{"$f":"HLOOKUP(\"KEL\",TABMAPEL_X,DBLOGIC!CH2,FALSE)","v":"C1"},{"$f":"HLOOKUP(\"KEL\",TABMAPEL_X,DBLOGIC!CI2,FALSE)","v":"C1"},{"$f":"HLOOKUP(\"KEL\",TABMAPEL_X,DBLOGIC!CJ2,FALSE)","v":"C1"},{"$f":"HLOOKUP(\"KEL\",TABMAPEL_X,DBLOGIC!CK2,FALSE)","v":"C1"},{"$f":"HLOOKUP(\"KEL\",TABMAPEL_X,DBLOGIC!CL2,FALSE)","v":"C1"},{"$f":"HLOOKUP(\"KEL\",TABMAPEL_X,DBLOGIC!CM2,FALSE)","v":"C1"},{"$f":"HLOOKUP(\"KEL\",TABMAPEL_X,DBLOGIC!CN2,FALSE)","v":"C1"},{"$f":"HLOOKUP(\"KEL\",TABMAPEL_X,DBLOGIC!CO2,FALSE)","v":"C1"},{"$f":"HLOOKUP(\"KEL\",TABMAPEL_X,DBLOGIC!CP2,FALSE)","v":"C1"},{"$f":"HLOOKUP(\"KEL\",TABMAPEL_X,DBLOGIC!CQ2,FALSE)","v":"C1"},{"$f":"HLOOKUP(\"KEL\",TABMAPEL_X,DBLOGIC!CR2,FALSE)","v":"C1"},{"$f":"HLOOKUP(\"KEL\",TABMAPEL_X,DBLOGIC!CS2,FALSE)","v":"C1"},{"$f":"HLOOKUP(\"KEL\",TABMAPEL_X,DBLOGIC!CT2,FALSE)","v":"C1"},{"$f":"HLOOKUP(\"KEL\",TABMAPEL_X,DBLOGIC!CU2,FALSE)","v":"C1"},{"$f":"HLOOKUP(\"KEL\",TABMAPEL_X,DBLOGIC!CV2,FALSE)","v":"C1"},{"$f":"HLOOKUP(\"KEL\",TABMAPEL_X,DBLOGIC!CW2,FALSE)","v":"C2"},{"$f":"HLOOKUP(\"KEL\",TABMAPEL_X,DBLOGIC!CX2,FALSE)","v":"C2"},{"$f":"HLOOKUP(\"KEL\",TABMAPEL_X,DBLOGIC!CY2,FALSE)","v":"C2"},{"$f":"HLOOKUP(\"KEL\",TABMAPEL_X,DBLOGIC!CZ2,FALSE)","v":"C2"},{"$f":"HLOOKUP(\"KEL\",TABMAPEL_X,DBLOGIC!DA2,FALSE)","v":"C2"},{"$f":"HLOOKUP(\"KEL\",TABMAPEL_X,DBLOGIC!DB2,FALSE)","v":"C2"},{"$f":"HLOOKUP(\"KEL\",TABMAPEL_X,DBLOGIC!DC2,FALSE)","v":"C2"},{"$f":"HLOOKUP(\"KEL\",TABMAPEL_X,DBLOGIC!DD2,FALSE)","v":"C2"},{"$f":"HLOOKUP(\"KEL\",TABMAPEL_X,DBLOGIC!DE2,FALSE)","v":"C2"},{"$f":"HLOOKUP(\"KEL\",TABMAPEL_X,DBLOGIC!DF2,FALSE)","v":"C2"},{"$f":"HLOOKUP(\"KEL\",TABMAPEL_X,DBLOGIC!DG2,FALSE)","v":"C2"},{"$f":"HLOOKUP(\"KEL\",TABMAPEL_X,DBLOGIC!DH2,FALSE)","v":"C2"},{"$f":"HLOOKUP(\"KEL\",TABMAPEL_X,DBLOGIC!DI2,FALSE)","v":"C2"},{"$f":"HLOOKUP(\"KEL\",TABMAPEL_X,DBLOGIC!DJ2,FALSE)","v":"C2"},{"$f":"HLOOKUP(\"KEL\",TABMAPEL_X,DBLOGIC!DK2,FALSE)","v":"C2"},{"$f":"HLOOKUP(\"KEL\",TABMAPEL_X,DBLOGIC!DL2,FALSE)","v":"C2"},{"$f":"HLOOKUP(\"KEL\",TABMAPEL_X,DBLOGIC!DM2,FALSE)","v":"C2"},{"$f":"HLOOKUP(\"KEL\",TABMAPEL_X,DBLOGIC!DN2,FALSE)","v":"C2"},{"$f":"HLOOKUP(\"KEL\",TABMAPEL_X,DBLOGIC!DO2,FALSE)","v":"C2"},{"$f":"HLOOKUP(\"KEL\",TABMAPEL_X,DBLOGIC!DP2,FALSE)","v":"C2"},{"$f":"HLOOKUP(\"KEL\",TABMAPEL_X,DBLOGIC!DQ2,FALSE)","v":"C2"},{"$f":"HLOOKUP(\"KEL\",TABMAPEL_X,DBLOGIC!DR2,FALSE)","v":"C2"},{"$f":"HLOOKUP(\"KEL\",TABMAPEL_X,DBLOGIC!DS2,FALSE)","v":"C2"},{"$f":"HLOOKUP(\"KEL\",TABMAPEL_X,DBLOGIC!DT2,FALSE)","v":"C2"},{"$f":"HLOOKUP(\"KEL\",TABMAPEL_X,DBLOGIC!DU2,FALSE)","v":"C2"},{"$f":"HLOOKUP(\"KEL\",TABMAPEL_X,DBLOGIC!DV2,FALSE)","v":"C2"},{"$f":"HLOOKUP(\"KEL\",TABMAPEL_X,DBLOGIC!DW2,FALSE)","v":"C2"},{"$f":"HLOOKUP(\"KEL\",TABMAPEL_X,DBLOGIC!DX2,FALSE)","v":"C2"},{"$f":"HLOOKUP(\"KEL\",TABMAPEL_X,DBLOGIC!DY2,FALSE)","v":"C3"},{"$f":"HLOOKUP(\"KEL\",TABMAPEL_X,DBLOGIC!DZ2,FALSE)","v":"C3"},{"$f":"HLOOKUP(\"KEL\",TABMAPEL_X,DBLOGIC!EA2,FALSE)","v":"C3"},{"$f":"HLOOKUP(\"KEL\",TABMAPEL_X,DBLOGIC!EB2,FALSE)","v":"C3"},{"$f":"HLOOKUP(\"KEL\",TABMAPEL_X,DBLOGIC!EC2,FALSE)","v":"C3"},{"$f":"HLOOKUP(\"KEL\",TABMAPEL_X,DBLOGIC!ED2,FALSE)","v":"C3"},{"$f":"HLOOKUP(\"KEL\",TABMAPEL_X,DBLOGIC!EE2,FALSE)","v":"C3"},{"$f":"HLOOKUP(\"KEL\",TABMAPEL_X,DBLOGIC!EF2,FALSE)","v":"C3"},{"$f":"HLOOKUP(\"KEL\",TABMAPEL_X,DBLOGIC!EG2,FALSE)","v":"C3"},{"$f":"HLOOKUP(\"KEL\",TABMAPEL_X,DBLOGIC!EH2,FALSE)","v":"C3"},{"$f":"HLOOKUP(\"KEL\",TABMAPEL_X,DBLOGIC!EI2,FALSE)","v":"C3"},{"$f":"HLOOKUP(\"KEL\",TABMAPEL_X,DBLOGIC!EJ2,FALSE)","v":"C3"},{"$f":"HLOOKUP(\"KEL\",TABMAPEL_X,DBLOGIC!EK2,FALSE)","v":"C3"},{"$f":"HLOOKUP(\"KEL\",TABMAPEL_X,DBLOGIC!EL2,FALSE)","v":"C3"},{"$f":"HLOOKUP(\"KEL\",TABMAPEL_X,DBLOGIC!EM2,FALSE)","v":"C3"},{"$f":"HLOOKUP(\"KEL\",TABMAPEL_X,DBLOGIC!EN2,FALSE)","v":"C3"},{"$f":"HLOOKUP(\"KEL\",TABMAPEL_X,DBLOGIC!EO2,FALSE)","v":"C3"},{"$f":"HLOOKUP(\"KEL\",TABMAPEL_X,DBLOGIC!EP2,FALSE)","v":"C3"},{"$f":"HLOOKUP(\"KEL\",TABMAPEL_X,DBLOGIC!EQ2,FALSE)","v":"C3"},{"$f":"HLOOKUP(\"KEL\",TABMAPEL_X,DBLOGIC!ER2,FALSE)","v":"C3"},{"$f":"HLOOKUP(\"KEL\",TABMAPEL_X,DBLOGIC!ES2,FALSE)","v":"C3"},{"$f":"HLOOKUP(\"KEL\",TABMAPEL_X,DBLOGIC!ET2,FALSE)","v":"C3"},{"$f":"HLOOKUP(\"KEL\",TABMAPEL_X,DBLOGIC!EU2,FALSE)","v":"C3"},{"$f":"HLOOKUP(\"KEL\",TABMAPEL_X,DBLOGIC!EV2,FALSE)","v":"C3"},{"$f":"HLOOKUP(\"KEL\",TABMAPEL_X,DBLOGIC!EW2,FALSE)","v":"C3"},{"$f":"HLOOKUP(\"KEL\",TABMAPEL_X,DBLOGIC!EX2,FALSE)","v":"C3"},{"$f":"HLOOKUP(\"KEL\",TABMAPEL_X,DBLOGIC!EY2,FALSE)","v":"C3"},{"$f":"HLOOKUP(\"KEL\",TABMAPEL_X,DBLOGIC!EZ2,FALSE)","v":"C3"},{"$f":"HLOOKUP(\"KEL\",TABMAPEL_X,DBLOGIC!FA2,FALSE)","v":"C3"},{"$f":"HLOOKUP(\"KEL\",TABMAPEL_X,DBLOGIC!FB2,FALSE)","v":"C3"},{"$f":"HLOOKUP(\"KEL\",TABMAPEL_X,DBLOGIC!FC2,FALSE)","v":"C3"},{"$f":"HLOOKUP(\"KEL\",TABMAPEL_X,DBLOGIC!FD2,FALSE)","v":"C3"},{"$f":"HLOOKUP(\"KEL\",TABMAPEL_X,DBLOGIC!FE2,FALSE)","v":"C3"},{"$f":"HLOOKUP(\"KEL\",TABMAPEL_X,DBLOGIC!FF2,FALSE)","v":"C3"},{"$f":"HLOOKUP(\"KEL\",TABMAPEL_X,DBLOGIC!FG2,FALSE)","v":"C3"},{"$f":"HLOOKUP(\"KEL\",TABMAPEL_X,DBLOGIC!FH2,FALSE)","v":"C3"},{"$f":"HLOOKUP(\"KEL\",TABMAPEL_X,DBLOGIC!FI2,FALSE)","v":"C3"},{"$f":"HLOOKUP(\"KEL\",TABMAPEL_X,DBLOGIC!FJ2,FALSE)","v":"C3"},{"$f":"HLOOKUP(\"KEL\",TABMAPEL_X,DBLOGIC!FK2,FALSE)","v":"C3"},{"$f":"HLOOKUP(\"KEL\",TABMAPEL_X,DBLOGIC!FL2,FALSE)","v":"C3"},{"$f":"HLOOKUP(\"KEL\",TABMAPEL_X,DBLOGIC!FM2,FALSE)","v":"C3"},{"$f":"HLOOKUP(\"KEL\",TABMAPEL_X,DBLOGIC!FN2,FALSE)","v":"C3"},{"$f":"HLOOKUP(\"KEL\",TABMAPEL_X,DBLOGIC!FO2,FALSE)","v":"M"},{"$f":"HLOOKUP(\"KEL\",TABMAPEL_X,DBLOGIC!FP2,FALSE)","v":"M"},{"$f":"HLOOKUP(\"KEL\",TABMAPEL_X,DBLOGIC!FQ2,FALSE)","v":"M"},{"$f":"HLOOKUP(\"KEL\",TABMAPEL_X,DBLOGIC!FR2,FALSE)","v":"M"},{"$f":"HLOOKUP(\"KEL\",TABMAPEL_X,DBLOGIC!FS2,FALSE)","v":"M"},{"$f":"HLOOKUP(\"KEL\",TABMAPEL_X,DBLOGIC!FT2,FALSE)","v":"M"},{"$f":"HLOOKUP(\"KEL\",TABMAPEL_X,DBLOGIC!FU2,FALSE)","v":"M"},{"$f":"HLOOKUP(\"KEL\",TABMAPEL_X,DBLOGIC!FV2,FALSE)","v":"M"},{"$f":"HLOOKUP(\"KEL\",TABMAPEL_X,DBLOGIC!FW2,FALSE)","v":"M"},{"$f":"HLOOKUP(\"KEL\",TABMAPEL_X,DBLOGIC!FX2,FALSE)","v":"M"},{"$f":"HLOOKUP(\"KEL\",TABMAPEL_X,DBLOGIC!FY2,FALSE)","v":"M"},{"$f":"HLOOKUP(\"KEL\",TABMAPEL_X,DBLOGIC!FZ2,FALSE)","v":"M"},{"$f":"HLOOKUP(\"KEL\",TABMAPEL_X,DBLOGIC!GA2,FALSE)","v":"M"},{"$f":"HLOOKUP(\"KEL\",TABMAPEL_X,DBLOGIC!GB2,FALSE)","v":"M"}]
["Wali Kelas :",{"$f":"TITIMANGSA!D21","v":"Amo Sisdianto, S.Kom"},"URUTAN MAPEL",1,{"$f":"D4","v":1},{"$f":"E4","v":1},1,1,1,1,{"$f":"IF(K2=\"-\",0,MAX($D$4:J4)+1)","v":2},{"$f":"K4","v":2},2,2,2,2,2,{"$f":"IF(R2=\"-\",0,MAX($D$4:Q4)+1)","v":3},{"$f":"R4","v":3},3,3,3,3,3,{"$f":"IF(Y2=\"-\",0,MAX($D$4:X4)+1)","v":4},{"$f":"Y4","v":4},4,4,4,4,4,{"$f":"IF(AF2=\"-\",0,MAX($D$4:AE4)+1)","v":0},{"$f":"AF4","v":0},0,0,0,0,0,{"$f":"IF(AM2=\"-\",0,MAX($D$4:AL4)+1)","v":5},{"$f":"AM4","v":5},5,5,5,5,5,{"$f":"IF(AT2=\"-\",0,MAX($D$4:AS4)+1)","v":6},{"$f":"AT4","v":6},6,6,6,6,6,{"$f":"IF(BA2=\"-\",0,MAX($D$4:AZ4)+1)","v":0},{"$f":"BA4","v":0},0,0,0,0,0,{"$f":"IF(BH2=\"-\",0,MAX($D$4:BG4)+1)","v":0},{"$f":"BH4","v":0},0,0,0,0,0,{"$f":"IF(BO2=\"-\",0,MAX($D$4:BN4)+1)","v":0},{"$f":"BO4","v":0},0,0,0,0,0,{"$f":"IF(BV2=\"-\",0,MAX($D$4:BU4)+1)","v":0},{"$f":"BV4","v":0},0,0,0,0,0,{"$f":"IF(CC2=\"-\",0,MAX($D$4:CB4)+1)","v":0},{"$f":"CC4","v":0},0,0,0,0,0,{"$f":"IF(CJ2=\"-\",0,MAX($D$4:CI4)+1)","v":0},{"$f":"CJ4","v":0},0,0,0,0,0,{"$f":"IF(CQ2=\"-\",0,MAX($D$4:CP4)+1)","v":0},{"$f":"CQ4","v":0},0,0,0,0,0,{"$f":"IF(CX2=\"-\",0,MAX($D$4:CW4)+1)","v":0},{"$f":"CX4","v":0},0,0,0,0,0,{"$f":"IF(DE2=\"-\",0,MAX($D$4:DD4)+1)","v":0},{"$f":"DE4","v":0},0,0,0,0,0,{"$f":"IF(DL2=\"-\",0,MAX($D$4:DK4)+1)","v":7},{"$f":"DL4","v":7},7,7,7,7,7,{"$f":"IF(DS2=\"-\",0,MAX($D$4:DR4)+1)","v":8},{"$f":"DS4","v":8},8,8,8,8,8,{"$f":"IF(DZ2=\"-\",0,MAX($D$4:DY4)+1)","v":9},{"$f":"DZ4","v":9},9,9,9,9,9,{"$f":"IF(EG2=\"-\",0,MAX($D$4:EF4)+1)","v":10},{"$f":"EG4","v":10},10,10,10,10,10,{"$f":"IF(EN2=\"-\",0,MAX($D$4:EM4)+1)","v":0},{"$f":"EN4","v":0},0,0,0,0,0,{"$f":"IF(EU2=\"-\",0,MAX($D$4:ET4)+1)","v":11},{"$f":"EU4","v":11},11,11,11,11,11,{"$f":"IF(FB2=\"-\",0,MAX($D$4:FA4)+1)","v":0},{"$f":"FB4","v":0},0,0,0,0,0,{"$f":"IF(FI2=\"-\",0,MAX($D$4:FH4)+1)","v":0},{"$f":"FI4","v":0},0,0,0,0,0]
[{"$f":"TITIMANGSA!D20","v":0},{"$f":"TITIMANGSA!D22","v":0},"KKM",78,78,78,78,78,78,78,78,78,78,78,78,78,78,78,78,78,78,78,78,78,78,78,78,78,78,78,78,78,78,78,78,78,78,78,78,78,78,78,78,78,78,78,78,78,78,78,78,78,78,78,78,78,78,78,78,78,78,78,78,78,78,78,78,78,78,78,78,78,78,78,78,78,78,78,78,78,78,78,78,78,78,78,78,78,78,78,78,78,78,78,78,78,78,78,78,78,78,78,78,78,78,78,78,78,78,78,78,78,78,78,78,78,78,78,78,78,78,78,78,78,78,78,78,78,78,78,78,78,78,78,78,78,78,78,78,78,78,78,78,78,78,78,78,78,78,78,78,78,78,78,78,78,78,78,78,78,78,78,78,78,78,78,78,78,78,78,78]
[null,null,"TOPIK PER KD","Ibadah Haji",null,2,null,3,null,"-",{"$f":"H6+1","v":4},null,{"$f":"K6+1","v":5},null,{"$f":"M6+1","v":6},null,"-",{"$f":"O6+1","v":7},null,{"$f":"R6+1","v":8},null,{"$f":"T6+1","v":9},null,"-",{"$f":"V6+1","v":10},null,{"$f":"Y6+1","v":11},null,{"$f":"AA6+1","v":12},null,"-",{"$f":"AC6+1","v":13},null,{"$f":"AF6+1","v":14},null,{"$f":"AH6+1","v":15},null,"-",{"$f":"AJ6+1","v":16},null,{"$f":"AM6+1","v":17},null,{"$f":"AO6+1","v":18},null,"-",{"$f":"AQ6+1","v":19},null,{"$f":"AT6+1","v":20},null,{"$f":"AV6+1","v":21},null,"-",{"$f":"AX6+1","v":22},null,{"$f":"BA6+1","v":23},null,{"$f":"BC6+1","v":24},null,"-",{"$f":"BE6+1","v":25},null,{"$f":"BH6+1","v":26},null,{"$f":"BJ6+1","v":27},null,"-",{"$f":"BL6+1","v":28},null,{"$f":"BO6+1","v":29},null,{"$f":"BQ6+1","v":30},null,"-",{"$f":"BS6+1","v":31},null,{"$f":"BV6+1","v":32},null,{"$f":"BX6+1","v":33},null,"-",{"$f":"BZ6+1","v":34},null,{"$f":"CC6+1","v":35},null,{"$f":"CE6+1","v":36},null,"-",{"$f":"CG6+1","v":37},null,{"$f":"CJ6+1","v":38},null,{"$f":"CL6+1","v":39},null,"-",{"$f":"CN6+1","v":40},null,{"$f":"CQ6+1","v":41},null,{"$f":"CS6+1","v":42},null,"-",{"$f":"CU6+1","v":43},null,{"$f":"CX6+1","v":44},null,{"$f":"CZ6+1","v":45},null,"-",{"$f":"DB6+1","v":46},null,{"$f":"DE6+1","v":47},null,{"$f":"DG6+1","v":48},null,"-",{"$f":"DI6+1","v":49},null,{"$f":"DL6+1","v":50},null,{"$f":"DN6+1","v":51},null,"-",{"$f":"DP6+1","v":52},null,{"$f":"DS6+1","v":53},null,{"$f":"DU6+1","v":54},null,"-",{"$f":"DW6+1","v":55},null,{"$f":"DZ6+1","v":56},null,{"$f":"EB6+1","v":57},null,"-",{"$f":"ED6+1","v":58},null,{"$f":"EG6+1","v":59},null,{"$f":"EI6+1","v":60},null,"-",{"$f":"EK6+1","v":61},null,{"$f":"EN6+1","v":62},null,{"$f":"EP6+1","v":63},null,"-",{"$f":"ER6+1","v":64},null,{"$f":"EU6+1","v":65},null,{"$f":"EW6+1","v":66},null,"-",{"$f":"EY6+1","v":67},null,{"$f":"FB6+1","v":68},null,{"$f":"FD6+1","v":69},null,"-",{"$f":"FF6+1","v":70},null,{"$f":"FI6+1","v":71},null,{"$f":"FK6+1","v":72},null,"-"]
["NO. URUT","NAMA SISWA","NIS",2,{"$f":"D7+1","v":3},4,5,6,7,8,9,10,11,12,13,14,15,16,17,18,19,20,21,22,23,24,25,26,27,28,29,30,31,32,33,34,35,36,37,38,39,40,41,42,43,44,45,46,47,48,49,50,51,52,53,54,55,56,57,58,59,60,61,62,63,64,65,66,{"$f":"BP7+1","v":67},68,69,70,71,72,73,74,75,76,77,78,79,80,81,82,83,84,85,86,87,88,89,90,91,92,93,94,95,96,97,98,99,100,101,102,103,104,105,106,107,108,109,110,111,112,113,114,115,116,117,118,119,120,121,122,123,124,125,126,127,128,129,130,{"$f":"EB7+1","v":131},132,133,134,135,136,137,138,139,140,141,142,143,144,145,146,147,148,149,150,151,152,153,154,155,156,157,158,159,160,161,162,163,164,165,166,167,168,169,170,171,172]
[{"$f":"BIODATA!A5","v":1},{"$f":"BIODATA!C5","v":"ADAM ADIYAT HARTANTO"},{"$f":"BIODATA!D5","v":16170535},5,{"$f":"D8+1","v":6},{"$f":"IF(E8=100,75,E8+1)","v":7},8,9,10,11,12,13,14,15,16,17,18,19,20,21,22,{"$f":"IF(U8=100,75,U8+1)","v":23},24,25,26,27,28,29,30,31,32,33,34,35,36,37,38,{"$f":"IF(AK8=100,75,AK8+1)","v":39},40,41,42,43,44,45,46,47,48,49,50,51,52,53,54,{"$f":"IF(BA8=100,75,BA8+1)","v":55},56,57,58,59,60,61,62,63,64,65,66,67,68,69,70,{"$f":"IF(BQ8=100,75,BQ8+1)","v":71},72,73,74,75,76,77,78,79,80,81,82,83,84,85,86,{"$f":"IF(CG8=100,75,CG8+1)","v":87},88,89,90,91,92,93,94,95,96,97,98,99,100,75,76,{"$f":"IF(CW8=100,75,CW8+1)","v":77},78,79,80,81,82,83,84,85,86,87,88,89,90,91,92,{"$f":"IF(DM8=100,75,DM8+1)","v":93},94,95,96,97,98,99,100,75,76,77,78,79,80,81,82,{"$f":"IF(EC8=100,75,EC8+1)","v":83},84,85,86,87,88,89,90,91,92,93,94,95,96,97,98,{"$f":"IF(ES8=100,75,ES8+1)","v":99},100,75,76,77,78,79,80,81,82,83,84,85,86,87,88,{"$f":"IF(FI8=100,75,FI8+1)","v":89},90,91,92,93,94]
[{"$f":"BIODATA!A6","v":2},{"$f":"BIODATA!C6","v":"ADAM MAULANA RIZALDI"},{"$f":"BIODATA!D6","v":16170449},11,{"$f":"IF(D9=100,75,D9+1)","v":12},13,14,15,16,17,18,19,20,21,22,23,24,25,26,27,28,29,30,31,32,33,34,35,36,37,38,39,40,41,42,43,44,45,46,47,48,49,50,51,52,53,54,55,56,57,58,59,60,61,62,63,64,65,66,67,68,69,70,71,72,73,74,75,76,77,78,79,80,81,82,83,84,85,86,87,88,89,90,91,92,93,94,95,96,97,98,99,100,75,76,77,78,79,80,81,82,83,84,85,86,87,88,89,90,91,92,93,94,95,96,97,98,99,100,75,76,77,78,79,80,81,82,83,84,85,86,87,88,89,90,91,92,93,94,95,96,97,98,99,100,75,76,77,78,79,80,81,82,83,84,85,86,87,88,89,90,91,92,93,94,95,96,97,98,99,100]
[{"$f":"BIODATA!A7","v":3},{"$f":"BIODATA!C7","v":"BAGAS ADJI PRIANTOMO"},{"$f":"BIODATA!D7","v":16170371},21,22,23,24,25,26,27,28,29,30,31,32,33,34,35,36,37,38,39,40,41,42,43,44,45,46,47,48,49,50,51,52,53,54,55,56,57,58,59,60,61,62,63,64,65,66,67,68,69,70,71,72,73,74,75,76,77,78,79,80,81,82,83,84,85,86,87,88,89,90,91,92,93,94,95,96,97,98,99,100,75,76,77,78,79,80,81,82,83,84,85,86,87,88,89,90,91,92,93,94,95,96,97,98,99,100,75,76,77,78,79,80,81,82,83,84,85,86,87,88,89,90,91,92,93,94,95,96,97,98,99,100,75,76,77,78,79,80,81,82,83,84,85,86,87,88,89,90,91,92,93,94,95,96,97,98,99,100,75,76,77,78,79,80,81,82,83,84]
[{"$f":"BIODATA!A8","v":4},{"$f":"BIODATA!C8","v":"CARWAN HIDAYAT"},{"$f":"BIODATA!D8","v":16170585}]
[{"$f":"BIODATA!A9","v":5},{"$f":"BIODATA!C9","v":"CEPI YANWARI"},{"$f":"BIODATA!D9","v":16170586}]
[{"$f":"BIODATA!A10","v":6},{"$f":"BIODATA!C10","v":"DEDE MAULANA RUSDIANTA"},{"$f":"BIODATA!D10","v":16170414}]
[{"$f":"BIODATA!A11","v":7},{"$f":"BIODATA!C11","v":"DEDI ROCHMAN"},{"$f":"BIODATA!D11","v":16170457}]
[{"$f":"BIODATA!A12","v":8},{"$f":"BIODATA!C12","v":"DIMAS YOGA AJI SETIAWAN"},{"$f":"BIODATA!D12","v":16170546}]
[{"$f":"BIODATA!A13","v":9},{"$f":"BIODATA!C13","v":"ERIK PRIHASABA PEBRIANSYAH"},{"$f":"BIODATA!D13","v":16170547}]
[{"$f":"BIODATA!A14","v":10},{"$f":"BIODATA!C14","v":"GALIH RAKASIWI"},{"$f":"BIODATA!D14","v":16170464}]
[{"$f":"BIODATA!A15","v":11},{"$f":"BIODATA!C15","v":"JOHANI"},{"$f":"BIODATA!D15","v":16170468}]
[{"$f":"BIODATA!A16","v":12},{"$f":"BIODATA!C16","v":"LATHIF FERIANSYAH"},{"$f":"BIODATA!D16","v":16170675}]
[{"$f":"BIODATA!A17","v":13},{"$f":"BIODATA!C17","v":"MAULANA JUHRI"},{"$f":"BIODATA!D17","v":16170423}]
[{"$f":"BIODATA!A18","v":14},{"$f":"BIODATA!C18","v":"MOHAMMAD HERRY ALFAJRI"},{"$f":"BIODATA!D18","v":16170473}]
[{"$f":"BIODATA!A19","v":15},{"$f":"BIODATA!C19","v":"MUHAMAD SIDI"},{"$f":"BIODATA!D19","v":16170426}]
[{"$f":"BIODATA!A20","v":16},{"$f":"BIODATA!C20","v":"MUHAMMAD ARDI RUHYAT"},{"$f":"BIODATA!D20","v":16170427}]
[{"$f":"BIODATA!A21","v":17},{"$f":"BIODATA!C21","v":"MUHAMMAD FIKRI AWALUDIN"},{"$f":"BIODATA!D21","v":16170429}]
[{"$f":"BIODATA!A22","v":18},{"$f":"BIODATA!C22","v":"MUHAMMAD PADILAH"},{"$f":"BIODATA!D22","v":16170428}]
[{"$f":"BIODATA!A23","v":19},{"$f":"BIODATA!C23","v":"MUHIBU FATHURROHMAN"},{"$f":"BIODATA!D23","v":16170430}]
[{"$f":"BIODATA!A24","v":20},{"$f":"BIODATA!C24","v":"OKKE KINDI ADI PANGESTU"},{"$f":"BIODATA!D24","v":16170391}]
[{"$f":"BIODATA!A25","v":21},{"$f":"BIODATA!C25","v":"RAMADHAN"},{"$f":"BIODATA!D25","v":"16170480"}]
[{"$f":"BIODATA!A26","v":22},{"$f":"BIODATA!C26","v":"RENDY RAHMADI"},{"$f":"BIODATA!D26","v":16170683}]
[{"$f":"BIODATA!A27","v":23},{"$f":"BIODATA!C27","v":"RIFAN BAGUS ALDIANSYAH"},{"$f":"BIODATA!D27","v":16170433}]
[{"$f":"BIODATA!A28","v":24},{"$f":"BIODATA!C28","v":"RIVAL MAULANA"},{"$f":"BIODATA!D28","v":16170601}]
[{"$f":"BIODATA!A29","v":25},{"$f":"BIODATA!C29","v":"RIZKY FADHILAH"},{"$f":"BIODATA!D29","v":16170643}]
[{"$f":"BIODATA!A30","v":26},{"$f":"BIODATA!C30","v":"ROHMADI MUCHTAR"},{"$f":"BIODATA!D30","v":16170642}]
[{"$f":"BIODATA!A31","v":27},{"$f":"BIODATA!C31","v":"TANGGUH PRASETIA SUHARNA"},{"$f":"BIODATA!D31","v":16170605}]
[{"$f":"BIODATA!A32","v":28},{"$f":"BIODATA!C32","v":"TARIZ MAULIZIDANE FAZILLA"},{"$f":"BIODATA!D32","v":16170606}]
[{"$f":"BIODATA!A33","v":29},{"$f":"BIODATA!C33","v":"TUBAGUS AJANG SUMBOGA"},{"$f":"BIODATA!D33","v":16170443}]
[{"$f":"BIODATA!A34","v":30},{"$f":"BIODATA!C34","v":"WIKSAN ZUJALIS"},{"$f":"BIODATA!D34","v":16170611}]
[{"$f":"BIODATA!A35","v":31},{"$f":"BIODATA!C35","v":"YUNAN DWI SASONGKO"},{"$f":"BIODATA!D35","v":16170448}]
[{"$f":"BIODATA!A36","v":"-"},{"$f":"BIODATA!C36","v":0},{"$f":"BIODATA!D36","v":0}]
[{"$f":"BIODATA!A37","v":"-"},{"$f":"BIODATA!C37","v":0},{"$f":"BIODATA!D37","v":0}]
[{"$f":"BIODATA!A38","v":"-"},{"$f":"BIODATA!C38","v":0},{"$f":"BIODATA!D38","v":0}]
[{"$f":"BIODATA!A39","v":"-"},{"$f":"BIODATA!C39","v":0},{"$f":"BIODATA!D39","v":0}]
[{"$f":"BIODATA!A40","v":"-"},{"$f":"BIODATA!C40","v":0},{"$f":"BIODATA!D40","v":0}]
[]
[]
[]
[]
[]
[]
[]
[]
[]
[]
[]
[]
[]
[]
[]
[]
[]
[]
[]
[]
[]
[null,null,null,3.59]
[null,null,null,3.59]
[null,null,null,3.5]
[null,null,null,3.48]
[null,null,null,3.54]
[null,null,null,3.39]
[null,null,null,3.45]
[null,null,null,3.45]
[null,null,null,3.29]
[null,null,null,3.45]
[null,null,null,3.45]
[null,null,null,3.45]

{"sheet":"NILSM6","index":30,"n_rows":76,"n_cols":174,"rows_kept":76,"cut":false,"hidden":false,"merged":[[1,0,1,1]]}
[null,null,"NIS","PABT1","PABU1","PABT2","PABU2","PABT3","PABU3","PABH","PKNT1","PKNU1","PKNT2","PKNU2","PKNT3","PKNU3","PKNH","INDT1","INDU1","INDT2","INDU2","INDT3","INDU3","INDH","MTKT1","MTKU1","MTKT2","MTKU2","MTKT3","MTKU3","MTKH","SJIT1","SJIU1","SJIT2","SJIU2","SJIT3","SJIU3","SJIH","INGT1","INGU1","INGT2","INGU2","INGT3","INGU3","INGH","JERT1","JERU1","JERT2","JERU2","JERT3","JERU3","JERH","SBDT1","SBDU1","SBDT2","SBDU2","SBDT3","SBDU3","SBDH","PJOT1","PJOU1","PJOT2","PJOU2","PJOT3","PJOU3","PJOH","SKDT1","SKDU1","SKDT2","SKDU2","SKDT3","SKDU3","SKDH","FIST1","FISU1","FIST2","FISU2","FIST3","FISU3","FISH","KIMT1","KIMU1","KIMT2","KIMU2","KIMT3","KIMU3","KIMH","C21T1","C21U1","C21T2","C21U2","C21T3","C21U3","C21H","C22T1","C22U1","C22T2","C22U2","C22T3","C22U3","C22H","C23T1","C23U1","C23T2","C23U2","C23T3","C23U3","C23H","C24T1","C24U1","C24T2","C24U2","C24T3","C24U3","C24H","C31T1","C31U1","C31T2","C31U2","C31T3","C31U3","C31H","C32T1","C32U1","C32T2","C32U2","C32T3","C32U3","C32H","C33T1","C33U1","C33T2","C33U2","C33T3","C33U3","C33H","C34T1","C34U1","C34T2","C34U2","C34T3","C34U3","C34H","C35T1","C35U1","C35T2","C35U2","C35T3","C35U3","C35H","C36T1","C36U1","C36T2","C36U2","C36T3","C36U3","C36H","SUNT1","SUNU1","SUNT2","SUNU2","SUNT3","SUNU3","SUNH","PLHT1","PLHU1","PLHT2","PLHU2","PLHT3","PLHU3","PLHH",null,"BKN","CTT"]
[{"$f":"\"INPUT NILAI CAPAIAN KOMPETENSI TP \"&TITIMANGSA!D3","v":"INPUT NILAI CAPAIAN KOMPETENSI TP 2020 / 2021"},null,"                    NAMA MAPEL",{"$f":"IF(OR($B$3=\"1 (satu)\",$B$3=\"2 (dua)\"),HLOOKUP($C$3,TABMAPEL_X,DBLOGIC!Q2,FALSE),IF(OR($B$3=\"3 (tiga)\",$B$3=\"4 (empat)\"),HLOOKUP($C$3,TABMAPEL_XI,DBLOGIC!Q2,FALSE),IF(OR($B$3=\"5 (lima)\",$B$3=\"6 (enam)\"),HLOOKUP($C$3,TABMAPEL_XII,DBLOGIC!Q2,FALSE),IF(OR($B$3=\"7 (tujuh)\",$B$3=\"8 (delapan)\"),HLOOKUP($C$3,TABMAPEL_XIII,DBLOGIC!Q2,FALSE),0))))","v":"Pendidikan Agama dan Budi Pekerti"},{"$f":"IF(OR($B$3=\"1 (satu)\",$B$3=\"2 (dua)\"),HLOOKUP($C$3,TABMAPEL_X,DBLOGIC!R2,FALSE),IF(OR($B$3=\"3 (tiga)\",$B$3=\"4 (empat)\"),HLOOKUP($C$3,TABMAPEL_XI,DBLOGIC!R2,FALSE),IF(OR($B$3=\"5 (lima)\",$B$3=\"6 (enam)\"),HLOOKUP($C$3,TABMAPEL_XII,DBLOGIC!R2,FALSE),IF(OR($B$3=\"7 (tujuh)\",$B$3=\"8 (delapan)\"),HLOOKUP($C$3,TABMAPEL_XIII,DBLOGIC!R2,FALSE),0))))","v":"Pendidikan Agama dan Budi Pekerti"},{"$f":"IF(OR($B$3=\"1 (satu)\",$B$3=\"2 (dua)\"),HLOOKUP($C$3,TABMAPEL_X,DBLOGIC!S2,FALSE),IF(OR($B$3=\"3 (tiga)\",$B$3=\"4 (empat)\"),HLOOKUP($C$3,TABMAPEL_XI,DBLOGIC!S2,FALSE),IF(OR($B$3=\"5 (lima)\",$B$3=\"6 (enam)\"),HLOOKUP($C$3,TABMAPEL_XII,DBLOGIC!S2,FALSE),IF(OR($B$3=\"7 (tujuh)\",$B$3=\"8 (delapan)\"),HLOOKUP($C$3,TABMAPEL_XIII,DBLOGIC!S2,FALSE),0))))","v":"Pendidikan Agama dan Budi Pekerti"},{"$f":"IF(OR($B$3=\"1 (satu)\",$B$3=\"2 (dua)\"),HLOOKUP($C$3,TABMAPEL_X,DBLOGIC!T2,FALSE),IF(OR($B$3=\"3 (tiga)\",$B$3=\"4 (empat)\"),HLOOKUP($C$3,TABMAPEL_XI,DBLOGIC!T2,FALSE),IF(OR($B$3=\"5 (lima)\",$B$3=\"6 (enam)\"),HLOOKUP($C$3,TABMAPEL_XII,DBLOGIC!T2,FALSE),IF(OR($B$3=\"7 (tujuh)\",$B$3=\"8 (delapan)\"),HLOOKUP($C$3,TABMAPEL_XIII,DBLOGIC!T2,FALSE),0))))","v":"Pendidikan Agama dan Budi Pekerti"},{"$f":"IF(OR($B$3=\"1 (satu)\",$B$3=\"2 (dua)\"),HLOOKUP($C$3,TABMAPEL_X,DBLOGIC!U2,FALSE),IF(OR($B$3=\"3 (tiga)\",$B$3=\"4 (empat)\"),HLOOKUP($C$3,TABMAPEL_XI,DBLOGIC!U2,FALSE),IF(OR($B$3=\"5 (lima)\",$B$3=\"6 (enam)\"),HLOOKUP($C$3,TABMAPEL_XII,DBLOGIC!U2,FALSE),IF(OR($B$3=\"7 (tujuh)\",$B$3=\"8 (delapan)\"),HLOOKUP($C$3,TABMAPEL_XIII,DBLOGIC!U2,FALSE),0))))","v":"Pendidikan Agama dan Budi Pekerti"},{"$f":"IF(OR($B$3=\"1 (satu)\",$B$3=\"2 (dua)\"),HLOOKUP($C$3,TABMAPEL_X,DBLOGIC!V2,FALSE),IF(OR($B$3=\"3 (tiga)\",$B$3=\"4 (empat)\"),HLOOKUP($C$3,TABMAPEL_XI,DBLOGIC!V2,FALSE),IF(OR($B$3=\"5 (lima)\",$B$3=\"6 (enam)\"),HLOOKUP($C$3,TABMAPEL_XII,DBLOGIC!V2,FALSE),IF(OR($B$3=\"7 (tujuh)\",$B$3=\"8 (delapan)\"),HLOOKUP($C$3,TABMAPEL_XIII,DBLOGIC!V2,FALSE),0))))","v":"Pendidikan Agama dan Budi Pekerti"},{"$f":"IF(OR($B$3=\"1 (satu)\",$B$3=\"2 (dua)\"),HLOOKUP($C$3,TABMAPEL_X,DBLOGIC!W2,FALSE),IF(OR($B$3=\"3 (tiga)\",$B$3=\"4 (empat)\"),HLOOKUP($C$3,TABMAPEL_XI,DBLOGIC!W2,FALSE),IF(OR($B$3=\"5 (lima)\",$B$3=\"6 (enam)\"),HLOOKUP($C$3,TABMAPEL_XII,DBLOGIC!W2,FALSE),IF(OR($B$3=\"7 (tujuh)\",$B$3=\"8 (delapan)\"),HLOOKUP($C$3,TABMAPEL_XIII,DBLOGIC!W2,FALSE),0))))","v":"Pendidikan Agama dan Budi Pekerti"},{"$f":"IF(OR($B$3=\"1 (satu)\",$B$3=\"2 (dua)\"),HLOOKUP($C$3,TABMAPEL_X,DBLOGIC!X2,FALSE),IF(OR($B$3=\"3 (tiga)\",$B$3=\"4 (empat)\"),HLOOKUP($C$3,TABMAPEL_XI,DBLOGIC!X2,FALSE),IF(OR($B$3=\"5 (lima)\",$B$3=\"6 (enam)\"),HLOOKUP($C$3,TABMAPEL_XII,DBLOGIC!X2,FALSE),IF(OR($B$3=\"7 (tujuh)\",$B$3=\"8 (delapan)\"),HLOOKUP($C$3,TABMAPEL_XIII,DBLOGIC!X2,FALSE),0))))","v":"Pendidikan Pancasila dan Kewarganegaraan"},{"$f":"IF(OR($B$3=\"1 (satu)\",$B$3=\"2 (dua)\"),HLOOKUP($C$3,TABMAPEL_X,DBLOGIC!Y2,FALSE),IF(OR($B$3=\"3 (tiga)\",$B$3=\"4 (empat)\"),HLOOKUP($C$3,TABMAPEL_XI,DBLOGIC!Y2,FALSE),IF(OR($B$3=\"5 (lima)\",$B$3=\"6 (enam)\"),HLOOKUP($C$3,TABMAPEL_XII,DBLOGIC!Y2,FALSE),IF(OR($B$3=\"7 (tujuh)\",$B$3=\"8 (delapan)\"),HLOOKUP($C$3,TABMAPEL_XIII,DBLOGIC!Y2,FALSE),0))))","v":"Pendidikan Pancasila dan Kewarganegaraan"},{"$f":"IF(OR($B$3=\"1 (satu)\",$B$3=\"2 (dua)\"),HLOOKUP($C$3,TABMAPEL_X,DBLOGIC!Z2,FALSE),IF(OR($B$3=\"3 (tiga)\",$B$3=\"4 (empat)\"),HLOOKUP($C$3,TABMAPEL_XI,DBLOGIC!Z2,FALSE),IF(OR($B$3=\"5 (lima)\",$B$3=\"6 (enam)\"),HLOOKUP($C$3,TABMAPEL_XII,DBLOGIC!Z2,FALSE),IF(OR($B$3=\"7 (tujuh)\",$B$3=\"8 (delapan)\"),HLOOKUP($C$3,TABMAPEL_XIII,DBLOGIC!Z2,FALSE),0))))","v":"Pendidikan Pancasila dan Kewarganegaraan"},{"$f":"IF(OR($B$3=\"1 (satu)\",$B$3=\"2 (dua)\"),HLOOKUP($C$3,TABMAPEL_X,DBLOGIC!AA2,FALSE),IF(OR($B$3=\"3 (tiga)\",$B$3=\"4 (empat)\"),HLOOKUP($C$3,TABMAPEL_XI,DBLOGIC!AA2,FALSE),IF(OR($B$3=\"5 (lima)\",$B$3=\"6 (enam)\"),HLOOKUP($C$3,TABMAPEL_XII,DBLOGIC!AA2,FALSE),IF(OR($B$3=\"7 (tujuh)\",$B$3=\"8 (delapan)\"),HLOOKUP($C$3,TABMAPEL_XIII,DBLOGIC!AA2,FALSE),0))))","v":"Pendidikan Pancasila dan Kewarganegaraan"},{"$f":"IF(OR($B$3=\"1 (satu)\",$B$3=\"2 (dua)\"),HLOOKUP($C$3,TABMAPEL_X,DBLOGIC!AB2,FALSE),IF(OR($B$3=\"3 (tiga)\",$B$3=\"4 (empat)\"),HLOOKUP($C$3,TABMAPEL_XI,DBLOGIC!AB2,FALSE),IF(OR($B$3=\"5 (lima)\",$B$3=\"6 (enam)\"),HLOOKUP($C$3,TABMAPEL_XII,DBLOGIC!AB2,FALSE),IF(OR($B$3=\"7 (tujuh)\",$B$3=\"8 (delapan)\"),HLOOKUP($C$3,TABMAPEL_XIII,DBLOGIC!AB2,FALSE),0))))","v":"Pendidikan Pancasila dan Kewarganegaraan"},{"$f":"IF(OR($B$3=\"1 (satu)\",$B$3=\"2 (dua)\"),HLOOKUP($C$3,TABMAPEL_X,DBLOGIC!AC2,FALSE),IF(OR($B$3=\"3 (tiga)\",$B$3=\"4 (empat)\"),HLOOKUP($C$3,TABMAPEL_XI,DBLOGIC!AC2,FALSE),IF(OR($B$3=\"5 (lima)\",$B$3=\"6 (enam)\"),HLOOKUP($C$3,TABMAPEL_XII,DBLOGIC!AC2,FALSE),IF(OR($B$3=\"7 (tujuh)\",$B$3=\"8 (delapan)\"),HLOOKUP($C$3,TABMAPEL_XIII,DBLOGIC!AC2,FALSE),0))))","v":"Pendidikan Pancasila dan Kewarganegaraan"},{"$f":"IF(OR($B$3=\"1 (satu)\",$B$3=\"2 (dua)\"),HLOOKUP($C$3,TABMAPEL_X,DBLOGIC!AD2,FALSE),IF(OR($B$3=\"3 (tiga)\",$B$3=\"4 (empat)\"),HLOOKUP($C$3,TABMAPEL_XI,DBLOGIC!AD2,FALSE),IF(OR($B$3=\"5 (lima)\",$B$3=\"6 (enam)\"),HLOOKUP($C$3,TABMAPEL_XII,DBLOGIC!AD2,FALSE),IF(OR($B$3=\"7 (tujuh)\",$B$3=\"8 (delapan)\"),HLOOKUP($C$3,TABMAPEL_XIII,DBLOGIC!AD2,FALSE),0))))","v":"Pendidikan Pancasila dan Kewarganegaraan"},{"$f":"IF(OR($B$3=\"1 (satu)\",$B$3=\"2 (dua)\"),HLOOKUP($C$3,TABMAPEL_X,DBLOGIC!AE2,FALSE),IF(OR($B$3=\"3 (tiga)\",$B$3=\"4 (empat)\"),HLOOKUP($C$3,TABMAPEL_XI,DBLOGIC!AE2,FALSE),IF(OR($B$3=\"5 (lima)\",$B$3=\"6 (enam)\"),HLOOKUP($C$3,TABMAPEL_XII,DBLOGIC!AE2,FALSE),IF(OR($B$3=\"7 (tujuh)\",$B$3=\"8 (delapan)\"),HLOOKUP($C$3,TABMAPEL_XIII,DBLOGIC!AE2,FALSE),0))))","v":"Bahasa Indonesia"},{"$f":"IF(OR($B$3=\"1 (satu)\",$B$3=\"2 (dua)\"),HLOOKUP($C$3,TABMAPEL_X,DBLOGIC!AF2,FALSE),IF(OR($B$3=\"3 (tiga)\",$B$3=\"4 (empat)\"),HLOOKUP($C$3,TABMAPEL_XI,DBLOGIC!AF2,FALSE),IF(OR($B$3=\"5 (lima)\",$B$3=\"6 (enam)\"),HLOOKUP($C$3,TABMAPEL_XII,DBLOGIC!AF2,FALSE),IF(OR($B$3=\"7 (tujuh)\",$B$3=\"8 (delapan)\"),HLOOKUP($C$3,TABMAPEL_XIII,DBLOGIC!AF2,FALSE),0))))","v":"Bahasa Indonesia"},{"$f":"IF(OR($B$3=\"1 (satu)\",$B$3=\"2 (dua)\"),HLOOKUP($C$3,TABMAPEL_X,DBLOGIC!AG2,FALSE),IF(OR($B$3=\"3 (tiga)\",$B$3=\"4 (empat)\"),HLOOKUP($C$3,TABMAPEL_XI,DBLOGIC!AG2,FALSE),IF(OR($B$3=\"5 (lima)\",$B$3=\"6 (enam)\"),HLOOKUP($C$3,TABMAPEL_XII,DBLOGIC!AG2,FALSE),IF(OR($B$3=\"7 (tujuh)\",$B$3=\"8 (delapan)\"),HLOOKUP($C$3,TABMAPEL_XIII,DBLOGIC!AG2,FALSE),0))))","v":"Bahasa Indonesia"},{"$f":"IF(OR($B$3=\"1 (satu)\",$B$3=\"2 (dua)\"),HLOOKUP($C$3,TABMAPEL_X,DBLOGIC!AH2,FALSE),IF(OR($B$3=\"3 (tiga)\",$B$3=\"4 (empat)\"),HLOOKUP($C$3,TABMAPEL_XI,DBLOGIC!AH2,FALSE),IF(OR($B$3=\"5 (lima)\",$B$3=\"6 (enam)\"),HLOOKUP($C$3,TABMAPEL_XII,DBLOGIC!AH2,FALSE),IF(OR($B$3=\"7 (tujuh)\",$B$3=\"8 (delapan)\"),HLOOKUP($C$3,TABMAPEL_XIII,DBLOGIC!AH2,FALSE),0))))","v":"Bahasa Indonesia"},{"$f":"IF(OR($B$3=\"1 (satu)\",$B$3=\"2 (dua)\"),HLOOKUP($C$3,TABMAPEL_X,DBLOGIC!AI2,FALSE),IF(OR($B$3=\"3 (tiga)\",$B$3=\"4 (empat)\"),HLOOKUP($C$3,TABMAPEL_XI,DBLOGIC!AI2,FALSE),IF(OR($B$3=\"5 (lima)\",$B$3=\"6 (enam)\"),HLOOKUP($C$3,TABMAPEL_XII,DBLOGIC!AI2,FALSE),IF(OR($B$3=\"7 (tujuh)\",$B$3=\"8 (delapan)\"),HLOOKUP($C$3,TABMAPEL_XIII,DBLOGIC!AI2,FALSE),0))))","v":"Bahasa Indonesia"},{"$f":"IF(OR($B$3=\"1 (satu)\",$B$3=\"2 (dua)\"),HLOOKUP($C$3,TABMAPEL_X,DBLOGIC!AJ2,FALSE),IF(OR($B$3=\"3 (tiga)\",$B$3=\"4 (empat)\"),HLOOKUP($C$3,TABMAPEL_XI,DBLOGIC!AJ2,FALSE),IF(OR($B$3=\"5 (lima)\",$B$3=\"6 (enam)\"),HLOOKUP($C$3,TABMAPEL_XII,DBLOGIC!AJ2,FALSE),IF(OR($B$3=\"7 (tujuh)\",$B$3=\"8 (delapan)\"),HLOOKUP($C$3,TABMAPEL_XIII,DBLOGIC!AJ2,FALSE),0))))","v":"Bahasa Indonesia"},{"$f":"IF(OR($B$3=\"1 (satu)\",$B$3=\"2 (dua)\"),HLOOKUP($C$3,TABMAPEL_X,DBLOGIC!AK2,FALSE),IF(OR($B$3=\"3 (tiga)\",$B$3=\"4 (empat)\"),HLOOKUP($C$3,TABMAPEL_XI,DBLOGIC!AK2,FALSE),IF(OR($B$3=\"5 (lima)\",$B$3=\"6 (enam)\"),HLOOKUP($C$3,TABMAPEL_XII,DBLOGIC!AK2,FALSE),IF(OR($B$3=\"7 (tujuh)\",$B$3=\"8 (delapan)\"),HLOOKUP($C$3,TABMAPEL_XIII,DBLOGIC!AK2,FALSE),0))))","v":"Bahasa Indonesia"},{"$f":"IF(OR($B$3=\"1 (satu)\",$B$3=\"2 (dua)\"),HLOOKUP($C$3,TABMAPEL_X,DBLOGIC!AL2,FALSE),IF(OR($B$3=\"3 (tiga)\",$B$3=\"4 (empat)\"),HLOOKUP($C$3,TABMAPEL_XI,DBLOGIC!AL2,FALSE),IF(OR($B$3=\"5 (lima)\",$B$3=\"6 (enam)\"),HLOOKUP($C$3,TABMAPEL_XII,DBLOGIC!AL2,FALSE),IF(OR($B$3=\"7 (tujuh)\",$B$3=\"8 (delapan)\"),HLOOKUP($C$3,TABMAPEL_XIII,DBLOGIC!AL2,FALSE),0))))","v":"Matematika"},{"$f":"IF(OR($B$3=\"1 (satu)\",$B$3=\"2 (dua)\"),HLOOKUP($C$3,TABMAPEL_X,DBLOGIC!AM2,FALSE),IF(OR($B$3=\"3 (tiga)\",$B$3=\"4 (empat)\"),HLOOKUP($C$3,TABMAPEL_XI,DBLOGIC!AM2,FALSE),IF(OR($B$3=\"5 (lima)\",$B$3=\"6 (enam)\"),HLOOKUP($C$3,TABMAPEL_XII,DBLOGIC!AM2,FALSE),IF(OR($B$3=\"7 (tujuh)\",$B$3=\"8 (delapan)\"),HLOOKUP($C$3,TABMAPEL_XIII,DBLOGIC!AM2,FALSE),0))))","v":"Matematika"},{"$f":"IF(OR($B$3=\"1 (satu)\",$B$3=\"2 (dua)\"),HLOOKUP($C$3,TABMAPEL_X,DBLOGIC!AN2,FALSE),IF(OR($B$3=\"3 (tiga)\",$B$3=\"4 (empat)\"),HLOOKUP($C$3,TABMAPEL_XI,DBLOGIC!AN2,FALSE),IF(OR($B$3=\"5 (lima)\",$B$3=\"6 (enam)\"),HLOOKUP($C$3,TABMAPEL_XII,DBLOGIC!AN2,FALSE),IF(OR($B$3=\"7 (tujuh)\",$B$3=\"8 (delapan)\"),HLOOKUP($C$3,TABMAPEL_XIII,DBLOGIC!AN2,FALSE),0))))","v":"Matematika"},{"$f":"IF(OR($B$3=\"1 (satu)\",$B$3=\"2 (dua)\"),HLOOKUP($C$3,TABMAPEL_X,DBLOGIC!AO2,FALSE),IF(OR($B$3=\"3 (tiga)\",$B$3=\"4 (empat)\"),HLOOKUP($C$3,TABMAPEL_XI,DBLOGIC!AO2,FALSE),IF(OR($B$3=\"5 (lima)\",$B$3=\"6 (enam)\"),HLOOKUP($C$3,TABMAPEL_XII,DBLOGIC!AO2,FALSE),IF(OR($B$3=\"7 (tujuh)\",$B$3=\"8 (delapan)\"),HLOOKUP($C$3,TABMAPEL_XIII,DBLOGIC!AO2,FALSE),0))))","v":"Matematika"},{"$f":"IF(OR($B$3=\"1 (satu)\",$B$3=\"2 (dua)\"),HLOOKUP($C$3,TABMAPEL_X,DBLOGIC!AP2,FALSE),IF(OR($B$3=\"3 (tiga)\",$B$3=\"4 (empat)\"),HLOOKUP($C$3,TABMAPEL_XI,DBLOGIC!AP2,FALSE),IF(OR($B$3=\"5 (lima)\",$B$3=\"6 (enam)\"),HLOOKUP($C$3,TABMAPEL_XII,DBLOGIC!AP2,FALSE),IF(OR($B$3=\"7 (tujuh)\",$B$3=\"8 (delapan)\"),HLOOKUP($C$3,TABMAPEL_XIII,DBLOGIC!AP2,FALSE),0))))","v":"Matematika"},{"$f":"IF(OR($B$3=\"1 (satu)\",$B$3=\"2 (dua)\"),HLOOKUP($C$3,TABMAPEL_X,DBLOGIC!AQ2,FALSE),IF(OR($B$3=\"3 (tiga)\",$B$3=\"4 (empat)\"),HLOOKUP($C$3,TABMAPEL_XI,DBLOGIC!AQ2,FALSE),IF(OR($B$3=\"5 (lima)\",$B$3=\"6 (enam)\"),HLOOKUP($C$3,TABMAPEL_XII,DBLOGIC!AQ2,FALSE),IF(OR($B$3=\"7 (tujuh)\",$B$3=\"8 (delapan)\"),HLOOKUP($C$3,TABMAPEL_XIII,DBLOGIC!AQ2,FALSE),0))))","v":"Matematika"},{"$f":"IF(OR($B$3=\"1 (satu)\",$B$3=\"2 (dua)\"),HLOOKUP($C$3,TABMAPEL_X,DBLOGIC!AR2,FALSE),IF(OR($B$3=\"3 (tiga)\",$B$3=\"4 (empat)\"),HLOOKUP($C$3,TABMAPEL_XI,DBLOGIC!AR2,FALSE),IF(OR($B$3=\"5 (lima)\",$B$3=\"6 (enam)\"),HLOOKUP($C$3,TABMAPEL_XII,DBLOGIC!AR2,FALSE),IF(OR($B$3=\"7 (tujuh)\",$B$3=\"8 (delapan)\"),HLOOKUP($C$3,TABMAPEL_XIII,DBLOGIC!AR2,FALSE),0))))","v":"Matematika"},{"$f":"IF(OR($B$3=\"1 (satu)\",$B$3=\"2 (dua)\"),HLOOKUP($C$3,TABMAPEL_X,DBLOGIC!AS2,FALSE),IF(OR($B$3=\"3 (tiga)\",$B$3=\"4 (empat)\"),HLOOKUP($C$3,TABMAPEL_XI,DBLOGIC!AS2,FALSE),IF(OR($B$3=\"5 (lima)\",$B$3=\"6 (enam)\"),HLOOKUP($C$3,TABMAPEL_XII,DBLOGIC!AS2,FALSE),IF(OR($B$3=\"7 (tujuh)\",$B$3=\"8 (delapan)\"),HLOOKUP($C$3,TABMAPEL_XIII,DBLOGIC!AS2,FALSE),0))))","v":"-"},{"$f":"IF(OR($B$3=\"1 (satu)\",$B$3=\"2 (dua)\"),HLOOKUP($C$3,TABMAPEL_X,DBLOGIC!AT2,FALSE),IF(OR($B$3=\"3 (tiga)\",$B$3=\"4 (empat)\"),HLOOKUP($C$3,TABMAPEL_XI,DBLOGIC!AT2,FALSE),IF(OR($B$3=\"5 (lima)\",$B$3=\"6 (enam)\"),HLOOKUP($C$3,TABMAPEL_XII,DBLOGIC!AT2,FALSE),IF(OR($B$3=\"7 (tujuh)\",$B$3=\"8 (delapan)\"),HLOOKUP($C$3,TABMAPEL_XIII,DBLOGIC!AT2,FALSE),0))))","v":"-"},{"$f":"IF(OR($B$3=\"1 (satu)\",$B$3=\"2 (dua)\"),HLOOKUP($C$3,TABMAPEL_X,DBLOGIC!AU2,FALSE),IF(OR($B$3=\"3 (tiga)\",$B$3=\"4 (empat)\"),HLOOKUP($C$3,TABMAPEL_XI,DBLOGIC!AU2,FALSE),IF(OR($B$3=\"5 (lima)\",$B$3=\"6 (enam)\"),HLOOKUP($C$3,TABMAPEL_XII,DBLOGIC!AU2,FALSE),IF(OR($B$3=\"7 (tujuh)\",$B$3=\"8 (delapan)\"),HLOOKUP($C$3,TABMAPEL_XIII,DBLOGIC!AU2,FALSE),0))))","v":"-"},{"$f":"IF(OR($B$3=\"1 (satu)\",$B$3=\"2 (dua)\"),HLOOKUP($C$3,TABMAPEL_X,DBLOGIC!AV2,FALSE),IF(OR($B$3=\"3 (tiga)\",$B$3=\"4 (empat)\"),HLOOKUP($C$3,TABMAPEL_XI,DBLOGIC!AV2,FALSE),IF(OR($B$3=\"5 (lima)\",$B$3=\"6 (enam)\"),HLOOKUP($C$3,TABMAPEL_XII,DBLOGIC!AV2,FALSE),IF(OR($B$3=\"7 (tujuh)\",$B$3=\"8 (delapan)\"),HLOOKUP($C$3,TABMAPEL_XIII,DBLOGIC!AV2,FALSE),0))))","v":"-"},{"$f":"IF(OR($B$3=\"1 (satu)\",$B$3=\"2 (dua)\"),HLOOKUP($C$3,TABMAPEL_X,DBLOGIC!AW2,FALSE),IF(OR($B$3=\"3 (tiga)\",$B$3=\"4 (empat)\"),HLOOKUP($C$3,TABMAPEL_XI,DBLOGIC!AW2,FALSE),IF(OR($B$3=\"5 (lima)\",$B$3=\"6 (enam)\"),HLOOKUP($C$3,TABMAPEL_XII,DBLOGIC!AW2,FALSE),IF(OR($B$3=\"7 (tujuh)\",$B$3=\"8 (delapan)\"),HLOOKUP($C$3,TABMAPEL_XIII,DBLOGIC!AW2,FALSE),0))))","v":"-"},{"$f":"IF(OR($B$3=\"1 (satu)\",$B$3=\"2 (dua)\"),HLOOKUP($C$3,TABMAPEL_X,DBLOGIC!AX2,FALSE),IF(OR($B$3=\"3 (tiga)\",$B$3=\"4 (empat)\"),HLOOKUP($C$3,TABMAPEL_XI,DBLOGIC!AX2,FALSE),IF(OR($B$3=\"5 (lima)\",$B$3=\"6 (enam)\"),HLOOKUP($C$3,TABMAPEL_XII,DBLOGIC!AX2,FALSE),IF(OR($B$3=\"7 (tujuh)\",$B$3=\"8 (delapan)\"),HLOOKUP($C$3,TABMAPEL_XIII,DBLOGIC!AX2,FALSE),0))))","v":"-"},{"$f":"IF(OR($B$3=\"1 (satu)\",$B$3=\"2 (dua)\"),HLOOKUP($C$3,TABMAPEL_X,DBLOGIC!AY2,FALSE),IF(OR($B$3=\"3 (tiga)\",$B$3=\"4 (empat)\"),HLOOKUP($C$3,TABMAPEL_XI,DBLOGIC!AY2,FALSE),IF(OR($B$3=\"5 (lima)\",$B$3=\"6 (enam)\"),HLOOKUP($C$3,TABMAPEL_XII,DBLOGIC!AY2,FALSE),IF(OR($B$3=\"7 (tujuh)\",$B$3=\"8 (delapan)\"),HLOOKUP($C$3,TABMAPEL_XIII,DBLOGIC!AY2,FALSE),0))))","v":"-"},{"$f":"IF(OR($B$3=\"1 (satu)\",$B$3=\"2 (dua)\"),HLOOKUP($C$3,TABMAPEL_X,DBLOGIC!AZ2,FALSE),IF(OR($B$3=\"3 (tiga)\",$B$3=\"4 (empat)\"),HLOOKUP($C$3,TABMAPEL_XI,DBLOGIC!AZ2,FALSE),IF(OR($B$3=\"5 (lima)\",$B$3=\"6 (enam)\"),HLOOKUP($C$3,TABMAPEL_XII,DBLOGIC!AZ2,FALSE),IF(OR($B$3=\"7 (tujuh)\",$B$3=\"8 (delapan)\"),HLOOKUP($C$3,TABMAPEL_XIII,DBLOGIC!AZ2,FALSE),0))))","v":"Bahasa Inggris"},{"$f":"IF(OR($B$3=\"1 (satu)\",$B$3=\"2 (dua)\"),HLOOKUP($C$3,TABMAPEL_X,DBLOGIC!BA2,FALSE),IF(OR($B$3=\"3 (tiga)\",$B$3=\"4 (empat)\"),HLOOKUP($C$3,TABMAPEL_XI,DBLOGIC!BA2,FALSE),IF(OR($B$3=\"5 (lima)\",$B$3=\"6 (enam)\"),HLOOKUP($C$3,TABMAPEL_XII,DBLOGIC!BA2,FALSE),IF(OR($B$3=\"7 (tujuh)\",$B$3=\"8 (delapan)\"),HLOOKUP($C$3,TABMAPEL_XIII,DBLOGIC!BA2,FALSE),0))))","v":"Bahasa Inggris"},{"$f":"IF(OR($B$3=\"1 (satu)\",$B$3=\"2 (dua)\"),HLOOKUP($C$3,TABMAPEL_X,DBLOGIC!BB2,FALSE),IF(OR($B$3=\"3 (tiga)\",$B$3=\"4 (empat)\"),HLOOKUP($C$3,TABMAPEL_XI,DBLOGIC!BB2,FALSE),IF(OR($B$3=\"5 (lima)\",$B$3=\"6 (enam)\"),HLOOKUP($C$3,TABMAPEL_XII,DBLOGIC!BB2,FALSE),IF(OR($B$3=\"7 (tujuh)\",$B$3=\"8 (delapan)\"),HLOOKUP($C$3,TABMAPEL_XIII,DBLOGIC!BB2,FALSE),0))))","v":"Bahasa Inggris"},{"$f":"IF(OR($B$3=\"1 (satu)\",$B$3=\"2 (dua)\"),HLOOKUP($C$3,TABMAPEL_X,DBLOGIC!BC2,FALSE),IF(OR($B$3=\"3 (tiga)\",$B$3=\"4 (empat)\"),HLOOKUP($C$3,TABMAPEL_XI,DBLOGIC!BC2,FALSE),IF(OR($B$3=\"5 (lima)\",$B$3=\"6 (enam)\"),HLOOKUP($C$3,TABMAPEL_XII,DBLOGIC!BC2,FALSE),IF(OR($B$3=\"7 (tujuh)\",$B$3=\"8 (delapan)\"),HLOOKUP($C$3,TABMAPEL_XIII,DBLOGIC!BC2,FALSE),0))))","v":"Bahasa Inggris"},{"$f":"IF(OR($B$3=\"1 (satu)\",$B$3=\"2 (dua)\"),HLOOKUP($C$3,TABMAPEL_X,DBLOGIC!BD2,FALSE),IF(OR($B$3=\"3 (tiga)\",$B$3=\"4 (empat)\"),HLOOKUP($C$3,TABMAPEL_XI,DBLOGIC!BD2,FALSE),IF(OR($B$3=\"5 (lima)\",$B$3=\"6 (enam)\"),HLOOKUP($C$3,TABMAPEL_XII,DBLOGIC!BD2,FALSE),IF(OR($B$3=\"7 (tujuh)\",$B$3=\"8 (delapan)\"),HLOOKUP($C$3,TABMAPEL_XIII,DBLOGIC!BD2,FALSE),0))))","v":"Bahasa Inggris"},{"$f":"IF(OR($B$3=\"1 (satu)\",$B$3=\"2 (dua)\"),HLOOKUP($C$3,TABMAPEL_X,DBLOGIC!BE2,FALSE),IF(OR($B$3=\"3 (tiga)\",$B$3=\"4 (empat)\"),HLOOKUP($C$3,TABMAPEL_XI,DBLOGIC!BE2,FALSE),IF(OR($B$3=\"5 (lima)\",$B$3=\"6 (enam)\"),HLOOKUP($C$3,TABMAPEL_XII,DBLOGIC!BE2,FALSE),IF(OR($B$3=\"7 (tujuh)\",$B$3=\"8 (delapan)\"),HLOOKUP($C$3,TABMAPEL_XIII,DBLOGIC!BE2,FALSE),0))))","v":"Bahasa Inggris"},{"$f":"IF(OR($B$3=\"1 (satu)\",$B$3=\"2 (dua)\"),HLOOKUP($C$3,TABMAPEL_X,DBLOGIC!BF2,FALSE),IF(OR($B$3=\"3 (tiga)\",$B$3=\"4 (empat)\"),HLOOKUP($C$3,TABMAPEL_XI,DBLOGIC!BF2,FALSE),IF(OR($B$3=\"5 (lima)\",$B$3=\"6 (enam)\"),HLOOKUP($C$3,TABMAPEL_XII,DBLOGIC!BF2,FALSE),IF(OR($B$3=\"7 (tujuh)\",$B$3=\"8 (delapan)\"),HLOOKUP($C$3,TABMAPEL_XIII,DBLOGIC!BF2,FALSE),0))))","v":"Bahasa Inggris"},{"$f":"IF(OR($B$3=\"1 (satu)\",$B$3=\"2 (dua)\"),HLOOKUP($C$3,TABMAPEL_X,DBLOGIC!BG2,FALSE),IF(OR($B$3=\"3 (tiga)\",$B$3=\"4 (empat)\"),HLOOKUP($C$3,TABMAPEL_XI,DBLOGIC!BG2,FALSE),IF(OR($B$3=\"5 (lima)\",$B$3=\"6 (enam)\"),HLOOKUP($C$3,TABMAPEL_XII,DBLOGIC!BG2,FALSE),IF(OR($B$3=\"7 (tujuh)\",$B$3=\"8 (delapan)\"),HLOOKUP($C$3,TABMAPEL_XIII,DBLOGIC!BG2,FALSE),0))))","v":"Bahasa Jerman"},{"$f":"IF(OR($B$3=\"1 (satu)\",$B$3=\"2 (dua)\"),HLOOKUP($C$3,TABMAPEL_X,DBLOGIC!BH2,FALSE),IF(OR($B$3=\"3 (tiga)\",$B$3=\"4 (empat)\"),HLOOKUP($C$3,TABMAPEL_XI,DBLOGIC!BH2,FALSE),IF(OR($B$3=\"5 (lima)\",$B$3=\"6 (enam)\"),HLOOKUP($C$3,TABMAPEL_XII,DBLOGIC!BH2,FALSE),IF(OR($B$3=\"7 (tujuh)\",$B$3=\"8 (delapan)\"),HLOOKUP($C$3,TABMAPEL_XIII,DBLOGIC!BH2,FALSE),0))))","v":"Bahasa Jerman"},{"$f":"IF(OR($B$3=\"1 (satu)\",$B$3=\"2 (dua)\"),HLOOKUP($C$3,TABMAPEL_X,DBLOGIC!BI2,FALSE),IF(OR($B$3=\"3 (tiga)\",$B$3=\"4 (empat)\"),HLOOKUP($C$3,TABMAPEL_XI,DBLOGIC!BI2,FALSE),IF(OR($B$3=\"5 (lima)\",$B$3=\"6 (enam)\"),HLOOKUP($C$3,TABMAPEL_XII,DBLOGIC!BI2,FALSE),IF(OR($B$3=\"7 (tujuh)\",$B$3=\"8 (delapan)\"),HLOOKUP($C$3,TABMAPEL_XIII,DBLOGIC!BI2,FALSE),0))))","v":"Bahasa Jerman"},{"$f":"IF(OR($B$3=\"1 (satu)\",$B$3=\"2 (dua)\"),HLOOKUP($C$3,TABMAPEL_X,DBLOGIC!BJ2,FALSE),IF(OR($B$3=\"3 (tiga)\",$B$3=\"4 (empat)\"),HLOOKUP($C$3,TABMAPEL_XI,DBLOGIC!BJ2,FALSE),IF(OR($B$3=\"5 (lima)\",$B$3=\"6 (enam)\"),HLOOKUP($C$3,TABMAPEL_XII,DBLOGIC!BJ2,FALSE),IF(OR($B$3=\"7 (tujuh)\",$B$3=\"8 (delapan)\"),HLOOKUP($C$3,TABMAPEL_XIII,DBLOGIC!BJ2,FALSE),0))))","v":"Bahasa Jerman"},{"$f":"IF(OR($B$3=\"1 (satu)\",$B$3=\"2 (dua)\"),HLOOKUP($C$3,TABMAPEL_X,DBLOGIC!BK2,FALSE),IF(OR($B$3=\"3 (tiga)\",$B$3=\"4 (empat)\"),HLOOKUP($C$3,TABMAPEL_XI,DBLOGIC!BK2,FALSE),IF(OR($B$3=\"5 (lima)\",$B$3=\"6 (enam)\"),HLOOKUP($C$3,TABMAPEL_XII,DBLOGIC!BK2,FALSE),IF(OR($B$3=\"7 (tujuh)\",$B$3=\"8 (delapan)\"),HLOOKUP($C$3,TABMAPEL_XIII,DBLOGIC!BK2,FALSE),0))))","v":"Bahasa Jerman"},{"$f":"IF(OR($B$3=\"1 (satu)\",$B$3=\"2 (dua)\"),HLOOKUP($C$3,TABMAPEL_X,DBLOGIC!BL2,FALSE),IF(OR($B$3=\"3 (tiga)\",$B$3=\"4 (empat)\"),HLOOKUP($C$3,TABMAPEL_XI,DBLOGIC!BL2,FALSE),IF(OR($B$3=\"5 (lima)\",$B$3=\"6 (enam)\"),HLOOKUP($C$3,TABMAPEL_XII,DBLOGIC!BL2,FALSE),IF(OR($B$3=\"7 (tujuh)\",$B$3=\"8 (delapan)\"),HLOOKUP($C$3,TABMAPEL_XIII,DBLOGIC!BL2,FALSE),0))))","v":"Bahasa Jerman"},{"$f":"IF(OR($B$3=\"1 (satu)\",$B$3=\"2 (dua)\"),HLOOKUP($C$3,TABMAPEL_X,DBLOGIC!BM2,FALSE),IF(OR($B$3=\"3 (tiga)\",$B$3=\"4 (empat)\"),HLOOKUP($C$3,TABMAPEL_XI,DBLOGIC!BM2,FALSE),IF(OR($B$3=\"5 (lima)\",$B$3=\"6 (enam)\"),HLOOKUP($C$3,TABMAPEL_XII,DBLOGIC!BM2,FALSE),IF(OR($B$3=\"7 (tujuh)\",$B$3=\"8 (delapan)\"),HLOOKUP($C$3,TABMAPEL_XIII,DBLOGIC!BM2,FALSE),0))))","v":"Bahasa Jerman"},{"$f":"IF(OR($B$3=\"1 (satu)\",$B$3=\"2 (dua)\"),HLOOKUP($C$3,TABMAPEL_X,DBLOGIC!BN2,FALSE),IF(OR($B$3=\"3 (tiga)\",$B$3=\"4 (empat)\"),HLOOKUP($C$3,TABMAPEL_XI,DBLOGIC!BN2,FALSE),IF(OR($B$3=\"5 (lima)\",$B$3=\"6 (enam)\"),HLOOKUP($C$3,TABMAPEL_XII,DBLOGIC!BN2,FALSE),IF(OR($B$3=\"7 (tujuh)\",$B$3=\"8 (delapan)\"),HLOOKUP($C$3,TABMAPEL_XIII,DBLOGIC!BN2,FALSE),0))))","v":"-"},{"$f":"IF(OR($B$3=\"1 (satu)\",$B$3=\"2 (dua)\"),HLOOKUP($C$3,TABMAPEL_X,DBLOGIC!BO2,FALSE),IF(OR($B$3=\"3 (tiga)\",$B$3=\"4 (empat)\"),HLOOKUP($C$3,TABMAPEL_XI,DBLOGIC!BO2,FALSE),IF(OR($B$3=\"5 (lima)\",$B$3=\"6 (enam)\"),HLOOKUP($C$3,TABMAPEL_XII,DBLOGIC!BO2,FALSE),IF(OR($B$3=\"7 (tujuh)\",$B$3=\"8 (delapan)\"),HLOOKUP($C$3,TABMAPEL_XIII,DBLOGIC!BO2,FALSE),0))))","v":"-"},{"$f":"IF(OR($B$3=\"1 (satu)\",$B$3=\"2 (dua)\"),HLOOKUP($C$3,TABMAPEL_X,DBLOGIC!BP2,FALSE),IF(OR($B$3=\"3 (tiga)\",$B$3=\"4 (empat)\"),HLOOKUP($C$3,TABMAPEL_XI,DBLOGIC!BP2,FALSE),IF(OR($B$3=\"5 (lima)\",$B$3=\"6 (enam)\"),HLOOKUP($C$3,TABMAPEL_XII,DBLOGIC!BP2,FALSE),IF(OR($B$3=\"7 (tujuh)\",$B$3=\"8 (delapan)\"),HLOOKUP($C$3,TABMAPEL_XIII,DBLOGIC!BP2,FALSE),0))))","v":"-"},{"$f":"IF(OR($B$3=\"1 (satu)\",$B$3=\"2 (dua)\"),HLOOKUP($C$3,TABMAPEL_X,DBLOGIC!BQ2,FALSE),IF(OR($B$3=\"3 (tiga)\",$B$3=\"4 (empat)\"),HLOOKUP($C$3,TABMAPEL_XI,DBLOGIC!BQ2,FALSE),IF(OR($B$3=\"5 (lima)\",$B$3=\"6 (enam)\"),HLOOKUP($C$3,TABMAPEL_XII,DBLOGIC!BQ2,FALSE),IF(OR($B$3=\"7 (tujuh)\",$B$3=\"8 (delapan)\"),HLOOKUP($C$3,TABMAPEL_XIII,DBLOGIC!BQ2,FALSE),0))))","v":"-"},{"$f":"IF(OR($B$3=\"1 (satu)\",$B$3=\"2 (dua)\"),HLOOKUP($C$3,TABMAPEL_X,DBLOGIC!BR2,FALSE),IF(OR($B$3=\"3 (tiga)\",$B$3=\"4 (empat)\"),HLOOKUP($C$3,TABMAPEL_XI,DBLOGIC!BR2,FALSE),IF(OR($B$3=\"5 (lima)\",$B$3=\"6 (enam)\"),HLOOKUP($C$3,TABMAPEL_XII,DBLOGIC!BR2,FALSE),IF(OR($B$3=\"7 (tujuh)\",$B$3=\"8 (delapan)\"),HLOOKUP($C$3,TABMAPEL_XIII,DBLOGIC!BR2,FALSE),0))))","v":"-"},{"$f":"IF(OR($B$3=\"1 (satu)\",$B$3=\"2 (dua)\"),HLOOKUP($C$3,TABMAPEL_X,DBLOGIC!BS2,FALSE),IF(OR($B$3=\"3 (tiga)\",$B$3=\"4 (empat)\"),HLOOKUP($C$3,TABMAPEL_XI,DBLOGIC!BS2,FALSE),IF(OR($B$3=\"5 (lima)\",$B$3=\"6 (enam)\"),HLOOKUP($C$3,TABMAPEL_XII,DBLOGIC!BS2,FALSE),IF(OR($B$3=\"7 (tujuh)\",$B$3=\"8 (delapan)\"),HLOOKUP($C$3,TABMAPEL_XIII,DBLOGIC!BS2,FALSE),0))))","v":"-"},{"$f":"IF(OR($B$3=\"1 (satu)\",$B$3=\"2 (dua)\"),HLOOKUP($C$3,TABMAPEL_X,DBLOGIC!BT2,FALSE),IF(OR($B$3=\"3 (tiga)\",$B$3=\"4 (empat)\"),HLOOKUP($C$3,TABMAPEL_XI,DBLOGIC!BT2,FALSE),IF(OR($B$3=\"5 (lima)\",$B$3=\"6 (enam)\"),HLOOKUP($C$3,TABMAPEL_XII,DBLOGIC!BT2,FALSE),IF(OR($B$3=\"7 (tujuh)\",$B$3=\"8 (delapan)\"),HLOOKUP($C$3,TABMAPEL_XIII,DBLOGIC!BT2,FALSE),0))))","v":"-"},{"$f":"IF(OR($B$3=\"1 (satu)\",$B$3=\"2 (dua)\"),HLOOKUP($C$3,TABMAPEL_X,DBLOGIC!BU2,FALSE),IF(OR($B$3=\"3 (tiga)\",$B$3=\"4 (empat)\"),HLOOKUP($C$3,TABMAPEL_XI,DBLOGIC!BU2,FALSE),IF(OR($B$3=\"5 (lima)\",$B$3=\"6 (enam)\"),HLOOKUP($C$3,TABMAPEL_XII,DBLOGIC!BU2,FALSE),IF(OR($B$3=\"7 (tujuh)\",$B$3=\"8 (delapan)\"),HLOOKUP($C$3,TABMAPEL_XIII,DBLOGIC!BU2,FALSE),0))))","v":"-"},{"$f":"IF(OR($B$3=\"1 (satu)\",$B$3=\"2 (dua)\"),HLOOKUP($C$3,TABMAPEL_X,DBLOGIC!BV2,FALSE),IF(OR($B$3=\"3 (tiga)\",$B$3=\"4 (empat)\"),HLOOKUP($C$3,TABMAPEL_XI,DBLOGIC!BV2,FALSE),IF(OR($B$3=\"5 (lima)\",$B$3=\"6 (enam)\"),HLOOKUP($C$3,TABMAPEL_XII,DBLOGIC!BV2,FALSE),IF(OR($B$3=\"7 (tujuh)\",$B$3=\"8 (delapan)\"),HLOOKUP($C$3,TABMAPEL_XIII,DBLOGIC!BV2,FALSE),0))))","v":"-"},{"$f":"IF(OR($B$3=\"1 (satu)\",$B$3=\"2 (dua)\"),HLOOKUP($C$3,TABMAPEL_X,DBLOGIC!BW2,FALSE),IF(OR($B$3=\"3 (tiga)\",$B$3=\"4 (empat)\"),HLOOKUP($C$3,TABMAPEL_XI,DBLOGIC!BW2,FALSE),IF(OR($B$3=\"5 (lima)\",$B$3=\"6 (enam)\"),HLOOKUP($C$3,TABMAPEL_XII,DBLOGIC!BW2,FALSE),IF(OR($B$3=\"7 (tujuh)\",$B$3=\"8 (delapan)\"),HLOOKUP($C$3,TABMAPEL_XIII,DBLOGIC!BW2,FALSE),0))))","v":"-"},{"$f":"IF(OR($B$3=\"1 (satu)\",$B$3=\"2 (dua)\"),HLOOKUP($C$3,TABMAPEL_X,DBLOGIC!BX2,FALSE),IF(OR($B$3=\"3 (tiga)\",$B$3=\"4 (empat)\"),HLOOKUP($C$3,TABMAPEL_XI,DBLOGIC!BX2,FALSE),IF(OR($B$3=\"5 (lima)\",$B$3=\"6 (enam)\"),HLOOKUP($C$3,TABMAPEL_XII,DBLOGIC!BX2,FALSE),IF(OR($B$3=\"7 (tujuh)\",$B$3=\"8 (delapan)\"),HLOOKUP($C$3,TABMAPEL_XIII,DBLOGIC!BX2,FALSE),0))))","v":"-"},{"$f":"IF(OR($B$3=\"1 (satu)\",$B$3=\"2 (dua)\"),HLOOKUP($C$3,TABMAPEL_X,DBLOGIC!BY2,FALSE),IF(OR($B$3=\"3 (tiga)\",$B$3=\"4 (empat)\"),HLOOKUP($C$3,TABMAPEL_XI,DBLOGIC!BY2,FALSE),IF(OR($B$3=\"5 (lima)\",$B$3=\"6 (enam)\"),HLOOKUP($C$3,TABMAPEL_XII,DBLOGIC!BY2,FALSE),IF(OR($B$3=\"7 (tujuh)\",$B$3=\"8 (delapan)\"),HLOOKUP($C$3,TABMAPEL_XIII,DBLOGIC!BY2,FALSE),0))))","v":"-"},{"$f":"IF(OR($B$3=\"1 (satu)\",$B$3=\"2 (dua)\"),HLOOKUP($C$3,TABMAPEL_X,DBLOGIC!BZ2,FALSE),IF(OR($B$3=\"3 (tiga)\",$B$3=\"4 (empat)\"),HLOOKUP($C$3,TABMAPEL_XI,DBLOGIC!BZ2,FALSE),IF(OR($B$3=\"5 (lima)\",$B$3=\"6 (enam)\"),HLOOKUP($C$3,TABMAPEL_XII,DBLOGIC!BZ2,FALSE),IF(OR($B$3=\"7 (tujuh)\",$B$3=\"8 (delapan)\"),HLOOKUP($C$3,TABMAPEL_XIII,DBLOGIC!BZ2,FALSE),0))))","v":"-"},{"$f":"IF(OR($B$3=\"1 (satu)\",$B$3=\"2 (dua)\"),HLOOKUP($C$3,TABMAPEL_X,DBLOGIC!CA2,FALSE),IF(OR($B$3=\"3 (tiga)\",$B$3=\"4 (empat)\"),HLOOKUP($C$3,TABMAPEL_XI,DBLOGIC!CA2,FALSE),IF(OR($B$3=\"5 (lima)\",$B$3=\"6 (enam)\"),HLOOKUP($C$3,TABMAPEL_XII,DBLOGIC!CA2,FALSE),IF(OR($B$3=\"7 (tujuh)\",$B$3=\"8 (delapan)\"),HLOOKUP($C$3,TABMAPEL_XIII,DBLOGIC!CA2,FALSE),0))))","v":"-"},{"$f":"IF(OR($B$3=\"1 (satu)\",$B$3=\"2 (dua)\"),HLOOKUP($C$3,TABMAPEL_X,DBLOGIC!CB2,FALSE),IF(OR($B$3=\"3 (tiga)\",$B$3=\"4 (empat)\"),HLOOKUP($C$3,TABMAPEL_XI,DBLOGIC!CB2,FALSE),IF(OR($B$3=\"5 (lima)\",$B$3=\"6 (enam)\"),HLOOKUP($C$3,TABMAPEL_XII,DBLOGIC!CB2,FALSE),IF(OR($B$3=\"7 (tujuh)\",$B$3=\"8 (delapan)\"),HLOOKUP($C$3,TABMAPEL_XIII,DBLOGIC!CB2,FALSE),0))))","v":"-"},{"$f":"IF(OR($B$3=\"1 (satu)\",$B$3=\"2 (dua)\"),HLOOKUP($C$3,TABMAPEL_X,DBLOGIC!CC2,FALSE),IF(OR($B$3=\"3 (tiga)\",$B$3=\"4 (empat)\"),HLOOKUP($C$3,TABMAPEL_XI,DBLOGIC!CC2,FALSE),IF(OR($B$3=\"5 (lima)\",$B$3=\"6 (enam)\"),HLOOKUP($C$3,TABMAPEL_XII,DBLOGIC!CC2,FALSE),IF(OR($B$3=\"7 (tujuh)\",$B$3=\"8 (delapan)\"),HLOOKUP($C$3,TABMAPEL_XIII,DBLOGIC!CC2,FALSE),0))))","v":"-"},{"$f":"IF(OR($B$3=\"1 (satu)\",$B$3=\"2 (dua)\"),HLOOKUP($C$3,TABMAPEL_X,DBLOGIC!CD2,FALSE),IF(OR($B$3=\"3 (tiga)\",$B$3=\"4 (empat)\"),HLOOKUP($C$3,TABMAPEL_XI,DBLOGIC!CD2,FALSE),IF(OR($B$3=\"5 (lima)\",$B$3=\"6 (enam)\"),HLOOKUP($C$3,TABMAPEL_XII,DBLOGIC!CD2,FALSE),IF(OR($B$3=\"7 (tujuh)\",$B$3=\"8 (delapan)\"),HLOOKUP($C$3,TABMAPEL_XIII,DBLOGIC!CD2,FALSE),0))))","v":"-"},{"$f":"IF(OR($B$3=\"1 (satu)\",$B$3=\"2 (dua)\"),HLOOKUP($C$3,TABMAPEL_X,DBLOGIC!CE2,FALSE),IF(OR($B$3=\"3 (tiga)\",$B$3=\"4 (empat)\"),HLOOKUP($C$3,TABMAPEL_XI,DBLOGIC!CE2,FALSE),IF(OR($B$3=\"5 (lima)\",$B$3=\"6 (enam)\"),HLOOKUP($C$3,TABMAPEL_XII,DBLOGIC!CE2,FALSE),IF(OR($B$3=\"7 (tujuh)\",$B$3=\"8 (delapan)\"),HLOOKUP($C$3,TABMAPEL_XIII,DBLOGIC!CE2,FALSE),0))))","v":"-"},{"$f":"IF(OR($B$3=\"1 (satu)\",$B$3=\"2 (dua)\"),HLOOKUP($C$3,TABMAPEL_X,DBLOGIC!CF2,FALSE),IF(OR($B$3=\"3 (tiga)\",$B$3=\"4 (empat)\"),HLOOKUP($C$3,TABMAPEL_XI,DBLOGIC!CF2,FALSE),IF(OR($B$3=\"5 (lima)\",$B$3=\"6 (enam)\"),HLOOKUP($C$3,TABMAPEL_XII,DBLOGIC!CF2,FALSE),IF(OR($B$3=\"7 (tujuh)\",$B$3=\"8 (delapan)\"),HLOOKUP($C$3,TABMAPEL_XIII,DBLOGIC!CF2,FALSE),0))))","v":"-"},{"$f":"IF(OR($B$3=\"1 (satu)\",$B$3=\"2 (dua)\"),HLOOKUP($C$3,TABMAPEL_X,DBLOGIC!CG2,FALSE),IF(OR($B$3=\"3 (tiga)\",$B$3=\"4 (empat)\"),HLOOKUP($C$3,TABMAPEL_XI,DBLOGIC!CG2,FALSE),IF(OR($B$3=\"5 (lima)\",$B$3=\"6 (enam)\"),HLOOKUP($C$3,TABMAPEL_XII,DBLOGIC!CG2,FALSE),IF(OR($B$3=\"7 (tujuh)\",$B$3=\"8 (delapan)\"),HLOOKUP($C$3,TABMAPEL_XIII,DBLOGIC!CG2,FALSE),0))))","v":"-"},{"$f":"IF(OR($B$3=\"1 (satu)\",$B$3=\"2 (dua)\"),HLOOKUP($C$3,TABMAPEL_X,DBLOGIC!CH2,FALSE),IF(OR($B$3=\"3 (tiga)\",$B$3=\"4 (empat)\"),HLOOKUP($C$3,TABMAPEL_XI,DBLOGIC!CH2,FALSE),IF(OR($B$3=\"5 (lima)\",$B$3=\"6 (enam)\"),HLOOKUP($C$3,TABMAPEL_XII,DBLOGIC!CH2,FALSE),IF(OR($B$3=\"7 (tujuh)\",$B$3=\"8 (delapan)\"),HLOOKUP($C$3,TABMAPEL_XIII,DBLOGIC!CH2,FALSE),0))))","v":"-"},{"$f":"IF(OR($B$3=\"1 (satu)\",$B$3=\"2 (dua)\"),HLOOKUP($C$3,TABMAPEL_X,DBLOGIC!CI2,FALSE),IF(OR($B$3=\"3 (tiga)\",$B$3=\"4 (empat)\"),HLOOKUP($C$3,TABMAPEL_XI,DBLOGIC!CI2,FALSE),IF(OR($B$3=\"5 (lima)\",$B$3=\"6 (enam)\"),HLOOKUP($C$3,TABMAPEL_XII,DBLOGIC!CI2,FALSE),IF(OR($B$3=\"7 (tujuh)\",$B$3=\"8 (delapan)\"),HLOOKUP($C$3,TABMAPEL_XIII,DBLOGIC!CI2,FALSE),0))))","v":"-"},{"$f":"IF(OR($B$3=\"1 (satu)\",$B$3=\"2 (dua)\"),HLOOKUP($C$3,TABMAPEL_X,DBLOGIC!CJ2,FALSE),IF(OR($B$3=\"3 (tiga)\",$B$3=\"4 (empat)\"),HLOOKUP($C$3,TABMAPEL_XI,DBLOGIC!CJ2,FALSE),IF(OR($B$3=\"5 (lima)\",$B$3=\"6 (enam)\"),HLOOKUP($C$3,TABMAPEL_XII,DBLOGIC!CJ2,FALSE),IF(OR($B$3=\"7 (tujuh)\",$B$3=\"8 (delapan)\"),HLOOKUP($C$3,TABMAPEL_XIII,DBLOGIC!CJ2,FALSE),0))))","v":"-"},{"$f":"IF(OR($B$3=\"1 (satu)\",$B$3=\"2 (dua)\"),HLOOKUP($C$3,TABMAPEL_X,DBLOGIC!CK2,FALSE),IF(OR($B$3=\"3 (tiga)\",$B$3=\"4 (empat)\"),HLOOKUP($C$3,TABMAPEL_XI,DBLOGIC!CK2,FALSE),IF(OR($B$3=\"5 (lima)\",$B$3=\"6 (enam)\"),HLOOKUP($C$3,TABMAPEL_XII,DBLOGIC!CK2,FALSE),IF(OR($B$3=\"7 (tujuh)\",$B$3=\"8 (delapan)\"),HLOOKUP($C$3,TABMAPEL_XIII,DBLOGIC!CK2,FALSE),0))))","v":"-"},{"$f":"IF(OR($B$3=\"1 (satu)\",$B$3=\"2 (dua)\"),HLOOKUP($C$3,TABMAPEL_X,DBLOGIC!CL2,FALSE),IF(OR($B$3=\"3 (tiga)\",$B$3=\"4 (empat)\"),HLOOKUP($C$3,TABMAPEL_XI,DBLOGIC!CL2,FALSE),IF(OR($B$3=\"5 (lima)\",$B$3=\"6 (enam)\"),HLOOKUP($C$3,TABMAPEL_XII,DBLOGIC!CL2,FALSE),IF(OR($B$3=\"7 (tujuh)\",$B$3=\"8 (delapan)\"),HLOOKUP($C$3,TABMAPEL_XIII,DBLOGIC!CL2,FALSE),0))))","v":"-"},{"$f":"IF(OR($B$3=\"1 (satu)\",$B$3=\"2 (dua)\"),HLOOKUP($C$3,TABMAPEL_X,DBLOGIC!CM2,FALSE),IF(OR($B$3=\"3 (tiga)\",$B$3=\"4 (empat)\"),HLOOKUP($C$3,TABMAPEL_XI,DBLOGIC!CM2,FALSE),IF(OR($B$3=\"5 (lima)\",$B$3=\"6 (enam)\"),HLOOKUP($C$3,TABMAPEL_XII,DBLOGIC!CM2,FALSE),IF(OR($B$3=\"7 (tujuh)\",$B$3=\"8 (delapan)\"),HLOOKUP($C$3,TABMAPEL_XIII,DBLOGIC!CM2,FALSE),0))))","v":"-"},{"$f":"IF(OR($B$3=\"1 (satu)\",$B$3=\"2 (dua)\"),HLOOKUP($C$3,TABMAPEL_X,DBLOGIC!CN2,FALSE),IF(OR($B$3=\"3 (tiga)\",$B$3=\"4 (empat)\"),HLOOKUP($C$3,TABMAPEL_XI,DBLOGIC!CN2,FALSE),IF(OR($B$3=\"5 (lima)\",$B$3=\"6 (enam)\"),HLOOKUP($C$3,TABMAPEL_XII,DBLOGIC!CN2,FALSE),IF(OR($B$3=\"7 (tujuh)\",$B$3=\"8 (delapan)\"),HLOOKUP($C$3,TABMAPEL_XIII,DBLOGIC!CN2,FALSE),0))))","v":"-"},{"$f":"IF(OR($B$3=\"1 (satu)\",$B$3=\"2 (dua)\"),HLOOKUP($C$3,TABMAPEL_X,DBLOGIC!CO2,FALSE),IF(OR($B$3=\"3 (tiga)\",$B$3=\"4 (empat)\"),HLOOKUP($C$3,TABMAPEL_XI,DBLOGIC!CO2,FALSE),IF(OR($B$3=\"5 (lima)\",$B$3=\"6 (enam)\"),HLOOKUP($C$3,TABMAPEL_XII,DBLOGIC!CO2,FALSE),IF(OR($B$3=\"7 (tujuh)\",$B$3=\"8 (delapan)\"),HLOOKUP($C$3,TABMAPEL_XIII,DBLOGIC!CO2,FALSE),0))))","v":"-"},{"$f":"IF(OR($B$3=\"1 (satu)\",$B$3=\"2 (dua)\"),HLOOKUP($C$3,TABMAPEL_X,DBLOGIC!CP2,FALSE),IF(OR($B$3=\"3 (tiga)\",$B$3=\"4 (empat)\"),HLOOKUP($C$3,TABMAPEL_XI,DBLOGIC!CP2,FALSE),IF(OR($B$3=\"5 (lima)\",$B$3=\"6 (enam)\"),HLOOKUP($C$3,TABMAPEL_XII,DBLOGIC!CP2,FALSE),IF(OR($B$3=\"7 (tujuh)\",$B$3=\"8 (delapan)\"),HLOOKUP($C$3,TABMAPEL_XIII,DBLOGIC!CP2,FALSE),0))))","v":"-"},{"$f":"IF(OR($B$3=\"1 (satu)\",$B$3=\"2 (dua)\"),HLOOKUP($C$3,TABMAPEL_X,DBLOGIC!CQ2,FALSE),IF(OR($B$3=\"3 (tiga)\",$B$3=\"4 (empat)\"),HLOOKUP($C$3,TABMAPEL_XI,DBLOGIC!CQ2,FALSE),IF(OR($B$3=\"5 (lima)\",$B$3=\"6 (enam)\"),HLOOKUP($C$3,TABMAPEL_XII,DBLOGIC!CQ2,FALSE),IF(OR($B$3=\"7 (tujuh)\",$B$3=\"8 (delapan)\"),HLOOKUP($C$3,TABMAPEL_XIII,DBLOGIC!CQ2,FALSE),0))))","v":"-"},{"$f":"IF(OR($B$3=\"1 (satu)\",$B$3=\"2 (dua)\"),HLOOKUP($C$3,TABMAPEL_X,DBLOGIC!CR2,FALSE),IF(OR($B$3=\"3 (tiga)\",$B$3=\"4 (empat)\"),HLOOKUP($C$3,TABMAPEL_XI,DBLOGIC!CR2,FALSE),IF(OR($B$3=\"5 (lima)\",$B$3=\"6 (enam)\"),HLOOKUP($C$3,TABMAPEL_XII,DBLOGIC!CR2,FALSE),IF(OR($B$3=\"7 (tujuh)\",$B$3=\"8 (delapan)\"),HLOOKUP($C$3,TABMAPEL_XIII,DBLOGIC!CR2,FALSE),0))))","v":"-"},{"$f":"IF(OR($B$3=\"1 (satu)\",$B$3=\"2 (dua)\"),HLOOKUP($C$3,TABMAPEL_X,DBLOGIC!CS2,FALSE),IF(OR($B$3=\"3 (tiga)\",$B$3=\"4 (empat)\"),HLOOKUP($C$3,TABMAPEL_XI,DBLOGIC!CS2,FALSE),IF(OR($B$3=\"5 (lima)\",$B$3=\"6 (enam)\"),HLOOKUP($C$3,TABMAPEL_XII,DBLOGIC!CS2,FALSE),IF(OR($B$3=\"7 (tujuh)\",$B$3=\"8 (delapan)\"),HLOOKUP($C$3,TABMAPEL_XIII,DBLOGIC!CS2,FALSE),0))))","v":"-"},{"$f":"IF(OR($B$3=\"1 (satu)\",$B$3=\"2 (dua)\"),HLOOKUP($C$3,TABMAPEL_X,DBLOGIC!CT2,FALSE),IF(OR($B$3=\"3 (tiga)\",$B$3=\"4 (empat)\"),HLOOKUP($C$3,TABMAPEL_XI,DBLOGIC!CT2,FALSE),IF(OR($B$3=\"5 (lima)\",$B$3=\"6 (enam)\"),HLOOKUP($C$3,TABMAPEL_XII,DBLOGIC!CT2,FALSE),IF(OR($B$3=\"7 (tujuh)\",$B$3=\"8 (delapan)\"),HLOOKUP($C$3,TABMAPEL_XIII,DBLOGIC!CT2,FALSE),0))))","v":"-"},{"$f":"IF(OR($B$3=\"1 (satu)\",$B$3=\"2 (dua)\"),HLOOKUP($C$3,TABMAPEL_X,DBLOGIC!CU2,FALSE),IF(OR($B$3=\"3 (tiga)\",$B$3=\"4 (empat)\"),HLOOKUP($C$3,TABMAPEL_XI,DBLOGIC!CU2,FALSE),IF(OR($B$3=\"5 (lima)\",$B$3=\"6 (enam)\"),HLOOKUP($C$3,TABMAPEL_XII,DBLOGIC!CU2,FALSE),IF(OR($B$3=\"7 (tujuh)\",$B$3=\"8 (delapan)\"),HLOOKUP($C$3,TABMAPEL_XIII,DBLOGIC!CU2,FALSE),0))))","v":"-"},{"$f":"IF(OR($B$3=\"1 (satu)\",$B$3=\"2 (dua)\"),HLOOKUP($C$3,TABMAPEL_X,DBLOGIC!CV2,FALSE),IF(OR($B$3=\"3 (tiga)\",$B$3=\"4 (empat)\"),HLOOKUP($C$3,TABMAPEL_XI,DBLOGIC!CV2,FALSE),IF(OR($B$3=\"5 (lima)\",$B$3=\"6 (enam)\"),HLOOKUP($C$3,TABMAPEL_XII,DBLOGIC!CV2,FALSE),IF(OR($B$3=\"7 (tujuh)\",$B$3=\"8 (delapan)\"),HLOOKUP($C$3,TABMAPEL_XIII,DBLOGIC!CV2,FALSE),0))))","v":"-"},{"$f":"IF(OR($B$3=\"1 (satu)\",$B$3=\"2 (dua)\"),HLOOKUP($C$3,TABMAPEL_X,DBLOGIC!CW2,FALSE),IF(OR($B$3=\"3 (tiga)\",$B$3=\"4 (empat)\"),HLOOKUP($C$3,TABMAPEL_XI,DBLOGIC!CW2,FALSE),IF(OR($B$3=\"5 (lima)\",$B$3=\"6 (enam)\"),HLOOKUP($C$3,TABMAPEL_XII,DBLOGIC!CW2,FALSE),IF(OR($B$3=\"7 (tujuh)\",$B$3=\"8 (delapan)\"),HLOOKUP($C$3,TABMAPEL_XIII,DBLOGIC!CW2,FALSE),0))))","v":"-"},{"$f":"IF(OR($B$3=\"1 (satu)\",$B$3=\"2 (dua)\"),HLOOKUP($C$3,TABMAPEL_X,DBLOGIC!CX2,FALSE),IF(OR($B$3=\"3 (tiga)\",$B$3=\"4 (empat)\"),HLOOKUP($C$3,TABMAPEL_XI,DBLOGIC!CX2,FALSE),IF(OR($B$3=\"5 (lima)\",$B$3=\"6 (enam)\"),HLOOKUP($C$3,TABMAPEL_XII,DBLOGIC!CX2,FALSE),IF(OR($B$3=\"7 (tujuh)\",$B$3=\"8 (delapan)\"),HLOOKUP($C$3,TABMAPEL_XIII,DBLOGIC!CX2,FALSE),0))))","v":"-"},{"$f":"IF(OR($B$3=\"1 (satu)\",$B$3=\"2 (dua)\"),HLOOKUP($C$3,TABMAPEL_X,DBLOGIC!CY2,FALSE),IF(OR($B$3=\"3 (tiga)\",$B$3=\"4 (empat)\"),HLOOKUP($C$3,TABMAPEL_XI,DBLOGIC!CY2,FALSE),IF(OR($B$3=\"5 (lima)\",$B$3=\"6 (enam)\"),HLOOKUP($C$3,TABMAPEL_XII,DBLOGIC!CY2,FALSE),IF(OR($B$3=\"7 (tujuh)\",$B$3=\"8 (delapan)\"),HLOOKUP($C$3,TABMAPEL_XIII,DBLOGIC!CY2,FALSE),0))))","v":"-"},{"$f":"IF(OR($B$3=\"1 (satu)\",$B$3=\"2 (dua)\"),HLOOKUP($C$3,TABMAPEL_X,DBLOGIC!CZ2,FALSE),IF(OR($B$3=\"3 (tiga)\",$B$3=\"4 (empat)\"),HLOOKUP($C$3,TABMAPEL_XI,DBLOGIC!CZ2,FALSE),IF(OR($B$3=\"5 (lima)\",$B$3=\"6 (enam)\"),HLOOKUP($C$3,TABMAPEL_XII,DBLOGIC!CZ2,FALSE),IF(OR($B$3=\"7 (tujuh)\",$B$3=\"8 (delapan)\"),HLOOKUP($C$3,TABMAPEL_XIII,DBLOGIC!CZ2,FALSE),0))))","v":"-"},{"$f":"IF(OR($B$3=\"1 (satu)\",$B$3=\"2 (dua)\"),HLOOKUP($C$3,TABMAPEL_X,DBLOGIC!DA2,FALSE),IF(OR($B$3=\"3 (tiga)\",$B$3=\"4 (empat)\"),HLOOKUP($C$3,TABMAPEL_XI,DBLOGIC!DA2,FALSE),IF(OR($B$3=\"5 (lima)\",$B$3=\"6 (enam)\"),HLOOKUP($C$3,TABMAPEL_XII,DBLOGIC!DA2,FALSE),IF(OR($B$3=\"7 (tujuh)\",$B$3=\"8 (delapan)\"),HLOOKUP($C$3,TABMAPEL_XIII,DBLOGIC!DA2,FALSE),0))))","v":"-"},{"$f":"IF(OR($B$3=\"1 (satu)\",$B$3=\"2 (dua)\"),HLOOKUP($C$3,TABMAPEL_X,DBLOGIC!DB2,FALSE),IF(OR($B$3=\"3 (tiga)\",$B$3=\"4 (empat)\"),HLOOKUP($C$3,TABMAPEL_XI,DBLOGIC!DB2,FALSE),IF(OR($B$3=\"5 (lima)\",$B$3=\"6 (enam)\"),HLOOKUP($C$3,TABMAPEL_XII,DBLOGIC!DB2,FALSE),IF(OR($B$3=\"7 (tujuh)\",$B$3=\"8 (delapan)\"),HLOOKUP($C$3,TABMAPEL_XIII,DBLOGIC!DB2,FALSE),0))))","v":"-"},{"$f":"IF(OR($B$3=\"1 (satu)\",$B$3=\"2 (dua)\"),HLOOKUP($C$3,TABMAPEL_X,DBLOGIC!DC2,FALSE),IF(OR($B$3=\"3 (tiga)\",$B$3=\"4 (empat)\"),HLOOKUP($C$3,TABMAPEL_XI,DBLOGIC!DC2,FALSE),IF(OR($B$3=\"5 (lima)\",$B$3=\"6 (enam)\"),HLOOKUP($C$3,TABMAPEL_XII,DBLOGIC!DC2,FALSE),IF(OR($B$3=\"7 (tujuh)\",$B$3=\"8 (delapan)\"),HLOOKUP($C$3,TABMAPEL_XIII,DBLOGIC!DC2,FALSE),0))))","v":"-"},{"$f":"IF(OR($B$3=\"1 (satu)\",$B$3=\"2 (dua)\"),HLOOKUP($C$3,TABMAPEL_X,DBLOGIC!DD2,FALSE),IF(OR($B$3=\"3 (tiga)\",$B$3=\"4 (empat)\"),HLOOKUP($C$3,TABMAPEL_XI,DBLOGIC!DD2,FALSE),IF(OR($B$3=\"5 (lima)\",$B$3=\"6 (enam)\"),HLOOKUP($C$3,TABMAPEL_XII,DBLOGIC!DD2,FALSE),IF(OR($B$3=\"7 (tujuh)\",$B$3=\"8 (delapan)\"),HLOOKUP($C$3,TABMAPEL_XIII,DBLOGIC!DD2,FALSE),0))))","v":"-"},{"$f":"IF(OR($B$3=\"1 (satu)\",$B$3=\"2 (dua)\"),HLOOKUP($C$3,TABMAPEL_X,DBLOGIC!DE2,FALSE),IF(OR($B$3=\"3 (tiga)\",$B$3=\"4 (empat)\"),HLOOKUP($C$3,TABMAPEL_XI,DBLOGIC!DE2,FALSE),IF(OR($B$3=\"5 (lima)\",$B$3=\"6 (enam)\"),HLOOKUP($C$3,TABMAPEL_XII,DBLOGIC!DE2,FALSE),IF(OR($B$3=\"7 (tujuh)\",$B$3=\"8 (delapan)\"),HLOOKUP($C$3,TABMAPEL_XIII,DBLOGIC!DE2,FALSE),0))))","v":"-"},{"$f":"IF(OR($B$3=\"1 (satu)\",$B$3=\"2 (dua)\"),HLOOKUP($C$3,TABMAPEL_X,DBLOGIC!DF2,FALSE),IF(OR($B$3=\"3 (tiga)\",$B$3=\"4 (empat)\"),HLOOKUP($C$3,TABMAPEL_XI,DBLOGIC!DF2,FALSE),IF(OR($B$3=\"5 (lima)\",$B$3=\"6 (enam)\"),HLOOKUP($C$3,TABMAPEL_XII,DBLOGIC!DF2,FALSE),IF(OR($B$3=\"7 (tujuh)\",$B$3=\"8 (delapan)\"),HLOOKUP($C$3,TABMAPEL_XIII,DBLOGIC!DF2,FALSE),0))))","v":"-"},{"$f":"IF(OR($B$3=\"1 (satu)\",$B$3=\"2 (dua)\"),HLOOKUP($C$3,TABMAPEL_X,DBLOGIC!DG2,FALSE),IF(OR($B$3=\"3 (tiga)\",$B$3=\"4 (empat)\"),HLOOKUP($C$3,TABMAPEL_XI,DBLOGIC!DG2,FALSE),IF(OR($B$3=\"5 (lima)\",$B$3=\"6 (enam)\"),HLOOKUP($C$3,TABMAPEL_XII,DBLOGIC!DG2,FALSE),IF(OR($B$3=\"7 (tujuh)\",$B$3=\"8 (delapan)\"),HLOOKUP($C$3,TABMAPEL_XIII,DBLOGIC!DG2,FALSE),0))))","v":"-"},{"$f":"IF(OR($B$3=\"1 (satu)\",$B$3=\"2 (dua)\"),HLOOKUP($C$3,TABMAPEL_X,DBLOGIC!DH2,FALSE),IF(OR($B$3=\"3 (tiga)\",$B$3=\"4 (empat)\"),HLOOKUP($C$3,TABMAPEL_XI,DBLOGIC!DH2,FALSE),IF(OR($B$3=\"5 (lima)\",$B$3=\"6 (enam)\"),HLOOKUP($C$3,TABMAPEL_XII,DBLOGIC!DH2,FALSE),IF(OR($B$3=\"7 (tujuh)\",$B$3=\"8 (delapan)\"),HLOOKUP($C$3,TABMAPEL_XIII,DBLOGIC!DH2,FALSE),0))))","v":"-"},{"$f":"IF(OR($B$3=\"1 (satu)\",$B$3=\"2 (dua)\"),HLOOKUP($C$3,TABMAPEL_X,DBLOGIC!DI2,FALSE),IF(OR($B$3=\"3 (tiga)\",$B$3=\"4 (empat)\"),HLOOKUP($C$3,TABMAPEL_XI,DBLOGIC!DI2,FALSE),IF(OR($B$3=\"5 (lima)\",$B$3=\"6 (enam)\"),HLOOKUP($C$3,TABMAPEL_XII,DBLOGIC!DI2,FALSE),IF(OR($B$3=\"7 (tujuh)\",$B$3=\"8 (delapan)\"),HLOOKUP($C$3,TABMAPEL_XIII,DBLOGIC!DI2,FALSE),0))))","v":"-"},{"$f":"IF(OR($B$3=\"1 (satu)\",$B$3=\"2 (dua)\"),HLOOKUP($C$3,TABMAPEL_X,DBLOGIC!DJ2,FALSE),IF(OR($B$3=\"3 (tiga)\",$B$3=\"4 (empat)\"),HLOOKUP($C$3,TABMAPEL_XI,DBLOGIC!DJ2,FALSE),IF(OR($B$3=\"5 (lima)\",$B$3=\"6 (enam)\"),HLOOKUP($C$3,TABMAPEL_XII,DBLOGIC!DJ2,FALSE),IF(OR($B$3=\"7 (tujuh)\",$B$3=\"8 (delapan)\"),HLOOKUP($C$3,TABMAPEL_XIII,DBLOGIC!DJ2,FALSE),0))))","v":"-"},{"$f":"IF(OR($B$3=\"1 (satu)\",$B$3=\"2 (dua)\"),HLOOKUP($C$3,TABMAPEL_X,DBLOGIC!DK2,FALSE),IF(OR($B$3=\"3 (tiga)\",$B$3=\"4 (empat)\"),HLOOKUP($C$3,TABMAPEL_XI,DBLOGIC!DK2,FALSE),IF(OR($B$3=\"5 (lima)\",$B$3=\"6 (enam)\"),HLOOKUP($C$3,TABMAPEL_XII,DBLOGIC!DK2,FALSE),IF(OR($B$3=\"7 (tujuh)\",$B$3=\"8 (delapan)\"),HLOOKUP($C$3,TABMAPEL_XIII,DBLOGIC!DK2,FALSE),0))))","v":"-"},{"$f":"IF(OR($B$3=\"1 (satu)\",$B$3=\"2 (dua)\"),HLOOKUP($C$3,TABMAPEL_X,DBLOGIC!DL2,FALSE),IF(OR($B$3=\"3 (tiga)\",$B$3=\"4 (empat)\"),HLOOKUP($C$3,TABMAPEL_XI,DBLOGIC!DL2,FALSE),IF(OR($B$3=\"5 (lima)\",$B$3=\"6 (enam)\"),HLOOKUP($C$3,TABMAPEL_XII,DBLOGIC!DL2,FALSE),IF(OR($B$3=\"7 (tujuh)\",$B$3=\"8 (delapan)\"),HLOOKUP($C$3,TABMAPEL_XIII,DBLOGIC!DL2,FALSE),0))))","v":"-"},{"$f":"IF(OR($B$3=\"1 (satu)\",$B$3=\"2 (dua)\"),HLOOKUP($C$3,TABMAPEL_X,DBLOGIC!DM2,FALSE),IF(OR($B$3=\"3 (tiga)\",$B$3=\"4 (empat)\"),HLOOKUP($C$3,TABMAPEL_XI,DBLOGIC!DM2,FALSE),IF(OR($B$3=\"5 (lima)\",$B$3=\"6 (enam)\"),HLOOKUP($C$3,TABMAPEL_XII,DBLOGIC!DM2,FALSE),IF(OR($B$3=\"7 (tujuh)\",$B$3=\"8 (delapan)\"),HLOOKUP($C$3,TABMAPEL_XIII,DBLOGIC!DM2,FALSE),0))))","v":"-"},{"$f":"IF(OR($B$3=\"1 (satu)\",$B$3=\"2 (dua)\"),HLOOKUP($C$3,TABMAPEL_X,DBLOGIC!DN2,FALSE),IF(OR($B$3=\"3 (tiga)\",$B$3=\"4 (empat)\"),HLOOKUP($C$3,TABMAPEL_XI,DBLOGIC!DN2,FALSE),IF(OR($B$3=\"5 (lima)\",$B$3=\"6 (enam)\"),HLOOKUP($C$3,TABMAPEL_XII,DBLOGIC!DN2,FALSE),IF(OR($B$3=\"7 (tujuh)\",$B$3=\"8 (delapan)\"),HLOOKUP($C$3,TABMAPEL_XIII,DBLOGIC!DN2,FALSE),0))))","v":"-"},{"$f":"IF(OR($B$3=\"1 (satu)\",$B$3=\"2 (dua)\"),HLOOKUP($C$3,TABMAPEL_X,DBLOGIC!DO2,FALSE),IF(OR($B$3=\"3 (tiga)\",$B$3=\"4 (empat)\"),HLOOKUP($C$3,TABMAPEL_XI,DBLOGIC!DO2,FALSE),IF(OR($B$3=\"5 (lima)\",$B$3=\"6 (enam)\"),HLOOKUP($C$3,TABMAPEL_XII,DBLOGIC!DO2,FALSE),IF(OR($B$3=\"7 (tujuh)\",$B$3=\"8 (delapan)\"),HLOOKUP($C$3,TABMAPEL_XIII,DBLOGIC!DO2,FALSE),0))))","v":"-"},{"$f":"IF(OR($B$3=\"1 (satu)\",$B$3=\"2 (dua)\"),HLOOKUP($C$3,TABMAPEL_X,DBLOGIC!DP2,FALSE),IF(OR($B$3=\"3 (tiga)\",$B$3=\"4 (empat)\"),HLOOKUP($C$3,TABMAPEL_XI,DBLOGIC!DP2,FALSE),IF(OR($B$3=\"5 (lima)\",$B$3=\"6 (enam)\"),HLOOKUP($C$3,TABMAPEL_XII,DBLOGIC!DP2,FALSE),IF(OR($B$3=\"7 (tujuh)\",$B$3=\"8 (delapan)\"),HLOOKUP($C$3,TABMAPEL_XIII,DBLOGIC!DP2,FALSE),0))))","v":"-"},{"$f":"IF(OR($B$3=\"1 (satu)\",$B$3=\"2 (dua)\"),HLOOKUP($C$3,TABMAPEL_X,DBLOGIC!DQ2,FALSE),IF(OR($B$3=\"3 (tiga)\",$B$3=\"4 (empat)\"),HLOOKUP($C$3,TABMAPEL_XI,DBLOGIC!DQ2,FALSE),IF(OR($B$3=\"5 (lima)\",$B$3=\"6 (enam)\"),HLOOKUP($C$3,TABMAPEL_XII,DBLOGIC!DQ2,FALSE),IF(OR($B$3=\"7 (tujuh)\",$B$3=\"8 (delapan)\"),HLOOKUP($C$3,TABMAPEL_XIII,DBLOGIC!DQ2,FALSE),0))))","v":"-"},{"$f":"IF(OR($B$3=\"1 (satu)\",$B$3=\"2 (dua)\"),HLOOKUP($C$3,TABMAPEL_X,DBLOGIC!DR2,FALSE),IF(OR($B$3=\"3 (tiga)\",$B$3=\"4 (empat)\"),HLOOKUP($C$3,TABMAPEL_XI,DBLOGIC!DR2,FALSE),IF(OR($B$3=\"5 (lima)\",$B$3=\"6 (enam)\"),HLOOKUP($C$3,TABMAPEL_XII,DBLOGIC!DR2,FALSE),IF(OR($B$3=\"7 (tujuh)\",$B$3=\"8 (delapan)\"),HLOOKUP($C$3,TABMAPEL_XIII,DBLOGIC!DR2,FALSE),0))))","v":"-"},{"$f":"IF(OR($B$3=\"1 (satu)\",$B$3=\"2 (dua)\"),HLOOKUP($C$3,TABMAPEL_X,DBLOGIC!DS2,FALSE),IF(OR($B$3=\"3 (tiga)\",$B$3=\"4 (empat)\"),HLOOKUP($C$3,TABMAPEL_XI,DBLOGIC!DS2,FALSE),IF(OR($B$3=\"5 (lima)\",$B$3=\"6 (enam)\"),HLOOKUP($C$3,TABMAPEL_XII,DBLOGIC!DS2,FALSE),IF(OR($B$3=\"7 (tujuh)\",$B$3=\"8 (delapan)\"),HLOOKUP($C$3,TABMAPEL_XIII,DBLOGIC!DS2,FALSE),0))))","v":"-"},{"$f":"IF(OR($B$3=\"1 (satu)\",$B$3=\"2 (dua)\"),HLOOKUP($C$3,TABMAPEL_X,DBLOGIC!DT2,FALSE),IF(OR($B$3=\"3 (tiga)\",$B$3=\"4 (empat)\"),HLOOKUP($C$3,TABMAPEL_XI,DBLOGIC!DT2,FALSE),IF(OR($B$3=\"5 (lima)\",$B$3=\"6 (enam)\"),HLOOKUP($C$3,TABMAPEL_XII,DBLOGIC!DT2,FALSE),IF(OR($B$3=\"7 (tujuh)\",$B$3=\"8 (delapan)\"),HLOOKUP($C$3,TABMAPEL_XIII,DBLOGIC!DT2,FALSE),0))))","v":"-"},{"$f":"IF(OR($B$3=\"1 (satu)\",$B$3=\"2 (dua)\"),HLOOKUP($C$3,TABMAPEL_X,DBLOGIC!DU2,FALSE),IF(OR($B$3=\"3 (tiga)\",$B$3=\"4 (empat)\"),HLOOKUP($C$3,TABMAPEL_XI,DBLOGIC!DU2,FALSE),IF(OR($B$3=\"5 (lima)\",$B$3=\"6 (enam)\"),HLOOKUP($C$3,TABMAPEL_XII,DBLOGIC!DU2,FALSE),IF(OR($B$3=\"7 (tujuh)\",$B$3=\"8 (delapan)\"),HLOOKUP($C$3,TABMAPEL_XIII,DBLOGIC!DU2,FALSE),0))))","v":"-"},{"$f":"IF(OR($B$3=\"1 (satu)\",$B$3=\"2 (dua)\"),HLOOKUP($C$3,TABMAPEL_X,DBLOGIC!DV2,FALSE),IF(OR($B$3=\"3 (tiga)\",$B$3=\"4 (empat)\"),HLOOKUP($C$3,TABMAPEL_XI,DBLOGIC!DV2,FALSE),IF(OR($B$3=\"5 (lima)\",$B$3=\"6 (enam)\"),HLOOKUP($C$3,TABMAPEL_XII,DBLOGIC!DV2,FALSE),IF(OR($B$3=\"7 (tujuh)\",$B$3=\"8 (delapan)\"),HLOOKUP($C$3,TABMAPEL_XIII,DBLOGIC!DV2,FALSE),0))))","v":"-"},{"$f":"IF(OR($B$3=\"1 (satu)\",$B$3=\"2 (dua)\"),HLOOKUP($C$3,TABMAPEL_X,DBLOGIC!DW2,FALSE),IF(OR($B$3=\"3 (tiga)\",$B$3=\"4 (empat)\"),HLOOKUP($C$3,TABMAPEL_XI,DBLOGIC!DW2,FALSE),IF(OR($B$3=\"5 (lima)\",$B$3=\"6 (enam)\"),HLOOKUP($C$3,TABMAPEL_XII,DBLOGIC!DW2,FALSE),IF(OR($B$3=\"7 (tujuh)\",$B$3=\"8 (delapan)\"),HLOOKUP($C$3,TABMAPEL_XIII,DBLOGIC!DW2,FALSE),0))))","v":"-"},{"$f":"IF(OR($B$3=\"1 (satu)\",$B$3=\"2 (dua)\"),HLOOKUP($C$3,TABMAPEL_X,DBLOGIC!DX2,FALSE),IF(OR($B$3=\"3 (tiga)\",$B$3=\"4 (empat)\"),HLOOKUP($C$3,TABMAPEL_XI,DBLOGIC!DX2,FALSE),IF(OR($B$3=\"5 (lima)\",$B$3=\"6 (enam)\"),HLOOKUP($C$3,TABMAPEL_XII,DBLOGIC!DX2,FALSE),IF(OR($B$3=\"7 (tujuh)\",$B$3=\"8 (delapan)\"),HLOOKUP($C$3,TABMAPEL_XIII,DBLOGIC!DX2,FALSE),0))))","v":"-"},{"$f":"IF(OR($B$3=\"1 (satu)\",$B$3=\"2 (dua)\"),HLOOKUP($C$3,TABMAPEL_X,DBLOGIC!DY2,FALSE),IF(OR($B$3=\"3 (tiga)\",$B$3=\"4 (empat)\"),HLOOKUP($C$3,TABMAPEL_XI,DBLOGIC!DY2,FALSE),IF(OR($B$3=\"5 (lima)\",$B$3=\"6 (enam)\"),HLOOKUP($C$3,TABMAPEL_XII,DBLOGIC!DY2,FALSE),IF(OR($B$3=\"7 (tujuh)\",$B$3=\"8 (delapan)\"),HLOOKUP($C$3,TABMAPEL_XIII,DBLOGIC!DY2,FALSE),0))))","v":"Pemeliharaan Mesin Sepeda Motor"},{"$f":"IF(OR($B$3=\"1 (satu)\",$B$3=\"2 (dua)\"),HLOOKUP($C$3,TABMAPEL_X,DBLOGIC!DZ2,FALSE),IF(OR($B$3=\"3 (tiga)\",$B$3=\"4 (empat)\"),HLOOKUP($C$3,TABMAPEL_XI,DBLOGIC!DZ2,FALSE),IF(OR($B$3=\"5 (lima)\",$B$3=\"6 (enam)\"),HLOOKUP($C$3,TABMAPEL_XII,DBLOGIC!DZ2,FALSE),IF(OR($B$3=\"7 (tujuh)\",$B$3=\"8 (delapan)\"),HLOOKUP($C$3,TABMAPEL_XIII,DBLOGIC!DZ2,FALSE),0))))","v":"Pemeliharaan Mesin Sepeda Motor"},{"$f":"IF(OR($B$3=\"1 (satu)\",$B$3=\"2 (dua)\"),HLOOKUP($C$3,TABMAPEL_X,DBLOGIC!EA2,FALSE),IF(OR($B$3=\"3 (tiga)\",$B$3=\"4 (empat)\"),HLOOKUP($C$3,TABMAPEL_XI,DBLOGIC!EA2,FALSE),IF(OR($B$3=\"5 (lima)\",$B$3=\"6 (enam)\"),HLOOKUP($C$3,TABMAPEL_XII,DBLOGIC!EA2,FALSE),IF(OR($B$3=\"7 (tujuh)\",$B$3=\"8 (delapan)\"),HLOOKUP($C$3,TABMAPEL_XIII,DBLOGIC!EA2,FALSE),0))))","v":"Pemeliharaan Mesin Sepeda Motor"},{"$f":"IF(OR($B$3=\"1 (satu)\",$B$3=\"2 (dua)\"),HLOOKUP($C$3,TABMAPEL_X,DBLOGIC!EB2,FALSE),IF(OR($B$3=\"3 (tiga)\",$B$3=\"4 (empat)\"),HLOOKUP($C$3,TABMAPEL_XI,DBLOGIC!EB2,FALSE),IF(OR($B$3=\"5 (lima)\",$B$3=\"6 (enam)\"),HLOOKUP($C$3,TABMAPEL_XII,DBLOGIC!EB2,FALSE),IF(OR($B$3=\"7 (tujuh)\",$B$3=\"8 (delapan)\"),HLOOKUP($C$3,TABMAPEL_XIII,DBLOGIC!EB2,FALSE),0))))","v":"Pemeliharaan Mesin Sepeda Motor"},{"$f":"IF(OR($B$3=\"1 (satu)\",$B$3=\"2 (dua)\"),HLOOKUP($C$3,TABMAPEL_X,DBLOGIC!EC2,FALSE),IF(OR($B$3=\"3 (tiga)\",$B$3=\"4 (empat)\"),HLOOKUP($C$3,TABMAPEL_XI,DBLOGIC!EC2,FALSE),IF(OR($B$3=\"5 (lima)\",$B$3=\"6 (enam)\"),HLOOKUP($C$3,TABMAPEL_XII,DBLOGIC!EC2,FALSE),IF(OR($B$3=\"7 (tujuh)\",$B$3=\"8 (delapan)\"),HLOOKUP($C$3,TABMAPEL_XIII,DBLOGIC!EC2,FALSE),0))))","v":"Pemeliharaan Mesin Sepeda Motor"},{"$f":"IF(OR($B$3=\"1 (satu)\",$B$3=\"2 (dua)\"),HLOOKUP($C$3,TABMAPEL_X,DBLOGIC!ED2,FALSE),IF(OR($B$3=\"3 (tiga)\",$B$3=\"4 (empat)\"),HLOOKUP($C$3,TABMAPEL_XI,DBLOGIC!ED2,FALSE),IF(OR($B$3=\"5 (lima)\",$B$3=\"6 (enam)\"),HLOOKUP($C$3,TABMAPEL_XII,DBLOGIC!ED2,FALSE),IF(OR($B$3=\"7 (tujuh)\",$B$3=\"8 (delapan)\"),HLOOKUP($C$3,TABMAPEL_XIII,DBLOGIC!ED2,FALSE),0))))","v":"Pemeliharaan Mesin Sepeda Motor"},{"$f":"IF(OR($B$3=\"1 (satu)\",$B$3=\"2 (dua)\"),HLOOKUP($C$3,TABMAPEL_X,DBLOGIC!EE2,FALSE),IF(OR($B$3=\"3 (tiga)\",$B$3=\"4 (empat)\"),HLOOKUP($C$3,TABMAPEL_XI,DBLOGIC!EE2,FALSE),IF(OR($B$3=\"5 (lima)\",$B$3=\"6 (enam)\"),HLOOKUP($C$3,TABMAPEL_XII,DBLOGIC!EE2,FALSE),IF(OR($B$3=\"7 (tujuh)\",$B$3=\"8 (delapan)\"),HLOOKUP($C$3,TABMAPEL_XIII,DBLOGIC!EE2,FALSE),0))))","v":"Pemeliharaan Mesin Sepeda Motor"},{"$f":"IF(OR($B$3=\"1 (satu)\",$B$3=\"2 (dua)\"),HLOOKUP($C$3,TABMAPEL_X,DBLOGIC!EF2,FALSE),IF(OR($B$3=\"3 (tiga)\",$B$3=\"4 (empat)\"),HLOOKUP($C$3,TABMAPEL_XI,DBLOGIC!EF2,FALSE),IF(OR($B$3=\"5 (lima)\",$B$3=\"6 (enam)\"),HLOOKUP($C$3,TABMAPEL_XII,DBLOGIC!EF2,FALSE),IF(OR($B$3=\"7 (tujuh)\",$B$3=\"8 (delapan)\"),HLOOKUP($C$3,TABMAPEL_XIII,DBLOGIC!EF2,FALSE),0))))","v":"Pemeliharaan Sasis Sepeda Motor"},{"$f":"IF(OR($B$3=\"1 (satu)\",$B$3=\"2 (dua)\"),HLOOKUP($C$3,TABMAPEL_X,DBLOGIC!EG2,FALSE),IF(OR($B$3=\"3 (tiga)\",$B$3=\"4 (empat)\"),HLOOKUP($C$3,TABMAPEL_XI,DBLOGIC!EG2,FALSE),IF(OR($B$3=\"5 (lima)\",$B$3=\"6 (enam)\"),HLOOKUP($C$3,TABMAPEL_XII,DBLOGIC!EG2,FALSE),IF(OR($B$3=\"7 (tujuh)\",$B$3=\"8 (delapan)\"),HLOOKUP($C$3,TABMAPEL_XIII,DBLOGIC!EG2,FALSE),0))))","v":"Pemeliharaan Sasis Sepeda Motor"},{"$f":"IF(OR($B$3=\"1 (satu)\",$B$3=\"2 (dua)\"),HLOOKUP($C$3,TABMAPEL_X,DBLOGIC!EH2,FALSE),IF(OR($B$3=\"3 (tiga)\",$B$3=\"4 (empat)\"),HLOOKUP($C$3,TABMAPEL_XI,DBLOGIC!EH2,FALSE),IF(OR($B$3=\"5 (lima)\",$B$3=\"6 (enam)\"),HLOOKUP($C$3,TABMAPEL_XII,DBLOGIC!EH2,FALSE),IF(OR($B$3=\"7 (tujuh)\",$B$3=\"8 (delapan)\"),HLOOKUP($C$3,TABMAPEL_XIII,DBLOGIC!EH2,FALSE),0))))","v":"Pemeliharaan Sasis Sepeda Motor"},{"$f":"IF(OR($B$3=\"1 (satu)\",$B$3=\"2 (dua)\"),HLOOKUP($C$3,TABMAPEL_X,DBLOGIC!EI2,FALSE),IF(OR($B$3=\"3 (tiga)\",$B$3=\"4 (empat)\"),HLOOKUP($C$3,TABMAPEL_XI,DBLOGIC!EI2,FALSE),IF(OR($B$3=\"5 (lima)\",$B$3=\"6 (enam)\"),HLOOKUP($C$3,TABMAPEL_XII,DBLOGIC!EI2,FALSE),IF(OR($B$3=\"7 (tujuh)\",$B$3=\"8 (delapan)\"),HLOOKUP($C$3,TABMAPEL_XIII,DBLOGIC!EI2,FALSE),0))))","v":"Pemeliharaan Sasis Sepeda Motor"},{"$f":"IF(OR($B$3=\"1 (satu)\",$B$3=\"2 (dua)\"),HLOOKUP($C$3,TABMAPEL_X,DBLOGIC!EJ2,FALSE),IF(OR($B$3=\"3 (tiga)\",$B$3=\"4 (empat)\"),HLOOKUP($C$3,TABMAPEL_XI,DBLOGIC!EJ2,FALSE),IF(OR($B$3=\"5 (lima)\",$B$3=\"6 (enam)\"),HLOOKUP($C$3,TABMAPEL_XII,DBLOGIC!EJ2,FALSE),IF(OR($B$3=\"7 (tujuh)\",$B$3=\"8 (delapan)\"),HLOOKUP($C$3,TABMAPEL_XIII,DBLOGIC!EJ2,FALSE),0))))","v":"Pemeliharaan Sasis Sepeda Motor"},{"$f":"IF(OR($B$3=\"1 (satu)\",$B$3=\"2 (dua)\"),HLOOKUP($C$3,TABMAPEL_X,DBLOGIC!EK2,FALSE),IF(OR($B$3=\"3 (tiga)\",$B$3=\"4 (empat)\"),HLOOKUP($C$3,TABMAPEL_XI,DBLOGIC!EK2,FALSE),IF(OR($B$3=\"5 (lima)\",$B$3=\"6 (enam)\"),HLOOKUP($C$3,TABMAPEL_XII,DBLOGIC!EK2,FALSE),IF(OR($B$3=\"7 (tujuh)\",$B$3=\"8 (delapan)\"),HLOOKUP($C$3,TABMAPEL_XIII,DBLOGIC!EK2,FALSE),0))))","v":"Pemeliharaan Sasis Sepeda Motor"},{"$f":"IF(OR($B$3=\"1 (satu)\",$B$3=\"2 (dua)\"),HLOOKUP($C$3,TABMAPEL_X,DBLOGIC!EL2,FALSE),IF(OR($B$3=\"3 (tiga)\",$B$3=\"4 (empat)\"),HLOOKUP($C$3,TABMAPEL_XI,DBLOGIC!EL2,FALSE),IF(OR($B$3=\"5 (lima)\",$B$3=\"6 (enam)\"),HLOOKUP($C$3,TABMAPEL_XII,DBLOGIC!EL2,FALSE),IF(OR($B$3=\"7 (tujuh)\",$B$3=\"8 (delapan)\"),HLOOKUP($C$3,TABMAPEL_XIII,DBLOGIC!EL2,FALSE),0))))","v":"Pemeliharaan Sasis Sepeda Motor"},{"$f":"IF(OR($B$3=\"1 (satu)\",$B$3=\"2 (dua)\"),HLOOKUP($C$3,TABMAPEL_X,DBLOGIC!EM2,FALSE),IF(OR($B$3=\"3 (tiga)\",$B$3=\"4 (empat)\"),HLOOKUP($C$3,TABMAPEL_XI,DBLOGIC!EM2,FALSE),IF(OR($B$3=\"5 (lima)\",$B$3=\"6 (enam)\"),HLOOKUP($C$3,TABMAPEL_XII,DBLOGIC!EM2,FALSE),IF(OR($B$3=\"7 (tujuh)\",$B$3=\"8 (delapan)\"),HLOOKUP($C$3,TABMAPEL_XIII,DBLOGIC!EM2,FALSE),0))))","v":"Pemeliharaan Kelistrikan Sepeda Motor"},{"$f":"IF(OR($B$3=\"1 (satu)\",$B$3=\"2 (dua)\"),HLOOKUP($C$3,TABMAPEL_X,DBLOGIC!EN2,FALSE),IF(OR($B$3=\"3 (tiga)\",$B$3=\"4 (empat)\"),HLOOKUP($C$3,TABMAPEL_XI,DBLOGIC!EN2,FALSE),IF(OR($B$3=\"5 (lima)\",$B$3=\"6 (enam)\"),HLOOKUP($C$3,TABMAPEL_XII,DBLOGIC!EN2,FALSE),IF(OR($B$3=\"7 (tujuh)\",$B$3=\"8 (delapan)\"),HLOOKUP($C$3,TABMAPEL_XIII,DBLOGIC!EN2,FALSE),0))))","v":"Pemeliharaan Kelistrikan Sepeda Motor"},{"$f":"IF(OR($B$3=\"1 (satu)\",$B$3=\"2 (dua)\"),HLOOKUP($C$3,TABMAPEL_X,DBLOGIC!EO2,FALSE),IF(OR($B$3=\"3 (tiga)\",$B$3=\"4 (empat)\"),HLOOKUP($C$3,TABMAPEL_XI,DBLOGIC!EO2,FALSE),IF(OR($B$3=\"5 (lima)\",$B$3=\"6 (enam)\"),HLOOKUP($C$3,TABMAPEL_XII,DBLOGIC!EO2,FALSE),IF(OR($B$3=\"7 (tujuh)\",$B$3=\"8 (delapan)\"),HLOOKUP($C$3,TABMAPEL_XIII,DBLOGIC!EO2,FALSE),0))))","v":"Pemeliharaan Kelistrikan Sepeda Motor"},{"$f":"IF(OR($B$3=\"1 (satu)\",$B$3=\"2 (dua)\"),HLOOKUP($C$3,TABMAPEL_X,DBLOGIC!EP2,FALSE),IF(OR($B$3=\"3 (tiga)\",$B$3=\"4 (empat)\"),HLOOKUP($C$3,TABMAPEL_XI,DBLOGIC!EP2,FALSE),IF(OR($B$3=\"5 (lima)\",$B$3=\"6 (enam)\"),HLOOKUP($C$3,TABMAPEL_XII,DBLOGIC!EP2,FALSE),IF(OR($B$3=\"7 (tujuh)\",$B$3=\"8 (delapan)\"),HLOOKUP($C$3,TABMAPEL_XIII,DBLOGIC!EP2,FALSE),0))))","v":"Pemeliharaan Kelistrikan Sepeda Motor"},{"$f":"IF(OR($B$3=\"1 (satu)\",$B$3=\"2 (dua)\"),HLOOKUP($C$3,TABMAPEL_X,DBLOGIC!EQ2,FALSE),IF(OR($B$3=\"3 (tiga)\",$B$3=\"4 (empat)\"),HLOOKUP($C$3,TABMAPEL_XI,DBLOGIC!EQ2,FALSE),IF(OR($B$3=\"5 (lima)\",$B$3=\"6 (enam)\"),HLOOKUP($C$3,TABMAPEL_XII,DBLOGIC!EQ2,FALSE),IF(OR($B$3=\"7 (tujuh)\",$B$3=\"8 (delapan)\"),HLOOKUP($C$3,TABMAPEL_XIII,DBLOGIC!EQ2,FALSE),0))))","v":"Pemeliharaan Kelistrikan Sepeda Motor"},{"$f":"IF(OR($B$3=\"1 (satu)\",$B$3=\"2 (dua)\"),HLOOKUP($C$3,TABMAPEL_X,DBLOGIC!ER2,FALSE),IF(OR($B$3=\"3 (tiga)\",$B$3=\"4 (empat)\"),HLOOKUP($C$3,TABMAPEL_XI,DBLOGIC!ER2,FALSE),IF(OR($B$3=\"5 (lima)\",$B$3=\"6 (enam)\"),HLOOKUP($C$3,TABMAPEL_XII,DBLOGIC!ER2,FALSE),IF(OR($B$3=\"7 (tujuh)\",$B$3=\"8 (delapan)\"),HLOOKUP($C$3,TABMAPEL_XIII,DBLOGIC!ER2,FALSE),0))))","v":"Pemeliharaan Kelistrikan Sepeda Motor"},{"$f":"IF(OR($B$3=\"1 (satu)\",$B$3=\"2 (dua)\"),HLOOKUP($C$3,TABMAPEL_X,DBLOGIC!ES2,FALSE),IF(OR($B$3=\"3 (tiga)\",$B$3=\"4 (empat)\"),HLOOKUP($C$3,TABMAPEL_XI,DBLOGIC!ES2,FALSE),IF(OR($B$3=\"5 (lima)\",$B$3=\"6 (enam)\"),HLOOKUP($C$3,TABMAPEL_XII,DBLOGIC!ES2,FALSE),IF(OR($B$3=\"7 (tujuh)\",$B$3=\"8 (delapan)\"),HLOOKUP($C$3,TABMAPEL_XIII,DBLOGIC!ES2,FALSE),0))))","v":"Pemeliharaan Kelistrikan Sepeda Motor"},{"$f":"IF(OR($B$3=\"1 (satu)\",$B$3=\"2 (dua)\"),HLOOKUP($C$3,TABMAPEL_X,DBLOGIC!ET2,FALSE),IF(OR($B$3=\"3 (tiga)\",$B$3=\"4 (empat)\"),HLOOKUP($C$3,TABMAPEL_XI,DBLOGIC!ET2,FALSE),IF(OR($B$3=\"5 (lima)\",$B$3=\"6 (enam)\"),HLOOKUP($C$3,TABMAPEL_XII,DBLOGIC!ET2,FALSE),IF(OR($B$3=\"7 (tujuh)\",$B$3=\"8 (delapan)\"),HLOOKUP($C$3,TABMAPEL_XIII,DBLOGIC!ET2,FALSE),0))))","v":"Pengelolaan Bengkel Sepeda Motor"},{"$f":"IF(OR($B$3=\"1 (satu)\",$B$3=\"2 (dua)\"),HLOOKUP($C$3,TABMAPEL_X,DBLOGIC!EU2,FALSE),IF(OR($B$3=\"3 (tiga)\",$B$3=\"4 (empat)\"),HLOOKUP($C$3,TABMAPEL_XI,DBLOGIC!EU2,FALSE),IF(OR($B$3=\"5 (lima)\",$B$3=\"6 (enam)\"),HLOOKUP($C$3,TABMAPEL_XII,DBLOGIC!EU2,FALSE),IF(OR($B$3=\"7 (tujuh)\",$B$3=\"8 (delapan)\"),HLOOKUP($C$3,TABMAPEL_XIII,DBLOGIC!EU2,FALSE),0))))","v":"Pengelolaan Bengkel Sepeda Motor"},{"$f":"IF(OR($B$3=\"1 (satu)\",$B$3=\"2 (dua)\"),HLOOKUP($C$3,TABMAPEL_X,DBLOGIC!EV2,FALSE),IF(OR($B$3=\"3 (tiga)\",$B$3=\"4 (empat)\"),HLOOKUP($C$3,TABMAPEL_XI,DBLOGIC!EV2,FALSE),IF(OR($B$3=\"5 (lima)\",$B$3=\"6 (enam)\"),HLOOKUP($C$3,TABMAPEL_XII,DBLOGIC!EV2,FALSE),IF(OR($B$3=\"7 (tujuh)\",$B$3=\"8 (delapan)\"),HLOOKUP($C$3,TABMAPEL_XIII,DBLOGIC!EV2,FALSE),0))))","v":"Pengelolaan Bengkel Sepeda Motor"},{"$f":"IF(OR($B$3=\"1 (satu)\",$B$3=\"2 (dua)\"),HLOOKUP($C$3,TABMAPEL_X,DBLOGIC!EW2,FALSE),IF(OR($B$3=\"3 (tiga)\",$B$3=\"4 (empat)\"),HLOOKUP($C$3,TABMAPEL_XI,DBLOGIC!EW2,FALSE),IF(OR($B$3=\"5 (lima)\",$B$3=\"6 (enam)\"),HLOOKUP($C$3,TABMAPEL_XII,DBLOGIC!EW2,FALSE),IF(OR($B$3=\"7 (tujuh)\",$B$3=\"8 (delapan)\"),HLOOKUP($C$3,TABMAPEL_XIII,DBLOGIC!EW2,FALSE),0))))","v":"Pengelolaan Bengkel Sepeda Motor"},{"$f":"IF(OR($B$3=\"1 (satu)\",$B$3=\"2 (dua)\"),HLOOKUP($C$3,TABMAPEL_X,DBLOGIC!EX2,FALSE),IF(OR($B$3=\"3 (tiga)\",$B$3=\"4 (empat)\"),HLOOKUP($C$3,TABMAPEL_XI,DBLOGIC!EX2,FALSE),IF(OR($B$3=\"5 (lima)\",$B$3=\"6 (enam)\"),HLOOKUP($C$3,TABMAPEL_XII,DBLOGIC!EX2,FALSE),IF(OR($B$3=\"7 (tujuh)\",$B$3=\"8 (delapan)\"),HLOOKUP($C$3,TABMAPEL_XIII,DBLOGIC!EX2,FALSE),0))))","v":"Pengelolaan Bengkel Sepeda Motor"},{"$f":"IF(OR($B$3=\"1 (satu)\",$B$3=\"2 (dua)\"),HLOOKUP($C$3,TABMAPEL_X,DBLOGIC!EY2,FALSE),IF(OR($B$3=\"3 (tiga)\",$B$3=\"4 (empat)\"),HLOOKUP($C$3,TABMAPEL_XI,DBLOGIC!EY2,FALSE),IF(OR($B$3=\"5 (lima)\",$B$3=\"6 (enam)\"),HLOOKUP($C$3,TABMAPEL_XII,DBLOGIC!EY2,FALSE),IF(OR($B$3=\"7 (tujuh)\",$B$3=\"8 (delapan)\"),HLOOKUP($C$3,TABMAPEL_XIII,DBLOGIC!EY2,FALSE),0))))","v":"Pengelolaan Bengkel Sepeda Motor"},{"$f":"IF(OR($B$3=\"1 (satu)\",$B$3=\"2 (dua)\"),HLOOKUP($C$3,TABMAPEL_X,DBLOGIC!EZ2,FALSE),IF(OR($B$3=\"3 (tiga)\",$B$3=\"4 (empat)\"),HLOOKUP($C$3,TABMAPEL_XI,DBLOGIC!EZ2,FALSE),IF(OR($B$3=\"5 (lima)\",$B$3=\"6 (enam)\"),HLOOKUP($C$3,TABMAPEL_XII,DBLOGIC!EZ2,FALSE),IF(OR($B$3=\"7 (tujuh)\",$B$3=\"8 (delapan)\"),HLOOKUP($C$3,TABMAPEL_XIII,DBLOGIC!EZ2,FALSE),0))))","v":"Pengelolaan Bengkel Sepeda Motor"},{"$f":"IF(OR($B$3=\"1 (satu)\",$B$3=\"2 (dua)\"),HLOOKUP($C$3,TABMAPEL_X,DBLOGIC!FA2,FALSE),IF(OR($B$3=\"3 (tiga)\",$B$3=\"4 (empat)\"),HLOOKUP($C$3,TABMAPEL_XI,DBLOGIC!FA2,FALSE),IF(OR($B$3=\"5 (lima)\",$B$3=\"6 (enam)\"),HLOOKUP($C$3,TABMAPEL_XII,DBLOGIC!FA2,FALSE),IF(OR($B$3=\"7 (tujuh)\",$B$3=\"8 (delapan)\"),HLOOKUP($C$3,TABMAPEL_XIII,DBLOGIC!FA2,FALSE),0))))","v":"-"},{"$f":"IF(OR($B$3=\"1 (satu)\",$B$3=\"2 (dua)\"),HLOOKUP($C$3,TABMAPEL_X,DBLOGIC!FB2,FALSE),IF(OR($B$3=\"3 (tiga)\",$B$3=\"4 (empat)\"),HLOOKUP($C$3,TABMAPEL_XI,DBLOGIC!FB2,FALSE),IF(OR($B$3=\"5 (lima)\",$B$3=\"6 (enam)\"),HLOOKUP($C$3,TABMAPEL_XII,DBLOGIC!FB2,FALSE),IF(OR($B$3=\"7 (tujuh)\",$B$3=\"8 (delapan)\"),HLOOKUP($C$3,TABMAPEL_XIII,DBLOGIC!FB2,FALSE),0))))","v":"-"},{"$f":"IF(OR($B$3=\"1 (satu)\",$B$3=\"2 (dua)\"),HLOOKUP($C$3,TABMAPEL_X,DBLOGIC!FC2,FALSE),IF(OR($B$3=\"3 (tiga)\",$B$3=\"4 (empat)\"),HLOOKUP($C$3,TABMAPEL_XI,DBLOGIC!FC2,FALSE),IF(OR($B$3=\"5 (lima)\",$B$3=\"6 (enam)\"),HLOOKUP($C$3,TABMAPEL_XII,DBLOGIC!FC2,FALSE),IF(OR($B$3=\"7 (tujuh)\",$B$3=\"8 (delapan)\"),HLOOKUP($C$3,TABMAPEL_XIII,DBLOGIC!FC2,FALSE),0))))","v":"-"},{"$f":"IF(OR($B$3=\"1 (satu)\",$B$3=\"2 (dua)\"),HLOOKUP($C$3,TABMAPEL_X,DBLOGIC!FD2,FALSE),IF(OR($B$3=\"3 (tiga)\",$B$3=\"4 (empat)\"),HLOOKUP($C$3,TABMAPEL_XI,DBLOGIC!FD2,FALSE),IF(OR($B$3=\"5 (lima)\",$B$3=\"6 (enam)\"),HLOOKUP($C$3,TABMAPEL_XII,DBLOGIC!FD2,FALSE),IF(OR($B$3=\"7 (tujuh)\",$B$3=\"8 (delapan)\"),HLOOKUP($C$3,TABMAPEL_XIII,DBLOGIC!FD2,FALSE),0))))","v":"-"},{"$f":"IF(OR($B$3=\"1 (satu)\",$B$3=\"2 (dua)\"),HLOOKUP($C$3,TABMAPEL_X,DBLOGIC!FE2,FALSE),IF(OR($B$3=\"3 (tiga)\",$B$3=\"4 (empat)\"),HLOOKUP($C$3,TABMAPEL_XI,DBLOGIC!FE2,FALSE),IF(OR($B$3=\"5 (lima)\",$B$3=\"6 (enam)\"),HLOOKUP($C$3,TABMAPEL_XII,DBLOGIC!FE2,FALSE),IF(OR($B$3=\"7 (tujuh)\",$B$3=\"8 (delapan)\"),HLOOKUP($C$3,TABMAPEL_XIII,DBLOGIC!FE2,FALSE),0))))","v":"-"},{"$f":"IF(OR($B$3=\"1 (satu)\",$B$3=\"2 (dua)\"),HLOOKUP($C$3,TABMAPEL_X,DBLOGIC!FF2,FALSE),IF(OR($B$3=\"3 (tiga)\",$B$3=\"4 (empat)\"),HLOOKUP($C$3,TABMAPEL_XI,DBLOGIC!FF2,FALSE),IF(OR($B$3=\"5 (lima)\",$B$3=\"6 (enam)\"),HLOOKUP($C$3,TABMAPEL_XII,DBLOGIC!FF2,FALSE),IF(OR($B$3=\"7 (tujuh)\",$B$3=\"8 (delapan)\"),HLOOKUP($C$3,TABMAPEL_XIII,DBLOGIC!FF2,FALSE),0))))","v":"-"},{"$f":"IF(OR($B$3=\"1 (satu)\",$B$3=\"2 (dua)\"),HLOOKUP($C$3,TABMAPEL_X,DBLOGIC!FG2,FALSE),IF(OR($B$3=\"3 (tiga)\",$B$3=\"4 (empat)\"),HLOOKUP($C$3,TABMAPEL_XI,DBLOGIC!FG2,FALSE),IF(OR($B$3=\"5 (lima)\",$B$3=\"6 (enam)\"),HLOOKUP($C$3,TABMAPEL_XII,DBLOGIC!FG2,FALSE),IF(OR($B$3=\"7 (tujuh)\",$B$3=\"8 (delapan)\"),HLOOKUP($C$3,TABMAPEL_XIII,DBLOGIC!FG2,FALSE),0))))","v":"-"},{"$f":"IF(OR($B$3=\"1 (satu)\",$B$3=\"2 (dua)\"),HLOOKUP($C$3,TABMAPEL_X,DBLOGIC!FH2,FALSE),IF(OR($B$3=\"3 (tiga)\",$B$3=\"4 (empat)\"),HLOOKUP($C$3,TABMAPEL_XI,DBLOGIC!FH2,FALSE),IF(OR($B$3=\"5 (lima)\",$B$3=\"6 (enam)\"),HLOOKUP($C$3,TABMAPEL_XII,DBLOGIC!FH2,FALSE),IF(OR($B$3=\"7 (tujuh)\",$B$3=\"8 (delapan)\"),HLOOKUP($C$3,TABMAPEL_XIII,DBLOGIC!FH2,FALSE),0))))","v":"Produk Kreatif dan Kewirausahaan "},{"$f":"IF(OR($B$3=\"1 (satu)\",$B$3=\"2 (dua)\"),HLOOKUP($C$3,TABMAPEL_X,DBLOGIC!FI2,FALSE),IF(OR($B$3=\"3 (tiga)\",$B$3=\"4 (empat)\"),HLOOKUP($C$3,TABMAPEL_XI,DBLOGIC!FI2,FALSE),IF(OR($B$3=\"5 (lima)\",$B$3=\"6 (enam)\"),HLOOKUP($C$3,TABMAPEL_XII,DBLOGIC!FI2,FALSE),IF(OR($B$3=\"7 (tujuh)\",$B$3=\"8 (delapan)\"),HLOOKUP($C$3,TABMAPEL_XIII,DBLOGIC!FI2,FALSE),0))))","v":"Produk Kreatif dan Kewirausahaan "},{"$f":"IF(OR($B$3=\"1 (satu)\",$B$3=\"2 (dua)\"),HLOOKUP($C$3,TABMAPEL_X,DBLOGIC!FJ2,FALSE),IF(OR($B$3=\"3 (tiga)\",$B$3=\"4 (empat)\"),HLOOKUP($C$3,TABMAPEL_XI,DBLOGIC!FJ2,FALSE),IF(OR($B$3=\"5 (lima)\",$B$3=\"6 (enam)\"),HLOOKUP($C$3,TABMAPEL_XII,DBLOGIC!FJ2,FALSE),IF(OR($B$3=\"7 (tujuh)\",$B$3=\"8 (delapan)\"),HLOOKUP($C$3,TABMAPEL_XIII,DBLOGIC!FJ2,FALSE),0))))","v":"Produk Kreatif dan Kewirausahaan "},{"$f":"IF(OR($B$3=\"1 (satu)\",$B$3=\"2 (dua)\"),HLOOKUP($C$3,TABMAPEL_X,DBLOGIC!FK2,FALSE),IF(OR($B$3=\"3 (tiga)\",$B$3=\"4 (empat)\"),HLOOKUP($C$3,TABMAPEL_XI,DBLOGIC!FK2,FALSE),IF(OR($B$3=\"5 (lima)\",$B$3=\"6 (enam)\"),HLOOKUP($C$3,TABMAPEL_XII,DBLOGIC!FK2,FALSE),IF(OR($B$3=\"7 (tujuh)\",$B$3=\"8 (delapan)\"),HLOOKUP($C$3,TABMAPEL_XIII,DBLOGIC!FK2,FALSE),0))))","v":"Produk Kreatif dan Kewirausahaan "},{"$f":"IF(OR($B$3=\"1 (satu)\",$B$3=\"2 (dua)\"),HLOOKUP($C$3,TABMAPEL_X,DBLOGIC!FL2,FALSE),IF(OR($B$3=\"3 (tiga)\",$B$3=\"4 (empat)\"),HLOOKUP($C$3,TABMAPEL_XI,DBLOGIC!FL2,FALSE),IF(OR($B$3=\"5 (lima)\",$B$3=\"6 (enam)\"),HLOOKUP($C$3,TABMAPEL_XII,DBLOGIC!FL2,FALSE),IF(OR($B$3=\"7 (tujuh)\",$B$3=\"8 (delapan)\"),HLOOKUP($C$3,TABMAPEL_XIII,DBLOGIC!FL2,FALSE),0))))","v":"Produk Kreatif dan Kewirausahaan "},{"$f":"IF(OR($B$3=\"1 (satu)\",$B$3=\"2 (dua)\"),HLOOKUP($C$3,TABMAPEL_X,DBLOGIC!FM2,FALSE),IF(OR($B$3=\"3 (tiga)\",$B$3=\"4 (empat)\"),HLOOKUP($C$3,TABMAPEL_XI,DBLOGIC!FM2,FALSE),IF(OR($B$3=\"5 (lima)\",$B$3=\"6 (enam)\"),HLOOKUP($C$3,TABMAPEL_XII,DBLOGIC!FM2,FALSE),IF(OR($B$3=\"7 (tujuh)\",$B$3=\"8 (delapan)\"),HLOOKUP($C$3,TABMAPEL_XIII,DBLOGIC!FM2,FALSE),0))))","v":"Produk Kreatif dan Kewirausahaan "},{"$f":"IF(OR($B$3=\"1 (satu)\",$B$3=\"2 (dua)\"),HLOOKUP($C$3,TABMAPEL_X,DBLOGIC!FN2,FALSE),IF(OR($B$3=\"3 (tiga)\",$B$3=\"4 (empat)\"),HLOOKUP($C$3,TABMAPEL_XI,DBLOGIC!FN2,FALSE),IF(OR($B$3=\"5 (lima)\",$B$3=\"6 (enam)\"),HLOOKUP($C$3,TABMAPEL_XII,DBLOGIC!FN2,FALSE),IF(OR($B$3=\"7 (tujuh)\",$B$3=\"8 (delapan)\"),HLOOKUP($C$3,TABMAPEL_XIII,DBLOGIC!FN2,FALSE),0))))","v":"Produk Kreatif dan Kewirausahaan "},{"$f":"IF(OR($B$3=\"1 (satu)\",$B$3=\"2 (dua)\"),HLOOKUP($C$3,TABMAPEL_X,DBLOGIC!FO2,FALSE),IF(OR($B$3=\"3 (tiga)\",$B$3=\"4 (empat)\"),HLOOKUP($C$3,TABMAPEL_XI,DBLOGIC!FO2,FALSE),IF(OR($B$3=\"5 (lima)\",$B$3=\"6 (enam)\"),HLOOKUP($C$3,TABMAPEL_XII,DBLOGIC!FO2,FALSE),IF(OR($B$3=\"7 (tujuh)\",$B$3=\"8 (delapan)\"),HLOOKUP($C$3,TABMAPEL_XIII,DBLOGIC!FO2,FALSE),0))))","v":"-"},{"$f":"IF(OR($B$3=\"1 (satu)\",$B$3=\"2 (dua)\"),HLOOKUP($C$3,TABMAPEL_X,DBLOGIC!FP2,FALSE),IF(OR($B$3=\"3 (tiga)\",$B$3=\"4 (empat)\"),HLOOKUP($C$3,TABMAPEL_XI,DBLOGIC!FP2,FALSE),IF(OR($B$3=\"5 (lima)\",$B$3=\"6 (enam)\"),HLOOKUP($C$3,TABMAPEL_XII,DBLOGIC!FP2,FALSE),IF(OR($B$3=\"7 (tujuh)\",$B$3=\"8 (delapan)\"),HLOOKUP($C$3,TABMAPEL_XIII,DBLOGIC!FP2,FALSE),0))))","v":"-"},{"$f":"IF(OR($B$3=\"1 (satu)\",$B$3=\"2 (dua)\"),HLOOKUP($C$3,TABMAPEL_X,DBLOGIC!FQ2,FALSE),IF(OR($B$3=\"3 (tiga)\",$B$3=\"4 (empat)\"),HLOOKUP($C$3,TABMAPEL_XI,DBLOGIC!FQ2,FALSE),IF(OR($B$3=\"5 (lima)\",$B$3=\"6 (enam)\"),HLOOKUP($C$3,TABMAPEL_XII,DBLOGIC!FQ2,FALSE),IF(OR($B$3=\"7 (tujuh)\",$B$3=\"8 (delapan)\"),HLOOKUP($C$3,TABMAPEL_XIII,DBLOGIC!FQ2,FALSE),0))))","v":"-"},{"$f":"IF(OR($B$3=\"1 (satu)\",$B$3=\"2 (dua)\"),HLOOKUP($C$3,TABMAPEL_X,DBLOGIC!FR2,FALSE),IF(OR($B$3=\"3 (tiga)\",$B$3=\"4 (empat)\"),HLOOKUP($C$3,TABMAPEL_XI,DBLOGIC!FR2,FALSE),IF(OR($B$3=\"5 (lima)\",$B$3=\"6 (enam)\"),HLOOKUP($C$3,TABMAPEL_XII,DBLOGIC!FR2,FALSE),IF(OR($B$3=\"7 (tujuh)\",$B$3=\"8 (delapan)\"),HLOOKUP($C$3,TABMAPEL_XIII,DBLOGIC!FR2,FALSE),0))))","v":"-"},{"$f":"IF(OR($B$3=\"1 (satu)\",$B$3=\"2 (dua)\"),HLOOKUP($C$3,TABMAPEL_X,DBLOGIC!FS2,FALSE),IF(OR($B$3=\"3 (tiga)\",$B$3=\"4 (empat)\"),HLOOKUP($C$3,TABMAPEL_XI,DBLOGIC!FS2,FALSE),IF(OR($B$3=\"5 (lima)\",$B$3=\"6 (enam)\"),HLOOKUP($C$3,TABMAPEL_XII,DBLOGIC!FS2,FALSE),IF(OR($B$3=\"7 (tujuh)\",$B$3=\"8 (delapan)\"),HLOOKUP($C$3,TABMAPEL_XIII,DBLOGIC!FS2,FALSE),0))))","v":"-"},{"$f":"IF(OR($B$3=\"1 (satu)\",$B$3=\"2 (dua)\"),HLOOKUP($C$3,TABMAPEL_X,DBLOGIC!FT2,FALSE),IF(OR($B$3=\"3 (tiga)\",$B$3=\"4 (empat)\"),HLOOKUP($C$3,TABMAPEL_XI,DBLOGIC!FT2,FALSE),IF(OR($B$3=\"5 (lima)\",$B$3=\"6 (enam)\"),HLOOKUP($C$3,TABMAPEL_XII,DBLOGIC!FT2,FALSE),IF(OR($B$3=\"7 (tujuh)\",$B$3=\"8 (delapan)\"),HLOOKUP($C$3,TABMAPEL_XIII,DBLOGIC!FT2,FALSE),0))))","v":"-"},{"$f":"IF(OR($B$3=\"1 (satu)\",$B$3=\"2 (dua)\"),HLOOKUP($C$3,TABMAPEL_X,DBLOGIC!FU2,FALSE),IF(OR($B$3=\"3 (tiga)\",$B$3=\"4 (empat)\"),HLOOKUP($C$3,TABMAPEL_XI,DBLOGIC!FU2,FALSE),IF(OR($B$3=\"5 (lima)\",$B$3=\"6 (enam)\"),HLOOKUP($C$3,TABMAPEL_XII,DBLOGIC!FU2,FALSE),IF(OR($B$3=\"7 (tujuh)\",$B$3=\"8 (delapan)\"),HLOOKUP($C$3,TABMAPEL_XIII,DBLOGIC!FU2,FALSE),0))))","v":"-"},{"$f":"IF(OR($B$3=\"1 (satu)\",$B$3=\"2 (dua)\"),HLOOKUP($C$3,TABMAPEL_X,DBLOGIC!FV2,FALSE),IF(OR($B$3=\"3 (tiga)\",$B$3=\"4 (empat)\"),HLOOKUP($C$3,TABMAPEL_XI,DBLOGIC!FV2,FALSE),IF(OR($B$3=\"5 (lima)\",$B$3=\"6 (enam)\"),HLOOKUP($C$3,TABMAPEL_XII,DBLOGIC!FV2,FALSE),IF(OR($B$3=\"7 (tujuh)\",$B$3=\"8 (delapan)\"),HLOOKUP($C$3,TABMAPEL_XIII,DBLOGIC!FV2,FALSE),0))))","v":"-"},{"$f":"IF(OR($B$3=\"1 (satu)\",$B$3=\"2 (dua)\"),HLOOKUP($C$3,TABMAPEL_X,DBLOGIC!FW2,FALSE),IF(OR($B$3=\"3 (tiga)\",$B$3=\"4 (empat)\"),HLOOKUP($C$3,TABMAPEL_XI,DBLOGIC!FW2,FALSE),IF(OR($B$3=\"5 (lima)\",$B$3=\"6 (enam)\"),HLOOKUP($C$3,TABMAPEL_XII,DBLOGIC!FW2,FALSE),IF(OR($B$3=\"7 (tujuh)\",$B$3=\"8 (delapan)\"),HLOOKUP($C$3,TABMAPEL_XIII,DBLOGIC!FW2,FALSE),0))))","v":"-"},{"$f":"IF(OR($B$3=\"1 (satu)\",$B$3=\"2 (dua)\"),HLOOKUP($C$3,TABMAPEL_X,DBLOGIC!FX2,FALSE),IF(OR($B$3=\"3 (tiga)\",$B$3=\"4 (empat)\"),HLOOKUP($C$3,TABMAPEL_XI,DBLOGIC!FX2,FALSE),IF(OR($B$3=\"5 (lima)\",$B$3=\"6 (enam)\"),HLOOKUP($C$3,TABMAPEL_XII,DBLOGIC!FX2,FALSE),IF(OR($B$3=\"7 (tujuh)\",$B$3=\"8 (delapan)\"),HLOOKUP($C$3,TABMAPEL_XIII,DBLOGIC!FX2,FALSE),0))))","v":"-"},{"$f":"IF(OR($B$3=\"1 (satu)\",$B$3=\"2 (dua)\"),HLOOKUP($C$3,TABMAPEL_X,DBLOGIC!FY2,FALSE),IF(OR($B$3=\"3 (tiga)\",$B$3=\"4 (empat)\"),HLOOKUP($C$3,TABMAPEL_XI,DBLOGIC!FY2,FALSE),IF(OR($B$3=\"5 (lima)\",$B$3=\"6 (enam)\"),HLOOKUP($C$3,TABMAPEL_XII,DBLOGIC!FY2,FALSE),IF(OR($B$3=\"7 (tujuh)\",$B$3=\"8 (delapan)\"),HLOOKUP($C$3,TABMAPEL_XIII,DBLOGIC!FY2,FALSE),0))))","v":"-"},{"$f":"IF(OR($B$3=\"1 (satu)\",$B$3=\"2 (dua)\"),HLOOKUP($C$3,TABMAPEL_X,DBLOGIC!FZ2,FALSE),IF(OR($B$3=\"3 (tiga)\",$B$3=\"4 (empat)\"),HLOOKUP($C$3,TABMAPEL_XI,DBLOGIC!FZ2,FALSE),IF(OR($B$3=\"5 (lima)\",$B$3=\"6 (enam)\"),HLOOKUP($C$3,TABMAPEL_XII,DBLOGIC!FZ2,FALSE),IF(OR($B$3=\"7 (tujuh)\",$B$3=\"8 (delapan)\"),HLOOKUP($C$3,TABMAPEL_XIII,DBLOGIC!FZ2,FALSE),0))))","v":"-"},{"$f":"IF(OR($B$3=\"1 (satu)\",$B$3=\"2 (dua)\"),HLOOKUP($C$3,TABMAPEL_X,DBLOGIC!GA2,FALSE),IF(OR($B$3=\"3 (tiga)\",$B$3=\"4 (empat)\"),HLOOKUP($C$3,TABMAPEL_XI,DBLOGIC!GA2,FALSE),IF(OR($B$3=\"5 (lima)\",$B$3=\"6 (enam)\"),HLOOKUP($C$3,TABMAPEL_XII,DBLOGIC!GA2,FALSE),IF(OR($B$3=\"7 (tujuh)\",$B$3=\"8 (delapan)\"),HLOOKUP($C$3,TABMAPEL_XIII,DBLOGIC!GA2,FALSE),0))))","v":"-"},{"$f":"IF(OR($B$3=\"1 (satu)\",$B$3=\"2 (dua)\"),HLOOKUP($C$3,TABMAPEL_X,DBLOGIC!GB2,FALSE),IF(OR($B$3=\"3 (tiga)\",$B$3=\"4 (empat)\"),HLOOKUP($C$3,TABMAPEL_XI,DBLOGIC!GB2,FALSE),IF(OR($B$3=\"5 (lima)\",$B$3=\"6 (enam)\"),HLOOKUP($C$3,TABMAPEL_XII,DBLOGIC!GB2,FALSE),IF(OR($B$3=\"7 (tujuh)\",$B$3=\"8 (delapan)\"),HLOOKUP($C$3,TABMAPEL_XIII,DBLOGIC!GB2,FALSE),0))))","v":"-"},null,"Bimbingan dan Konseling","Catatan Aakdemik"]
["Semester  :","6 (enam)",{"$f":"IF(OR(B3=\"1 (satu)\",B3=\"2 (dua)\"),\"X \"&MENU!F8,IF(OR(B3=\"3 (tiga)\",B3=\"4 (empat)\"),\"XI \"&MENU!F8,IF(OR(B3=\"5 (lima)\",B3=\"6 (enam)\"),\"XII \"&MENU!F8,IF(OR(B3=\"7 (tujuh)\",B3=\"8 (delapan)\"),\"XIII \"&MENU!F8,\"\"))))","v":"XII TBSM"},{"$f":"HLOOKUP(\"KEL\",TABMAPEL_X,DBLOGIC!Q2,FALSE)","v":"A"},{"$f":"HLOOKUP(\"KEL\",TABMAPEL_X,DBLOGIC!R2,FALSE)","v":"A"},{"$f":"HLOOKUP(\"KEL\",TABMAPEL_X,DBLOGIC!S2,FALSE)","v":"A"},{"$f":"HLOOKUP(\"KEL\",TABMAPEL_X,DBLOGIC!T2,FALSE)","v":"A"},{"$f":"HLOOKUP(\"KEL\",TABMAPEL_X,DBLOGIC!U2,FALSE)","v":"A"},{"$f":"HLOOKUP(\"KEL\",TABMAPEL_X,DBLOGIC!V2,FALSE)","v":"A"},{"$f":"HLOOKUP(\"KEL\",TABMAPEL_X,DBLOGIC!W2,FALSE)","v":"A"},{"$f":"HLOOKUP(\"KEL\",TABMAPEL_X,DBLOGIC!X2,FALSE)","v":"A"},{"$f":"HLOOKUP(\"KEL\",TABMAPEL_X,DBLOGIC!Y2,FALSE)","v":"A"},{"$f":"HLOOKUP(\"KEL\",TABMAPEL_X,DBLOGIC!Z2,FALSE)","v":"A"},{"$f":"HLOOKUP(\"KEL\",TABMAPEL_X,DBLOGIC!AA2,FALSE)","v":"A"},{"$f":"HLOOKUP(\"KEL\",TABMAPEL_X,DBLOGIC!AB2,FALSE)","v":"A"},{"$f":"HLOOKUP(\"KEL\",TABMAPEL_X,DBLOGIC!AC2,FALSE)","v":"A"},{"$f":"HLOOKUP(\"KEL\",TABMAPEL_X,DBLOGIC!AD2,FALSE)","v":"A"},{"$f":"HLOOKUP(\"KEL\",TABMAPEL_X,DBLOGIC!AE2,FALSE)","v":"A"},{"$f":"HLOOKUP(\"KEL\",TABMAPEL_X,DBLOGIC!AF2,FALSE)","v":"A"},{"$f":"HLOOKUP(\"KEL\",TABMAPEL_X,DBLOGIC!AG2,FALSE)","v":"A"},{"$f":"HLOOKUP(\"KEL\",TABMAPEL_X,DBLOGIC!AH2,FALSE)","v":"A"},{"$f":"HLOOKUP(\"KEL\",TABMAPEL_X,DBLOGIC!AI2,FALSE)","v":"A"},{"$f":"HLOOKUP(\"KEL\",TABMAPEL_X,DBLOGIC!AJ2,FALSE)","v":"A"},{"$f":"HLOOKUP(\"KEL\",TABMAPEL_X,DBLOGIC!AK2,FALSE)","v":"A"},{"$f":"HLOOKUP(\"KEL\",TABMAPEL_X,DBLOGIC!AL2,FALSE)","v":"A"},{"$f":"HLOOKUP(\"KEL\",TABMAPEL_X,DBLOGIC!AM2,FALSE)","v":"A"},{"$f":"HLOOKUP(\"KEL\",TABMAPEL_X,DBLOGIC!AN2,FALSE)","v":"A"},{"$f":"HLOOKUP(\"KEL\",TABMAPEL_X,DBLOGIC!AO2,FALSE)","v":"A"},{"$f":"HLOOKUP(\"KEL\",TABMAPEL_X,DBLOGIC!AP2,FALSE)","v":"A"},{"$f":"HLOOKUP(\"KEL\",TABMAPEL_X,DBLOGIC!AQ2,FALSE)","v":"A"},{"$f":"HLOOKUP(\"KEL\",TABMAPEL_X,DBLOGIC!AR2,FALSE)","v":"A"},{"$f":"HLOOKUP(\"KEL\",TABMAPEL_X,DBLOGIC!AS2,FALSE)","v":"A"},{"$f":"HLOOKUP(\"KEL\",TABMAPEL_X,DBLOGIC!AT2,FALSE)","v":"A"},{"$f":"HLOOKUP(\"KEL\",TABMAPEL_X,DBLOGIC!AU2,FALSE)","v":"A"},{"$f":"HLOOKUP(\"KEL\",TABMAPEL_X,DBLOGIC!AV2,FALSE)","v":"A"},{"$f":"HLOOKUP(\"KEL\",TABMAPEL_X,DBLOGIC!AW2,FALSE)","v":"A"},{"$f":"HLOOKUP(\"KEL\",TABMAPEL_X,DBLOGIC!AX2,FALSE)","v":"A"},{"$f":"HLOOKUP(\"KEL\",TABMAPEL_X,DBLOGIC!AY2,FALSE)","v":"A"},{"$f":"HLOOKUP(\"KEL\",TABMAPEL_X,DBLOGIC!AZ2,FALSE)","v":"A"},{"$f":"HLOOKUP(\"KEL\",TABMAPEL_X,DBLOGIC!BA2,FALSE)","v":"A"},{"$f":"HLOOKUP(\"KEL\",TABMAPEL_X,DBLOGIC!BB2,FALSE)","v":"A"},{"$f":"HLOOKUP(\"KEL\",TABMAPEL_X,DBLOGIC!BC2,FALSE)","v":"A"},{"$f":"HLOOKUP(\"KEL\",TABMAPEL_X,DBLOGIC!BD2,FALSE)","v":"A"},{"$f":"HLOOKUP(\"KEL\",TABMAPEL_X,DBLOGIC!BE2,FALSE)","v":"A"},{"$f":"HLOOKUP(\"KEL\",TABMAPEL_X,DBLOGIC!BF2,FALSE)","v":"A"},{"$f":"HLOOKUP(\"KEL\",TABMAPEL_X,DBLOGIC!BG2,FALSE)","v":"A"},{"$f":"HLOOKUP(\"KEL\",TABMAPEL_X,DBLOGIC!BH2,FALSE)","v":"A"},{"$f":"HLOOKUP(\"KEL\",TABMAPEL_X,DBLOGIC!BI2,FALSE)","v":"A"},{"$f":"HLOOKUP(\"KEL\",TABMAPEL_X,DBLOGIC!BJ2,FALSE)","v":"A"},{"$f":"HLOOKUP(\"KEL\",TABMAPEL_X,DBLOGIC!BK2,FALSE)","v":"A"},{"$f":"HLOOKUP(\"KEL\",TABMAPEL_X,DBLOGIC!BL2,FALSE)","v":"A"},{"$f":"HLOOKUP(\"KEL\",TABMAPEL_X,DBLOGIC!BM2,FALSE)","v":"A"},{"$f":"HLOOKUP(\"KEL\",TABMAPEL_X,DBLOGIC!BN2,FALSE)","v":"B"},{"$f":"HLOOKUP(\"KEL\",TABMAPEL_X,DBLOGIC!BO2,FALSE)","v":"B"},{"$f":"HLOOKUP(\"KEL\",TABMAPEL_X,DBLOGIC!BP2,FALSE)","v":"B"},{"$f":"HLOOKUP(\"KEL\",TABMAPEL_X,DBLOGIC!BQ2,FALSE)","v":"B"},{"$f":"HLOOKUP(\"KEL\",TABMAPEL_X,DBLOGIC!BR2,FALSE)","v":"B"},{"$f":"HLOOKUP(\"KEL\",TABMAPEL_X,DBLOGIC!BS2,FALSE)","v":"B"},{"$f":"HLOOKUP(\"KEL\",TABMAPEL_X,DBLOGIC!BT2,FALSE)","v":"B"},{"$f":"HLOOKUP(\"KEL\",TABMAPEL_X,DBLOGIC!BU2,FALSE)","v":"B"},{"$f":"HLOOKUP(\"KEL\",TABMAPEL_X,DBLOGIC!BV2,FALSE)","v":"B"},{"$f":"HLOOKUP(\"KEL\",TABMAPEL_X,DBLOGIC!BW2,FALSE)","v":"B"},{"$f":"HLOOKUP(\"KEL\",TABMAPEL_X,DBLOGIC!BX2,FALSE)","v":"B"},{"$f":"HLOOKUP(\"KEL\",TABMAPEL_X,DBLOGIC!BY2,FALSE)","v":"B"},{"$f":"HLOOKUP(\"KEL\",TABMAPEL_X,DBLOGIC!BZ2,FALSE)","v":"B"},{"$f":"HLOOKUP(\"KEL\",TABMAPEL_X,DBLOGIC!CA2,FALSE)","v":"B"},{"$f":"HLOOKUP(\"KEL\",TABMAPEL_X,DBLOGIC!CB2,FALSE)","v":"C1"},{"$f":"HLOOKUP(\"KEL\",TABMAPEL_X,DBLOGIC!CC2,FALSE)","v":"C1"},{"$f":"HLOOKUP(\"KEL\",TABMAPEL_X,DBLOGIC!CD2,FALSE)","v":"C1"},{"$f":"HLOOKUP(\"KEL\",TABMAPEL_X,DBLOGIC!CE2,FALSE)","v":"C1"},{"$f":"HLOOKUP(\"KEL\",TABMAPEL_X,DBLOGIC!CF2,FALSE)","v":"C1"},{"$f":"HLOOKUP(\"KEL\",TABMAPEL_X,DBLOGIC!CG2,FALSE)","v":"C1"},{"$f":"HLOOKUP(\"KEL\",TABMAPEL_X,DBLOGIC!CH2,FALSE)","v":"C1"},{"$f":"HLOOKUP(\"KEL\",TABMAPEL_X,DBLOGIC!CI2,FALSE)","v":"C1"},{"$f":"HLOOKUP(\"KEL\",TABMAPEL_X,DBLOGIC!CJ2,FALSE)","v":"C1"},{"$f":"HLOOKUP(\"KEL\",TABMAPEL_X,DBLOGIC!CK2,FALSE)","v":"C1"},{"$f":"HLOOKUP(\"KEL\",TABMAPEL_X,DBLOGIC!CL2,FALSE)","v":"C1"},{"$f":"HLOOKUP(\"KEL\",TABMAPEL_X,DBLOGIC!CM2,FALSE)","v":"C1"},{"$f":"HLOOKUP(\"KEL\",TABMAPEL_X,DBLOGIC!CN2,FALSE)","v":"C1"},{"$f":"HLOOKUP(\"KEL\",TABMAPEL_X,DBLOGIC!CO2,FALSE)","v":"C1"},{"$f":"HLOOKUP(\"KEL\",TABMAPEL_X,DBLOGIC!CP2,FALSE)","v":"C1"},{"$f":"HLOOKUP(\"KEL\",TABMAPEL_X,DBLOGIC!CQ2,FALSE)","v":"C1"},{"$f":"HLOOKUP(\"KEL\",TABMAPEL_X,DBLOGIC!CR2,FALSE)","v":"C1"},{"$f":"HLOOKUP(\"KEL\",TABMAPEL_X,DBLOGIC!CS2,FALSE)","v":"C1"},{"$f":"HLOOKUP(\"KEL\",TABMAPEL_X,DBLOGIC!CT2,FALSE)","v":"C1"},{"$f":"HLOOKUP(\"KEL\",TABMAPEL_X,DBLOGIC!CU2,FALSE)","v":"C1"},{"$f":"HLOOKUP(\"KEL\",TABMAPEL_X,DBLOGIC!CV2,FALSE)","v":"C1"},{"$f":"HLOOKUP(\"KEL\",TABMAPEL_X,DBLOGIC!CW2,FALSE)","v":"C2"},{"$f":"HLOOKUP(\"KEL\",TABMAPEL_X,DBLOGIC!CX2,FALSE)","v":"C2"},{"$f":"HLOOKUP(\"KEL\",TABMAPEL_X,DBLOGIC!CY2,FALSE)","v":"C2"},{"$f":"HLOOKUP(\"KEL\",TABMAPEL_X,DBLOGIC!CZ2,FALSE)","v":"C2"},{"$f":"HLOOKUP(\"KEL\",TABMAPEL_X,DBLOGIC!DA2,FALSE)","v":"C2"},{"$f":"HLOOKUP(\"KEL\",TABMAPEL_X,DBLOGIC!DB2,FALSE)","v":"C2"},{"$f":"HLOOKUP(\"KEL\",TABMAPEL_X,DBLOGIC!DC2,FALSE)","v":"C2"},{"$f":"HLOOKUP(\"KEL\",TABMAPEL_X,DBLOGIC!DD2,FALSE)","v":"C2"},{"$f":"HLOOKUP(\"KEL\",TABMAPEL_X,DBLOGIC!DE2,FALSE)","v":"C2"},{"$f":"HLOOKUP(\"KEL\",TABMAPEL_X,DBLOGIC!DF2,FALSE)","v":"C2"},{"$f":"HLOOKUP(\"KEL\",TABMAPEL_X,DBLOGIC!DG2,FALSE)","v":"C2"},{"$f":"HLOOKUP(\"KEL\",TABMAPEL_X,DBLOGIC!DH2,FALSE)","v":"C2"},{"$f":"HLOOKUP(\"KEL\",TABMAPEL_X,DBLOGIC!DI2,FALSE)","v":"C2"},{"$f":"HLOOKUP(\"KEL\",TABMAPEL_X,DBLOGIC!DJ2,FALSE)","v":"C2"},{"$f":"HLOOKUP(\"KEL\",TABMAPEL_X,DBLOGIC!DK2,FALSE)","v":"C2"},{"$f":"HLOOKUP(\"KEL\",TABMAPEL_X,DBLOGIC!DL2,FALSE)","v":"C2"},{"$f":"HLOOKUP(\"KEL\",TABMAPEL_X,DBLOGIC!DM2,FALSE)","v":"C2"},{"$f":"HLOOKUP(\"KEL\",TABMAPEL_X,DBLOGIC!DN2,FALSE)","v":"C2"},{"$f":"HLOOKUP(\"KEL\",TABMAPEL_X,DBLOGIC!DO2,FALSE)","v":"C2"},{"$f":"HLOOKUP(\"KEL\",TABMAPEL_X,DBLOGIC!DP2,FALSE)","v":"C2"},{"$f":"HLOOKUP(\"KEL\",TABMAPEL_X,DBLOGIC!DQ2,FALSE)","v":"C2"},{"$f":"HLOOKUP(\"KEL\",TABMAPEL_X,DBLOGIC!DR2,FALSE)","v":"C2"},{"$f":"HLOOKUP(\"KEL\",TABMAPEL_X,DBLOGIC!DS2,FALSE)","v":"C2"},{"$f":"HLOOKUP(\"KEL\",TABMAPEL_X,DBLOGIC!DT2,FALSE)","v":"C2"},{"$f":"HLOOKUP(\"KEL\",TABMAPEL_X,DBLOGIC!DU2,FALSE)","v":"C2"},{"$f":"HLOOKUP(\"KEL\",TABMAPEL_X,DBLOGIC!DV2,FALSE)","v":"C2"},{"$f":"HLOOKUP(\"KEL\",TABMAPEL_X,DBLOGIC!DW2,FALSE)","v":"C2"},{"$f":"HLOOKUP(\"KEL\",TABMAPEL_X,DBLOGIC!DX2,FALSE)","v":"C2"},{"$f":"HLOOKUP(\"KEL\",TABMAPEL_X,DBLOGIC!DY2,FALSE)","v":"C3"},{"$f":"HLOOKUP(\"KEL\",TABMAPEL_X,DBLOGIC!DZ2,FALSE)","v":"C3"},{"$f":"HLOOKUP(\"KEL\",TABMAPEL_X,DBLOGIC!EA2,FALSE)","v":"C3"},{"$f":"HLOOKUP(\"KEL\",TABMAPEL_X,DBLOGIC!EB2,FALSE)","v":"C3"},{"$f":"HLOOKUP(\"KEL\",TABMAPEL_X,DBLOGIC!EC2,FALSE)","v":"C3"},{"$f":"HLOOKUP(\"KEL\",TABMAPEL_X,DBLOGIC!ED2,FALSE)","v":"C3"},{"$f":"HLOOKUP(\"KEL\",TABMAPEL_X,DBLOGIC!EE2,FALSE)","v":"C3"},{"$f":"HLOOKUP(\"KEL\",TABMAPEL_X,DBLOGIC!EF2,FALSE)","v":"C3"},{"$f":"HLOOKUP(\"KEL\",TABMAPEL_X,DBLOGIC!EG2,FALSE)","v":"C3"},{"$f":"HLOOKUP(\"KEL\",TABMAPEL_X,DBLOGIC!EH2,FALSE)","v":"C3"},{"$f":"HLOOKUP(\"KEL\",TABMAPEL_X,DBLOGIC!EI2,FALSE)","v":"C3"},{"$f":"HLOOKUP(\"KEL\",TABMAPEL_X,DBLOGIC!EJ2,FALSE)","v":"C3"},{"$f":"HLOOKUP(\"KEL\",TABMAPEL_X,DBLOGIC!EK2,FALSE)","v":"C3"},{"$f":"HLOOKUP(\"KEL\",TABMAPEL_X,DBLOGIC!EL2,FALSE)","v":"C3"},{"$f":"HLOOKUP(\"KEL\",TABMAPEL_X,DBLOGIC!EM2,FALSE)","v":"C3"},{"$f":"HLOOKUP(\"KEL\",TABMAPEL_X,DBLOGIC!EN2,FALSE)","v":"C3"},{"$f":"HLOOKUP(\"KEL\",TABMAPEL_X,DBLOGIC!EO2,FALSE)","v":"C3"},{"$f":"HLOOKUP(\"KEL\",TABMAPEL_X,DBLOGIC!EP2,FALSE)","v":"C3"},{"$f":"HLOOKUP(\"KEL\",TABMAPEL_X,DBLOGIC!EQ2,FALSE)","v":"C3"},{"$f":"HLOOKUP(\"KEL\",TABMAPEL_X,DBLOGIC!ER2,FALSE)","v":"C3"},{"$f":"HLOOKUP(\"KEL\",TABMAPEL_X,DBLOGIC!ES2,FALSE)","v":"C3"},{"$f":"HLOOKUP(\"KEL\",TABMAPEL_X,DBLOGIC!ET2,FALSE)","v":"C3"},{"$f":"HLOOKUP(\"KEL\",TABMAPEL_X,DBLOGIC!EU2,FALSE)","v":"C3"},{"$f":"HLOOKUP(\"KEL\",TABMAPEL_X,DBLOGIC!EV2,FALSE)","v":"C3"},{"$f":"HLOOKUP(\"KEL\",TABMAPEL_X,DBLOGIC!EW2,FALSE)","v":"C3"},{"$f":"HLOOKUP(\"KEL\",TABMAPEL_X,DBLOGIC!EX2,FALSE)","v":"C3"},{"$f":"HLOOKUP(\"KEL\",TABMAPEL_X,DBLOGIC!EY2,FALSE)","v":"C3"},{"$f":"HLOOKUP(\"KEL\",TABMAPEL_X,DBLOGIC!EZ2,FALSE)","v":"C3"},{"$f":"HLOOKUP(\"KEL\",TABMAPEL_X,DBLOGIC!FA2,FALSE)","v":"C3"},{"$f":"HLOOKUP(\"KEL\",TABMAPEL_X,DBLOGIC!FB2,FALSE)","v":"C3"},{"$f":"HLOOKUP(\"KEL\",TABMAPEL_X,DBLOGIC!FC2,FALSE)","v":"C3"},{"$f":"HLOOKUP(\"KEL\",TABMAPEL_X,DBLOGIC!FD2,FALSE)","v":"C3"},{"$f":"HLOOKUP(\"KEL\",TABMAPEL_X,DBLOGIC!FE2,FALSE)","v":"C3"},{"$f":"HLOOKUP(\"KEL\",TABMAPEL_X,DBLOGIC!FF2,FALSE)","v":"C3"},{"$f":"HLOOKUP(\"KEL\",TABMAPEL_X,DBLOGIC!FG2,FALSE)","v":"C3"},{"$f":"HLOOKUP(\"KEL\",TABMAPEL_X,DBLOGIC!FH2,FALSE)","v":"C3"},{"$f":"HLOOKUP(\"KEL\",TABMAPEL_X,DBLOGIC!FI2,FALSE)","v":"C3"},{"$f":"HLOOKUP(\"KEL\",TABMAPEL_X,DBLOGIC!FJ2,FALSE)","v":"C3"},{"$f":"HLOOKUP(\"KEL\",TABMAPEL_X,DBLOGIC!FK2,FALSE)","v":"C3"},{"$f":"HLOOKUP(\"KEL\",TABMAPEL_X,DBLOGIC!FL2,FALSE)","v":"C3"},{"$f":"HLOOKUP(\"KEL\",TABMAPEL_X,DBLOGIC!FM2,FALSE)","v":"C3"},{"$f":"HLOOKUP(\"KEL\",TABMAPEL_X,DBLOGIC!FN2,FALSE)","v":"C3"},{"$f":"HLOOKUP(\"KEL\",TABMAPEL_X,DBLOGIC!FO2,FALSE)","v":"M"},{"$f":"HLOOKUP(\"KEL\",TABMAPEL_X,DBLOGIC!FP2,FALSE)","v":"M"},{"$f":"HLOOKUP(\"KEL\",TABMAPEL_X,DBLOGIC!FQ2,FALSE)","v":"M"},{"$f":"HLOOKUP(\"KEL\",TABMAPEL_X,DBLOGIC!FR2,FALSE)","v":"M"},{"$f":"HLOOKUP(\"KEL\",TABMAPEL_X,DBLOGIC!FS2,FALSE)","v":"M"},{"$f":"HLOOKUP(\"KEL\",TABMAPEL_X,DBLOGIC!FT2,FALSE)","v":"M"},{"$f":"HLOOKUP(\"KEL\",TABMAPEL_X,DBLOGIC!FU2,FALSE)","v":"M"},{"$f":"HLOOKUP(\"KEL\",TABMAPEL_X,DBLOGIC!FV2,FALSE)","v":"M"},{"$f":"HLOOKUP(\"KEL\",TABMAPEL_X,DBLOGIC!FW2,FALSE)","v":"M"},{"$f":"HLOOKUP(\"KEL\",TABMAPEL_X,DBLOGIC!FX2,FALSE)","v":"M"},{"$f":"HLOOKUP(\"KEL\",TABMAPEL_X,DBLOGIC!FY2,FALSE)","v":"M"},{"$f":"HLOOKUP(\"KEL\",TABMAPEL_X,DBLOGIC!FZ2,FALSE)","v":"M"},{"$f":"HLOOKUP(\"KEL\",TABMAPEL_X,DBLOGIC!GA2,FALSE)","v":"M"},{"$f":"HLOOKUP(\"KEL\",TABMAPEL_X,DBLOGIC!GB2,FALSE)","v":"M"}]
["Wali Kelas :",{"$f":"TITIMANGSA!D24","v":"Abdul Hapid, S.P"},"URUTAN MAPEL",1,{"$f":"D4","v":1},{"$f":"E4","v":1},1,1,1,1,{"$f":"IF(K2=\"-\",0,MAX($D$4:J4)+1)","v":2},{"$f":"K4","v":2},2,2,2,2,2,{"$f":"IF(R2=\"-\",0,MAX($D$4:Q4)+1)","v":3},{"$f":"R4","v":3},3,3,3,3,3,{"$f":"IF(Y2=\"-\",0,MAX($D$4:X4)+1)","v":4},{"$f":"Y4","v":4},4,4,4,4,4,{"$f":"IF(AF2=\"-\",0,MAX($D$4:AE4)+1)","v":0},{"$f":"AF4","v":0},0,0,0,0,0,{"$f":"IF(AM2=\"-\",0,MAX($D$4:AL4)+1)","v":5},{"$f":"AM4","v":5},5,5,5,5,5,{"$f":"IF(AT2=\"-\",0,MAX($D$4:AS4)+1)","v":6},{"$f":"AT4","v":6},6,6,6,6,6,{"$f":"IF(BA2=\"-\",0,MAX($D$4:AZ4)+1)","v":0},{"$f":"BA4","v":0},0,0,0,0,0,{"$f":"IF(BH2=\"-\",0,MAX($D$4:BG4)+1)","v":0},{"$f":"BH4","v":0},0,0,0,0,0,{"$f":"IF(BO2=\"-\",0,MAX($D$4:BN4)+1)","v":0},{"$f":"BO4","v":0},0,0,0,0,0,{"$f":"IF(BV2=\"-\",0,MAX($D$4:BU4)+1)","v":0},{"$f":"BV4","v":0},0,0,0,0,0,{"$f":"IF(CC2=\"-\",0,MAX($D$4:CB4)+1)","v":0},{"$f":"CC4","v":0},0,0,0,0,0,{"$f":"IF(CJ2=\"-\",0,MAX($D$4:CI4)+1)","v":0},{"$f":"CJ4","v":0},0,0,0,0,0,{"$f":"IF(CQ2=\"-\",0,MAX($D$4:CP4)+1)","v":0},{"$f":"CQ4","v":0},0,0,0,0,0,{"$f":"IF(CX2=\"-\",0,MAX($D$4:CW4)+1)","v":0},{"$f":"CX4","v":0},0,0,0,0,0,{"$f":"IF(DE2=\"-\",0,MAX($D$4:DD4)+1)","v":0},{"$f":"DE4","v":0},0,0,0,0,0,{"$f":"IF(DL2=\"-\",0,MAX($D$4:DK4)+1)","v":7},{"$f":"DL4","v":7},7,7,7,7,7,{"$f":"IF(DS2=\"-\",0,MAX($D$4:DR4)+1)","v":8},{"$f":"DS4","v":8},8,8,8,8,8,{"$f":"IF(DZ2=\"-\",0,MAX($D$4:DY4)+1)","v":9},{"$f":"DZ4","v":9},9,9,9,9,9,{"$f":"IF(EG2=\"-\",0,MAX($D$4:EF4)+1)","v":10},{"$f":"EG4","v":10},10,10,10,10,10,{"$f":"IF(EN2=\"-\",0,MAX($D$4:EM4)+1)","v":0},{"$f":"EN4","v":0},0,0,0,0,0,{"$f":"IF(EU2=\"-\",0,MAX($D$4:ET4)+1)","v":11},{"$f":"EU4","v":11},11,11,11,11,11,{"$f":"IF(FB2=\"-\",0,MAX($D$4:FA4)+1)","v":0},{"$f":"FB4","v":0},0,0,0,0,0,{"$f":"IF(FI2=\"-\",0,MAX($D$4:FH4)+1)","v":0},{"$f":"FI4","v":0},0,0,0,0,0]
[{"$f":"TITIMANGSA!D23","v":0},{"$f":"TITIMANGSA!D25","v":"19680917 200012 1 003"},"KKM",78,78,78,78,78,78,78,78,78,78,78,78,78,78,78,78,78,78,78,78,78,78,78,78,78,78,78,78,78,78,78,78,78,78,78,78,78,78,78,78,78,78,78,78,78,78,78,78,78,78,78,78,78,78,78,78,78,78,78,78,78,78,78,78,78,78,78,78,78,78,78,78,78,78,78,78,78,78,78,78,78,78,78,78,78,78,78,78,78,78,78,78,78,78,78,78,78,78,78,78,78,78,78,78,78,78,78,78,78,78,78,78,78,78,78,78,78,78,78,78,78,78,78,78,78,78,78,78,78,78,78,78,78,78,78,78,78,78,78,78,78,78,78,78,78,78,78,78,78,78,78,78,78,78,78,78,78,78,78,78,78,78,78,78,78,78,78,78]
[null,null,"TOPIK PER KD","Iman",null,2,null,3,null,"-",{"$f":"H6+1","v":4},null,{"$f":"K6+1","v":5},null,{"$f":"M6+1","v":6},null,"-",{"$f":"O6+1","v":7},null,{"$f":"R6+1","v":8},null,{"$f":"T6+1","v":9},null,"-",{"$f":"V6+1","v":10},null,{"$f":"Y6+1","v":11},null,{"$f":"AA6+1","v":12},null,"-",{"$f":"AC6+1","v":13},null,{"$f":"AF6+1","v":14},null,{"$f":"AH6+1","v":15},null,"-",{"$f":"AJ6+1","v":16},null,{"$f":"AM6+1","v":17},null,{"$f":"AO6+1","v":18},null,"-",{"$f":"AQ6+1","v":19},null,{"$f":"AT6+1","v":20},null,{"$f":"AV6+1","v":21},null,"-",{"$f":"AX6+1","v":22},null,{"$f":"BA6+1","v":23},null,{"$f":"BC6+1","v":24},null,"-",{"$f":"BE6+1","v":25},null,{"$f":"BH6+1","v":26},null,{"$f":"BJ6+1","v":27},null,"-",{"$f":"BL6+1","v":28},null,{"$f":"BO6+1","v":29},null,{"$f":"BQ6+1","v":30},null,"-",{"$f":"BS6+1","v":31},null,{"$f":"BV6+1","v":32},null,{"$f":"BX6+1","v":33},null,"-",{"$f":"BZ6+1","v":34},null,{"$f":"CC6+1","v":35},null,{"$f":"CE6+1","v":36},null,"-",{"$f":"CG6+1","v":37},null,{"$f":"CJ6+1","v":38},null,{"$f":"CL6+1","v":39},null,"-",{"$f":"CN6+1","v":40},null,{"$f":"CQ6+1","v":41},null,{"$f":"CS6+1","v":42},null,"-",{"$f":"CU6+1","v":43},null,{"$f":"CX6+1","v":44},null,{"$f":"CZ6+1","v":45},null,"-",{"$f":"DB6+1","v":46},null,{"$f":"DE6+1","v":47},null,{"$f":"DG6+1","v":48},null,"-",{"$f":"DI6+1","v":49},null,{"$f":"DL6+1","v":50},null,{"$f":"DN6+1","v":51},null,"-",{"$f":"DP6+1","v":52},null,{"$f":"DS6+1","v":53},null,{"$f":"DU6+1","v":54},null,"-",{"$f":"DW6+1","v":55},null,{"$f":"DZ6+1","v":56},null,{"$f":"EB6+1","v":57},null,"-",{"$f":"ED6+1","v":58},null,{"$f":"EG6+1","v":59},null,{"$f":"EI6+1","v":60},null,"-",{"$f":"EK6+1","v":61},null,{"$f":"EN6+1","v":62},null,{"$f":"EP6+1","v":63},null,"-",{"$f":"ER6+1","v":64},null,{"$f":"EU6+1","v":65},null,{"$f":"EW6+1","v":66},null,"-",{"$f":"EY6+1","v":67},null,{"$f":"FB6+1","v":68},null,{"$f":"FD6+1","v":69},null,"-",{"$f":"FF6+1","v":70},null,{"$f":"FI6+1","v":71},null,{"$f":"FK6+1","v":72},null,"-"]
["NO. URUT","NAMA SISWA","NIS",2,{"$f":"D7+1","v":3},4,5,6,7,8,9,10,11,12,13,14,15,16,17,18,19,20,21,22,23,24,25,26,27,28,29,30,31,32,33,34,35,36,37,38,39,40,41,42,43,44,45,46,47,48,49,50,51,52,53,54,55,56,57,58,59,60,61,62,63,64,65,66,{"$f":"BP7+1","v":67},68,69,70,71,72,73,74,75,76,77,78,79,80,81,82,83,84,85,86,87,88,89,90,91,92,93,94,95,96,97,98,99,100,101,102,103,104,105,106,107,108,109,110,111,112,113,114,115,116,117,118,119,120,121,122,123,124,125,126,127,128,129,130,{"$f":"EB7+1","v":131},132,133,134,135,136,137,138,139,140,141,142,143,144,145,146,147,148,149,150,151,152,153,154,155,156,157,158,159,160,161,162,163,164,165,166,167,168,169,170,171,172]
[{"$f":"BIODATA!A5","v":1},{"$f":"BIODATA!C5","v":"ADAM ADIYAT HARTANTO"},{"$f":"BIODATA!D5","v":16170535},6,{"$f":"D8+1","v":7},{"$f":"IF(E8=100,75,E8+1)","v":8},9,10,11,12,13,14,15,16,17,18,19,20,21,22,23,{"$f":"IF(U8=100,75,U8+1)","v":24},25,26,27,28,29,30,31,32,33,34,35,36,37,38,39,{"$f":"IF(AK8=100,75,AK8+1)","v":40},41,42,43,44,45,46,47,48,49,50,51,52,53,54,55,{"$f":"IF(BA8=100,75,BA8+1)","v":56},57,58,59,60,61,62,63,64,65,66,67,68,69,70,71,{"$f":"IF(BQ8=100,75,BQ8+1)","v":72},73,74,75,76,77,78,79,80,81,82,83,84,85,86,87,{"$f":"IF(CG8=100,75,CG8+1)","v":88},89,90,91,92,93,94,95,96,97,98,99,100,75,76,77,{"$f":"IF(CW8=100,75,CW8+1)","v":78},79,80,81,82,83,84,85,86,87,88,89,90,91,92,93,{"$f":"IF(DM8=100,75,DM8+1)","v":94},95,96,97,98,99,100,75,76,77,78,79,80,81,82,83,{"$f":"IF(EC8=100,75,EC8+1)","v":84},85,86,87,88,89,90,91,92,93,94,95,96,97,98,99,{"$f":"IF(ES8=100,75,ES8+1)","v":100},75,76,77,78,79,80,81,82,83,84,85,86,87,88,89,{"$f":"IF(FI8=100,75,FI8+1)","v":90},91,92,93,94,95]
[{"$f":"BIODATA!A6","v":2},{"$f":"BIODATA!C6","v":"ADAM MAULANA RIZALDI"},{"$f":"BIODATA!D6","v":16170449},11,{"$f":"IF(D9=100,75,D9+1)","v":12},13,14,15,16,17,18,19,20,21,22,23,24,25,26,27,28,29,30,31,32,33,34,35,36,37,38,39,40,41,42,43,44,45,46,47,48,49,50,51,52,53,54,55,56,57,58,59,60,61,62,63,64,65,66,67,68,69,70,71,72,73,74,75,76,77,78,79,80,81,82,83,84,85,86,87,88,89,90,91,92,93,94,95,96,97,98,99,100,75,76,77,78,79,80,81,82,83,84,85,86,87,88,89,90,91,92,93,94,95,96,97,98,99,100,75,76,77,78,79,80,81,82,83,84,85,86,87,88,89,90,91,92,93,94,95,96,97,98,99,100,75,76,77,78,79,80,81,82,83,84,85,86,87,88,89,90,91,92,93,94,95,96,97,98,99,100]
[{"$f":"BIODATA!A7","v":3},{"$f":"BIODATA!C7","v":"BAGAS ADJI PRIANTOMO"},{"$f":"BIODATA!D7","v":16170371},21,22,23,24,25,26,27,28,29,30,31,32,33,34,35,36,37,38,39,40,41,42,43,44,45,46,47,48,49,50,51,52,53,54,55,56,57,58,59,60,61,62,63,64,65,66,67,68,69,70,71,72,73,74,75,76,77,78,79,80,81,82,83,84,85,86,87,88,89,90,91,92,93,94,95,96,97,98,99,100,75,76,77,78,79,80,81,82,83,84,85,86,87,88,89,90,91,92,93,94,95,96,97,98,99,100,75,76,77,78,79,80,81,82,83,84,85,86,87,88,89,90,91,92,93,94,95,96,97,98,99,100,75,76,77,78,79,80,81,82,83,84,85,86,87,88,89,90,91,92,93,94,95,96,97,98,99,100,75,76,77,78,79,80,81,82,83,84]
[{"$f":"BIODATA!A8","v":4},{"$f":"BIODATA!C8","v":"CARWAN HIDAYAT"},{"$f":"BIODATA!D8","v":16170585}]
[{"$f":"BIODATA!A9","v":5},{"$f":"BIODATA!C9","v":"CEPI YANWARI"},{"$f":"BIODATA!D9","v":16170586}]
[{"$f":"BIODATA!A10","v":6},{"$f":"BIODATA!C10","v":"DEDE MAULANA RUSDIANTA"},{"$f":"BIODATA!D10","v":16170414}]
[{"$f":"BIODATA!A11","v":7},{"$f":"BIODATA!C11","v":"DEDI ROCHMAN"},{"$f":"BIODATA!D11","v":16170457}]
[{"$f":"BIODATA!A12","v":8},{"$f":"BIODATA!C12","v":"DIMAS YOGA AJI SETIAWAN"},{"$f":"BIODATA!D12","v":16170546}]
[{"$f":"BIODATA!A13","v":9},{"$f":"BIODATA!C13","v":"ERIK PRIHASABA PEBRIANSYAH"},{"$f":"BIODATA!D13","v":16170547}]
[{"$f":"BIODATA!A14","v":10},{"$f":"BIODATA!C14","v":"GALIH RAKASIWI"},{"$f":"BIODATA!D14","v":16170464}]
[{"$f":"BIODATA!A15","v":11},{"$f":"BIODATA!C15","v":"JOHANI"},{"$f":"BIODATA!D15","v":16170468}]
[{"$f":"BIODATA!A16","v":12},{"$f":"BIODATA!C16","v":"LATHIF FERIANSYAH"},{"$f":"BIODATA!D16","v":16170675}]
[{"$f":"BIODATA!A17","v":13},{"$f":"BIODATA!C17","v":"MAULANA JUHRI"},{"$f":"BIODATA!D17","v":16170423}]
[{"$f":"BIODATA!A18","v":14},{"$f":"BIODATA!C18","v":"MOHAMMAD HERRY ALFAJRI"},{"$f":"BIODATA!D18","v":16170473}]
[{"$f":"BIODATA!A19","v":15},{"$f":"BIODATA!C19","v":"MUHAMAD SIDI"},{"$f":"BIODATA!D19","v":16170426}]
[{"$f":"BIODATA!A20","v":16},{"$f":"BIODATA!C20","v":"MUHAMMAD ARDI RUHYAT"},{"$f":"BIODATA!D20","v":16170427}]
[{"$f":"BIODATA!A21","v":17},{"$f":"BIODATA!C21","v":"MUHAMMAD FIKRI AWALUDIN"},{"$f":"BIODATA!D21","v":16170429}]
[{"$f":"BIODATA!A22","v":18},{"$f":"BIODATA!C22","v":"MUHAMMAD PADILAH"},{"$f":"BIODATA!D22","v":16170428}]
[{"$f":"BIODATA!A23","v":19},{"$f":"BIODATA!C23","v":"MUHIBU FATHURROHMAN"},{"$f":"BIODATA!D23","v":16170430}]
[{"$f":"BIODATA!A24","v":20},{"$f":"BIODATA!C24","v":"OKKE KINDI ADI PANGESTU"},{"$f":"BIODATA!D24","v":16170391}]
[{"$f":"BIODATA!A25","v":21},{"$f":"BIODATA!C25","v":"RAMADHAN"},{"$f":"BIODATA!D25","v":"16170480"}]
[{"$f":"BIODATA!A26","v":22},{"$f":"BIODATA!C26","v":"RENDY RAHMADI"},{"$f":"BIODATA!D26","v":16170683}]
[{"$f":"BIODATA!A27","v":23},{"$f":"BIODATA!C27","v":"RIFAN BAGUS ALDIANSYAH"},{"$f":"BIODATA!D27","v":16170433}]
[{"$f":"BIODATA!A28","v":24},{"$f":"BIODATA!C28","v":"RIVAL MAULANA"},{"$f":"BIODATA!D28","v":16170601}]
[{"$f":"BIODATA!A29","v":25},{"$f":"BIODATA!C29","v":"RIZKY FADHILAH"},{"$f":"BIODATA!D29","v":16170643}]
[{"$f":"BIODATA!A30","v":26},{"$f":"BIODATA!C30","v":"ROHMADI MUCHTAR"},{"$f":"BIODATA!D30","v":16170642}]
[{"$f":"BIODATA!A31","v":27},{"$f":"BIODATA!C31","v":"TANGGUH PRASETIA SUHARNA"},{"$f":"BIODATA!D31","v":16170605}]
[{"$f":"BIODATA!A32","v":28},{"$f":"BIODATA!C32","v":"TARIZ MAULIZIDANE FAZILLA"},{"$f":"BIODATA!D32","v":16170606}]
[{"$f":"BIODATA!A33","v":29},{"$f":"BIODATA!C33","v":"TUBAGUS AJANG SUMBOGA"},{"$f":"BIODATA!D33","v":16170443}]
[{"$f":"BIODATA!A34","v":30},{"$f":"BIODATA!C34","v":"WIKSAN ZUJALIS"},{"$f":"BIODATA!D34","v":16170611}]
[{"$f":"BIODATA!A35","v":31},{"$f":"BIODATA!C35","v":"YUNAN DWI SASONGKO"},{"$f":"BIODATA!D35","v":16170448}]
[{"$f":"BIODATA!A36","v":"-"},{"$f":"BIODATA!C36","v":0},{"$f":"BIODATA!D36","v":0}]
[{"$f":"BIODATA!A37","v":"-"},{"$f":"BIODATA!C37","v":0},{"$f":"BIODATA!D37","v":0}]
[{"$f":"BIODATA!A38","v":"-"},{"$f":"BIODATA!C38","v":0},{"$f":"BIODATA!D38","v":0}]
[{"$f":"BIODATA!A39","v":"-"},{"$f":"BIODATA!C39","v":0},{"$f":"BIODATA!D39","v":0}]
[{"$f":"BIODATA!A40","v":"-"},{"$f":"BIODATA!C40","v":0},{"$f":"BIODATA!D40","v":0}]
[]
[]
[]
[]
[]
[]
[]
[]
[]
[]
[]
[]
[]
[]
[]
[]
[]
[]
[]
[]
[]
[null,null,null,3.59]
[null,null,null,3.59]
[null,null,null,3.5]
[null,null,null,3.48]
[null,null,null,3.54]
[null,null,null,3.39]
[null,null,null,3.45]
[null,null,null,3.45]
[null,null,null,3.29]
[null,null,null,3.45]
[null,null,null,3.45]
[null,null,null,3.45]

{"sheet":"NILSM7","index":31,"n_rows":76,"n_cols":174,"rows_kept":76,"cut":false,"hidden":false,"merged":[[1,0,1,1]]}
[null,null,"NIS","PABT1","PABU1","PABT2","PABU2","PABT3","PABU3","PABH","PKNT1","PKNU1","PKNT2","PKNU2","PKNT3","PKNU3","PKNH","INDT1","INDU1","INDT2","INDU2","INDT3","INDU3","INDH","MTKT1","MTKU1","MTKT2","MTKU2","MTKT3","MTKU3","MTKH","SJIT1","SJIU1","SJIT2","SJIU2","SJIT3","SJIU3","SJIH","INGT1","INGU1","INGT2","INGU2","INGT3","INGU3","INGH","JERT1","JERU1","JERT2","JERU2","JERT3","JERU3","JERH","SBDT1","SBDU1","SBDT2","SBDU2","SBDT3","SBDU3","SBDH","PJOT1","PJOU1","PJOT2","PJOU2","PJOT3","PJOU3","PJOH","SKDT1","SKDU1","SKDT2","SKDU2","SKDT3","SKDU3","SKDH","FIST1","FISU1","FIST2","FISU2","FIST3","FISU3","FISH","KIMT1","KIMU1","KIMT2","KIMU2","KIMT3","KIMU3","KIMH","C21T1","C21U1","C21T2","C21U2","C21T3","C21U3","C21H","C22T1","C22U1","C22T2","C22U2","C22T3","C22U3","C22H","C23T1","C23U1","C23T2","C23U2","C23T3","C23U3","C23H","C24T1","C24U1","C24T2","C24U2","C24T3","C24U3","C24H","C31T1","C31U1","C31T2","C31U2","C31T3","C31U3","C31H","C32T1","C32U1","C32T2","C32U2","C32T3","C32U3","C32H","C33T1","C33U1","C33T2","C33U2","C33T3","C33U3","C33H","C34T1","C34U1","C34T2","C34U2","C34T3","C34U3","C34H","C35T1","C35U1","C35T2","C35U2","C35T3","C35U3","C35H","C36T1","C36U1","C36T2","C36U2","C36T3","C36U3","C36H","SUNT1","SUNU1","SUNT2","SUNU2","SUNT3","SUNU3","SUNH","PLHT1","PLHU1","PLHT2","PLHU2","PLHT3","PLHU3","PLHH",null,"BKN","CTT"]
[{"$f":"\"INPUT NILAI CAPAIAN KOMPETENSI TP \"&TITIMANGSA!D3","v":"INPUT NILAI CAPAIAN KOMPETENSI TP 2020 / 2021"},null,"                    NAMA MAPEL",{"$f":"IF(OR($B$3=\"1 (satu)\",$B$3=\"2 (dua)\"),HLOOKUP($C$3,TABMAPEL_X,DBLOGIC!Q2,FALSE),IF(OR($B$3=\"3 (tiga)\",$B$3=\"4 (empat)\"),HLOOKUP($C$3,TABMAPEL_XI,DBLOGIC!Q2,FALSE),IF(OR($B$3=\"5 (lima)\",$B$3=\"6 (enam)\"),HLOOKUP($C$3,TABMAPEL_XII,DBLOGIC!Q2,FALSE),IF(OR($B$3=\"7 (tujuh)\",$B$3=\"8 (delapan)\"),HLOOKUP($C$3,TABMAPEL_XIII,DBLOGIC!Q2,FALSE),\"-\"))))","v":{"$error":"#N/A"}},{"$f":"IF(OR($B$3=\"1 (satu)\",$B$3=\"2 (dua)\"),HLOOKUP($C$3,TABMAPEL_X,DBLOGIC!R2,FALSE),IF(OR($B$3=\"3 (tiga)\",$B$3=\"4 (empat)\"),HLOOKUP($C$3,TABMAPEL_XI,DBLOGIC!R2,FALSE),IF(OR($B$3=\"5 (lima)\",$B$3=\"6 (enam)\"),HLOOKUP($C$3,TABMAPEL_XII,DBLOGIC!R2,FALSE),IF(OR($B$3=\"7 (tujuh)\",$B$3=\"8 (delapan)\"),HLOOKUP($C$3,TABMAPEL_XIII,DBLOGIC!R2,FALSE),\"-\"))))","v":{"$error":"#N/A"}},{"$f":"IF(OR($B$3=\"1 (satu)\",$B$3=\"2 (dua)\"),HLOOKUP($C$3,TABMAPEL_X,DBLOGIC!S2,FALSE),IF(OR($B$3=\"3 (tiga)\",$B$3=\"4 (empat)\"),HLOOKUP($C$3,TABMAPEL_XI,DBLOGIC!S2,FALSE),IF(OR($B$3=\"5 (lima)\",$B$3=\"6 (enam)\"),HLOOKUP($C$3,TABMAPEL_XII,DBLOGIC!S2,FALSE),IF(OR($B$3=\"7 (tujuh)\",$B$3=\"8 (delapan)\"),HLOOKUP($C$3,TABMAPEL_XIII,DBLOGIC!S2,FALSE),\"-\"))))","v":{"$error":"#N/A"}},{"$f":"IF(OR($B$3=\"1 (satu)\",$B$3=\"2 (dua)\"),HLOOKUP($C$3,TABMAPEL_X,DBLOGIC!T2,FALSE),IF(OR($B$3=\"3 (tiga)\",$B$3=\"4 (empat)\"),HLOOKUP($C$3,TABMAPEL_XI,DBLOGIC!T2,FALSE),IF(OR($B$3=\"5 (lima)\",$B$3=\"6 (enam)\"),HLOOKUP($C$3,TABMAPEL_XII,DBLOGIC!T2,FALSE),IF(OR($B$3=\"7 (tujuh)\",$B$3=\"8 (delapan)\"),HLOOKUP($C$3,TABMAPEL_XIII,DBLOGIC!T2,FALSE),\"-\"))))","v":{"$error":"#N/A"}},{"$f":"IF(OR($B$3=\"1 (satu)\",$B$3=\"2 (dua)\"),HLOOKUP($C$3,TABMAPEL_X,DBLOGIC!U2,FALSE),IF(OR($B$3=\"3 (tiga)\",$B$3=\"4 (empat)\"),HLOOKUP($C$3,TABMAPEL_XI,DBLOGIC!U2,FALSE),IF(OR($B$3=\"5 (lima)\",$B$3=\"6 (enam)\"),HLOOKUP($C$3,TABMAPEL_XII,DBLOGIC!U2,FALSE),IF(OR($B$3=\"7 (tujuh)\",$B$3=\"8 (delapan)\"),HLOOKUP($C$3,TABMAPEL_XIII,DBLOGIC!U2,FALSE),\"-\"))))","v":{"$error":"#N/A"}},{"$f":"IF(OR($B$3=\"1 (satu)\",$B$3=\"2 (dua)\"),HLOOKUP($C$3,TABMAPEL_X,DBLOGIC!V2,FALSE),IF(OR($B$3=\"3 (tiga)\",$B$3=\"4 (empat)\"),HLOOKUP($C$3,TABMAPEL_XI,DBLOGIC!V2,FALSE),IF(OR($B$3=\"5 (lima)\",$B$3=\"6 (enam)\"),HLOOKUP($C$3,TABMAPEL_XII,DBLOGIC!V2,FALSE),IF(OR($B$3=\"7 (tujuh)\",$B$3=\"8 (delapan)\"),HLOOKUP($C$3,TABMAPEL_XIII,DBLOGIC!V2,FALSE),\"-\"))))","v":{"$error":"#N/A"}},{"$f":"IF(OR($B$3=\"1 (satu)\",$B$3=\"2 (dua)\"),HLOOKUP($C$3,TABMAPEL_X,DBLOGIC!W2,FALSE),IF(OR($B$3=\"3 (tiga)\",$B$3=\"4 (empat)\"),HLOOKUP($C$3,TABMAPEL_XI,DBLOGIC!W2,FALSE),IF(OR($B$3=\"5 (lima)\",$B$3=\"6 (enam)\"),HLOOKUP($C$3,TABMAPEL_XII,DBLOGIC!W2,FALSE),IF(OR($B$3=\"7 (tujuh)\",$B$3=\"8 (delapan)\"),HLOOKUP($C$3,TABMAPEL_XIII,DBLOGIC!W2,FALSE),\"-\"))))","v":{"$error":"#N/A"}},{"$f":"IF(OR($B$3=\"1 (satu)\",$B$3=\"2 (dua)\"),HLOOKUP($C$3,TABMAPEL_X,DBLOGIC!X2,FALSE),IF(OR($B$3=\"3 (tiga)\",$B$3=\"4 (empat)\"),HLOOKUP($C$3,TABMAPEL_XI,DBLOGIC!X2,FALSE),IF(OR($B$3=\"5 (lima)\",$B$3=\"6 (enam)\"),HLOOKUP($C$3,TABMAPEL_XII,DBLOGIC!X2,FALSE),IF(OR($B$3=\"7 (tujuh)\",$B$3=\"8 (delapan)\"),HLOOKUP($C$3,TABMAPEL_XIII,DBLOGIC!X2,FALSE),\"-\"))))","v":{"$error":"#N/A"}},{"$f":"IF(OR($B$3=\"1 (satu)\",$B$3=\"2 (dua)\"),HLOOKUP($C$3,TABMAPEL_X,DBLOGIC!Y2,FALSE),IF(OR($B$3=\"3 (tiga)\",$B$3=\"4 (empat)\"),HLOOKUP($C$3,TABMAPEL_XI,DBLOGIC!Y2,FALSE),IF(OR($B$3=\"5 (lima)\",$B$3=\"6 (enam)\"),HLOOKUP($C$3,TABMAPEL_XII,DBLOGIC!Y2,FALSE),IF(OR($B$3=\"7 (tujuh)\",$B$3=\"8 (delapan)\"),HLOOKUP($C$3,TABMAPEL_XIII,DBLOGIC!Y2,FALSE),\"-\"))))","v":{"$error":"#N/A"}},{"$f":"IF(OR($B$3=\"1 (satu)\",$B$3=\"2 (dua)\"),HLOOKUP($C$3,TABMAPEL_X,DBLOGIC!Z2,FALSE),IF(OR($B$3=\"3 (tiga)\",$B$3=\"4 (empat)\"),HLOOKUP($C$3,TABMAPEL_XI,DBLOGIC!Z2,FALSE),IF(OR($B$3=\"5 (lima)\",$B$3=\"6 (enam)\"),HLOOKUP($C$3,TABMAPEL_XII,DBLOGIC!Z2,FALSE),IF(OR($B$3=\"7 (tujuh)\",$B$3=\"8 (delapan)\"),HLOOKUP($C$3,TABMAPEL_XIII,DBLOGIC!Z2,FALSE),\"-\"))))","v":{"$error":"#N/A"}},{"$f":"IF(OR($B$3=\"1 (satu)\",$B$3=\"2 (dua)\"),HLOOKUP($C$3,TABMAPEL_X,DBLOGIC!AA2,FALSE),IF(OR($B$3=\"3 (tiga)\",$B$3=\"4 (empat)\"),HLOOKUP($C$3,TABMAPEL_XI,DBLOGIC!AA2,FALSE),IF(OR($B$3=\"5 (lima)\",$B$3=\"6 (enam)\"),HLOOKUP($C$3,TABMAPEL_XII,DBLOGIC!AA2,FALSE),IF(OR($B$3=\"7 (tujuh)\",$B$3=\"8 (delapan)\"),HLOOKUP($C$3,TABMAPEL_XIII,DBLOGIC!AA2,FALSE),\"-\"))))","v":{"$error":"#N/A"}},{"$f":"IF(OR($B$3=\"1 (satu)\",$B$3=\"2 (dua)\"),HLOOKUP($C$3,TABMAPEL_X,DBLOGIC!AB2,FALSE),IF(OR($B$3=\"3 (tiga)\",$B$3=\"4 (empat)\"),HLOOKUP($C$3,TABMAPEL_XI,DBLOGIC!AB2,FALSE),IF(OR($B$3=\"5 (lima)\",$B$3=\"6 (enam)\"),HLOOKUP($C$3,TABMAPEL_XII,DBLOGIC!AB2,FALSE),IF(OR($B$3=\"7 (tujuh)\",$B$3=\"8 (delapan)\"),HLOOKUP($C$3,TABMAPEL_XIII,DBLOGIC!AB2,FALSE),\"-\"))))","v":{"$error":"#N/A"}},{"$f":"IF(OR($B$3=\"1 (satu)\",$B$3=\"2 (dua)\"),HLOOKUP($C$3,TABMAPEL_X,DBLOGIC!AC2,FALSE),IF(OR($B$3=\"3 (tiga)\",$B$3=\"4 (empat)\"),HLOOKUP($C$3,TABMAPEL_XI,DBLOGIC!AC2,FALSE),IF(OR($B$3=\"5 (lima)\",$B$3=\"6 (enam)\"),HLOOKUP($C$3,TABMAPEL_XII,DBLOGIC!AC2,FALSE),IF(OR($B$3=\"7 (tujuh)\",$B$3=\"8 (delapan)\"),HLOOKUP($C$3,TABMAPEL_XIII,DBLOGIC!AC2,FALSE),\"-\"))))","v":{"$error":"#N/A"}},{"$f":"IF(OR($B$3=\"1 (satu)\",$B$3=\"2 (dua)\"),HLOOKUP($C$3,TABMAPEL_X,DBLOGIC!AD2,FALSE),IF(OR($B$3=\"3 (tiga)\",$B$3=\"4 (empat)\"),HLOOKUP($C$3,TABMAPEL_XI,DBLOGIC!AD2,FALSE),IF(OR($B$3=\"5 (lima)\",$B$3=\"6 (enam)\"),HLOOKUP($C$3,TABMAPEL_XII,DBLOGIC!AD2,FALSE),IF(OR($B$3=\"7 (tujuh)\",$B$3=\"8 (delapan)\"),HLOOKUP($C$3,TABMAPEL_XIII,DBLOGIC!AD2,FALSE),\"-\"))))","v":{"$error":"#N/A"}},{"$f":"IF(OR($B$3=\"1 (satu)\",$B$3=\"2 (dua)\"),HLOOKUP($C$3,TABMAPEL_X,DBLOGIC!AE2,FALSE),IF(OR($B$3=\"3 (tiga)\",$B$3=\"4 (empat)\"),HLOOKUP($C$3,TABMAPEL_XI,DBLOGIC!AE2,FALSE),IF(OR($B$3=\"5 (lima)\",$B$3=\"6 (enam)\"),HLOOKUP($C$3,TABMAPEL_XII,DBLOGIC!AE2,FALSE),IF(OR($B$3=\"7 (tujuh)\",$B$3=\"8 (delapan)\"),HLOOKUP($C$3,TABMAPEL_XIII,DBLOGIC!AE2,FALSE),\"-\"))))","v":{"$error":"#N/A"}},{"$f":"IF(OR($B$3=\"1 (satu)\",$B$3=\"2 (dua)\"),HLOOKUP($C$3,TABMAPEL_X,DBLOGIC!AF2,FALSE),IF(OR($B$3=\"3 (tiga)\",$B$3=\"4 (empat)\"),HLOOKUP($C$3,TABMAPEL_XI,DBLOGIC!AF2,FALSE),IF(OR($B$3=\"5 (lima)\",$B$3=\"6 (enam)\"),HLOOKUP($C$3,TABMAPEL_XII,DBLOGIC!AF2,FALSE),IF(OR($B$3=\"7 (tujuh)\",$B$3=\"8 (delapan)\"),HLOOKUP($C$3,TABMAPEL_XIII,DBLOGIC!AF2,FALSE),\"-\"))))","v":{"$error":"#N/A"}},{"$f":"IF(OR($B$3=\"1 (satu)\",$B$3=\"2 (dua)\"),HLOOKUP($C$3,TABMAPEL_X,DBLOGIC!AG2,FALSE),IF(OR($B$3=\"3 (tiga)\",$B$3=\"4 (empat)\"),HLOOKUP($C$3,TABMAPEL_XI,DBLOGIC!AG2,FALSE),IF(OR($B$3=\"5 (lima)\",$B$3=\"6 (enam)\"),HLOOKUP($C$3,TABMAPEL_XII,DBLOGIC!AG2,FALSE),IF(OR($B$3=\"7 (tujuh)\",$B$3=\"8 (delapan)\"),HLOOKUP($C$3,TABMAPEL_XIII,DBLOGIC!AG2,FALSE),\"-\"))))","v":{"$error":"#N/A"}},{"$f":"IF(OR($B$3=\"1 (satu)\",$B$3=\"2 (dua)\"),HLOOKUP($C$3,TABMAPEL_X,DBLOGIC!AH2,FALSE),IF(OR($B$3=\"3 (tiga)\",$B$3=\"4 (empat)\"),HLOOKUP($C$3,TABMAPEL_XI,DBLOGIC!AH2,FALSE),IF(OR($B$3=\"5 (lima)\",$B$3=\"6 (enam)\"),HLOOKUP($C$3,TABMAPEL_XII,DBLOGIC!AH2,FALSE),IF(OR($B$3=\"7 (tujuh)\",$B$3=\"8 (delapan)\"),HLOOKUP($C$3,TABMAPEL_XIII,DBLOGIC!AH2,FALSE),\"-\"))))","v":{"$error":"#N/A"}},{"$f":"IF(OR($B$3=\"1 (satu)\",$B$3=\"2 (dua)\"),HLOOKUP($C$3,TABMAPEL_X,DBLOGIC!AI2,FALSE),IF(OR($B$3=\"3 (tiga)\",$B$3=\"4 (empat)\"),HLOOKUP($C$3,TABMAPEL_XI,DBLOGIC!AI2,FALSE),IF(OR($B$3=\"5 (lima)\",$B$3=\"6 (enam)\"),HLOOKUP($C$3,TABMAPEL_XII,DBLOGIC!AI2,FALSE),IF(OR($B$3=\"7 (tujuh)\",$B$3=\"8 (delapan)\"),HLOOKUP($C$3,TABMAPEL_XIII,DBLOGIC!AI2,FALSE),\"-\"))))","v":{"$error":"#N/A"}},{"$f":"IF(OR($B$3=\"1 (satu)\",$B$3=\"2 (dua)\"),HLOOKUP($C$3,TABMAPEL_X,DBLOGIC!AJ2,FALSE),IF(OR($B$3=\"3 (tiga)\",$B$3=\"4 (empat)\"),HLOOKUP($C$3,TABMAPEL_XI,DBLOGIC!AJ2,FALSE),IF(OR($B$3=\"5 (lima)\",$B$3=\"6 (enam)\"),HLOOKUP($C$3,TABMAPEL_XII,DBLOGIC!AJ2,FALSE),IF(OR($B$3=\"7 (tujuh)\",$B$3=\"8 (delapan)\"),HLOOKUP($C$3,TABMAPEL_XIII,DBLOGIC!AJ2,FALSE),\"-\"))))","v":{"$error":"#N/A"}},{"$f":"IF(OR($B$3=\"1 (satu)\",$B$3=\"2 (dua)\"),HLOOKUP($C$3,TABMAPEL_X,DBLOGIC!AK2,FALSE),IF(OR($B$3=\"3 (tiga)\",$B$3=\"4 (empat)\"),HLOOKUP($C$3,TABMAPEL_XI,DBLOGIC!AK2,FALSE),IF(OR($B$3=\"5 (lima)\",$B$3=\"6 (enam)\"),HLOOKUP($C$3,TABMAPEL_XII,DBLOGIC!AK2,FALSE),IF(OR($B$3=\"7 (tujuh)\",$B$3=\"8 (delapan)\"),HLOOKUP($C$3,TABMAPEL_XIII,DBLOGIC!AK2,FALSE),\"-\"))))","v":{"$error":"#N/A"}},{"$f":"IF(OR($B$3=\"1 (satu)\",$B$3=\"2 (dua)\"),HLOOKUP($C$3,TABMAPEL_X,DBLOGIC!AL2,FALSE),IF(OR($B$3=\"3 (tiga)\",$B$3=\"4 (empat)\"),HLOOKUP($C$3,TABMAPEL_XI,DBLOGIC!AL2,FALSE),IF(OR($B$3=\"5 (lima)\",$B$3=\"6 (enam)\"),HLOOKUP($C$3,TABMAPEL_XII,DBLOGIC!AL2,FALSE),IF(OR($B$3=\"7 (tujuh)\",$B$3=\"8 (delapan)\"),HLOOKUP($C$3,TABMAPEL_XIII,DBLOGIC!AL2,FALSE),\"-\"))))","v":{"$error":"#N/A"}},{"$f":"IF(OR($B$3=\"1 (satu)\",$B$3=\"2 (dua)\"),HLOOKUP($C$3,TABMAPEL_X,DBLOGIC!AM2,FALSE),IF(OR($B$3=\"3 (tiga)\",$B$3=\"4 (empat)\"),HLOOKUP($C$3,TABMAPEL_XI,DBLOGIC!AM2,FALSE),IF(OR($B$3=\"5 (lima)\",$B$3=\"6 (enam)\"),HLOOKUP($C$3,TABMAPEL_XII,DBLOGIC!AM2,FALSE),IF(OR($B$3=\"7 (tujuh)\",$B$3=\"8 (delapan)\"),HLOOKUP($C$3,TABMAPEL_XIII,DBLOGIC!AM2,FALSE),\"-\"))))","v":{"$error":"#N/A"}},{"$f":"IF(OR($B$3=\"1 (satu)\",$B$3=\"2 (dua)\"),HLOOKUP($C$3,TABMAPEL_X,DBLOGIC!AN2,FALSE),IF(OR($B$3=\"3 (tiga)\",$B$3=\"4 (empat)\"),HLOOKUP($C$3,TABMAPEL_XI,DBLOGIC!AN2,FALSE),IF(OR($B$3=\"5 (lima)\",$B$3=\"6 (enam)\"),HLOOKUP($C$3,TABMAPEL_XII,DBLOGIC!AN2,FALSE),IF(OR($B$3=\"7 (tujuh)\",$B$3=\"8 (delapan)\"),HLOOKUP($C$3,TABMAPEL_XIII,DBLOGIC!AN2,FALSE),\"-\"))))","v":{"$error":"#N/A"}},{"$f":"IF(OR($B$3=\"1 (satu)\",$B$3=\"2 (dua)\"),HLOOKUP($C$3,TABMAPEL_X,DBLOGIC!AO2,FALSE),IF(OR($B$3=\"3 (tiga)\",$B$3=\"4 (empat)\"),HLOOKUP($C$3,TABMAPEL_XI,DBLOGIC!AO2,FALSE),IF(OR($B$3=\"5 (lima)\",$B$3=\"6 (enam)\"),HLOOKUP($C$3,TABMAPEL_XII,DBLOGIC!AO2,FALSE),IF(OR($B$3=\"7 (tujuh)\",$B$3=\"8 (delapan)\"),HLOOKUP($C$3,TABMAPEL_XIII,DBLOGIC!AO2,FALSE),\"-\"))))","v":{"$error":"#N/A"}},{"$f":"IF(OR($B$3=\"1 (satu)\",$B$3=\"2 (dua)\"),HLOOKUP($C$3,TABMAPEL_X,DBLOGIC!AP2,FALSE),IF(OR($B$3=\"3 (tiga)\",$B$3=\"4 (empat)\"),HLOOKUP($C$3,TABMAPEL_XI,DBLOGIC!AP2,FALSE),IF(OR($B$3=\"5 (lima)\",$B$3=\"6 (enam)\"),HLOOKUP($C$3,TABMAPEL_XII,DBLOGIC!AP2,FALSE),IF(OR($B$3=\"7 (tujuh)\",$B$3=\"8 (delapan)\"),HLOOKUP($C$3,TABMAPEL_XIII,DBLOGIC!AP2,FALSE),\"-\"))))","v":{"$error":"#N/A"}},{"$f":"IF(OR($B$3=\"1 (satu)\",$B$3=\"2 (dua)\"),HLOOKUP($C$3,TABMAPEL_X,DBLOGIC!AQ2,FALSE),IF(OR($B$3=\"3 (tiga)\",$B$3=\"4 (empat)\"),HLOOKUP($C$3,TABMAPEL_XI,DBLOGIC!AQ2,FALSE),IF(OR($B$3=\"5 (lima)\",$B$3=\"6 (enam)\"),HLOOKUP($C$3,TABMAPEL_XII,DBLOGIC!AQ2,FALSE),IF(OR($B$3=\"7 (tujuh)\",$B$3=\"8 (delapan)\"),HLOOKUP($C$3,TABMAPEL_XIII,DBLOGIC!AQ2,FALSE),\"-\"))))","v":{"$error":"#N/A"}},{"$f":"IF(OR($B$3=\"1 (satu)\",$B$3=\"2 (dua)\"),HLOOKUP($C$3,TABMAPEL_X,DBLOGIC!AR2,FALSE),IF(OR($B$3=\"3 (tiga)\",$B$3=\"4 (empat)\"),HLOOKUP($C$3,TABMAPEL_XI,DBLOGIC!AR2,FALSE),IF(OR($B$3=\"5 (lima)\",$B$3=\"6 (enam)\"),HLOOKUP($C$3,TABMAPEL_XII,DBLOGIC!AR2,FALSE),IF(OR($B$3=\"7 (tujuh)\",$B$3=\"8 (delapan)\"),HLOOKUP($C$3,TABMAPEL_XIII,DBLOGIC!AR2,FALSE),\"-\"))))","v":{"$error":"#N/A"}},{"$f":"IF(OR($B$3=\"1 (satu)\",$B$3=\"2 (dua)\"),HLOOKUP($C$3,TABMAPEL_X,DBLOGIC!AS2,FALSE),IF(OR($B$3=\"3 (tiga)\",$B$3=\"4 (empat)\"),HLOOKUP($C$3,TABMAPEL_XI,DBLOGIC!AS2,FALSE),IF(OR($B$3=\"5 (lima)\",$B$3=\"6 (enam)\"),HLOOKUP($C$3,TABMAPEL_XII,DBLOGIC!AS2,FALSE),IF(OR($B$3=\"7 (tujuh)\",$B$3=\"8 (delapan)\"),HLOOKUP($C$3,TABMAPEL_XIII,DBLOGIC!AS2,FALSE),\"-\"))))","v":{"$error":"#N/A"}},{"$f":"IF(OR($B$3=\"1 (satu)\",$B$3=\"2 (dua)\"),HLOOKUP($C$3,TABMAPEL_X,DBLOGIC!AT2,FALSE),IF(OR($B$3=\"3 (tiga)\",$B$3=\"4 (empat)\"),HLOOKUP($C$3,TABMAPEL_XI,DBLOGIC!AT2,FALSE),IF(OR($B$3=\"5 (lima)\",$B$3=\"6 (enam)\"),HLOOKUP($C$3,TABMAPEL_XII,DBLOGIC!AT2,FALSE),IF(OR($B$3=\"7 (tujuh)\",$B$3=\"8 (delapan)\"),HLOOKUP($C$3,TABMAPEL_XIII,DBLOGIC!AT2,FALSE),\"-\"))))","v":{"$error":"#N/A"}},{"$f":"IF(OR($B$3=\"1 (satu)\",$B$3=\"2 (dua)\"),HLOOKUP($C$3,TABMAPEL_X,DBLOGIC!AU2,FALSE),IF(OR($B$3=\"3 (tiga)\",$B$3=\"4 (empat)\"),HLOOKUP($C$3,TABMAPEL_XI,DBLOGIC!AU2,FALSE),IF(OR($B$3=\"5 (lima)\",$B$3=\"6 (enam)\"),HLOOKUP($C$3,TABMAPEL_XII,DBLOGIC!AU2,FALSE),IF(OR($B$3=\"7 (tujuh)\",$B$3=\"8 (delapan)\"),HLOOKUP($C$3,TABMAPEL_XIII,DBLOGIC!AU2,FALSE),\"-\"))))","v":{"$error":"#N/A"}},{"$f":"IF(OR($B$3=\"1 (satu)\",$B$3=\"2 (dua)\"),HLOOKUP($C$3,TABMAPEL_X,DBLOGIC!AV2,FALSE),IF(OR($B$3=\"3 (tiga)\",$B$3=\"4 (empat)\"),HLOOKUP($C$3,TABMAPEL_XI,DBLOGIC!AV2,FALSE),IF(OR($B$3=\"5 (lima)\",$B$3=\"6 (enam)\"),HLOOKUP($C$3,TABMAPEL_XII,DBLOGIC!AV2,FALSE),IF(OR($B$3=\"7 (tujuh)\",$B$3=\"8 (delapan)\"),HLOOKUP($C$3,TABMAPEL_XIII,DBLOGIC!AV2,FALSE),\"-\"))))","v":{"$error":"#N/A"}},{"$f":"IF(OR($B$3=\"1 (satu)\",$B$3=\"2 (dua)\"),HLOOKUP($C$3,TABMAPEL_X,DBLOGIC!AW2,FALSE),IF(OR($B$3=\"3 (tiga)\",$B$3=\"4 (empat)\"),HLOOKUP($C$3,TABMAPEL_XI,DBLOGIC!AW2,FALSE),IF(OR($B$3=\"5 (lima)\",$B$3=\"6 (enam)\"),HLOOKUP($C$3,TABMAPEL_XII,DBLOGIC!AW2,FALSE),IF(OR($B$3=\"7 (tujuh)\",$B$3=\"8 (delapan)\"),HLOOKUP($C$3,TABMAPEL_XIII,DBLOGIC!AW2,FALSE),\"-\"))))","v":{"$error":"#N/A"}},{"$f":"IF(OR($B$3=\"1 (satu)\",$B$3=\"2 (dua)\"),HLOOKUP($C$3,TABMAPEL_X,DBLOGIC!AX2,FALSE),IF(OR($B$3=\"3 (tiga)\",$B$3=\"4 (empat)\"),HLOOKUP($C$3,TABMAPEL_XI,DBLOGIC!AX2,FALSE),IF(OR($B$3=\"5 (lima)\",$B$3=\"6 (enam)\"),HLOOKUP($C$3,TABMAPEL_XII,DBLOGIC!AX2,FALSE),IF(OR($B$3=\"7 (tujuh)\",$B$3=\"8 (delapan)\"),HLOOKUP($C$3,TABMAPEL_XIII,DBLOGIC!AX2,FALSE),\"-\"))))","v":{"$error":"#N/A"}},{"$f":"IF(OR($B$3=\"1 (satu)\",$B$3=\"2 (dua)\"),HLOOKUP($C$3,TABMAPEL_X,DBLOGIC!AY2,FALSE),IF(OR($B$3=\"3 (tiga)\",$B$3=\"4 (empat)\"),HLOOKUP($C$3,TABMAPEL_XI,DBLOGIC!AY2,FALSE),IF(OR($B$3=\"5 (lima)\",$B$3=\"6 (enam)\"),HLOOKUP($C$3,TABMAPEL_XII,DBLOGIC!AY2,FALSE),IF(OR($B$3=\"7 (tujuh)\",$B$3=\"8 (delapan)\"),HLOOKUP($C$3,TABMAPEL_XIII,DBLOGIC!AY2,FALSE),\"-\"))))","v":{"$error":"#N/A"}},{"$f":"IF(OR($B$3=\"1 (satu)\",$B$3=\"2 (dua)\"),HLOOKUP($C$3,TABMAPEL_X,DBLOGIC!AZ2,FALSE),IF(OR($B$3=\"3 (tiga)\",$B$3=\"4 (empat)\"),HLOOKUP($C$3,TABMAPEL_XI,DBLOGIC!AZ2,FALSE),IF(OR($B$3=\"5 (lima)\",$B$3=\"6 (enam)\"),HLOOKUP($C$3,TABMAPEL_XII,DBLOGIC!AZ2,FALSE),IF(OR($B$3=\"7 (tujuh)\",$B$3=\"8 (delapan)\"),HLOOKUP($C$3,TABMAPEL_XIII,DBLOGIC!AZ2,FALSE),\"-\"))))","v":{"$error":"#N/A"}},{"$f":"IF(OR($B$3=\"1 (satu)\",$B$3=\"2 (dua)\"),HLOOKUP($C$3,TABMAPEL_X,DBLOGIC!BA2,FALSE),IF(OR($B$3=\"3 (tiga)\",$B$3=\"4 (empat)\"),HLOOKUP($C$3,TABMAPEL_XI,DBLOGIC!BA2,FALSE),IF(OR($B$3=\"5 (lima)\",$B$3=\"6 (enam)\"),HLOOKUP($C$3,TABMAPEL_XII,DBLOGIC!BA2,FALSE),IF(OR($B$3=\"7 (tujuh)\",$B$3=\"8 (delapan)\"),HLOOKUP($C$3,TABMAPEL_XIII,DBLOGIC!BA2,FALSE),\"-\"))))","v":{"$error":"#N/A"}},{"$f":"IF(OR($B$3=\"1 (satu)\",$B$3=\"2 (dua)\"),HLOOKUP($C$3,TABMAPEL_X,DBLOGIC!BB2,FALSE),IF(OR($B$3=\"3 (tiga)\",$B$3=\"4 (empat)\"),HLOOKUP($C$3,TABMAPEL_XI,DBLOGIC!BB2,FALSE),IF(OR($B$3=\"5 (lima)\",$B$3=\"6 (enam)\"),HLOOKUP($C$3,TABMAPEL_XII,DBLOGIC!BB2,FALSE),IF(OR($B$3=\"7 (tujuh)\",$B$3=\"8 (delapan)\"),HLOOKUP($C$3,TABMAPEL_XIII,DBLOGIC!BB2,FALSE),\"-\"))))","v":{"$error":"#N/A"}},{"$f":"IF(OR($B$3=\"1 (satu)\",$B$3=\"2 (dua)\"),HLOOKUP($C$3,TABMAPEL_X,DBLOGIC!BC2,FALSE),IF(OR($B$3=\"3 (tiga)\",$B$3=\"4 (empat)\"),HLOOKUP($C$3,TABMAPEL_XI,DBLOGIC!BC2,FALSE),IF(OR($B$3=\"5 (lima)\",$B$3=\"6 (enam)\"),HLOOKUP($C$3,TABMAPEL_XII,DBLOGIC!BC2,FALSE),IF(OR($B$3=\"7 (tujuh)\",$B$3=\"8 (delapan)\"),HLOOKUP($C$3,TABMAPEL_XIII,DBLOGIC!BC2,FALSE),\"-\"))))","v":{"$error":"#N/A"}},{"$f":"IF(OR($B$3=\"1 (satu)\",$B$3=\"2 (dua)\"),HLOOKUP($C$3,TABMAPEL_X,DBLOGIC!BD2,FALSE),IF(OR($B$3=\"3 (tiga)\",$B$3=\"4 (empat)\"),HLOOKUP($C$3,TABMAPEL_XI,DBLOGIC!BD2,FALSE),IF(OR($B$3=\"5 (lima)\",$B$3=\"6 (enam)\"),HLOOKUP($C$3,TABMAPEL_XII,DBLOGIC!BD2,FALSE),IF(OR($B$3=\"7 (tujuh)\",$B$3=\"8 (delapan)\"),HLOOKUP($C$3,TABMAPEL_XIII,DBLOGIC!BD2,FALSE),\"-\"))))","v":{"$error":"#N/A"}},{"$f":"IF(OR($B$3=\"1 (satu)\",$B$3=\"2 (dua)\"),HLOOKUP($C$3,TABMAPEL_X,DBLOGIC!BE2,FALSE),IF(OR($B$3=\"3 (tiga)\",$B$3=\"4 (empat)\"),HLOOKUP($C$3,TABMAPEL_XI,DBLOGIC!BE2,FALSE),IF(OR($B$3=\"5 (lima)\",$B$3=\"6 (enam)\"),HLOOKUP($C$3,TABMAPEL_XII,DBLOGIC!BE2,FALSE),IF(OR($B$3=\"7 (tujuh)\",$B$3=\"8 (delapan)\"),HLOOKUP($C$3,TABMAPEL_XIII,DBLOGIC!BE2,FALSE),\"-\"))))","v":{"$error":"#N/A"}},{"$f":"IF(OR($B$3=\"1 (satu)\",$B$3=\"2 (dua)\"),HLOOKUP($C$3,TABMAPEL_X,DBLOGIC!BF2,FALSE),IF(OR($B$3=\"3 (tiga)\",$B$3=\"4 (empat)\"),HLOOKUP($C$3,TABMAPEL_XI,DBLOGIC!BF2,FALSE),IF(OR($B$3=\"5 (lima)\",$B$3=\"6 (enam)\"),HLOOKUP($C$3,TABMAPEL_XII,DBLOGIC!BF2,FALSE),IF(OR($B$3=\"7 (tujuh)\",$B$3=\"8 (delapan)\"),HLOOKUP($C$3,TABMAPEL_XIII,DBLOGIC!BF2,FALSE),\"-\"))))","v":{"$error":"#N/A"}},{"$f":"IF(OR($B$3=\"1 (satu)\",$B$3=\"2 (dua)\"),HLOOKUP($C$3,TABMAPEL_X,DBLOGIC!BG2,FALSE),IF(OR($B$3=\"3 (tiga)\",$B$3=\"4 (empat)\"),HLOOKUP($C$3,TABMAPEL_XI,DBLOGIC!BG2,FALSE),IF(OR($B$3=\"5 (lima)\",$B$3=\"6 (enam)\"),HLOOKUP($C$3,TABMAPEL_XII,DBLOGIC!BG2,FALSE),IF(OR($B$3=\"7 (tujuh)\",$B$3=\"8 (delapan)\"),HLOOKUP($C$3,TABMAPEL_XIII,DBLOGIC!BG2,FALSE),\"-\"))))","v":{"$error":"#N/A"}},{"$f":"IF(OR($B$3=\"1 (satu)\",$B$3=\"2 (dua)\"),HLOOKUP($C$3,TABMAPEL_X,DBLOGIC!BH2,FALSE),IF(OR($B$3=\"3 (tiga)\",$B$3=\"4 (empat)\"),HLOOKUP($C$3,TABMAPEL_XI,DBLOGIC!BH2,FALSE),IF(OR($B$3=\"5 (lima)\",$B$3=\"6 (enam)\"),HLOOKUP($C$3,TABMAPEL_XII,DBLOGIC!BH2,FALSE),IF(OR($B$3=\"7 (tujuh)\",$B$3=\"8 (delapan)\"),HLOOKUP($C$3,TABMAPEL_XIII,DBLOGIC!BH2,FALSE),\"-\"))))","v":{"$error":"#N/A"}},{"$f":"IF(OR($B$3=\"1 (satu)\",$B$3=\"2 (dua)\"),HLOOKUP($C$3,TABMAPEL_X,DBLOGIC!BI2,FALSE),IF(OR($B$3=\"3 (tiga)\",$B$3=\"4 (empat)\"),HLOOKUP($C$3,TABMAPEL_XI,DBLOGIC!BI2,FALSE),IF(OR($B$3=\"5 (lima)\",$B$3=\"6 (enam)\"),HLOOKUP($C$3,TABMAPEL_XII,DBLOGIC!BI2,FALSE),IF(OR($B$3=\"7 (tujuh)\",$B$3=\"8 (delapan)\"),HLOOKUP($C$3,TABMAPEL_XIII,DBLOGIC!BI2,FALSE),\"-\"))))","v":{"$error":"#N/A"}},{"$f":"IF(OR($B$3=\"1 (satu)\",$B$3=\"2 (dua)\"),HLOOKUP($C$3,TABMAPEL_X,DBLOGIC!BJ2,FALSE),IF(OR($B$3=\"3 (tiga)\",$B$3=\"4 (empat)\"),HLOOKUP($C$3,TABMAPEL_XI,DBLOGIC!BJ2,FALSE),IF(OR($B$3=\"5 (lima)\",$B$3=\"6 (enam)\"),HLOOKUP($C$3,TABMAPEL_XII,DBLOGIC!BJ2,FALSE),IF(OR($B$3=\"7 (tujuh)\",$B$3=\"8 (delapan)\"),HLOOKUP($C$3,TABMAPEL_XIII,DBLOGIC!BJ2,FALSE),\"-\"))))","v":{"$error":"#N/A"}},{"$f":"IF(OR($B$3=\"1 (satu)\",$B$3=\"2 (dua)\"),HLOOKUP($C$3,TABMAPEL_X,DBLOGIC!BK2,FALSE),IF(OR($B$3=\"3 (tiga)\",$B$3=\"4 (empat)\"),HLOOKUP($C$3,TABMAPEL_XI,DBLOGIC!BK2,FALSE),IF(OR($B$3=\"5 (lima)\",$B$3=\"6 (enam)\"),HLOOKUP($C$3,TABMAPEL_XII,DBLOGIC!BK2,FALSE),IF(OR($B$3=\"7 (tujuh)\",$B$3=\"8 (delapan)\"),HLOOKUP($C$3,TABMAPEL_XIII,DBLOGIC!BK2,FALSE),\"-\"))))","v":{"$error":"#N/A"}},{"$f":"IF(OR($B$3=\"1 (satu)\",$B$3=\"2 (dua)\"),HLOOKUP($C$3,TABMAPEL_X,DBLOGIC!BL2,FALSE),IF(OR($B$3=\"3 (tiga)\",$B$3=\"4 (empat)\"),HLOOKUP($C$3,TABMAPEL_XI,DBLOGIC!BL2,FALSE),IF(OR($B$3=\"5 (lima)\",$B$3=\"6 (enam)\"),HLOOKUP($C$3,TABMAPEL_XII,DBLOGIC!BL2,FALSE),IF(OR($B$3=\"7 (tujuh)\",$B$3=\"8 (delapan)\"),HLOOKUP($C$3,TABMAPEL_XIII,DBLOGIC!BL2,FALSE),\"-\"))))","v":{"$error":"#N/A"}},{"$f":"IF(OR($B$3=\"1 (satu)\",$B$3=\"2 (dua)\"),HLOOKUP($C$3,TABMAPEL_X,DBLOGIC!BM2,FALSE),IF(OR($B$3=\"3 (tiga)\",$B$3=\"4 (empat)\"),HLOOKUP($C$3,TABMAPEL_XI,DBLOGIC!BM2,FALSE),IF(OR($B$3=\"5 (lima)\",$B$3=\"6 (enam)\"),HLOOKUP($C$3,TABMAPEL_XII,DBLOGIC!BM2,FALSE),IF(OR($B$3=\"7 (tujuh)\",$B$3=\"8 (delapan)\"),HLOOKUP($C$3,TABMAPEL_XIII,DBLOGIC!BM2,FALSE),\"-\"))))","v":{"$error":"#N/A"}},{"$f":"IF(OR($B$3=\"1 (satu)\",$B$3=\"2 (dua)\"),HLOOKUP($C$3,TABMAPEL_X,DBLOGIC!BN2,FALSE),IF(OR($B$3=\"3 (tiga)\",$B$3=\"4 (empat)\"),HLOOKUP($C$3,TABMAPEL_XI,DBLOGIC!BN2,FALSE),IF(OR($B$3=\"5 (lima)\",$B$3=\"6 (enam)\"),HLOOKUP($C$3,TABMAPEL_XII,DBLOGIC!BN2,FALSE),IF(OR($B$3=\"7 (tujuh)\",$B$3=\"8 (delapan)\"),HLOOKUP($C$3,TABMAPEL_XIII,DBLOGIC!BN2,FALSE),\"-\"))))","v":{"$error":"#N/A"}},{"$f":"IF(OR($B$3=\"1 (satu)\",$B$3=\"2 (dua)\"),HLOOKUP($C$3,TABMAPEL_X,DBLOGIC!BO2,FALSE),IF(OR($B$3=\"3 (tiga)\",$B$3=\"4 (empat)\"),HLOOKUP($C$3,TABMAPEL_XI,DBLOGIC!BO2,FALSE),IF(OR($B$3=\"5 (lima)\",$B$3=\"6 (enam)\"),HLOOKUP($C$3,TABMAPEL_XII,DBLOGIC!BO2,FALSE),IF(OR($B$3=\"7 (tujuh)\",$B$3=\"8 (delapan)\"),HLOOKUP($C$3,TABMAPEL_XIII,DBLOGIC!BO2,FALSE),\"-\"))))","v":{"$error":"#N/A"}},{"$f":"IF(OR($B$3=\"1 (satu)\",$B$3=\"2 (dua)\"),HLOOKUP($C$3,TABMAPEL_X,DBLOGIC!BP2,FALSE),IF(OR($B$3=\"3 (tiga)\",$B$3=\"4 (empat)\"),HLOOKUP($C$3,TABMAPEL_XI,DBLOGIC!BP2,FALSE),IF(OR($B$3=\"5 (lima)\",$B$3=\"6 (enam)\"),HLOOKUP($C$3,TABMAPEL_XII,DBLOGIC!BP2,FALSE),IF(OR($B$3=\"7 (tujuh)\",$B$3=\"8 (delapan)\"),HLOOKUP($C$3,TABMAPEL_XIII,DBLOGIC!BP2,FALSE),\"-\"))))","v":{"$error":"#N/A"}},{"$f":"IF(OR($B$3=\"1 (satu)\",$B$3=\"2 (dua)\"),HLOOKUP($C$3,TABMAPEL_X,DBLOGIC!BQ2,FALSE),IF(OR($B$3=\"3 (tiga)\",$B$3=\"4 (empat)\"),HLOOKUP($C$3,TABMAPEL_XI,DBLOGIC!BQ2,FALSE),IF(OR($B$3=\"5 (lima)\",$B$3=\"6 (enam)\"),HLOOKUP($C$3,TABMAPEL_XII,DBLOGIC!BQ2,FALSE),IF(OR($B$3=\"7 (tujuh)\",$B$3=\"8 (delapan)\"),HLOOKUP($C$3,TABMAPEL_XIII,DBLOGIC!BQ2,FALSE),\"-\"))))","v":{"$error":"#N/A"}},{"$f":"IF(OR($B$3=\"1 (satu)\",$B$3=\"2 (dua)\"),HLOOKUP($C$3,TABMAPEL_X,DBLOGIC!BR2,FALSE),IF(OR($B$3=\"3 (tiga)\",$B$3=\"4 (empat)\"),HLOOKUP($C$3,TABMAPEL_XI,DBLOGIC!BR2,FALSE),IF(OR($B$3=\"5 (lima)\",$B$3=\"6 (enam)\"),HLOOKUP($C$3,TABMAPEL_XII,DBLOGIC!BR2,FALSE),IF(OR($B$3=\"7 (tujuh)\",$B$3=\"8 (delapan)\"),HLOOKUP($C$3,TABMAPEL_XIII,DBLOGIC!BR2,FALSE),\"-\"))))","v":{"$error":"#N/A"}},{"$f":"IF(OR($B$3=\"1 (satu)\",$B$3=\"2 (dua)\"),HLOOKUP($C$3,TABMAPEL_X,DBLOGIC!BS2,FALSE),IF(OR($B$3=\"3 (tiga)\",$B$3=\"4 (empat)\"),HLOOKUP($C$3,TABMAPEL_XI,DBLOGIC!BS2,FALSE),IF(OR($B$3=\"5 (lima)\",$B$3=\"6 (enam)\"),HLOOKUP($C$3,TABMAPEL_XII,DBLOGIC!BS2,FALSE),IF(OR($B$3=\"7 (tujuh)\",$B$3=\"8 (delapan)\"),HLOOKUP($C$3,TABMAPEL_XIII,DBLOGIC!BS2,FALSE),\"-\"))))","v":{"$error":"#N/A"}},{"$f":"IF(OR($B$3=\"1 (satu)\",$B$3=\"2 (dua)\"),HLOOKUP($C$3,TABMAPEL_X,DBLOGIC!BT2,FALSE),IF(OR($B$3=\"3 (tiga)\",$B$3=\"4 (empat)\"),HLOOKUP($C$3,TABMAPEL_XI,DBLOGIC!BT2,FALSE),IF(OR($B$3=\"5 (lima)\",$B$3=\"6 (enam)\"),HLOOKUP($C$3,TABMAPEL_XII,DBLOGIC!BT2,FALSE),IF(OR($B$3=\"7 (tujuh)\",$B$3=\"8 (delapan)\"),HLOOKUP($C$3,TABMAPEL_XIII,DBLOGIC!BT2,FALSE),\"-\"))))","v":{"$error":"#N/A"}},{"$f":"IF(OR($B$3=\"1 (satu)\",$B$3=\"2 (dua)\"),HLOOKUP($C$3,TABMAPEL_X,DBLOGIC!BU2,FALSE),IF(OR($B$3=\"3 (tiga)\",$B$3=\"4 (empat)\"),HLOOKUP($C$3,TABMAPEL_XI,DBLOGIC!BU2,FALSE),IF(OR($B$3=\"5 (lima)\",$B$3=\"6 (enam)\"),HLOOKUP($C$3,TABMAPEL_XII,DBLOGIC!BU2,FALSE),IF(OR($B$3=\"7 (tujuh)\",$B$3=\"8 (delapan)\"),HLOOKUP($C$3,TABMAPEL_XIII,DBLOGIC!BU2,FALSE),\"-\"))))","v":{"$error":"#N/A"}},{"$f":"IF(OR($B$3=\"1 (satu)\",$B$3=\"2 (dua)\"),HLOOKUP($C$3,TABMAPEL_X,DBLOGIC!BV2,FALSE),IF(OR($B$3=\"3 (tiga)\",$B$3=\"4 (empat)\"),HLOOKUP($C$3,TABMAPEL_XI,DBLOGIC!BV2,FALSE),IF(OR($B$3=\"5 (lima)\",$B$3=\"6 (enam)\"),HLOOKUP($C$3,TABMAPEL_XII,DBLOGIC!BV2,FALSE),IF(OR($B$3=\"7 (tujuh)\",$B$3=\"8 (delapan)\"),HLOOKUP($C$3,TABMAPEL_XIII,DBLOGIC!BV2,FALSE),\"-\"))))","v":{"$error":"#N/A"}},{"$f":"IF(OR($B$3=\"1 (satu)\",$B$3=\"2 (dua)\"),HLOOKUP($C$3,TABMAPEL_X,DBLOGIC!BW2,FALSE),IF(OR($B$3=\"3 (tiga)\",$B$3=\"4 (empat)\"),HLOOKUP($C$3,TABMAPEL_XI,DBLOGIC!BW2,FALSE),IF(OR($B$3=\"5 (lima)\",$B$3=\"6 (enam)\"),HLOOKUP($C$3,TABMAPEL_XII,DBLOGIC!BW2,FALSE),IF(OR($B$3=\"7 (tujuh)\",$B$3=\"8 (delapan)\"),HLOOKUP($C$3,TABMAPEL_XIII,DBLOGIC!BW2,FALSE),\"-\"))))","v":{"$error":"#N/A"}},{"$f":"IF(OR($B$3=\"1 (satu)\",$B$3=\"2 (dua)\"),HLOOKUP($C$3,TABMAPEL_X,DBLOGIC!BX2,FALSE),IF(OR($B$3=\"3 (tiga)\",$B$3=\"4 (empat)\"),HLOOKUP($C$3,TABMAPEL_XI,DBLOGIC!BX2,FALSE),IF(OR($B$3=\"5 (lima)\",$B$3=\"6 (enam)\"),HLOOKUP($C$3,TABMAPEL_XII,DBLOGIC!BX2,FALSE),IF(OR($B$3=\"7 (tujuh)\",$B$3=\"8 (delapan)\"),HLOOKUP($C$3,TABMAPEL_XIII,DBLOGIC!BX2,FALSE),\"-\"))))","v":{"$error":"#N/A"}},{"$f":"IF(OR($B$3=\"1 (satu)\",$B$3=\"2 (dua)\"),HLOOKUP($C$3,TABMAPEL_X,DBLOGIC!BY2,FALSE),IF(OR($B$3=\"3 (tiga)\",$B$3=\"4 (empat)\"),HLOOKUP($C$3,TABMAPEL_XI,DBLOGIC!BY2,FALSE),IF(OR($B$3=\"5 (lima)\",$B$3=\"6 (enam)\"),HLOOKUP($C$3,TABMAPEL_XII,DBLOGIC!BY2,FALSE),IF(OR($B$3=\"7 (tujuh)\",$B$3=\"8 (delapan)\"),HLOOKUP($C$3,TABMAPEL_XIII,DBLOGIC!BY2,FALSE),\"-\"))))","v":{"$error":"#N/A"}},{"$f":"IF(OR($B$3=\"1 (satu)\",$B$3=\"2 (dua)\"),HLOOKUP($C$3,TABMAPEL_X,DBLOGIC!BZ2,FALSE),IF(OR($B$3=\"3 (tiga)\",$B$3=\"4 (empat)\"),HLOOKUP($C$3,TABMAPEL_XI,DBLOGIC!BZ2,FALSE),IF(OR($B$3=\"5 (lima)\",$B$3=\"6 (enam)\"),HLOOKUP($C$3,TABMAPEL_XII,DBLOGIC!BZ2,FALSE),IF(OR($B$3=\"7 (tujuh)\",$B$3=\"8 (delapan)\"),HLOOKUP($C$3,TABMAPEL_XIII,DBLOGIC!BZ2,FALSE),\"-\"))))","v":{"$error":"#N/A"}},{"$f":"IF(OR($B$3=\"1 (satu)\",$B$3=\"2 (dua)\"),HLOOKUP($C$3,TABMAPEL_X,DBLOGIC!CA2,FALSE),IF(OR($B$3=\"3 (tiga)\",$B$3=\"4 (empat)\"),HLOOKUP($C$3,TABMAPEL_XI,DBLOGIC!CA2,FALSE),IF(OR($B$3=\"5 (lima)\",$B$3=\"6 (enam)\"),HLOOKUP($C$3,TABMAPEL_XII,DBLOGIC!CA2,FALSE),IF(OR($B$3=\"7 (tujuh)\",$B$3=\"8 (delapan)\"),HLOOKUP($C$3,TABMAPEL_XIII,DBLOGIC!CA2,FALSE),\"-\"))))","v":{"$error":"#N/A"}},{"$f":"IF(OR($B$3=\"1 (satu)\",$B$3=\"2 (dua)\"),HLOOKUP($C$3,TABMAPEL_X,DBLOGIC!CB2,FALSE),IF(OR($B$3=\"3 (tiga)\",$B$3=\"4 (empat)\"),HLOOKUP($C$3,TABMAPEL_XI,DBLOGIC!CB2,FALSE),IF(OR($B$3=\"5 (lima)\",$B$3=\"6 (enam)\"),HLOOKUP($C$3,TABMAPEL_XII,DBLOGIC!CB2,FALSE),IF(OR($B$3=\"7 (tujuh)\",$B$3=\"8 (delapan)\"),HLOOKUP($C$3,TABMAPEL_XIII,DBLOGIC!CB2,FALSE),\"-\"))))","v":{"$error":"#N/A"}},{"$f":"IF(OR($B$3=\"1 (satu)\",$B$3=\"2 (dua)\"),HLOOKUP($C$3,TABMAPEL_X,DBLOGIC!CC2,FALSE),IF(OR($B$3=\"3 (tiga)\",$B$3=\"4 (empat)\"),HLOOKUP($C$3,TABMAPEL_XI,DBLOGIC!CC2,FALSE),IF(OR($B$3=\"5 (lima)\",$B$3=\"6 (enam)\"),HLOOKUP($C$3,TABMAPEL_XII,DBLOGIC!CC2,FALSE),IF(OR($B$3=\"7 (tujuh)\",$B$3=\"8 (delapan)\"),HLOOKUP($C$3,TABMAPEL_XIII,DBLOGIC!CC2,FALSE),\"-\"))))","v":{"$error":"#N/A"}},{"$f":"IF(OR($B$3=\"1 (satu)\",$B$3=\"2 (dua)\"),HLOOKUP($C$3,TABMAPEL_X,DBLOGIC!CD2,FALSE),IF(OR($B$3=\"3 (tiga)\",$B$3=\"4 (empat)\"),HLOOKUP($C$3,TABMAPEL_XI,DBLOGIC!CD2,FALSE),IF(OR($B$3=\"5 (lima)\",$B$3=\"6 (enam)\"),HLOOKUP($C$3,TABMAPEL_XII,DBLOGIC!CD2,FALSE),IF(OR($B$3=\"7 (tujuh)\",$B$3=\"8 (delapan)\"),HLOOKUP($C$3,TABMAPEL_XIII,DBLOGIC!CD2,FALSE),\"-\"))))","v":{"$error":"#N/A"}},{"$f":"IF(OR($B$3=\"1 (satu)\",$B$3=\"2 (dua)\"),HLOOKUP($C$3,TABMAPEL_X,DBLOGIC!CE2,FALSE),IF(OR($B$3=\"3 (tiga)\",$B$3=\"4 (empat)\"),HLOOKUP($C$3,TABMAPEL_XI,DBLOGIC!CE2,FALSE),IF(OR($B$3=\"5 (lima)\",$B$3=\"6 (enam)\"),HLOOKUP($C$3,TABMAPEL_XII,DBLOGIC!CE2,FALSE),IF(OR($B$3=\"7 (tujuh)\",$B$3=\"8 (delapan)\"),HLOOKUP($C$3,TABMAPEL_XIII,DBLOGIC!CE2,FALSE),\"-\"))))","v":{"$error":"#N/A"}},{"$f":"IF(OR($B$3=\"1 (satu)\",$B$3=\"2 (dua)\"),HLOOKUP($C$3,TABMAPEL_X,DBLOGIC!CF2,FALSE),IF(OR($B$3=\"3 (tiga)\",$B$3=\"4 (empat)\"),HLOOKUP($C$3,TABMAPEL_XI,DBLOGIC!CF2,FALSE),IF(OR($B$3=\"5 (lima)\",$B$3=\"6 (enam)\"),HLOOKUP($C$3,TABMAPEL_XII,DBLOGIC!CF2,FALSE),IF(OR($B$3=\"7 (tujuh)\",$B$3=\"8 (delapan)\"),HLOOKUP($C$3,TABMAPEL_XIII,DBLOGIC!CF2,FALSE),\"-\"))))","v":{"$error":"#N/A"}},{"$f":"IF(OR($B$3=\"1 (satu)\",$B$3=\"2 (dua)\"),HLOOKUP($C$3,TABMAPEL_X,DBLOGIC!CG2,FALSE),IF(OR($B$3=\"3 (tiga)\",$B$3=\"4 (empat)\"),HLOOKUP($C$3,TABMAPEL_XI,DBLOGIC!CG2,FALSE),IF(OR($B$3=\"5 (lima)\",$B$3=\"6 (enam)\"),HLOOKUP($C$3,TABMAPEL_XII,DBLOGIC!CG2,FALSE),IF(OR($B$3=\"7 (tujuh)\",$B$3=\"8 (delapan)\"),HLOOKUP($C$3,TABMAPEL_XIII,DBLOGIC!CG2,FALSE),\"-\"))))","v":{"$error":"#N/A"}},{"$f":"IF(OR($B$3=\"1 (satu)\",$B$3=\"2 (dua)\"),HLOOKUP($C$3,TABMAPEL_X,DBLOGIC!CH2,FALSE),IF(OR($B$3=\"3 (tiga)\",$B$3=\"4 (empat)\"),HLOOKUP($C$3,TABMAPEL_XI,DBLOGIC!CH2,FALSE),IF(OR($B$3=\"5 (lima)\",$B$3=\"6 (enam)\"),HLOOKUP($C$3,TABMAPEL_XII,DBLOGIC!CH2,FALSE),IF(OR($B$3=\"7 (tujuh)\",$B$3=\"8 (delapan)\"),HLOOKUP($C$3,TABMAPEL_XIII,DBLOGIC!CH2,FALSE),\"-\"))))","v":{"$error":"#N/A"}},{"$f":"IF(OR($B$3=\"1 (satu)\",$B$3=\"2 (dua)\"),HLOOKUP($C$3,TABMAPEL_X,DBLOGIC!CI2,FALSE),IF(OR($B$3=\"3 (tiga)\",$B$3=\"4 (empat)\"),HLOOKUP($C$3,TABMAPEL_XI,DBLOGIC!CI2,FALSE),IF(OR($B$3=\"5 (lima)\",$B$3=\"6 (enam)\"),HLOOKUP($C$3,TABMAPEL_XII,DBLOGIC!CI2,FALSE),IF(OR($B$3=\"7 (tujuh)\",$B$3=\"8 (delapan)\"),HLOOKUP($C$3,TABMAPEL_XIII,DBLOGIC!CI2,FALSE),\"-\"))))","v":{"$error":"#N/A"}},{"$f":"IF(OR($B$3=\"1 (satu)\",$B$3=\"2 (dua)\"),HLOOKUP($C$3,TABMAPEL_X,DBLOGIC!CJ2,FALSE),IF(OR($B$3=\"3 (tiga)\",$B$3=\"4 (empat)\"),HLOOKUP($C$3,TABMAPEL_XI,DBLOGIC!CJ2,FALSE),IF(OR($B$3=\"5 (lima)\",$B$3=\"6 (enam)\"),HLOOKUP($C$3,TABMAPEL_XII,DBLOGIC!CJ2,FALSE),IF(OR($B$3=\"7 (tujuh)\",$B$3=\"8 (delapan)\"),HLOOKUP($C$3,TABMAPEL_XIII,DBLOGIC!CJ2,FALSE),\"-\"))))","v":{"$error":"#N/A"}},{"$f":"IF(OR($B$3=\"1 (satu)\",$B$3=\"2 (dua)\"),HLOOKUP($C$3,TABMAPEL_X,DBLOGIC!CK2,FALSE),IF(OR($B$3=\"3 (tiga)\",$B$3=\"4 (empat)\"),HLOOKUP($C$3,TABMAPEL_XI,DBLOGIC!CK2,FALSE),IF(OR($B$3=\"5 (lima)\",$B$3=\"6 (enam)\"),HLOOKUP($C$3,TABMAPEL_XII,DBLOGIC!CK2,FALSE),IF(OR($B$3=\"7 (tujuh)\",$B$3=\"8 (delapan)\"),HLOOKUP($C$3,TABMAPEL_XIII,DBLOGIC!CK2,FALSE),\"-\"))))","v":{"$error":"#N/A"}},{"$f":"IF(OR($B$3=\"1 (satu)\",$B$3=\"2 (dua)\"),HLOOKUP($C$3,TABMAPEL_X,DBLOGIC!CL2,FALSE),IF(OR($B$3=\"3 (tiga)\",$B$3=\"4 (empat)\"),HLOOKUP($C$3,TABMAPEL_XI,DBLOGIC!CL2,FALSE),IF(OR($B$3=\"5 (lima)\",$B$3=\"6 (enam)\"),HLOOKUP($C$3,TABMAPEL_XII,DBLOGIC!CL2,FALSE),IF(OR($B$3=\"7 (tujuh)\",$B$3=\"8 (delapan)\"),HLOOKUP($C$3,TABMAPEL_XIII,DBLOGIC!CL2,FALSE),\"-\"))))","v":{"$error":"#N/A"}},{"$f":"IF(OR($B$3=\"1 (satu)\",$B$3=\"2 (dua)\"),HLOOKUP($C$3,TABMAPEL_X,DBLOGIC!CM2,FALSE),IF(OR($B$3=\"3 (tiga)\",$B$3=\"4 (empat)\"),HLOOKUP($C$3,TABMAPEL_XI,DBLOGIC!CM2,FALSE),IF(OR($B$3=\"5 (lima)\",$B$3=\"6 (enam)\"),HLOOKUP($C$3,TABMAPEL_XII,DBLOGIC!CM2,FALSE),IF(OR($B$3=\"7 (tujuh)\",$B$3=\"8 (delapan)\"),HLOOKUP($C$3,TABMAPEL_XIII,DBLOGIC!CM2,FALSE),\"-\"))))","v":{"$error":"#N/A"}},{"$f":"IF(OR($B$3=\"1 (satu)\",$B$3=\"2 (dua)\"),HLOOKUP($C$3,TABMAPEL_X,DBLOGIC!CN2,FALSE),IF(OR($B$3=\"3 (tiga)\",$B$3=\"4 (empat)\"),HLOOKUP($C$3,TABMAPEL_XI,DBLOGIC!CN2,FALSE),IF(OR($B$3=\"5 (lima)\",$B$3=\"6 (enam)\"),HLOOKUP($C$3,TABMAPEL_XII,DBLOGIC!CN2,FALSE),IF(OR($B$3=\"7 (tujuh)\",$B$3=\"8 (delapan)\"),HLOOKUP($C$3,TABMAPEL_XIII,DBLOGIC!CN2,FALSE),\"-\"))))","v":{"$error":"#N/A"}},{"$f":"IF(OR($B$3=\"1 (satu)\",$B$3=\"2 (dua)\"),HLOOKUP($C$3,TABMAPEL_X,DBLOGIC!CO2,FALSE),IF(OR($B$3=\"3 (tiga)\",$B$3=\"4 (empat)\"),HLOOKUP($C$3,TABMAPEL_XI,DBLOGIC!CO2,FALSE),IF(OR($B$3=\"5 (lima)\",$B$3=\"6 (enam)\"),HLOOKUP($C$3,TABMAPEL_XII,DBLOGIC!CO2,FALSE),IF(OR($B$3=\"7 (tujuh)\",$B$3=\"8 (delapan)\"),HLOOKUP($C$3,TABMAPEL_XIII,DBLOGIC!CO2,FALSE),\"-\"))))","v":{"$error":"#N/A"}},{"$f":"IF(OR($B$3=\"1 (satu)\",$B$3=\"2 (dua)\"),HLOOKUP($C$3,TABMAPEL_X,DBLOGIC!CP2,FALSE),IF(OR($B$3=\"3 (tiga)\",$B$3=\"4 (empat)\"),HLOOKUP($C$3,TABMAPEL_XI,DBLOGIC!CP2,FALSE),IF(OR($B$3=\"5 (lima)\",$B$3=\"6 (enam)\"),HLOOKUP($C$3,TABMAPEL_XII,DBLOGIC!CP2,FALSE),IF(OR($B$3=\"7 (tujuh)\",$B$3=\"8 (delapan)\"),HLOOKUP($C$3,TABMAPEL_XIII,DBLOGIC!CP2,FALSE),\"-\"))))","v":{"$error":"#N/A"}},{"$f":"IF(OR($B$3=\"1 (satu)\",$B$3=\"2 (dua)\"),HLOOKUP($C$3,TABMAPEL_X,DBLOGIC!CQ2,FALSE),IF(OR($B$3=\"3 (tiga)\",$B$3=\"4 (empat)\"),HLOOKUP($C$3,TABMAPEL_XI,DBLOGIC!CQ2,FALSE),IF(OR($B$3=\"5 (lima)\",$B$3=\"6 (enam)\"),HLOOKUP($C$3,TABMAPEL_XII,DBLOGIC!CQ2,FALSE),IF(OR($B$3=\"7 (tujuh)\",$B$3=\"8 (delapan)\"),HLOOKUP($C$3,TABMAPEL_XIII,DBLOGIC!CQ2,FALSE),\"-\"))))","v":{"$error":"#N/A"}},{"$f":"IF(OR($B$3=\"1 (satu)\",$B$3=\"2 (dua)\"),HLOOKUP($C$3,TABMAPEL_X,DBLOGIC!CR2,FALSE),IF(OR($B$3=\"3 (tiga)\",$B$3=\"4 (empat)\"),HLOOKUP($C$3,TABMAPEL_XI,DBLOGIC!CR2,FALSE),IF(OR($B$3=\"5 (lima)\",$B$3=\"6 (enam)\"),HLOOKUP($C$3,TABMAPEL_XII,DBLOGIC!CR2,FALSE),IF(OR($B$3=\"7 (tujuh)\",$B$3=\"8 (delapan)\"),HLOOKUP($C$3,TABMAPEL_XIII,DBLOGIC!CR2,FALSE),\"-\"))))","v":{"$error":"#N/A"}},{"$f":"IF(OR($B$3=\"1 (satu)\",$B$3=\"2 (dua)\"),HLOOKUP($C$3,TABMAPEL_X,DBLOGIC!CS2,FALSE),IF(OR($B$3=\"3 (tiga)\",$B$3=\"4 (empat)\"),HLOOKUP($C$3,TABMAPEL_XI,DBLOGIC!CS2,FALSE),IF(OR($B$3=\"5 (lima)\",$B$3=\"6 (enam)\"),HLOOKUP($C$3,TABMAPEL_XII,DBLOGIC!CS2,FALSE),IF(OR($B$3=\"7 (tujuh)\",$B$3=\"8 (delapan)\"),HLOOKUP($C$3,TABMAPEL_XIII,DBLOGIC!CS2,FALSE),\"-\"))))","v":{"$error":"#N/A"}},{"$f":"IF(OR($B$3=\"1 (satu)\",$B$3=\"2 (dua)\"),HLOOKUP($C$3,TABMAPEL_X,DBLOGIC!CT2,FALSE),IF(OR($B$3=\"3 (tiga)\",$B$3=\"4 (empat)\"),HLOOKUP($C$3,TABMAPEL_XI,DBLOGIC!CT2,FALSE),IF(OR($B$3=\"5 (lima)\",$B$3=\"6 (enam)\"),HLOOKUP($C$3,TABMAPEL_XII,DBLOGIC!CT2,FALSE),IF(OR($B$3=\"7 (tujuh)\",$B$3=\"8 (delapan)\"),HLOOKUP($C$3,TABMAPEL_XIII,DBLOGIC!CT2,FALSE),\"-\"))))","v":{"$error":"#N/A"}},{"$f":"IF(OR($B$3=\"1 (satu)\",$B$3=\"2 (dua)\"),HLOOKUP($C$3,TABMAPEL_X,DBLOGIC!CU2,FALSE),IF(OR($B$3=\"3 (tiga)\",$B$3=\"4 (empat)\"),HLOOKUP($C$3,TABMAPEL_XI,DBLOGIC!CU2,FALSE),IF(OR($B$3=\"5 (lima)\",$B$3=\"6 (enam)\"),HLOOKUP($C$3,TABMAPEL_XII,DBLOGIC!CU2,FALSE),IF(OR($B$3=\"7 (tujuh)\",$B$3=\"8 (delapan)\"),HLOOKUP($C$3,TABMAPEL_XIII,DBLOGIC!CU2,FALSE),\"-\"))))","v":{"$error":"#N/A"}},{"$f":"IF(OR($B$3=\"1 (satu)\",$B$3=\"2 (dua)\"),HLOOKUP($C$3,TABMAPEL_X,DBLOGIC!CV2,FALSE),IF(OR($B$3=\"3 (tiga)\",$B$3=\"4 (empat)\"),HLOOKUP($C$3,TABMAPEL_XI,DBLOGIC!CV2,FALSE),IF(OR($B$3=\"5 (lima)\",$B$3=\"6 (enam)\"),HLOOKUP($C$3,TABMAPEL_XII,DBLOGIC!CV2,FALSE),IF(OR($B$3=\"7 (tujuh)\",$B$3=\"8 (delapan)\"),HLOOKUP($C$3,TABMAPEL_XIII,DBLOGIC!CV2,FALSE),\"-\"))))","v":{"$error":"#N/A"}},{"$f":"IF(OR($B$3=\"1 (satu)\",$B$3=\"2 (dua)\"),HLOOKUP($C$3,TABMAPEL_X,DBLOGIC!CW2,FALSE),IF(OR($B$3=\"3 (tiga)\",$B$3=\"4 (empat)\"),HLOOKUP($C$3,TABMAPEL_XI,DBLOGIC!CW2,FALSE),IF(OR($B$3=\"5 (lima)\",$B$3=\"6 (enam)\"),HLOOKUP($C$3,TABMAPEL_XII,DBLOGIC!CW2,FALSE),IF(OR($B$3=\"7 (tujuh)\",$B$3=\"8 (delapan)\"),HLOOKUP($C$3,TABMAPEL_XIII,DBLOGIC!CW2,FALSE),\"-\"))))","v":{"$error":"#N/A"}},{"$f":"IF(OR($B$3=\"1 (satu)\",$B$3=\"2 (dua)\"),HLOOKUP($C$3,TABMAPEL_X,DBLOGIC!CX2,FALSE),IF(OR($B$3=\"3 (tiga)\",$B$3=\"4 (empat)\"),HLOOKUP($C$3,TABMAPEL_XI,DBLOGIC!CX2,FALSE),IF(OR($B$3=\"5 (lima)\",$B$3=\"6 (enam)\"),HLOOKUP($C$3,TABMAPEL_XII,DBLOGIC!CX2,FALSE),IF(OR($B$3=\"7 (tujuh)\",$B$3=\"8 (delapan)\"),HLOOKUP($C$3,TABMAPEL_XIII,DBLOGIC!CX2,FALSE),\"-\"))))","v":{"$error":"#N/A"}},{"$f":"IF(OR($B$3=\"1 (satu)\",$B$3=\"2 (dua)\"),HLOOKUP($C$3,TABMAPEL_X,DBLOGIC!CY2,FALSE),IF(OR($B$3=\"3 (tiga)\",$B$3=\"4 (empat)\"),HLOOKUP($C$3,TABMAPEL_XI,DBLOGIC!CY2,FALSE),IF(OR($B$3=\"5 (lima)\",$B$3=\"6 (enam)\"),HLOOKUP($C$3,TABMAPEL_XII,DBLOGIC!CY2,FALSE),IF(OR($B$3=\"7 (tujuh)\",$B$3=\"8 (delapan)\"),HLOOKUP($C$3,TABMAPEL_XIII,DBLOGIC!CY2,FALSE),\"-\"))))","v":{"$error":"#N/A"}},{"$f":"IF(OR($B$3=\"1 (satu)\",$B$3=\"2 (dua)\"),HLOOKUP($C$3,TABMAPEL_X,DBLOGIC!CZ2,FALSE),IF(OR($B$3=\"3 (tiga)\",$B$3=\"4 (empat)\"),HLOOKUP($C$3,TABMAPEL_XI,DBLOGIC!CZ2,FALSE),IF(OR($B$3=\"5 (lima)\",$B$3=\"6 (enam)\"),HLOOKUP($C$3,TABMAPEL_XII,DBLOGIC!CZ2,FALSE),IF(OR($B$3=\"7 (tujuh)\",$B$3=\"8 (delapan)\"),HLOOKUP($C$3,TABMAPEL_XIII,DBLOGIC!CZ2,FALSE),\"-\"))))","v":{"$error":"#N/A"}},{"$f":"IF(OR($B$3=\"1 (satu)\",$B$3=\"2 (dua)\"),HLOOKUP($C$3,TABMAPEL_X,DBLOGIC!DA2,FALSE),IF(OR($B$3=\"3 (tiga)\",$B$3=\"4 (empat)\"),HLOOKUP($C$3,TABMAPEL_XI,DBLOGIC!DA2,FALSE),IF(OR($B$3=\"5 (lima)\",$B$3=\"6 (enam)\"),HLOOKUP($C$3,TABMAPEL_XII,DBLOGIC!DA2,FALSE),IF(OR($B$3=\"7 (tujuh)\",$B$3=\"8 (delapan)\"),HLOOKUP($C$3,TABMAPEL_XIII,DBLOGIC!DA2,FALSE),\"-\"))))","v":{"$error":"#N/A"}},{"$f":"IF(OR($B$3=\"1 (satu)\",$B$3=\"2 (dua)\"),HLOOKUP($C$3,TABMAPEL_X,DBLOGIC!DB2,FALSE),IF(OR($B$3=\"3 (tiga)\",$B$3=\"4 (empat)\"),HLOOKUP($C$3,TABMAPEL_XI,DBLOGIC!DB2,FALSE),IF(OR($B$3=\"5 (lima)\",$B$3=\"6 (enam)\"),HLOOKUP($C$3,TABMAPEL_XII,DBLOGIC!DB2,FALSE),IF(OR($B$3=\"7 (tujuh)\",$B$3=\"8 (delapan)\"),HLOOKUP($C$3,TABMAPEL_XIII,DBLOGIC!DB2,FALSE),\"-\"))))","v":{"$error":"#N/A"}},{"$f":"IF(OR($B$3=\"1 (satu)\",$B$3=\"2 (dua)\"),HLOOKUP($C$3,TABMAPEL_X,DBLOGIC!DC2,FALSE),IF(OR($B$3=\"3 (tiga)\",$B$3=\"4 (empat)\"),HLOOKUP($C$3,TABMAPEL_XI,DBLOGIC!DC2,FALSE),IF(OR($B$3=\"5 (lima)\",$B$3=\"6 (enam)\"),HLOOKUP($C$3,TABMAPEL_XII,DBLOGIC!DC2,FALSE),IF(OR($B$3=\"7 (tujuh)\",$B$3=\"8 (delapan)\"),HLOOKUP($C$3,TABMAPEL_XIII,DBLOGIC!DC2,FALSE),\"-\"))))","v":{"$error":"#N/A"}},{"$f":"IF(OR($B$3=\"1 (satu)\",$B$3=\"2 (dua)\"),HLOOKUP($C$3,TABMAPEL_X,DBLOGIC!DD2,FALSE),IF(OR($B$3=\"3 (tiga)\",$B$3=\"4 (empat)\"),HLOOKUP($C$3,TABMAPEL_XI,DBLOGIC!DD2,FALSE),IF(OR($B$3=\"5 (lima)\",$B$3=\"6 (enam)\"),HLOOKUP($C$3,TABMAPEL_XII,DBLOGIC!DD2,FALSE),IF(OR($B$3=\"7 (tujuh)\",$B$3=\"8 (delapan)\"),HLOOKUP($C$3,TABMAPEL_XIII,DBLOGIC!DD2,FALSE),\"-\"))))","v":{"$error":"#N/A"}},{"$f":"IF(OR($B$3=\"1 (satu)\",$B$3=\"2 (dua)\"),HLOOKUP($C$3,TABMAPEL_X,DBLOGIC!DE2,FALSE),IF(OR($B$3=\"3 (tiga)\",$B$3=\"4 (empat)\"),HLOOKUP($C$3,TABMAPEL_XI,DBLOGIC!DE2,FALSE),IF(OR($B$3=\"5 (lima)\",$B$3=\"6 (enam)\"),HLOOKUP($C$3,TABMAPEL_XII,DBLOGIC!DE2,FALSE),IF(OR($B$3=\"7 (tujuh)\",$B$3=\"8 (delapan)\"),HLOOKUP($C$3,TABMAPEL_XIII,DBLOGIC!DE2,FALSE),\"-\"))))","v":{"$error":"#N/A"}},{"$f":"IF(OR($B$3=\"1 (satu)\",$B$3=\"2 (dua)\"),HLOOKUP($C$3,TABMAPEL_X,DBLOGIC!DF2,FALSE),IF(OR($B$3=\"3 (tiga)\",$B$3=\"4 (empat)\"),HLOOKUP($C$3,TABMAPEL_XI,DBLOGIC!DF2,FALSE),IF(OR($B$3=\"5 (lima)\",$B$3=\"6 (enam)\"),HLOOKUP($C$3,TABMAPEL_XII,DBLOGIC!DF2,FALSE),IF(OR($B$3=\"7 (tujuh)\",$B$3=\"8 (delapan)\"),HLOOKUP($C$3,TABMAPEL_XIII,DBLOGIC!DF2,FALSE),\"-\"))))","v":{"$error":"#N/A"}},{"$f":"IF(OR($B$3=\"1 (satu)\",$B$3=\"2 (dua)\"),HLOOKUP($C$3,TABMAPEL_X,DBLOGIC!DG2,FALSE),IF(OR($B$3=\"3 (tiga)\",$B$3=\"4 (empat)\"),HLOOKUP($C$3,TABMAPEL_XI,DBLOGIC!DG2,FALSE),IF(OR($B$3=\"5 (lima)\",$B$3=\"6 (enam)\"),HLOOKUP($C$3,TABMAPEL_XII,DBLOGIC!DG2,FALSE),IF(OR($B$3=\"7 (tujuh)\",$B$3=\"8 (delapan)\"),HLOOKUP($C$3,TABMAPEL_XIII,DBLOGIC!DG2,FALSE),\"-\"))))","v":{"$error":"#N/A"}},{"$f":"IF(OR($B$3=\"1 (satu)\",$B$3=\"2 (dua)\"),HLOOKUP($C$3,TABMAPEL_X,DBLOGIC!DH2,FALSE),IF(OR($B$3=\"3 (tiga)\",$B$3=\"4 (empat)\"),HLOOKUP($C$3,TABMAPEL_XI,DBLOGIC!DH2,FALSE),IF(OR($B$3=\"5 (lima)\",$B$3=\"6 (enam)\"),HLOOKUP($C$3,TABMAPEL_XII,DBLOGIC!DH2,FALSE),IF(OR($B$3=\"7 (tujuh)\",$B$3=\"8 (delapan)\"),HLOOKUP($C$3,TABMAPEL_XIII,DBLOGIC!DH2,FALSE),\"-\"))))","v":{"$error":"#N/A"}},{"$f":"IF(OR($B$3=\"1 (satu)\",$B$3=\"2 (dua)\"),HLOOKUP($C$3,TABMAPEL_X,DBLOGIC!DI2,FALSE),IF(OR($B$3=\"3 (tiga)\",$B$3=\"4 (empat)\"),HLOOKUP($C$3,TABMAPEL_XI,DBLOGIC!DI2,FALSE),IF(OR($B$3=\"5 (lima)\",$B$3=\"6 (enam)\"),HLOOKUP($C$3,TABMAPEL_XII,DBLOGIC!DI2,FALSE),IF(OR($B$3=\"7 (tujuh)\",$B$3=\"8 (delapan)\"),HLOOKUP($C$3,TABMAPEL_XIII,DBLOGIC!DI2,FALSE),\"-\"))))","v":{"$error":"#N/A"}},{"$f":"IF(OR($B$3=\"1 (satu)\",$B$3=\"2 (dua)\"),HLOOKUP($C$3,TABMAPEL_X,DBLOGIC!DJ2,FALSE),IF(OR($B$3=\"3 (tiga)\",$B$3=\"4 (empat)\"),HLOOKUP($C$3,TABMAPEL_XI,DBLOGIC!DJ2,FALSE),IF(OR($B$3=\"5 (lima)\",$B$3=\"6 (enam)\"),HLOOKUP($C$3,TABMAPEL_XII,DBLOGIC!DJ2,FALSE),IF(OR($B$3=\"7 (tujuh)\",$B$3=\"8 (delapan)\"),HLOOKUP($C$3,TABMAPEL_XIII,DBLOGIC!DJ2,FALSE),\"-\"))))","v":{"$error":"#N/A"}},{"$f":"IF(OR($B$3=\"1 (satu)\",$B$3=\"2 (dua)\"),HLOOKUP($C$3,TABMAPEL_X,DBLOGIC!DK2,FALSE),IF(OR($B$3=\"3 (tiga)\",$B$3=\"4 (empat)\"),HLOOKUP($C$3,TABMAPEL_XI,DBLOGIC!DK2,FALSE),IF(OR($B$3=\"5 (lima)\",$B$3=\"6 (enam)\"),HLOOKUP($C$3,TABMAPEL_XII,DBLOGIC!DK2,FALSE),IF(OR($B$3=\"7 (tujuh)\",$B$3=\"8 (delapan)\"),HLOOKUP($C$3,TABMAPEL_XIII,DBLOGIC!DK2,FALSE),\"-\"))))","v":{"$error":"#N/A"}},{"$f":"IF(OR($B$3=\"1 (satu)\",$B$3=\"2 (dua)\"),HLOOKUP($C$3,TABMAPEL_X,DBLOGIC!DL2,FALSE),IF(OR($B$3=\"3 (tiga)\",$B$3=\"4 (empat)\"),HLOOKUP($C$3,TABMAPEL_XI,DBLOGIC!DL2,FALSE),IF(OR($B$3=\"5 (lima)\",$B$3=\"6 (enam)\"),HLOOKUP($C$3,TABMAPEL_XII,DBLOGIC!DL2,FALSE),IF(OR($B$3=\"7 (tujuh)\",$B$3=\"8 (delapan)\"),HLOOKUP($C$3,TABMAPEL_XIII,DBLOGIC!DL2,FALSE),\"-\"))))","v":{"$error":"#N/A"}},{"$f":"IF(OR($B$3=\"1 (satu)\",$B$3=\"2 (dua)\"),HLOOKUP($C$3,TABMAPEL_X,DBLOGIC!DM2,FALSE),IF(OR($B$3=\"3 (tiga)\",$B$3=\"4 (empat)\"),HLOOKUP($C$3,TABMAPEL_XI,DBLOGIC!DM2,FALSE),IF(OR($B$3=\"5 (lima)\",$B$3=\"6 (enam)\"),HLOOKUP($C$3,TABMAPEL_XII,DBLOGIC!DM2,FALSE),IF(OR($B$3=\"7 (tujuh)\",$B$3=\"8 (delapan)\"),HLOOKUP($C$3,TABMAPEL_XIII,DBLOGIC!DM2,FALSE),\"-\"))))","v":{"$error":"#N/A"}},{"$f":"IF(OR($B$3=\"1 (satu)\",$B$3=\"2 (dua)\"),HLOOKUP($C$3,TABMAPEL_X,DBLOGIC!DN2,FALSE),IF(OR($B$3=\"3 (tiga)\",$B$3=\"4 (empat)\"),HLOOKUP($C$3,TABMAPEL_XI,DBLOGIC!DN2,FALSE),IF(OR($B$3=\"5 (lima)\",$B$3=\"6 (enam)\"),HLOOKUP($C$3,TABMAPEL_XII,DBLOGIC!DN2,FALSE),IF(OR($B$3=\"7 (tujuh)\",$B$3=\"8 (delapan)\"),HLOOKUP($C$3,TABMAPEL_XIII,DBLOGIC!DN2,FALSE),\"-\"))))","v":{"$error":"#N/A"}},{"$f":"IF(OR($B$3=\"1 (satu)\",$B$3=\"2 (dua)\"),HLOOKUP($C$3,TABMAPEL_X,DBLOGIC!DO2,FALSE),IF(OR($B$3=\"3 (tiga)\",$B$3=\"4 (empat)\"),HLOOKUP($C$3,TABMAPEL_XI,DBLOGIC!DO2,FALSE),IF(OR($B$3=\"5 (lima)\",$B$3=\"6 (enam)\"),HLOOKUP($C$3,TABMAPEL_XII,DBLOGIC!DO2,FALSE),IF(OR($B$3=\"7 (tujuh)\",$B$3=\"8 (delapan)\"),HLOOKUP($C$3,TABMAPEL_XIII,DBLOGIC!DO2,FALSE),\"-\"))))","v":{"$error":"#N/A"}},{"$f":"IF(OR($B$3=\"1 (satu)\",$B$3=\"2 (dua)\"),HLOOKUP($C$3,TABMAPEL_X,DBLOGIC!DP2,FALSE),IF(OR($B$3=\"3 (tiga)\",$B$3=\"4 (empat)\"),HLOOKUP($C$3,TABMAPEL_XI,DBLOGIC!DP2,FALSE),IF(OR($B$3=\"5 (lima)\",$B$3=\"6 (enam)\"),HLOOKUP($C$3,TABMAPEL_XII,DBLOGIC!DP2,FALSE),IF(OR($B$3=\"7 (tujuh)\",$B$3=\"8 (delapan)\"),HLOOKUP($C$3,TABMAPEL_XIII,DBLOGIC!DP2,FALSE),\"-\"))))","v":{"$error":"#N/A"}},{"$f":"IF(OR($B$3=\"1 (satu)\",$B$3=\"2 (dua)\"),HLOOKUP($C$3,TABMAPEL_X,DBLOGIC!DQ2,FALSE),IF(OR($B$3=\"3 (tiga)\",$B$3=\"4 (empat)\"),HLOOKUP($C$3,TABMAPEL_XI,DBLOGIC!DQ2,FALSE),IF(OR($B$3=\"5 (lima)\",$B$3=\"6 (enam)\"),HLOOKUP($C$3,TABMAPEL_XII,DBLOGIC!DQ2,FALSE),IF(OR($B$3=\"7 (tujuh)\",$B$3=\"8 (delapan)\"),HLOOKUP($C$3,TABMAPEL_XIII,DBLOGIC!DQ2,FALSE),\"-\"))))","v":{"$error":"#N/A"}},{"$f":"IF(OR($B$3=\"1 (satu)\",$B$3=\"2 (dua)\"),HLOOKUP($C$3,TABMAPEL_X,DBLOGIC!DR2,FALSE),IF(OR($B$3=\"3 (tiga)\",$B$3=\"4 (empat)\"),HLOOKUP($C$3,TABMAPEL_XI,DBLOGIC!DR2,FALSE),IF(OR($B$3=\"5 (lima)\",$B$3=\"6 (enam)\"),HLOOKUP($C$3,TABMAPEL_XII,DBLOGIC!DR2,FALSE),IF(OR($B$3=\"7 (tujuh)\",$B$3=\"8 (delapan)\"),HLOOKUP($C$3,TABMAPEL_XIII,DBLOGIC!DR2,FALSE),\"-\"))))","v":{"$error":"#N/A"}},{"$f":"IF(OR($B$3=\"1 (satu)\",$B$3=\"2 (dua)\"),HLOOKUP($C$3,TABMAPEL_X,DBLOGIC!DS2,FALSE),IF(OR($B$3=\"3 (tiga)\",$B$3=\"4 (empat)\"),HLOOKUP($C$3,TABMAPEL_XI,DBLOGIC!DS2,FALSE),IF(OR($B$3=\"5 (lima)\",$B$3=\"6 (enam)\"),HLOOKUP($C$3,TABMAPEL_XII,DBLOGIC!DS2,FALSE),IF(OR($B$3=\"7 (tujuh)\",$B$3=\"8 (delapan)\"),HLOOKUP($C$3,TABMAPEL_XIII,DBLOGIC!DS2,FALSE),\"-\"))))","v":{"$error":"#N/A"}},{"$f":"IF(OR($B$3=\"1 (satu)\",$B$3=\"2 (dua)\"),HLOOKUP($C$3,TABMAPEL_X,DBLOGIC!DT2,FALSE),IF(OR($B$3=\"3 (tiga)\",$B$3=\"4 (empat)\"),HLOOKUP($C$3,TABMAPEL_XI,DBLOGIC!DT2,FALSE),IF(OR($B$3=\"5 (lima)\",$B$3=\"6 (enam)\"),HLOOKUP($C$3,TABMAPEL_XII,DBLOGIC!DT2,FALSE),IF(OR($B$3=\"7 (tujuh)\",$B$3=\"8 (delapan)\"),HLOOKUP($C$3,TABMAPEL_XIII,DBLOGIC!DT2,FALSE),\"-\"))))","v":{"$error":"#N/A"}},{"$f":"IF(OR($B$3=\"1 (satu)\",$B$3=\"2 (dua)\"),HLOOKUP($C$3,TABMAPEL_X,DBLOGIC!DU2,FALSE),IF(OR($B$3=\"3 (tiga)\",$B$3=\"4 (empat)\"),HLOOKUP($C$3,TABMAPEL_XI,DBLOGIC!DU2,FALSE),IF(OR($B$3=\"5 (lima)\",$B$3=\"6 (enam)\"),HLOOKUP($C$3,TABMAPEL_XII,DBLOGIC!DU2,FALSE),IF(OR($B$3=\"7 (tujuh)\",$B$3=\"8 (delapan)\"),HLOOKUP($C$3,TABMAPEL_XIII,DBLOGIC!DU2,FALSE),\"-\"))))","v":{"$error":"#N/A"}},{"$f":"IF(OR($B$3=\"1 (satu)\",$B$3=\"2 (dua)\"),HLOOKUP($C$3,TABMAPEL_X,DBLOGIC!DV2,FALSE),IF(OR($B$3=\"3 (tiga)\",$B$3=\"4 (empat)\"),HLOOKUP($C$3,TABMAPEL_XI,DBLOGIC!DV2,FALSE),IF(OR($B$3=\"5 (lima)\",$B$3=\"6 (enam)\"),HLOOKUP($C$3,TABMAPEL_XII,DBLOGIC!DV2,FALSE),IF(OR($B$3=\"7 (tujuh)\",$B$3=\"8 (delapan)\"),HLOOKUP($C$3,TABMAPEL_XIII,DBLOGIC!DV2,FALSE),\"-\"))))","v":{"$error":"#N/A"}},{"$f":"IF(OR($B$3=\"1 (satu)\",$B$3=\"2 (dua)\"),HLOOKUP($C$3,TABMAPEL_X,DBLOGIC!DW2,FALSE),IF(OR($B$3=\"3 (tiga)\",$B$3=\"4 (empat)\"),HLOOKUP($C$3,TABMAPEL_XI,DBLOGIC!DW2,FALSE),IF(OR($B$3=\"5 (lima)\",$B$3=\"6 (enam)\"),HLOOKUP($C$3,TABMAPEL_XII,DBLOGIC!DW2,FALSE),IF(OR($B$3=\"7 (tujuh)\",$B$3=\"8 (delapan)\"),HLOOKUP($C$3,TABMAPEL_XIII,DBLOGIC!DW2,FALSE),\"-\"))))","v":{"$error":"#N/A"}},{"$f":"IF(OR($B$3=\"1 (satu)\",$B$3=\"2 (dua)\"),HLOOKUP($C$3,TABMAPEL_X,DBLOGIC!DX2,FALSE),IF(OR($B$3=\"3 (tiga)\",$B$3=\"4 (empat)\"),HLOOKUP($C$3,TABMAPEL_XI,DBLOGIC!DX2,FALSE),IF(OR($B$3=\"5 (lima)\",$B$3=\"6 (enam)\"),HLOOKUP($C$3,TABMAPEL_XII,DBLOGIC!DX2,FALSE),IF(OR($B$3=\"7 (tujuh)\",$B$3=\"8 (delapan)\"),HLOOKUP($C$3,TABMAPEL_XIII,DBLOGIC!DX2,FALSE),\"-\"))))","v":{"$error":"#N/A"}},{"$f":"IF(OR($B$3=\"1 (satu)\",$B$3=\"2 (dua)\"),HLOOKUP($C$3,TABMAPEL_X,DBLOGIC!DY2,FALSE),IF(OR($B$3=\"3 (tiga)\",$B$3=\"4 (empat)\"),HLOOKUP($C$3,TABMAPEL_XI,DBLOGIC!DY2,FALSE),IF(OR($B$3=\"5 (lima)\",$B$3=\"6 (enam)\"),HLOOKUP($C$3,TABMAPEL_XII,DBLOGIC!DY2,FALSE),IF(OR($B$3=\"7 (tujuh)\",$B$3=\"8 (delapan)\"),HLOOKUP($C$3,TABMAPEL_XIII,DBLOGIC!DY2,FALSE),\"-\"))))","v":{"$error":"#N/A"}},{"$f":"IF(OR($B$3=\"1 (satu)\",$B$3=\"2 (dua)\"),HLOOKUP($C$3,TABMAPEL_X,DBLOGIC!DZ2,FALSE),IF(OR($B$3=\"3 (tiga)\",$B$3=\"4 (empat)\"),HLOOKUP($C$3,TABMAPEL_XI,DBLOGIC!DZ2,FALSE),IF(OR($B$3=\"5 (lima)\",$B$3=\"6 (enam)\"),HLOOKUP($C$3,TABMAPEL_XII,DBLOGIC!DZ2,FALSE),IF(OR($B$3=\"7 (tujuh)\",$B$3=\"8 (delapan)\"),HLOOKUP($C$3,TABMAPEL_XIII,DBLOGIC!DZ2,FALSE),\"-\"))))","v":{"$error":"#N/A"}},{"$f":"IF(OR($B$3=\"1 (satu)\",$B$3=\"2 (dua)\"),HLOOKUP($C$3,TABMAPEL_X,DBLOGIC!EA2,FALSE),IF(OR($B$3=\"3 (tiga)\",$B$3=\"4 (empat)\"),HLOOKUP($C$3,TABMAPEL_XI,DBLOGIC!EA2,FALSE),IF(OR($B$3=\"5 (lima)\",$B$3=\"6 (enam)\"),HLOOKUP($C$3,TABMAPEL_XII,DBLOGIC!EA2,FALSE),IF(OR($B$3=\"7 (tujuh)\",$B$3=\"8 (delapan)\"),HLOOKUP($C$3,TABMAPEL_XIII,DBLOGIC!EA2,FALSE),\"-\"))))","v":{"$error":"#N/A"}},{"$f":"IF(OR($B$3=\"1 (satu)\",$B$3=\"2 (dua)\"),HLOOKUP($C$3,TABMAPEL_X,DBLOGIC!EB2,FALSE),IF(OR($B$3=\"3 (tiga)\",$B$3=\"4 (empat)\"),HLOOKUP($C$3,TABMAPEL_XI,DBLOGIC!EB2,FALSE),IF(OR($B$3=\"5 (lima)\",$B$3=\"6 (enam)\"),HLOOKUP($C$3,TABMAPEL_XII,DBLOGIC!EB2,FALSE),IF(OR($B$3=\"7 (tujuh)\",$B$3=\"8 (delapan)\"),HLOOKUP($C$3,TABMAPEL_XIII,DBLOGIC!EB2,FALSE),\"-\"))))","v":{"$error":"#N/A"}},{"$f":"IF(OR($B$3=\"1 (satu)\",$B$3=\"2 (dua)\"),HLOOKUP($C$3,TABMAPEL_X,DBLOGIC!EC2,FALSE),IF(OR($B$3=\"3 (tiga)\",$B$3=\"4 (empat)\"),HLOOKUP($C$3,TABMAPEL_XI,DBLOGIC!EC2,FALSE),IF(OR($B$3=\"5 (lima)\",$B$3=\"6 (enam)\"),HLOOKUP($C$3,TABMAPEL_XII,DBLOGIC!EC2,FALSE),IF(OR($B$3=\"7 (tujuh)\",$B$3=\"8 (delapan)\"),HLOOKUP($C$3,TABMAPEL_XIII,DBLOGIC!EC2,FALSE),\"-\"))))","v":{"$error":"#N/A"}},{"$f":"IF(OR($B$3=\"1 (satu)\",$B$3=\"2 (dua)\"),HLOOKUP($C$3,TABMAPEL_X,DBLOGIC!ED2,FALSE),IF(OR($B$3=\"3 (tiga)\",$B$3=\"4 (empat)\"),HLOOKUP($C$3,TABMAPEL_XI,DBLOGIC!ED2,FALSE),IF(OR($B$3=\"5 (lima)\",$B$3=\"6 (enam)\"),HLOOKUP($C$3,TABMAPEL_XII,DBLOGIC!ED2,FALSE),IF(OR($B$3=\"7 (tujuh)\",$B$3=\"8 (delapan)\"),HLOOKUP($C$3,TABMAPEL_XIII,DBLOGIC!ED2,FALSE),\"-\"))))","v":{"$error":"#N/A"}},{"$f":"IF(OR($B$3=\"1 (satu)\",$B$3=\"2 (dua)\"),HLOOKUP($C$3,TABMAPEL_X,DBLOGIC!EE2,FALSE),IF(OR($B$3=\"3 (tiga)\",$B$3=\"4 (empat)\"),HLOOKUP($C$3,TABMAPEL_XI,DBLOGIC!EE2,FALSE),IF(OR($B$3=\"5 (lima)\",$B$3=\"6 (enam)\"),HLOOKUP($C$3,TABMAPEL_XII,DBLOGIC!EE2,FALSE),IF(OR($B$3=\"7 (tujuh)\",$B$3=\"8 (delapan)\"),HLOOKUP($C$3,TABMAPEL_XIII,DBLOGIC!EE2,FALSE),\"-\"))))","v":{"$error":"#N/A"}},{"$f":"IF(OR($B$3=\"1 (satu)\",$B$3=\"2 (dua)\"),HLOOKUP($C$3,TABMAPEL_X,DBLOGIC!EF2,FALSE),IF(OR($B$3=\"3 (tiga)\",$B$3=\"4 (empat)\"),HLOOKUP($C$3,TABMAPEL_XI,DBLOGIC!EF2,FALSE),IF(OR($B$3=\"5 (lima)\",$B$3=\"6 (enam)\"),HLOOKUP($C$3,TABMAPEL_XII,DBLOGIC!EF2,FALSE),IF(OR($B$3=\"7 (tujuh)\",$B$3=\"8 (delapan)\"),HLOOKUP($C$3,TABMAPEL_XIII,DBLOGIC!EF2,FALSE),\"-\"))))","v":{"$error":"#N/A"}},{"$f":"IF(OR($B$3=\"1 (satu)\",$B$3=\"2 (dua)\"),HLOOKUP($C$3,TABMAPEL_X,DBLOGIC!EG2,FALSE),IF(OR($B$3=\"3 (tiga)\",$B$3=\"4 (empat)\"),HLOOKUP($C$3,TABMAPEL_XI,DBLOGIC!EG2,FALSE),IF(OR($B$3=\"5 (lima)\",$B$3=\"6 (enam)\"),HLOOKUP($C$3,TABMAPEL_XII,DBLOGIC!EG2,FALSE),IF(OR($B$3=\"7 (tujuh)\",$B$3=\"8 (delapan)\"),HLOOKUP($C$3,TABMAPEL_XIII,DBLOGIC!EG2,FALSE),\"-\"))))","v":{"$error":"#N/A"}},{"$f":"IF(OR($B$3=\"1 (satu)\",$B$3=\"2 (dua)\"),HLOOKUP($C$3,TABMAPEL_X,DBLOGIC!EH2,FALSE),IF(OR($B$3=\"3 (tiga)\",$B$3=\"4 (empat)\"),HLOOKUP($C$3,TABMAPEL_XI,DBLOGIC!EH2,FALSE),IF(OR($B$3=\"5 (lima)\",$B$3=\"6 (enam)\"),HLOOKUP($C$3,TABMAPEL_XII,DBLOGIC!EH2,FALSE),IF(OR($B$3=\"7 (tujuh)\",$B$3=\"8 (delapan)\"),HLOOKUP($C$3,TABMAPEL_XIII,DBLOGIC!EH2,FALSE),\"-\"))))","v":{"$error":"#N/A"}},{"$f":"IF(OR($B$3=\"1 (satu)\",$B$3=\"2 (dua)\"),HLOOKUP($C$3,TABMAPEL_X,DBLOGIC!EI2,FALSE),IF(OR($B$3=\"3 (tiga)\",$B$3=\"4 (empat)\"),HLOOKUP($C$3,TABMAPEL_XI,DBLOGIC!EI2,FALSE),IF(OR($B$3=\"5 (lima)\",$B$3=\"6 (enam)\"),HLOOKUP($C$3,TABMAPEL_XII,DBLOGIC!EI2,FALSE),IF(OR($B$3=\"7 (tujuh)\",$B$3=\"8 (delapan)\"),HLOOKUP($C$3,TABMAPEL_XIII,DBLOGIC!EI2,FALSE),\"-\"))))","v":{"$error":"#N/A"}},{"$f":"IF(OR($B$3=\"1 (satu)\",$B$3=\"2 (dua)\"),HLOOKUP($C$3,TABMAPEL_X,DBLOGIC!EJ2,FALSE),IF(OR($B$3=\"3 (tiga)\",$B$3=\"4 (empat)\"),HLOOKUP($C$3,TABMAPEL_XI,DBLOGIC!EJ2,FALSE),IF(OR($B$3=\"5 (lima)\",$B$3=\"6 (enam)\"),HLOOKUP($C$3,TABMAPEL_XII,DBLOGIC!EJ2,FALSE),IF(OR($B$3=\"7 (tujuh)\",$B$3=\"8 (delapan)\"),HLOOKUP($C$3,TABMAPEL_XIII,DBLOGIC!EJ2,FALSE),\"-\"))))","v":{"$error":"#N/A"}},{"$f":"IF(OR($B$3=\"1 (satu)\",$B$3=\"2 (dua)\"),HLOOKUP($C$3,TABMAPEL_X,DBLOGIC!EK2,FALSE),IF(OR($B$3=\"3 (tiga)\",$B$3=\"4 (empat)\"),HLOOKUP($C$3,TABMAPEL_XI,DBLOGIC!EK2,FALSE),IF(OR($B$3=\"5 (lima)\",$B$3=\"6 (enam)\"),HLOOKUP($C$3,TABMAPEL_XII,DBLOGIC!EK2,FALSE),IF(OR($B$3=\"7 (tujuh)\",$B$3=\"8 (delapan)\"),HLOOKUP($C$3,TABMAPEL_XIII,DBLOGIC!EK2,FALSE),\"-\"))))","v":{"$error":"#N/A"}},{"$f":"IF(OR($B$3=\"1 (satu)\",$B$3=\"2 (dua)\"),HLOOKUP($C$3,TABMAPEL_X,DBLOGIC!EL2,FALSE),IF(OR($B$3=\"3 (tiga)\",$B$3=\"4 (empat)\"),HLOOKUP($C$3,TABMAPEL_XI,DBLOGIC!EL2,FALSE),IF(OR($B$3=\"5 (lima)\",$B$3=\"6 (enam)\"),HLOOKUP($C$3,TABMAPEL_XII,DBLOGIC!EL2,FALSE),IF(OR($B$3=\"7 (tujuh)\",$B$3=\"8 (delapan)\"),HLOOKUP($C$3,TABMAPEL_XIII,DBLOGIC!EL2,FALSE),\"-\"))))","v":{"$error":"#N/A"}},{"$f":"IF(OR($B$3=\"1 (satu)\",$B$3=\"2 (dua)\"),HLOOKUP($C$3,TABMAPEL_X,DBLOGIC!EM2,FALSE),IF(OR($B$3=\"3 (tiga)\",$B$3=\"4 (empat)\"),HLOOKUP($C$3,TABMAPEL_XI,DBLOGIC!EM2,FALSE),IF(OR($B$3=\"5 (lima)\",$B$3=\"6 (enam)\"),HLOOKUP($C$3,TABMAPEL_XII,DBLOGIC!EM2,FALSE),IF(OR($B$3=\"7 (tujuh)\",$B$3=\"8 (delapan)\"),HLOOKUP($C$3,TABMAPEL_XIII,DBLOGIC!EM2,FALSE),\"-\"))))","v":{"$error":"#N/A"}},{"$f":"IF(OR($B$3=\"1 (satu)\",$B$3=\"2 (dua)\"),HLOOKUP($C$3,TABMAPEL_X,DBLOGIC!EN2,FALSE),IF(OR($B$3=\"3 (tiga)\",$B$3=\"4 (empat)\"),HLOOKUP($C$3,TABMAPEL_XI,DBLOGIC!EN2,FALSE),IF(OR($B$3=\"5 (lima)\",$B$3=\"6 (enam)\"),HLOOKUP($C$3,TABMAPEL_XII,DBLOGIC!EN2,FALSE),IF(OR($B$3=\"7 (tujuh)\",$B$3=\"8 (delapan)\"),HLOOKUP($C$3,TABMAPEL_XIII,DBLOGIC!EN2,FALSE),\"-\"))))","v":{"$error":"#N/A"}},{"$f":"IF(OR($B$3=\"1 (satu)\",$B$3=\"2 (dua)\"),HLOOKUP($C$3,TABMAPEL_X,DBLOGIC!EO2,FALSE),IF(OR($B$3=\"3 (tiga)\",$B$3=\"4 (empat)\"),HLOOKUP($C$3,TABMAPEL_XI,DBLOGIC!EO2,FALSE),IF(OR($B$3=\"5 (lima)\",$B$3=\"6 (enam)\"),HLOOKUP($C$3,TABMAPEL_XII,DBLOGIC!EO2,FALSE),IF(OR($B$3=\"7 (tujuh)\",$B$3=\"8 (delapan)\"),HLOOKUP($C$3,TABMAPEL_XIII,DBLOGIC!EO2,FALSE),\"-\"))))","v":{"$error":"#N/A"}},{"$f":"IF(OR($B$3=\"1 (satu)\",$B$3=\"2 (dua)\"),HLOOKUP($C$3,TABMAPEL_X,DBLOGIC!EP2,FALSE),IF(OR($B$3=\"3 (tiga)\",$B$3=\"4 (empat)\"),HLOOKUP($C$3,TABMAPEL_XI,DBLOGIC!EP2,FALSE),IF(OR($B$3=\"5 (lima)\",$B$3=\"6 (enam)\"),HLOOKUP($C$3,TABMAPEL_XII,DBLOGIC!EP2,FALSE),IF(OR($B$3=\"7 (tujuh)\",$B$3=\"8 (delapan)\"),HLOOKUP($C$3,TABMAPEL_XIII,DBLOGIC!EP2,FALSE),\"-\"))))","v":{"$error":"#N/A"}},{"$f":"IF(OR($B$3=\"1 (satu)\",$B$3=\"2 (dua)\"),HLOOKUP($C$3,TABMAPEL_X,DBLOGIC!EQ2,FALSE),IF(OR($B$3=\"3 (tiga)\",$B$3=\"4 (empat)\"),HLOOKUP($C$3,TABMAPEL_XI,DBLOGIC!EQ2,FALSE),IF(OR($B$3=\"5 (lima)\",$B$3=\"6 (enam)\"),HLOOKUP($C$3,TABMAPEL_XII,DBLOGIC!EQ2,FALSE),IF(OR($B$3=\"7 (tujuh)\",$B$3=\"8 (delapan)\"),HLOOKUP($C$3,TABMAPEL_XIII,DBLOGIC!EQ2,FALSE),\"-\"))))","v":{"$error":"#N/A"}},{"$f":"IF(OR($B$3=\"1 (satu)\",$B$3=\"2 (dua)\"),HLOOKUP($C$3,TABMAPEL_X,DBLOGIC!ER2,FALSE),IF(OR($B$3=\"3 (tiga)\",$B$3=\"4 (empat)\"),HLOOKUP($C$3,TABMAPEL_XI,DBLOGIC!ER2,FALSE),IF(OR($B$3=\"5 (lima)\",$B$3=\"6 (enam)\"),HLOOKUP($C$3,TABMAPEL_XII,DBLOGIC!ER2,FALSE),IF(OR($B$3=\"7 (tujuh)\",$B$3=\"8 (delapan)\"),HLOOKUP($C$3,TABMAPEL_XIII,DBLOGIC!ER2,FALSE),\"-\"))))","v":{"$error":"#N/A"}},{"$f":"IF(OR($B$3=\"1 (satu)\",$B$3=\"2 (dua)\"),HLOOKUP($C$3,TABMAPEL_X,DBLOGIC!ES2,FALSE),IF(OR($B$3=\"3 (tiga)\",$B$3=\"4 (empat)\"),HLOOKUP($C$3,TABMAPEL_XI,DBLOGIC!ES2,FALSE),IF(OR($B$3=\"5 (lima)\",$B$3=\"6 (enam)\"),HLOOKUP($C$3,TABMAPEL_XII,DBLOGIC!ES2,FALSE),IF(OR($B$3=\"7 (tujuh)\",$B$3=\"8 (delapan)\"),HLOOKUP($C$3,TABMAPEL_XIII,DBLOGIC!ES2,FALSE),\"-\"))))","v":{"$error":"#N/A"}},{"$f":"IF(OR($B$3=\"1 (satu)\",$B$3=\"2 (dua)\"),HLOOKUP($C$3,TABMAPEL_X,DBLOGIC!ET2,FALSE),IF(OR($B$3=\"3 (tiga)\",$B$3=\"4 (empat)\"),HLOOKUP($C$3,TABMAPEL_XI,DBLOGIC!ET2,FALSE),IF(OR($B$3=\"5 (lima)\",$B$3=\"6 (enam)\"),HLOOKUP($C$3,TABMAPEL_XII,DBLOGIC!ET2,FALSE),IF(OR($B$3=\"7 (tujuh)\",$B$3=\"8 (delapan)\"),HLOOKUP($C$3,TABMAPEL_XIII,DBLOGIC!ET2,FALSE),\"-\"))))","v":{"$error":"#N/A"}},{"$f":"IF(OR($B$3=\"1 (satu)\",$B$3=\"2 (dua)\"),HLOOKUP($C$3,TABMAPEL_X,DBLOGIC!EU2,FALSE),IF(OR($B$3=\"3 (tiga)\",$B$3=\"4 (empat)\"),HLOOKUP($C$3,TABMAPEL_XI,DBLOGIC!EU2,FALSE),IF(OR($B$3=\"5 (lima)\",$B$3=\"6 (enam)\"),HLOOKUP($C$3,TABMAPEL_XII,DBLOGIC!EU2,FALSE),IF(OR($B$3=\"7 (tujuh)\",$B$3=\"8 (delapan)\"),HLOOKUP($C$3,TABMAPEL_XIII,DBLOGIC!EU2,FALSE),\"-\"))))","v":{"$error":"#N/A"}},{"$f":"IF(OR($B$3=\"1 (satu)\",$B$3=\"2 (dua)\"),HLOOKUP($C$3,TABMAPEL_X,DBLOGIC!EV2,FALSE),IF(OR($B$3=\"3 (tiga)\",$B$3=\"4 (empat)\"),HLOOKUP($C$3,TABMAPEL_XI,DBLOGIC!EV2,FALSE),IF(OR($B$3=\"5 (lima)\",$B$3=\"6 (enam)\"),HLOOKUP($C$3,TABMAPEL_XII,DBLOGIC!EV2,FALSE),IF(OR($B$3=\"7 (tujuh)\",$B$3=\"8 (delapan)\"),HLOOKUP($C$3,TABMAPEL_XIII,DBLOGIC!EV2,FALSE),\"-\"))))","v":{"$error":"#N/A"}},{"$f":"IF(OR($B$3=\"1 (satu)\",$B$3=\"2 (dua)\"),HLOOKUP($C$3,TABMAPEL_X,DBLOGIC!EW2,FALSE),IF(OR($B$3=\"3 (tiga)\",$B$3=\"4 (empat)\"),HLOOKUP($C$3,TABMAPEL_XI,DBLOGIC!EW2,FALSE),IF(OR($B$3=\"5 (lima)\",$B$3=\"6 (enam)\"),HLOOKUP($C$3,TABMAPEL_XII,DBLOGIC!EW2,FALSE),IF(OR($B$3=\"7 (tujuh)\",$B$3=\"8 (delapan)\"),HLOOKUP($C$3,TABMAPEL_XIII,DBLOGIC!EW2,FALSE),\"-\"))))","v":{"$error":"#N/A"}},{"$f":"IF(OR($B$3=\"1 (satu)\",$B$3=\"2 (dua)\"),HLOOKUP($C$3,TABMAPEL_X,DBLOGIC!EX2,FALSE),IF(OR($B$3=\"3 (tiga)\",$B$3=\"4 (empat)\"),HLOOKUP($C$3,TABMAPEL_XI,DBLOGIC!EX2,FALSE),IF(OR($B$3=\"5 (lima)\",$B$3=\"6 (enam)\"),HLOOKUP($C$3,TABMAPEL_XII,DBLOGIC!EX2,FALSE),IF(OR($B$3=\"7 (tujuh)\",$B$3=\"8 (delapan)\"),HLOOKUP($C$3,TABMAPEL_XIII,DBLOGIC!EX2,FALSE),\"-\"))))","v":{"$error":"#N/A"}},{"$f":"IF(OR($B$3=\"1 (satu)\",$B$3=\"2 (dua)\"),HLOOKUP($C$3,TABMAPEL_X,DBLOGIC!EY2,FALSE),IF(OR($B$3=\"3 (tiga)\",$B$3=\"4 (empat)\"),HLOOKUP($C$3,TABMAPEL_XI,DBLOGIC!EY2,FALSE),IF(OR($B$3=\"5 (lima)\",$B$3=\"6 (enam)\"),HLOOKUP($C$3,TABMAPEL_XII,DBLOGIC!EY2,FALSE),IF(OR($B$3=\"7 (tujuh)\",$B$3=\"8 (delapan)\"),HLOOKUP($C$3,TABMAPEL_XIII,DBLOGIC!EY2,FALSE),\"-\"))))","v":{"$error":"#N/A"}},{"$f":"IF(OR($B$3=\"1 (satu)\",$B$3=\"2 (dua)\"),HLOOKUP($C$3,TABMAPEL_X,DBLOGIC!EZ2,FALSE),IF(OR($B$3=\"3 (tiga)\",$B$3=\"4 (empat)\"),HLOOKUP($C$3,TABMAPEL_XI,DBLOGIC!EZ2,FALSE),IF(OR($B$3=\"5 (lima)\",$B$3=\"6 (enam)\"),HLOOKUP($C$3,TABMAPEL_XII,DBLOGIC!EZ2,FALSE),IF(OR($B$3=\"7 (tujuh)\",$B$3=\"8 (delapan)\"),HLOOKUP($C$3,TABMAPEL_XIII,DBLOGIC!EZ2,FALSE),\"-\"))))","v":{"$error":"#N/A"}},{"$f":"IF(OR($B$3=\"1 (satu)\",$B$3=\"2 (dua)\"),HLOOKUP($C$3,TABMAPEL_X,DBLOGIC!FA2,FALSE),IF(OR($B$3=\"3 (tiga)\",$B$3=\"4 (empat)\"),HLOOKUP($C$3,TABMAPEL_XI,DBLOGIC!FA2,FALSE),IF(OR($B$3=\"5 (lima)\",$B$3=\"6 (enam)\"),HLOOKUP($C$3,TABMAPEL_XII,DBLOGIC!FA2,FALSE),IF(OR($B$3=\"7 (tujuh)\",$B$3=\"8 (delapan)\"),HLOOKUP($C$3,TABMAPEL_XIII,DBLOGIC!FA2,FALSE),\"-\"))))","v":{"$error":"#N/A"}},{"$f":"IF(OR($B$3=\"1 (satu)\",$B$3=\"2 (dua)\"),HLOOKUP($C$3,TABMAPEL_X,DBLOGIC!FB2,FALSE),IF(OR($B$3=\"3 (tiga)\",$B$3=\"4 (empat)\"),HLOOKUP($C$3,TABMAPEL_XI,DBLOGIC!FB2,FALSE),IF(OR($B$3=\"5 (lima)\",$B$3=\"6 (enam)\"),HLOOKUP($C$3,TABMAPEL_XII,DBLOGIC!FB2,FALSE),IF(OR($B$3=\"7 (tujuh)\",$B$3=\"8 (delapan)\"),HLOOKUP($C$3,TABMAPEL_XIII,DBLOGIC!FB2,FALSE),\"-\"))))","v":{"$error":"#N/A"}},{"$f":"IF(OR($B$3=\"1 (satu)\",$B$3=\"2 (dua)\"),HLOOKUP($C$3,TABMAPEL_X,DBLOGIC!FC2,FALSE),IF(OR($B$3=\"3 (tiga)\",$B$3=\"4 (empat)\"),HLOOKUP($C$3,TABMAPEL_XI,DBLOGIC!FC2,FALSE),IF(OR($B$3=\"5 (lima)\",$B$3=\"6 (enam)\"),HLOOKUP($C$3,TABMAPEL_XII,DBLOGIC!FC2,FALSE),IF(OR($B$3=\"7 (tujuh)\",$B$3=\"8 (delapan)\"),HLOOKUP($C$3,TABMAPEL_XIII,DBLOGIC!FC2,FALSE),\"-\"))))","v":{"$error":"#N/A"}},{"$f":"IF(OR($B$3=\"1 (satu)\",$B$3=\"2 (dua)\"),HLOOKUP($C$3,TABMAPEL_X,DBLOGIC!FD2,FALSE),IF(OR($B$3=\"3 (tiga)\",$B$3=\"4 (empat)\"),HLOOKUP($C$3,TABMAPEL_XI,DBLOGIC!FD2,FALSE),IF(OR($B$3=\"5 (lima)\",$B$3=\"6 (enam)\"),HLOOKUP($C$3,TABMAPEL_XII,DBLOGIC!FD2,FALSE),IF(OR($B$3=\"7 (tujuh)\",$B$3=\"8 (delapan)\"),HLOOKUP($C$3,TABMAPEL_XIII,DBLOGIC!FD2,FALSE),\"-\"))))","v":{"$error":"#N/A"}},{"$f":"IF(OR($B$3=\"1 (satu)\",$B$3=\"2 (dua)\"),HLOOKUP($C$3,TABMAPEL_X,DBLOGIC!FE2,FALSE),IF(OR($B$3=\"3 (tiga)\",$B$3=\"4 (empat)\"),HLOOKUP($C$3,TABMAPEL_XI,DBLOGIC!FE2,FALSE),IF(OR($B$3=\"5 (lima)\",$B$3=\"6 (enam)\"),HLOOKUP($C$3,TABMAPEL_XII,DBLOGIC!FE2,FALSE),IF(OR($B$3=\"7 (tujuh)\",$B$3=\"8 (delapan)\"),HLOOKUP($C$3,TABMAPEL_XIII,DBLOGIC!FE2,FALSE),\"-\"))))","v":{"$error":"#N/A"}},{"$f":"IF(OR($B$3=\"1 (satu)\",$B$3=\"2 (dua)\"),HLOOKUP($C$3,TABMAPEL_X,DBLOGIC!FF2,FALSE),IF(OR($B$3=\"3 (tiga)\",$B$3=\"4 (empat)\"),HLOOKUP($C$3,TABMAPEL_XI,DBLOGIC!FF2,FALSE),IF(OR($B$3=\"5 (lima)\",$B$3=\"6 (enam)\"),HLOOKUP($C$3,TABMAPEL_XII,DBLOGIC!FF2,FALSE),IF(OR($B$3=\"7 (tujuh)\",$B$3=\"8 (delapan)\"),HLOOKUP($C$3,TABMAPEL_XIII,DBLOGIC!FF2,FALSE),\"-\"))))","v":{"$error":"#N/A"}},{"$f":"IF(OR($B$3=\"1 (satu)\",$B$3=\"2 (dua)\"),HLOOKUP($C$3,TABMAPEL_X,DBLOGIC!FG2,FALSE),IF(OR($B$3=\"3 (tiga)\",$B$3=\"4 (empat)\"),HLOOKUP($C$3,TABMAPEL_XI,DBLOGIC!FG2,FALSE),IF(OR($B$3=\"5 (lima)\",$B$3=\"6 (enam)\"),HLOOKUP($C$3,TABMAPEL_XII,DBLOGIC!FG2,FALSE),IF(OR($B$3=\"7 (tujuh)\",$B$3=\"8 (delapan)\"),HLOOKUP($C$3,TABMAPEL_XIII,DBLOGIC!FG2,FALSE),\"-\"))))","v":{"$error":"#N/A"}},{"$f":"IF(OR($B$3=\"1 (satu)\",$B$3=\"2 (dua)\"),HLOOKUP($C$3,TABMAPEL_X,DBLOGIC!FH2,FALSE),IF(OR($B$3=\"3 (tiga)\",$B$3=\"4 (empat)\"),HLOOKUP($C$3,TABMAPEL_XI,DBLOGIC!FH2,FALSE),IF(OR($B$3=\"5 (lima)\",$B$3=\"6 (enam)\"),HLOOKUP($C$3,TABMAPEL_XII,DBLOGIC!FH2,FALSE),IF(OR($B$3=\"7 (tujuh)\",$B$3=\"8 (delapan)\"),HLOOKUP($C$3,TABMAPEL_XIII,DBLOGIC!FH2,FALSE),\"-\"))))","v":{"$error":"#N/A"}},{"$f":"IF(OR($B$3=\"1 (satu)\",$B$3=\"2 (dua)\"),HLOOKUP($C$3,TABMAPEL_X,DBLOGIC!FI2,FALSE),IF(OR($B$3=\"3 (tiga)\",$B$3=\"4 (empat)\"),HLOOKUP($C$3,TABMAPEL_XI,DBLOGIC!FI2,FALSE),IF(OR($B$3=\"5 (lima)\",$B$3=\"6 (enam)\"),HLOOKUP($C$3,TABMAPEL_XII,DBLOGIC!FI2,FALSE),IF(OR($B$3=\"7 (tujuh)\",$B$3=\"8 (delapan)\"),HLOOKUP($C$3,TABMAPEL_XIII,DBLOGIC!FI2,FALSE),\"-\"))))","v":{"$error":"#N/A"}},{"$f":"IF(OR($B$3=\"1 (satu)\",$B$3=\"2 (dua)\"),HLOOKUP($C$3,TABMAPEL_X,DBLOGIC!FJ2,FALSE),IF(OR($B$3=\"3 (tiga)\",$B$3=\"4 (empat)\"),HLOOKUP($C$3,TABMAPEL_XI,DBLOGIC!FJ2,FALSE),IF(OR($B$3=\"5 (lima)\",$B$3=\"6 (enam)\"),HLOOKUP($C$3,TABMAPEL_XII,DBLOGIC!FJ2,FALSE),IF(OR($B$3=\"7 (tujuh)\",$B$3=\"8 (delapan)\"),HLOOKUP($C$3,TABMAPEL_XIII,DBLOGIC!FJ2,FALSE),\"-\"))))","v":{"$error":"#N/A"}},{"$f":"IF(OR($B$3=\"1 (satu)\",$B$3=\"2 (dua)\"),HLOOKUP($C$3,TABMAPEL_X,DBLOGIC!FK2,FALSE),IF(OR($B$3=\"3 (tiga)\",$B$3=\"4 (empat)\"),HLOOKUP($C$3,TABMAPEL_XI,DBLOGIC!FK2,FALSE),IF(OR($B$3=\"5 (lima)\",$B$3=\"6 (enam)\"),HLOOKUP($C$3,TABMAPEL_XII,DBLOGIC!FK2,FALSE),IF(OR($B$3=\"7 (tujuh)\",$B$3=\"8 (delapan)\"),HLOOKUP($C$3,TABMAPEL_XIII,DBLOGIC!FK2,FALSE),\"-\"))))","v":{"$error":"#N/A"}},{"$f":"IF(OR($B$3=\"1 (satu)\",$B$3=\"2 (dua)\"),HLOOKUP($C$3,TABMAPEL_X,DBLOGIC!FL2,FALSE),IF(OR($B$3=\"3 (tiga)\",$B$3=\"4 (empat)\"),HLOOKUP($C$3,TABMAPEL_XI,DBLOGIC!FL2,FALSE),IF(OR($B$3=\"5 (lima)\",$B$3=\"6 (enam)\"),HLOOKUP($C$3,TABMAPEL_XII,DBLOGIC!FL2,FALSE),IF(OR($B$3=\"7 (tujuh)\",$B$3=\"8 (delapan)\"),HLOOKUP($C$3,TABMAPEL_XIII,DBLOGIC!FL2,FALSE),\"-\"))))","v":{"$error":"#N/A"}},{"$f":"IF(OR($B$3=\"1 (satu)\",$B$3=\"2 (dua)\"),HLOOKUP($C$3,TABMAPEL_X,DBLOGIC!FM2,FALSE),IF(OR($B$3=\"3 (tiga)\",$B$3=\"4 (empat)\"),HLOOKUP($C$3,TABMAPEL_XI,DBLOGIC!FM2,FALSE),IF(OR($B$3=\"5 (lima)\",$B$3=\"6 (enam)\"),HLOOKUP($C$3,TABMAPEL_XII,DBLOGIC!FM2,FALSE),IF(OR($B$3=\"7 (tujuh)\",$B$3=\"8 (delapan)\"),HLOOKUP($C$3,TABMAPEL_XIII,DBLOGIC!FM2,FALSE),\"-\"))))","v":{"$error":"#N/A"}},{"$f":"IF(OR($B$3=\"1 (satu)\",$B$3=\"2 (dua)\"),HLOOKUP($C$3,TABMAPEL_X,DBLOGIC!FN2,FALSE),IF(OR($B$3=\"3 (tiga)\",$B$3=\"4 (empat)\"),HLOOKUP($C$3,TABMAPEL_XI,DBLOGIC!FN2,FALSE),IF(OR($B$3=\"5 (lima)\",$B$3=\"6 (enam)\"),HLOOKUP($C$3,TABMAPEL_XII,DBLOGIC!FN2,FALSE),IF(OR($B$3=\"7 (tujuh)\",$B$3=\"8 (delapan)\"),HLOOKUP($C$3,TABMAPEL_XIII,DBLOGIC!FN2,FALSE),\"-\"))))","v":{"$error":"#N/A"}},{"$f":"IF(OR($B$3=\"1 (satu)\",$B$3=\"2 (dua)\"),HLOOKUP($C$3,TABMAPEL_X,DBLOGIC!FO2,FALSE),IF(OR($B$3=\"3 (tiga)\",$B$3=\"4 (empat)\"),HLOOKUP($C$3,TABMAPEL_XI,DBLOGIC!FO2,FALSE),IF(OR($B$3=\"5 (lima)\",$B$3=\"6 (enam)\"),HLOOKUP($C$3,TABMAPEL_XII,DBLOGIC!FO2,FALSE),IF(OR($B$3=\"7 (tujuh)\",$B$3=\"8 (delapan)\"),HLOOKUP($C$3,TABMAPEL_XIII,DBLOGIC!FO2,FALSE),\"-\"))))","v":{"$error":"#N/A"}},{"$f":"IF(OR($B$3=\"1 (satu)\",$B$3=\"2 (dua)\"),HLOOKUP($C$3,TABMAPEL_X,DBLOGIC!FP2,FALSE),IF(OR($B$3=\"3 (tiga)\",$B$3=\"4 (empat)\"),HLOOKUP($C$3,TABMAPEL_XI,DBLOGIC!FP2,FALSE),IF(OR($B$3=\"5 (lima)\",$B$3=\"6 (enam)\"),HLOOKUP($C$3,TABMAPEL_XII,DBLOGIC!FP2,FALSE),IF(OR($B$3=\"7 (tujuh)\",$B$3=\"8 (delapan)\"),HLOOKUP($C$3,TABMAPEL_XIII,DBLOGIC!FP2,FALSE),\"-\"))))","v":{"$error":"#N/A"}},{"$f":"IF(OR($B$3=\"1 (satu)\",$B$3=\"2 (dua)\"),HLOOKUP($C$3,TABMAPEL_X,DBLOGIC!FQ2,FALSE),IF(OR($B$3=\"3 (tiga)\",$B$3=\"4 (empat)\"),HLOOKUP($C$3,TABMAPEL_XI,DBLOGIC!FQ2,FALSE),IF(OR($B$3=\"5 (lima)\",$B$3=\"6 (enam)\"),HLOOKUP($C$3,TABMAPEL_XII,DBLOGIC!FQ2,FALSE),IF(OR($B$3=\"7 (tujuh)\",$B$3=\"8 (delapan)\"),HLOOKUP($C$3,TABMAPEL_XIII,DBLOGIC!FQ2,FALSE),\"-\"))))","v":{"$error":"#N/A"}},{"$f":"IF(OR($B$3=\"1 (satu)\",$B$3=\"2 (dua)\"),HLOOKUP($C$3,TABMAPEL_X,DBLOGIC!FR2,FALSE),IF(OR($B$3=\"3 (tiga)\",$B$3=\"4 (empat)\"),HLOOKUP($C$3,TABMAPEL_XI,DBLOGIC!FR2,FALSE),IF(OR($B$3=\"5 (lima)\",$B$3=\"6 (enam)\"),HLOOKUP($C$3,TABMAPEL_XII,DBLOGIC!FR2,FALSE),IF(OR($B$3=\"7 (tujuh)\",$B$3=\"8 (delapan)\"),HLOOKUP($C$3,TABMAPEL_XIII,DBLOGIC!FR2,FALSE),\"-\"))))","v":{"$error":"#N/A"}},{"$f":"IF(OR($B$3=\"1 (satu)\",$B$3=\"2 (dua)\"),HLOOKUP($C$3,TABMAPEL_X,DBLOGIC!FS2,FALSE),IF(OR($B$3=\"3 (tiga)\",$B$3=\"4 (empat)\"),HLOOKUP($C$3,TABMAPEL_XI,DBLOGIC!FS2,FALSE),IF(OR($B$3=\"5 (lima)\",$B$3=\"6 (enam)\"),HLOOKUP($C$3,TABMAPEL_XII,DBLOGIC!FS2,FALSE),IF(OR($B$3=\"7 (tujuh)\",$B$3=\"8 (delapan)\"),HLOOKUP($C$3,TABMAPEL_XIII,DBLOGIC!FS2,FALSE),\"-\"))))","v":{"$error":"#N/A"}},{"$f":"IF(OR($B$3=\"1 (satu)\",$B$3=\"2 (dua)\"),HLOOKUP($C$3,TABMAPEL_X,DBLOGIC!FT2,FALSE),IF(OR($B$3=\"3 (tiga)\",$B$3=\"4 (empat)\"),HLOOKUP($C$3,TABMAPEL_XI,DBLOGIC!FT2,FALSE),IF(OR($B$3=\"5 (lima)\",$B$3=\"6 (enam)\"),HLOOKUP($C$3,TABMAPEL_XII,DBLOGIC!FT2,FALSE),IF(OR($B$3=\"7 (tujuh)\",$B$3=\"8 (delapan)\"),HLOOKUP($C$3,TABMAPEL_XIII,DBLOGIC!FT2,FALSE),\"-\"))))","v":{"$error":"#N/A"}},{"$f":"IF(OR($B$3=\"1 (satu)\",$B$3=\"2 (dua)\"),HLOOKUP($C$3,TABMAPEL_X,DBLOGIC!FU2,FALSE),IF(OR($B$3=\"3 (tiga)\",$B$3=\"4 (empat)\"),HLOOKUP($C$3,TABMAPEL_XI,DBLOGIC!FU2,FALSE),IF(OR($B$3=\"5 (lima)\",$B$3=\"6 (enam)\"),HLOOKUP($C$3,TABMAPEL_XII,DBLOGIC!FU2,FALSE),IF(OR($B$3=\"7 (tujuh)\",$B$3=\"8 (delapan)\"),HLOOKUP($C$3,TABMAPEL_XIII,DBLOGIC!FU2,FALSE),\"-\"))))","v":{"$error":"#N/A"}},{"$f":"IF(OR($B$3=\"1 (satu)\",$B$3=\"2 (dua)\"),HLOOKUP($C$3,TABMAPEL_X,DBLOGIC!FV2,FALSE),IF(OR($B$3=\"3 (tiga)\",$B$3=\"4 (empat)\"),HLOOKUP($C$3,TABMAPEL_XI,DBLOGIC!FV2,FALSE),IF(OR($B$3=\"5 (lima)\",$B$3=\"6 (enam)\"),HLOOKUP($C$3,TABMAPEL_XII,DBLOGIC!FV2,FALSE),IF(OR($B$3=\"7 (tujuh)\",$B$3=\"8 (delapan)\"),HLOOKUP($C$3,TABMAPEL_XIII,DBLOGIC!FV2,FALSE),\"-\"))))","v":{"$error":"#N/A"}},{"$f":"IF(OR($B$3=\"1 (satu)\",$B$3=\"2 (dua)\"),HLOOKUP($C$3,TABMAPEL_X,DBLOGIC!FW2,FALSE),IF(OR($B$3=\"3 (tiga)\",$B$3=\"4 (empat)\"),HLOOKUP($C$3,TABMAPEL_XI,DBLOGIC!FW2,FALSE),IF(OR($B$3=\"5 (lima)\",$B$3=\"6 (enam)\"),HLOOKUP($C$3,TABMAPEL_XII,DBLOGIC!FW2,FALSE),IF(OR($B$3=\"7 (tujuh)\",$B$3=\"8 (delapan)\"),HLOOKUP($C$3,TABMAPEL_XIII,DBLOGIC!FW2,FALSE),\"-\"))))","v":{"$error":"#N/A"}},{"$f":"IF(OR($B$3=\"1 (satu)\",$B$3=\"2 (dua)\"),HLOOKUP($C$3,TABMAPEL_X,DBLOGIC!FX2,FALSE),IF(OR($B$3=\"3 (tiga)\",$B$3=\"4 (empat)\"),HLOOKUP($C$3,TABMAPEL_XI,DBLOGIC!FX2,FALSE),IF(OR($B$3=\"5 (lima)\",$B$3=\"6 (enam)\"),HLOOKUP($C$3,TABMAPEL_XII,DBLOGIC!FX2,FALSE),IF(OR($B$3=\"7 (tujuh)\",$B$3=\"8 (delapan)\"),HLOOKUP($C$3,TABMAPEL_XIII,DBLOGIC!FX2,FALSE),\"-\"))))","v":{"$error":"#N/A"}},{"$f":"IF(OR($B$3=\"1 (satu)\",$B$3=\"2 (dua)\"),HLOOKUP($C$3,TABMAPEL_X,DBLOGIC!FY2,FALSE),IF(OR($B$3=\"3 (tiga)\",$B$3=\"4 (empat)\"),HLOOKUP($C$3,TABMAPEL_XI,DBLOGIC!FY2,FALSE),IF(OR($B$3=\"5 (lima)\",$B$3=\"6 (enam)\"),HLOOKUP($C$3,TABMAPEL_XII,DBLOGIC!FY2,FALSE),IF(OR($B$3=\"7 (tujuh)\",$B$3=\"8 (delapan)\"),HLOOKUP($C$3,TABMAPEL_XIII,DBLOGIC!FY2,FALSE),\"-\"))))","v":{"$error":"#N/A"}},{"$f":"IF(OR($B$3=\"1 (satu)\",$B$3=\"2 (dua)\"),HLOOKUP($C$3,TABMAPEL_X,DBLOGIC!FZ2,FALSE),IF(OR($B$3=\"3 (tiga)\",$B$3=\"4 (empat)\"),HLOOKUP($C$3,TABMAPEL_XI,DBLOGIC!FZ2,FALSE),IF(OR($B$3=\"5 (lima)\",$B$3=\"6 (enam)\"),HLOOKUP($C$3,TABMAPEL_XII,DBLOGIC!FZ2,FALSE),IF(OR($B$3=\"7 (tujuh)\",$B$3=\"8 (delapan)\"),HLOOKUP($C$3,TABMAPEL_XIII,DBLOGIC!FZ2,FALSE),\"-\"))))","v":{"$error":"#N/A"}},{"$f":"IF(OR($B$3=\"1 (satu)\",$B$3=\"2 (dua)\"),HLOOKUP($C$3,TABMAPEL_X,DBLOGIC!GA2,FALSE),IF(OR($B$3=\"3 (tiga)\",$B$3=\"4 (empat)\"),HLOOKUP($C$3,TABMAPEL_XI,DBLOGIC!GA2,FALSE),IF(OR($B$3=\"5 (lima)\",$B$3=\"6 (enam)\"),HLOOKUP($C$3,TABMAPEL_XII,DBLOGIC!GA2,FALSE),IF(OR($B$3=\"7 (tujuh)\",$B$3=\"8 (delapan)\"),HLOOKUP($C$3,TABMAPEL_XIII,DBLOGIC!GA2,FALSE),\"-\"))))","v":{"$error":"#N/A"}},{"$f":"IF(OR($B$3=\"1 (satu)\",$B$3=\"2 (dua)\"),HLOOKUP($C$3,TABMAPEL_X,DBLOGIC!GB2,FALSE),IF(OR($B$3=\"3 (tiga)\",$B$3=\"4 (empat)\"),HLOOKUP($C$3,TABMAPEL_XI,DBLOGIC!GB2,FALSE),IF(OR($B$3=\"5 (lima)\",$B$3=\"6 (enam)\"),HLOOKUP($C$3,TABMAPEL_XII,DBLOGIC!GB2,FALSE),IF(OR($B$3=\"7 (tujuh)\",$B$3=\"8 (delapan)\"),HLOOKUP($C$3,TABMAPEL_XIII,DBLOGIC!GB2,FALSE),\"-\"))))","v":{"$error":"#N/A"}},null,"Bimbingan dan Konseling","Catatan Aakdemik"]
["Semester  :","7 (tujuh)",{"$f":"IF(OR(B3=\"1 (satu)\",B3=\"2 (dua)\"),\"X \"&MENU!F8,IF(OR(B3=\"3 (tiga)\",B3=\"4 (empat)\"),\"XI \"&MENU!F8,IF(OR(B3=\"5 (lima)\",B3=\"6 (enam)\"),\"XII \"&MENU!F8,IF(OR(B3=\"7 (tujuh)\",B3=\"8 (delapan)\"),\"XIII \"&MENU!F8,\"\"))))","v":"XIII TBSM"},{"$f":"HLOOKUP(\"KEL\",TABMAPEL_X,DBLOGIC!Q2,FALSE)","v":"A"},{"$f":"HLOOKUP(\"KEL\",TABMAPEL_X,DBLOGIC!R2,FALSE)","v":"A"},{"$f":"HLOOKUP(\"KEL\",TABMAPEL_X,DBLOGIC!S2,FALSE)","v":"A"},{"$f":"HLOOKUP(\"KEL\",TABMAPEL_X,DBLOGIC!T2,FALSE)","v":"A"},{"$f":"HLOOKUP(\"KEL\",TABMAPEL_X,DBLOGIC!U2,FALSE)","v":"A"},{"$f":"HLOOKUP(\"KEL\",TABMAPEL_X,DBLOGIC!V2,FALSE)","v":"A"},{"$f":"HLOOKUP(\"KEL\",TABMAPEL_X,DBLOGIC!W2,FALSE)","v":"A"},{"$f":"HLOOKUP(\"KEL\",TABMAPEL_X,DBLOGIC!X2,FALSE)","v":"A"},{"$f":"HLOOKUP(\"KEL\",TABMAPEL_X,DBLOGIC!Y2,FALSE)","v":"A"},{"$f":"HLOOKUP(\"KEL\",TABMAPEL_X,DBLOGIC!Z2,FALSE)","v":"A"},{"$f":"HLOOKUP(\"KEL\",TABMAPEL_X,DBLOGIC!AA2,FALSE)","v":"A"},{"$f":"HLOOKUP(\"KEL\",TABMAPEL_X,DBLOGIC!AB2,FALSE)","v":"A"},{"$f":"HLOOKUP(\"KEL\",TABMAPEL_X,DBLOGIC!AC2,FALSE)","v":"A"},{"$f":"HLOOKUP(\"KEL\",TABMAPEL_X,DBLOGIC!AD2,FALSE)","v":"A"},{"$f":"HLOOKUP(\"KEL\",TABMAPEL_X,DBLOGIC!AE2,FALSE)","v":"A"},{"$f":"HLOOKUP(\"KEL\",TABMAPEL_X,DBLOGIC!AF2,FALSE)","v":"A"},{"$f":"HLOOKUP(\"KEL\",TABMAPEL_X,DBLOGIC!AG2,FALSE)","v":"A"},{"$f":"HLOOKUP(\"KEL\",TABMAPEL_X,DBLOGIC!AH2,FALSE)","v":"A"},{"$f":"HLOOKUP(\"KEL\",TABMAPEL_X,DBLOGIC!AI2,FALSE)","v":"A"},{"$f":"HLOOKUP(\"KEL\",TABMAPEL_X,DBLOGIC!AJ2,FALSE)","v":"A"},{"$f":"HLOOKUP(\"KEL\",TABMAPEL_X,DBLOGIC!AK2,FALSE)","v":"A"},{"$f":"HLOOKUP(\"KEL\",TABMAPEL_X,DBLOGIC!AL2,FALSE)","v":"A"},{"$f":"HLOOKUP(\"KEL\",TABMAPEL_X,DBLOGIC!AM2,FALSE)","v":"A"},{"$f":"HLOOKUP(\"KEL\",TABMAPEL_X,DBLOGIC!AN2,FALSE)","v":"A"},{"$f":"HLOOKUP(\"KEL\",TABMAPEL_X,DBLOGIC!AO2,FALSE)","v":"A"},{"$f":"HLOOKUP(\"KEL\",TABMAPEL_X,DBLOGIC!AP2,FALSE)","v":"A"},{"$f":"HLOOKUP(\"KEL\",TABMAPEL_X,DBLOGIC!AQ2,FALSE)","v":"A"},{"$f":"HLOOKUP(\"KEL\",TABMAPEL_X,DBLOGIC!AR2,FALSE)","v":"A"},{"$f":"HLOOKUP(\"KEL\",TABMAPEL_X,DBLOGIC!AS2,FALSE)","v":"A"},{"$f":"HLOOKUP(\"KEL\",TABMAPEL_X,DBLOGIC!AT2,FALSE)","v":"A"},{"$f":"HLOOKUP(\"KEL\",TABMAPEL_X,DBLOGIC!AU2,FALSE)","v":"A"},{"$f":"HLOOKUP(\"KEL\",TABMAPEL_X,DBLOGIC!AV2,FALSE)","v":"A"},{"$f":"HLOOKUP(\"KEL\",TABMAPEL_X,DBLOGIC!AW2,FALSE)","v":"A"},{"$f":"HLOOKUP(\"KEL\",TABMAPEL_X,DBLOGIC!AX2,FALSE)","v":"A"},{"$f":"HLOOKUP(\"KEL\",TABMAPEL_X,DBLOGIC!AY2,FALSE)","v":"A"},{"$f":"HLOOKUP(\"KEL\",TABMAPEL_X,DBLOGIC!AZ2,FALSE)","v":"A"},{"$f":"HLOOKUP(\"KEL\",TABMAPEL_X,DBLOGIC!BA2,FALSE)","v":"A"},{"$f":"HLOOKUP(\"KEL\",TABMAPEL_X,DBLOGIC!BB2,FALSE)","v":"A"},{"$f":"HLOOKUP(\"KEL\",TABMAPEL_X,DBLOGIC!BC2,FALSE)","v":"A"},{"$f":"HLOOKUP(\"KEL\",TABMAPEL_X,DBLOGIC!BD2,FALSE)","v":"A"},{"$f":"HLOOKUP(\"KEL\",TABMAPEL_X,DBLOGIC!BE2,FALSE)","v":"A"},{"$f":"HLOOKUP(\"KEL\",TABMAPEL_X,DBLOGIC!BF2,FALSE)","v":"A"},{"$f":"HLOOKUP(\"KEL\",TABMAPEL_X,DBLOGIC!BG2,FALSE)","v":"A"},{"$f":"HLOOKUP(\"KEL\",TABMAPEL_X,DBLOGIC!BH2,FALSE)","v":"A"},{"$f":"HLOOKUP(\"KEL\",TABMAPEL_X,DBLOGIC!BI2,FALSE)","v":"A"},{"$f":"HLOOKUP(\"KEL\",TABMAPEL_X,DBLOGIC!BJ2,FALSE)","v":"A"},{"$f":"HLOOKUP(\"KEL\",TABMAPEL_X,DBLOGIC!BK2,FALSE)","v":"A"},{"$f":"HLOOKUP(\"KEL\",TABMAPEL_X,DBLOGIC!BL2,FALSE)","v":"A"},{"$f":"HLOOKUP(\"KEL\",TABMAPEL_X,DBLOGIC!BM2,FALSE)","v":"A"},{"$f":"HLOOKUP(\"KEL\",TABMAPEL_X,DBLOGIC!BN2,FALSE)","v":"B"},{"$f":"HLOOKUP(\"KEL\",TABMAPEL_X,DBLOGIC!BO2,FALSE)","v":"B"},{"$f":"HLOOKUP(\"KEL\",TABMAPEL_X,DBLOGIC!BP2,FALSE)","v":"B"},{"$f":"HLOOKUP(\"KEL\",TABMAPEL_X,DBLOGIC!BQ2,FALSE)","v":"B"},{"$f":"HLOOKUP(\"KEL\",TABMAPEL_X,DBLOGIC!BR2,FALSE)","v":"B"},{"$f":"HLOOKUP(\"KEL\",TABMAPEL_X,DBLOGIC!BS2,FALSE)","v":"B"},{"$f":"HLOOKUP(\"KEL\",TABMAPEL_X,DBLOGIC!BT2,FALSE)","v":"B"},{"$f":"HLOOKUP(\"KEL\",TABMAPEL_X,DBLOGIC!BU2,FALSE)","v":"B"},{"$f":"HLOOKUP(\"KEL\",TABMAPEL_X,DBLOGIC!BV2,FALSE)","v":"B"},{"$f":"HLOOKUP(\"KEL\",TABMAPEL_X,DBLOGIC!BW2,FALSE)","v":"B"},{"$f":"HLOOKUP(\"KEL\",TABMAPEL_X,DBLOGIC!BX2,FALSE)","v":"B"},{"$f":"HLOOKUP(\"KEL\",TABMAPEL_X,DBLOGIC!BY2,FALSE)","v":"B"},{"$f":"HLOOKUP(\"KEL\",TABMAPEL_X,DBLOGIC!BZ2,FALSE)","v":"B"},{"$f":"HLOOKUP(\"KEL\",TABMAPEL_X,DBLOGIC!CA2,FALSE)","v":"B"},{"$f":"HLOOKUP(\"KEL\",TABMAPEL_X,DBLOGIC!CB2,FALSE)","v":"C1"},{"$f":"HLOOKUP(\"KEL\",TABMAPEL_X,DBLOGIC!CC2,FALSE)","v":"C1"},{"$f":"HLOOKUP(\"KEL\",TABMAPEL_X,DBLOGIC!CD2,FALSE)","v":"C1"},{"$f":"HLOOKUP(\"KEL\",TABMAPEL_X,DBLOGIC!CE2,FALSE)","v":"C1"},{"$f":"HLOOKUP(\"KEL\",TABMAPEL_X,DBLOGIC!CF2,FALSE)","v":"C1"},{"$f":"HLOOKUP(\"KEL\",TABMAPEL_X,DBLOGIC!CG2,FALSE)","v":"C1"},{"$f":"HLOOKUP(\"KEL\",TABMAPEL_X,DBLOGIC!CH2,FALSE)","v":"C1"},{"$f":"HLOOKUP(\"KEL\",TABMAPEL_X,DBLOGIC!CI2,FALSE)","v":"C1"},{"$f":"HLOOKUP(\"KEL\",TABMAPEL_X,DBLOGIC!CJ2,FALSE)","v":"C1"},{"$f":"HLOOKUP(\"KEL\",TABMAPEL_X,DBLOGIC!CK2,FALSE)","v":"C1"},{"$f":"HLOOKUP(\"KEL\",TABMAPEL_X,DBLOGIC!CL2,FALSE)","v":"C1"},{"$f":"HLOOKUP(\"KEL\",TABMAPEL_X,DBLOGIC!CM2,FALSE)","v":"C1"},{"$f":"HLOOKUP(\"KEL\",TABMAPEL_X,DBLOGIC!CN2,FALSE)","v":"C1"},{"$f":"HLOOKUP(\"KEL\",TABMAPEL_X,DBLOGIC!CO2,FALSE)","v":"C1"},{"$f":"HLOOKUP(\"KEL\",TABMAPEL_X,DBLOGIC!CP2,FALSE)","v":"C1"},{"$f":"HLOOKUP(\"KEL\",TABMAPEL_X,DBLOGIC!CQ2,FALSE)","v":"C1"},{"$f":"HLOOKUP(\"KEL\",TABMAPEL_X,DBLOGIC!CR2,FALSE)","v":"C1"},{"$f":"HLOOKUP(\"KEL\",TABMAPEL_X,DBLOGIC!CS2,FALSE)","v":"C1"},{"$f":"HLOOKUP(\"KEL\",TABMAPEL_X,DBLOGIC!CT2,FALSE)","v":"C1"},{"$f":"HLOOKUP(\"KEL\",TABMAPEL_X,DBLOGIC!CU2,FALSE)","v":"C1"},{"$f":"HLOOKUP(\"KEL\",TABMAPEL_X,DBLOGIC!CV2,FALSE)","v":"C1"},{"$f":"HLOOKUP(\"KEL\",TABMAPEL_X,DBLOGIC!CW2,FALSE)","v":"C2"},{"$f":"HLOOKUP(\"KEL\",TABMAPEL_X,DBLOGIC!CX2,FALSE)","v":"C2"},{"$f":"HLOOKUP(\"KEL\",TABMAPEL_X,DBLOGIC!CY2,FALSE)","v":"C2"},{"$f":"HLOOKUP(\"KEL\",TABMAPEL_X,DBLOGIC!CZ2,FALSE)","v":"C2"},{"$f":"HLOOKUP(\"KEL\",TABMAPEL_X,DBLOGIC!DA2,FALSE)","v":"C2"},{"$f":"HLOOKUP(\"KEL\",TABMAPEL_X,DBLOGIC!DB2,FALSE)","v":"C2"},{"$f":"HLOOKUP(\"KEL\",TABMAPEL_X,DBLOGIC!DC2,FALSE)","v":"C2"},{"$f":"HLOOKUP(\"KEL\",TABMAPEL_X,DBLOGIC!DD2,FALSE)","v":"C2"},{"$f":"HLOOKUP(\"KEL\",TABMAPEL_X,DBLOGIC!DE2,FALSE)","v":"C2"},{"$f":"HLOOKUP(\"KEL\",TABMAPEL_X,DBLOGIC!DF2,FALSE)","v":"C2"},{"$f":"HLOOKUP(\"KEL\",TABMAPEL_X,DBLOGIC!DG2,FALSE)","v":"C2"},{"$f":"HLOOKUP(\"KEL\",TABMAPEL_X,DBLOGIC!DH2,FALSE)","v":"C2"},{"$f":"HLOOKUP(\"KEL\",TABMAPEL_X,DBLOGIC!DI2,FALSE)","v":"C2"},{"$f":"HLOOKUP(\"KEL\",TABMAPEL_X,DBLOGIC!DJ2,FALSE)","v":"C2"},{"$f":"HLOOKUP(\"KEL\",TABMAPEL_X,DBLOGIC!DK2,FALSE)","v":"C2"},{"$f":"HLOOKUP(\"KEL\",TABMAPEL_X,DBLOGIC!DL2,FALSE)","v":"C2"},{"$f":"HLOOKUP(\"KEL\",TABMAPEL_X,DBLOGIC!DM2,FALSE)","v":"C2"},{"$f":"HLOOKUP(\"KEL\",TABMAPEL_X,DBLOGIC!DN2,FALSE)","v":"C2"},{"$f":"HLOOKUP(\"KEL\",TABMAPEL_X,DBLOGIC!DO2,FALSE)","v":"C2"},{"$f":"HLOOKUP(\"KEL\",TABMAPEL_X,DBLOGIC!DP2,FALSE)","v":"C2"},{"$f":"HLOOKUP(\"KEL\",TABMAPEL_X,DBLOGIC!DQ2,FALSE)","v":"C2"},{"$f":"HLOOKUP(\"KEL\",TABMAPEL_X,DBLOGIC!DR2,FALSE)","v":"C2"},{"$f":"HLOOKUP(\"KEL\",TABMAPEL_X,DBLOGIC!DS2,FALSE)","v":"C2"},{"$f":"HLOOKUP(\"KEL\",TABMAPEL_X,DBLOGIC!DT2,FALSE)","v":"C2"},{"$f":"HLOOKUP(\"KEL\",TABMAPEL_X,DBLOGIC!DU2,FALSE)","v":"C2"},{"$f":"HLOOKUP(\"KEL\",TABMAPEL_X,DBLOGIC!DV2,FALSE)","v":"C2"},{"$f":"HLOOKUP(\"KEL\",TABMAPEL_X,DBLOGIC!DW2,FALSE)","v":"C2"},{"$f":"HLOOKUP(\"KEL\",TABMAPEL_X,DBLOGIC!DX2,FALSE)","v":"C2"},{"$f":"HLOOKUP(\"KEL\",TABMAPEL_X,DBLOGIC!DY2,FALSE)","v":"C3"},{"$f":"HLOOKUP(\"KEL\",TABMAPEL_X,DBLOGIC!DZ2,FALSE)","v":"C3"},{"$f":"HLOOKUP(\"KEL\",TABMAPEL_X,DBLOGIC!EA2,FALSE)","v":"C3"},{"$f":"HLOOKUP(\"KEL\",TABMAPEL_X,DBLOGIC!EB2,FALSE)","v":"C3"},{"$f":"HLOOKUP(\"KEL\",TABMAPEL_X,DBLOGIC!EC2,FALSE)","v":"C3"},{"$f":"HLOOKUP(\"KEL\",TABMAPEL_X,DBLOGIC!ED2,FALSE)","v":"C3"},{"$f":"HLOOKUP(\"KEL\",TABMAPEL_X,DBLOGIC!EE2,FALSE)","v":"C3"},{"$f":"HLOOKUP(\"KEL\",TABMAPEL_X,DBLOGIC!EF2,FALSE)","v":"C3"},{"$f":"HLOOKUP(\"KEL\",TABMAPEL_X,DBLOGIC!EG2,FALSE)","v":"C3"},{"$f":"HLOOKUP(\"KEL\",TABMAPEL_X,DBLOGIC!EH2,FALSE)","v":"C3"},{"$f":"HLOOKUP(\"KEL\",TABMAPEL_X,DBLOGIC!EI2,FALSE)","v":"C3"},{"$f":"HLOOKUP(\"KEL\",TABMAPEL_X,DBLOGIC!EJ2,FALSE)","v":"C3"},{"$f":"HLOOKUP(\"KEL\",TABMAPEL_X,DBLOGIC!EK2,FALSE)","v":"C3"},{"$f":"HLOOKUP(\"KEL\",TABMAPEL_X,DBLOGIC!EL2,FALSE)","v":"C3"},{"$f":"HLOOKUP(\"KEL\",TABMAPEL_X,DBLOGIC!EM2,FALSE)","v":"C3"},{"$f":"HLOOKUP(\"KEL\",TABMAPEL_X,DBLOGIC!EN2,FALSE)","v":"C3"},{"$f":"HLOOKUP(\"KEL\",TABMAPEL_X,DBLOGIC!EO2,FALSE)","v":"C3"},{"$f":"HLOOKUP(\"KEL\",TABMAPEL_X,DBLOGIC!EP2,FALSE)","v":"C3"},{"$f":"HLOOKUP(\"KEL\",TABMAPEL_X,DBLOGIC!EQ2,FALSE)","v":"C3"},{"$f":"HLOOKUP(\"KEL\",TABMAPEL_X,DBLOGIC!ER2,FALSE)","v":"C3"},{"$f":"HLOOKUP(\"KEL\",TABMAPEL_X,DBLOGIC!ES2,FALSE)","v":"C3"},{"$f":"HLOOKUP(\"KEL\",TABMAPEL_X,DBLOGIC!ET2,FALSE)","v":"C3"},{"$f":"HLOOKUP(\"KEL\",TABMAPEL_X,DBLOGIC!EU2,FALSE)","v":"C3"},{"$f":"HLOOKUP(\"KEL\",TABMAPEL_X,DBLOGIC!EV2,FALSE)","v":"C3"},{"$f":"HLOOKUP(\"KEL\",TABMAPEL_X,DBLOGIC!EW2,FALSE)","v":"C3"},{"$f":"HLOOKUP(\"KEL\",TABMAPEL_X,DBLOGIC!EX2,FALSE)","v":"C3"},{"$f":"HLOOKUP(\"KEL\",TABMAPEL_X,DBLOGIC!EY2,FALSE)","v":"C3"},{"$f":"HLOOKUP(\"KEL\",TABMAPEL_X,DBLOGIC!EZ2,FALSE)","v":"C3"},{"$f":"HLOOKUP(\"KEL\",TABMAPEL_X,DBLOGIC!FA2,FALSE)","v":"C3"},{"$f":"HLOOKUP(\"KEL\",TABMAPEL_X,DBLOGIC!FB2,FALSE)","v":"C3"},{"$f":"HLOOKUP(\"KEL\",TABMAPEL_X,DBLOGIC!FC2,FALSE)","v":"C3"},{"$f":"HLOOKUP(\"KEL\",TABMAPEL_X,DBLOGIC!FD2,FALSE)","v":"C3"},{"$f":"HLOOKUP(\"KEL\",TABMAPEL_X,DBLOGIC!FE2,FALSE)","v":"C3"},{"$f":"HLOOKUP(\"KEL\",TABMAPEL_X,DBLOGIC!FF2,FALSE)","v":"C3"},{"$f":"HLOOKUP(\"KEL\",TABMAPEL_X,DBLOGIC!FG2,FALSE)","v":"C3"},{"$f":"HLOOKUP(\"KEL\",TABMAPEL_X,DBLOGIC!FH2,FALSE)","v":"C3"},{"$f":"HLOOKUP(\"KEL\",TABMAPEL_X,DBLOGIC!FI2,FALSE)","v":"C3"},{"$f":"HLOOKUP(\"KEL\",TABMAPEL_X,DBLOGIC!FJ2,FALSE)","v":"C3"},{"$f":"HLOOKUP(\"KEL\",TABMAPEL_X,DBLOGIC!FK2,FALSE)","v":"C3"},{"$f":"HLOOKUP(\"KEL\",TABMAPEL_X,DBLOGIC!FL2,FALSE)","v":"C3"},{"$f":"HLOOKUP(\"KEL\",TABMAPEL_X,DBLOGIC!FM2,FALSE)","v":"C3"},{"$f":"HLOOKUP(\"KEL\",TABMAPEL_X,DBLOGIC!FN2,FALSE)","v":"C3"},{"$f":"HLOOKUP(\"KEL\",TABMAPEL_X,DBLOGIC!FO2,FALSE)","v":"M"},{"$f":"HLOOKUP(\"KEL\",TABMAPEL_X,DBLOGIC!FP2,FALSE)","v":"M"},{"$f":"HLOOKUP(\"KEL\",TABMAPEL_X,DBLOGIC!FQ2,FALSE)","v":"M"},{"$f":"HLOOKUP(\"KEL\",TABMAPEL_X,DBLOGIC!FR2,FALSE)","v":"M"},{"$f":"HLOOKUP(\"KEL\",TABMAPEL_X,DBLOGIC!FS2,FALSE)","v":"M"},{"$f":"HLOOKUP(\"KEL\",TABMAPEL_X,DBLOGIC!FT2,FALSE)","v":"M"},{"$f":"HLOOKUP(\"KEL\",TABMAPEL_X,DBLOGIC!FU2,FALSE)","v":"M"},{"$f":"HLOOKUP(\"KEL\",TABMAPEL_X,DBLOGIC!FV2,FALSE)","v":"M"},{"$f":"HLOOKUP(\"KEL\",TABMAPEL_X,DBLOGIC!FW2,FALSE)","v":"M"},{"$f":"HLOOKUP(\"KEL\",TABMAPEL_X,DBLOGIC!FX2,FALSE)","v":"M"},{"$f":"HLOOKUP(\"KEL\",TABMAPEL_X,DBLOGIC!FY2,FALSE)","v":"M"},{"$f":"HLOOKUP(\"KEL\",TABMAPEL_X,DBLOGIC!FZ2,FALSE)","v":"M"},{"$f":"HLOOKUP(\"KEL\",TABMAPEL_X,DBLOGIC!GA2,FALSE)","v":"M"},{"$f":"HLOOKUP(\"KEL\",TABMAPEL_X,DBLOGIC!GB2,FALSE)","v":"M"}]
["Wali Kelas :",{"$f":"TITIMANGSA!D29","v":"Amo Sisdianto, S.Kom"},"URUTAN MAPEL",0,{"$f":"D4","v":0},{"$f":"E4","v":0},0,0,0,0,{"$f":"IF(K2=\"-\",0,MAX($D$4:J4)+1)","v":{"$error":"#N/A"}},{"$f":"K4","v":{"$error":"#N/A"}},{"$error":"#N/A"},{"$error":"#N/A"},{"$error":"#N/A"},{"$error":"#N/A"},{"$error":"#N/A"},{"$f":"IF(R2=\"-\",0,MAX($D$4:Q4)+1)","v":{"$error":"#N/A"}},{"$f":"R4","v":{"$error":"#N/A"}},{"$error":"#N/A"},{"$error":"#N/A"},{"$error":"#N/A"},{"$error":"#N/A"},{"$error":"#N/A"},{"$f":"IF(Y2=\"-\",0,MAX($D$4:X4)+1)","v":{"$error":"#N/A"}},{"$f":"Y4","v":{"$error":"#N/A"}},{"$error":"#N/A"},{"$error":"#N/A"},{"$error":"#N/A"},{"$error":"#N/A"},{"$error":"#N/A"},{"$f":"IF(AF2=\"-\",0,MAX($D$4:AE4)+1)","v":{"$error":"#N/A"}},{"$f":"AF4","v":{"$error":"#N/A"}},{"$error":"#N/A"},{"$error":"#N/A"},{"$error":"#N/A"},{"$error":"#N/A"},{"$error":"#N/A"},{"$f":"IF(AM2=\"-\",0,MAX($D$4:AL4)+1)","v":{"$error":"#N/A"}},{"$f":"AM4","v":{"$error":"#N/A"}},{"$error":"#N/A"},{"$error":"#N/A"},{"$error":"#N/A"},{"$error":"#N/A"},{"$error":"#N/A"},{"$f":"IF(AT2=\"-\",0,MAX($D$4:AS4)+1)","v":{"$error":"#N/A"}},{"$f":"AT4","v":{"$error":"#N/A"}},{"$error":"#N/A"},{"$error":"#N/A"},{"$error":"#N/A"},{"$error":"#N/A"},{"$error":"#N/A"},{"$f":"IF(BA2=\"-\",0,MAX($D$4:AZ4)+1)","v":{"$error":"#N/A"}},{"$f":"BA4","v":{"$error":"#N/A"}},{"$error":"#N/A"},{"$error":"#N/A"},{"$error":"#N/A"},{"$error":"#N/A"},{"$error":"#N/A"},{"$f":"IF(BH2=\"-\",0,MAX($D$4:BG4)+1)","v":{"$error":"#N/A"}},{"$f":"BH4","v":{"$error":"#N/A"}},{"$error":"#N/A"},{"$error":"#N/A"},{"$error":"#N/A"},{"$error":"#N/A"},{"$error":"#N/A"},{"$f":"IF(BO2=\"-\",0,MAX($D$4:BN4)+1)","v":{"$error":"#N/A"}},{"$f":"BO4","v":{"$error":"#N/A"}},{"$error":"#N/A"},{"$error":"#N/A"},{"$error":"#N/A"},{"$error":"#N/A"},{"$error":"#N/A"},{"$f":"IF(BV2=\"-\",0,MAX($D$4:BU4)+1)","v":{"$error":"#N/A"}},{"$f":"BV4","v":{"$error":"#N/A"}},{"$error":"#N/A"},{"$error":"#N/A"},{"$error":"#N/A"},{"$error":"#N/A"},{"$error":"#N/A"},{"$f":"IF(CC2=\"-\",0,MAX($D$4:CB4)+1)","v":{"$error":"#N/A"}},{"$f":"CC4","v":{"$error":"#N/A"}},{"$error":"#N/A"},{"$error":"#N/A"},{"$error":"#N/A"},{"$error":"#N/A"},{"$error":"#N/A"},{"$f":"IF(CJ2=\"-\",0,MAX($D$4:CI4)+1)","v":{"$error":"#N/A"}},{"$f":"CJ4","v":{"$error":"#N/A"}},{"$error":"#N/A"},{"$error":"#N/A"},{"$error":"#N/A"},{"$error":"#N/A"},{"$error":"#N/A"},{"$f":"IF(CQ2=\"-\",0,MAX($D$4:CP4)+1)","v":{"$error":"#N/A"}},{"$f":"CQ4","v":{"$error":"#N/A"}},{"$error":"#N/A"},{"$error":"#N/A"},{"$error":"#N/A"},{"$error":"#N/A"},{"$error":"#N/A"},{"$f":"IF(CX2=\"-\",0,MAX($D$4:CW4)+1)","v":{"$error":"#N/A"}},{"$f":"CX4","v":{"$error":"#N/A"}},{"$error":"#N/A"},{"$error":"#N/A"},{"$error":"#N/A"},{"$error":"#N/A"},{"$error":"#N/A"},{"$f":"IF(DE2=\"-\",0,MAX($D$4:DD4)+1)","v":{"$error":"#N/A"}},{"$f":"DE4","v":{"$error":"#N/A"}},{"$error":"#N/A"},{"$error":"#N/A"},{"$error":"#N/A"},{"$error":"#N/A"},{"$error":"#N/A"},{"$f":"IF(DL2=\"-\",0,MAX($D$4:DK4)+1)","v":{"$error":"#N/A"}},{"$f":"DL4","v":{"$error":"#N/A"}},{"$error":"#N/A"},{"$error":"#N/A"},{"$error":"#N/A"},{"$error":"#N/A"},{"$error":"#N/A"},{"$f":"IF(DS2=\"-\",0,MAX($D$4:DR4)+1)","v":{"$error":"#N/A"}},{"$f":"DS4","v":{"$error":"#N/A"}},{"$error":"#N/A"},{"$error":"#N/A"},{"$error":"#N/A"},{"$error":"#N/A"},{"$error":"#N/A"},{"$f":"IF(DZ2=\"-\",0,MAX($D$4:DY4)+1)","v":{"$error":"#N/A"}},{"$f":"DZ4","v":{"$error":"#N/A"}},{"$error":"#N/A"},{"$error":"#N/A"},{"$error":"#N/A"},{"$error":"#N/A"},{"$error":"#N/A"},{"$f":"IF(EG2=\"-\",0,MAX($D$4:EF4)+1)","v":{"$error":"#N/A"}},{"$f":"EG4","v":{"$error":"#N/A"}},{"$error":"#N/A"},{"$error":"#N/A"},{"$error":"#N/A"},{"$error":"#N/A"},{"$error":"#N/A"},{"$f":"IF(EN2=\"-\",0,MAX($D$4:EM4)+1)","v":{"$error":"#N/A"}},{"$f":"EN4","v":{"$error":"#N/A"}},{"$error":"#N/A"},{"$error":"#N/A"},{"$error":"#N/A"},{"$error":"#N/A"},{"$error":"#N/A"},{"$f":"IF(EU2=\"-\",0,MAX($D$4:ET4)+1)","v":{"$error":"#N/A"}},{"$f":"EU4","v":{"$error":"#N/A"}},{"$error":"#N/A"},{"$error":"#N/A"},{"$error":"#N/A"},{"$error":"#N/A"},{"$error":"#N/A"},{"$f":"IF(FB2=\"-\",0,MAX($D$4:FA4)+1)","v":{"$error":"#N/A"}},{"$f":"FB4","v":{"$error":"#N/A"}},{"$error":"#N/A"},{"$error":"#N/A"},{"$error":"#N/A"},{"$error":"#N/A"},{"$error":"#N/A"},{"$f":"IF(FI2=\"-\",0,MAX($D$4:FH4)+1)","v":{"$error":"#N/A"}},{"$f":"FI4","v":{"$error":"#N/A"}},{"$error":"#N/A"},{"$error":"#N/A"},{"$error":"#N/A"},{"$error":"#N/A"},{"$error":"#N/A"}]
[{"$f":"TITIMANGSA!D28","v":0},{"$f":"TITIMANGSA!D30","v":0},"KKM",78,78,78,78,78,78,78,78,78,78,78,78,78,78,78,78,78,78,78,78,78,78,78,78,78,78,78,78,78,78,78,78,78,78,78,78,78,78,78,78,78,78,78,78,78,78,78,78,78,78,78,78,78,78,78,78,78,78,78,78,78,78,78,78,78,78,78,78,78,78,78,78,78,78,78,78,78,78,78,78,78,78,78,78,78,78,78,78,78,78,78,78,78,78,78,78,78,78,78,78,78,78,78,78,78,78,78,78,78,78,78,78,78,78,78,78,78,78,78,78,78,78,78,78,78,78,78,78,78,78,78,78,78,78,78,78,78,78,78,78,78,78,78,78,78,78,78,78,78,78,78,78,78,78,78,78,78,78,78,78,78,78,78,78,78,78,78,78]
[null,null,"TOPIK PER KD","Ihsan",null,2,null,3,null,"-",{"$f":"H6+1","v":4},null,{"$f":"K6+1","v":5},null,{"$f":"M6+1","v":6},null,"-",{"$f":"O6+1","v":7},null,{"$f":"R6+1","v":8},null,{"$f":"T6+1","v":9},null,"-",{"$f":"V6+1","v":10},null,{"$f":"Y6+1","v":11},null,{"$f":"AA6+1","v":12},null,"-",{"$f":"AC6+1","v":13},null,{"$f":"AF6+1","v":14},null,{"$f":"AH6+1","v":15},null,"-",{"$f":"AJ6+1","v":16},null,{"$f":"AM6+1","v":17},null,{"$f":"AO6+1","v":18},null,"-",{"$f":"AQ6+1","v":19},null,{"$f":"AT6+1","v":20},null,{"$f":"AV6+1","v":21},null,"-",{"$f":"AX6+1","v":22},null,{"$f":"BA6+1","v":23},null,{"$f":"BC6+1","v":24},null,"-",{"$f":"BE6+1","v":25},null,{"$f":"BH6+1","v":26},null,{"$f":"BJ6+1","v":27},null,"-",{"$f":"BL6+1","v":28},null,{"$f":"BO6+1","v":29},null,{"$f":"BQ6+1","v":30},null,"-",{"$f":"BS6+1","v":31},null,{"$f":"BV6+1","v":32},null,{"$f":"BX6+1","v":33},null,"-",{"$f":"BZ6+1","v":34},null,{"$f":"CC6+1","v":35},null,{"$f":"CE6+1","v":36},null,"-",{"$f":"CG6+1","v":37},null,{"$f":"CJ6+1","v":38},null,{"$f":"CL6+1","v":39},null,"-",{"$f":"CN6+1","v":40},null,{"$f":"CQ6+1","v":41},null,{"$f":"CS6+1","v":42},null,"-",{"$f":"CU6+1","v":43},null,{"$f":"CX6+1","v":44},null,{"$f":"CZ6+1","v":45},null,"-",{"$f":"DB6+1","v":46},null,{"$f":"DE6+1","v":47},null,{"$f":"DG6+1","v":48},null,"-",{"$f":"DI6+1","v":49},null,{"$f":"DL6+1","v":50},null,{"$f":"DN6+1","v":51},null,"-",{"$f":"DP6+1","v":52},null,{"$f":"DS6+1","v":53},null,{"$f":"DU6+1","v":54},null,"-",{"$f":"DW6+1","v":55},null,{"$f":"DZ6+1","v":56},null,{"$f":"EB6+1","v":57},null,"-",{"$f":"ED6+1","v":58},null,{"$f":"EG6+1","v":59},null,{"$f":"EI6+1","v":60},null,"-",{"$f":"EK6+1","v":61},null,{"$f":"EN6+1","v":62},null,{"$f":"EP6+1","v":63},null,"-",{"$f":"ER6+1","v":64},null,{"$f":"EU6+1","v":65},null,{"$f":"EW6+1","v":66},null,"-",{"$f":"EY6+1","v":67},null,{"$f":"FB6+1","v":68},null,{"$f":"FD6+1","v":69},null,"-",{"$f":"FF6+1","v":70},null,{"$f":"FI6+1","v":71},null,{"$f":"FK6+1","v":72},null,"-"]
["NO. URUT","NAMA SISWA","NIS",2,{"$f":"D7+1","v":3},4,5,6,7,8,9,10,11,12,13,14,15,16,17,18,19,20,21,22,23,24,25,26,27,28,29,30,31,32,33,34,35,36,37,38,39,40,41,42,43,44,45,46,47,48,49,50,51,52,53,54,55,56,57,58,59,60,61,62,63,64,65,66,{"$f":"BP7+1","v":67},68,69,70,71,72,73,74,75,76,77,78,79,80,81,82,83,84,85,86,87,88,89,90,91,92,93,94,95,96,97,98,99,100,101,102,103,104,105,106,107,108,109,110,111,112,113,114,115,116,117,118,119,120,121,122,123,124,125,126,127,128,129,130,{"$f":"EB7+1","v":131},132,133,134,135,136,137,138,139,140,141,142,143,144,145,146,147,148,149,150,151,152,153,154,155,156,157,158,159,160,161,162,163,164,165,166,167,168,169,170,171,172]
[{"$f":"BIODATA!A5","v":1},{"$f":"BIODATA!C5","v":"ADAM ADIYAT HARTANTO"},{"$f":"BIODATA!D5","v":16170535},null,null,null,null,null,null,null,null,null,null,null,null,null,null,null,null,null,null,null,null,null,null,null,null,null,null,null,null,null,null,null,null,null,null,null,7,{"$f":"IF(AM8=100,75,AM8+1)","v":8},9,10,11,12,13,14,15,16,17,18,19,20,21,{"$f":"IF(BA8=100,75,BA8+1)","v":22},23,24,25,26,27,28,29,30,31,32,33,34,35,36,37,{"$f":"IF(BQ8=100,75,BQ8+1)","v":38},39,40,41,42,43,44,45,46,47,48,49,50,51,52,53,{"$f":"IF(CG8=100,75,CG8+1)","v":54},55,56,57,58,59,60,61,62,63,64,65,66,67,68,69,{"$f":"IF(CW8=100,75,CW8+1)","v":70},71,72,73,74,75,76,77,78,79,80,81,82,83,84,85,{"$f":"IF(DM8=100,75,DM8+1)","v":86},87,88,89,90,91,92,93,94,95,96,97,98,99,100,75,{"$f":"IF(EC8=100,75,EC8+1)","v":76},77,78,79,80,81,82,83,84,85,86,87,88,89,90,91,{"$f":"IF(ES8=100,75,ES8+1)","v":92},93,94,95,96,97,98,99,100,75,76,77,78,79,80,81,{"$f":"IF(FI8=100,75,FI8+1)","v":82},83,84,85,86,87]
[{"$f":"BIODATA!A6","v":2},{"$f":"BIODATA!C6","v":"ADAM MAULANA RIZALDI"},{"$f":"BIODATA!D6","v":16170449},null,null,null,null,null,null,null,null,null,null,null,null,null,null,null,null,null,null,null,null,null,null,null,null,null,null,null,null,null,null,null,null,null,null,null,1,2,3,4,5,6,7,8,9,10,11,12,13,14,15,16,17,18,19,20,21,22,23,24,25,26,27,28,29,30,31,32,33,34,35,36,37,38,39,40,41,42,43,44,45,46,47,48,49,50,51,52,53,54,55,56,57,58,59,60,61,62,63,64,65,66,67,68,69,70,71,72,73,74,75,76,77,78,79,80,81,82,83,84,85,86,87,88,89,90,91,92,93,94,95,96,97,98,99,100,75,76,77,78,79,80,81,82,83,84,85,86,87,88,89,90,91,92,93,94,95,96,97,98,99,100,75,76,77,78,79,80,81]
[{"$f":"BIODATA!A7","v":3},{"$f":"BIODATA!C7","v":"BAGAS ADJI PRIANTOMO"},{"$f":"BIODATA!D7","v":16170371},null,null,null,null,null,null,null,null,null,null,null,null,null,null,null,null,null,null,null,null,null,null,null,null,null,null,null,null,null,null,null,null,null,null,null,1,2,3,4,5,6,7,8,9,10,11,12,13,14,15,16,17,18,19,20,21,22,23,24,25,26,27,28,29,30,31,32,33,34,35,36,37,38,39,40,41,42,43,44,45,46,47,48,49,50,51,52,53,54,55,56,57,58,59,60,61,62,63,64,65,66,67,68,69,70,71,72,73,74,75,76,77,78,79,80,81,82,83,84,85,86,87,88,89,90,91,92,93,94,95,96,97,98,99,100,75,76,77,78,79,80,81,82,83,84,85,86,87,88,89,90,91,92,93,94,95,96,97,98,99,100,75,76,77,78,79,80,81]
[{"$f":"BIODATA!A8","v":4},{"$f":"BIODATA!C8","v":"CARWAN HIDAYAT"},{"$f":"BIODATA!D8","v":16170585}]
[{"$f":"BIODATA!A9","v":5},{"$f":"BIODATA!C9","v":"CEPI YANWARI"},{"$f":"BIODATA!D9","v":16170586}]
[{"$f":"BIODATA!A10","v":6},{"$f":"BIODATA!C10","v":"DEDE MAULANA RUSDIANTA"},{"$f":"BIODATA!D10","v":16170414}]
[{"$f":"BIODATA!A11","v":7},{"$f":"BIODATA!C11","v":"DEDI ROCHMAN"},{"$f":"BIODATA!D11","v":16170457}]
[{"$f":"BIODATA!A12","v":8},{"$f":"BIODATA!C12","v":"DIMAS YOGA AJI SETIAWAN"},{"$f":"BIODATA!D12","v":16170546}]
[{"$f":"BIODATA!A13","v":9},{"$f":"BIODATA!C13","v":"ERIK PRIHASABA PEBRIANSYAH"},{"$f":"BIODATA!D13","v":16170547}]
[{"$f":"BIODATA!A14","v":10},{"$f":"BIODATA!C14","v":"GALIH RAKASIWI"},{"$f":"BIODATA!D14","v":16170464}]
[{"$f":"BIODATA!A15","v":11},{"$f":"BIODATA!C15","v":"JOHANI"},{"$f":"BIODATA!D15","v":16170468}]
[{"$f":"BIODATA!A16","v":12},{"$f":"BIODATA!C16","v":"LATHIF FERIANSYAH"},{"$f":"BIODATA!D16","v":16170675}]
[{"$f":"BIODATA!A17","v":13},{"$f":"BIODATA!C17","v":"MAULANA JUHRI"},{"$f":"BIODATA!D17","v":16170423}]
[{"$f":"BIODATA!A18","v":14},{"$f":"BIODATA!C18","v":"MOHAMMAD HERRY ALFAJRI"},{"$f":"BIODATA!D18","v":16170473}]
[{"$f":"BIODATA!A19","v":15},{"$f":"BIODATA!C19","v":"MUHAMAD SIDI"},{"$f":"BIODATA!D19","v":16170426}]
[{"$f":"BIODATA!A20","v":16},{"$f":"BIODATA!C20","v":"MUHAMMAD ARDI RUHYAT"},{"$f":"BIODATA!D20","v":16170427}]
[{"$f":"BIODATA!A21","v":17},{"$f":"BIODATA!C21","v":"MUHAMMAD FIKRI AWALUDIN"},{"$f":"BIODATA!D21","v":16170429}]
[{"$f":"BIODATA!A22","v":18},{"$f":"BIODATA!C22","v":"MUHAMMAD PADILAH"},{"$f":"BIODATA!D22","v":16170428}]
[{"$f":"BIODATA!A23","v":19},{"$f":"BIODATA!C23","v":"MUHIBU FATHURROHMAN"},{"$f":"BIODATA!D23","v":16170430}]
[{"$f":"BIODATA!A24","v":20},{"$f":"BIODATA!C24","v":"OKKE KINDI ADI PANGESTU"},{"$f":"BIODATA!D24","v":16170391}]
[{"$f":"BIODATA!A25","v":21},{"$f":"BIODATA!C25","v":"RAMADHAN"},{"$f":"BIODATA!D25","v":"16170480"}]
[{"$f":"BIODATA!A26","v":22},{"$f":"BIODATA!C26","v":"RENDY RAHMADI"},{"$f":"BIODATA!D26","v":16170683}]
[{"$f":"BIODATA!A27","v":23},{"$f":"BIODATA!C27","v":"RIFAN BAGUS ALDIANSYAH"},{"$f":"BIODATA!D27","v":16170433}]
[{"$f":"BIODATA!A28","v":24},{"$f":"BIODATA!C28","v":"RIVAL MAULANA"},{"$f":"BIODATA!D28","v":16170601}]
[{"$f":"BIODATA!A29","v":25},{"$f":"BIODATA!C29","v":"RIZKY FADHILAH"},{"$f":"BIODATA!D29","v":16170643}]
[{"$f":"BIODATA!A30","v":26},{"$f":"BIODATA!C30","v":"ROHMADI MUCHTAR"},{"$f":"BIODATA!D30","v":16170642}]
[{"$f":"BIODATA!A31","v":27},{"$f":"BIODATA!C31","v":"TANGGUH PRASETIA SUHARNA"},{"$f":"BIODATA!D31","v":16170605}]
[{"$f":"BIODATA!A32","v":28},{"$f":"BIODATA!C32","v":"TARIZ MAULIZIDANE FAZILLA"},{"$f":"BIODATA!D32","v":16170606}]
[{"$f":"BIODATA!A33","v":29},{"$f":"BIODATA!C33","v":"TUBAGUS AJANG SUMBOGA"},{"$f":"BIODATA!D33","v":16170443}]
[{"$f":"BIODATA!A34","v":30},{"$f":"BIODATA!C34","v":"WIKSAN ZUJALIS"},{"$f":"BIODATA!D34","v":16170611}]
[{"$f":"BIODATA!A35","v":31},{"$f":"BIODATA!C35","v":"YUNAN DWI SASONGKO"},{"$f":"BIODATA!D35","v":16170448}]
[{"$f":"BIODATA!A36","v":"-"},{"$f":"BIODATA!C36","v":0},{"$f":"BIODATA!D36","v":0}]
[{"$f":"BIODATA!A37","v":"-"},{"$f":"BIODATA!C37","v":0},{"$f":"BIODATA!D37","v":0}]
[{"$f":"BIODATA!A38","v":"-"},{"$f":"BIODATA!C38","v":0},{"$f":"BIODATA!D38","v":0}]
[{"$f":"BIODATA!A39","v":"-"},{"$f":"BIODATA!C39","v":0},{"$f":"BIODATA!D39","v":0}]
[{"$f":"BIODATA!A40","v":"-"},{"$f":"BIODATA!C40","v":0},{"$f":"BIODATA!D40","v":0}]
[]
[]
[]
[]
[]
[]
[]
[]
[]
[]
[]
[]
[]
[]
[]
[]
[]
[]
[]
[]
[]
[null,null,null,3.59]
[null,null,null,3.59]
[null,null,null,3.5]
[null,null,null,3.48]
[null,null,null,3.54]
[null,null,null,3.39]
[null,null,null,3.45]
[null,null,null,3.45]
[null,null,null,3.29]
[null,null,null,3.45]
[null,null,null,3.45]
[null,null,null,3.45]

{"sheet":"NILSM8","index":32,"n_rows":76,"n_cols":174,"rows_kept":76,"cut":false,"hidden":false,"merged":[[1,0,1,1]]}
[null,null,"NIS","PABT1","PABU1","PABT2","PABU2","PABT3","PABU3","PABH","PKNT1","PKNU1","PKNT2","PKNU2","PKNT3","PKNU3","PKNH","INDT1","INDU1","INDT2","INDU2","INDT3","INDU3","INDH","MTKT1","MTKU1","MTKT2","MTKU2","MTKT3","MTKU3","MTKH","SJIT1","SJIU1","SJIT2","SJIU2","SJIT3","SJIU3","SJIH","INGT1","INGU1","INGT2","INGU2","INGT3","INGU3","INGH","JERT1","JERU1","JERT2","JERU2","JERT3","JERU3","JERH","SBDT1","SBDU1","SBDT2","SBDU2","SBDT3","SBDU3","SBDH","PJOT1","PJOU1","PJOT2","PJOU2","PJOT3","PJOU3","PJOH","SKDT1","SKDU1","SKDT2","SKDU2","SKDT3","SKDU3","SKDH","FIST1","FISU1","FIST2","FISU2","FIST3","FISU3","FISH","KIMT1","KIMU1","KIMT2","KIMU2","KIMT3","KIMU3","KIMH","C21T1","C21U1","C21T2","C21U2","C21T3","C21U3","C21H","C22T1","C22U1","C22T2","C22U2","C22T3","C22U3","C22H","C23T1","C23U1","C23T2","C23U2","C23T3","C23U3","C23H","C24T1","C24U1","C24T2","C24U2","C24T3","C24U3","C24H","C31T1","C31U1","C31T2","C31U2","C31T3","C31U3","C31H","C32T1","C32U1","C32T2","C32U2","C32T3","C32U3","C32H","C33T1","C33U1","C33T2","C33U2","C33T3","C33U3","C33H","C34T1","C34U1","C34T2","C34U2","C34T3","C34U3","C34H","C35T1","C35U1","C35T2","C35U2","C35T3","C35U3","C35H","C36T1","C36U1","C36T2","C36U2","C36T3","C36U3","C36H","SUNT1","SUNU1","SUNT2","SUNU2","SUNT3","SUNU3","SUNH","PLHT1","PLHU1","PLHT2","PLHU2","PLHT3","PLHU3","PLHH",null,"BKN","CTT"]
[{"$f":"\"INPUT NILAI CAPAIAN KOMPETENSI TP \"&TITIMANGSA!D3","v":"INPUT NILAI CAPAIAN KOMPETENSI TP 2020 / 2021"},null,"                    NAMA MAPEL",{"$f":"IF(OR($B$3=\"1 (satu)\",$B$3=\"2 (dua)\"),HLOOKUP($C$3,TABMAPEL_X,DBLOGIC!Q2,FALSE),IF(OR($B$3=\"3 (tiga)\",$B$3=\"4 (empat)\"),HLOOKUP($C$3,TABMAPEL_XI,DBLOGIC!Q2,FALSE),IF(OR($B$3=\"5 (lima)\",$B$3=\"6 (enam)\"),HLOOKUP($C$3,TABMAPEL_XII,DBLOGIC!Q2,FALSE),IF(OR($B$3=\"7 (tujuh)\",$B$3=\"8 (delapan)\"),HLOOKUP($C$3,TABMAPEL_XIII,DBLOGIC!Q2,FALSE),\"-\"))))","v":{"$error":"#N/A"}},{"$f":"IF(OR($B$3=\"1 (satu)\",$B$3=\"2 (dua)\"),HLOOKUP($C$3,TABMAPEL_X,DBLOGIC!R2,FALSE),IF(OR($B$3=\"3 (tiga)\",$B$3=\"4 (empat)\"),HLOOKUP($C$3,TABMAPEL_XI,DBLOGIC!R2,FALSE),IF(OR($B$3=\"5 (lima)\",$B$3=\"6 (enam)\"),HLOOKUP($C$3,TABMAPEL_XII,DBLOGIC!R2,FALSE),IF(OR($B$3=\"7 (tujuh)\",$B$3=\"8 (delapan)\"),HLOOKUP($C$3,TABMAPEL_XIII,DBLOGIC!R2,FALSE),\"-\"))))","v":{"$error":"#N/A"}},{"$f":"IF(OR($B$3=\"1 (satu)\",$B$3=\"2 (dua)\"),HLOOKUP($C$3,TABMAPEL_X,DBLOGIC!S2,FALSE),IF(OR($B$3=\"3 (tiga)\",$B$3=\"4 (empat)\"),HLOOKUP($C$3,TABMAPEL_XI,DBLOGIC!S2,FALSE),IF(OR($B$3=\"5 (lima)\",$B$3=\"6 (enam)\"),HLOOKUP($C$3,TABMAPEL_XII,DBLOGIC!S2,FALSE),IF(OR($B$3=\"7 (tujuh)\",$B$3=\"8 (delapan)\"),HLOOKUP($C$3,TABMAPEL_XIII,DBLOGIC!S2,FALSE),\"-\"))))","v":{"$error":"#N/A"}},{"$f":"IF(OR($B$3=\"1 (satu)\",$B$3=\"2 (dua)\"),HLOOKUP($C$3,TABMAPEL_X,DBLOGIC!T2,FALSE),IF(OR($B$3=\"3 (tiga)\",$B$3=\"4 (empat)\"),HLOOKUP($C$3,TABMAPEL_XI,DBLOGIC!T2,FALSE),IF(OR($B$3=\"5 (lima)\",$B$3=\"6 (enam)\"),HLOOKUP($C$3,TABMAPEL_XII,DBLOGIC!T2,FALSE),IF(OR($B$3=\"7 (tujuh)\",$B$3=\"8 (delapan)\"),HLOOKUP($C$3,TABMAPEL_XIII,DBLOGIC!T2,FALSE),\"-\"))))","v":{"$error":"#N/A"}},{"$f":"IF(OR($B$3=\"1 (satu)\",$B$3=\"2 (dua)\"),HLOOKUP($C$3,TABMAPEL_X,DBLOGIC!U2,FALSE),IF(OR($B$3=\"3 (tiga)\",$B$3=\"4 (empat)\"),HLOOKUP($C$3,TABMAPEL_XI,DBLOGIC!U2,FALSE),IF(OR($B$3=\"5 (lima)\",$B$3=\"6 (enam)\"),HLOOKUP($C$3,TABMAPEL_XII,DBLOGIC!U2,FALSE),IF(OR($B$3=\"7 (tujuh)\",$B$3=\"8 (delapan)\"),HLOOKUP($C$3,TABMAPEL_XIII,DBLOGIC!U2,FALSE),\"-\"))))","v":{"$error":"#N/A"}},{"$f":"IF(OR($B$3=\"1 (satu)\",$B$3=\"2 (dua)\"),HLOOKUP($C$3,TABMAPEL_X,DBLOGIC!V2,FALSE),IF(OR($B$3=\"3 (tiga)\",$B$3=\"4 (empat)\"),HLOOKUP($C$3,TABMAPEL_XI,DBLOGIC!V2,FALSE),IF(OR($B$3=\"5 (lima)\",$B$3=\"6 (enam)\"),HLOOKUP($C$3,TABMAPEL_XII,DBLOGIC!V2,FALSE),IF(OR($B$3=\"7 (tujuh)\",$B$3=\"8 (delapan)\"),HLOOKUP($C$3,TABMAPEL_XIII,DBLOGIC!V2,FALSE),\"-\"))))","v":{"$error":"#N/A"}},{"$f":"IF(OR($B$3=\"1 (satu)\",$B$3=\"2 (dua)\"),HLOOKUP($C$3,TABMAPEL_X,DBLOGIC!W2,FALSE),IF(OR($B$3=\"3 (tiga)\",$B$3=\"4 (empat)\"),HLOOKUP($C$3,TABMAPEL_XI,DBLOGIC!W2,FALSE),IF(OR($B$3=\"5 (lima)\",$B$3=\"6 (enam)\"),HLOOKUP($C$3,TABMAPEL_XII,DBLOGIC!W2,FALSE),IF(OR($B$3=\"7 (tujuh)\",$B$3=\"8 (delapan)\"),HLOOKUP($C$3,TABMAPEL_XIII,DBLOGIC!W2,FALSE),\"-\"))))","v":{"$error":"#N/A"}},{"$f":"IF(OR($B$3=\"1 (satu)\",$B$3=\"2 (dua)\"),HLOOKUP($C$3,TABMAPEL_X,DBLOGIC!X2,FALSE),IF(OR($B$3=\"3 (tiga)\",$B$3=\"4 (empat)\"),HLOOKUP($C$3,TABMAPEL_XI,DBLOGIC!X2,FALSE),IF(OR($B$3=\"5 (lima)\",$B$3=\"6 (enam)\"),HLOOKUP($C$3,TABMAPEL_XII,DBLOGIC!X2,FALSE),IF(OR($B$3=\"7 (tujuh)\",$B$3=\"8 (delapan)\"),HLOOKUP($C$3,TABMAPEL_XIII,DBLOGIC!X2,FALSE),\"-\"))))","v":{"$error":"#N/A"}},{"$f":"IF(OR($B$3=\"1 (satu)\",$B$3=\"2 (dua)\"),HLOOKUP($C$3,TABMAPEL_X,DBLOGIC!Y2,FALSE),IF(OR($B$3=\"3 (tiga)\",$B$3=\"4 (empat)\"),HLOOKUP($C$3,TABMAPEL_XI,DBLOGIC!Y2,FALSE),IF(OR($B$3=\"5 (lima)\",$B$3=\"6 (enam)\"),HLOOKUP($C$3,TABMAPEL_XII,DBLOGIC!Y2,FALSE),IF(OR($B$3=\"7 (tujuh)\",$B$3=\"8 (delapan)\"),HLOOKUP($C$3,TABMAPEL_XIII,DBLOGIC!Y2,FALSE),\"-\"))))","v":{"$error":"#N/A"}},{"$f":"IF(OR($B$3=\"1 (satu)\",$B$3=\"2 (dua)\"),HLOOKUP($C$3,TABMAPEL_X,DBLOGIC!Z2,FALSE),IF(OR($B$3=\"3 (tiga)\",$B$3=\"4 (empat)\"),HLOOKUP($C$3,TABMAPEL_XI,DBLOGIC!Z2,FALSE),IF(OR($B$3=\"5 (lima)\",$B$3=\"6 (enam)\"),HLOOKUP($C$3,TABMAPEL_XII,DBLOGIC!Z2,FALSE),IF(OR($B$3=\"7 (tujuh)\",$B$3=\"8 (delapan)\"),HLOOKUP($C$3,TABMAPEL_XIII,DBLOGIC!Z2,FALSE),\"-\"))))","v":{"$error":"#N/A"}},{"$f":"IF(OR($B$3=\"1 (satu)\",$B$3=\"2 (dua)\"),HLOOKUP($C$3,TABMAPEL_X,DBLOGIC!AA2,FALSE),IF(OR($B$3=\"3 (tiga)\",$B$3=\"4 (empat)\"),HLOOKUP($C$3,TABMAPEL_XI,DBLOGIC!AA2,FALSE),IF(OR($B$3=\"5 (lima)\",$B$3=\"6 (enam)\"),HLOOKUP($C$3,TABMAPEL_XII,DBLOGIC!AA2,FALSE),IF(OR($B$3=\"7 (tujuh)\",$B$3=\"8 (delapan)\"),HLOOKUP($C$3,TABMAPEL_XIII,DBLOGIC!AA2,FALSE),\"-\"))))","v":{"$error":"#N/A"}},{"$f":"IF(OR($B$3=\"1 (satu)\",$B$3=\"2 (dua)\"),HLOOKUP($C$3,TABMAPEL_X,DBLOGIC!AB2,FALSE),IF(OR($B$3=\"3 (tiga)\",$B$3=\"4 (empat)\"),HLOOKUP($C$3,TABMAPEL_XI,DBLOGIC!AB2,FALSE),IF(OR($B$3=\"5 (lima)\",$B$3=\"6 (enam)\"),HLOOKUP($C$3,TABMAPEL_XII,DBLOGIC!AB2,FALSE),IF(OR($B$3=\"7 (tujuh)\",$B$3=\"8 (delapan)\"),HLOOKUP($C$3,TABMAPEL_XIII,DBLOGIC!AB2,FALSE),\"-\"))))","v":{"$error":"#N/A"}},{"$f":"IF(OR($B$3=\"1 (satu)\",$B$3=\"2 (dua)\"),HLOOKUP($C$3,TABMAPEL_X,DBLOGIC!AC2,FALSE),IF(OR($B$3=\"3 (tiga)\",$B$3=\"4 (empat)\"),HLOOKUP($C$3,TABMAPEL_XI,DBLOGIC!AC2,FALSE),IF(OR($B$3=\"5 (lima)\",$B$3=\"6 (enam)\"),HLOOKUP($C$3,TABMAPEL_XII,DBLOGIC!AC2,FALSE),IF(OR($B$3=\"7 (tujuh)\",$B$3=\"8 (delapan)\"),HLOOKUP($C$3,TABMAPEL_XIII,DBLOGIC!AC2,FALSE),\"-\"))))","v":{"$error":"#N/A"}},{"$f":"IF(OR($B$3=\"1 (satu)\",$B$3=\"2 (dua)\"),HLOOKUP($C$3,TABMAPEL_X,DBLOGIC!AD2,FALSE),IF(OR($B$3=\"3 (tiga)\",$B$3=\"4 (empat)\"),HLOOKUP($C$3,TABMAPEL_XI,DBLOGIC!AD2,FALSE),IF(OR($B$3=\"5 (lima)\",$B$3=\"6 (enam)\"),HLOOKUP($C$3,TABMAPEL_XII,DBLOGIC!AD2,FALSE),IF(OR($B$3=\"7 (tujuh)\",$B$3=\"8 (delapan)\"),HLOOKUP($C$3,TABMAPEL_XIII,DBLOGIC!AD2,FALSE),\"-\"))))","v":{"$error":"#N/A"}},{"$f":"IF(OR($B$3=\"1 (satu)\",$B$3=\"2 (dua)\"),HLOOKUP($C$3,TABMAPEL_X,DBLOGIC!AE2,FALSE),IF(OR($B$3=\"3 (tiga)\",$B$3=\"4 (empat)\"),HLOOKUP($C$3,TABMAPEL_XI,DBLOGIC!AE2,FALSE),IF(OR($B$3=\"5 (lima)\",$B$3=\"6 (enam)\"),HLOOKUP($C$3,TABMAPEL_XII,DBLOGIC!AE2,FALSE),IF(OR($B$3=\"7 (tujuh)\",$B$3=\"8 (delapan)\"),HLOOKUP($C$3,TABMAPEL_XIII,DBLOGIC!AE2,FALSE),\"-\"))))","v":{"$error":"#N/A"}},{"$f":"IF(OR($B$3=\"1 (satu)\",$B$3=\"2 (dua)\"),HLOOKUP($C$3,TABMAPEL_X,DBLOGIC!AF2,FALSE),IF(OR($B$3=\"3 (tiga)\",$B$3=\"4 (empat)\"),HLOOKUP($C$3,TABMAPEL_XI,DBLOGIC!AF2,FALSE),IF(OR($B$3=\"5 (lima)\",$B$3=\"6 (enam)\"),HLOOKUP($C$3,TABMAPEL_XII,DBLOGIC!AF2,FALSE),IF(OR($B$3=\"7 (tujuh)\",$B$3=\"8 (delapan)\"),HLOOKUP($C$3,TABMAPEL_XIII,DBLOGIC!AF2,FALSE),\"-\"))))","v":{"$error":"#N/A"}},{"$f":"IF(OR($B$3=\"1 (satu)\",$B$3=\"2 (dua)\"),HLOOKUP($C$3,TABMAPEL_X,DBLOGIC!AG2,FALSE),IF(OR($B$3=\"3 (tiga)\",$B$3=\"4 (empat)\"),HLOOKUP($C$3,TABMAPEL_XI,DBLOGIC!AG2,FALSE),IF(OR($B$3=\"5 (lima)\",$B$3=\"6 (enam)\"),HLOOKUP($C$3,TABMAPEL_XII,DBLOGIC!AG2,FALSE),IF(OR($B$3=\"7 (tujuh)\",$B$3=\"8 (delapan)\"),HLOOKUP($C$3,TABMAPEL_XIII,DBLOGIC!AG2,FALSE),\"-\"))))","v":{"$error":"#N/A"}},{"$f":"IF(OR($B$3=\"1 (satu)\",$B$3=\"2 (dua)\"),HLOOKUP($C$3,TABMAPEL_X,DBLOGIC!AH2,FALSE),IF(OR($B$3=\"3 (tiga)\",$B$3=\"4 (empat)\"),HLOOKUP($C$3,TABMAPEL_XI,DBLOGIC!AH2,FALSE),IF(OR($B$3=\"5 (lima)\",$B$3=\"6 (enam)\"),HLOOKUP($C$3,TABMAPEL_XII,DBLOGIC!AH2,FALSE),IF(OR($B$3=\"7 (tujuh)\",$B$3=\"8 (delapan)\"),HLOOKUP($C$3,TABMAPEL_XIII,DBLOGIC!AH2,FALSE),\"-\"))))","v":{"$error":"#N/A"}},{"$f":"IF(OR($B$3=\"1 (satu)\",$B$3=\"2 (dua)\"),HLOOKUP($C$3,TABMAPEL_X,DBLOGIC!AI2,FALSE),IF(OR($B$3=\"3 (tiga)\",$B$3=\"4 (empat)\"),HLOOKUP($C$3,TABMAPEL_XI,DBLOGIC!AI2,FALSE),IF(OR($B$3=\"5 (lima)\",$B$3=\"6 (enam)\"),HLOOKUP($C$3,TABMAPEL_XII,DBLOGIC!AI2,FALSE),IF(OR($B$3=\"7 (tujuh)\",$B$3=\"8 (delapan)\"),HLOOKUP($C$3,TABMAPEL_XIII,DBLOGIC!AI2,FALSE),\"-\"))))","v":{"$error":"#N/A"}},{"$f":"IF(OR($B$3=\"1 (satu)\",$B$3=\"2 (dua)\"),HLOOKUP($C$3,TABMAPEL_X,DBLOGIC!AJ2,FALSE),IF(OR($B$3=\"3 (tiga)\",$B$3=\"4 (empat)\"),HLOOKUP($C$3,TABMAPEL_XI,DBLOGIC!AJ2,FALSE),IF(OR($B$3=\"5 (lima)\",$B$3=\"6 (enam)\"),HLOOKUP($C$3,TABMAPEL_XII,DBLOGIC!AJ2,FALSE),IF(OR($B$3=\"7 (tujuh)\",$B$3=\"8 (delapan)\"),HLOOKUP($C$3,TABMAPEL_XIII,DBLOGIC!AJ2,FALSE),\"-\"))))","v":{"$error":"#N/A"}},{"$f":"IF(OR($B$3=\"1 (satu)\",$B$3=\"2 (dua)\"),HLOOKUP($C$3,TABMAPEL_X,DBLOGIC!AK2,FALSE),IF(OR($B$3=\"3 (tiga)\",$B$3=\"4 (empat)\"),HLOOKUP($C$3,TABMAPEL_XI,DBLOGIC!AK2,FALSE),IF(OR($B$3=\"5 (lima)\",$B$3=\"6 (enam)\"),HLOOKUP($C$3,TABMAPEL_XII,DBLOGIC!AK2,FALSE),IF(OR($B$3=\"7 (tujuh)\",$B$3=\"8 (delapan)\"),HLOOKUP($C$3,TABMAPEL_XIII,DBLOGIC!AK2,FALSE),\"-\"))))","v":{"$error":"#N/A"}},{"$f":"IF(OR($B$3=\"1 (satu)\",$B$3=\"2 (dua)\"),HLOOKUP($C$3,TABMAPEL_X,DBLOGIC!AL2,FALSE),IF(OR($B$3=\"3 (tiga)\",$B$3=\"4 (empat)\"),HLOOKUP($C$3,TABMAPEL_XI,DBLOGIC!AL2,FALSE),IF(OR($B$3=\"5 (lima)\",$B$3=\"6 (enam)\"),HLOOKUP($C$3,TABMAPEL_XII,DBLOGIC!AL2,FALSE),IF(OR($B$3=\"7 (tujuh)\",$B$3=\"8 (delapan)\"),HLOOKUP($C$3,TABMAPEL_XIII,DBLOGIC!AL2,FALSE),\"-\"))))","v":{"$error":"#N/A"}},{"$f":"IF(OR($B$3=\"1 (satu)\",$B$3=\"2 (dua)\"),HLOOKUP($C$3,TABMAPEL_X,DBLOGIC!AM2,FALSE),IF(OR($B$3=\"3 (tiga)\",$B$3=\"4 (empat)\"),HLOOKUP($C$3,TABMAPEL_XI,DBLOGIC!AM2,FALSE),IF(OR($B$3=\"5 (lima)\",$B$3=\"6 (enam)\"),HLOOKUP($C$3,TABMAPEL_XII,DBLOGIC!AM2,FALSE),IF(OR($B$3=\"7 (tujuh)\",$B$3=\"8 (delapan)\"),HLOOKUP($C$3,TABMAPEL_XIII,DBLOGIC!AM2,FALSE),\"-\"))))","v":{"$error":"#N/A"}},{"$f":"IF(OR($B$3=\"1 (satu)\",$B$3=\"2 (dua)\"),HLOOKUP($C$3,TABMAPEL_X,DBLOGIC!AN2,FALSE),IF(OR($B$3=\"3 (tiga)\",$B$3=\"4 (empat)\"),HLOOKUP($C$3,TABMAPEL_XI,DBLOGIC!AN2,FALSE),IF(OR($B$3=\"5 (lima)\",$B$3=\"6 (enam)\"),HLOOKUP($C$3,TABMAPEL_XII,DBLOGIC!AN2,FALSE),IF(OR($B$3=\"7 (tujuh)\",$B$3=\"8 (delapan)\"),HLOOKUP($C$3,TABMAPEL_XIII,DBLOGIC!AN2,FALSE),\"-\"))))","v":{"$error":"#N/A"}},{"$f":"IF(OR($B$3=\"1 (satu)\",$B$3=\"2 (dua)\"),HLOOKUP($C$3,TABMAPEL_X,DBLOGIC!AO2,FALSE),IF(OR($B$3=\"3 (tiga)\",$B$3=\"4 (empat)\"),HLOOKUP($C$3,TABMAPEL_XI,DBLOGIC!AO2,FALSE),IF(OR($B$3=\"5 (lima)\",$B$3=\"6 (enam)\"),HLOOKUP($C$3,TABMAPEL_XII,DBLOGIC!AO2,FALSE),IF(OR($B$3=\"7 (tujuh)\",$B$3=\"8 (delapan)\"),HLOOKUP($C$3,TABMAPEL_XIII,DBLOGIC!AO2,FALSE),\"-\"))))","v":{"$error":"#N/A"}},{"$f":"IF(OR($B$3=\"1 (satu)\",$B$3=\"2 (dua)\"),HLOOKUP($C$3,TABMAPEL_X,DBLOGIC!AP2,FALSE),IF(OR($B$3=\"3 (tiga)\",$B$3=\"4 (empat)\"),HLOOKUP($C$3,TABMAPEL_XI,DBLOGIC!AP2,FALSE),IF(OR($B$3=\"5 (lima)\",$B$3=\"6 (enam)\"),HLOOKUP($C$3,TABMAPEL_XII,DBLOGIC!AP2,FALSE),IF(OR($B$3=\"7 (tujuh)\",$B$3=\"8 (delapan)\"),HLOOKUP($C$3,TABMAPEL_XIII,DBLOGIC!AP2,FALSE),\"-\"))))","v":{"$error":"#N/A"}},{"$f":"IF(OR($B$3=\"1 (satu)\",$B$3=\"2 (dua)\"),HLOOKUP($C$3,TABMAPEL_X,DBLOGIC!AQ2,FALSE),IF(OR($B$3=\"3 (tiga)\",$B$3=\"4 (empat)\"),HLOOKUP($C$3,TABMAPEL_XI,DBLOGIC!AQ2,FALSE),IF(OR($B$3=\"5 (lima)\",$B$3=\"6 (enam)\"),HLOOKUP($C$3,TABMAPEL_XII,DBLOGIC!AQ2,FALSE),IF(OR($B$3=\"7 (tujuh)\",$B$3=\"8 (delapan)\"),HLOOKUP($C$3,TABMAPEL_XIII,DBLOGIC!AQ2,FALSE),\"-\"))))","v":{"$error":"#N/A"}},{"$f":"IF(OR($B$3=\"1 (satu)\",$B$3=\"2 (dua)\"),HLOOKUP($C$3,TABMAPEL_X,DBLOGIC!AR2,FALSE),IF(OR($B$3=\"3 (tiga)\",$B$3=\"4 (empat)\"),HLOOKUP($C$3,TABMAPEL_XI,DBLOGIC!AR2,FALSE),IF(OR($B$3=\"5 (lima)\",$B$3=\"6 (enam)\"),HLOOKUP($C$3,TABMAPEL_XII,DBLOGIC!AR2,FALSE),IF(OR($B$3=\"7 (tujuh)\",$B$3=\"8 (delapan)\"),HLOOKUP($C$3,TABMAPEL_XIII,DBLOGIC!AR2,FALSE),\"-\"))))","v":{"$error":"#N/A"}},{"$f":"IF(OR($B$3=\"1 (satu)\",$B$3=\"2 (dua)\"),HLOOKUP($C$3,TABMAPEL_X,DBLOGIC!AS2,FALSE),IF(OR($B$3=\"3 (tiga)\",$B$3=\"4 (empat)\"),HLOOKUP($C$3,TABMAPEL_XI,DBLOGIC!AS2,FALSE),IF(OR($B$3=\"5 (lima)\",$B$3=\"6 (enam)\"),HLOOKUP($C$3,TABMAPEL_XII,DBLOGIC!AS2,FALSE),IF(OR($B$3=\"7 (tujuh)\",$B$3=\"8 (delapan)\"),HLOOKUP($C$3,TABMAPEL_XIII,DBLOGIC!AS2,FALSE),\"-\"))))","v":{"$error":"#N/A"}},{"$f":"IF(OR($B$3=\"1 (satu)\",$B$3=\"2 (dua)\"),HLOOKUP($C$3,TABMAPEL_X,DBLOGIC!AT2,FALSE),IF(OR($B$3=\"3 (tiga)\",$B$3=\"4 (empat)\"),HLOOKUP($C$3,TABMAPEL_XI,DBLOGIC!AT2,FALSE),IF(OR($B$3=\"5 (lima)\",$B$3=\"6 (enam)\"),HLOOKUP($C$3,TABMAPEL_XII,DBLOGIC!AT2,FALSE),IF(OR($B$3=\"7 (tujuh)\",$B$3=\"8 (delapan)\"),HLOOKUP($C$3,TABMAPEL_XIII,DBLOGIC!AT2,FALSE),\"-\"))))","v":{"$error":"#N/A"}},{"$f":"IF(OR($B$3=\"1 (satu)\",$B$3=\"2 (dua)\"),HLOOKUP($C$3,TABMAPEL_X,DBLOGIC!AU2,FALSE),IF(OR($B$3=\"3 (tiga)\",$B$3=\"4 (empat)\"),HLOOKUP($C$3,TABMAPEL_XI,DBLOGIC!AU2,FALSE),IF(OR($B$3=\"5 (lima)\",$B$3=\"6 (enam)\"),HLOOKUP($C$3,TABMAPEL_XII,DBLOGIC!AU2,FALSE),IF(OR($B$3=\"7 (tujuh)\",$B$3=\"8 (delapan)\"),HLOOKUP($C$3,TABMAPEL_XIII,DBLOGIC!AU2,FALSE),\"-\"))))","v":{"$error":"#N/A"}},{"$f":"IF(OR($B$3=\"1 (satu)\",$B$3=\"2 (dua)\"),HLOOKUP($C$3,TABMAPEL_X,DBLOGIC!AV2,FALSE),IF(OR($B$3=\"3 (tiga)\",$B$3=\"4 (empat)\"),HLOOKUP($C$3,TABMAPEL_XI,DBLOGIC!AV2,FALSE),IF(OR($B$3=\"5 (lima)\",$B$3=\"6 (enam)\"),HLOOKUP($C$3,TABMAPEL_XII,DBLOGIC!AV2,FALSE),IF(OR($B$3=\"7 (tujuh)\",$B$3=\"8 (delapan)\"),HLOOKUP($C$3,TABMAPEL_XIII,DBLOGIC!AV2,FALSE),\"-\"))))","v":{"$error":"#N/A"}},{"$f":"IF(OR($B$3=\"1 (satu)\",$B$3=\"2 (dua)\"),HLOOKUP($C$3,TABMAPEL_X,DBLOGIC!AW2,FALSE),IF(OR($B$3=\"3 (tiga)\",$B$3=\"4 (empat)\"),HLOOKUP($C$3,TABMAPEL_XI,DBLOGIC!AW2,FALSE),IF(OR($B$3=\"5 (lima)\",$B$3=\"6 (enam)\"),HLOOKUP($C$3,TABMAPEL_XII,DBLOGIC!AW2,FALSE),IF(OR($B$3=\"7 (tujuh)\",$B$3=\"8 (delapan)\"),HLOOKUP($C$3,TABMAPEL_XIII,DBLOGIC!AW2,FALSE),\"-\"))))","v":{"$error":"#N/A"}},{"$f":"IF(OR($B$3=\"1 (satu)\",$B$3=\"2 (dua)\"),HLOOKUP($C$3,TABMAPEL_X,DBLOGIC!AX2,FALSE),IF(OR($B$3=\"3 (tiga)\",$B$3=\"4 (empat)\"),HLOOKUP($C$3,TABMAPEL_XI,DBLOGIC!AX2,FALSE),IF(OR($B$3=\"5 (lima)\",$B$3=\"6 (enam)\"),HLOOKUP($C$3,TABMAPEL_XII,DBLOGIC!AX2,FALSE),IF(OR($B$3=\"7 (tujuh)\",$B$3=\"8 (delapan)\"),HLOOKUP($C$3,TABMAPEL_XIII,DBLOGIC!AX2,FALSE),\"-\"))))","v":{"$error":"#N/A"}},{"$f":"IF(OR($B$3=\"1 (satu)\",$B$3=\"2 (dua)\"),HLOOKUP($C$3,TABMAPEL_X,DBLOGIC!AY2,FALSE),IF(OR($B$3=\"3 (tiga)\",$B$3=\"4 (empat)\"),HLOOKUP($C$3,TABMAPEL_XI,DBLOGIC!AY2,FALSE),IF(OR($B$3=\"5 (lima)\",$B$3=\"6 (enam)\"),HLOOKUP($C$3,TABMAPEL_XII,DBLOGIC!AY2,FALSE),IF(OR($B$3=\"7 (tujuh)\",$B$3=\"8 (delapan)\"),HLOOKUP($C$3,TABMAPEL_XIII,DBLOGIC!AY2,FALSE),\"-\"))))","v":{"$error":"#N/A"}},{"$f":"IF(OR($B$3=\"1 (satu)\",$B$3=\"2 (dua)\"),HLOOKUP($C$3,TABMAPEL_X,DBLOGIC!AZ2,FALSE),IF(OR($B$3=\"3 (tiga)\",$B$3=\"4 (empat)\"),HLOOKUP($C$3,TABMAPEL_XI,DBLOGIC!AZ2,FALSE),IF(OR($B$3=\"5 (lima)\",$B$3=\"6 (enam)\"),HLOOKUP($C$3,TABMAPEL_XII,DBLOGIC!AZ2,FALSE),IF(OR($B$3=\"7 (tujuh)\",$B$3=\"8 (delapan)\"),HLOOKUP($C$3,TABMAPEL_XIII,DBLOGIC!AZ2,FALSE),\"-\"))))","v":{"$error":"#N/A"}},{"$f":"IF(OR($B$3=\"1 (satu)\",$B$3=\"2 (dua)\"),HLOOKUP($C$3,TABMAPEL_X,DBLOGIC!BA2,FALSE),IF(OR($B$3=\"3 (tiga)\",$B$3=\"4 (empat)\"),HLOOKUP($C$3,TABMAPEL_XI,DBLOGIC!BA2,FALSE),IF(OR($B$3=\"5 (lima)\",$B$3=\"6 (enam)\"),HLOOKUP($C$3,TABMAPEL_XII,DBLOGIC!BA2,FALSE),IF(OR($B$3=\"7 (tujuh)\",$B$3=\"8 (delapan)\"),HLOOKUP($C$3,TABMAPEL_XIII,DBLOGIC!BA2,FALSE),\"-\"))))","v":{"$error":"#N/A"}},{"$f":"IF(OR($B$3=\"1 (satu)\",$B$3=\"2 (dua)\"),HLOOKUP($C$3,TABMAPEL_X,DBLOGIC!BB2,FALSE),IF(OR($B$3=\"3 (tiga)\",$B$3=\"4 (empat)\"),HLOOKUP($C$3,TABMAPEL_XI,DBLOGIC!BB2,FALSE),IF(OR($B$3=\"5 (lima)\",$B$3=\"6 (enam)\"),HLOOKUP($C$3,TABMAPEL_XII,DBLOGIC!BB2,FALSE),IF(OR($B$3=\"7 (tujuh)\",$B$3=\"8 (delapan)\"),HLOOKUP($C$3,TABMAPEL_XIII,DBLOGIC!BB2,FALSE),\"-\"))))","v":{"$error":"#N/A"}},{"$f":"IF(OR($B$3=\"1 (satu)\",$B$3=\"2 (dua)\"),HLOOKUP($C$3,TABMAPEL_X,DBLOGIC!BC2,FALSE),IF(OR($B$3=\"3 (tiga)\",$B$3=\"4 (empat)\"),HLOOKUP($C$3,TABMAPEL_XI,DBLOGIC!BC2,FALSE),IF(OR($B$3=\"5 (lima)\",$B$3=\"6 (enam)\"),HLOOKUP($C$3,TABMAPEL_XII,DBLOGIC!BC2,FALSE),IF(OR($B$3=\"7 (tujuh)\",$B$3=\"8 (delapan)\"),HLOOKUP($C$3,TABMAPEL_XIII,DBLOGIC!BC2,FALSE),\"-\"))))","v":{"$error":"#N/A"}},{"$f":"IF(OR($B$3=\"1 (satu)\",$B$3=\"2 (dua)\"),HLOOKUP($C$3,TABMAPEL_X,DBLOGIC!BD2,FALSE),IF(OR($B$3=\"3 (tiga)\",$B$3=\"4 (empat)\"),HLOOKUP($C$3,TABMAPEL_XI,DBLOGIC!BD2,FALSE),IF(OR($B$3=\"5 (lima)\",$B$3=\"6 (enam)\"),HLOOKUP($C$3,TABMAPEL_XII,DBLOGIC!BD2,FALSE),IF(OR($B$3=\"7 (tujuh)\",$B$3=\"8 (delapan)\"),HLOOKUP($C$3,TABMAPEL_XIII,DBLOGIC!BD2,FALSE),\"-\"))))","v":{"$error":"#N/A"}},{"$f":"IF(OR($B$3=\"1 (satu)\",$B$3=\"2 (dua)\"),HLOOKUP($C$3,TABMAPEL_X,DBLOGIC!BE2,FALSE),IF(OR($B$3=\"3 (tiga)\",$B$3=\"4 (empat)\"),HLOOKUP($C$3,TABMAPEL_XI,DBLOGIC!BE2,FALSE),IF(OR($B$3=\"5 (lima)\",$B$3=\"6 (enam)\"),HLOOKUP($C$3,TABMAPEL_XII,DBLOGIC!BE2,FALSE),IF(OR($B$3=\"7 (tujuh)\",$B$3=\"8 (delapan)\"),HLOOKUP($C$3,TABMAPEL_XIII,DBLOGIC!BE2,FALSE),\"-\"))))","v":{"$error":"#N/A"}},{"$f":"IF(OR($B$3=\"1 (satu)\",$B$3=\"2 (dua)\"),HLOOKUP($C$3,TABMAPEL_X,DBLOGIC!BF2,FALSE),IF(OR($B$3=\"3 (tiga)\",$B$3=\"4 (empat)\"),HLOOKUP($C$3,TABMAPEL_XI,DBLOGIC!BF2,FALSE),IF(OR($B$3=\"5 (lima)\",$B$3=\"6 (enam)\"),HLOOKUP($C$3,TABMAPEL_XII,DBLOGIC!BF2,FALSE),IF(OR($B$3=\"7 (tujuh)\",$B$3=\"8 (delapan)\"),HLOOKUP($C$3,TABMAPEL_XIII,DBLOGIC!BF2,FALSE),\"-\"))))","v":{"$error":"#N/A"}},{"$f":"IF(OR($B$3=\"1 (satu)\",$B$3=\"2 (dua)\"),HLOOKUP($C$3,TABMAPEL_X,DBLOGIC!BG2,FALSE),IF(OR($B$3=\"3 (tiga)\",$B$3=\"4 (empat)\"),HLOOKUP($C$3,TABMAPEL_XI,DBLOGIC!BG2,FALSE),IF(OR($B$3=\"5 (lima)\",$B$3=\"6 (enam)\"),HLOOKUP($C$3,TABMAPEL_XII,DBLOGIC!BG2,FALSE),IF(OR($B$3=\"7 (tujuh)\",$B$3=\"8 (delapan)\"),HLOOKUP($C$3,TABMAPEL_XIII,DBLOGIC!BG2,FALSE),\"-\"))))","v":{"$error":"#N/A"}},{"$f":"IF(OR($B$3=\"1 (satu)\",$B$3=\"2 (dua)\"),HLOOKUP($C$3,TABMAPEL_X,DBLOGIC!BH2,FALSE),IF(OR($B$3=\"3 (tiga)\",$B$3=\"4 (empat)\"),HLOOKUP($C$3,TABMAPEL_XI,DBLOGIC!BH2,FALSE),IF(OR($B$3=\"5 (lima)\",$B$3=\"6 (enam)\"),HLOOKUP($C$3,TABMAPEL_XII,DBLOGIC!BH2,FALSE),IF(OR($B$3=\"7 (tujuh)\",$B$3=\"8 (delapan)\"),HLOOKUP($C$3,TABMAPEL_XIII,DBLOGIC!BH2,FALSE),\"-\"))))","v":{"$error":"#N/A"}},{"$f":"IF(OR($B$3=\"1 (satu)\",$B$3=\"2 (dua)\"),HLOOKUP($C$3,TABMAPEL_X,DBLOGIC!BI2,FALSE),IF(OR($B$3=\"3 (tiga)\",$B$3=\"4 (empat)\"),HLOOKUP($C$3,TABMAPEL_XI,DBLOGIC!BI2,FALSE),IF(OR($B$3=\"5 (lima)\",$B$3=\"6 (enam)\"),HLOOKUP($C$3,TABMAPEL_XII,DBLOGIC!BI2,FALSE),IF(OR($B$3=\"7 (tujuh)\",$B$3=\"8 (delapan)\"),HLOOKUP($C$3,TABMAPEL_XIII,DBLOGIC!BI2,FALSE),\"-\"))))","v":{"$error":"#N/A"}},{"$f":"IF(OR($B$3=\"1 (satu)\",$B$3=\"2 (dua)\"),HLOOKUP($C$3,TABMAPEL_X,DBLOGIC!BJ2,FALSE),IF(OR($B$3=\"3 (tiga)\",$B$3=\"4 (empat)\"),HLOOKUP($C$3,TABMAPEL_XI,DBLOGIC!BJ2,FALSE),IF(OR($B$3=\"5 (lima)\",$B$3=\"6 (enam)\"),HLOOKUP($C$3,TABMAPEL_XII,DBLOGIC!BJ2,FALSE),IF(OR($B$3=\"7 (tujuh)\",$B$3=\"8 (delapan)\"),HLOOKUP($C$3,TABMAPEL_XIII,DBLOGIC!BJ2,FALSE),\"-\"))))","v":{"$error":"#N/A"}},{"$f":"IF(OR($B$3=\"1 (satu)\",$B$3=\"2 (dua)\"),HLOOKUP($C$3,TABMAPEL_X,DBLOGIC!BK2,FALSE),IF(OR($B$3=\"3 (tiga)\",$B$3=\"4 (empat)\"),HLOOKUP($C$3,TABMAPEL_XI,DBLOGIC!BK2,FALSE),IF(OR($B$3=\"5 (lima)\",$B$3=\"6 (enam)\"),HLOOKUP($C$3,TABMAPEL_XII,DBLOGIC!BK2,FALSE),IF(OR($B$3=\"7 (tujuh)\",$B$3=\"8 (delapan)\"),HLOOKUP($C$3,TABMAPEL_XIII,DBLOGIC!BK2,FALSE),\"-\"))))","v":{"$error":"#N/A"}},{"$f":"IF(OR($B$3=\"1 (satu)\",$B$3=\"2 (dua)\"),HLOOKUP($C$3,TABMAPEL_X,DBLOGIC!BL2,FALSE),IF(OR($B$3=\"3 (tiga)\",$B$3=\"4 (empat)\"),HLOOKUP($C$3,TABMAPEL_XI,DBLOGIC!BL2,FALSE),IF(OR($B$3=\"5 (lima)\",$B$3=\"6 (enam)\"),HLOOKUP($C$3,TABMAPEL_XII,DBLOGIC!BL2,FALSE),IF(OR($B$3=\"7 (tujuh)\",$B$3=\"8 (delapan)\"),HLOOKUP($C$3,TABMAPEL_XIII,DBLOGIC!BL2,FALSE),\"-\"))))","v":{"$error":"#N/A"}},{"$f":"IF(OR($B$3=\"1 (satu)\",$B$3=\"2 (dua)\"),HLOOKUP($C$3,TABMAPEL_X,DBLOGIC!BM2,FALSE),IF(OR($B$3=\"3 (tiga)\",$B$3=\"4 (empat)\"),HLOOKUP($C$3,TABMAPEL_XI,DBLOGIC!BM2,FALSE),IF(OR($B$3=\"5 (lima)\",$B$3=\"6 (enam)\"),HLOOKUP($C$3,TABMAPEL_XII,DBLOGIC!BM2,FALSE),IF(OR($B$3=\"7 (tujuh)\",$B$3=\"8 (delapan)\"),HLOOKUP($C$3,TABMAPEL_XIII,DBLOGIC!BM2,FALSE),\"-\"))))","v":{"$error":"#N/A"}},{"$f":"IF(OR($B$3=\"1 (satu)\",$B$3=\"2 (dua)\"),HLOOKUP($C$3,TABMAPEL_X,DBLOGIC!BN2,FALSE),IF(OR($B$3=\"3 (tiga)\",$B$3=\"4 (empat)\"),HLOOKUP($C$3,TABMAPEL_XI,DBLOGIC!BN2,FALSE),IF(OR($B$3=\"5 (lima)\",$B$3=\"6 (enam)\"),HLOOKUP($C$3,TABMAPEL_XII,DBLOGIC!BN2,FALSE),IF(OR($B$3=\"7 (tujuh)\",$B$3=\"8 (delapan)\"),HLOOKUP($C$3,TABMAPEL_XIII,DBLOGIC!BN2,FALSE),\"-\"))))","v":{"$error":"#N/A"}},{"$f":"IF(OR($B$3=\"1 (satu)\",$B$3=\"2 (dua)\"),HLOOKUP($C$3,TABMAPEL_X,DBLOGIC!BO2,FALSE),IF(OR($B$3=\"3 (tiga)\",$B$3=\"4 (empat)\"),HLOOKUP($C$3,TABMAPEL_XI,DBLOGIC!BO2,FALSE),IF(OR($B$3=\"5 (lima)\",$B$3=\"6 (enam)\"),HLOOKUP($C$3,TABMAPEL_XII,DBLOGIC!BO2,FALSE),IF(OR($B$3=\"7 (tujuh)\",$B$3=\"8 (delapan)\"),HLOOKUP($C$3,TABMAPEL_XIII,DBLOGIC!BO2,FALSE),\"-\"))))","v":{"$error":"#N/A"}},{"$f":"IF(OR($B$3=\"1 (satu)\",$B$3=\"2 (dua)\"),HLOOKUP($C$3,TABMAPEL_X,DBLOGIC!BP2,FALSE),IF(OR($B$3=\"3 (tiga)\",$B$3=\"4 (empat)\"),HLOOKUP($C$3,TABMAPEL_XI,DBLOGIC!BP2,FALSE),IF(OR($B$3=\"5 (lima)\",$B$3=\"6 (enam)\"),HLOOKUP($C$3,TABMAPEL_XII,DBLOGIC!BP2,FALSE),IF(OR($B$3=\"7 (tujuh)\",$B$3=\"8 (delapan)\"),HLOOKUP($C$3,TABMAPEL_XIII,DBLOGIC!BP2,FALSE),\"-\"))))","v":{"$error":"#N/A"}},{"$f":"IF(OR($B$3=\"1 (satu)\",$B$3=\"2 (dua)\"),HLOOKUP($C$3,TABMAPEL_X,DBLOGIC!BQ2,FALSE),IF(OR($B$3=\"3 (tiga)\",$B$3=\"4 (empat)\"),HLOOKUP($C$3,TABMAPEL_XI,DBLOGIC!BQ2,FALSE),IF(OR($B$3=\"5 (lima)\",$B$3=\"6 (enam)\"),HLOOKUP($C$3,TABMAPEL_XII,DBLOGIC!BQ2,FALSE),IF(OR($B$3=\"7 (tujuh)\",$B$3=\"8 (delapan)\"),HLOOKUP($C$3,TABMAPEL_XIII,DBLOGIC!BQ2,FALSE),\"-\"))))","v":{"$error":"#N/A"}},{"$f":"IF(OR($B$3=\"1 (satu)\",$B$3=\"2 (dua)\"),HLOOKUP($C$3,TABMAPEL_X,DBLOGIC!BR2,FALSE),IF(OR($B$3=\"3 (tiga)\",$B$3=\"4 (empat)\"),HLOOKUP($C$3,TABMAPEL_XI,DBLOGIC!BR2,FALSE),IF(OR($B$3=\"5 (lima)\",$B$3=\"6 (enam)\"),HLOOKUP($C$3,TABMAPEL_XII,DBLOGIC!BR2,FALSE),IF(OR($B$3=\"7 (tujuh)\",$B$3=\"8 (delapan)\"),HLOOKUP($C$3,TABMAPEL_XIII,DBLOGIC!BR2,FALSE),\"-\"))))","v":{"$error":"#N/A"}},{"$f":"IF(OR($B$3=\"1 (satu)\",$B$3=\"2 (dua)\"),HLOOKUP($C$3,TABMAPEL_X,DBLOGIC!BS2,FALSE),IF(OR($B$3=\"3 (tiga)\",$B$3=\"4 (empat)\"),HLOOKUP($C$3,TABMAPEL_XI,DBLOGIC!BS2,FALSE),IF(OR($B$3=\"5 (lima)\",$B$3=\"6 (enam)\"),HLOOKUP($C$3,TABMAPEL_XII,DBLOGIC!BS2,FALSE),IF(OR($B$3=\"7 (tujuh)\",$B$3=\"8 (delapan)\"),HLOOKUP($C$3,TABMAPEL_XIII,DBLOGIC!BS2,FALSE),\"-\"))))","v":{"$error":"#N/A"}},{"$f":"IF(OR($B$3=\"1 (satu)\",$B$3=\"2 (dua)\"),HLOOKUP($C$3,TABMAPEL_X,DBLOGIC!BT2,FALSE),IF(OR($B$3=\"3 (tiga)\",$B$3=\"4 (empat)\"),HLOOKUP($C$3,TABMAPEL_XI,DBLOGIC!BT2,FALSE),IF(OR($B$3=\"5 (lima)\",$B$3=\"6 (enam)\"),HLOOKUP($C$3,TABMAPEL_XII,DBLOGIC!BT2,FALSE),IF(OR($B$3=\"7 (tujuh)\",$B$3=\"8 (delapan)\"),HLOOKUP($C$3,TABMAPEL_XIII,DBLOGIC!BT2,FALSE),\"-\"))))","v":{"$error":"#N/A"}},{"$f":"IF(OR($B$3=\"1 (satu)\",$B$3=\"2 (dua)\"),HLOOKUP($C$3,TABMAPEL_X,DBLOGIC!BU2,FALSE),IF(OR($B$3=\"3 (tiga)\",$B$3=\"4 (empat)\"),HLOOKUP($C$3,TABMAPEL_XI,DBLOGIC!BU2,FALSE),IF(OR($B$3=\"5 (lima)\",$B$3=\"6 (enam)\"),HLOOKUP($C$3,TABMAPEL_XII,DBLOGIC!BU2,FALSE),IF(OR($B$3=\"7 (tujuh)\",$B$3=\"8 (delapan)\"),HLOOKUP($C$3,TABMAPEL_XIII,DBLOGIC!BU2,FALSE),\"-\"))))","v":{"$error":"#N/A"}},{"$f":"IF(OR($B$3=\"1 (satu)\",$B$3=\"2 (dua)\"),HLOOKUP($C$3,TABMAPEL_X,DBLOGIC!BV2,FALSE),IF(OR($B$3=\"3 (tiga)\",$B$3=\"4 (empat)\"),HLOOKUP($C$3,TABMAPEL_XI,DBLOGIC!BV2,FALSE),IF(OR($B$3=\"5 (lima)\",$B$3=\"6 (enam)\"),HLOOKUP($C$3,TABMAPEL_XII,DBLOGIC!BV2,FALSE),IF(OR($B$3=\"7 (tujuh)\",$B$3=\"8 (delapan)\"),HLOOKUP($C$3,TABMAPEL_XIII,DBLOGIC!BV2,FALSE),\"-\"))))","v":{"$error":"#N/A"}},{"$f":"IF(OR($B$3=\"1 (satu)\",$B$3=\"2 (dua)\"),HLOOKUP($C$3,TABMAPEL_X,DBLOGIC!BW2,FALSE),IF(OR($B$3=\"3 (tiga)\",$B$3=\"4 (empat)\"),HLOOKUP($C$3,TABMAPEL_XI,DBLOGIC!BW2,FALSE),IF(OR($B$3=\"5 (lima)\",$B$3=\"6 (enam)\"),HLOOKUP($C$3,TABMAPEL_XII,DBLOGIC!BW2,FALSE),IF(OR($B$3=\"7 (tujuh)\",$B$3=\"8 (delapan)\"),HLOOKUP($C$3,TABMAPEL_XIII,DBLOGIC!BW2,FALSE),\"-\"))))","v":{"$error":"#N/A"}},{"$f":"IF(OR($B$3=\"1 (satu)\",$B$3=\"2 (dua)\"),HLOOKUP($C$3,TABMAPEL_X,DBLOGIC!BX2,FALSE),IF(OR($B$3=\"3 (tiga)\",$B$3=\"4 (empat)\"),HLOOKUP($C$3,TABMAPEL_XI,DBLOGIC!BX2,FALSE),IF(OR($B$3=\"5 (lima)\",$B$3=\"6 (enam)\"),HLOOKUP($C$3,TABMAPEL_XII,DBLOGIC!BX2,FALSE),IF(OR($B$3=\"7 (tujuh)\",$B$3=\"8 (delapan)\"),HLOOKUP($C$3,TABMAPEL_XIII,DBLOGIC!BX2,FALSE),\"-\"))))","v":{"$error":"#N/A"}},{"$f":"IF(OR($B$3=\"1 (satu)\",$B$3=\"2 (dua)\"),HLOOKUP($C$3,TABMAPEL_X,DBLOGIC!BY2,FALSE),IF(OR($B$3=\"3 (tiga)\",$B$3=\"4 (empat)\"),HLOOKUP($C$3,TABMAPEL_XI,DBLOGIC!BY2,FALSE),IF(OR($B$3=\"5 (lima)\",$B$3=\"6 (enam)\"),HLOOKUP($C$3,TABMAPEL_XII,DBLOGIC!BY2,FALSE),IF(OR($B$3=\"7 (tujuh)\",$B$3=\"8 (delapan)\"),HLOOKUP($C$3,TABMAPEL_XIII,DBLOGIC!BY2,FALSE),\"-\"))))","v":{"$error":"#N/A"}},{"$f":"IF(OR($B$3=\"1 (satu)\",$B$3=\"2 (dua)\"),HLOOKUP($C$3,TABMAPEL_X,DBLOGIC!BZ2,FALSE),IF(OR($B$3=\"3 (tiga)\",$B$3=\"4 (empat)\"),HLOOKUP($C$3,TABMAPEL_XI,DBLOGIC!BZ2,FALSE),IF(OR($B$3=\"5 (lima)\",$B$3=\"6 (enam)\"),HLOOKUP($C$3,TABMAPEL_XII,DBLOGIC!BZ2,FALSE),IF(OR($B$3=\"7 (tujuh)\",$B$3=\"8 (delapan)\"),HLOOKUP($C$3,TABMAPEL_XIII,DBLOGIC!BZ2,FALSE),\"-\"))))","v":{"$error":"#N/A"}},{"$f":"IF(OR($B$3=\"1 (satu)\",$B$3=\"2 (dua)\"),HLOOKUP($C$3,TABMAPEL_X,DBLOGIC!CA2,FALSE),IF(OR($B$3=\"3 (tiga)\",$B$3=\"4 (empat)\"),HLOOKUP($C$3,TABMAPEL_XI,DBLOGIC!CA2,FALSE),IF(OR($B$3=\"5 (lima)\",$B$3=\"6 (enam)\"),HLOOKUP($C$3,TABMAPEL_XII,DBLOGIC!CA2,FALSE),IF(OR($B$3=\"7 (tujuh)\",$B$3=\"8 (delapan)\"),HLOOKUP($C$3,TABMAPEL_XIII,DBLOGIC!CA2,FALSE),\"-\"))))","v":{"$error":"#N/A"}},{"$f":"IF(OR($B$3=\"1 (satu)\",$B$3=\"2 (dua)\"),HLOOKUP($C$3,TABMAPEL_X,DBLOGIC!CB2,FALSE),IF(OR($B$3=\"3 (tiga)\",$B$3=\"4 (empat)\"),HLOOKUP($C$3,TABMAPEL_XI,DBLOGIC!CB2,FALSE),IF(OR($B$3=\"5 (lima)\",$B$3=\"6 (enam)\"),HLOOKUP($C$3,TABMAPEL_XII,DBLOGIC!CB2,FALSE),IF(OR($B$3=\"7 (tujuh)\",$B$3=\"8 (delapan)\"),HLOOKUP($C$3,TABMAPEL_XIII,DBLOGIC!CB2,FALSE),\"-\"))))","v":{"$error":"#N/A"}},{"$f":"IF(OR($B$3=\"1 (satu)\",$B$3=\"2 (dua)\"),HLOOKUP($C$3,TABMAPEL_X,DBLOGIC!CC2,FALSE),IF(OR($B$3=\"3 (tiga)\",$B$3=\"4 (empat)\"),HLOOKUP($C$3,TABMAPEL_XI,DBLOGIC!CC2,FALSE),IF(OR($B$3=\"5 (lima)\",$B$3=\"6 (enam)\"),HLOOKUP($C$3,TABMAPEL_XII,DBLOGIC!CC2,FALSE),IF(OR($B$3=\"7 (tujuh)\",$B$3=\"8 (delapan)\"),HLOOKUP($C$3,TABMAPEL_XIII,DBLOGIC!CC2,FALSE),\"-\"))))","v":{"$error":"#N/A"}},{"$f":"IF(OR($B$3=\"1 (satu)\",$B$3=\"2 (dua)\"),HLOOKUP($C$3,TABMAPEL_X,DBLOGIC!CD2,FALSE),IF(OR($B$3=\"3 (tiga)\",$B$3=\"4 (empat)\"),HLOOKUP($C$3,TABMAPEL_XI,DBLOGIC!CD2,FALSE),IF(OR($B$3=\"5 (lima)\",$B$3=\"6 (enam)\"),HLOOKUP($C$3,TABMAPEL_XII,DBLOGIC!CD2,FALSE),IF(OR($B$3=\"7 (tujuh)\",$B$3=\"8 (delapan)\"),HLOOKUP($C$3,TABMAPEL_XIII,DBLOGIC!CD2,FALSE),\"-\"))))","v":{"$error":"#N/A"}},{"$f":"IF(OR($B$3=\"1 (satu)\",$B$3=\"2 (dua)\"),HLOOKUP($C$3,TABMAPEL_X,DBLOGIC!CE2,FALSE),IF(OR($B$3=\"3 (tiga)\",$B$3=\"4 (empat)\"),HLOOKUP($C$3,TABMAPEL_XI,DBLOGIC!CE2,FALSE),IF(OR($B$3=\"5 (lima)\",$B$3=\"6 (enam)\"),HLOOKUP($C$3,TABMAPEL_XII,DBLOGIC!CE2,FALSE),IF(OR($B$3=\"7 (tujuh)\",$B$3=\"8 (delapan)\"),HLOOKUP($C$3,TABMAPEL_XIII,DBLOGIC!CE2,FALSE),\"-\"))))","v":{"$error":"#N/A"}},{"$f":"IF(OR($B$3=\"1 (satu)\",$B$3=\"2 (dua)\"),HLOOKUP($C$3,TABMAPEL_X,DBLOGIC!CF2,FALSE),IF(OR($B$3=\"3 (tiga)\",$B$3=\"4 (empat)\"),HLOOKUP($C$3,TABMAPEL_XI,DBLOGIC!CF2,FALSE),IF(OR($B$3=\"5 (lima)\",$B$3=\"6 (enam)\"),HLOOKUP($C$3,TABMAPEL_XII,DBLOGIC!CF2,FALSE),IF(OR($B$3=\"7 (tujuh)\",$B$3=\"8 (delapan)\"),HLOOKUP($C$3,TABMAPEL_XIII,DBLOGIC!CF2,FALSE),\"-\"))))","v":{"$error":"#N/A"}},{"$f":"IF(OR($B$3=\"1 (satu)\",$B$3=\"2 (dua)\"),HLOOKUP($C$3,TABMAPEL_X,DBLOGIC!CG2,FALSE),IF(OR($B$3=\"3 (tiga)\",$B$3=\"4 (empat)\"),HLOOKUP($C$3,TABMAPEL_XI,DBLOGIC!CG2,FALSE),IF(OR($B$3=\"5 (lima)\",$B$3=\"6 (enam)\"),HLOOKUP($C$3,TABMAPEL_XII,DBLOGIC!CG2,FALSE),IF(OR($B$3=\"7 (tujuh)\",$B$3=\"8 (delapan)\"),HLOOKUP($C$3,TABMAPEL_XIII,DBLOGIC!CG2,FALSE),\"-\"))))","v":{"$error":"#N/A"}},{"$f":"IF(OR($B$3=\"1 (satu)\",$B$3=\"2 (dua)\"),HLOOKUP($C$3,TABMAPEL_X,DBLOGIC!CH2,FALSE),IF(OR($B$3=\"3 (tiga)\",$B$3=\"4 (empat)\"),HLOOKUP($C$3,TABMAPEL_XI,DBLOGIC!CH2,FALSE),IF(OR($B$3=\"5 (lima)\",$B$3=\"6 (enam)\"),HLOOKUP($C$3,TABMAPEL_XII,DBLOGIC!CH2,FALSE),IF(OR($B$3=\"7 (tujuh)\",$B$3=\"8 (delapan)\"),HLOOKUP($C$3,TABMAPEL_XIII,DBLOGIC!CH2,FALSE),\"-\"))))","v":{"$error":"#N/A"}},{"$f":"IF(OR($B$3=\"1 (satu)\",$B$3=\"2 (dua)\"),HLOOKUP($C$3,TABMAPEL_X,DBLOGIC!CI2,FALSE),IF(OR($B$3=\"3 (tiga)\",$B$3=\"4 (empat)\"),HLOOKUP($C$3,TABMAPEL_XI,DBLOGIC!CI2,FALSE),IF(OR($B$3=\"5 (lima)\",$B$3=\"6 (enam)\"),HLOOKUP($C$3,TABMAPEL_XII,DBLOGIC!CI2,FALSE),IF(OR($B$3=\"7 (tujuh)\",$B$3=\"8 (delapan)\"),HLOOKUP($C$3,TABMAPEL_XIII,DBLOGIC!CI2,FALSE),\"-\"))))","v":{"$error":"#N/A"}},{"$f":"IF(OR($B$3=\"1 (satu)\",$B$3=\"2 (dua)\"),HLOOKUP($C$3,TABMAPEL_X,DBLOGIC!CJ2,FALSE),IF(OR($B$3=\"3 (tiga)\",$B$3=\"4 (empat)\"),HLOOKUP($C$3,TABMAPEL_XI,DBLOGIC!CJ2,FALSE),IF(OR($B$3=\"5 (lima)\",$B$3=\"6 (enam)\"),HLOOKUP($C$3,TABMAPEL_XII,DBLOGIC!CJ2,FALSE),IF(OR($B$3=\"7 (tujuh)\",$B$3=\"8 (delapan)\"),HLOOKUP($C$3,TABMAPEL_XIII,DBLOGIC!CJ2,FALSE),\"-\"))))","v":{"$error":"#N/A"}},{"$f":"IF(OR($B$3=\"1 (satu)\",$B$3=\"2 (dua)\"),HLOOKUP($C$3,TABMAPEL_X,DBLOGIC!CK2,FALSE),IF(OR($B$3=\"3 (tiga)\",$B$3=\"4 (empat)\"),HLOOKUP($C$3,TABMAPEL_XI,DBLOGIC!CK2,FALSE),IF(OR($B$3=\"5 (lima)\",$B$3=\"6 (enam)\"),HLOOKUP($C$3,TABMAPEL_XII,DBLOGIC!CK2,FALSE),IF(OR($B$3=\"7 (tujuh)\",$B$3=\"8 (delapan)\"),HLOOKUP($C$3,TABMAPEL_XIII,DBLOGIC!CK2,FALSE),\"-\"))))","v":{"$error":"#N/A"}},{"$f":"IF(OR($B$3=\"1 (satu)\",$B$3=\"2 (dua)\"),HLOOKUP($C$3,TABMAPEL_X,DBLOGIC!CL2,FALSE),IF(OR($B$3=\"3 (tiga)\",$B$3=\"4 (empat)\"),HLOOKUP($C$3,TABMAPEL_XI,DBLOGIC!CL2,FALSE),IF(OR($B$3=\"5 (lima)\",$B$3=\"6 (enam)\"),HLOOKUP($C$3,TABMAPEL_XII,DBLOGIC!CL2,FALSE),IF(OR($B$3=\"7 (tujuh)\",$B$3=\"8 (delapan)\"),HLOOKUP($C$3,TABMAPEL_XIII,DBLOGIC!CL2,FALSE),\"-\"))))","v":{"$error":"#N/A"}},{"$f":"IF(OR($B$3=\"1 (satu)\",$B$3=\"2 (dua)\"),HLOOKUP($C$3,TABMAPEL_X,DBLOGIC!CM2,FALSE),IF(OR($B$3=\"3 (tiga)\",$B$3=\"4 (empat)\"),HLOOKUP($C$3,TABMAPEL_XI,DBLOGIC!CM2,FALSE),IF(OR($B$3=\"5 (lima)\",$B$3=\"6 (enam)\"),HLOOKUP($C$3,TABMAPEL_XII,DBLOGIC!CM2,FALSE),IF(OR($B$3=\"7 (tujuh)\",$B$3=\"8 (delapan)\"),HLOOKUP($C$3,TABMAPEL_XIII,DBLOGIC!CM2,FALSE),\"-\"))))","v":{"$error":"#N/A"}},{"$f":"IF(OR($B$3=\"1 (satu)\",$B$3=\"2 (dua)\"),HLOOKUP($C$3,TABMAPEL_X,DBLOGIC!CN2,FALSE),IF(OR($B$3=\"3 (tiga)\",$B$3=\"4 (empat)\"),HLOOKUP($C$3,TABMAPEL_XI,DBLOGIC!CN2,FALSE),IF(OR($B$3=\"5 (lima)\",$B$3=\"6 (enam)\"),HLOOKUP($C$3,TABMAPEL_XII,DBLOGIC!CN2,FALSE),IF(OR($B$3=\"7 (tujuh)\",$B$3=\"8 (delapan)\"),HLOOKUP($C$3,TABMAPEL_XIII,DBLOGIC!CN2,FALSE),\"-\"))))","v":{"$error":"#N/A"}},{"$f":"IF(OR($B$3=\"1 (satu)\",$B$3=\"2 (dua)\"),HLOOKUP($C$3,TABMAPEL_X,DBLOGIC!CO2,FALSE),IF(OR($B$3=\"3 (tiga)\",$B$3=\"4 (empat)\"),HLOOKUP($C$3,TABMAPEL_XI,DBLOGIC!CO2,FALSE),IF(OR($B$3=\"5 (lima)\",$B$3=\"6 (enam)\"),HLOOKUP($C$3,TABMAPEL_XII,DBLOGIC!CO2,FALSE),IF(OR($B$3=\"7 (tujuh)\",$B$3=\"8 (delapan)\"),HLOOKUP($C$3,TABMAPEL_XIII,DBLOGIC!CO2,FALSE),\"-\"))))","v":{"$error":"#N/A"}},{"$f":"IF(OR($B$3=\"1 (satu)\",$B$3=\"2 (dua)\"),HLOOKUP($C$3,TABMAPEL_X,DBLOGIC!CP2,FALSE),IF(OR($B$3=\"3 (tiga)\",$B$3=\"4 (empat)\"),HLOOKUP($C$3,TABMAPEL_XI,DBLOGIC!CP2,FALSE),IF(OR($B$3=\"5 (lima)\",$B$3=\"6 (enam)\"),HLOOKUP($C$3,TABMAPEL_XII,DBLOGIC!CP2,FALSE),IF(OR($B$3=\"7 (tujuh)\",$B$3=\"8 (delapan)\"),HLOOKUP($C$3,TABMAPEL_XIII,DBLOGIC!CP2,FALSE),\"-\"))))","v":{"$error":"#N/A"}},{"$f":"IF(OR($B$3=\"1 (satu)\",$B$3=\"2 (dua)\"),HLOOKUP($C$3,TABMAPEL_X,DBLOGIC!CQ2,FALSE),IF(OR($B$3=\"3 (tiga)\",$B$3=\"4 (empat)\"),HLOOKUP($C$3,TABMAPEL_XI,DBLOGIC!CQ2,FALSE),IF(OR($B$3=\"5 (lima)\",$B$3=\"6 (enam)\"),HLOOKUP($C$3,TABMAPEL_XII,DBLOGIC!CQ2,FALSE),IF(OR($B$3=\"7 (tujuh)\",$B$3=\"8 (delapan)\"),HLOOKUP($C$3,TABMAPEL_XIII,DBLOGIC!CQ2,FALSE),\"-\"))))","v":{"$error":"#N/A"}},{"$f":"IF(OR($B$3=\"1 (satu)\",$B$3=\"2 (dua)\"),HLOOKUP($C$3,TABMAPEL_X,DBLOGIC!CR2,FALSE),IF(OR($B$3=\"3 (tiga)\",$B$3=\"4 (empat)\"),HLOOKUP($C$3,TABMAPEL_XI,DBLOGIC!CR2,FALSE),IF(OR($B$3=\"5 (lima)\",$B$3=\"6 (enam)\"),HLOOKUP($C$3,TABMAPEL_XII,DBLOGIC!CR2,FALSE),IF(OR($B$3=\"7 (tujuh)\",$B$3=\"8 (delapan)\"),HLOOKUP($C$3,TABMAPEL_XIII,DBLOGIC!CR2,FALSE),\"-\"))))","v":{"$error":"#N/A"}},{"$f":"IF(OR($B$3=\"1 (satu)\",$B$3=\"2 (dua)\"),HLOOKUP($C$3,TABMAPEL_X,DBLOGIC!CS2,FALSE),IF(OR($B$3=\"3 (tiga)\",$B$3=\"4 (empat)\"),HLOOKUP($C$3,TABMAPEL_XI,DBLOGIC!CS2,FALSE),IF(OR($B$3=\"5 (lima)\",$B$3=\"6 (enam)\"),HLOOKUP($C$3,TABMAPEL_XII,DBLOGIC!CS2,FALSE),IF(OR($B$3=\"7 (tujuh)\",$B$3=\"8 (delapan)\"),HLOOKUP($C$3,TABMAPEL_XIII,DBLOGIC!CS2,FALSE),\"-\"))))","v":{"$error":"#N/A"}},{"$f":"IF(OR($B$3=\"1 (satu)\",$B$3=\"2 (dua)\"),HLOOKUP($C$3,TABMAPEL_X,DBLOGIC!CT2,FALSE),IF(OR($B$3=\"3 (tiga)\",$B$3=\"4 (empat)\"),HLOOKUP($C$3,TABMAPEL_XI,DBLOGIC!CT2,FALSE),IF(OR($B$3=\"5 (lima)\",$B$3=\"6 (enam)\"),HLOOKUP($C$3,TABMAPEL_XII,DBLOGIC!CT2,FALSE),IF(OR($B$3=\"7 (tujuh)\",$B$3=\"8 (delapan)\"),HLOOKUP($C$3,TABMAPEL_XIII,DBLOGIC!CT2,FALSE),\"-\"))))","v":{"$error":"#N/A"}},{"$f":"IF(OR($B$3=\"1 (satu)\",$B$3=\"2 (dua)\"),HLOOKUP($C$3,TABMAPEL_X,DBLOGIC!CU2,FALSE),IF(OR($B$3=\"3 (tiga)\",$B$3=\"4 (empat)\"),HLOOKUP($C$3,TABMAPEL_XI,DBLOGIC!CU2,FALSE),IF(OR($B$3=\"5 (lima)\",$B$3=\"6 (enam)\"),HLOOKUP($C$3,TABMAPEL_XII,DBLOGIC!CU2,FALSE),IF(OR($B$3=\"7 (tujuh)\",$B$3=\"8 (delapan)\"),HLOOKUP($C$3,TABMAPEL_XIII,DBLOGIC!CU2,FALSE),\"-\"))))","v":{"$error":"#N/A"}},{"$f":"IF(OR($B$3=\"1 (satu)\",$B$3=\"2 (dua)\"),HLOOKUP($C$3,TABMAPEL_X,DBLOGIC!CV2,FALSE),IF(OR($B$3=\"3 (tiga)\",$B$3=\"4 (empat)\"),HLOOKUP($C$3,TABMAPEL_XI,DBLOGIC!CV2,FALSE),IF(OR($B$3=\"5 (lima)\",$B$3=\"6 (enam)\"),HLOOKUP($C$3,TABMAPEL_XII,DBLOGIC!CV2,FALSE),IF(OR($B$3=\"7 (tujuh)\",$B$3=\"8 (delapan)\"),HLOOKUP($C$3,TABMAPEL_XIII,DBLOGIC!CV2,FALSE),\"-\"))))","v":{"$error":"#N/A"}},{"$f":"IF(OR($B$3=\"1 (satu)\",$B$3=\"2 (dua)\"),HLOOKUP($C$3,TABMAPEL_X,DBLOGIC!CW2,FALSE),IF(OR($B$3=\"3 (tiga)\",$B$3=\"4 (empat)\"),HLOOKUP($C$3,TABMAPEL_XI,DBLOGIC!CW2,FALSE),IF(OR($B$3=\"5 (lima)\",$B$3=\"6 (enam)\"),HLOOKUP($C$3,TABMAPEL_XII,DBLOGIC!CW2,FALSE),IF(OR($B$3=\"7 (tujuh)\",$B$3=\"8 (delapan)\"),HLOOKUP($C$3,TABMAPEL_XIII,DBLOGIC!CW2,FALSE),\"-\"))))","v":{"$error":"#N/A"}},{"$f":"IF(OR($B$3=\"1 (satu)\",$B$3=\"2 (dua)\"),HLOOKUP($C$3,TABMAPEL_X,DBLOGIC!CX2,FALSE),IF(OR($B$3=\"3 (tiga)\",$B$3=\"4 (empat)\"),HLOOKUP($C$3,TABMAPEL_XI,DBLOGIC!CX2,FALSE),IF(OR($B$3=\"5 (lima)\",$B$3=\"6 (enam)\"),HLOOKUP($C$3,TABMAPEL_XII,DBLOGIC!CX2,FALSE),IF(OR($B$3=\"7 (tujuh)\",$B$3=\"8 (delapan)\"),HLOOKUP($C$3,TABMAPEL_XIII,DBLOGIC!CX2,FALSE),\"-\"))))","v":{"$error":"#N/A"}},{"$f":"IF(OR($B$3=\"1 (satu)\",$B$3=\"2 (dua)\"),HLOOKUP($C$3,TABMAPEL_X,DBLOGIC!CY2,FALSE),IF(OR($B$3=\"3 (tiga)\",$B$3=\"4 (empat)\"),HLOOKUP($C$3,TABMAPEL_XI,DBLOGIC!CY2,FALSE),IF(OR($B$3=\"5 (lima)\",$B$3=\"6 (enam)\"),HLOOKUP($C$3,TABMAPEL_XII,DBLOGIC!CY2,FALSE),IF(OR($B$3=\"7 (tujuh)\",$B$3=\"8 (delapan)\"),HLOOKUP($C$3,TABMAPEL_XIII,DBLOGIC!CY2,FALSE),\"-\"))))","v":{"$error":"#N/A"}},{"$f":"IF(OR($B$3=\"1 (satu)\",$B$3=\"2 (dua)\"),HLOOKUP($C$3,TABMAPEL_X,DBLOGIC!CZ2,FALSE),IF(OR($B$3=\"3 (tiga)\",$B$3=\"4 (empat)\"),HLOOKUP($C$3,TABMAPEL_XI,DBLOGIC!CZ2,FALSE),IF(OR($B$3=\"5 (lima)\",$B$3=\"6 (enam)\"),HLOOKUP($C$3,TABMAPEL_XII,DBLOGIC!CZ2,FALSE),IF(OR($B$3=\"7 (tujuh)\",$B$3=\"8 (delapan)\"),HLOOKUP($C$3,TABMAPEL_XIII,DBLOGIC!CZ2,FALSE),\"-\"))))","v":{"$error":"#N/A"}},{"$f":"IF(OR($B$3=\"1 (satu)\",$B$3=\"2 (dua)\"),HLOOKUP($C$3,TABMAPEL_X,DBLOGIC!DA2,FALSE),IF(OR($B$3=\"3 (tiga)\",$B$3=\"4 (empat)\"),HLOOKUP($C$3,TABMAPEL_XI,DBLOGIC!DA2,FALSE),IF(OR($B$3=\"5 (lima)\",$B$3=\"6 (enam)\"),HLOOKUP($C$3,TABMAPEL_XII,DBLOGIC!DA2,FALSE),IF(OR($B$3=\"7 (tujuh)\",$B$3=\"8 (delapan)\"),HLOOKUP($C$3,TABMAPEL_XIII,DBLOGIC!DA2,FALSE),\"-\"))))","v":{"$error":"#N/A"}},{"$f":"IF(OR($B$3=\"1 (satu)\",$B$3=\"2 (dua)\"),HLOOKUP($C$3,TABMAPEL_X,DBLOGIC!DB2,FALSE),IF(OR($B$3=\"3 (tiga)\",$B$3=\"4 (empat)\"),HLOOKUP($C$3,TABMAPEL_XI,DBLOGIC!DB2,FALSE),IF(OR($B$3=\"5 (lima)\",$B$3=\"6 (enam)\"),HLOOKUP($C$3,TABMAPEL_XII,DBLOGIC!DB2,FALSE),IF(OR($B$3=\"7 (tujuh)\",$B$3=\"8 (delapan)\"),HLOOKUP($C$3,TABMAPEL_XIII,DBLOGIC!DB2,FALSE),\"-\"))))","v":{"$error":"#N/A"}},{"$f":"IF(OR($B$3=\"1 (satu)\",$B$3=\"2 (dua)\"),HLOOKUP($C$3,TABMAPEL_X,DBLOGIC!DC2,FALSE),IF(OR($B$3=\"3 (tiga)\",$B$3=\"4 (empat)\"),HLOOKUP($C$3,TABMAPEL_XI,DBLOGIC!DC2,FALSE),IF(OR($B$3=\"5 (lima)\",$B$3=\"6 (enam)\"),HLOOKUP($C$3,TABMAPEL_XII,DBLOGIC!DC2,FALSE),IF(OR($B$3=\"7 (tujuh)\",$B$3=\"8 (delapan)\"),HLOOKUP($C$3,TABMAPEL_XIII,DBLOGIC!DC2,FALSE),\"-\"))))","v":{"$error":"#N/A"}},{"$f":"IF(OR($B$3=\"1 (satu)\",$B$3=\"2 (dua)\"),HLOOKUP($C$3,TABMAPEL_X,DBLOGIC!DD2,FALSE),IF(OR($B$3=\"3 (tiga)\",$B$3=\"4 (empat)\"),HLOOKUP($C$3,TABMAPEL_XI,DBLOGIC!DD2,FALSE),IF(OR($B$3=\"5 (lima)\",$B$3=\"6 (enam)\"),HLOOKUP($C$3,TABMAPEL_XII,DBLOGIC!DD2,FALSE),IF(OR($B$3=\"7 (tujuh)\",$B$3=\"8 (delapan)\"),HLOOKUP($C$3,TABMAPEL_XIII,DBLOGIC!DD2,FALSE),\"-\"))))","v":{"$error":"#N/A"}},{"$f":"IF(OR($B$3=\"1 (satu)\",$B$3=\"2 (dua)\"),HLOOKUP($C$3,TABMAPEL_X,DBLOGIC!DE2,FALSE),IF(OR($B$3=\"3 (tiga)\",$B$3=\"4 (empat)\"),HLOOKUP($C$3,TABMAPEL_XI,DBLOGIC!DE2,FALSE),IF(OR($B$3=\"5 (lima)\",$B$3=\"6 (enam)\"),HLOOKUP($C$3,TABMAPEL_XII,DBLOGIC!DE2,FALSE),IF(OR($B$3=\"7 (tujuh)\",$B$3=\"8 (delapan)\"),HLOOKUP($C$3,TABMAPEL_XIII,DBLOGIC!DE2,FALSE),\"-\"))))","v":{"$error":"#N/A"}},{"$f":"IF(OR($B$3=\"1 (satu)\",$B$3=\"2 (dua)\"),HLOOKUP($C$3,TABMAPEL_X,DBLOGIC!DF2,FALSE),IF(OR($B$3=\"3 (tiga)\",$B$3=\"4 (empat)\"),HLOOKUP($C$3,TABMAPEL_XI,DBLOGIC!DF2,FALSE),IF(OR($B$3=\"5 (lima)\",$B$3=\"6 (enam)\"),HLOOKUP($C$3,TABMAPEL_XII,DBLOGIC!DF2,FALSE),IF(OR($B$3=\"7 (tujuh)\",$B$3=\"8 (delapan)\"),HLOOKUP($C$3,TABMAPEL_XIII,DBLOGIC!DF2,FALSE),\"-\"))))","v":{"$error":"#N/A"}},{"$f":"IF(OR($B$3=\"1 (satu)\",$B$3=\"2 (dua)\"),HLOOKUP($C$3,TABMAPEL_X,DBLOGIC!DG2,FALSE),IF(OR($B$3=\"3 (tiga)\",$B$3=\"4 (empat)\"),HLOOKUP($C$3,TABMAPEL_XI,DBLOGIC!DG2,FALSE),IF(OR($B$3=\"5 (lima)\",$B$3=\"6 (enam)\"),HLOOKUP($C$3,TABMAPEL_XII,DBLOGIC!DG2,FALSE),IF(OR($B$3=\"7 (tujuh)\",$B$3=\"8 (delapan)\"),HLOOKUP($C$3,TABMAPEL_XIII,DBLOGIC!DG2,FALSE),\"-\"))))","v":{"$error":"#N/A"}},{"$f":"IF(OR($B$3=\"1 (satu)\",$B$3=\"2 (dua)\"),HLOOKUP($C$3,TABMAPEL_X,DBLOGIC!DH2,FALSE),IF(OR($B$3=\"3 (tiga)\",$B$3=\"4 (empat)\"),HLOOKUP($C$3,TABMAPEL_XI,DBLOGIC!DH2,FALSE),IF(OR($B$3=\"5 (lima)\",$B$3=\"6 (enam)\"),HLOOKUP($C$3,TABMAPEL_XII,DBLOGIC!DH2,FALSE),IF(OR($B$3=\"7 (tujuh)\",$B$3=\"8 (delapan)\"),HLOOKUP($C$3,TABMAPEL_XIII,DBLOGIC!DH2,FALSE),\"-\"))))","v":{"$error":"#N/A"}},{"$f":"IF(OR($B$3=\"1 (satu)\",$B$3=\"2 (dua)\"),HLOOKUP($C$3,TABMAPEL_X,DBLOGIC!DI2,FALSE),IF(OR($B$3=\"3 (tiga)\",$B$3=\"4 (empat)\"),HLOOKUP($C$3,TABMAPEL_XI,DBLOGIC!DI2,FALSE),IF(OR($B$3=\"5 (lima)\",$B$3=\"6 (enam)\"),HLOOKUP($C$3,TABMAPEL_XII,DBLOGIC!DI2,FALSE),IF(OR($B$3=\"7 (tujuh)\",$B$3=\"8 (delapan)\"),HLOOKUP($C$3,TABMAPEL_XIII,DBLOGIC!DI2,FALSE),\"-\"))))","v":{"$error":"#N/A"}},{"$f":"IF(OR($B$3=\"1 (satu)\",$B$3=\"2 (dua)\"),HLOOKUP($C$3,TABMAPEL_X,DBLOGIC!DJ2,FALSE),IF(OR($B$3=\"3 (tiga)\",$B$3=\"4 (empat)\"),HLOOKUP($C$3,TABMAPEL_XI,DBLOGIC!DJ2,FALSE),IF(OR($B$3=\"5 (lima)\",$B$3=\"6 (enam)\"),HLOOKUP($C$3,TABMAPEL_XII,DBLOGIC!DJ2,FALSE),IF(OR($B$3=\"7 (tujuh)\",$B$3=\"8 (delapan)\"),HLOOKUP($C$3,TABMAPEL_XIII,DBLOGIC!DJ2,FALSE),\"-\"))))","v":{"$error":"#N/A"}},{"$f":"IF(OR($B$3=\"1 (satu)\",$B$3=\"2 (dua)\"),HLOOKUP($C$3,TABMAPEL_X,DBLOGIC!DK2,FALSE),IF(OR($B$3=\"3 (tiga)\",$B$3=\"4 (empat)\"),HLOOKUP($C$3,TABMAPEL_XI,DBLOGIC!DK2,FALSE),IF(OR($B$3=\"5 (lima)\",$B$3=\"6 (enam)\"),HLOOKUP($C$3,TABMAPEL_XII,DBLOGIC!DK2,FALSE),IF(OR($B$3=\"7 (tujuh)\",$B$3=\"8 (delapan)\"),HLOOKUP($C$3,TABMAPEL_XIII,DBLOGIC!DK2,FALSE),\"-\"))))","v":{"$error":"#N/A"}},{"$f":"IF(OR($B$3=\"1 (satu)\",$B$3=\"2 (dua)\"),HLOOKUP($C$3,TABMAPEL_X,DBLOGIC!DL2,FALSE),IF(OR($B$3=\"3 (tiga)\",$B$3=\"4 (empat)\"),HLOOKUP($C$3,TABMAPEL_XI,DBLOGIC!DL2,FALSE),IF(OR($B$3=\"5 (lima)\",$B$3=\"6 (enam)\"),HLOOKUP($C$3,TABMAPEL_XII,DBLOGIC!DL2,FALSE),IF(OR($B$3=\"7 (tujuh)\",$B$3=\"8 (delapan)\"),HLOOKUP($C$3,TABMAPEL_XIII,DBLOGIC!DL2,FALSE),\"-\"))))","v":{"$error":"#N/A"}},{"$f":"IF(OR($B$3=\"1 (satu)\",$B$3=\"2 (dua)\"),HLOOKUP($C$3,TABMAPEL_X,DBLOGIC!DM2,FALSE),IF(OR($B$3=\"3 (tiga)\",$B$3=\"4 (empat)\"),HLOOKUP($C$3,TABMAPEL_XI,DBLOGIC!DM2,FALSE),IF(OR($B$3=\"5 (lima)\",$B$3=\"6 (enam)\"),HLOOKUP($C$3,TABMAPEL_XII,DBLOGIC!DM2,FALSE),IF(OR($B$3=\"7 (tujuh)\",$B$3=\"8 (delapan)\"),HLOOKUP($C$3,TABMAPEL_XIII,DBLOGIC!DM2,FALSE),\"-\"))))","v":{"$error":"#N/A"}},{"$f":"IF(OR($B$3=\"1 (satu)\",$B$3=\"2 (dua)\"),HLOOKUP($C$3,TABMAPEL_X,DBLOGIC!DN2,FALSE),IF(OR($B$3=\"3 (tiga)\",$B$3=\"4 (empat)\"),HLOOKUP($C$3,TABMAPEL_XI,DBLOGIC!DN2,FALSE),IF(OR($B$3=\"5 (lima)\",$B$3=\"6 (enam)\"),HLOOKUP($C$3,TABMAPEL_XII,DBLOGIC!DN2,FALSE),IF(OR($B$3=\"7 (tujuh)\",$B$3=\"8 (delapan)\"),HLOOKUP($C$3,TABMAPEL_XIII,DBLOGIC!DN2,FALSE),\"-\"))))","v":{"$error":"#N/A"}},{"$f":"IF(OR($B$3=\"1 (satu)\",$B$3=\"2 (dua)\"),HLOOKUP($C$3,TABMAPEL_X,DBLOGIC!DO2,FALSE),IF(OR($B$3=\"3 (tiga)\",$B$3=\"4 (empat)\"),HLOOKUP($C$3,TABMAPEL_XI,DBLOGIC!DO2,FALSE),IF(OR($B$3=\"5 (lima)\",$B$3=\"6 (enam)\"),HLOOKUP($C$3,TABMAPEL_XII,DBLOGIC!DO2,FALSE),IF(OR($B$3=\"7 (tujuh)\",$B$3=\"8 (delapan)\"),HLOOKUP($C$3,TABMAPEL_XIII,DBLOGIC!DO2,FALSE),\"-\"))))","v":{"$error":"#N/A"}},{"$f":"IF(OR($B$3=\"1 (satu)\",$B$3=\"2 (dua)\"),HLOOKUP($C$3,TABMAPEL_X,DBLOGIC!DP2,FALSE),IF(OR($B$3=\"3 (tiga)\",$B$3=\"4 (empat)\"),HLOOKUP($C$3,TABMAPEL_XI,DBLOGIC!DP2,FALSE),IF(OR($B$3=\"5 (lima)\",$B$3=\"6 (enam)\"),HLOOKUP($C$3,TABMAPEL_XII,DBLOGIC!DP2,FALSE),IF(OR($B$3=\"7 (tujuh)\",$B$3=\"8 (delapan)\"),HLOOKUP($C$3,TABMAPEL_XIII,DBLOGIC!DP2,FALSE),\"-\"))))","v":{"$error":"#N/A"}},{"$f":"IF(OR($B$3=\"1 (satu)\",$B$3=\"2 (dua)\"),HLOOKUP($C$3,TABMAPEL_X,DBLOGIC!DQ2,FALSE),IF(OR($B$3=\"3 (tiga)\",$B$3=\"4 (empat)\"),HLOOKUP($C$3,TABMAPEL_XI,DBLOGIC!DQ2,FALSE),IF(OR($B$3=\"5 (lima)\",$B$3=\"6 (enam)\"),HLOOKUP($C$3,TABMAPEL_XII,DBLOGIC!DQ2,FALSE),IF(OR($B$3=\"7 (tujuh)\",$B$3=\"8 (delapan)\"),HLOOKUP($C$3,TABMAPEL_XIII,DBLOGIC!DQ2,FALSE),\"-\"))))","v":{"$error":"#N/A"}},{"$f":"IF(OR($B$3=\"1 (satu)\",$B$3=\"2 (dua)\"),HLOOKUP($C$3,TABMAPEL_X,DBLOGIC!DR2,FALSE),IF(OR($B$3=\"3 (tiga)\",$B$3=\"4 (empat)\"),HLOOKUP($C$3,TABMAPEL_XI,DBLOGIC!DR2,FALSE),IF(OR($B$3=\"5 (lima)\",$B$3=\"6 (enam)\"),HLOOKUP($C$3,TABMAPEL_XII,DBLOGIC!DR2,FALSE),IF(OR($B$3=\"7 (tujuh)\",$B$3=\"8 (delapan)\"),HLOOKUP($C$3,TABMAPEL_XIII,DBLOGIC!DR2,FALSE),\"-\"))))","v":{"$error":"#N/A"}},{"$f":"IF(OR($B$3=\"1 (satu)\",$B$3=\"2 (dua)\"),HLOOKUP($C$3,TABMAPEL_X,DBLOGIC!DS2,FALSE),IF(OR($B$3=\"3 (tiga)\",$B$3=\"4 (empat)\"),HLOOKUP($C$3,TABMAPEL_XI,DBLOGIC!DS2,FALSE),IF(OR($B$3=\"5 (lima)\",$B$3=\"6 (enam)\"),HLOOKUP($C$3,TABMAPEL_XII,DBLOGIC!DS2,FALSE),IF(OR($B$3=\"7 (tujuh)\",$B$3=\"8 (delapan)\"),HLOOKUP($C$3,TABMAPEL_XIII,DBLOGIC!DS2,FALSE),\"-\"))))","v":{"$error":"#N/A"}},{"$f":"IF(OR($B$3=\"1 (satu)\",$B$3=\"2 (dua)\"),HLOOKUP($C$3,TABMAPEL_X,DBLOGIC!DT2,FALSE),IF(OR($B$3=\"3 (tiga)\",$B$3=\"4 (empat)\"),HLOOKUP($C$3,TABMAPEL_XI,DBLOGIC!DT2,FALSE),IF(OR($B$3=\"5 (lima)\",$B$3=\"6 (enam)\"),HLOOKUP($C$3,TABMAPEL_XII,DBLOGIC!DT2,FALSE),IF(OR($B$3=\"7 (tujuh)\",$B$3=\"8 (delapan)\"),HLOOKUP($C$3,TABMAPEL_XIII,DBLOGIC!DT2,FALSE),\"-\"))))","v":{"$error":"#N/A"}},{"$f":"IF(OR($B$3=\"1 (satu)\",$B$3=\"2 (dua)\"),HLOOKUP($C$3,TABMAPEL_X,DBLOGIC!DU2,FALSE),IF(OR($B$3=\"3 (tiga)\",$B$3=\"4 (empat)\"),HLOOKUP($C$3,TABMAPEL_XI,DBLOGIC!DU2,FALSE),IF(OR($B$3=\"5 (lima)\",$B$3=\"6 (enam)\"),HLOOKUP($C$3,TABMAPEL_XII,DBLOGIC!DU2,FALSE),IF(OR($B$3=\"7 (tujuh)\",$B$3=\"8 (delapan)\"),HLOOKUP($C$3,TABMAPEL_XIII,DBLOGIC!DU2,FALSE),\"-\"))))","v":{"$error":"#N/A"}},{"$f":"IF(OR($B$3=\"1 (satu)\",$B$3=\"2 (dua)\"),HLOOKUP($C$3,TABMAPEL_X,DBLOGIC!DV2,FALSE),IF(OR($B$3=\"3 (tiga)\",$B$3=\"4 (empat)\"),HLOOKUP($C$3,TABMAPEL_XI,DBLOGIC!DV2,FALSE),IF(OR($B$3=\"5 (lima)\",$B$3=\"6 (enam)\"),HLOOKUP($C$3,TABMAPEL_XII,DBLOGIC!DV2,FALSE),IF(OR($B$3=\"7 (tujuh)\",$B$3=\"8 (delapan)\"),HLOOKUP($C$3,TABMAPEL_XIII,DBLOGIC!DV2,FALSE),\"-\"))))","v":{"$error":"#N/A"}},{"$f":"IF(OR($B$3=\"1 (satu)\",$B$3=\"2 (dua)\"),HLOOKUP($C$3,TABMAPEL_X,DBLOGIC!DW2,FALSE),IF(OR($B$3=\"3 (tiga)\",$B$3=\"4 (empat)\"),HLOOKUP($C$3,TABMAPEL_XI,DBLOGIC!DW2,FALSE),IF(OR($B$3=\"5 (lima)\",$B$3=\"6 (enam)\"),HLOOKUP($C$3,TABMAPEL_XII,DBLOGIC!DW2,FALSE),IF(OR($B$3=\"7 (tujuh)\",$B$3=\"8 (delapan)\"),HLOOKUP($C$3,TABMAPEL_XIII,DBLOGIC!DW2,FALSE),\"-\"))))","v":{"$error":"#N/A"}},{"$f":"IF(OR($B$3=\"1 (satu)\",$B$3=\"2 (dua)\"),HLOOKUP($C$3,TABMAPEL_X,DBLOGIC!DX2,FALSE),IF(OR($B$3=\"3 (tiga)\",$B$3=\"4 (empat)\"),HLOOKUP($C$3,TABMAPEL_XI,DBLOGIC!DX2,FALSE),IF(OR($B$3=\"5 (lima)\",$B$3=\"6 (enam)\"),HLOOKUP($C$3,TABMAPEL_XII,DBLOGIC!DX2,FALSE),IF(OR($B$3=\"7 (tujuh)\",$B$3=\"8 (delapan)\"),HLOOKUP($C$3,TABMAPEL_XIII,DBLOGIC!DX2,FALSE),\"-\"))))","v":{"$error":"#N/A"}},{"$f":"IF(OR($B$3=\"1 (satu)\",$B$3=\"2 (dua)\"),HLOOKUP($C$3,TABMAPEL_X,DBLOGIC!DY2,FALSE),IF(OR($B$3=\"3 (tiga)\",$B$3=\"4 (empat)\"),HLOOKUP($C$3,TABMAPEL_XI,DBLOGIC!DY2,FALSE),IF(OR($B$3=\"5 (lima)\",$B$3=\"6 (enam)\"),HLOOKUP($C$3,TABMAPEL_XII,DBLOGIC!DY2,FALSE),IF(OR($B$3=\"7 (tujuh)\",$B$3=\"8 (delapan)\"),HLOOKUP($C$3,TABMAPEL_XIII,DBLOGIC!DY2,FALSE),\"-\"))))","v":{"$error":"#N/A"}},{"$f":"IF(OR($B$3=\"1 (satu)\",$B$3=\"2 (dua)\"),HLOOKUP($C$3,TABMAPEL_X,DBLOGIC!DZ2,FALSE),IF(OR($B$3=\"3 (tiga)\",$B$3=\"4 (empat)\"),HLOOKUP($C$3,TABMAPEL_XI,DBLOGIC!DZ2,FALSE),IF(OR($B$3=\"5 (lima)\",$B$3=\"6 (enam)\"),HLOOKUP($C$3,TABMAPEL_XII,DBLOGIC!DZ2,FALSE),IF(OR($B$3=\"7 (tujuh)\",$B$3=\"8 (delapan)\"),HLOOKUP($C$3,TABMAPEL_XIII,DBLOGIC!DZ2,FALSE),\"-\"))))","v":{"$error":"#N/A"}},{"$f":"IF(OR($B$3=\"1 (satu)\",$B$3=\"2 (dua)\"),HLOOKUP($C$3,TABMAPEL_X,DBLOGIC!EA2,FALSE),IF(OR($B$3=\"3 (tiga)\",$B$3=\"4 (empat)\"),HLOOKUP($C$3,TABMAPEL_XI,DBLOGIC!EA2,FALSE),IF(OR($B$3=\"5 (lima)\",$B$3=\"6 (enam)\"),HLOOKUP($C$3,TABMAPEL_XII,DBLOGIC!EA2,FALSE),IF(OR($B$3=\"7 (tujuh)\",$B$3=\"8 (delapan)\"),HLOOKUP($C$3,TABMAPEL_XIII,DBLOGIC!EA2,FALSE),\"-\"))))","v":{"$error":"#N/A"}},{"$f":"IF(OR($B$3=\"1 (satu)\",$B$3=\"2 (dua)\"),HLOOKUP($C$3,TABMAPEL_X,DBLOGIC!EB2,FALSE),IF(OR($B$3=\"3 (tiga)\",$B$3=\"4 (empat)\"),HLOOKUP($C$3,TABMAPEL_XI,DBLOGIC!EB2,FALSE),IF(OR($B$3=\"5 (lima)\",$B$3=\"6 (enam)\"),HLOOKUP($C$3,TABMAPEL_XII,DBLOGIC!EB2,FALSE),IF(OR($B$3=\"7 (tujuh)\",$B$3=\"8 (delapan)\"),HLOOKUP($C$3,TABMAPEL_XIII,DBLOGIC!EB2,FALSE),\"-\"))))","v":{"$error":"#N/A"}},{"$f":"IF(OR($B$3=\"1 (satu)\",$B$3=\"2 (dua)\"),HLOOKUP($C$3,TABMAPEL_X,DBLOGIC!EC2,FALSE),IF(OR($B$3=\"3 (tiga)\",$B$3=\"4 (empat)\"),HLOOKUP($C$3,TABMAPEL_XI,DBLOGIC!EC2,FALSE),IF(OR($B$3=\"5 (lima)\",$B$3=\"6 (enam)\"),HLOOKUP($C$3,TABMAPEL_XII,DBLOGIC!EC2,FALSE),IF(OR($B$3=\"7 (tujuh)\",$B$3=\"8 (delapan)\"),HLOOKUP($C$3,TABMAPEL_XIII,DBLOGIC!EC2,FALSE),\"-\"))))","v":{"$error":"#N/A"}},{"$f":"IF(OR($B$3=\"1 (satu)\",$B$3=\"2 (dua)\"),HLOOKUP($C$3,TABMAPEL_X,DBLOGIC!ED2,FALSE),IF(OR($B$3=\"3 (tiga)\",$B$3=\"4 (empat)\"),HLOOKUP($C$3,TABMAPEL_XI,DBLOGIC!ED2,FALSE),IF(OR($B$3=\"5 (lima)\",$B$3=\"6 (enam)\"),HLOOKUP($C$3,TABMAPEL_XII,DBLOGIC!ED2,FALSE),IF(OR($B$3=\"7 (tujuh)\",$B$3=\"8 (delapan)\"),HLOOKUP($C$3,TABMAPEL_XIII,DBLOGIC!ED2,FALSE),\"-\"))))","v":{"$error":"#N/A"}},{"$f":"IF(OR($B$3=\"1 (satu)\",$B$3=\"2 (dua)\"),HLOOKUP($C$3,TABMAPEL_X,DBLOGIC!EE2,FALSE),IF(OR($B$3=\"3 (tiga)\",$B$3=\"4 (empat)\"),HLOOKUP($C$3,TABMAPEL_XI,DBLOGIC!EE2,FALSE),IF(OR($B$3=\"5 (lima)\",$B$3=\"6 (enam)\"),HLOOKUP($C$3,TABMAPEL_XII,DBLOGIC!EE2,FALSE),IF(OR($B$3=\"7 (tujuh)\",$B$3=\"8 (delapan)\"),HLOOKUP($C$3,TABMAPEL_XIII,DBLOGIC!EE2,FALSE),\"-\"))))","v":{"$error":"#N/A"}},{"$f":"IF(OR($B$3=\"1 (satu)\",$B$3=\"2 (dua)\"),HLOOKUP($C$3,TABMAPEL_X,DBLOGIC!EF2,FALSE),IF(OR($B$3=\"3 (tiga)\",$B$3=\"4 (empat)\"),HLOOKUP($C$3,TABMAPEL_XI,DBLOGIC!EF2,FALSE),IF(OR($B$3=\"5 (lima)\",$B$3=\"6 (enam)\"),HLOOKUP($C$3,TABMAPEL_XII,DBLOGIC!EF2,FALSE),IF(OR($B$3=\"7 (tujuh)\",$B$3=\"8 (delapan)\"),HLOOKUP($C$3,TABMAPEL_XIII,DBLOGIC!EF2,FALSE),\"-\"))))","v":{"$error":"#N/A"}},{"$f":"IF(OR($B$3=\"1 (satu)\",$B$3=\"2 (dua)\"),HLOOKUP($C$3,TABMAPEL_X,DBLOGIC!EG2,FALSE),IF(OR($B$3=\"3 (tiga)\",$B$3=\"4 (empat)\"),HLOOKUP($C$3,TABMAPEL_XI,DBLOGIC!EG2,FALSE),IF(OR($B$3=\"5 (lima)\",$B$3=\"6 (enam)\"),HLOOKUP($C$3,TABMAPEL_XII,DBLOGIC!EG2,FALSE),IF(OR($B$3=\"7 (tujuh)\",$B$3=\"8 (delapan)\"),HLOOKUP($C$3,TABMAPEL_XIII,DBLOGIC!EG2,FALSE),\"-\"))))","v":{"$error":"#N/A"}},{"$f":"IF(OR($B$3=\"1 (satu)\",$B$3=\"2 (dua)\"),HLOOKUP($C$3,TABMAPEL_X,DBLOGIC!EH2,FALSE),IF(OR($B$3=\"3 (tiga)\",$B$3=\"4 (empat)\"),HLOOKUP($C$3,TABMAPEL_XI,DBLOGIC!EH2,FALSE),IF(OR($B$3=\"5 (lima)\",$B$3=\"6 (enam)\"),HLOOKUP($C$3,TABMAPEL_XII,DBLOGIC!EH2,FALSE),IF(OR($B$3=\"7 (tujuh)\",$B$3=\"8 (delapan)\"),HLOOKUP($C$3,TABMAPEL_XIII,DBLOGIC!EH2,FALSE),\"-\"))))","v":{"$error":"#N/A"}},{"$f":"IF(OR($B$3=\"1 (satu)\",$B$3=\"2 (dua)\"),HLOOKUP($C$3,TABMAPEL_X,DBLOGIC!EI2,FALSE),IF(OR($B$3=\"3 (tiga)\",$B$3=\"4 (empat)\"),HLOOKUP($C$3,TABMAPEL_XI,DBLOGIC!EI2,FALSE),IF(OR($B$3=\"5 (lima)\",$B$3=\"6 (enam)\"),HLOOKUP($C$3,TABMAPEL_XII,DBLOGIC!EI2,FALSE),IF(OR($B$3=\"7 (tujuh)\",$B$3=\"8 (delapan)\"),HLOOKUP($C$3,TABMAPEL_XIII,DBLOGIC!EI2,FALSE),\"-\"))))","v":{"$error":"#N/A"}},{"$f":"IF(OR($B$3=\"1 (satu)\",$B$3=\"2 (dua)\"),HLOOKUP($C$3,TABMAPEL_X,DBLOGIC!EJ2,FALSE),IF(OR($B$3=\"3 (tiga)\",$B$3=\"4 (empat)\"),HLOOKUP($C$3,TABMAPEL_XI,DBLOGIC!EJ2,FALSE),IF(OR($B$3=\"5 (lima)\",$B$3=\"6 (enam)\"),HLOOKUP($C$3,TABMAPEL_XII,DBLOGIC!EJ2,FALSE),IF(OR($B$3=\"7 (tujuh)\",$B$3=\"8 (delapan)\"),HLOOKUP($C$3,TABMAPEL_XIII,DBLOGIC!EJ2,FALSE),\"-\"))))","v":{"$error":"#N/A"}},{"$f":"IF(OR($B$3=\"1 (satu)\",$B$3=\"2 (dua)\"),HLOOKUP($C$3,TABMAPEL_X,DBLOGIC!EK2,FALSE),IF(OR($B$3=\"3 (tiga)\",$B$3=\"4 (empat)\"),HLOOKUP($C$3,TABMAPEL_XI,DBLOGIC!EK2,FALSE),IF(OR($B$3=\"5 (lima)\",$B$3=\"6 (enam)\"),HLOOKUP($C$3,TABMAPEL_XII,DBLOGIC!EK2,FALSE),IF(OR($B$3=\"7 (tujuh)\",$B$3=\"8 (delapan)\"),HLOOKUP($C$3,TABMAPEL_XIII,DBLOGIC!EK2,FALSE),\"-\"))))","v":{"$error":"#N/A"}},{"$f":"IF(OR($B$3=\"1 (satu)\",$B$3=\"2 (dua)\"),HLOOKUP($C$3,TABMAPEL_X,DBLOGIC!EL2,FALSE),IF(OR($B$3=\"3 (tiga)\",$B$3=\"4 (empat)\"),HLOOKUP($C$3,TABMAPEL_XI,DBLOGIC!EL2,FALSE),IF(OR($B$3=\"5 (lima)\",$B$3=\"6 (enam)\"),HLOOKUP($C$3,TABMAPEL_XII,DBLOGIC!EL2,FALSE),IF(OR($B$3=\"7 (tujuh)\",$B$3=\"8 (delapan)\"),HLOOKUP($C$3,TABMAPEL_XIII,DBLOGIC!EL2,FALSE),\"-\"))))","v":{"$error":"#N/A"}},{"$f":"IF(OR($B$3=\"1 (satu)\",$B$3=\"2 (dua)\"),HLOOKUP($C$3,TABMAPEL_X,DBLOGIC!EM2,FALSE),IF(OR($B$3=\"3 (tiga)\",$B$3=\"4 (empat)\"),HLOOKUP($C$3,TABMAPEL_XI,DBLOGIC!EM2,FALSE),IF(OR($B$3=\"5 (lima)\",$B$3=\"6 (enam)\"),HLOOKUP($C$3,TABMAPEL_XII,DBLOGIC!EM2,FALSE),IF(OR($B$3=\"7 (tujuh)\",$B$3=\"8 (delapan)\"),HLOOKUP($C$3,TABMAPEL_XIII,DBLOGIC!EM2,FALSE),\"-\"))))","v":{"$error":"#N/A"}},{"$f":"IF(OR($B$3=\"1 (satu)\",$B$3=\"2 (dua)\"),HLOOKUP($C$3,TABMAPEL_X,DBLOGIC!EN2,FALSE),IF(OR($B$3=\"3 (tiga)\",$B$3=\"4 (empat)\"),HLOOKUP($C$3,TABMAPEL_XI,DBLOGIC!EN2,FALSE),IF(OR($B$3=\"5 (lima)\",$B$3=\"6 (enam)\"),HLOOKUP($C$3,TABMAPEL_XII,DBLOGIC!EN2,FALSE),IF(OR($B$3=\"7 (tujuh)\",$B$3=\"8 (delapan)\"),HLOOKUP($C$3,TABMAPEL_XIII,DBLOGIC!EN2,FALSE),\"-\"))))","v":{"$error":"#N/A"}},{"$f":"IF(OR($B$3=\"1 (satu)\",$B$3=\"2 (dua)\"),HLOOKUP($C$3,TABMAPEL_X,DBLOGIC!EO2,FALSE),IF(OR($B$3=\"3 (tiga)\",$B$3=\"4 (empat)\"),HLOOKUP($C$3,TABMAPEL_XI,DBLOGIC!EO2,FALSE),IF(OR($B$3=\"5 (lima)\",$B$3=\"6 (enam)\"),HLOOKUP($C$3,TABMAPEL_XII,DBLOGIC!EO2,FALSE),IF(OR($B$3=\"7 (tujuh)\",$B$3=\"8 (delapan)\"),HLOOKUP($C$3,TABMAPEL_XIII,DBLOGIC!EO2,FALSE),\"-\"))))","v":{"$error":"#N/A"}},{"$f":"IF(OR($B$3=\"1 (satu)\",$B$3=\"2 (dua)\"),HLOOKUP($C$3,TABMAPEL_X,DBLOGIC!EP2,FALSE),IF(OR($B$3=\"3 (tiga)\",$B$3=\"4 (empat)\"),HLOOKUP($C$3,TABMAPEL_XI,DBLOGIC!EP2,FALSE),IF(OR($B$3=\"5 (lima)\",$B$3=\"6 (enam)\"),HLOOKUP($C$3,TABMAPEL_XII,DBLOGIC!EP2,FALSE),IF(OR($B$3=\"7 (tujuh)\",$B$3=\"8 (delapan)\"),HLOOKUP($C$3,TABMAPEL_XIII,DBLOGIC!EP2,FALSE),\"-\"))))","v":{"$error":"#N/A"}},{"$f":"IF(OR($B$3=\"1 (satu)\",$B$3=\"2 (dua)\"),HLOOKUP($C$3,TABMAPEL_X,DBLOGIC!EQ2,FALSE),IF(OR($B$3=\"3 (tiga)\",$B$3=\"4 (empat)\"),HLOOKUP($C$3,TABMAPEL_XI,DBLOGIC!EQ2,FALSE),IF(OR($B$3=\"5 (lima)\",$B$3=\"6 (enam)\"),HLOOKUP($C$3,TABMAPEL_XII,DBLOGIC!EQ2,FALSE),IF(OR($B$3=\"7 (tujuh)\",$B$3=\"8 (delapan)\"),HLOOKUP($C$3,TABMAPEL_XIII,DBLOGIC!EQ2,FALSE),\"-\"))))","v":{"$error":"#N/A"}},{"$f":"IF(OR($B$3=\"1 (satu)\",$B$3=\"2 (dua)\"),HLOOKUP($C$3,TABMAPEL_X,DBLOGIC!ER2,FALSE),IF(OR($B$3=\"3 (tiga)\",$B$3=\"4 (empat)\"),HLOOKUP($C$3,TABMAPEL_XI,DBLOGIC!ER2,FALSE),IF(OR($B$3=\"5 (lima)\",$B$3=\"6 (enam)\"),HLOOKUP($C$3,TABMAPEL_XII,DBLOGIC!ER2,FALSE),IF(OR($B$3=\"7 (tujuh)\",$B$3=\"8 (delapan)\"),HLOOKUP($C$3,TABMAPEL_XIII,DBLOGIC!ER2,FALSE),\"-\"))))","v":{"$error":"#N/A"}},{"$f":"IF(OR($B$3=\"1 (satu)\",$B$3=\"2 (dua)\"),HLOOKUP($C$3,TABMAPEL_X,DBLOGIC!ES2,FALSE),IF(OR($B$3=\"3 (tiga)\",$B$3=\"4 (empat)\"),HLOOKUP($C$3,TABMAPEL_XI,DBLOGIC!ES2,FALSE),IF(OR($B$3=\"5 (lima)\",$B$3=\"6 (enam)\"),HLOOKUP($C$3,TABMAPEL_XII,DBLOGIC!ES2,FALSE),IF(OR($B$3=\"7 (tujuh)\",$B$3=\"8 (delapan)\"),HLOOKUP($C$3,TABMAPEL_XIII,DBLOGIC!ES2,FALSE),\"-\"))))","v":{"$error":"#N/A"}},{"$f":"IF(OR($B$3=\"1 (satu)\",$B$3=\"2 (dua)\"),HLOOKUP($C$3,TABMAPEL_X,DBLOGIC!ET2,FALSE),IF(OR($B$3=\"3 (tiga)\",$B$3=\"4 (empat)\"),HLOOKUP($C$3,TABMAPEL_XI,DBLOGIC!ET2,FALSE),IF(OR($B$3=\"5 (lima)\",$B$3=\"6 (enam)\"),HLOOKUP($C$3,TABMAPEL_XII,DBLOGIC!ET2,FALSE),IF(OR($B$3=\"7 (tujuh)\",$B$3=\"8 (delapan)\"),HLOOKUP($C$3,TABMAPEL_XIII,DBLOGIC!ET2,FALSE),\"-\"))))","v":{"$error":"#N/A"}},{"$f":"IF(OR($B$3=\"1 (satu)\",$B$3=\"2 (dua)\"),HLOOKUP($C$3,TABMAPEL_X,DBLOGIC!EU2,FALSE),IF(OR($B$3=\"3 (tiga)\",$B$3=\"4 (empat)\"),HLOOKUP($C$3,TABMAPEL_XI,DBLOGIC!EU2,FALSE),IF(OR($B$3=\"5 (lima)\",$B$3=\"6 (enam)\"),HLOOKUP($C$3,TABMAPEL_XII,DBLOGIC!EU2,FALSE),IF(OR($B$3=\"7 (tujuh)\",$B$3=\"8 (delapan)\"),HLOOKUP($C$3,TABMAPEL_XIII,DBLOGIC!EU2,FALSE),\"-\"))))","v":{"$error":"#N/A"}},{"$f":"IF(OR($B$3=\"1 (satu)\",$B$3=\"2 (dua)\"),HLOOKUP($C$3,TABMAPEL_X,DBLOGIC!EV2,FALSE),IF(OR($B$3=\"3 (tiga)\",$B$3=\"4 (empat)\"),HLOOKUP($C$3,TABMAPEL_XI,DBLOGIC!EV2,FALSE),IF(OR($B$3=\"5 (lima)\",$B$3=\"6 (enam)\"),HLOOKUP($C$3,TABMAPEL_XII,DBLOGIC!EV2,FALSE),IF(OR($B$3=\"7 (tujuh)\",$B$3=\"8 (delapan)\"),HLOOKUP($C$3,TABMAPEL_XIII,DBLOGIC!EV2,FALSE),\"-\"))))","v":{"$error":"#N/A"}},{"$f":"IF(OR($B$3=\"1 (satu)\",$B$3=\"2 (dua)\"),HLOOKUP($C$3,TABMAPEL_X,DBLOGIC!EW2,FALSE),IF(OR($B$3=\"3 (tiga)\",$B$3=\"4 (empat)\"),HLOOKUP($C$3,TABMAPEL_XI,DBLOGIC!EW2,FALSE),IF(OR($B$3=\"5 (lima)\",$B$3=\"6 (enam)\"),HLOOKUP($C$3,TABMAPEL_XII,DBLOGIC!EW2,FALSE),IF(OR($B$3=\"7 (tujuh)\",$B$3=\"8 (delapan)\"),HLOOKUP($C$3,TABMAPEL_XIII,DBLOGIC!EW2,FALSE),\"-\"))))","v":{"$error":"#N/A"}},{"$f":"IF(OR($B$3=\"1 (satu)\",$B$3=\"2 (dua)\"),HLOOKUP($C$3,TABMAPEL_X,DBLOGIC!EX2,FALSE),IF(OR($B$3=\"3 (tiga)\",$B$3=\"4 (empat)\"),HLOOKUP($C$3,TABMAPEL_XI,DBLOGIC!EX2,FALSE),IF(OR($B$3=\"5 (lima)\",$B$3=\"6 (enam)\"),HLOOKUP($C$3,TABMAPEL_XII,DBLOGIC!EX2,FALSE),IF(OR($B$3=\"7 (tujuh)\",$B$3=\"8 (delapan)\"),HLOOKUP($C$3,TABMAPEL_XIII,DBLOGIC!EX2,FALSE),\"-\"))))","v":{"$error":"#N/A"}},{"$f":"IF(OR($B$3=\"1 (satu)\",$B$3=\"2 (dua)\"),HLOOKUP($C$3,TABMAPEL_X,DBLOGIC!EY2,FALSE),IF(OR($B$3=\"3 (tiga)\",$B$3=\"4 (empat)\"),HLOOKUP($C$3,TABMAPEL_XI,DBLOGIC!EY2,FALSE),IF(OR($B$3=\"5 (lima)\",$B$3=\"6 (enam)\"),HLOOKUP($C$3,TABMAPEL_XII,DBLOGIC!EY2,FALSE),IF(OR($B$3=\"7 (tujuh)\",$B$3=\"8 (delapan)\"),HLOOKUP($C$3,TABMAPEL_XIII,DBLOGIC!EY2,FALSE),\"-\"))))","v":{"$error":"#N/A"}},{"$f":"IF(OR($B$3=\"1 (satu)\",$B$3=\"2 (dua)\"),HLOOKUP($C$3,TABMAPEL_X,DBLOGIC!EZ2,FALSE),IF(OR($B$3=\"3 (tiga)\",$B$3=\"4 (empat)\"),HLOOKUP($C$3,TABMAPEL_XI,DBLOGIC!EZ2,FALSE),IF(OR($B$3=\"5 (lima)\",$B$3=\"6 (enam)\"),HLOOKUP($C$3,TABMAPEL_XII,DBLOGIC!EZ2,FALSE),IF(OR($B$3=\"7 (tujuh)\",$B$3=\"8 (delapan)\"),HLOOKUP($C$3,TABMAPEL_XIII,DBLOGIC!EZ2,FALSE),\"-\"))))","v":{"$error":"#N/A"}},{"$f":"IF(OR($B$3=\"1 (satu)\",$B$3=\"2 (dua)\"),HLOOKUP($C$3,TABMAPEL_X,DBLOGIC!FA2,FALSE),IF(OR($B$3=\"3 (tiga)\",$B$3=\"4 (empat)\"),HLOOKUP($C$3,TABMAPEL_XI,DBLOGIC!FA2,FALSE),IF(OR($B$3=\"5 (lima)\",$B$3=\"6 (enam)\"),HLOOKUP($C$3,TABMAPEL_XII,DBLOGIC!FA2,FALSE),IF(OR($B$3=\"7 (tujuh)\",$B$3=\"8 (delapan)\"),HLOOKUP($C$3,TABMAPEL_XIII,DBLOGIC!FA2,FALSE),\"-\"))))","v":{"$error":"#N/A"}},{"$f":"IF(OR($B$3=\"1 (satu)\",$B$3=\"2 (dua)\"),HLOOKUP($C$3,TABMAPEL_X,DBLOGIC!FB2,FALSE),IF(OR($B$3=\"3 (tiga)\",$B$3=\"4 (empat)\"),HLOOKUP($C$3,TABMAPEL_XI,DBLOGIC!FB2,FALSE),IF(OR($B$3=\"5 (lima)\",$B$3=\"6 (enam)\"),HLOOKUP($C$3,TABMAPEL_XII,DBLOGIC!FB2,FALSE),IF(OR($B$3=\"7 (tujuh)\",$B$3=\"8 (delapan)\"),HLOOKUP($C$3,TABMAPEL_XIII,DBLOGIC!FB2,FALSE),\"-\"))))","v":{"$error":"#N/A"}},{"$f":"IF(OR($B$3=\"1 (satu)\",$B$3=\"2 (dua)\"),HLOOKUP($C$3,TABMAPEL_X,DBLOGIC!FC2,FALSE),IF(OR($B$3=\"3 (tiga)\",$B$3=\"4 (empat)\"),HLOOKUP($C$3,TABMAPEL_XI,DBLOGIC!FC2,FALSE),IF(OR($B$3=\"5 (lima)\",$B$3=\"6 (enam)\"),HLOOKUP($C$3,TABMAPEL_XII,DBLOGIC!FC2,FALSE),IF(OR($B$3=\"7 (tujuh)\",$B$3=\"8 (delapan)\"),HLOOKUP($C$3,TABMAPEL_XIII,DBLOGIC!FC2,FALSE),\"-\"))))","v":{"$error":"#N/A"}},{"$f":"IF(OR($B$3=\"1 (satu)\",$B$3=\"2 (dua)\"),HLOOKUP($C$3,TABMAPEL_X,DBLOGIC!FD2,FALSE),IF(OR($B$3=\"3 (tiga)\",$B$3=\"4 (empat)\"),HLOOKUP($C$3,TABMAPEL_XI,DBLOGIC!FD2,FALSE),IF(OR($B$3=\"5 (lima)\",$B$3=\"6 (enam)\"),HLOOKUP($C$3,TABMAPEL_XII,DBLOGIC!FD2,FALSE),IF(OR($B$3=\"7 (tujuh)\",$B$3=\"8 (delapan)\"),HLOOKUP($C$3,TABMAPEL_XIII,DBLOGIC!FD2,FALSE),\"-\"))))","v":{"$error":"#N/A"}},{"$f":"IF(OR($B$3=\"1 (satu)\",$B$3=\"2 (dua)\"),HLOOKUP($C$3,TABMAPEL_X,DBLOGIC!FE2,FALSE),IF(OR($B$3=\"3 (tiga)\",$B$3=\"4 (empat)\"),HLOOKUP($C$3,TABMAPEL_XI,DBLOGIC!FE2,FALSE),IF(OR($B$3=\"5 (lima)\",$B$3=\"6 (enam)\"),HLOOKUP($C$3,TABMAPEL_XII,DBLOGIC!FE2,FALSE),IF(OR($B$3=\"7 (tujuh)\",$B$3=\"8 (delapan)\"),HLOOKUP($C$3,TABMAPEL_XIII,DBLOGIC!FE2,FALSE),\"-\"))))","v":{"$error":"#N/A"}},{"$f":"IF(OR($B$3=\"1 (satu)\",$B$3=\"2 (dua)\"),HLOOKUP($C$3,TABMAPEL_X,DBLOGIC!FF2,FALSE),IF(OR($B$3=\"3 (tiga)\",$B$3=\"4 (empat)\"),HLOOKUP($C$3,TABMAPEL_XI,DBLOGIC!FF2,FALSE),IF(OR($B$3=\"5 (lima)\",$B$3=\"6 (enam)\"),HLOOKUP($C$3,TABMAPEL_XII,DBLOGIC!FF2,FALSE),IF(OR($B$3=\"7 (tujuh)\",$B$3=\"8 (delapan)\"),HLOOKUP($C$3,TABMAPEL_XIII,DBLOGIC!FF2,FALSE),\"-\"))))","v":{"$error":"#N/A"}},{"$f":"IF(OR($B$3=\"1 (satu)\",$B$3=\"2 (dua)\"),HLOOKUP($C$3,TABMAPEL_X,DBLOGIC!FG2,FALSE),IF(OR($B$3=\"3 (tiga)\",$B$3=\"4 (empat)\"),HLOOKUP($C$3,TABMAPEL_XI,DBLOGIC!FG2,FALSE),IF(OR($B$3=\"5 (lima)\",$B$3=\"6 (enam)\"),HLOOKUP($C$3,TABMAPEL_XII,DBLOGIC!FG2,FALSE),IF(OR($B$3=\"7 (tujuh)\",$B$3=\"8 (delapan)\"),HLOOKUP($C$3,TABMAPEL_XIII,DBLOGIC!FG2,FALSE),\"-\"))))","v":{"$error":"#N/A"}},{"$f":"IF(OR($B$3=\"1 (satu)\",$B$3=\"2 (dua)\"),HLOOKUP($C$3,TABMAPEL_X,DBLOGIC!FH2,FALSE),IF(OR($B$3=\"3 (tiga)\",$B$3=\"4 (empat)\"),HLOOKUP($C$3,TABMAPEL_XI,DBLOGIC!FH2,FALSE),IF(OR($B$3=\"5 (lima)\",$B$3=\"6 (enam)\"),HLOOKUP($C$3,TABMAPEL_XII,DBLOGIC!FH2,FALSE),IF(OR($B$3=\"7 (tujuh)\",$B$3=\"8 (delapan)\"),HLOOKUP($C$3,TABMAPEL_XIII,DBLOGIC!FH2,FALSE),\"-\"))))","v":{"$error":"#N/A"}},{"$f":"IF(OR($B$3=\"1 (satu)\",$B$3=\"2 (dua)\"),HLOOKUP($C$3,TABMAPEL_X,DBLOGIC!FI2,FALSE),IF(OR($B$3=\"3 (tiga)\",$B$3=\"4 (empat)\"),HLOOKUP($C$3,TABMAPEL_XI,DBLOGIC!FI2,FALSE),IF(OR($B$3=\"5 (lima)\",$B$3=\"6 (enam)\"),HLOOKUP($C$3,TABMAPEL_XII,DBLOGIC!FI2,FALSE),IF(OR($B$3=\"7 (tujuh)\",$B$3=\"8 (delapan)\"),HLOOKUP($C$3,TABMAPEL_XIII,DBLOGIC!FI2,FALSE),\"-\"))))","v":{"$error":"#N/A"}},{"$f":"IF(OR($B$3=\"1 (satu)\",$B$3=\"2 (dua)\"),HLOOKUP($C$3,TABMAPEL_X,DBLOGIC!FJ2,FALSE),IF(OR($B$3=\"3 (tiga)\",$B$3=\"4 (empat)\"),HLOOKUP($C$3,TABMAPEL_XI,DBLOGIC!FJ2,FALSE),IF(OR($B$3=\"5 (lima)\",$B$3=\"6 (enam)\"),HLOOKUP($C$3,TABMAPEL_XII,DBLOGIC!FJ2,FALSE),IF(OR($B$3=\"7 (tujuh)\",$B$3=\"8 (delapan)\"),HLOOKUP($C$3,TABMAPEL_XIII,DBLOGIC!FJ2,FALSE),\"-\"))))","v":{"$error":"#N/A"}},{"$f":"IF(OR($B$3=\"1 (satu)\",$B$3=\"2 (dua)\"),HLOOKUP($C$3,TABMAPEL_X,DBLOGIC!FK2,FALSE),IF(OR($B$3=\"3 (tiga)\",$B$3=\"4 (empat)\"),HLOOKUP($C$3,TABMAPEL_XI,DBLOGIC!FK2,FALSE),IF(OR($B$3=\"5 (lima)\",$B$3=\"6 (enam)\"),HLOOKUP($C$3,TABMAPEL_XII,DBLOGIC!FK2,FALSE),IF(OR($B$3=\"7 (tujuh)\",$B$3=\"8 (delapan)\"),HLOOKUP($C$3,TABMAPEL_XIII,DBLOGIC!FK2,FALSE),\"-\"))))","v":{"$error":"#N/A"}},{"$f":"IF(OR($B$3=\"1 (satu)\",$B$3=\"2 (dua)\"),HLOOKUP($C$3,TABMAPEL_X,DBLOGIC!FL2,FALSE),IF(OR($B$3=\"3 (tiga)\",$B$3=\"4 (empat)\"),HLOOKUP($C$3,TABMAPEL_XI,DBLOGIC!FL2,FALSE),IF(OR($B$3=\"5 (lima)\",$B$3=\"6 (enam)\"),HLOOKUP($C$3,TABMAPEL_XII,DBLOGIC!FL2,FALSE),IF(OR($B$3=\"7 (tujuh)\",$B$3=\"8 (delapan)\"),HLOOKUP($C$3,TABMAPEL_XIII,DBLOGIC!FL2,FALSE),\"-\"))))","v":{"$error":"#N/A"}},{"$f":"IF(OR($B$3=\"1 (satu)\",$B$3=\"2 (dua)\"),HLOOKUP($C$3,TABMAPEL_X,DBLOGIC!FM2,FALSE),IF(OR($B$3=\"3 (tiga)\",$B$3=\"4 (empat)\"),HLOOKUP($C$3,TABMAPEL_XI,DBLOGIC!FM2,FALSE),IF(OR($B$3=\"5 (lima)\",$B$3=\"6 (enam)\"),HLOOKUP($C$3,TABMAPEL_XII,DBLOGIC!FM2,FALSE),IF(OR($B$3=\"7 (tujuh)\",$B$3=\"8 (delapan)\"),HLOOKUP($C$3,TABMAPEL_XIII,DBLOGIC!FM2,FALSE),\"-\"))))","v":{"$error":"#N/A"}},{"$f":"IF(OR($B$3=\"1 (satu)\",$B$3=\"2 (dua)\"),HLOOKUP($C$3,TABMAPEL_X,DBLOGIC!FN2,FALSE),IF(OR($B$3=\"3 (tiga)\",$B$3=\"4 (empat)\"),HLOOKUP($C$3,TABMAPEL_XI,DBLOGIC!FN2,FALSE),IF(OR($B$3=\"5 (lima)\",$B$3=\"6 (enam)\"),HLOOKUP($C$3,TABMAPEL_XII,DBLOGIC!FN2,FALSE),IF(OR($B$3=\"7 (tujuh)\",$B$3=\"8 (delapan)\"),HLOOKUP($C$3,TABMAPEL_XIII,DBLOGIC!FN2,FALSE),\"-\"))))","v":{"$error":"#N/A"}},{"$f":"IF(OR($B$3=\"1 (satu)\",$B$3=\"2 (dua)\"),HLOOKUP($C$3,TABMAPEL_X,DBLOGIC!FO2,FALSE),IF(OR($B$3=\"3 (tiga)\",$B$3=\"4 (empat)\"),HLOOKUP($C$3,TABMAPEL_XI,DBLOGIC!FO2,FALSE),IF(OR($B$3=\"5 (lima)\",$B$3=\"6 (enam)\"),HLOOKUP($C$3,TABMAPEL_XII,DBLOGIC!FO2,FALSE),IF(OR($B$3=\"7 (tujuh)\",$B$3=\"8 (delapan)\"),HLOOKUP($C$3,TABMAPEL_XIII,DBLOGIC!FO2,FALSE),\"-\"))))","v":{"$error":"#N/A"}},{"$f":"IF(OR($B$3=\"1 (satu)\",$B$3=\"2 (dua)\"),HLOOKUP($C$3,TABMAPEL_X,DBLOGIC!FP2,FALSE),IF(OR($B$3=\"3 (tiga)\",$B$3=\"4 (empat)\"),HLOOKUP($C$3,TABMAPEL_XI,DBLOGIC!FP2,FALSE),IF(OR($B$3=\"5 (lima)\",$B$3=\"6 (enam)\"),HLOOKUP($C$3,TABMAPEL_XII,DBLOGIC!FP2,FALSE),IF(OR($B$3=\"7 (tujuh)\",$B$3=\"8 (delapan)\"),HLOOKUP($C$3,TABMAPEL_XIII,DBLOGIC!FP2,FALSE),\"-\"))))","v":{"$error":"#N/A"}},{"$f":"IF(OR($B$3=\"1 (satu)\",$B$3=\"2 (dua)\"),HLOOKUP($C$3,TABMAPEL_X,DBLOGIC!FQ2,FALSE),IF(OR($B$3=\"3 (tiga)\",$B$3=\"4 (empat)\"),HLOOKUP($C$3,TABMAPEL_XI,DBLOGIC!FQ2,FALSE),IF(OR($B$3=\"5 (lima)\",$B$3=\"6 (enam)\"),HLOOKUP($C$3,TABMAPEL_XII,DBLOGIC!FQ2,FALSE),IF(OR($B$3=\"7 (tujuh)\",$B$3=\"8 (delapan)\"),HLOOKUP($C$3,TABMAPEL_XIII,DBLOGIC!FQ2,FALSE),\"-\"))))","v":{"$error":"#N/A"}},{"$f":"IF(OR($B$3=\"1 (satu)\",$B$3=\"2 (dua)\"),HLOOKUP($C$3,TABMAPEL_X,DBLOGIC!FR2,FALSE),IF(OR($B$3=\"3 (tiga)\",$B$3=\"4 (empat)\"),HLOOKUP($C$3,TABMAPEL_XI,DBLOGIC!FR2,FALSE),IF(OR($B$3=\"5 (lima)\",$B$3=\"6 (enam)\"),HLOOKUP($C$3,TABMAPEL_XII,DBLOGIC!FR2,FALSE),IF(OR($B$3=\"7 (tujuh)\",$B$3=\"8 (delapan)\"),HLOOKUP($C$3,TABMAPEL_XIII,DBLOGIC!FR2,FALSE),\"-\"))))","v":{"$error":"#N/A"}},{"$f":"IF(OR($B$3=\"1 (satu)\",$B$3=\"2 (dua)\"),HLOOKUP($C$3,TABMAPEL_X,DBLOGIC!FS2,FALSE),IF(OR($B$3=\"3 (tiga)\",$B$3=\"4 (empat)\"),HLOOKUP($C$3,TABMAPEL_XI,DBLOGIC!FS2,FALSE),IF(OR($B$3=\"5 (lima)\",$B$3=\"6 (enam)\"),HLOOKUP($C$3,TABMAPEL_XII,DBLOGIC!FS2,FALSE),IF(OR($B$3=\"7 (tujuh)\",$B$3=\"8 (delapan)\"),HLOOKUP($C$3,TABMAPEL_XIII,DBLOGIC!FS2,FALSE),\"-\"))))","v":{"$error":"#N/A"}},{"$f":"IF(OR($B$3=\"1 (satu)\",$B$3=\"2 (dua)\"),HLOOKUP($C$3,TABMAPEL_X,DBLOGIC!FT2,FALSE),IF(OR($B$3=\"3 (tiga)\",$B$3=\"4 (empat)\"),HLOOKUP($C$3,TABMAPEL_XI,DBLOGIC!FT2,FALSE),IF(OR($B$3=\"5 (lima)\",$B$3=\"6 (enam)\"),HLOOKUP($C$3,TABMAPEL_XII,DBLOGIC!FT2,FALSE),IF(OR($B$3=\"7 (tujuh)\",$B$3=\"8 (delapan)\"),HLOOKUP($C$3,TABMAPEL_XIII,DBLOGIC!FT2,FALSE),\"-\"))))","v":{"$error":"#N/A"}},{"$f":"IF(OR($B$3=\"1 (satu)\",$B$3=\"2 (dua)\"),HLOOKUP($C$3,TABMAPEL_X,DBLOGIC!FU2,FALSE),IF(OR($B$3=\"3 (tiga)\",$B$3=\"4 (empat)\"),HLOOKUP($C$3,TABMAPEL_XI,DBLOGIC!FU2,FALSE),IF(OR($B$3=\"5 (lima)\",$B$3=\"6 (enam)\"),HLOOKUP($C$3,TABMAPEL_XII,DBLOGIC!FU2,FALSE),IF(OR($B$3=\"7 (tujuh)\",$B$3=\"8 (delapan)\"),HLOOKUP($C$3,TABMAPEL_XIII,DBLOGIC!FU2,FALSE),\"-\"))))","v":{"$error":"#N/A"}},{"$f":"IF(OR($B$3=\"1 (satu)\",$B$3=\"2 (dua)\"),HLOOKUP($C$3,TABMAPEL_X,DBLOGIC!FV2,FALSE),IF(OR($B$3=\"3 (tiga)\",$B$3=\"4 (empat)\"),HLOOKUP($C$3,TABMAPEL_XI,DBLOGIC!FV2,FALSE),IF(OR($B$3=\"5 (lima)\",$B$3=\"6 (enam)\"),HLOOKUP($C$3,TABMAPEL_XII,DBLOGIC!FV2,FALSE),IF(OR($B$3=\"7 (tujuh)\",$B$3=\"8 (delapan)\"),HLOOKUP($C$3,TABMAPEL_XIII,DBLOGIC!FV2,FALSE),\"-\"))))","v":{"$error":"#N/A"}},{"$f":"IF(OR($B$3=\"1 (satu)\",$B$3=\"2 (dua)\"),HLOOKUP($C$3,TABMAPEL_X,DBLOGIC!FW2,FALSE),IF(OR($B$3=\"3 (tiga)\",$B$3=\"4 (empat)\"),HLOOKUP($C$3,TABMAPEL_XI,DBLOGIC!FW2,FALSE),IF(OR($B$3=\"5 (lima)\",$B$3=\"6 (enam)\"),HLOOKUP($C$3,TABMAPEL_XII,DBLOGIC!FW2,FALSE),IF(OR($B$3=\"7 (tujuh)\",$B$3=\"8 (delapan)\"),HLOOKUP($C$3,TABMAPEL_XIII,DBLOGIC!FW2,FALSE),\"-\"))))","v":{"$error":"#N/A"}},{"$f":"IF(OR($B$3=\"1 (satu)\",$B$3=\"2 (dua)\"),HLOOKUP($C$3,TABMAPEL_X,DBLOGIC!FX2,FALSE),IF(OR($B$3=\"3 (tiga)\",$B$3=\"4 (empat)\"),HLOOKUP($C$3,TABMAPEL_XI,DBLOGIC!FX2,FALSE),IF(OR($B$3=\"5 (lima)\",$B$3=\"6 (enam)\"),HLOOKUP($C$3,TABMAPEL_XII,DBLOGIC!FX2,FALSE),IF(OR($B$3=\"7 (tujuh)\",$B$3=\"8 (delapan)\"),HLOOKUP($C$3,TABMAPEL_XIII,DBLOGIC!FX2,FALSE),\"-\"))))","v":{"$error":"#N/A"}},{"$f":"IF(OR($B$3=\"1 (satu)\",$B$3=\"2 (dua)\"),HLOOKUP($C$3,TABMAPEL_X,DBLOGIC!FY2,FALSE),IF(OR($B$3=\"3 (tiga)\",$B$3=\"4 (empat)\"),HLOOKUP($C$3,TABMAPEL_XI,DBLOGIC!FY2,FALSE),IF(OR($B$3=\"5 (lima)\",$B$3=\"6 (enam)\"),HLOOKUP($C$3,TABMAPEL_XII,DBLOGIC!FY2,FALSE),IF(OR($B$3=\"7 (tujuh)\",$B$3=\"8 (delapan)\"),HLOOKUP($C$3,TABMAPEL_XIII,DBLOGIC!FY2,FALSE),\"-\"))))","v":{"$error":"#N/A"}},{"$f":"IF(OR($B$3=\"1 (satu)\",$B$3=\"2 (dua)\"),HLOOKUP($C$3,TABMAPEL_X,DBLOGIC!FZ2,FALSE),IF(OR($B$3=\"3 (tiga)\",$B$3=\"4 (empat)\"),HLOOKUP($C$3,TABMAPEL_XI,DBLOGIC!FZ2,FALSE),IF(OR($B$3=\"5 (lima)\",$B$3=\"6 (enam)\"),HLOOKUP($C$3,TABMAPEL_XII,DBLOGIC!FZ2,FALSE),IF(OR($B$3=\"7 (tujuh)\",$B$3=\"8 (delapan)\"),HLOOKUP($C$3,TABMAPEL_XIII,DBLOGIC!FZ2,FALSE),\"-\"))))","v":{"$error":"#N/A"}},{"$f":"IF(OR($B$3=\"1 (satu)\",$B$3=\"2 (dua)\"),HLOOKUP($C$3,TABMAPEL_X,DBLOGIC!GA2,FALSE),IF(OR($B$3=\"3 (tiga)\",$B$3=\"4 (empat)\"),HLOOKUP($C$3,TABMAPEL_XI,DBLOGIC!GA2,FALSE),IF(OR($B$3=\"5 (lima)\",$B$3=\"6 (enam)\"),HLOOKUP($C$3,TABMAPEL_XII,DBLOGIC!GA2,FALSE),IF(OR($B$3=\"7 (tujuh)\",$B$3=\"8 (delapan)\"),HLOOKUP($C$3,TABMAPEL_XIII,DBLOGIC!GA2,FALSE),\"-\"))))","v":{"$error":"#N/A"}},{"$f":"IF(OR($B$3=\"1 (satu)\",$B$3=\"2 (dua)\"),HLOOKUP($C$3,TABMAPEL_X,DBLOGIC!GB2,FALSE),IF(OR($B$3=\"3 (tiga)\",$B$3=\"4 (empat)\"),HLOOKUP($C$3,TABMAPEL_XI,DBLOGIC!GB2,FALSE),IF(OR($B$3=\"5 (lima)\",$B$3=\"6 (enam)\"),HLOOKUP($C$3,TABMAPEL_XII,DBLOGIC!GB2,FALSE),IF(OR($B$3=\"7 (tujuh)\",$B$3=\"8 (delapan)\"),HLOOKUP($C$3,TABMAPEL_XIII,DBLOGIC!GB2,FALSE),\"-\"))))","v":{"$error":"#N/A"}},null,"Bimbingan dan Konseling","Catatan Aakdemik"]
["Semester  :","8 (delapan)",{"$f":"IF(OR(B3=\"1 (satu)\",B3=\"2 (dua)\"),\"X \"&MENU!F8,IF(OR(B3=\"3 (tiga)\",B3=\"4 (empat)\"),\"XI \"&MENU!F8,IF(OR(B3=\"5 (lima)\",B3=\"6 (enam)\"),\"XII \"&MENU!F8,IF(OR(B3=\"7 (tujuh)\",B3=\"8 (delapan)\"),\"XIII \"&MENU!F8,\"\"))))","v":"XIII TBSM"},{"$f":"HLOOKUP(\"KEL\",TABMAPEL_X,DBLOGIC!Q2,FALSE)","v":"A"},{"$f":"HLOOKUP(\"KEL\",TABMAPEL_X,DBLOGIC!R2,FALSE)","v":"A"},{"$f":"HLOOKUP(\"KEL\",TABMAPEL_X,DBLOGIC!S2,FALSE)","v":"A"},{"$f":"HLOOKUP(\"KEL\",TABMAPEL_X,DBLOGIC!T2,FALSE)","v":"A"},{"$f":"HLOOKUP(\"KEL\",TABMAPEL_X,DBLOGIC!U2,FALSE)","v":"A"},{"$f":"HLOOKUP(\"KEL\",TABMAPEL_X,DBLOGIC!V2,FALSE)","v":"A"},{"$f":"HLOOKUP(\"KEL\",TABMAPEL_X,DBLOGIC!W2,FALSE)","v":"A"},{"$f":"HLOOKUP(\"KEL\",TABMAPEL_X,DBLOGIC!X2,FALSE)","v":"A"},{"$f":"HLOOKUP(\"KEL\",TABMAPEL_X,DBLOGIC!Y2,FALSE)","v":"A"},{"$f":"HLOOKUP(\"KEL\",TABMAPEL_X,DBLOGIC!Z2,FALSE)","v":"A"},{"$f":"HLOOKUP(\"KEL\",TABMAPEL_X,DBLOGIC!AA2,FALSE)","v":"A"},{"$f":"HLOOKUP(\"KEL\",TABMAPEL_X,DBLOGIC!AB2,FALSE)","v":"A"},{"$f":"HLOOKUP(\"KEL\",TABMAPEL_X,DBLOGIC!AC2,FALSE)","v":"A"},{"$f":"HLOOKUP(\"KEL\",TABMAPEL_X,DBLOGIC!AD2,FALSE)","v":"A"},{"$f":"HLOOKUP(\"KEL\",TABMAPEL_X,DBLOGIC!AE2,FALSE)","v":"A"},{"$f":"HLOOKUP(\"KEL\",TABMAPEL_X,DBLOGIC!AF2,FALSE)","v":"A"},{"$f":"HLOOKUP(\"KEL\",TABMAPEL_X,DBLOGIC!AG2,FALSE)","v":"A"},{"$f":"HLOOKUP(\"KEL\",TABMAPEL_X,DBLOGIC!AH2,FALSE)","v":"A"},{"$f":"HLOOKUP(\"KEL\",TABMAPEL_X,DBLOGIC!AI2,FALSE)","v":"A"},{"$f":"HLOOKUP(\"KEL\",TABMAPEL_X,DBLOGIC!AJ2,FALSE)","v":"A"},{"$f":"HLOOKUP(\"KEL\",TABMAPEL_X,DBLOGIC!AK2,FALSE)","v":"A"},{"$f":"HLOOKUP(\"KEL\",TABMAPEL_X,DBLOGIC!AL2,FALSE)","v":"A"},{"$f":"HLOOKUP(\"KEL\",TABMAPEL_X,DBLOGIC!AM2,FALSE)","v":"A"},{"$f":"HLOOKUP(\"KEL\",TABMAPEL_X,DBLOGIC!AN2,FALSE)","v":"A"},{"$f":"HLOOKUP(\"KEL\",TABMAPEL_X,DBLOGIC!AO2,FALSE)","v":"A"},{"$f":"HLOOKUP(\"KEL\",TABMAPEL_X,DBLOGIC!AP2,FALSE)","v":"A"},{"$f":"HLOOKUP(\"KEL\",TABMAPEL_X,DBLOGIC!AQ2,FALSE)","v":"A"},{"$f":"HLOOKUP(\"KEL\",TABMAPEL_X,DBLOGIC!AR2,FALSE)","v":"A"},{"$f":"HLOOKUP(\"KEL\",TABMAPEL_X,DBLOGIC!AS2,FALSE)","v":"A"},{"$f":"HLOOKUP(\"KEL\",TABMAPEL_X,DBLOGIC!AT2,FALSE)","v":"A"},{"$f":"HLOOKUP(\"KEL\",TABMAPEL_X,DBLOGIC!AU2,FALSE)","v":"A"},{"$f":"HLOOKUP(\"KEL\",TABMAPEL_X,DBLOGIC!AV2,FALSE)","v":"A"},{"$f":"HLOOKUP(\"KEL\",TABMAPEL_X,DBLOGIC!AW2,FALSE)","v":"A"},{"$f":"HLOOKUP(\"KEL\",TABMAPEL_X,DBLOGIC!AX2,FALSE)","v":"A"},{"$f":"HLOOKUP(\"KEL\",TABMAPEL_X,DBLOGIC!AY2,FALSE)","v":"A"},{"$f":"HLOOKUP(\"KEL\",TABMAPEL_X,DBLOGIC!AZ2,FALSE)","v":"A"},{"$f":"HLOOKUP(\"KEL\",TABMAPEL_X,DBLOGIC!BA2,FALSE)","v":"A"},{"$f":"HLOOKUP(\"KEL\",TABMAPEL_X,DBLOGIC!BB2,FALSE)","v":"A"},{"$f":"HLOOKUP(\"KEL\",TABMAPEL_X,DBLOGIC!BC2,FALSE)","v":"A"},{"$f":"HLOOKUP(\"KEL\",TABMAPEL_X,DBLOGIC!BD2,FALSE)","v":"A"},{"$f":"HLOOKUP(\"KEL\",TABMAPEL_X,DBLOGIC!BE2,FALSE)","v":"A"},{"$f":"HLOOKUP(\"KEL\",TABMAPEL_X,DBLOGIC!BF2,FALSE)","v":"A"},{"$f":"HLOOKUP(\"KEL\",TABMAPEL_X,DBLOGIC!BG2,FALSE)","v":"A"},{"$f":"HLOOKUP(\"KEL\",TABMAPEL_X,DBLOGIC!BH2,FALSE)","v":"A"},{"$f":"HLOOKUP(\"KEL\",TABMAPEL_X,DBLOGIC!BI2,FALSE)","v":"A"},{"$f":"HLOOKUP(\"KEL\",TABMAPEL_X,DBLOGIC!BJ2,FALSE)","v":"A"},{"$f":"HLOOKUP(\"KEL\",TABMAPEL_X,DBLOGIC!BK2,FALSE)","v":"A"},{"$f":"HLOOKUP(\"KEL\",TABMAPEL_X,DBLOGIC!BL2,FALSE)","v":"A"},{"$f":"HLOOKUP(\"KEL\",TABMAPEL_X,DBLOGIC!BM2,FALSE)","v":"A"},{"$f":"HLOOKUP(\"KEL\",TABMAPEL_X,DBLOGIC!BN2,FALSE)","v":"B"},{"$f":"HLOOKUP(\"KEL\",TABMAPEL_X,DBLOGIC!BO2,FALSE)","v":"B"},{"$f":"HLOOKUP(\"KEL\",TABMAPEL_X,DBLOGIC!BP2,FALSE)","v":"B"},{"$f":"HLOOKUP(\"KEL\",TABMAPEL_X,DBLOGIC!BQ2,FALSE)","v":"B"},{"$f":"HLOOKUP(\"KEL\",TABMAPEL_X,DBLOGIC!BR2,FALSE)","v":"B"},{"$f":"HLOOKUP(\"KEL\",TABMAPEL_X,DBLOGIC!BS2,FALSE)","v":"B"},{"$f":"HLOOKUP(\"KEL\",TABMAPEL_X,DBLOGIC!BT2,FALSE)","v":"B"},{"$f":"HLOOKUP(\"KEL\",TABMAPEL_X,DBLOGIC!BU2,FALSE)","v":"B"},{"$f":"HLOOKUP(\"KEL\",TABMAPEL_X,DBLOGIC!BV2,FALSE)","v":"B"},{"$f":"HLOOKUP(\"KEL\",TABMAPEL_X,DBLOGIC!BW2,FALSE)","v":"B"},{"$f":"HLOOKUP(\"KEL\",TABMAPEL_X,DBLOGIC!BX2,FALSE)","v":"B"},{"$f":"HLOOKUP(\"KEL\",TABMAPEL_X,DBLOGIC!BY2,FALSE)","v":"B"},{"$f":"HLOOKUP(\"KEL\",TABMAPEL_X,DBLOGIC!BZ2,FALSE)","v":"B"},{"$f":"HLOOKUP(\"KEL\",TABMAPEL_X,DBLOGIC!CA2,FALSE)","v":"B"},{"$f":"HLOOKUP(\"KEL\",TABMAPEL_X,DBLOGIC!CB2,FALSE)","v":"C1"},{"$f":"HLOOKUP(\"KEL\",TABMAPEL_X,DBLOGIC!CC2,FALSE)","v":"C1"},{"$f":"HLOOKUP(\"KEL\",TABMAPEL_X,DBLOGIC!CD2,FALSE)","v":"C1"},{"$f":"HLOOKUP(\"KEL\",TABMAPEL_X,DBLOGIC!CE2,FALSE)","v":"C1"},{"$f":"HLOOKUP(\"KEL\",TABMAPEL_X,DBLOGIC!CF2,FALSE)","v":"C1"},{"$f":"HLOOKUP(\"KEL\",TABMAPEL_X,DBLOGIC!CG2,FALSE)","v":"C1"},{"$f":"HLOOKUP(\"KEL\",TABMAPEL_X,DBLOGIC!CH2,FALSE)","v":"C1"},{"$f":"HLOOKUP(\"KEL\",TABMAPEL_X,DBLOGIC!CI2,FALSE)","v":"C1"},{"$f":"HLOOKUP(\"KEL\",TABMAPEL_X,DBLOGIC!CJ2,FALSE)","v":"C1"},{"$f":"HLOOKUP(\"KEL\",TABMAPEL_X,DBLOGIC!CK2,FALSE)","v":"C1"},{"$f":"HLOOKUP(\"KEL\",TABMAPEL_X,DBLOGIC!CL2,FALSE)","v":"C1"},{"$f":"HLOOKUP(\"KEL\",TABMAPEL_X,DBLOGIC!CM2,FALSE)","v":"C1"},{"$f":"HLOOKUP(\"KEL\",TABMAPEL_X,DBLOGIC!CN2,FALSE)","v":"C1"},{"$f":"HLOOKUP(\"KEL\",TABMAPEL_X,DBLOGIC!CO2,FALSE)","v":"C1"},{"$f":"HLOOKUP(\"KEL\",TABMAPEL_X,DBLOGIC!CP2,FALSE)","v":"C1"},{"$f":"HLOOKUP(\"KEL\",TABMAPEL_X,DBLOGIC!CQ2,FALSE)","v":"C1"},{"$f":"HLOOKUP(\"KEL\",TABMAPEL_X,DBLOGIC!CR2,FALSE)","v":"C1"},{"$f":"HLOOKUP(\"KEL\",TABMAPEL_X,DBLOGIC!CS2,FALSE)","v":"C1"},{"$f":"HLOOKUP(\"KEL\",TABMAPEL_X,DBLOGIC!CT2,FALSE)","v":"C1"},{"$f":"HLOOKUP(\"KEL\",TABMAPEL_X,DBLOGIC!CU2,FALSE)","v":"C1"},{"$f":"HLOOKUP(\"KEL\",TABMAPEL_X,DBLOGIC!CV2,FALSE)","v":"C1"},{"$f":"HLOOKUP(\"KEL\",TABMAPEL_X,DBLOGIC!CW2,FALSE)","v":"C2"},{"$f":"HLOOKUP(\"KEL\",TABMAPEL_X,DBLOGIC!CX2,FALSE)","v":"C2"},{"$f":"HLOOKUP(\"KEL\",TABMAPEL_X,DBLOGIC!CY2,FALSE)","v":"C2"},{"$f":"HLOOKUP(\"KEL\",TABMAPEL_X,DBLOGIC!CZ2,FALSE)","v":"C2"},{"$f":"HLOOKUP(\"KEL\",TABMAPEL_X,DBLOGIC!DA2,FALSE)","v":"C2"},{"$f":"HLOOKUP(\"KEL\",TABMAPEL_X,DBLOGIC!DB2,FALSE)","v":"C2"},{"$f":"HLOOKUP(\"KEL\",TABMAPEL_X,DBLOGIC!DC2,FALSE)","v":"C2"},{"$f":"HLOOKUP(\"KEL\",TABMAPEL_X,DBLOGIC!DD2,FALSE)","v":"C2"},{"$f":"HLOOKUP(\"KEL\",TABMAPEL_X,DBLOGIC!DE2,FALSE)","v":"C2"},{"$f":"HLOOKUP(\"KEL\",TABMAPEL_X,DBLOGIC!DF2,FALSE)","v":"C2"},{"$f":"HLOOKUP(\"KEL\",TABMAPEL_X,DBLOGIC!DG2,FALSE)","v":"C2"},{"$f":"HLOOKUP(\"KEL\",TABMAPEL_X,DBLOGIC!DH2,FALSE)","v":"C2"},{"$f":"HLOOKUP(\"KEL\",TABMAPEL_X,DBLOGIC!DI2,FALSE)","v":"C2"},{"$f":"HLOOKUP(\"KEL\",TABMAPEL_X,DBLOGIC!DJ2,FALSE)","v":"C2"},{"$f":"HLOOKUP(\"KEL\",TABMAPEL_X,DBLOGIC!DK2,FALSE)","v":"C2"},{"$f":"HLOOKUP(\"KEL\",TABMAPEL_X,DBLOGIC!DL2,FALSE)","v":"C2"},{"$f":"HLOOKUP(\"KEL\",TABMAPEL_X,DBLOGIC!DM2,FALSE)","v":"C2"},{"$f":"HLOOKUP(\"KEL\",TABMAPEL_X,DBLOGIC!DN2,FALSE)","v":"C2"},{"$f":"HLOOKUP(\"KEL\",TABMAPEL_X,DBLOGIC!DO2,FALSE)","v":"C2"},{"$f":"HLOOKUP(\"KEL\",TABMAPEL_X,DBLOGIC!DP2,FALSE)","v":"C2"},{"$f":"HLOOKUP(\"KEL\",TABMAPEL_X,DBLOGIC!DQ2,FALSE)","v":"C2"},{"$f":"HLOOKUP(\"KEL\",TABMAPEL_X,DBLOGIC!DR2,FALSE)","v":"C2"},{"$f":"HLOOKUP(\"KEL\",TABMAPEL_X,DBLOGIC!DS2,FALSE)","v":"C2"},{"$f":"HLOOKUP(\"KEL\",TABMAPEL_X,DBLOGIC!DT2,FALSE)","v":"C2"},{"$f":"HLOOKUP(\"KEL\",TABMAPEL_X,DBLOGIC!DU2,FALSE)","v":"C2"},{"$f":"HLOOKUP(\"KEL\",TABMAPEL_X,DBLOGIC!DV2,FALSE)","v":"C2"},{"$f":"HLOOKUP(\"KEL\",TABMAPEL_X,DBLOGIC!DW2,FALSE)","v":"C2"},{"$f":"HLOOKUP(\"KEL\",TABMAPEL_X,DBLOGIC!DX2,FALSE)","v":"C2"},{"$f":"HLOOKUP(\"KEL\",TABMAPEL_X,DBLOGIC!DY2,FALSE)","v":"C3"},{"$f":"HLOOKUP(\"KEL\",TABMAPEL_X,DBLOGIC!DZ2,FALSE)","v":"C3"},{"$f":"HLOOKUP(\"KEL\",TABMAPEL_X,DBLOGIC!EA2,FALSE)","v":"C3"},{"$f":"HLOOKUP(\"KEL\",TABMAPEL_X,DBLOGIC!EB2,FALSE)","v":"C3"},{"$f":"HLOOKUP(\"KEL\",TABMAPEL_X,DBLOGIC!EC2,FALSE)","v":"C3"},{"$f":"HLOOKUP(\"KEL\",TABMAPEL_X,DBLOGIC!ED2,FALSE)","v":"C3"},{"$f":"HLOOKUP(\"KEL\",TABMAPEL_X,DBLOGIC!EE2,FALSE)","v":"C3"},{"$f":"HLOOKUP(\"KEL\",TABMAPEL_X,DBLOGIC!EF2,FALSE)","v":"C3"},{"$f":"HLOOKUP(\"KEL\",TABMAPEL_X,DBLOGIC!EG2,FALSE)","v":"C3"},{"$f":"HLOOKUP(\"KEL\",TABMAPEL_X,DBLOGIC!EH2,FALSE)","v":"C3"},{"$f":"HLOOKUP(\"KEL\",TABMAPEL_X,DBLOGIC!EI2,FALSE)","v":"C3"},{"$f":"HLOOKUP(\"KEL\",TABMAPEL_X,DBLOGIC!EJ2,FALSE)","v":"C3"},{"$f":"HLOOKUP(\"KEL\",TABMAPEL_X,DBLOGIC!EK2,FALSE)","v":"C3"},{"$f":"HLOOKUP(\"KEL\",TABMAPEL_X,DBLOGIC!EL2,FALSE)","v":"C3"},{"$f":"HLOOKUP(\"KEL\",TABMAPEL_X,DBLOGIC!EM2,FALSE)","v":"C3"},{"$f":"HLOOKUP(\"KEL\",TABMAPEL_X,DBLOGIC!EN2,FALSE)","v":"C3"},{"$f":"HLOOKUP(\"KEL\",TABMAPEL_X,DBLOGIC!EO2,FALSE)","v":"C3"},{"$f":"HLOOKUP(\"KEL\",TABMAPEL_X,DBLOGIC!EP2,FALSE)","v":"C3"},{"$f":"HLOOKUP(\"KEL\",TABMAPEL_X,DBLOGIC!EQ2,FALSE)","v":"C3"},{"$f":"HLOOKUP(\"KEL\",TABMAPEL_X,DBLOGIC!ER2,FALSE)","v":"C3"},{"$f":"HLOOKUP(\"KEL\",TABMAPEL_X,DBLOGIC!ES2,FALSE)","v":"C3"},{"$f":"HLOOKUP(\"KEL\",TABMAPEL_X,DBLOGIC!ET2,FALSE)","v":"C3"},{"$f":"HLOOKUP(\"KEL\",TABMAPEL_X,DBLOGIC!EU2,FALSE)","v":"C3"},{"$f":"HLOOKUP(\"KEL\",TABMAPEL_X,DBLOGIC!EV2,FALSE)","v":"C3"},{"$f":"HLOOKUP(\"KEL\",TABMAPEL_X,DBLOGIC!EW2,FALSE)","v":"C3"},{"$f":"HLOOKUP(\"KEL\",TABMAPEL_X,DBLOGIC!EX2,FALSE)","v":"C3"},{"$f":"HLOOKUP(\"KEL\",TABMAPEL_X,DBLOGIC!EY2,FALSE)","v":"C3"},{"$f":"HLOOKUP(\"KEL\",TABMAPEL_X,DBLOGIC!EZ2,FALSE)","v":"C3"},{"$f":"HLOOKUP(\"KEL\",TABMAPEL_X,DBLOGIC!FA2,FALSE)","v":"C3"},{"$f":"HLOOKUP(\"KEL\",TABMAPEL_X,DBLOGIC!FB2,FALSE)","v":"C3"},{"$f":"HLOOKUP(\"KEL\",TABMAPEL_X,DBLOGIC!FC2,FALSE)","v":"C3"},{"$f":"HLOOKUP(\"KEL\",TABMAPEL_X,DBLOGIC!FD2,FALSE)","v":"C3"},{"$f":"HLOOKUP(\"KEL\",TABMAPEL_X,DBLOGIC!FE2,FALSE)","v":"C3"},{"$f":"HLOOKUP(\"KEL\",TABMAPEL_X,DBLOGIC!FF2,FALSE)","v":"C3"},{"$f":"HLOOKUP(\"KEL\",TABMAPEL_X,DBLOGIC!FG2,FALSE)","v":"C3"},{"$f":"HLOOKUP(\"KEL\",TABMAPEL_X,DBLOGIC!FH2,FALSE)","v":"C3"},{"$f":"HLOOKUP(\"KEL\",TABMAPEL_X,DBLOGIC!FI2,FALSE)","v":"C3"},{"$f":"HLOOKUP(\"KEL\",TABMAPEL_X,DBLOGIC!FJ2,FALSE)","v":"C3"},{"$f":"HLOOKUP(\"KEL\",TABMAPEL_X,DBLOGIC!FK2,FALSE)","v":"C3"},{"$f":"HLOOKUP(\"KEL\",TABMAPEL_X,DBLOGIC!FL2,FALSE)","v":"C3"},{"$f":"HLOOKUP(\"KEL\",TABMAPEL_X,DBLOGIC!FM2,FALSE)","v":"C3"},{"$f":"HLOOKUP(\"KEL\",TABMAPEL_X,DBLOGIC!FN2,FALSE)","v":"C3"},{"$f":"HLOOKUP(\"KEL\",TABMAPEL_X,DBLOGIC!FO2,FALSE)","v":"M"},{"$f":"HLOOKUP(\"KEL\",TABMAPEL_X,DBLOGIC!FP2,FALSE)","v":"M"},{"$f":"HLOOKUP(\"KEL\",TABMAPEL_X,DBLOGIC!FQ2,FALSE)","v":"M"},{"$f":"HLOOKUP(\"KEL\",TABMAPEL_X,DBLOGIC!FR2,FALSE)","v":"M"},{"$f":"HLOOKUP(\"KEL\",TABMAPEL_X,DBLOGIC!FS2,FALSE)","v":"M"},{"$f":"HLOOKUP(\"KEL\",TABMAPEL_X,DBLOGIC!FT2,FALSE)","v":"M"},{"$f":"HLOOKUP(\"KEL\",TABMAPEL_X,DBLOGIC!FU2,FALSE)","v":"M"},{"$f":"HLOOKUP(\"KEL\",TABMAPEL_X,DBLOGIC!FV2,FALSE)","v":"M"},{"$f":"HLOOKUP(\"KEL\",TABMAPEL_X,DBLOGIC!FW2,FALSE)","v":"M"},{"$f":"HLOOKUP(\"KEL\",TABMAPEL_X,DBLOGIC!FX2,FALSE)","v":"M"},{"$f":"HLOOKUP(\"KEL\",TABMAPEL_X,DBLOGIC!FY2,FALSE)","v":"M"},{"$f":"HLOOKUP(\"KEL\",TABMAPEL_X,DBLOGIC!FZ2,FALSE)","v":"M"},{"$f":"HLOOKUP(\"KEL\",TABMAPEL_X,DBLOGIC!GA2,FALSE)","v":"M"},{"$f":"HLOOKUP(\"KEL\",TABMAPEL_X,DBLOGIC!GB2,FALSE)","v":"M"}]
["Wali Kelas :",{"$f":"TITIMANGSA!D32","v":"Abdul Hapid, S.P"},"URUTAN MAPEL",0,{"$f":"D4","v":0},{"$f":"E4","v":0},0,0,0,0,{"$f":"IF(K2=\"-\",0,MAX($D$4:J4)+1)","v":{"$error":"#N/A"}},{"$f":"K4","v":{"$error":"#N/A"}},{"$error":"#N/A"},{"$error":"#N/A"},{"$error":"#N/A"},{"$error":"#N/A"},{"$error":"#N/A"},{"$f":"IF(R2=\"-\",0,MAX($D$4:Q4)+1)","v":{"$error":"#N/A"}},{"$f":"R4","v":{"$error":"#N/A"}},{"$error":"#N/A"},{"$error":"#N/A"},{"$error":"#N/A"},{"$error":"#N/A"},{"$error":"#N/A"},{"$f":"IF(Y2=\"-\",0,MAX($D$4:X4)+1)","v":{"$error":"#N/A"}},{"$f":"Y4","v":{"$error":"#N/A"}},{"$error":"#N/A"},{"$error":"#N/A"},{"$error":"#N/A"},{"$error":"#N/A"},{"$error":"#N/A"},{"$f":"IF(AF2=\"-\",0,MAX($D$4:AE4)+1)","v":{"$error":"#N/A"}},{"$f":"AF4","v":{"$error":"#N/A"}},{"$error":"#N/A"},{"$error":"#N/A"},{"$error":"#N/A"},{"$error":"#N/A"},{"$error":"#N/A"},{"$f":"IF(AM2=\"-\",0,MAX($D$4:AL4)+1)","v":{"$error":"#N/A"}},{"$f":"AM4","v":{"$error":"#N/A"}},{"$error":"#N/A"},{"$error":"#N/A"},{"$error":"#N/A"},{"$error":"#N/A"},{"$error":"#N/A"},{"$f":"IF(AT2=\"-\",0,MAX($D$4:AS4)+1)","v":{"$error":"#N/A"}},{"$f":"AT4","v":{"$error":"#N/A"}},{"$error":"#N/A"},{"$error":"#N/A"},{"$error":"#N/A"},{"$error":"#N/A"},{"$error":"#N/A"},{"$f":"IF(BA2=\"-\",0,MAX($D$4:AZ4)+1)","v":{"$error":"#N/A"}},{"$f":"BA4","v":{"$error":"#N/A"}},{"$error":"#N/A"},{"$error":"#N/A"},{"$error":"#N/A"},{"$error":"#N/A"},{"$error":"#N/A"},{"$f":"IF(BH2=\"-\",0,MAX($D$4:BG4)+1)","v":{"$error":"#N/A"}},{"$f":"BH4","v":{"$error":"#N/A"}},{"$error":"#N/A"},{"$error":"#N/A"},{"$error":"#N/A"},{"$error":"#N/A"},{"$error":"#N/A"},{"$f":"IF(BO2=\"-\",0,MAX($D$4:BN4)+1)","v":{"$error":"#N/A"}},{"$f":"BO4","v":{"$error":"#N/A"}},{"$error":"#N/A"},{"$error":"#N/A"},{"$error":"#N/A"},{"$error":"#N/A"},{"$error":"#N/A"},{"$f":"IF(BV2=\"-\",0,MAX($D$4:BU4)+1)","v":{"$error":"#N/A"}},{"$f":"BV4","v":{"$error":"#N/A"}},{"$error":"#N/A"},{"$error":"#N/A"},{"$error":"#N/A"},{"$error":"#N/A"},{"$error":"#N/A"},{"$f":"IF(CC2=\"-\",0,MAX($D$4:CB4)+1)","v":{"$error":"#N/A"}},{"$f":"CC4","v":{"$error":"#N/A"}},{"$error":"#N/A"},{"$error":"#N/A"},{"$error":"#N/A"},{"$error":"#N/A"},{"$error":"#N/A"},{"$f":"IF(CJ2=\"-\",0,MAX($D$4:CI4)+1)","v":{"$error":"#N/A"}},{"$f":"CJ4","v":{"$error":"#N/A"}},{"$error":"#N/A"},{"$error":"#N/A"},{"$error":"#N/A"},{"$error":"#N/A"},{"$error":"#N/A"},{"$f":"IF(CQ2=\"-\",0,MAX($D$4:CP4)+1)","v":{"$error":"#N/A"}},{"$f":"CQ4","v":{"$error":"#N/A"}},{"$error":"#N/A"},{"$error":"#N/A"},{"$error":"#N/A"},{"$error":"#N/A"},{"$error":"#N/A"},{"$f":"IF(CX2=\"-\",0,MAX($D$4:CW4)+1)","v":{"$error":"#N/A"}},{"$f":"CX4","v":{"$error":"#N/A"}},{"$error":"#N/A"},{"$error":"#N/A"},{"$error":"#N/A"},{"$error":"#N/A"},{"$error":"#N/A"},{"$f":"IF(DE2=\"-\",0,MAX($D$4:DD4)+1)","v":{"$error":"#N/A"}},{"$f":"DE4","v":{"$error":"#N/A"}},{"$error":"#N/A"},{"$error":"#N/A"},{"$error":"#N/A"},{"$error":"#N/A"},{"$error":"#N/A"},{"$f":"IF(DL2=\"-\",0,MAX($D$4:DK4)+1)","v":{"$error":"#N/A"}},{"$f":"DL4","v":{"$error":"#N/A"}},{"$error":"#N/A"},{"$error":"#N/A"},{"$error":"#N/A"},{"$error":"#N/A"},{"$error":"#N/A"},{"$f":"IF(DS2=\"-\",0,MAX($D$4:DR4)+1)","v":{"$error":"#N/A"}},{"$f":"DS4","v":{"$error":"#N/A"}},{"$error":"#N/A"},{"$error":"#N/A"},{"$error":"#N/A"},{"$error":"#N/A"},{"$error":"#N/A"},{"$f":"IF(DZ2=\"-\",0,MAX($D$4:DY4)+1)","v":{"$error":"#N/A"}},{"$f":"DZ4","v":{"$error":"#N/A"}},{"$error":"#N/A"},{"$error":"#N/A"},{"$error":"#N/A"},{"$error":"#N/A"},{"$error":"#N/A"},{"$f":"IF(EG2=\"-\",0,MAX($D$4:EF4)+1)","v":{"$error":"#N/A"}},{"$f":"EG4","v":{"$error":"#N/A"}},{"$error":"#N/A"},{"$error":"#N/A"},{"$error":"#N/A"},{"$error":"#N/A"},{"$error":"#N/A"},{"$f":"IF(EN2=\"-\",0,MAX($D$4:EM4)+1)","v":{"$error":"#N/A"}},{"$f":"EN4","v":{"$error":"#N/A"}},{"$error":"#N/A"},{"$error":"#N/A"},{"$error":"#N/A"},{"$error":"#N/A"},{"$error":"#N/A"},{"$f":"IF(EU2=\"-\",0,MAX($D$4:ET4)+1)","v":{"$error":"#N/A"}},{"$f":"EU4","v":{"$error":"#N/A"}},{"$error":"#N/A"},{"$error":"#N/A"},{"$error":"#N/A"},{"$error":"#N/A"},{"$error":"#N/A"},{"$f":"IF(FB2=\"-\",0,MAX($D$4:FA4)+1)","v":{"$error":"#N/A"}},{"$f":"FB4","v":{"$error":"#N/A"}},{"$error":"#N/A"},{"$error":"#N/A"},{"$error":"#N/A"},{"$error":"#N/A"},{"$error":"#N/A"},{"$f":"IF(FI2=\"-\",0,MAX($D$4:FH4)+1)","v":{"$error":"#N/A"}},{"$f":"FI4","v":{"$error":"#N/A"}},{"$error":"#N/A"},{"$error":"#N/A"},{"$error":"#N/A"},{"$error":"#N/A"},{"$error":"#N/A"}]
[{"$f":"TITIMANGSA!D31","v":0},{"$f":"TITIMANGSA!D33","v":"19680917 200012 1 003"},"KKM",78,78,78,78,78,78,78,78,78,78,78,78,78,78,78,78,78,78,78,78,78,78,78,78,78,78,78,78,78,78,78,78,78,78,78,78,78,78,78,78,78,78,78,78,78,78,78,78,78,78,78,78,78,78,78,78,78,78,78,78,78,78,78,78,78,78,78,78,78,78,78,78,78,78,78,78,78,78,78,78,78,78,78,78,78,78,78,78,78,78,78,78,78,78,78,78,78,78,78,78,78,78,78,78,78,78,78,78,78,78,78,78,78,78,78,78,78,78,78,78,78,78,78,78,78,78,78,78,78,78,78,78,78,78,78,78,78,78,78,78,78,78,78,78,78,78,78,78,78,78,78,78,78,78,78,78,78,78,78,78,78,78,78,78,78,78,78,78]
[null,null,"TOPIK PER KD",1,null,2,null,3,null,"-",{"$f":"H6+1","v":4},null,{"$f":"K6+1","v":5},null,{"$f":"M6+1","v":6},null,"-",{"$f":"O6+1","v":7},null,{"$f":"R6+1","v":8},null,{"$f":"T6+1","v":9},null,"-",{"$f":"V6+1","v":10},null,{"$f":"Y6+1","v":11},null,{"$f":"AA6+1","v":12},null,"-",{"$f":"AC6+1","v":13},null,{"$f":"AF6+1","v":14},null,{"$f":"AH6+1","v":15},null,"-",{"$f":"AJ6+1","v":16},null,{"$f":"AM6+1","v":17},null,{"$f":"AO6+1","v":18},null,"-",{"$f":"AQ6+1","v":19},null,{"$f":"AT6+1","v":20},null,{"$f":"AV6+1","v":21},null,"-",{"$f":"AX6+1","v":22},null,{"$f":"BA6+1","v":23},null,{"$f":"BC6+1","v":24},null,"-",{"$f":"BE6+1","v":25},null,{"$f":"BH6+1","v":26},null,{"$f":"BJ6+1","v":27},null,"-",{"$f":"BL6+1","v":28},null,{"$f":"BO6+1","v":29},null,{"$f":"BQ6+1","v":30},null,"-",{"$f":"BS6+1","v":31},null,{"$f":"BV6+1","v":32},null,{"$f":"BX6+1","v":33},null,"-",{"$f":"BZ6+1","v":34},null,{"$f":"CC6+1","v":35},null,{"$f":"CE6+1","v":36},null,"-",{"$f":"CG6+1","v":37},null,{"$f":"CJ6+1","v":38},null,{"$f":"CL6+1","v":39},null,"-",{"$f":"CN6+1","v":40},null,{"$f":"CQ6+1","v":41},null,{"$f":"CS6+1","v":42},null,"-",{"$f":"CU6+1","v":43},null,{"$f":"CX6+1","v":44},null,{"$f":"CZ6+1","v":45},null,"-",{"$f":"DB6+1","v":46},null,{"$f":"DE6+1","v":47},null,{"$f":"DG6+1","v":48},null,"-",{"$f":"DI6+1","v":49},null,{"$f":"DL6+1","v":50},null,{"$f":"DN6+1","v":51},null,"-",{"$f":"DP6+1","v":52},null,{"$f":"DS6+1","v":53},null,{"$f":"DU6+1","v":54},null,"-",{"$f":"DW6+1","v":55},null,{"$f":"DZ6+1","v":56},null,{"$f":"EB6+1","v":57},null,"-",{"$f":"ED6+1","v":58},null,{"$f":"EG6+1","v":59},null,{"$f":"EI6+1","v":60},null,"-",{"$f":"EK6+1","v":61},null,{"$f":"EN6+1","v":62},null,{"$f":"EP6+1","v":63},null,"-",{"$f":"ER6+1","v":64},null,{"$f":"EU6+1","v":65},null,{"$f":"EW6+1","v":66},null,"-",{"$f":"EY6+1","v":67},null,{"$f":"FB6+1","v":68},null,{"$f":"FD6+1","v":69},null,"-",{"$f":"FF6+1","v":70},null,{"$f":"FI6+1","v":71},null,{"$f":"FK6+1","v":72},null,"-"]
["NO. URUT","NAMA SISWA","NIS",2,{"$f":"D7+1","v":3},4,5,6,7,8,9,10,11,12,13,14,15,16,17,18,19,20,21,22,23,24,25,26,27,28,29,30,31,32,33,34,35,36,37,38,39,40,41,42,43,44,45,46,47,48,49,50,51,52,53,54,55,56,57,58,59,60,61,62,63,64,65,66,{"$f":"BP7+1","v":67},68,69,70,71,72,73,74,75,76,77,78,79,80,81,82,83,84,85,86,87,88,89,90,91,92,93,94,95,96,97,98,99,100,101,102,103,104,105,106,107,108,109,110,111,112,113,114,115,116,117,118,119,120,121,122,123,124,125,126,127,128,129,130,{"$f":"EB7+1","v":131},132,133,134,135,136,137,138,139,140,141,142,143,144,145,146,147,148,149,150,151,152,153,154,155,156,157,158,159,160,161,162,163,164,165,166,167,168,169,170,171,172]
[{"$f":"BIODATA!A5","v":1},{"$f":"BIODATA!C5","v":"ADAM ADIYAT HARTANTO"},{"$f":"BIODATA!D5","v":16170535},21,{"$f":"D8+1","v":22},{"$f":"IF(E8=100,75,E8+1)","v":23},24,25,26,27,28,29,30,31,32,33,34,35,36,37,38,{"$f":"IF(U8=100,75,U8+1)","v":39},40,41,42,43,44,45,46,47,48,49,50,51,52,53,54,{"$f":"IF(AK8=100,75,AK8+1)","v":55},56,57,58,59,60,61,62,63,64,65,66,67,68,69,70,{"$f":"IF(BA8=100,75,BA8+1)","v":71},72,73,74,75,76,77,78,79,80,81,82,83,84,85,86,{"$f":"IF(BQ8=100,75,BQ8+1)","v":87},88,89,90,91,92,93,94,95,96,97,98,99,100,75,76,{"$f":"IF(CG8=100,75,CG8+1)","v":77},78,79,80,81,82,83,84,85,86,87,88,89,90,91,92,{"$f":"IF(CW8=100,75,CW8+1)","v":93},94,95,96,97,98,99,100,75,76,77,78,79,80,81,82,{"$f":"IF(DM8=100,75,DM8+1)","v":83},84,85,86,87,88,89,90,91,92,93,94,95,96,97,98,{"$f":"IF(EC8=100,75,EC8+1)","v":99},100,75,76,77,78,79,80,81,82,83,84,85,86,87,88,{"$f":"IF(ES8=100,75,ES8+1)","v":89},90,91,92,93,94,95,96,97,98,99,100,75,76,77,78,{"$f":"IF(FI8=100,75,FI8+1)","v":79},80,81,82,83,84]
[{"$f":"BIODATA!A6","v":2},{"$f":"BIODATA!C6","v":"ADAM MAULANA RIZALDI"},{"$f":"BIODATA!D6","v":16170449},11,{"$f":"IF(D9=100,75,D9+1)","v":12},13,14,15,16,17,18,19,20,21,22,23,24,25,26,27,28,29,30,31,32,33,34,35,36,37,38,39,40,41,42,43,44,45,46,47,48,49,50,51,52,53,54,55,56,57,58,59,60,61,62,63,64,65,66,67,68,69,70,71,72,73,74,75,76,77,78,79,80,81,82,83,84,85,86,87,88,89,90,91,92,93,94,95,96,97,98,99,100,75,76,77,78,79,80,81,82,83,84,85,86,87,88,89,90,91,92,93,94,95,96,97,98,99,100,75,76,77,78,79,80,81,82,83,84,85,86,87,88,89,90,91,92,93,94,95,96,97,98,99,100,75,76,77,78,79,80,81,82,83,84,85,86,87,88,89,90,91,92,93,94,95,96,97,98,99,100]
[{"$f":"BIODATA!A7","v":3},{"$f":"BIODATA!C7","v":"BAGAS ADJI PRIANTOMO"},{"$f":"BIODATA!D7","v":16170371},21,22,23,24,25,26,27,28,29,30,31,32,33,34,35,36,37,38,39,40,41,42,43,44,45,46,47,48,49,50,51,52,53,54,55,56,57,58,59,60,61,62,63,64,65,66,67,68,69,70,71,72,73,74,75,76,77,78,79,80,81,82,83,84,85,86,87,88,89,90,91,92,93,94,95,96,97,98,99,100,75,76,77,78,79,80,81,82,83,84,85,86,87,88,89,90,91,92,93,94,95,96,97,98,99,100,75,76,77,78,79,80,81,82,83,84,85,86,87,88,89,90,91,92,93,94,95,96,97,98,99,100,75,76,77,78,79,80,81,82,83,84,85,86,87,88,89,90,91,92,93,94,95,96,97,98,99,100,75,76,77,78,79,80,81,82,83,84]
[{"$f":"BIODATA!A8","v":4},{"$f":"BIODATA!C8","v":"CARWAN HIDAYAT"},{"$f":"BIODATA!D8","v":16170585}]
[{"$f":"BIODATA!A9","v":5},{"$f":"BIODATA!C9","v":"CEPI YANWARI"},{"$f":"BIODATA!D9","v":16170586}]
[{"$f":"BIODATA!A10","v":6},{"$f":"BIODATA!C10","v":"DEDE MAULANA RUSDIANTA"},{"$f":"BIODATA!D10","v":16170414}]
[{"$f":"BIODATA!A11","v":7},{"$f":"BIODATA!C11","v":"DEDI ROCHMAN"},{"$f":"BIODATA!D11","v":16170457}]
[{"$f":"BIODATA!A12","v":8},{"$f":"BIODATA!C12","v":"DIMAS YOGA AJI SETIAWAN"},{"$f":"BIODATA!D12","v":16170546}]
[{"$f":"BIODATA!A13","v":9},{"$f":"BIODATA!C13","v":"ERIK PRIHASABA PEBRIANSYAH"},{"$f":"BIODATA!D13","v":16170547}]
[{"$f":"BIODATA!A14","v":10},{"$f":"BIODATA!C14","v":"GALIH RAKASIWI"},{"$f":"BIODATA!D14","v":16170464}]
[{"$f":"BIODATA!A15","v":11},{"$f":"BIODATA!C15","v":"JOHANI"},{"$f":"BIODATA!D15","v":16170468}]
[{"$f":"BIODATA!A16","v":12},{"$f":"BIODATA!C16","v":"LATHIF FERIANSYAH"},{"$f":"BIODATA!D16","v":16170675}]
[{"$f":"BIODATA!A17","v":13},{"$f":"BIODATA!C17","v":"MAULANA JUHRI"},{"$f":"BIODATA!D17","v":16170423}]
[{"$f":"BIODATA!A18","v":14},{"$f":"BIODATA!C18","v":"MOHAMMAD HERRY ALFAJRI"},{"$f":"BIODATA!D18","v":16170473}]
[{"$f":"BIODATA!A19","v":15},{"$f":"BIODATA!C19","v":"MUHAMAD SIDI"},{"$f":"BIODATA!D19","v":16170426}]
[{"$f":"BIODATA!A20","v":16},{"$f":"BIODATA!C20","v":"MUHAMMAD ARDI RUHYAT"},{"$f":"BIODATA!D20","v":16170427}]
[{"$f":"BIODATA!A21","v":17},{"$f":"BIODATA!C21","v":"MUHAMMAD FIKRI AWALUDIN"},{"$f":"BIODATA!D21","v":16170429}]
[{"$f":"BIODATA!A22","v":18},{"$f":"BIODATA!C22","v":"MUHAMMAD PADILAH"},{"$f":"BIODATA!D22","v":16170428}]
[{"$f":"BIODATA!A23","v":19},{"$f":"BIODATA!C23","v":"MUHIBU FATHURROHMAN"},{"$f":"BIODATA!D23","v":16170430}]
[{"$f":"BIODATA!A24","v":20},{"$f":"BIODATA!C24","v":"OKKE KINDI ADI PANGESTU"},{"$f":"BIODATA!D24","v":16170391}]
[{"$f":"BIODATA!A25","v":21},{"$f":"BIODATA!C25","v":"RAMADHAN"},{"$f":"BIODATA!D25","v":"16170480"}]
[{"$f":"BIODATA!A26","v":22},{"$f":"BIODATA!C26","v":"RENDY RAHMADI"},{"$f":"BIODATA!D26","v":16170683}]
[{"$f":"BIODATA!A27","v":23},{"$f":"BIODATA!C27","v":"RIFAN BAGUS ALDIANSYAH"},{"$f":"BIODATA!D27","v":16170433}]
[{"$f":"BIODATA!A28","v":24},{"$f":"BIODATA!C28","v":"RIVAL MAULANA"},{"$f":"BIODATA!D28","v":16170601}]
[{"$f":"BIODATA!A29","v":25},{"$f":"BIODATA!C29","v":"RIZKY FADHILAH"},{"$f":"BIODATA!D29","v":16170643}]
[{"$f":"BIODATA!A30","v":26},{"$f":"BIODATA!C30","v":"ROHMADI MUCHTAR"},{"$f":"BIODATA!D30","v":16170642}]
[{"$f":"BIODATA!A31","v":27},{"$f":"BIODATA!C31","v":"TANGGUH PRASETIA SUHARNA"},{"$f":"BIODATA!D31","v":16170605}]
[{"$f":"BIODATA!A32","v":28},{"$f":"BIODATA!C32","v":"TARIZ MAULIZIDANE FAZILLA"},{"$f":"BIODATA!D32","v":16170606}]
[{"$f":"BIODATA!A33","v":29},{"$f":"BIODATA!C33","v":"TUBAGUS AJANG SUMBOGA"},{"$f":"BIODATA!D33","v":16170443}]
[{"$f":"BIODATA!A34","v":30},{"$f":"BIODATA!C34","v":"WIKSAN ZUJALIS"},{"$f":"BIODATA!D34","v":16170611}]
[{"$f":"BIODATA!A35","v":31},{"$f":"BIODATA!C35","v":"YUNAN DWI SASONGKO"},{"$f":"BIODATA!D35","v":16170448}]
[{"$f":"BIODATA!A36","v":"-"},{"$f":"BIODATA!C36","v":0},{"$f":"BIODATA!D36","v":0}]
[{"$f":"BIODATA!A37","v":"-"},{"$f":"BIODATA!C37","v":0},{"$f":"BIODATA!D37","v":0}]
[{"$f":"BIODATA!A38","v":"-"},{"$f":"BIODATA!C38","v":0},{"$f":"BIODATA!D38","v":0}]
[{"$f":"BIODATA!A39","v":"-"},{"$f":"BIODATA!C39","v":0},{"$f":"BIODATA!D39","v":0}]
[{"$f":"BIODATA!A40","v":"-"},{"$f":"BIODATA!C40","v":0},{"$f":"BIODATA!D40","v":0}]
[]
[]
[]
[]
[]
[]
[]
[]
[]
[]
[]
[]
[]
[]
[]
[]
[]
[]
[]
[]
[]
[null,null,null,3.59]
[null,null,null,3.59]
[null,null,null,3.5]
[null,null,null,3.48]
[null,null,null,3.54]
[null,null,null,3.39]
[null,null,null,3.45]
[null,null,null,3.45]
[null,null,null,3.29]
[null,null,null,3.45]
[null,null,null,3.45]
[null,null,null,3.45]

{"sheet":"Macro1","index":33,"n_rows":0,"n_cols":0,"rows_kept":0,"cut":false,"hidden":true,"merged":[]}