{"text_format":"1","workbook":"xlsx","n_sheets":3,"sheets":["DB","NILAIX","Macro1"],"not_rendered":{"charts":0,"images":0,"macros":1,"external_links":1,"defined_names":11,"comments":0,"pivot_tables":0},"unopened":[],"bounds":{"document_bytes":16777216,"sheet_cells":100000,"rows_first":2000,"rows_last":500,"rows_between":2000,"halvings":0,"cell_chars":16384,"cell_head_chars":4096},"cells_cut":0,"cells_raw":0,"read":"whole","date_system":"1900"}

{"sheet":"DB","index":0,"n_rows":184,"n_cols":541,"rows_kept":184,"cut":false,"hidden":false,"merged":[[4,2,33,2],[154,2,183,2],[34,2,63,2],[64,2,93,2],[94,2,123,2],[124,2,153,2]]}
[1,{"$f":"A1+1","v":2},{"$f":"B1","v":2},{"$f":"B1","v":2},{"$f":"B1+1","v":3},{"$f":"E1","v":3},{"$f":"E1","v":3},{"$f":"G1+1","v":4},{"$f":"H1","v":4},{"$f":"H1","v":4},{"$f":"J1+1","v":5},{"$f":"K1","v":5},{"$f":"K1","v":5},{"$f":"M1+1","v":6},{"$f":"N1","v":6},{"$f":"N1","v":6},{"$f":"P1+1","v":7},{"$f":"Q1","v":7},{"$f":"Q1","v":7},{"$f":"S1+1","v":8},{"$f":"T1","v":8},{"$f":"T1","v":8},{"$f":"V1+1","v":9},{"$f":"W1","v":9},{"$f":"W1","v":9},{"$f":"Y1+1","v":10},{"$f":"Z1","v":10},{"$f":"Z1","v":10},{"$f":"AB1+1","v":11},{"$f":"AC1","v":11},{"$f":"AC1","v":11},{"$f":"AE1+1","v":12},{"$f":"AF1","v":12},{"$f":"AF1","v":12},{"$f":"AH1+1","v":13},{"$f":"AI1","v":13},{"$f":"AI1","v":13},{"$f":"AK1+1","v":14},{"$f":"AL1","v":14},{"$f":"AL1","v":14},{"$f":"AN1+1","v":15},{"$f":"AO1","v":15},{"$f":"AO1","v":15},{"$f":"AQ1+1","v":16},{"$f":"AR1","v":16},{"$f":"AR1","v":16},{"$f":"AT1+1","v":17},{"$f":"AU1","v":17},{"$f":"AU1","v":17},{"$f":"AW1+1","v":18},{"$f":"AX1","v":18},{"$f":"AX1","v":18},{"$f":"AZ1+1","v":19},{"$f":"BA1","v":19},{"$f":"BA1","v":19},{"$f":"BC1+1","v":20},{"$f":"BD1","v":20},{"$f":"BD1","v":20},{"$f":"BF1+1","v":21},{"$f":"BG1","v":21},{"$f":"BG1","v":21},{"$f":"BI1+1","v":22},{"$f":"BJ1","v":22},{"$f":"BJ1","v":22},{"$f":"BL1+1","v":23},{"$f":"BM1","v":23},{"$f":"BM1","v":23},{"$f":"BO1+1","v":24},{"$f":"BP1","v":24},{"$f":"BP1","v":24},{"$f":"BR1+1","v":25},{"$f":"BS1","v":25},{"$f":"BS1","v":25},{"$f":"BU1+1","v":26},{"$f":"BV1","v":26},{"$f":"BV1","v":26},{"$f":"BX1+1","v":27},{"$f":"BY1","v":27},{"$f":"BY1","v":27},{"$f":"CA1+1","v":28},{"$f":"CB1","v":28},{"$f":"CB1","v":28},{"$f":"CD1+1","v":29},{"$f":"CE1","v":29},{"$f":"CE1","v":29},{"$f":"CG1+1","v":30},{"$f":"CH1","v":30},{"$f":"CH1","v":30},{"$f":"CJ1+1","v":31},{"$f":"CK1","v":31},{"$f":"CK1","v":31},{"$f":"CM1+1","v":32},{"$f":"CN1","v":32},{"$f":"CN1","v":32},{"$f":"CP1+1","v":33},{"$f":"CQ1","v":33},{"$f":"CQ1","v":33},{"$f":"CS1+1","v":34},{"$f":"CT1","v":34},{"$f":"CT1","v":34},{"$f":"CV1+1","v":35},{"$f":"CW1","v":35},{"$f":"CW1","v":35},{"$f":"CY1+1","v":36},{"$f":"CZ1","v":36},{"$f":"CZ1","v":36},{"$f":"DB1+1","v":37},{"$f":"DC1","v":37},{"$f":"DC1","v":37},{"$f":"DE1+1","v":38},{"$f":"DF1","v":38},{"$f":"DF1","v":38},{"$f":"DH1+1","v":39},{"$f":"DI1","v":39},{"$f":"DI1","v":39},{"$f":"DK1+1","v":40},{"$f":"DL1","v":40},{"$f":"DL1","v":40},{"$f":"DN1+1","v":41},{"$f":"DO1","v":41},{"$f":"DO1","v":41},{"$f":"DQ1+1","v":42},{"$f":"DR1","v":42},{"$f":"DR1","v":42},{"$f":"DT1+1","v":43},{"$f":"DU1","v":43},{"$f":"DU1","v":43},{"$f":"DW1+1","v":44},{"$f":"DX1","v":44},{"$f":"DX1","v":44},{"$f":"DZ1+1","v":45},{"$f":"EA1","v":45},{"$f":"EA1","v":45},{"$f":"EC1+1","v":46},{"$f":"ED1","v":46},{"$f":"ED1","v":46},{"$f":"EF1+1","v":47},{"$f":"EG1","v":47},{"$f":"EG1","v":47},{"$f":"EI1+1","v":48},{"$f":"EJ1","v":48},{"$f":"EJ1","v":48},{"$f":"EL1+1","v":49},{"$f":"EM1","v":49},{"$f":"EM1","v":49},{"$f":"EO1+1","v":50},{"$f":"EP1","v":50},{"$f":"EP1","v":50},{"$f":"ER1+1","v":51},{"$f":"ES1","v":51},{"$f":"ES1","v":51},{"$f":"EU1+1","v":52},{"$f":"EV1","v":52},{"$f":"EV1","v":52},{"$f":"EX1+1","v":53},{"$f":"EY1","v":53},{"$f":"EY1","v":53},{"$f":"FA1+1","v":54},{"$f":"FB1","v":54},{"$f":"FB1","v":54},{"$f":"FD1+1","v":55},{"$f":"FE1","v":55},{"$f":"FE1","v":55},{"$f":"FG1+1","v":56},{"$f":"FH1","v":56},{"$f":"FH1","v":56},{"$f":"FJ1+1","v":57},{"$f":"FK1","v":57},{"$f":"FK1","v":57},{"$f":"FM1+1","v":58},{"$f":"FN1","v":58},{"$f":"FN1","v":58},{"$f":"FP1+1","v":59},{"$f":"FQ1","v":59},{"$f":"FQ1","v":59},{"$f":"FS1+1","v":60},{"$f":"FT1","v":60},{"$f":"FT1","v":60},{"$f":"FV1+1","v":61},{"$f":"FW1","v":61},{"$f":"FW1","v":61},{"$f":"FY1+1","v":62},{"$f":"FZ1","v":62},{"$f":"FZ1","v":62},{"$f":"GB1+1","v":63},{"$f":"GC1","v":63},{"$f":"GC1","v":63},{"$f":"GE1+1","v":64},{"$f":"GF1","v":64},{"$f":"GF1","v":64},{"$f":"GH1+1","v":65},{"$f":"GI1","v":65},{"$f":"GI1","v":65},{"$f":"GK1+1","v":66},{"$f":"GL1","v":66},{"$f":"GL1","v":66},{"$f":"GN1+1","v":67},{"$f":"GO1","v":67},{"$f":"GO1","v":67},{"$f":"GQ1+1","v":68},{"$f":"GR1","v":68},{"$f":"GR1","v":68},{"$f":"GT1+1","v":69},{"$f":"GU1","v":69},{"$f":"GU1","v":69},{"$f":"GW1+1","v":70},{"$f":"GX1","v":70},{"$f":"GX1","v":70},{"$f":"GZ1+1","v":71},{"$f":"HA1","v":71},{"$f":"HA1","v":71},{"$f":"HC1+1","v":72},{"$f":"HD1","v":72},{"$f":"HD1","v":72},{"$f":"HF1+1","v":73},{"$f":"HG1","v":73},{"$f":"HG1","v":73},{"$f":"HI1+1","v":74},{"$f":"HJ1","v":74},{"$f":"HJ1","v":74},{"$f":"HL1+1","v":75},{"$f":"HM1","v":75},{"$f":"HM1","v":75},{"$f":"HO1+1","v":76},{"$f":"HP1","v":76},{"$f":"HP1","v":76},{"$f":"HR1+1","v":77},{"$f":"HS1","v":77},{"$f":"HS1","v":77},{"$f":"HU1+1","v":78},{"$f":"HV1","v":78},{"$f":"HV1","v":78},{"$f":"HX1+1","v":79},{"$f":"HY1","v":79},{"$f":"HY1","v":79},{"$f":"IA1+1","v":80},{"$f":"IB1","v":80},{"$f":"IB1","v":80},{"$f":"ID1+1","v":81},{"$f":"IE1","v":81},{"$f":"IE1","v":81},{"$f":"IG1+1","v":82},{"$f":"IH1","v":82},{"$f":"IH1","v":82},{"$f":"IJ1+1","v":83},{"$f":"IK1","v":83},{"$f":"IK1","v":83},{"$f":"IM1+1","v":84},{"$f":"IN1","v":84},{"$f":"IN1","v":84},{"$f":"IP1+1","v":85},{"$f":"IQ1","v":85},{"$f":"IQ1","v":85},{"$f":"IS1+1","v":86},{"$f":"IT1","v":86},{"$f":"IT1","v":86},{"$f":"IV1+1","v":87},{"$f":"IW1","v":87},{"$f":"IW1","v":87},{"$f":"IY1+1","v":88},{"$f":"IZ1","v":88},{"$f":"IZ1","v":88},{"$f":"JB1+1","v":89},{"$f":"JC1","v":89},{"$f":"JC1","v":89},{"$f":"JE1+1","v":90},{"$f":"JF1","v":90},{"$f":"JF1","v":90},{"$f":"JH1+1","v":91},{"$f":"JI1","v":91},{"$f":"JI1","v":91},{"$f":"JK1+1","v":92},{"$f":"JL1","v":92},{"$f":"JL1","v":92},{"$f":"JN1+1","v":93},{"$f":"JO1","v":93},{"$f":"JO1","v":93},{"$f":"JQ1+1","v":94},{"$f":"JR1","v":94},{"$f":"JR1","v":94},{"$f":"JT1+1","v":95},{"$f":"JU1","v":95},{"$f":"JU1","v":95},{"$f":"JW1+1","v":96},{"$f":"JX1","v":96},{"$f":"JX1","v":96},{"$f":"JZ1+1","v":97},{"$f":"KA1","v":97},{"$f":"KA1","v":97},{"$f":"KC1+1","v":98},{"$f":"KD1","v":98},{"$f":"KD1","v":98},{"$f":"KF1+1","v":99},{"$f":"KG1","v":99},{"$f":"KG1","v":99},{"$f":"KI1+1","v":100},{"$f":"KJ1","v":100},{"$f":"KJ1","v":100},{"$f":"KL1+1","v":101},{"$f":"KM1","v":101},{"$f":"KM1","v":101},{"$f":"KO1+1","v":102},{"$f":"KP1","v":102},{"$f":"KP1","v":102},{"$f":"KR1+1","v":103},{"$f":"KS1","v":103},{"$f":"KS1","v":103},{"$f":"KU1+1","v":104},{"$f":"KV1","v":104},{"$f":"KV1","v":104},{"$f":"KX1+1","v":105},{"$f":"KY1","v":105},{"$f":"KY1","v":105},{"$f":"LA1+1","v":106},{"$f":"LB1","v":106},{"$f":"LB1","v":106},{"$f":"LD1+1","v":107},{"$f":"LE1","v":107},{"$f":"LE1","v":107},{"$f":"LG1+1","v":108},{"$f":"LH1","v":108},{"$f":"LH1","v":108},{"$f":"LJ1+1","v":109},{"$f":"LK1","v":109},{"$f":"LK1","v":109},{"$f":"LM1+1","v":110},{"$f":"LN1","v":110},{"$f":"LN1","v":110},{"$f":"LP1+1","v":111},{"$f":"LQ1","v":111},{"$f":"LQ1","v":111},{"$f":"LS1+1","v":112},{"$f":"LT1","v":112},{"$f":"LT1","v":112},{"$f":"LV1+1","v":113},{"$f":"LW1","v":113},{"$f":"LW1","v":113},{"$f":"LY1+1","v":114},{"$f":"LZ1","v":114},{"$f":"LZ1","v":114},{"$f":"MB1+1","v":115},{"$f":"MC1","v":115},{"$f":"MC1","v":115},{"$f":"ME1+1","v":116},{"$f":"MF1","v":116},{"$f":"MF1","v":116},{"$f":"MH1+1","v":117},{"$f":"MI1","v":117},{"$f":"MI1","v":117},{"$f":"MK1+1","v":118},{"$f":"ML1","v":118},{"$f":"ML1","v":118},{"$f":"MN1+1","v":119},{"$f":"MO1","v":119},{"$f":"MO1","v":119},{"$f":"MQ1+1","v":120},{"$f":"MR1","v":120},{"$f":"MR1","v":120},{"$f":"MT1+1","v":121},{"$f":"MU1","v":121},{"$f":"MU1","v":121},{"$f":"MW1+1","v":122},{"$f":"MX1","v":122},{"$f":"MX1","v":122},{"$f":"MZ1+1","v":123},{"$f":"NA1","v":123},{"$f":"NA1","v":123},{"$f":"NC1+1","v":124},{"$f":"ND1","v":124},{"$f":"ND1","v":124},{"$f":"NF1+1","v":125},{"$f":"NG1","v":125},{"$f":"NG1","v":125},{"$f":"NI1+1","v":126},{"$f":"NJ1","v":126},{"$f":"NJ1","v":126},{"$f":"NL1+1","v":127},{"$f":"NM1","v":127},{"$f":"NM1","v":127},{"$f":"NO1+1","v":128},{"$f":"NP1","v":128},{"$f":"NP1","v":128},{"$f":"NR1+1","v":129},{"$f":"NS1","v":129},{"$f":"NS1","v":129},{"$f":"NU1+1","v":130},{"$f":"NV1","v":130},{"$f":"NV1","v":130},{"$f":"NX1+1","v":131},{"$f":"NY1","v":131},{"$f":"NY1","v":131},{"$f":"OA1+1","v":132},{"$f":"OB1","v":132},{"$f":"OB1","v":132},{"$f":"OD1+1","v":133},{"$f":"OE1","v":133},{"$f":"OE1","v":133},{"$f":"OG1+1","v":134},{"$f":"OH1","v":134},{"$f":"OH1","v":134},{"$f":"OJ1+1","v":135},{"$f":"OK1","v":135},{"$f":"OK1","v":135},{"$f":"OM1+1","v":136},{"$f":"ON1","v":136},{"$f":"ON1","v":136},{"$f":"OP1+1","v":137},{"$f":"OQ1","v":137},{"$f":"OQ1","v":137},{"$f":"OS1+1","v":138},{"$f":"OT1","v":138},{"$f":"OT1","v":138},{"$f":"OV1+1","v":139},{"$f":"OW1","v":139},{"$f":"OW1","v":139},{"$f":"OY1+1","v":140},{"$f":"OZ1","v":140},{"$f":"OZ1","v":140},{"$f":"PB1+1","v":141},{"$f":"PC1","v":141},{"$f":"PC1","v":141},{"$f":"PE1+1","v":142},{"$f":"PF1","v":142},{"$f":"PF1","v":142},{"$f":"PH1+1","v":143},{"$f":"PI1","v":143},{"$f":"PI1","v":143},{"$f":"PK1+1","v":144},{"$f":"PL1","v":144},{"$f":"PL1","v":144},{"$f":"PN1+1","v":145},{"$f":"PO1","v":145},{"$f":"PO1","v":145},{"$f":"PQ1+1","v":146},{"$f":"PR1","v":146},{"$f":"PR1","v":146},{"$f":"PT1+1","v":147},{"$f":"PU1","v":147},{"$f":"PU1","v":147},{"$f":"PW1+1","v":148},{"$f":"PX1","v":148},{"$f":"PX1","v":148},{"$f":"PZ1+1","v":149},{"$f":"QA1","v":149},{"$f":"QA1","v":149},{"$f":"QC1+1","v":150},{"$f":"QD1","v":150},{"$f":"QD1","v":150},{"$f":"QF1+1","v":151},{"$f":"QG1","v":151},{"$f":"QG1","v":151},{"$f":"QI1+1","v":152},{"$f":"QJ1","v":152},{"$f":"QJ1","v":152},{"$f":"QL1+1","v":153},{"$f":"QM1","v":153},{"$f":"QM1","v":153},{"$f":"QO1+1","v":154},{"$f":"QP1","v":154},{"$f":"QP1","v":154},{"$f":"QR1+1","v":155},{"$f":"QS1","v":155},{"$f":"QS1","v":155},{"$f":"QU1+1","v":156},{"$f":"QV1","v":156},{"$f":"QV1","v":156},{"$f":"QX1+1","v":157},{"$f":"QY1","v":157},{"$f":"QY1","v":157},{"$f":"RA1+1","v":158},{"$f":"RB1","v":158},{"$f":"RB1","v":158},{"$f":"RD1+1","v":159},{"$f":"RE1","v":159},{"$f":"RE1","v":159},{"$f":"RG1+1","v":160},{"$f":"RH1","v":160},{"$f":"RH1","v":160},{"$f":"RJ1+1","v":161},{"$f":"RK1","v":161},{"$f":"RK1","v":161},{"$f":"RM1+1","v":162},{"$f":"RN1","v":162},{"$f":"RN1","v":162},{"$f":"RP1+1","v":163},{"$f":"RQ1","v":163},{"$f":"RQ1","v":163},{"$f":"RS1+1","v":164},{"$f":"RT1","v":164},{"$f":"RT1","v":164},{"$f":"RV1+1","v":165},{"$f":"RW1","v":165},{"$f":"RW1","v":165},{"$f":"RY1+1","v":166},{"$f":"RZ1","v":166},{"$f":"RZ1","v":166},{"$f":"SB1+1","v":167},{"$f":"SC1","v":167},{"$f":"SC1","v":167},{"$f":"SE1+1","v":168},{"$f":"SF1","v":168},{"$f":"SF1","v":168},{"$f":"SH1+1","v":169},{"$f":"SI1","v":169},{"$f":"SI1","v":169},{"$f":"SK1+1","v":170},{"$f":"SL1","v":170},{"$f":"SL1","v":170},{"$f":"SN1+1","v":171},{"$f":"SO1","v":171},{"$f":"SO1","v":171},{"$f":"SQ1+1","v":172},{"$f":"SR1","v":172},{"$f":"SR1","v":172},{"$f":"ST1+1","v":173},{"$f":"SU1","v":173},{"$f":"SU1","v":173},{"$f":"SW1+1","v":174},{"$f":"SX1","v":174},{"$f":"SX1","v":174},{"$f":"SZ1+1","v":175},{"$f":"TA1","v":175},{"$f":"TA1","v":175},{"$f":"TC1+1","v":176},{"$f":"TD1","v":176},{"$f":"TD1","v":176},{"$f":"TF1+1","v":177},{"$f":"TG1","v":177},{"$f":"TG1","v":177},{"$f":"TI1+1","v":178},{"$f":"TJ1","v":178},{"$f":"TJ1","v":178},{"$f":"TL1+1","v":179},{"$f":"TM1","v":179},{"$f":"TM1","v":179},{"$f":"TO1+1","v":180},{"$f":"TP1","v":180},{"$f":"TP1","v":180},{"$f":"TR1+1","v":181},{"$f":"TS1","v":181},{"$f":"TS1","v":181}]
[1,{"$f":"A2+1","v":2},{"$f":"B2+1","v":3},4,5,6,7,8,9,10,11,12,13,14,15,16,17,18,19,20,21,22,23,24,25,26,27,28,29,30,31,32,33,34,35,36,37,38,39,40,41,42,43,44,45,46,47,48,49,50,51,52,53,54,55,56,57,58,59,60,61,62,63,64,65,66,{"$f":"BN2+1","v":67},68,69,70,71,72,73,74,75,76,77,78,79,80,81,82,{"$f":"CD2+1","v":83},84,85,86,87,88,89,90,91,92,93,94,95,96,97,98,{"$f":"CT2+1","v":99},100,101,102,103,104,105,106,107,108,109,110,111,112,113,114,{"$f":"DJ2+1","v":115},116,117,118,119,120,121,122,123,124,125,126,127,128,129,130,{"$f":"DZ2+1","v":131},132,133,134,135,136,137,138,139,140,141,142,143,144,145,146,{"$f":"EP2+1","v":147},148,149,150,151,152,153,154,155,156,157,158,159,160,161,162,{"$f":"FF2+1","v":163},164,165,166,167,168,169,170,171,172,{"$f":"FP2+1","v":173},{"$f":"FQ2+1","v":174},{"$f":"FR2+1","v":175},{"$f":"FS2+1","v":176},{"$f":"FT2+1","v":177},{"$f":"FU2+1","v":178},{"$f":"FV2+1","v":179},{"$f":"FW2+1","v":180},{"$f":"FX2+1","v":181},{"$f":"FY2+1","v":182},{"$f":"FZ2+1","v":183},{"$f":"GA2+1","v":184},{"$f":"GB2+1","v":185},{"$f":"GC2+1","v":186},{"$f":"GD2+1","v":187},{"$f":"GE2+1","v":188},{"$f":"GF2+1","v":189},{"$f":"GG2+1","v":190},{"$f":"GH2+1","v":191},{"$f":"GI2+1","v":192},{"$f":"GJ2+1","v":193},{"$f":"GK2+1","v":194},{"$f":"GL2+1","v":195},{"$f":"GM2+1","v":196},{"$f":"GN2+1","v":197},{"$f":"GO2+1","v":198},{"$f":"GP2+1","v":199},{"$f":"GQ2+1","v":200},{"$f":"GR2+1","v":201},{"$f":"GS2+1","v":202},{"$f":"GT2+1","v":203},{"$f":"GU2+1","v":204},{"$f":"GV2+1","v":205},{"$f":"GW2+1","v":206},{"$f":"GX2+1","v":207},{"$f":"GY2+1","v":208},{"$f":"GZ2+1","v":209},{"$f":"HA2+1","v":210},{"$f":"HB2+1","v":211},{"$f":"HC2+1","v":212},{"$f":"HD2+1","v":213},{"$f":"HE2+1","v":214},{"$f":"HF2+1","v":215},{"$f":"HG2+1","v":216},{"$f":"HH2+1","v":217},{"$f":"HI2+1","v":218},{"$f":"HJ2+1","v":219},{"$f":"HK2+1","v":220},{"$f":"HL2+1","v":221},{"$f":"HM2+1","v":222},{"$f":"HN2+1","v":223},{"$f":"HO2+1","v":224},{"$f":"HP2+1","v":225},{"$f":"HQ2+1","v":226},{"$f":"HR2+1","v":227},{"$f":"HS2+1","v":228},{"$f":"HT2+1","v":229},{"$f":"HU2+1","v":230},{"$f":"HV2+1","v":231},{"$f":"HW2+1","v":232},{"$f":"HX2+1","v":233},{"$f":"HY2+1","v":234},{"$f":"HZ2+1","v":235},{"$f":"IA2+1","v":236},{"$f":"IB2+1","v":237},{"$f":"IC2+1","v":238},{"$f":"ID2+1","v":239},{"$f":"IE2+1","v":240},{"$f":"IF2+1","v":241},{"$f":"IG2+1","v":242},{"$f":"IH2+1","v":243},{"$f":"II2+1","v":244},{"$f":"IJ2+1","v":245},{"$f":"IK2+1","v":246},{"$f":"IL2+1","v":247},{"$f":"IM2+1","v":248},{"$f":"IN2+1","v":249},{"$f":"IO2+1","v":250},{"$f":"IP2+1","v":251},{"$f":"IQ2+1","v":252},{"$f":"IR2+1","v":253},{"$f":"IS2+1","v":254},{"$f":"IT2+1","v":255},{"$f":"IU2+1","v":256},{"$f":"IV2+1","v":257},{"$f":"IW2+1","v":258},{"$f":"IX2+1","v":259},{"$f":"IY2+1","v":260},{"$f":"IZ2+1","v":261},{"$f":"JA2+1","v":262},{"$f":"JB2+1","v":263},{"$f":"JC2+1","v":264},{"$f":"JD2+1","v":265},{"$f":"JE2+1","v":266},{"$f":"JF2+1","v":267},{"$f":"JG2+1","v":268},{"$f":"JH2+1","v":269},{"$f":"JI2+1","v":270},{"$f":"JJ2+1","v":271},{"$f":"JK2+1","v":272},{"$f":"JL2+1","v":273},{"$f":"JM2+1","v":274},{"$f":"JN2+1","v":275},{"$f":"JO2+1","v":276},{"$f":"JP2+1","v":277},{"$f":"JQ2+1","v":278},{"$f":"JR2+1","v":279},{"$f":"JS2+1","v":280},{"$f":"JT2+1","v":281},{"$f":"JU2+1","v":282},{"$f":"JV2+1","v":283},{"$f":"JW2+1","v":284},{"$f":"JX2+1","v":285},{"$f":"JY2+1","v":286},{"$f":"JZ2+1","v":287},{"$f":"KA2+1","v":288},{"$f":"KB2+1","v":289},{"$f":"KC2+1","v":290},{"$f":"KD2+1","v":291},{"$f":"KE2+1","v":292},{"$f":"KF2+1","v":293},{"$f":"KG2+1","v":294},{"$f":"KH2+1","v":295},{"$f":"KI2+1","v":296},{"$f":"KJ2+1","v":297},{"$f":"KK2+1","v":298},{"$f":"KL2+1","v":299},{"$f":"KM2+1","v":300},{"$f":"KN2+1","v":301},{"$f":"KO2+1","v":302},{"$f":"KP2+1","v":303},{"$f":"KQ2+1","v":304},{"$f":"KR2+1","v":305},{"$f":"KS2+1","v":306},{"$f":"KT2+1","v":307},{"$f":"KU2+1","v":308},{"$f":"KV2+1","v":309},{"$f":"KW2+1","v":310},{"$f":"KX2+1","v":311},{"$f":"KY2+1","v":312},{"$f":"KZ2+1","v":313},{"$f":"LA2+1","v":314},{"$f":"LB2+1","v":315},{"$f":"LC2+1","v":316},{"$f":"LD2+1","v":317},{"$f":"LE2+1","v":318},{"$f":"LF2+1","v":319},{"$f":"LG2+1","v":320},{"$f":"LH2+1","v":321},{"$f":"LI2+1","v":322},{"$f":"LJ2+1","v":323},{"$f":"LK2+1","v":324},{"$f":"LL2+1","v":325},{"$f":"LM2+1","v":326},{"$f":"LN2+1","v":327},{"$f":"LO2+1","v":328},{"$f":"LP2+1","v":329},{"$f":"LQ2+1","v":330},{"$f":"LR2+1","v":331},{"$f":"LS2+1","v":332},{"$f":"LT2+1","v":333},{"$f":"LU2+1","v":334},{"$f":"LV2+1","v":335},{"$f":"LW2+1","v":336},{"$f":"LX2+1","v":337},{"$f":"LY2+1","v":338},{"$f":"LZ2+1","v":339},{"$f":"MA2+1","v":340},{"$f":"MB2+1","v":341},{"$f":"MC2+1","v":342},{"$f":"MD2+1","v":343},{"$f":"ME2+1","v":344},{"$f":"MF2+1","v":345},{"$f":"MG2+1","v":346},{"$f":"MH2+1","v":347},{"$f":"MI2+1","v":348},{"$f":"MJ2+1","v":349},{"$f":"MK2+1","v":350},{"$f":"ML2+1","v":351},{"$f":"MM2+1","v":352},{"$f":"MN2+1","v":353},{"$f":"MO2+1","v":354},{"$f":"MP2+1","v":355},{"$f":"MQ2+1","v":356},{"$f":"MR2+1","v":357},{"$f":"MS2+1","v":358},{"$f":"MT2+1","v":359},{"$f":"MU2+1","v":360},{"$f":"MV2+1","v":361},{"$f":"MW2+1","v":362},{"$f":"MX2+1","v":363},{"$f":"MY2+1","v":364},{"$f":"MZ2+1","v":365},{"$f":"NA2+1","v":366},{"$f":"NB2+1","v":367},{"$f":"NC2+1","v":368},{"$f":"ND2+1","v":369},{"$f":"NE2+1","v":370},{"$f":"NF2+1","v":371},{"$f":"NG2+1","v":372},{"$f":"NH2+1","v":373},{"$f":"NI2+1","v":374},{"$f":"NJ2+1","v":375},{"$f":"NK2+1","v":376},{"$f":"NL2+1","v":377},{"$f":"NM2+1","v":378},{"$f":"NN2+1","v":379},{"$f":"NO2+1","v":380},{"$f":"NP2+1","v":381},{"$f":"NQ2+1","v":382},{"$f":"NR2+1","v":383},{"$f":"NS2+1","v":384},{"$f":"NT2+1","v":385},{"$f":"NU2+1","v":386},{"$f":"NV2+1","v":387},{"$f":"NW2+1","v":388},{"$f":"NX2+1","v":389},{"$f":"NY2+1","v":390},{"$f":"NZ2+1","v":391},{"$f":"OA2+1","v":392},{"$f":"OB2+1","v":393},{"$f":"OC2+1","v":394},{"$f":"OD2+1","v":395},{"$f":"OE2+1","v":396},{"$f":"OF2+1","v":397},{"$f":"OG2+1","v":398},{"$f":"OH2+1","v":399},{"$f":"OI2+1","v":400},{"$f":"OJ2+1","v":401},{"$f":"OK2+1","v":402},{"$f":"OL2+1","v":403},{"$f":"OM2+1","v":404},{"$f":"ON2+1","v":405},{"$f":"OO2+1","v":406},{"$f":"OP2+1","v":407},{"$f":"OQ2+1","v":408},{"$f":"OR2+1","v":409},{"$f":"OS2+1","v":410},{"$f":"OT2+1","v":411},{"$f":"OU2+1","v":412},{"$f":"OV2+1","v":413},{"$f":"OW2+1","v":414},{"$f":"OX2+1","v":415},{"$f":"OY2+1","v":416},{"$f":"OZ2+1","v":417},{"$f":"PA2+1","v":418},{"$f":"PB2+1","v":419},{"$f":"PC2+1","v":420},{"$f":"PD2+1","v":421},{"$f":"PE2+1","v":422},{"$f":"PF2+1","v":423},{"$f":"PG2+1","v":424},{"$f":"PH2+1","v":425},{"$f":"PI2+1","v":426},{"$f":"PJ2+1","v":427},{"$f":"PK2+1","v":428},{"$f":"PL2+1","v":429},{"$f":"PM2+1","v":430},{"$f":"PN2+1","v":431},{"$f":"PO2+1","v":432},{"$f":"PP2+1","v":433},{"$f":"PQ2+1","v":434},{"$f":"PR2+1","v":435},{"$f":"PS2+1","v":436},{"$f":"PT2+1","v":437},{"$f":"PU2+1","v":438},{"$f":"PV2+1","v":439},{"$f":"PW2+1","v":440},{"$f":"PX2+1","v":441},{"$f":"PY2+1","v":442},{"$f":"PZ2+1","v":443},{"$f":"QA2+1","v":444},{"$f":"QB2+1","v":445},{"$f":"QC2+1","v":446},{"$f":"QD2+1","v":447},{"$f":"QE2+1","v":448},{"$f":"QF2+1","v":449},{"$f":"QG2+1","v":450},{"$f":"QH2+1","v":451},{"$f":"QI2+1","v":452},{"$f":"QJ2+1","v":453},{"$f":"QK2+1","v":454},{"$f":"QL2+1","v":455},{"$f":"QM2+1","v":456},{"$f":"QN2+1","v":457},{"$f":"QO2+1","v":458},{"$f":"QP2+1","v":459},{"$f":"QQ2+1","v":460},{"$f":"QR2+1","v":461},{"$f":"QS2+1","v":462},{"$f":"QT2+1","v":463},{"$f":"QU2+1","v":464},{"$f":"QV2+1","v":465},{"$f":"QW2+1","v":466},{"$f":"QX2+1","v":467},{"$f":"QY2+1","v":468},{"$f":"QZ2+1","v":469},{"$f":"RA2+1","v":470},{"$f":"RB2+1","v":471},{"$f":"RC2+1","v":472},{"$f":"RD2+1","v":473},{"$f":"RE2+1","v":474},{"$f":"RF2+1","v":475},{"$f":"RG2+1","v":476},{"$f":"RH2+1","v":477},{"$f":"RI2+1","v":478},{"$f":"RJ2+1","v":479},{"$f":"RK2+1","v":480},{"$f":"RL2+1","v":481},{"$f":"RM2+1","v":482},{"$f":"RN2+1","v":483},{"$f":"RO2+1","v":484},{"$f":"RP2+1","v":485},{"$f":"RQ2+1","v":486},{"$f":"RR2+1","v":487},{"$f":"RS2+1","v":488},{"$f":"RT2+1","v":489},{"$f":"RU2+1","v":490},{"$f":"RV2+1","v":491},{"$f":"RW2+1","v":492},{"$f":"RX2+1","v":493},{"$f":"RY2+1","v":494},{"$f":"RZ2+1","v":495},{"$f":"SA2+1","v":496},{"$f":"SB2+1","v":497},{"$f":"SC2+1","v":498},{"$f":"SD2+1","v":499},{"$f":"SE2+1","v":500},{"$f":"SF2+1","v":501},{"$f":"SG2+1","v":502},{"$f":"SH2+1","v":503},{"$f":"SI2+1","v":504},{"$f":"SJ2+1","v":505},{"$f":"SK2+1","v":506},{"$f":"SL2+1","v":507},{"$f":"SM2+1","v":508},{"$f":"SN2+1","v":509},{"$f":"SO2+1","v":510},{"$f":"SP2+1","v":511},{"$f":"SQ2+1","v":512},{"$f":"SR2+1","v":513},{"$f":"SS2+1","v":514},{"$f":"ST2+1","v":515},{"$f":"SU2+1","v":516},{"$f":"SV2+1","v":517},{"$f":"SW2+1","v":518},{"$f":"SX2+1","v":519},{"$f":"SY2+1","v":520},{"$f":"SZ2+1","v":521},{"$f":"TA2+1","v":522},{"$f":"TB2+1","v":523},{"$f":"TC2+1","v":524},{"$f":"TD2+1","v":525},{"$f":"TE2+1","v":526},{"$f":"TF2+1","v":527},{"$f":"TG2+1","v":528},{"$f":"TH2+1","v":529},{"$f":"TI2+1","v":530},{"$f":"TJ2+1","v":531},{"$f":"TK2+1","v":532},{"$f":"TL2+1","v":533},{"$f":"TM2+1","v":534},{"$f":"TN2+1","v":535},{"$f":"TO2+1","v":536},{"$f":"TP2+1","v":537},{"$f":"TQ2+1","v":538},{"$f":"TR2+1","v":539},{"$f":"TS2+1","v":540},{"$f":"TT2+1","v":541}]
[null,"TABEL_MAPEL",null,null,null,null,null,null,null,null,null,null,null,null,"DATA_JURUSAN",null,null,null,null,"PILIH_JURUSAN"]
[null,null,null,1,"TGB","TEI","TPL","TP","TKR","TSM","TIPTL","TKJ","RPL",null,"TGB","Teknologi dan Rekayasa","Teknik Bangunan","Teknik Gambar Bangunan",null,"TGB","TGB",null,null,"DESKRIPSI NILAI SIKAP SPIRITUAL"]
[1,"A",1,{"$f":"D4+1","v":2},"Pendidikan Agama dan Budi Pekerti","Pendidikan Agama dan Budi Pekerti","Pendidikan Agama dan Budi Pekerti","Pendidikan Agama dan Budi Pekerti","Pendidikan Agama dan Budi Pekerti","Pendidikan Agama dan Budi Pekerti","Pendidikan Agama dan Budi Pekerti","Pendidikan Agama dan Budi Pekerti","Pendidikan Agama dan Budi Pekerti",null,"TEI","Teknologi dan Rekayasa","Teknik Elektronika","Teknik Elektronika Industri",null,"TEI","TEI",null,null,"A","Sangat menerima, menjalankan, menghargai, menghayati dan mengamalkan ajaran agama yang dianut."]
[2,"A",null,{"$f":"D5+1","v":3},"Pendidikan Pancasila dan Kewarganegaraan","Pendidikan Pancasila dan Kewarganegaraan","Pendidikan Pancasila dan Kewarganegaraan","Pendidikan Pancasila dan Kewarganegaraan","Pendidikan Pancasila dan Kewarganegaraan","Pendidikan Pancasila dan Kewarganegaraan","Pendidikan Pancasila dan Kewarganegaraan","Pendidikan Pancasila dan Kewarganegaraan","Pendidikan Pancasila dan Kewarganegaraan",null,"TPL","Teknologi dan Rekayasa","Teknik Mesin","Teknik Pengelasan",null,"TPL","TPL",null,null,"B","Baik, dapat menerima, menjalankan, menghargai, menghayati dan mengamalkan ajaran agama yang dianut."]
[3,"A",null,4,"Bahasa Indonesia","Bahasa Indonesia","Bahasa Indonesia","Bahasa Indonesia","Bahasa Indonesia","Bahasa Indonesia","Bahasa Indonesia","Bahasa Indonesia","Bahasa Indonesia",null,"TP","Teknologi dan Rekayasa","Teknik Mesin","Teknik Pemesinan",null,"TP ","TP",null,null,"C","Cukup menerima, menjalankan, menghargai, menghayati dan mengamalkan ajaran agama yang dianut."]
[4,"A",null,5,"Matematika","Matematika","Matematika","Matematika","Matematika","Matematika","Matematika","Matematika","Matematika",null,"TKR","Teknologi dan Rekayasa","Teknik Otomotif","Teknik Kendaraan Ringan",null,"TKR","TKR",null,null,"D","Kurang menerima, menjalankan, menghargai, menghayati dan mengamalkan ajaran agama yang dianut."]
[5,"A",null,6,"Sejarah Indonesia","Sejarah Indonesia","Sejarah Indonesia","Sejarah Indonesia","Sejarah Indonesia","Sejarah Indonesia","Sejarah Indonesia","Sejarah Indonesia","Sejarah Indonesia",null,"TSM","Teknologi dan Rekayasa","Teknik Otomotif","Teknik Sepeda Motor",null,"TSM","TSM"]
[6,"A",null,7,"Bahasa Inggris","Bahasa Inggris","Bahasa Inggris","Bahasa Inggris","Bahasa Inggris","Bahasa Inggris","Bahasa Inggris","Bahasa Inggris","Bahasa Inggris",null,"TIPTL","Teknologi dan Rekayasa","Teknik Ketenagalistrikan","Teknik Instalasi Pemanfaatan Tenaga Listrik",null,"TIP","TIPTL",null,null,"DESKRIPSI NILAI SIKAP SOSIAL"]
[7,"B",null,8,"Seni Budaya","Seni Budaya","Seni Budaya","Seni Budaya","Seni Budaya","Seni Budaya","Seni Budaya","Seni Budaya","Seni Budaya",null,"TKJ","Teknologi Informasi dan Komunikasi","Teknik Komputer dan Informatika","Teknik Komputer dan Jaringan",null,"TKJ","TKJ",null,null,"A","Sudah bersungguh-sungguh dan selalu konsisten menerapkan sikap jujur, santun dan toleran dalam pergaulan, disiplin, kerjasama dalam kelompok dan tanggungjawab dalam keseharian sebagai hasil pembelajaran di sekolah. Pertahankan sikap-sikap tersebut agar menjadi teladan bagi kawan-kawan di sekolah."]
[8,"B",null,9,"Prakarya dan Kewirausahaan","Prakarya dan Kewirausahaan","Prakarya dan Kewirausahaan","Prakarya dan Kewirausahaan","Prakarya dan Kewirausahaan","Prakarya dan Kewirausahaan","Prakarya dan Kewirausahaan","Prakarya dan Kewirausahaan","Prakarya dan Kewirausahaan",null,"RPL","Teknologi Informasi dan Komunikasi","Teknik Komputer dan Informatika","Rekayasa Perangkat Lunak",null,"RPL","RPL",null,null,"B","Sudah menunjukkan konsisten menerapkan sikap jujur, santun dan toleran dalam pergaulan, disiplin, kerjasama dalam kelompok dan tanggungjawab dalam keseharian sebagai hasil pembelajaran di sekolah. Tingkatkan sikap-sikap positif tersebut agar lebih baik."]
[9,"B",null,10,"Pendidikan Jasmani, Olah Raga & Kesehatan","Pendidikan Jasmani, Olah Raga & Kesehatan","Pendidikan Jasmani, Olah Raga & Kesehatan","Pendidikan Jasmani, Olah Raga & Kesehatan","Pendidikan Jasmani, Olah Raga & Kesehatan","Pendidikan Jasmani, Olah Raga & Kesehatan","Pendidikan Jasmani, Olah Raga & Kesehatan","Pendidikan Jasmani, Olah Raga & Kesehatan","Pendidikan Jasmani, Olah Raga & Kesehatan",null,null,null,null,null,null,null,null,null,null,"C","Mulai menunjukkan konsisten menerapkan sikap jujur, santun dan toleran dalam pergaulan, disiplin, kerjasama dalam kelompok dan tanggungjawab dalam keseharian sebagai hasil pembelajaran di sekolah dan perlu ditingkatkan kembali agar lebih baik."]
[10,"C1",null,11,"Fisika","Fisika","Fisika","Fisika","Fisika","Fisika","Fisika","Fisika","Fisika",null,null,null,null,null,null,null,null,null,null,"D","Belum menunjukkan konsisten menerapkan sikap jujur, santun dan toleran dalam pergaulan, disiplin, kerjasama dalam kelompok dan tanggungjawab dalam keseharian sebagai hasil pembelajaran di sekolah, perlu perbaikan dan perhatian dari semua pihak baik guru maupun orangtua."]
[11,"C1",null,12,"Kimia","Kimia","Kimia","Kimia","Kimia","Kimia","Kimia","Pemrograman Dasar","Pemrograman Dasar"]
[12,"C1",null,13,"Gambar Teknik","Gambar Teknik","Gambar Teknik","Gambar Teknik","Gambar Teknik","Gambar Teknik","Gambar Teknik","Sistem Komputer","Sistem Komputer"]
[13,"C2",null,14,"Simulasi Digital","Simulasi Digital","Simulasi Digital","Simulasi Digital","Simulasi Digital","Simulasi Digital","Simulasi Digital","Simulasi Digital","Simulasi Digital"]
[14,"C2",null,15,"Mekanika Teknik","Teknik Kerja Bengkel","Teknologi Mekanik","Teknologi Mekanik","Teknologi Dasar Otomotif","Teknologi Dasar Otomotif","Dasar dan Pengukuran Listrik","Perakitan Komputer","Perakitan Komputer"]
[15,"C2",null,16,"Ilmu Bangunan","Teknik Listrik ","Kelistrikan Mesin dan Konversi Energi","Kelistrikan Mesin dan Konversi Energi","Pekerjaan Dasar Teknik Otomotif","Pekerjaan Dasar Teknik Otomotif","Pekerjaan Dasar Elektromekanik","Sistem Operasi","Sistem Operasi"]
[16,"C2",null,17,"Ilmu Ukur Tanah","Teknik Elektronika","Mekanika Teknik ","Mekanika Teknik ","Teknik Listrik Dasar Otomotif","Teknik Listrik Dasar Otomotif","-","Jaringan Dasar","Jaringan Dasar"]
[17,"C2",null,18,"Rencana Anggaran Biaya (RAB)","Teknik Microprosessor","-","-","-","-","-","Pemrograman Web","Pemrograman Web"]
[18,"C2",null,19,"-","Teknik Pemrograman ","-","-","-","-","-","-","-"]
[19,"C3",null,20,"-","-","-","-","-","-","-","-","-"]
[20,"C3",null,21,"-","-","-","-","-","-","-","-","-"]
[21,"C3",null,22,"-","-","-","-","-","-","-","-","-"]
[22,"C3",null,23,"-","-","-","-","-","-","-","-","-"]
[23,"C3",null,24,"-","-","-","-","-","-","-","-","-"]
[24,"C3",null,25,"-","-","-","Menggambar dengan sistem  CAD","-","-","-","-","-"]
[25,"C3",null,26,"-","-","-","-","-","-","-","-","-"]
[26,"C3",null,27,"-","-","-","-","-","-","-","-","-"]
[27,"C3",null,28,"-","-","-","-","-","-","-","-","-"]
[28,"MUL",null,29,"Bahasa dan Sastra Sunda","Bahasa dan Sastra Sunda","Bahasa dan Sastra Sunda","Bahasa dan Sastra Sunda","Bahasa dan Sastra Sunda","Bahasa dan Sastra Sunda","Bahasa dan Sastra Sunda","Bahasa dan Sastra Sunda","Bahasa dan Sastra Sunda"]
[29,"MUL",null,30,"-","-","-","-","-","-","-","-","-"]
[30,"MUL",null,31,"-","-","-","-","-","-","-","-","-"]
[null,null,2,32,"Pendidikan Agama dan Budi Pekerti","Pendidikan Agama dan Budi Pekerti","Pendidikan Agama dan Budi Pekerti","Pendidikan Agama dan Budi Pekerti","Pendidikan Agama dan Budi Pekerti","Pendidikan Agama dan Budi Pekerti","Pendidikan Agama dan Budi Pekerti","Pendidikan Agama dan Budi Pekerti","Pendidikan Agama dan Budi Pekerti"]
[null,null,null,33,"Pendidikan Pancasila dan Kewarganegaraan","Pendidikan Pancasila dan Kewarganegaraan","Pendidikan Pancasila dan Kewarganegaraan","Pendidikan Pancasila dan Kewarganegaraan","Pendidikan Pancasila dan Kewarganegaraan","Pendidikan Pancasila dan Kewarganegaraan","Pendidikan Pancasila dan Kewarganegaraan","Pendidikan Pancasila dan Kewarganegaraan","Pendidikan Pancasila dan Kewarganegaraan"]
[null,null,null,34,"Bahasa Indonesia","Bahasa Indonesia","Bahasa Indonesia","Bahasa Indonesia","Bahasa Indonesia","Bahasa Indonesia","Bahasa Indonesia","Bahasa Indonesia","Bahasa Indonesia"]
[null,null,null,35,"Matematika","Matematika","Matematika","Matematika","Matematika","Matematika","Matematika","Matematika","Matematika"]
[null,null,null,36,"Sejarah Indonesia","Sejarah Indonesia","Sejarah Indonesia","Sejarah Indonesia","Sejarah Indonesia","Sejarah Indonesia","Sejarah Indonesia","Sejarah Indonesia","Sejarah Indonesia"]
[null,null,null,37,"Bahasa Inggris","Bahasa Inggris","Bahasa Inggris","Bahasa Inggris","Bahasa Inggris","Bahasa Inggris","Bahasa Inggris","Bahasa Inggris","Bahasa Inggris"]
[null,null,null,38,"Seni Budaya","Seni Budaya","Seni Budaya","Seni Budaya","Seni Budaya","Seni Budaya","Seni Budaya","Seni Budaya","Seni Budaya"]
[null,null,null,39,"Prakarya dan Kewirausahaan","Prakarya dan Kewirausahaan","Prakarya dan Kewirausahaan","Prakarya dan Kewirausahaan","Prakarya dan Kewirausahaan","Prakarya dan Kewirausahaan","Prakarya dan Kewirausahaan","Prakarya dan Kewirausahaan","Prakarya dan Kewirausahaan"]
[null,null,null,40,"Pendidikan Jasmani, Olah Raga & Kesehatan","Pendidikan Jasmani, Olah Raga & Kesehatan","Pendidikan Jasmani, Olah Raga & Kesehatan","Pendidikan Jasmani, Olah Raga & Kesehatan","Pendidikan Jasmani, Olah Raga & Kesehatan","Pendidikan Jasmani, Olah Raga & Kesehatan","Pendidikan Jasmani, Olah Raga & Kesehatan","Pendidikan Jasmani, Olah Raga & Kesehatan","Pendidikan Jasmani, Olah Raga & Kesehatan"]
[null,null,null,41,"Fisika","Fisika","Fisika","Fisika","Fisika","Fisika","Fisika","Fisika","Fisika"]
[null,null,null,42,"Kimia","Kimia","Kimia","Kimia","Kimia","Kimia","Kimia","Pemrograman Dasar","Pemrograman Dasar"]
[null,null,null,43,"Gambar Teknik","Gambar Teknik","Gambar Teknik","Gambar Teknik","Gambar Teknik","Gambar Teknik","Gambar Teknik","Sistem Komputer","Sistem Komputer"]
[null,null,null,44,"Simulasi Digital","Simulasi Digital","Simulasi Digital","Simulasi Digital","Simulasi Digital","Simulasi Digital","Simulasi Digital","Simulasi Digital","Simulasi Digital"]
[null,null,null,45,"Mekanika Teknik","Teknik Kerja Bengkel","Teknologi Mekanik","Teknologi Mekanik","Teknologi Dasar Otomotif","Teknologi Dasar Otomotif","Dasar dan Pengukuran Listrik","Perakitan Komputer","Perakitan Komputer"]
[null,null,null,46,"Ilmu Bangunan","Teknik Listrik ","Kelistrikan Mesin dan Konversi Energi","Kelistrikan Mesin dan Konversi Energi","Pekerjaan Dasar Teknik Otomotif","Pekerjaan Dasar Teknik Otomotif","Pekerjaan Dasar Elektromekanik","Sistem Operasi","Sistem Operasi"]
[null,null,null,47,"Ilmu Ukur Tanah","Teknik Elektronika","Mekanika Teknik ","Mekanika Teknik ","Teknik Listrik Dasar Otomotif","Teknik Listrik Dasar Otomotif","-","Jaringan Dasar","Jaringan Dasar"]
[null,null,null,48,"Rencana Anggaran Biaya (RAB)","Teknik Microprosessor","-","-","-","-","-","Pemrograman Web","Pemrograman Web"]
[null,null,null,49,"-","Teknik Pemrograman ","-","-","-","-","-","-","-"]
[null,null,null,50,"-","-","-","-","-","-","-","-","-"]
[null,null,null,51,"-","-","-","-","-","-","-","-","-"]
[null,null,null,52,"-","-","-","-","-","-","-","-","-"]
[null,null,null,53,"-","-","-","-","-","-","-","-","-"]
[null,null,null,54,"-","-","-","-","-","-","-","-","-"]
[null,null,null,55,"-","-","-","Menggambar dengan sistem  CAD","-","-","-","-","-"]
[null,null,null,56,"-","-","-","-","-","-","-","-","-"]
[null,null,null,57,"-","-","-","-","-","-","-","-","-"]
[null,null,null,58,"-","-","-","-","-","-","-","-","-"]
[null,null,null,59,"Bahasa dan Sastra Sunda","Bahasa dan Sastra Sunda","Bahasa dan Sastra Sunda","Bahasa dan Sastra Sunda","Bahasa dan Sastra Sunda","Bahasa dan Sastra Sunda","Bahasa dan Sastra Sunda","Bahasa dan Sastra Sunda","Bahasa dan Sastra Sunda"]
[null,null,null,60,"-","-","-","-","-","-","-","-","-"]
[null,null,null,61,"-","-","-","-","-","-","-","-","-"]
[null,null,3,62,"Pendidikan Agama dan Budi Pekerti","Pendidikan Agama dan Budi Pekerti","Pendidikan Agama dan Budi Pekerti","Pendidikan Agama dan Budi Pekerti","Pendidikan Agama dan Budi Pekerti","Pendidikan Agama dan Budi Pekerti","Pendidikan Agama dan Budi Pekerti","Pendidikan Agama dan Budi Pekerti","Pendidikan Agama dan Budi Pekerti"]
[null,null,null,63,"Pendidikan Pancasila dan Kewarganegaraan","Pendidikan Pancasila dan Kewarganegaraan","Pendidikan Pancasila dan Kewarganegaraan","Pendidikan Pancasila dan Kewarganegaraan","Pendidikan Pancasila dan Kewarganegaraan","Pendidikan Pancasila dan Kewarganegaraan","Pendidikan Pancasila dan Kewarganegaraan","Pendidikan Pancasila dan Kewarganegaraan","Pendidikan Pancasila dan Kewarganegaraan"]
[null,null,null,64,"Bahasa Indonesia","Bahasa Indonesia","Bahasa Indonesia","Bahasa Indonesia","Bahasa Indonesia","Bahasa Indonesia","Bahasa Indonesia","Bahasa Indonesia","Bahasa Indonesia"]
[null,null,null,65,"Matematika","Matematika","Matematika","Matematika","Matematika","Matematika","Matematika","Matematika","Matematika"]
[null,null,null,66,"Sejarah Indonesia","Sejarah Indonesia","Sejarah Indonesia","Sejarah Indonesia","Sejarah Indonesia","Sejarah Indonesia","Sejarah Indonesia","Sejarah Indonesia","Sejarah Indonesia"]
[null,null,null,{"$f":"D69+1","v":67},"Bahasa Inggris","Bahasa Inggris","Bahasa Inggris","Bahasa Inggris","Bahasa Inggris","Bahasa Inggris","Bahasa Inggris","Bahasa Inggris","Bahasa Inggris"]
[null,null,null,68,"Seni Budaya","Seni Budaya","Seni Budaya","Seni Budaya","Seni Budaya","Seni Budaya","Seni Budaya","Seni Budaya","Seni Budaya"]
[null,null,null,69,"Prakarya dan Kewirausahaan","Prakarya dan Kewirausahaan","Prakarya dan Kewirausahaan","Prakarya dan Kewirausahaan","Prakarya dan Kewirausahaan","Prakarya dan Kewirausahaan","Prakarya dan Kewirausahaan","Prakarya dan Kewirausahaan","Prakarya dan Kewirausahaan"]
[null,null,null,70,"Pendidikan Jasmani, Olah Raga & Kesehatan","Pendidikan Jasmani, Olah Raga & Kesehatan","Pendidikan Jasmani, Olah Raga & Kesehatan","Pendidikan Jasmani, Olah Raga & Kesehatan","Pendidikan Jasmani, Olah Raga & Kesehatan","Pendidikan Jasmani, Olah Raga & Kesehatan","Pendidikan Jasmani, Olah Raga & Kesehatan","Pendidikan Jasmani, Olah Raga & Kesehatan","Pendidikan Jasmani, Olah Raga & Kesehatan"]
[null,null,null,71,"Fisika","Fisika","Fisika","Fisika","Fisika","Fisika","Fisika","Fisika","Fisika"]
[null,null,null,72,"Kimia","Kimia","Kimia","Kimia","Kimia","Kimia","Kimia","Pemrograman Dasar","Pemrograman Dasar"]
[null,null,null,73,"Gambar Teknik","Gambar Teknik","Gambar Teknik","Gambar Teknik","Gambar Teknik","Gambar Teknik","Gambar Teknik","Sistem Komputer","Sistem Komputer"]
[null,null,null,74,"Mekanika Teknik","Simulasi Digital","Simulasi Digital","Simulasi Digital","Simulasi Digital","Simulasi Digital","Simulasi Digital","-","-"]
[null,null,null,75,"Simulasi Digital","-","-","-","-","-","-","-","-"]
[null,null,null,76,"-","-","-","-","-","-","-","-","-"]
[null,null,null,77,"-","-","-","-","-","-","-","-","-"]
[null,null,null,78,"-","-","-","-","-","-","-","-","-"]
[null,null,null,79,"-","-","-","-","-","-","-","-","-"]
[null,null,null,80,"Gambar Konstruksi Bangunan ","Rangkaian Elektronika","Teknik Pengelasan Oksi-Asetilin (OAW)","Teknik Pemesinan Sekrap","Pemeliharaan Mesin Kendaraan Ringan ","Pemeliharaan Mesin Sepeda Motor","Instalasi Penerangan Listrik","Komputer Terapan","Pemodelan Perangkat Lunak"]
[null,null,null,81,"Gambar Interior dan Eksterior Bangunan Gedung","Komunikasi Data & Interface","Teknik Pengelasan Las Busur Manual (SMAW)","Teknik Pemesinan Bubut","Pemeliharaan Sasis Kendaraan Ringan ","Pemeliharaan Sasis Sepeda Motor","Instalasi Tenaga Listrik","Komunikasi Data (VoIP)","Pemrograman Desktop"]
[null,null,null,82,"Menggambar dengan Perangkat Lunak","Sensor & Aktuator","Teknik Pengelasan Gas Metal (MIG/MAG)","Teknik Pemesinan Frais","Pemeliharaan Kelistrikan Kendaraan Ringan ","Pemeliharaan Kelistrikan Sepeda Motor","Instalasi Motor Listrik","Sistem Operasi Jaringan ","Pemrograman Berorientasi Obyek"]
[null,null,null,83,"-","Perekayasaan Sistem Kontrol","-","-","Pemeliharaan Panel-panel Bodi Kendaraan Ringan","-","-","Administrasi Server","Basis Data"]
[null,null,null,84,"-","-","Menggambar dengan sistem  CAD","Teknik Pemesinan CNC","-","-","-","Rancang Bangun Jaringan  ","Pemrograman Web Dinamis"]
[null,null,null,85,"-","-","-","-","-","-","-","-","-"]
[null,null,null,86,"-","-","-","-","-","-","-","-","-"]
[null,null,null,87,"-","-","-","-","-","-","-","-","-"]
[null,null,null,88,"-","-","-","-","-","-","-","-","-"]
[null,null,null,89,"-","-","-","-","-","-","-","-","-"]
[null,null,null,90,"Pendidikan Lingkungan Hidup","Pendidikan Lingkungan Hidup","Pendidikan Lingkungan Hidup","Pendidikan Lingkungan Hidup","Pendidikan Lingkungan Hidup","Pendidikan Lingkungan Hidup","Pendidikan Lingkungan Hidup","Pendidikan Lingkungan Hidup","Pendidikan Lingkungan Hidup"]
[null,null,null,91,"-","-","-","-","-","-","-","-","-"]
[null,null,4,92,"Pendidikan Agama dan Budi Pekerti","Pendidikan Agama dan Budi Pekerti","Pendidikan Agama dan Budi Pekerti","Pendidikan Agama dan Budi Pekerti","Pendidikan Agama dan Budi Pekerti","Pendidikan Agama dan Budi Pekerti","Pendidikan Agama dan Budi Pekerti","Pendidikan Agama dan Budi Pekerti","Pendidikan Agama dan Budi Pekerti"]
[null,null,null,93,"Pendidikan Pancasila dan Kewarganegaraan","Pendidikan Pancasila dan Kewarganegaraan","Pendidikan Pancasila dan Kewarganegaraan","Pendidikan Pancasila dan Kewarganegaraan","Pendidikan Pancasila dan Kewarganegaraan","Pendidikan Pancasila dan Kewarganegaraan","Pendidikan Pancasila dan Kewarganegaraan","Pendidikan Pancasila dan Kewarganegaraan","Pendidikan Pancasila dan Kewarganegaraan"]
[null,null,null,94,"Bahasa Indonesia","Bahasa Indonesia","Bahasa Indonesia","Bahasa Indonesia","Bahasa Indonesia","Bahasa Indonesia","Bahasa Indonesia","Bahasa Indonesia","Bahasa Indonesia"]
[null,null,null,95,"Matematika","Matematika","Matematika","Matematika","Matematika","Matematika","Matematika","Matematika","Matematika"]
[null,null,null,96,"Sejarah Indonesia","Sejarah Indonesia","Sejarah Indonesia","Sejarah Indonesia","Sejarah Indonesia","Sejarah Indonesia","Sejarah Indonesia","Sejarah Indonesia","Sejarah Indonesia"]
[null,null,null,97,"Bahasa Inggris","Bahasa Inggris","Bahasa Inggris","Bahasa Inggris","Bahasa Inggris","Bahasa Inggris","Bahasa Inggris","Bahasa Inggris","Bahasa Inggris"]
[null,null,null,98,"Seni Budaya","Seni Budaya","Seni Budaya","Seni Budaya","Seni Budaya","Seni Budaya","Seni Budaya","Seni Budaya","Seni Budaya"]
[null,null,null,99,"Prakarya dan Kewirausahaan","Prakarya dan Kewirausahaan","Prakarya dan Kewirausahaan","Prakarya dan Kewirausahaan","Prakarya dan Kewirausahaan","Prakarya dan Kewirausahaan","Prakarya dan Kewirausahaan","Prakarya dan Kewirausahaan","Prakarya dan Kewirausahaan"]
[null,null,null,100,"Pendidikan Jasmani, Olah Raga & Kesehatan","Pendidikan Jasmani, Olah Raga & Kesehatan","Pendidikan Jasmani, Olah Raga & Kesehatan","Pendidikan Jasmani, Olah Raga & Kesehatan","Pendidikan Jasmani, Olah Raga & Kesehatan","Pendidikan Jasmani, Olah Raga & Kesehatan","Pendidikan Jasmani, Olah Raga & Kesehatan","Pendidikan Jasmani, Olah Raga & Kesehatan","Pendidikan Jasmani, Olah Raga & Kesehatan"]
[null,null,null,101,"Fisika","Fisika","Fisika","Fisika","Fisika","Fisika","Fisika","Fisika","Fisika"]
[null,null,null,102,"Kimia","Kimia","Kimia","Kimia","Kimia","Kimia","Kimia","Pemrograman Dasar","Pemrograman Dasar"]
[null,null,null,103,"Gambar Teknik","Gambar Teknik","Gambar Teknik","Gambar Teknik","Gambar Teknik","Gambar Teknik","Gambar Teknik","Sistem Komputer","Sistem Komputer"]
[null,null,null,104,"Mekanika Teknik","Simulasi Digital","Simulasi Digital","Simulasi Digital","Simulasi Digital","Simulasi Digital","Simulasi Digital","-","-"]
[null,null,null,105,"Simulasi Digital","-","-","-","-","-","-","-","-"]
[null,null,null,106,"-","-","-","-","-","-","-","-","-"]
[null,null,null,107,"-","-","-","-","-","-","-","-","-"]
[null,null,null,108,"-","-","-","-","-","-","-","-","-"]
[null,null,null,109,"-","-","-","-","-","-","-","-","-"]
[null,null,null,110,"Gambar Konstruksi Bangunan ","Rangkaian Elektronika","Teknik Pengelasan Oksi-Asetilin (OAW)","Teknik Pemesinan Sekrap","Pemeliharaan Mesin Kendaraan Ringan ","Pemeliharaan Mesin Sepeda Motor","Instalasi Penerangan Listrik","Komputer Terapan","Pemodelan Perangkat Lunak"]
[null,null,null,111,"Gambar Interior dan Eksterior Bangunan Gedung","Komunikasi Data & Interface","Teknik Pengelasan Las Busur Manual (SMAW)","Teknik Pemesinan Bubut","Pemeliharaan Sasis Kendaraan Ringan ","Pemeliharaan Sasis Sepeda Motor","Instalasi Tenaga Listrik","Komunikasi Data (VoIP)","Pemrograman Desktop"]
[null,null,null,112,"Menggambar dengan Perangkat Lunak","Sensor & Aktuator","Teknik Pengelasan Gas Metal (MIG/MAG)","Teknik Pemesinan Frais","Pemeliharaan Kelistrikan Kendaraan Ringan ","Pemeliharaan Kelistrikan Sepeda Motor","Instalasi Motor Listrik","Sistem Operasi Jaringan ","Pemrograman Berorientasi Obyek"]
[null,null,null,113,"-","Perekayasaan Sistem Kontrol","-","-","Pemeliharaan Panel-panel Bodi Kendaraan Ringan","-","-","Administrasi Server","Basis Data"]
[null,null,null,114,"-","-","Menggambar dengan sistem  CAD","Teknik Pemesinan CNC","-","-","-","Rancang Bangun Jaringan  ","Pemrograman Web Dinamis"]
[null,null,null,115,"-","-","-","-","-","-","-","-","-"]
[null,null,null,116,"-","-","-","-","-","-","-","-","-"]
[null,null,null,117,"-","-","-","-","-","-","-","-","-"]
[null,null,null,118,"-","-","-","-","-","-","-","-","-"]
[null,null,null,119,"-","-","-","-","-","-","-","-","-"]
[null,null,null,120,"Pendidikan Lingkungan Hidup","Pendidikan Lingkungan Hidup","Pendidikan Lingkungan Hidup","Pendidikan Lingkungan Hidup","Pendidikan Lingkungan Hidup","Pendidikan Lingkungan Hidup","Pendidikan Lingkungan Hidup","Pendidikan Lingkungan Hidup","Pendidikan Lingkungan Hidup"]
[null,null,null,121,"-","-","-","-","-","-","-","-","-"]
[null,null,5,122,"Pendidikan Agama dan Budi Pekerti","Pendidikan Agama dan Budi Pekerti","Pendidikan Agama dan Budi Pekerti","Pendidikan Agama dan Budi Pekerti","Pendidikan Agama dan Budi Pekerti","Pendidikan Agama dan Budi Pekerti","Pendidikan Agama dan Budi Pekerti","Pendidikan Agama dan Budi Pekerti","Pendidikan Agama dan Budi Pekerti"]
[null,null,null,123,"Pendidikan Pancasila dan Kewarganegaraan","Pendidikan Pancasila dan Kewarganegaraan","Pendidikan Pancasila dan Kewarganegaraan","Pendidikan Pancasila dan Kewarganegaraan","Pendidikan Pancasila dan Kewarganegaraan","Pendidikan Pancasila dan Kewarganegaraan","Pendidikan Pancasila dan Kewarganegaraan","Pendidikan Pancasila dan Kewarganegaraan","Pendidikan Pancasila dan Kewarganegaraan"]
[null,null,null,124,"Bahasa Indonesia","Bahasa Indonesia","Bahasa Indonesia","Bahasa Indonesia","Bahasa Indonesia","Bahasa Indonesia","Bahasa Indonesia","Bahasa Indonesia","Bahasa Indonesia"]
[null,null,null,125,"Matematika","Matematika","Matematika","Matematika","Matematika","Matematika","Matematika","Matematika","Matematika"]
[null,null,null,126,"Sejarah Indonesia","Sejarah Indonesia","Sejarah Indonesia","Sejarah Indonesia","Sejarah Indonesia","Sejarah Indonesia","Sejarah Indonesia","Sejarah Indonesia","Sejarah Indonesia"]
[null,null,null,127,"Bahasa Inggris","Bahasa Inggris","Bahasa Inggris","Bahasa Inggris","Bahasa Inggris","Bahasa Inggris","Bahasa Inggris","Bahasa Inggris","Bahasa Inggris"]
[null,null,null,128,"Seni Budaya","Seni Budaya","Seni Budaya","Seni Budaya","Seni Budaya","Seni Budaya","Seni Budaya","Seni Budaya","Seni Budaya"]
[null,null,null,129,"Prakarya dan Kewirausahaan","Prakarya dan Kewirausahaan","Prakarya dan Kewirausahaan","Prakarya dan Kewirausahaan","Prakarya dan Kewirausahaan","Prakarya dan Kewirausahaan","Prakarya dan Kewirausahaan","Prakarya dan Kewirausahaan","Prakarya dan Kewirausahaan"]
[null,null,null,130,"Pendidikan Jasmani, Olah Raga & Kesehatan","Pendidikan Jasmani, Olah Raga & Kesehatan","Pendidikan Jasmani, Olah Raga & Kesehatan","Pendidikan Jasmani, Olah Raga & Kesehatan","Pendidikan Jasmani, Olah Raga & Kesehatan","Pendidikan Jasmani, Olah Raga & Kesehatan","Pendidikan Jasmani, Olah Raga & Kesehatan","Pendidikan Jasmani, Olah Raga & Kesehatan","Pendidikan Jasmani, Olah Raga & Kesehatan"]
[null,null,null,{"$f":"D133+1","v":131},"-","-","-","-","-","-","-","-","-"]
[null,null,null,132,"-","-","-","-","-","-","-","-","-"]
[null,null,null,133,"-","-","-","-","-","-","-","-","-"]
[null,null,null,134,"-","-","-","-","-","-","-","-","-"]
[null,null,null,135,"-","-","-","-","-","-","-","-","-"]
[null,null,null,136,"-","-","-","-","-","-","-","-","-"]
[null,null,null,137,"-","-","-","-","-","-","-","-","-"]
[null,null,null,138,"-","-","-","-","-","-","-","-","-"]
[null,null,null,139,"-","-","-","-","-","-","-","-","-"]
[null,null,null,140,"Gambar Konstruksi Bangunan ","-","-","-","Pemeliharaan Mesin Kendaraan Ringan ","Pemeliharaan Mesin Sepeda Motor","Instalasi Penerangan Listrik","-","-"]
[null,null,null,141,"Gambar Interior dan Eksterior Bangunan Gedung","-","Teknik Pengelasan Las Busur Manual (SMAW)","Teknik Pemesinan Bubut","Pemeliharaan Sasis Kendaraan Ringan ","Pemeliharaan Sasis Sepeda Motor","Instalasi Tenaga Listrik","-","-"]
[null,null,null,142,"Menggambar dengan Perangkat Lunak","Sensor & Aktuator","Teknik Pengelasan Gas Metal (MIG/MAG)","Teknik Pemesinan Frais","Pemeliharaan Kelistrikan Kendaraan Ringan ","Pemeliharaan Kelistrikan Sepeda Motor","Instalasi Motor Listrik","Sistem Operasi Jaringan ","Pemrograman Berorientasi Obyek"]
[null,null,null,143,"-","Perekayasaan Sistem Kontrol","Teknik Pengelasan Gas Tungsten (TIG/WIG)","Teknik Pemesinan Gerinda","-","-","-","Administrasi Server","Basis Data"]
[null,null,null,144,"-","Perekayasaan Sistem Robotik","-","Teknik Pemesinan CNC","Sistem Pemindah Tenaga","-","-","Rancang Bangun Jaringan  ","Pemrograman Web Dinamis"]
[null,null,null,145,"-","Pembuatan dan Pemeliharaan Peralatan Sistem Kontrol","-","Menggambar dengan sistem  CAD","-","-","-","Jaringan Nirkabel","Pemrograman Grafik"]
[null,null,null,146,"-","-","-","-","-","-","-","Keamanan Jaringan","Pemrograman Mobile"]
[null,null,null,147,"-","-","-","-","-","-","-","Troubleshooting Jaringan ","Administrasi Basis Data"]
[null,null,null,148,"-","-","-","-","-","-","-","Kerja Proyek","Kerja Proyek"]
[null,null,null,149,"-","-","-","-","-","-","-","-","-"]
[null,null,null,150,"-","-","-","-","-","-","-","-","-"]
[null,null,null,151,"Bahasa Jepang","Bahasa Jepang","Bahasa Jepang","Bahasa Jepang","Bahasa Jepang","Bahasa Jepang","Bahasa Jepang","Bahasa Jepang","Bahasa Jepang"]
[null,null,6,152,"Pendidikan Agama dan Budi Pekerti","Pendidikan Agama dan Budi Pekerti","Pendidikan Agama dan Budi Pekerti","Pendidikan Agama dan Budi Pekerti","Pendidikan Agama dan Budi Pekerti","Pendidikan Agama dan Budi Pekerti","Pendidikan Agama dan Budi Pekerti","Pendidikan Agama dan Budi Pekerti","Pendidikan Agama dan Budi Pekerti"]
[null,null,null,153,"Pendidikan Pancasila dan Kewarganegaraan","Pendidikan Pancasila dan Kewarganegaraan","Pendidikan Pancasila dan Kewarganegaraan","Pendidikan Pancasila dan Kewarganegaraan","Pendidikan Pancasila dan Kewarganegaraan","Pendidikan Pancasila dan Kewarganegaraan","Pendidikan Pancasila dan Kewarganegaraan","Pendidikan Pancasila dan Kewarganegaraan","Pendidikan Pancasila dan Kewarganegaraan"]
[null,null,null,154,"Bahasa Indonesia","Bahasa Indonesia","Bahasa Indonesia","Bahasa Indonesia","Bahasa Indonesia","Bahasa Indonesia","Bahasa Indonesia","Bahasa Indonesia","Bahasa Indonesia"]
[null,null,null,155,"Matematika","Matematika","Matematika","Matematika","Matematika","Matematika","Matematika","Matematika","Matematika"]
[null,null,null,156,"Sejarah Indonesia","Sejarah Indonesia","Sejarah Indonesia","Sejarah Indonesia","Sejarah Indonesia","Sejarah Indonesia","Sejarah Indonesia","Sejarah Indonesia","Sejarah Indonesia"]
[null,null,null,157,"Bahasa Inggris","Bahasa Inggris","Bahasa Inggris","Bahasa Inggris","Bahasa Inggris","Bahasa Inggris","Bahasa Inggris","Bahasa Inggris","Bahasa Inggris"]
[null,null,null,158,"Seni Budaya","Seni Budaya","Seni Budaya","Seni Budaya","Seni Budaya","Seni Budaya","Seni Budaya","Seni Budaya","Seni Budaya"]
[null,null,null,159,"Prakarya dan Kewirausahaan","Prakarya dan Kewirausahaan","Prakarya dan Kewirausahaan","Prakarya dan Kewirausahaan","Prakarya dan Kewirausahaan","Prakarya dan Kewirausahaan","Prakarya dan Kewirausahaan","Prakarya dan Kewirausahaan","Prakarya dan Kewirausahaan"]
[null,null,null,160,"Pendidikan Jasmani, Olah Raga & Kesehatan","Pendidikan Jasmani, Olah Raga & Kesehatan","Pendidikan Jasmani, Olah Raga & Kesehatan","Pendidikan Jasmani, Olah Raga & Kesehatan","Pendidikan Jasmani, Olah Raga & Kesehatan","Pendidikan Jasmani, Olah Raga & Kesehatan","Pendidikan Jasmani, Olah Raga & Kesehatan","Pendidikan Jasmani, Olah Raga & Kesehatan","Pendidikan Jasmani, Olah Raga & Kesehatan"]
[null,null,null,161,"-","-","-","-","-","-","-","-","-"]
[null,null,null,162,"-","-","-","-","-","-","-","-","-"]
[null,null,null,163,"-","-","-","-","-","-","-","-","-"]
[null,null,null,164,"-","-","-","-","-","-","-","-","-"]
[null,null,null,165,"-","-","-","-","-","-","-","-","-"]
[null,null,null,166,"-","-","-","-","-","-","-","-","-"]
[null,null,null,167,"-","-","-","-","-","-","-","-","-"]
[null,null,null,168,"-","-","-","-","-","-","-","-","-"]
[null,null,null,169,"-","-","-","-","-","-","-","-","-"]
[null,null,null,170,"Gambar Konstruksi Bangunan ","-","-","-","Pemeliharaan Mesin Kendaraan Ringan ","Pemeliharaan Mesin Sepeda Motor","Instalasi Penerangan Listrik","-","-"]
[null,null,null,171,"Gambar Interior dan Eksterior Bangunan Gedung","-","Teknik Pengelasan Las Busur Manual (SMAW)","Teknik Pemesinan Bubut","Pemeliharaan Sasis Kendaraan Ringan ","Pemeliharaan Sasis Sepeda Motor","Instalasi Tenaga Listrik","-","-"]
[null,null,null,172,"Menggambar dengan Perangkat Lunak","Sensor & Aktuator","Teknik Pengelasan Gas Metal (MIG/MAG)","Teknik Pemesinan Frais","Pemeliharaan Kelistrikan Kendaraan Ringan ","Pemeliharaan Kelistrikan Sepeda Motor","Instalasi Motor Listrik","Sistem Operasi Jaringan ","Pemrograman Berorientasi Obyek"]
[null,null,null,173,"-","Perekayasaan Sistem Kontrol","Teknik Pengelasan Gas Tungsten (TIG/WIG)","Teknik Pemesinan Gerinda","-","-","-","Administrasi Server","Basis Data"]
[null,null,null,174,"-","Perekayasaan Sistem Robotik","-","Teknik Pemesinan CNC","Sistem Pemindah Tenaga","-","-","Rancang Bangun Jaringan  ","Pemrograman Web Dinamis"]
[null,null,null,175,"-","Pembuatan dan Pemeliharaan Peralatan Sistem Kontrol","-","Menggambar dengan sistem  CAD","-","-","-","Jaringan Nirkabel","Pemrograman Grafik"]
[null,null,null,176,"-","-","-","-","-","-","-","Keamanan Jaringan","Pemrograman Mobile"]
[null,null,null,177,"-","-","-","-","-","-","-","Troubleshooting Jaringan ","Administrasi Basis Data"]
[null,null,null,178,"-","-","-","-","-","-","-","Kerja Proyek","Kerja Proyek"]
[null,null,null,179,"-","-","-","-","-","-","-","-","-"]
[null,null,null,180,"-","-","-","-","-","-","-","-","-"]
[null,null,null,181,"Bahasa Jepang","Bahasa Jepang","Bahasa Jepang","Bahasa Jepang","Bahasa Jepang","Bahasa Jepang","Bahasa Jepang","Bahasa Jepang","Bahasa Jepang"]

{"sheet":"NILAIX","index":1,"n_rows":2610,"n_cols":632,"rows_kept":139,"cut":true,"hidden":false,"merged":[[1,9,1,98],[1,99,1,188],[1,189,1,278],[1,279,1,368],[1,369,1,458],[1,459,1,548],[2,39,2,41],[2,9,2,11],[2,12,2,14],[2,15,2,17],[2,18,2,20],[2,21,2,23],[2,24,2,26],[2,27,2,29],[2,30,2,32],[2,33,2,35],[2,36,2,38],[2,107,2,109],[2,78,2,80],[2,42,2,44],[2,48,2,50],[2,51,2,53],[2,54,2,56],[2,57,2,59],[2,60,2,62],[2,63,2,65],[2,66,2,68],[2,69,2,71],[2,72,2,74],[2,75,2,77],[2,99,2,100],[2,81,2,83],[2,84,2,86],[2,87,2,89],[2,90,2,92],[2,93,2,95],[2,96,2,98],[2,143,2,145],[2,146,2,148],[2,149,2,151],[2,152,2,154],[2,155,2,157],[2,101,2,103],[2,104,2,106],[2,125,2,127],[2,128,2,130],[2,131,2,133],[2,134,2,136],[2,140,2,142],[2,110,2,112],[2,113,2,115],[2,116,2,118],[2,119,2,121],[2,122,2,124],[2,173,2,175],[2,176,2,178],[2,179,2,181],[2,182,2,184],[2,185,2,187],[2,158,2,160],[2,161,2,163],[2,164,2,166],[2,167,2,169],[2,170,2,172],[2,202,2,204],[2,205,2,207],[2,208,2,210],[2,211,2,213],[2,214,2,216],[2,188,2,189],[2,190,2,192],[2,193,2,195],[2,196,2,198],[2,199,2,201],[2,232,2,234],[2,235,2,237],[2,238,2,240],[2,241,2,243],[2,244,2,246],[2,217,2,219],[2,220,2,222],[2,223,2,225],[2,226,2,228],[2,229,2,231],[2,262,2,264],[2,265,2,267],[2,268,2,270],[2,271,2,273],[2,274,2,276],[2,247,2,249],[2,250,2,252],[2,253,2,255],[2,256,2,258],[2,259,2,261],[2,291,2,293],[2,294,2,296],[2,297,2,299],[2,300,2,302],[2,303,2,305],[2,277,2,278],[2,279,2,281],[2,282,2,284],[2,285,2,287],[2,288,2,290],[2,321,2,323],[2,324,2,326],[2,327,2,329],[2,330,2,332],[2,333,2,335],[2,306,2,308],[2,309,2,311],[2,312,2,314],[2,315,2,317],[2,318,2,320],[2,351,2,353],[2,354,2,356],[2,357,2,359],[2,360,2,362],[2,363,2,365],[2,336,2,338],[2,339,2,341],[2,342,2,344],[2,345,2,347],[2,348,2,350],[2,380,2,382],[2,383,2,385],[2,386,2,388],[2,389,2,391],[2,392,2,394],[2,366,2,368],[2,369,2,370],[2,371,2,373],[2,374,2,376],[2,377,2,379],[2,410,2,412],[2,413,2,415],[2,416,2,418],[2,419,2,421],[2,422,2,424],[2,395,2,397],[2,398,2,400],[2,401,2,403],[2,404,2,406],[2,407,2,409],[2,440,2,442],[2,443,2,445],[2,446,2,448],[2,449,2,451],[2,452,2,454],[2,425,2,427],[2,428,2,430],[2,431,2,433],[2,434,2,436],[2,437,2,439],[2,469,2,471],[2,472,2,474],[2,475,2,477],[2,478,2,480],[2,481,2,483],[2,455,2,457],[2,458,2,459],[2,460,2,462],[2,463,2,465],[2,466,2,468],[2,499,2,501],[2,502,2,504],[2,505,2,507],[2,508,2,510],[2,511,2,513],[2,484,2,486],[2,487,2,489],[2,490,2,492],[2,493,2,495],[2,496,2,498],[3,580,3,583],[3,584,3,587],[2,529,2,531],[2,532,2,534],[2,535,2,537],[2,538,2,540],[2,541,2,543],[2,514,2,516],[2,517,2,519],[2,520,2,522],[2,523,2,525],[2,526,2,528]],"bounds":{"rows_first":62,"rows_last":15,"rows_between":62,"halvings":5}}
[null,null,null,"TGB",{"$f":"\"NILAI SEMESTER TERTINGGI : \"&MAX(J8:TY874)","v":"NILAI SEMESTER TERTINGGI : 100"},null,null,null,"NAMA MAPEL JURUSAN",{"$f":"HLOOKUP($I$2,TABL_MAPEL,DB!B1,FALSE)","v":"Pendidikan Agama dan Budi Pekerti"},{"$f":"HLOOKUP($I$2,TABL_MAPEL,DB!C1,FALSE)","v":"Pendidikan Agama dan Budi Pekerti"},{"$f":"HLOOKUP($I$2,TABL_MAPEL,DB!D1,FALSE)","v":"Pendidikan Agama dan Budi Pekerti"},{"$f":"HLOOKUP($I$2,TABL_MAPEL,DB!E1,FALSE)","v":"Pendidikan Pancasila dan Kewarganegaraan"},{"$f":"HLOOKUP($I$2,TABL_MAPEL,DB!F1,FALSE)","v":"Pendidikan Pancasila dan Kewarganegaraan"},{"$f":"HLOOKUP($I$2,TABL_MAPEL,DB!G1,FALSE)","v":"Pendidikan Pancasila dan Kewarganegaraan"},{"$f":"HLOOKUP($I$2,TABL_MAPEL,DB!H1,FALSE)","v":"Bahasa Indonesia"},{"$f":"HLOOKUP($I$2,TABL_MAPEL,DB!I1,FALSE)","v":"Bahasa Indonesia"},{"$f":"HLOOKUP($I$2,TABL_MAPEL,DB!J1,FALSE)","v":"Bahasa Indonesia"},{"$f":"HLOOKUP($I$2,TABL_MAPEL,DB!K1,FALSE)","v":"Matematika"},{"$f":"HLOOKUP($I$2,TABL_MAPEL,DB!L1,FALSE)","v":"Matematika"},{"$f":"HLOOKUP($I$2,TABL_MAPEL,DB!M1,FALSE)","v":"Matematika"},{"$f":"HLOOKUP($I$2,TABL_MAPEL,DB!N1,FALSE)","v":"Sejarah Indonesia"},{"$f":"HLOOKUP($I$2,TABL_MAPEL,DB!O1,FALSE)","v":"Sejarah Indonesia"},{"$f":"HLOOKUP($I$2,TABL_MAPEL,DB!P1,FALSE)","v":"Sejarah Indonesia"},{"$f":"HLOOKUP($I$2,TABL_MAPEL,DB!Q1,FALSE)","v":"Bahasa Inggris"},{"$f":"HLOOKUP($I$2,TABL_MAPEL,DB!R1,FALSE)","v":"Bahasa Inggris"},{"$f":"HLOOKUP($I$2,TABL_MAPEL,DB!S1,FALSE)","v":"Bahasa Inggris"},{"$f":"HLOOKUP($I$2,TABL_MAPEL,DB!T1,FALSE)","v":"Seni Budaya"},{"$f":"HLOOKUP($I$2,TABL_MAPEL,DB!U1,FALSE)","v":"Seni Budaya"},{"$f":"HLOOKUP($I$2,TABL_MAPEL,DB!V1,FALSE)","v":"Seni Budaya"},{"$f":"HLOOKUP($I$2,TABL_MAPEL,DB!W1,FALSE)","v":"Prakarya dan Kewirausahaan"},{"$f":"HLOOKUP($I$2,TABL_MAPEL,DB!X1,FALSE)","v":"Prakarya dan Kewirausahaan"},{"$f":"HLOOKUP($I$2,TABL_MAPEL,DB!Y1,FALSE)","v":"Prakarya dan Kewirausahaan"},{"$f":"HLOOKUP($I$2,TABL_MAPEL,DB!Z1,FALSE)","v":"Pendidikan Jasmani, Olah Raga & Kesehatan"},{"$f":"HLOOKUP($I$2,TABL_MAPEL,DB!AA1,FALSE)","v":"Pendidikan Jasmani, Olah Raga & Kesehatan"},{"$f":"HLOOKUP($I$2,TABL_MAPEL,DB!AB1,FALSE)","v":"Pendidikan Jasmani, Olah Raga & Kesehatan"},{"$f":"HLOOKUP($I$2,TABL_MAPEL,DB!AC1,FALSE)","v":"Fisika"},{"$f":"HLOOKUP($I$2,TABL_MAPEL,DB!AD1,FALSE)","v":"Fisika"},{"$f":"HLOOKUP($I$2,TABL_MAPEL,DB!AE1,FALSE)","v":"Fisika"},{"$f":"HLOOKUP($I$2,TABL_MAPEL,DB!AF1,FALSE)","v":"Kimia"},{"$f":"HLOOKUP($I$2,TABL_MAPEL,DB!AG1,FALSE)","v":"Kimia"},{"$f":"HLOOKUP($I$2,TABL_MAPEL,DB!AH1,FALSE)","v":"Kimia"},{"$f":"HLOOKUP($I$2,TABL_MAPEL,DB!AI1,FALSE)","v":"Gambar Teknik"},{"$f":"HLOOKUP($I$2,TABL_MAPEL,DB!AJ1,FALSE)","v":"Gambar Teknik"},{"$f":"HLOOKUP($I$2,TABL_MAPEL,DB!AK1,FALSE)","v":"Gambar Teknik"},{"$f":"HLOOKUP($I$2,TABL_MAPEL,DB!AL1,FALSE)","v":"Simulasi Digital"},{"$f":"HLOOKUP($I$2,TABL_MAPEL,DB!AM1,FALSE)","v":"Simulasi Digital"},{"$f":"HLOOKUP($I$2,TABL_MAPEL,DB!AN1,FALSE)","v":"Simulasi Digital"},{"$f":"HLOOKUP($I$2,TABL_MAPEL,DB!AO1,FALSE)","v":"Mekanika Teknik"},{"$f":"HLOOKUP($I$2,TABL_MAPEL,DB!AP1,FALSE)","v":"Mekanika Teknik"},{"$f":"HLOOKUP($I$2,TABL_MAPEL,DB!AQ1,FALSE)","v":"Mekanika Teknik"},{"$f":"HLOOKUP($I$2,TABL_MAPEL,DB!AR1,FALSE)","v":"Ilmu Bangunan"},{"$f":"HLOOKUP($I$2,TABL_MAPEL,DB!AS1,FALSE)","v":"Ilmu Bangunan"},{"$f":"HLOOKUP($I$2,TABL_MAPEL,DB!AT1,FALSE)","v":"Ilmu Bangunan"},{"$f":"HLOOKUP($I$2,TABL_MAPEL,DB!AU1,FALSE)","v":"Ilmu Ukur Tanah"},{"$f":"HLOOKUP($I$2,TABL_MAPEL,DB!AV1,FALSE)","v":"Ilmu Ukur Tanah"},{"$f":"HLOOKUP($I$2,TABL_MAPEL,DB!AW1,FALSE)","v":"Ilmu Ukur Tanah"},{"$f":"HLOOKUP($I$2,TABL_MAPEL,DB!AX1,FALSE)","v":"Rencana Anggaran Biaya (RAB)"},{"$f":"HLOOKUP($I$2,TABL_MAPEL,DB!AY1,FALSE)","v":"Rencana Anggaran Biaya (RAB)"},{"$f":"HLOOKUP($I$2,TABL_MAPEL,DB!AZ1,FALSE)","v":"Rencana Anggaran Biaya (RAB)"},{"$f":"HLOOKUP($I$2,TABL_MAPEL,DB!BA1,FALSE)","v":"-"},{"$f":"HLOOKUP($I$2,TABL_MAPEL,DB!BB1,FALSE)","v":"-"},{"$f":"HLOOKUP($I$2,TABL_MAPEL,DB!BC1,FALSE)","v":"-"},{"$f":"HLOOKUP($I$2,TABL_MAPEL,DB!BD1,FALSE)","v":"-"},{"$f":"HLOOKUP($I$2,TABL_MAPEL,DB!BE1,FALSE)","v":"-"},{"$f":"HLOOKUP($I$2,TABL_MAPEL,DB!BF1,FALSE)","v":"-"},{"$f":"HLOOKUP($I$2,TABL_MAPEL,DB!BG1,FALSE)","v":"-"},{"$f":"HLOOKUP($I$2,TABL_MAPEL,DB!BH1,FALSE)","v":"-"},{"$f":"HLOOKUP($I$2,TABL_MAPEL,DB!BI1,FALSE)","v":"-"},{"$f":"HLOOKUP($I$2,TABL_MAPEL,DB!BJ1,FALSE)","v":"-"},{"$f":"HLOOKUP($I$2,TABL_MAPEL,DB!BK1,FALSE)","v":"-"},{"$f":"HLOOKUP($I$2,TABL_MAPEL,DB!BL1,FALSE)","v":"-"},{"$f":"HLOOKUP($I$2,TABL_MAPEL,DB!BM1,FALSE)","v":"-"},{"$f":"HLOOKUP($I$2,TABL_MAPEL,DB!BN1,FALSE)","v":"-"},{"$f":"HLOOKUP($I$2,TABL_MAPEL,DB!BO1,FALSE)","v":"-"},{"$f":"HLOOKUP($I$2,TABL_MAPEL,DB!BP1,FALSE)","v":"-"},{"$f":"HLOOKUP($I$2,TABL_MAPEL,DB!BQ1,FALSE)","v":"-"},{"$f":"HLOOKUP($I$2,TABL_MAPEL,DB!BR1,FALSE)","v":"-"},{"$f":"HLOOKUP($I$2,TABL_MAPEL,DB!BS1,FALSE)","v":"-"},{"$f":"HLOOKUP($I$2,TABL_MAPEL,DB!BT1,FALSE)","v":"-"},{"$f":"HLOOKUP($I$2,TABL_MAPEL,DB!BU1,FALSE)","v":"-"},{"$f":"HLOOKUP($I$2,TABL_MAPEL,DB!BV1,FALSE)","v":"-"},{"$f":"HLOOKUP($I$2,TABL_MAPEL,DB!BW1,FALSE)","v":"-"},{"$f":"HLOOKUP($I$2,TABL_MAPEL,DB!BX1,FALSE)","v":"-"},{"$f":"HLOOKUP($I$2,TABL_MAPEL,DB!BY1,FALSE)","v":"-"},{"$f":"HLOOKUP($I$2,TABL_MAPEL,DB!BZ1,FALSE)","v":"-"},{"$f":"HLOOKUP($I$2,TABL_MAPEL,DB!CA1,FALSE)","v":"-"},{"$f":"HLOOKUP($I$2,TABL_MAPEL,DB!CB1,FALSE)","v":"-"},{"$f":"HLOOKUP($I$2,TABL_MAPEL,DB!CC1,FALSE)","v":"-"},{"$f":"HLOOKUP($I$2,TABL_MAPEL,DB!CD1,FALSE)","v":"-"},{"$f":"HLOOKUP($I$2,TABL_MAPEL,DB!CE1,FALSE)","v":"Bahasa dan Sastra Sunda"},{"$f":"HLOOKUP($I$2,TABL_MAPEL,DB!CF1,FALSE)","v":"Bahasa dan Sastra Sunda"},{"$f":"HLOOKUP($I$2,TABL_MAPEL,DB!CG1,FALSE)","v":"Bahasa dan Sastra Sunda"},{"$f":"HLOOKUP($I$2,TABL_MAPEL,DB!CH1,FALSE)","v":"-"},{"$f":"HLOOKUP($I$2,TABL_MAPEL,DB!CI1,FALSE)","v":"-"},{"$f":"HLOOKUP($I$2,TABL_MAPEL,DB!CJ1,FALSE)","v":"-"},{"$f":"HLOOKUP($I$2,TABL_MAPEL,DB!CK1,FALSE)","v":"-"},{"$f":"HLOOKUP($I$2,TABL_MAPEL,DB!CL1,FALSE)","v":"-"},{"$f":"HLOOKUP($I$2,TABL_MAPEL,DB!CM1,FALSE)","v":"-"},{"$f":"HLOOKUP($I$2,TABL_MAPEL,DB!CN1,FALSE)","v":"Pendidikan Agama dan Budi Pekerti"},{"$f":"HLOOKUP($I$2,TABL_MAPEL,DB!CO1,FALSE)","v":"Pendidikan Agama dan Budi Pekerti"},{"$f":"HLOOKUP($I$2,TABL_MAPEL,DB!CP1,FALSE)","v":"Pendidikan Agama dan Budi Pekerti"},{"$f":"HLOOKUP($I$2,TABL_MAPEL,DB!CQ1,FALSE)","v":"Pendidikan Pancasila dan Kewarganegaraan"},{"$f":"HLOOKUP($I$2,TABL_MAPEL,DB!CR1,FALSE)","v":"Pendidikan Pancasila dan Kewarganegaraan"},{"$f":"HLOOKUP($I$2,TABL_MAPEL,DB!CS1,FALSE)","v":"Pendidikan Pancasila dan Kewarganegaraan"},{"$f":"HLOOKUP($I$2,TABL_MAPEL,DB!CT1,FALSE)","v":"Bahasa Indonesia"},{"$f":"HLOOKUP($I$2,TABL_MAPEL,DB!CU1,FALSE)","v":"Bahasa Indonesia"},{"$f":"HLOOKUP($I$2,TABL_MAPEL,DB!CV1,FALSE)","v":"Bahasa Indonesia"},{"$f":"HLOOKUP($I$2,TABL_MAPEL,DB!CW1,FALSE)","v":"Matematika"},{"$f":"HLOOKUP($I$2,TABL_MAPEL,DB!CX1,FALSE)","v":"Matematika"},{"$f":"HLOOKUP($I$2,TABL_MAPEL,DB!CY1,FALSE)","v":"Matematika"},{"$f":"HLOOKUP($I$2,TABL_MAPEL,DB!CZ1,FALSE)","v":"Sejarah Indonesia"},{"$f":"HLOOKUP($I$2,TABL_MAPEL,DB!DA1,FALSE)","v":"Sejarah Indonesia"},{"$f":"HLOOKUP($I$2,TABL_MAPEL,DB!DB1,FALSE)","v":"Sejarah Indonesia"},{"$f":"HLOOKUP($I$2,TABL_MAPEL,DB!DC1,FALSE)","v":"Bahasa Inggris"},{"$f":"HLOOKUP($I$2,TABL_MAPEL,DB!DD1,FALSE)","v":"Bahasa Inggris"},{"$f":"HLOOKUP($I$2,TABL_MAPEL,DB!DE1,FALSE)","v":"Bahasa Inggris"},{"$f":"HLOOKUP($I$2,TABL_MAPEL,DB!DF1,FALSE)","v":"Seni Budaya"},{"$f":"HLOOKUP($I$2,TABL_MAPEL,DB!DG1,FALSE)","v":"Seni Budaya"},{"$f":"HLOOKUP($I$2,TABL_MAPEL,DB!DH1,FALSE)","v":"Seni Budaya"},{"$f":"HLOOKUP($I$2,TABL_MAPEL,DB!DI1,FALSE)","v":"Prakarya dan Kewirausahaan"},{"$f":"HLOOKUP($I$2,TABL_MAPEL,DB!DJ1,FALSE)","v":"Prakarya dan Kewirausahaan"},{"$f":"HLOOKUP($I$2,TABL_MAPEL,DB!DK1,FALSE)","v":"Prakarya dan Kewirausahaan"},{"$f":"HLOOKUP($I$2,TABL_MAPEL,DB!DL1,FALSE)","v":"Pendidikan Jasmani, Olah Raga & Kesehatan"},{"$f":"HLOOKUP($I$2,TABL_MAPEL,DB!DM1,FALSE)","v":"Pendidikan Jasmani, Olah Raga & Kesehatan"},{"$f":"HLOOKUP($I$2,TABL_MAPEL,DB!DN1,FALSE)","v":"Pendidikan Jasmani, Olah Raga & Kesehatan"},{"$f":"HLOOKUP($I$2,TABL_MAPEL,DB!DO1,FALSE)","v":"Fisika"},{"$f":"HLOOKUP($I$2,TABL_MAPEL,DB!DP1,FALSE)","v":"Fisika"},{"$f":"HLOOKUP($I$2,TABL_MAPEL,DB!DQ1,FALSE)","v":"Fisika"},{"$f":"HLOOKUP($I$2,TABL_MAPEL,DB!DR1,FALSE)","v":"Kimia"},{"$f":"HLOOKUP($I$2,TABL_MAPEL,DB!DS1,FALSE)","v":"Kimia"},{"$f":"HLOOKUP($I$2,TABL_MAPEL,DB!DT1,FALSE)","v":"Kimia"},{"$f":"HLOOKUP($I$2,TABL_MAPEL,DB!DU1,FALSE)","v":"Gambar Teknik"},{"$f":"HLOOKUP($I$2,TABL_MAPEL,DB!DV1,FALSE)","v":"Gambar Teknik"},{"$f":"HLOOKUP($I$2,TABL_MAPEL,DB!DW1,FALSE)","v":"Gambar Teknik"},{"$f":"HLOOKUP($I$2,TABL_MAPEL,DB!DX1,FALSE)","v":"Simulasi Digital"},{"$f":"HLOOKUP($I$2,TABL_MAPEL,DB!DY1,FALSE)","v":"Simulasi Digital"},{"$f":"HLOOKUP($I$2,TABL_MAPEL,DB!DZ1,FALSE)","v":"Simulasi Digital"},{"$f":"HLOOKUP($I$2,TABL_MAPEL,DB!EA1,FALSE)","v":"Mekanika Teknik"},{"$f":"HLOOKUP($I$2,TABL_MAPEL,DB!EB1,FALSE)","v":"Mekanika Teknik"},{"$f":"HLOOKUP($I$2,TABL_MAPEL,DB!EC1,FALSE)","v":"Mekanika Teknik"},{"$f":"HLOOKUP($I$2,TABL_MAPEL,DB!ED1,FALSE)","v":"Ilmu Bangunan"},{"$f":"HLOOKUP($I$2,TABL_MAPEL,DB!EE1,FALSE)","v":"Ilmu Bangunan"},{"$f":"HLOOKUP($I$2,TABL_MAPEL,DB!EF1,FALSE)","v":"Ilmu Bangunan"},{"$f":"HLOOKUP($I$2,TABL_MAPEL,DB!EG1,FALSE)","v":"Ilmu Ukur Tanah"},{"$f":"HLOOKUP($I$2,TABL_MAPEL,DB!EH1,FALSE)","v":"Ilmu Ukur Tanah"},{"$f":"HLOOKUP($I$2,TABL_MAPEL,DB!EI1,FALSE)","v":"Ilmu Ukur Tanah"},{"$f":"HLOOKUP($I$2,TABL_MAPEL,DB!EJ1,FALSE)","v":"Rencana Anggaran Biaya (RAB)"},{"$f":"HLOOKUP($I$2,TABL_MAPEL,DB!EK1,FALSE)","v":"Rencana Anggaran Biaya (RAB)"},{"$f":"HLOOKUP($I$2,TABL_MAPEL,DB!EL1,FALSE)","v":"Rencana Anggaran Biaya (RAB)"},{"$f":"HLOOKUP($I$2,TABL_MAPEL,DB!EM1,FALSE)","v":"-"},{"$f":"HLOOKUP($I$2,TABL_MAPEL,DB!EN1,FALSE)","v":"-"},{"$f":"HLOOKUP($I$2,TABL_MAPEL,DB!EO1,FALSE)","v":"-"},{"$f":"HLOOKUP($I$2,TABL_MAPEL,DB!EP1,FALSE)","v":"-"},{"$f":"HLOOKUP($I$2,TABL_MAPEL,DB!EQ1,FALSE)","v":"-"},{"$f":"HLOOKUP($I$2,TABL_MAPEL,DB!ER1,FALSE)","v":"-"},{"$f":"HLOOKUP($I$2,TABL_MAPEL,DB!ES1,FALSE)","v":"-"},{"$f":"HLOOKUP($I$2,TABL_MAPEL,DB!ET1,FALSE)","v":"-"},{"$f":"HLOOKUP($I$2,TABL_MAPEL,DB!EU1,FALSE)","v":"-"},{"$f":"HLOOKUP($I$2,TABL_MAPEL,DB!EV1,FALSE)","v":"-"},{"$f":"HLOOKUP($I$2,TABL_MAPEL,DB!EW1,FALSE)","v":"-"},{"$f":"HLOOKUP($I$2,TABL_MAPEL,DB!EX1,FALSE)","v":"-"},{"$f":"HLOOKUP($I$2,TABL_MAPEL,DB!EY1,FALSE)","v":"-"},{"$f":"HLOOKUP($I$2,TABL_MAPEL,DB!EZ1,FALSE)","v":"-"},{"$f":"HLOOKUP($I$2,TABL_MAPEL,DB!FA1,FALSE)","v":"-"},{"$f":"HLOOKUP($I$2,TABL_MAPEL,DB!FB1,FALSE)","v":"-"},{"$f":"HLOOKUP($I$2,TABL_MAPEL,DB!FC1,FALSE)","v":"-"},{"$f":"HLOOKUP($I$2,TABL_MAPEL,DB!FD1,FALSE)","v":"-"},{"$f":"HLOOKUP($I$2,TABL_MAPEL,DB!FE1,FALSE)","v":"-"},{"$f":"HLOOKUP($I$2,TABL_MAPEL,DB!FF1,FALSE)","v":"-"},{"$f":"HLOOKUP($I$2,TABL_MAPEL,DB!FG1,FALSE)","v":"-"},{"$f":"HLOOKUP($I$2,TABL_MAPEL,DB!FH1,FALSE)","v":"-"},{"$f":"HLOOKUP($I$2,TABL_MAPEL,DB!FI1,FALSE)","v":"-"},{"$f":"HLOOKUP($I$2,TABL_MAPEL,DB!FJ1,FALSE)","v":"-"},{"$f":"HLOOKUP($I$2,TABL_MAPEL,DB!FK1,FALSE)","v":"-"},{"$f":"HLOOKUP($I$2,TABL_MAPEL,DB!FL1,FALSE)","v":"-"},{"$f":"HLOOKUP($I$2,TABL_MAPEL,DB!FM1,FALSE)","v":"-"},{"$f":"HLOOKUP($I$2,TABL_MAPEL,DB!FN1,FALSE)","v":"-"},{"$f":"HLOOKUP($I$2,TABL_MAPEL,DB!FO1,FALSE)","v":"-"},{"$f":"HLOOKUP($I$2,TABL_MAPEL,DB!FP1,FALSE)","v":"-"},{"$f":"HLOOKUP($I$2,TABL_MAPEL,DB!FQ1,FALSE)","v":"Bahasa dan Sastra Sunda"},{"$f":"HLOOKUP($I$2,TABL_MAPEL,DB!FR1,FALSE)","v":"Bahasa dan Sastra Sunda"},{"$f":"HLOOKUP($I$2,TABL_MAPEL,DB!FS1,FALSE)","v":"Bahasa dan Sastra Sunda"},{"$f":"HLOOKUP($I$2,TABL_MAPEL,DB!FT1,FALSE)","v":"-"},{"$f":"HLOOKUP($I$2,TABL_MAPEL,DB!FU1,FALSE)","v":"-"},{"$f":"HLOOKUP($I$2,TABL_MAPEL,DB!FV1,FALSE)","v":"-"},{"$f":"HLOOKUP($I$2,TABL_MAPEL,DB!FW1,FALSE)","v":"-"},{"$f":"HLOOKUP($I$2,TABL_MAPEL,DB!FX1,FALSE)","v":"-"},{"$f":"HLOOKUP($I$2,TABL_MAPEL,DB!FY1,FALSE)","v":"-"},{"$f":"HLOOKUP($I$2,TABL_MAPEL,DB!FZ1,FALSE)","v":"Pendidikan Agama dan Budi Pekerti"},{"$f":"HLOOKUP($I$2,TABL_MAPEL,DB!GA1,FALSE)","v":"Pendidikan Agama dan Budi Pekerti"},{"$f":"HLOOKUP($I$2,TABL_MAPEL,DB!GB1,FALSE)","v":"Pendidikan Agama dan Budi Pekerti"},{"$f":"HLOOKUP($I$2,TABL_MAPEL,DB!GC1,FALSE)","v":"Pendidikan Pancasila dan Kewarganegaraan"},{"$f":"HLOOKUP($I$2,TABL_MAPEL,DB!GD1,FALSE)","v":"Pendidikan Pancasila dan Kewarganegaraan"},{"$f":"HLOOKUP($I$2,TABL_MAPEL,DB!GE1,FALSE)","v":"Pendidikan Pancasila dan Kewarganegaraan"},{"$f":"HLOOKUP($I$2,TABL_MAPEL,DB!GF1,FALSE)","v":"Bahasa Indonesia"},{"$f":"HLOOKUP($I$2,TABL_MAPEL,DB!GG1,FALSE)","v":"Bahasa Indonesia"},{"$f":"HLOOKUP($I$2,TABL_MAPEL,DB!GH1,FALSE)","v":"Bahasa Indonesia"},{"$f":"HLOOKUP($I$2,TABL_MAPEL,DB!GI1,FALSE)","v":"Matematika"},{"$f":"HLOOKUP($I$2,TABL_MAPEL,DB!GJ1,FALSE)","v":"Matematika"},{"$f":"HLOOKUP($I$2,TABL_MAPEL,DB!GK1,FALSE)","v":"Matematika"},{"$f":"HLOOKUP($I$2,TABL_MAPEL,DB!GL1,FALSE)","v":"Sejarah Indonesia"},{"$f":"HLOOKUP($I$2,TABL_MAPEL,DB!GM1,FALSE)","v":"Sejarah Indonesia"},{"$f":"HLOOKUP($I$2,TABL_MAPEL,DB!GN1,FALSE)","v":"Sejarah Indonesia"},{"$f":"HLOOKUP($I$2,TABL_MAPEL,DB!GO1,FALSE)","v":"Bahasa Inggris"},{"$f":"HLOOKUP($I$2,TABL_MAPEL,DB!GP1,FALSE)","v":"Bahasa Inggris"},{"$f":"HLOOKUP($I$2,TABL_MAPEL,DB!GQ1,FALSE)","v":"Bahasa Inggris"},{"$f":"HLOOKUP($I$2,TABL_MAPEL,DB!GR1,FALSE)","v":"Seni Budaya"},{"$f":"HLOOKUP($I$2,TABL_MAPEL,DB!GS1,FALSE)","v":"Seni Budaya"},{"$f":"HLOOKUP($I$2,TABL_MAPEL,DB!GT1,FALSE)","v":"Seni Budaya"},{"$f":"HLOOKUP($I$2,TABL_MAPEL,DB!GU1,FALSE)","v":"Prakarya dan Kewirausahaan"},{"$f":"HLOOKUP($I$2,TABL_MAPEL,DB!GV1,FALSE)","v":"Prakarya dan Kewirausahaan"},{"$f":"HLOOKUP($I$2,TABL_MAPEL,DB!GW1,FALSE)","v":"Prakarya dan Kewirausahaan"},{"$f":"HLOOKUP($I$2,TABL_MAPEL,DB!GX1,FALSE)","v":"Pendidikan Jasmani, Olah Raga & Kesehatan"},{"$f":"HLOOKUP($I$2,TABL_MAPEL,DB!GY1,FALSE)","v":"Pendidikan Jasmani, Olah Raga & Kesehatan"},{"$f":"HLOOKUP($I$2,TABL_MAPEL,DB!GZ1,FALSE)","v":"Pendidikan Jasmani, Olah Raga & Kesehatan"},{"$f":"HLOOKUP($I$2,TABL_MAPEL,DB!HA1,FALSE)","v":"Fisika"},{"$f":"HLOOKUP($I$2,TABL_MAPEL,DB!HB1,FALSE)","v":"Fisika"},{"$f":"HLOOKUP($I$2,TABL_MAPEL,DB!HC1,FALSE)","v":"Fisika"},{"$f":"HLOOKUP($I$2,TABL_MAPEL,DB!HD1,FALSE)","v":"Kimia"},{"$f":"HLOOKUP($I$2,TABL_MAPEL,DB!HE1,FALSE)","v":"Kimia"},{"$f":"HLOOKUP($I$2,TABL_MAPEL,DB!HF1,FALSE)","v":"Kimia"},{"$f":"HLOOKUP($I$2,TABL_MAPEL,DB!HG1,FALSE)","v":"Gambar Teknik"},{"$f":"HLOOKUP($I$2,TABL_MAPEL,DB!HH1,FALSE)","v":"Gambar Teknik"},{"$f":"HLOOKUP($I$2,TABL_MAPEL,DB!HI1,FALSE)","v":"Gambar Teknik"},{"$f":"HLOOKUP($I$2,TABL_MAPEL,DB!HJ1,FALSE)","v":"Mekanika Teknik"},{"$f":"HLOOKUP($I$2,TABL_MAPEL,DB!HK1,FALSE)","v":"Mekanika Teknik"},{"$f":"HLOOKUP($I$2,TABL_MAPEL,DB!HL1,FALSE)","v":"Mekanika Teknik"},{"$f":"HLOOKUP($I$2,TABL_MAPEL,DB!HM1,FALSE)","v":"Simulasi Digital"},{"$f":"HLOOKUP($I$2,TABL_MAPEL,DB!HN1,FALSE)","v":"Simulasi Digital"},{"$f":"HLOOKUP($I$2,TABL_MAPEL,DB!HO1,FALSE)","v":"Simulasi Digital"},{"$f":"HLOOKUP($I$2,TABL_MAPEL,DB!HP1,FALSE)","v":"-"},{"$f":"HLOOKUP($I$2,TABL_MAPEL,DB!HQ1,FALSE)","v":"-"},{"$f":"HLOOKUP($I$2,TABL_MAPEL,DB!HR1,FALSE)","v":"-"},{"$f":"HLOOKUP($I$2,TABL_MAPEL,DB!HS1,FALSE)","v":"-"},{"$f":"HLOOKUP($I$2,TABL_MAPEL,DB!HT1,FALSE)","v":"-"},{"$f":"HLOOKUP($I$2,TABL_MAPEL,DB!HU1,FALSE)","v":"-"},{"$f":"HLOOKUP($I$2,TABL_MAPEL,DB!HV1,FALSE)","v":"-"},{"$f":"HLOOKUP($I$2,TABL_MAPEL,DB!HW1,FALSE)","v":"-"},{"$f":"HLOOKUP($I$2,TABL_MAPEL,DB!HX1,FALSE)","v":"-"},{"$f":"HLOOKUP($I$2,TABL_MAPEL,DB!HY1,FALSE)","v":"-"},{"$f":"HLOOKUP($I$2,TABL_MAPEL,DB!HZ1,FALSE)","v":"-"},{"$f":"HLOOKUP($I$2,TABL_MAPEL,DB!IA1,FALSE)","v":"-"},{"$f":"HLOOKUP($I$2,TABL_MAPEL,DB!IB1,FALSE)","v":"Gambar Konstruksi Bangunan "},{"$f":"HLOOKUP($I$2,TABL_MAPEL,DB!IC1,FALSE)","v":"Gambar Konstruksi Bangunan "},{"$f":"HLOOKUP($I$2,TABL_MAPEL,DB!ID1,FALSE)","v":"Gambar Konstruksi Bangunan "},{"$f":"HLOOKUP($I$2,TABL_MAPEL,DB!IE1,FALSE)","v":"Gambar Interior dan Eksterior Bangunan Gedung"},{"$f":"HLOOKUP($I$2,TABL_MAPEL,DB!IF1,FALSE)","v":"Gambar Interior dan Eksterior Bangunan Gedung"},{"$f":"HLOOKUP($I$2,TABL_MAPEL,DB!IG1,FALSE)","v":"Gambar Interior dan Eksterior Bangunan Gedung"},{"$f":"HLOOKUP($I$2,TABL_MAPEL,DB!IH1,FALSE)","v":"Menggambar dengan Perangkat Lunak"},{"$f":"HLOOKUP($I$2,TABL_MAPEL,DB!II1,FALSE)","v":"Menggambar dengan Perangkat Lunak"},{"$f":"HLOOKUP($I$2,TABL_MAPEL,DB!IJ1,FALSE)","v":"Menggambar dengan Perangkat Lunak"},{"$f":"HLOOKUP($I$2,TABL_MAPEL,DB!IK1,FALSE)","v":"-"},{"$f":"HLOOKUP($I$2,TABL_MAPEL,DB!IL1,FALSE)","v":"-"},{"$f":"HLOOKUP($I$2,TABL_MAPEL,DB!IM1,FALSE)","v":"-"},{"$f":"HLOOKUP($I$2,TABL_MAPEL,DB!IN1,FALSE)","v":"-"},{"$f":"HLOOKUP($I$2,TABL_MAPEL,DB!IO1,FALSE)","v":"-"},{"$f":"HLOOKUP($I$2,TABL_MAPEL,DB!IP1,FALSE)","v":"-"},{"$f":"HLOOKUP($I$2,TABL_MAPEL,DB!IQ1,FALSE)","v":"-"},{"$f":"HLOOKUP($I$2,TABL_MAPEL,DB!IR1,FALSE)","v":"-"},{"$f":"HLOOKUP($I$2,TABL_MAPEL,DB!IS1,FALSE)","v":"-"},{"$f":"HLOOKUP($I$2,TABL_MAPEL,DB!IT1,FALSE)","v":"-"},{"$f":"HLOOKUP($I$2,TABL_MAPEL,DB!IU1,FALSE)","v":"-"},{"$f":"HLOOKUP($I$2,TABL_MAPEL,DB!IV1,FALSE)","v":"-"},{"$f":"HLOOKUP($I$2,TABL_MAPEL,DB!IW1,FALSE)","v":"-"},{"$f":"HLOOKUP($I$2,TABL_MAPEL,DB!IX1,FALSE)","v":"-"},{"$f":"HLOOKUP($I$2,TABL_MAPEL,DB!IY1,FALSE)","v":"-"},{"$f":"HLOOKUP($I$2,TABL_MAPEL,DB!IZ1,FALSE)","v":"-"},{"$f":"HLOOKUP($I$2,TABL_MAPEL,DB!JA1,FALSE)","v":"-"},{"$f":"HLOOKUP($I$2,TABL_MAPEL,DB!JB1,FALSE)","v":"-"},{"$f":"HLOOKUP($I$2,TABL_MAPEL,DB!JC1,FALSE)","v":"-"},{"$f":"HLOOKUP($I$2,TABL_MAPEL,DB!JD1,FALSE)","v":"-"},{"$f":"HLOOKUP($I$2,TABL_MAPEL,DB!JE1,FALSE)","v":"-"},{"$f":"HLOOKUP($I$2,TABL_MAPEL,DB!JF1,FALSE)","v":"Pendidikan Lingkungan Hidup"},{"$f":"HLOOKUP($I$2,TABL_MAPEL,DB!JG1,FALSE)","v":"Pendidikan Lingkungan Hidup"},{"$f":"HLOOKUP($I$2,TABL_MAPEL,DB!JH1,FALSE)","v":"Pendidikan Lingkungan Hidup"},{"$f":"HLOOKUP($I$2,TABL_MAPEL,DB!JI1,FALSE)","v":"-"},{"$f":"HLOOKUP($I$2,TABL_MAPEL,DB!JJ1,FALSE)","v":"-"},{"$f":"HLOOKUP($I$2,TABL_MAPEL,DB!JK1,FALSE)","v":"-"},{"$f":"HLOOKUP($I$2,TABL_MAPEL,DB!JL1,FALSE)","v":"Pendidikan Agama dan Budi Pekerti"},{"$f":"HLOOKUP($I$2,TABL_MAPEL,DB!JM1,FALSE)","v":"Pendidikan Agama dan Budi Pekerti"},{"$f":"HLOOKUP($I$2,TABL_MAPEL,DB!JN1,FALSE)","v":"Pendidikan Agama dan Budi Pekerti"},{"$f":"HLOOKUP($I$2,TABL_MAPEL,DB!JO1,FALSE)","v":"Pendidikan Pancasila dan Kewarganegaraan"},{"$f":"HLOOKUP($I$2,TABL_MAPEL,DB!JP1,FALSE)","v":"Pendidikan Pancasila dan Kewarganegaraan"},{"$f":"HLOOKUP($I$2,TABL_MAPEL,DB!JQ1,FALSE)","v":"Pendidikan Pancasila dan Kewarganegaraan"},{"$f":"HLOOKUP($I$2,TABL_MAPEL,DB!JR1,FALSE)","v":"Bahasa Indonesia"},{"$f":"HLOOKUP($I$2,TABL_MAPEL,DB!JS1,FALSE)","v":"Bahasa Indonesia"},{"$f":"HLOOKUP($I$2,TABL_MAPEL,DB!JT1,FALSE)","v":"Bahasa Indonesia"},{"$f":"HLOOKUP($I$2,TABL_MAPEL,DB!JU1,FALSE)","v":"Matematika"},{"$f":"HLOOKUP($I$2,TABL_MAPEL,DB!JV1,FALSE)","v":"Matematika"},{"$f":"HLOOKUP($I$2,TABL_MAPEL,DB!JW1,FALSE)","v":"Matematika"},{"$f":"HLOOKUP($I$2,TABL_MAPEL,DB!JX1,FALSE)","v":"Sejarah Indonesia"},{"$f":"HLOOKUP($I$2,TABL_MAPEL,DB!JY1,FALSE)","v":"Sejarah Indonesia"},{"$f":"HLOOKUP($I$2,TABL_MAPEL,DB!JZ1,FALSE)","v":"Sejarah Indonesia"},{"$f":"HLOOKUP($I$2,TABL_MAPEL,DB!KA1,FALSE)","v":"Bahasa Inggris"},{"$f":"HLOOKUP($I$2,TABL_MAPEL,DB!KB1,FALSE)","v":"Bahasa Inggris"},{"$f":"HLOOKUP($I$2,TABL_MAPEL,DB!KC1,FALSE)","v":"Bahasa Inggris"},{"$f":"HLOOKUP($I$2,TABL_MAPEL,DB!KD1,FALSE)","v":"Seni Budaya"},{"$f":"HLOOKUP($I$2,TABL_MAPEL,DB!KE1,FALSE)","v":"Seni Budaya"},{"$f":"HLOOKUP($I$2,TABL_MAPEL,DB!KF1,FALSE)","v":"Seni Budaya"},{"$f":"HLOOKUP($I$2,TABL_MAPEL,DB!KG1,FALSE)","v":"Prakarya dan Kewirausahaan"},{"$f":"HLOOKUP($I$2,TABL_MAPEL,DB!KH1,FALSE)","v":"Prakarya dan Kewirausahaan"},{"$f":"HLOOKUP($I$2,TABL_MAPEL,DB!KI1,FALSE)","v":"Prakarya dan Kewirausahaan"},{"$f":"HLOOKUP($I$2,TABL_MAPEL,DB!KJ1,FALSE)","v":"Pendidikan Jasmani, Olah Raga & Kesehatan"},{"$f":"HLOOKUP($I$2,TABL_MAPEL,DB!KK1,FALSE)","v":"Pendidikan Jasmani, Olah Raga & Kesehatan"},{"$f":"HLOOKUP($I$2,TABL_MAPEL,DB!KL1,FALSE)","v":"Pendidikan Jasmani, Olah Raga & Kesehatan"},{"$f":"HLOOKUP($I$2,TABL_MAPEL,DB!KM1,FALSE)","v":"Fisika"},{"$f":"HLOOKUP($I$2,TABL_MAPEL,DB!KN1,FALSE)","v":"Fisika"},{"$f":"HLOOKUP($I$2,TABL_MAPEL,DB!KO1,FALSE)","v":"Fisika"},{"$f":"HLOOKUP($I$2,TABL_MAPEL,DB!KP1,FALSE)","v":"Kimia"},{"$f":"HLOOKUP($I$2,TABL_MAPEL,DB!KQ1,FALSE)","v":"Kimia"},{"$f":"HLOOKUP($I$2,TABL_MAPEL,DB!KR1,FALSE)","v":"Kimia"},{"$f":"HLOOKUP($I$2,TABL_MAPEL,DB!KS1,FALSE)","v":"Gambar Teknik"},{"$f":"HLOOKUP($I$2,TABL_MAPEL,DB!KT1,FALSE)","v":"Gambar Teknik"},{"$f":"HLOOKUP($I$2,TABL_MAPEL,DB!KU1,FALSE)","v":"Gambar Teknik"},{"$f":"HLOOKUP($I$2,TABL_MAPEL,DB!KV1,FALSE)","v":"Mekanika Teknik"},{"$f":"HLOOKUP($I$2,TABL_MAPEL,DB!KW1,FALSE)","v":"Mekanika Teknik"},{"$f":"HLOOKUP($I$2,TABL_MAPEL,DB!KX1,FALSE)","v":"Mekanika Teknik"},{"$f":"HLOOKUP($I$2,TABL_MAPEL,DB!KY1,FALSE)","v":"Simulasi Digital"},{"$f":"HLOOKUP($I$2,TABL_MAPEL,DB!KZ1,FALSE)","v":"Simulasi Digital"},{"$f":"HLOOKUP($I$2,TABL_MAPEL,DB!LA1,FALSE)","v":"Simulasi Digital"},{"$f":"HLOOKUP($I$2,TABL_MAPEL,DB!LB1,FALSE)","v":"-"},{"$f":"HLOOKUP($I$2,TABL_MAPEL,DB!LC1,FALSE)","v":"-"},{"$f":"HLOOKUP($I$2,TABL_MAPEL,DB!LD1,FALSE)","v":"-"},{"$f":"HLOOKUP($I$2,TABL_MAPEL,DB!LE1,FALSE)","v":"-"},{"$f":"HLOOKUP($I$2,TABL_MAPEL,DB!LF1,FALSE)","v":"-"},{"$f":"HLOOKUP($I$2,TABL_MAPEL,DB!LG1,FALSE)","v":"-"},{"$f":"HLOOKUP($I$2,TABL_MAPEL,DB!LH1,FALSE)","v":"-"},{"$f":"HLOOKUP($I$2,TABL_MAPEL,DB!LI1,FALSE)","v":"-"},{"$f":"HLOOKUP($I$2,TABL_MAPEL,DB!LJ1,FALSE)","v":"-"},{"$f":"HLOOKUP($I$2,TABL_MAPEL,DB!LK1,FALSE)","v":"-"},{"$f":"HLOOKUP($I$2,TABL_MAPEL,DB!LL1,FALSE)","v":"-"},{"$f":"HLOOKUP($I$2,TABL_MAPEL,DB!LM1,FALSE)","v":"-"},{"$f":"HLOOKUP($I$2,TABL_MAPEL,DB!LN1,FALSE)","v":"Gambar Konstruksi Bangunan "},{"$f":"HLOOKUP($I$2,TABL_MAPEL,DB!LO1,FALSE)","v":"Gambar Konstruksi Bangunan "},{"$f":"HLOOKUP($I$2,TABL_MAPEL,DB!LP1,FALSE)","v":"Gambar Konstruksi Bangunan "},{"$f":"HLOOKUP($I$2,TABL_MAPEL,DB!LQ1,FALSE)","v":"Gambar Interior dan Eksterior Bangunan Gedung"},{"$f":"HLOOKUP($I$2,TABL_MAPEL,DB!LR1,FALSE)","v":"Gambar Interior dan Eksterior Bangunan Gedung"},{"$f":"HLOOKUP($I$2,TABL_MAPEL,DB!LS1,FALSE)","v":"Gambar Interior dan Eksterior Bangunan Gedung"},{"$f":"HLOOKUP($I$2,TABL_MAPEL,DB!LT1,FALSE)","v":"Menggambar dengan Perangkat Lunak"},{"$f":"HLOOKUP($I$2,TABL_MAPEL,DB!LU1,FALSE)","v":"Menggambar dengan Perangkat Lunak"},{"$f":"HLOOKUP($I$2,TABL_MAPEL,DB!LV1,FALSE)","v":"Menggambar dengan Perangkat Lunak"},{"$f":"HLOOKUP($I$2,TABL_MAPEL,DB!LW1,FALSE)","v":"-"},{"$f":"HLOOKUP($I$2,TABL_MAPEL,DB!LX1,FALSE)","v":"-"},{"$f":"HLOOKUP($I$2,TABL_MAPEL,DB!LY1,FALSE)","v":"-"},{"$f":"HLOOKUP($I$2,TABL_MAPEL,DB!LZ1,FALSE)","v":"-"},{"$f":"HLOOKUP($I$2,TABL_MAPEL,DB!MA1,FALSE)","v":"-"},{"$f":"HLOOKUP($I$2,TABL_MAPEL,DB!MB1,FALSE)","v":"-"},{"$f":"HLOOKUP($I$2,TABL_MAPEL,DB!MC1,FALSE)","v":"-"},{"$f":"HLOOKUP($I$2,TABL_MAPEL,DB!MD1,FALSE)","v":"-"},{"$f":"HLOOKUP($I$2,TABL_MAPEL,DB!ME1,FALSE)","v":"-"},{"$f":"HLOOKUP($I$2,TABL_MAPEL,DB!MF1,FALSE)","v":"-"},{"$f":"HLOOKUP($I$2,TABL_MAPEL,DB!MG1,FALSE)","v":"-"},{"$f":"HLOOKUP($I$2,TABL_MAPEL,DB!MH1,FALSE)","v":"-"},{"$f":"HLOOKUP($I$2,TABL_MAPEL,DB!MI1,FALSE)","v":"-"},{"$f":"HLOOKUP($I$2,TABL_MAPEL,DB!MJ1,FALSE)","v":"-"},{"$f":"HLOOKUP($I$2,TABL_MAPEL,DB!MK1,FALSE)","v":"-"},{"$f":"HLOOKUP($I$2,TABL_MAPEL,DB!ML1,FALSE)","v":"-"},{"$f":"HLOOKUP($I$2,TABL_MAPEL,DB!MM1,FALSE)","v":"-"},{"$f":"HLOOKUP($I$2,TABL_MAPEL,DB!MN1,FALSE)","v":"-"},{"$f":"HLOOKUP($I$2,TABL_MAPEL,DB!MO1,FALSE)","v":"-"},{"$f":"HLOOKUP($I$2,TABL_MAPEL,DB!MP1,FALSE)","v":"-"},{"$f":"HLOOKUP($I$2,TABL_MAPEL,DB!MQ1,FALSE)","v":"-"},{"$f":"HLOOKUP($I$2,TABL_MAPEL,DB!MR1,FALSE)","v":"Pendidikan Lingkungan Hidup"},{"$f":"HLOOKUP($I$2,TABL_MAPEL,DB!MS1,FALSE)","v":"Pendidikan Lingkungan Hidup"},{"$f":"HLOOKUP($I$2,TABL_MAPEL,DB!MT1,FALSE)","v":"Pendidikan Lingkungan Hidup"},{"$f":"HLOOKUP($I$2,TABL_MAPEL,DB!MU1,FALSE)","v":"-"},{"$f":"HLOOKUP($I$2,TABL_MAPEL,DB!MV1,FALSE)","v":"-"},{"$f":"HLOOKUP($I$2,TABL_MAPEL,DB!MW1,FALSE)","v":"-"},{"$f":"HLOOKUP($I$2,TABL_MAPEL,DB!MX1,FALSE)","v":"Pendidikan Agama dan Budi Pekerti"},{"$f":"HLOOKUP($I$2,TABL_MAPEL,DB!MY1,FALSE)","v":"Pendidikan Agama dan Budi Pekerti"},{"$f":"HLOOKUP($I$2,TABL_MAPEL,DB!MZ1,FALSE)","v":"Pendidikan Agama dan Budi Pekerti"},{"$f":"HLOOKUP($I$2,TABL_MAPEL,DB!NA1,FALSE)","v":"Pendidikan Pancasila dan Kewarganegaraan"},{"$f":"HLOOKUP($I$2,TABL_MAPEL,DB!NB1,FALSE)","v":"Pendidikan Pancasila dan Kewarganegaraan"},{"$f":"HLOOKUP($I$2,TABL_MAPEL,DB!NC1,FALSE)","v":"Pendidikan Pancasila dan Kewarganegaraan"},{"$f":"HLOOKUP($I$2,TABL_MAPEL,DB!ND1,FALSE)","v":"Bahasa Indonesia"},{"$f":"HLOOKUP($I$2,TABL_MAPEL,DB!NE1,FALSE)","v":"Bahasa Indonesia"},{"$f":"HLOOKUP($I$2,TABL_MAPEL,DB!NF1,FALSE)","v":"Bahasa Indonesia"},{"$f":"HLOOKUP($I$2,TABL_MAPEL,DB!NG1,FALSE)","v":"Matematika"},{"$f":"HLOOKUP($I$2,TABL_MAPEL,DB!NH1,FALSE)","v":"Matematika"},{"$f":"HLOOKUP($I$2,TABL_MAPEL,DB!NI1,FALSE)","v":"Matematika"},{"$f":"HLOOKUP($I$2,TABL_MAPEL,DB!NJ1,FALSE)","v":"Sejarah Indonesia"},{"$f":"HLOOKUP($I$2,TABL_MAPEL,DB!NK1,FALSE)","v":"Sejarah Indonesia"},{"$f":"HLOOKUP($I$2,TABL_MAPEL,DB!NL1,FALSE)","v":"Sejarah Indonesia"},{"$f":"HLOOKUP($I$2,TABL_MAPEL,DB!NM1,FALSE)","v":"Bahasa Inggris"},{"$f":"HLOOKUP($I$2,TABL_MAPEL,DB!NN1,FALSE)","v":"Bahasa Inggris"},{"$f":"HLOOKUP($I$2,TABL_MAPEL,DB!NO1,FALSE)","v":"Bahasa Inggris"},{"$f":"HLOOKUP($I$2,TABL_MAPEL,DB!NP1,FALSE)","v":"Seni Budaya"},{"$f":"HLOOKUP($I$2,TABL_MAPEL,DB!NQ1,FALSE)","v":"Seni Budaya"},{"$f":"HLOOKUP($I$2,TABL_MAPEL,DB!NR1,FALSE)","v":"Seni Budaya"},{"$f":"HLOOKUP($I$2,TABL_MAPEL,DB!NS1,FALSE)","v":"Prakarya dan Kewirausahaan"},{"$f":"HLOOKUP($I$2,TABL_MAPEL,DB!NT1,FALSE)","v":"Prakarya dan Kewirausahaan"},{"$f":"HLOOKUP($I$2,TABL_MAPEL,DB!NU1,FALSE)","v":"Prakarya dan Kewirausahaan"},{"$f":"HLOOKUP($I$2,TABL_MAPEL,DB!NV1,FALSE)","v":"Pendidikan Jasmani, Olah Raga & Kesehatan"},{"$f":"HLOOKUP($I$2,TABL_MAPEL,DB!NW1,FALSE)","v":"Pendidikan Jasmani, Olah Raga & Kesehatan"},{"$f":"HLOOKUP($I$2,TABL_MAPEL,DB!NX1,FALSE)","v":"Pendidikan Jasmani, Olah Raga & Kesehatan"},{"$f":"HLOOKUP($I$2,TABL_MAPEL,DB!NY1,FALSE)","v":"-"},{"$f":"HLOOKUP($I$2,TABL_MAPEL,DB!NZ1,FALSE)","v":"-"},{"$f":"HLOOKUP($I$2,TABL_MAPEL,DB!OA1,FALSE)","v":"-"},{"$f":"HLOOKUP($I$2,TABL_MAPEL,DB!OB1,FALSE)","v":"-"},{"$f":"HLOOKUP($I$2,TABL_MAPEL,DB!OC1,FALSE)","v":"-"},{"$f":"HLOOKUP($I$2,TABL_MAPEL,DB!OD1,FALSE)","v":"-"},{"$f":"HLOOKUP($I$2,TABL_MAPEL,DB!OE1,FALSE)","v":"-"},{"$f":"HLOOKUP($I$2,TABL_MAPEL,DB!OF1,FALSE)","v":"-"},{"$f":"HLOOKUP($I$2,TABL_MAPEL,DB!OG1,FALSE)","v":"-"},{"$f":"HLOOKUP($I$2,TABL_MAPEL,DB!OH1,FALSE)","v":"-"},{"$f":"HLOOKUP($I$2,TABL_MAPEL,DB!OI1,FALSE)","v":"-"},{"$f":"HLOOKUP($I$2,TABL_MAPEL,DB!OJ1,FALSE)","v":"-"},{"$f":"HLOOKUP($I$2,TABL_MAPEL,DB!OK1,FALSE)","v":"-"},{"$f":"HLOOKUP($I$2,TABL_MAPEL,DB!OL1,FALSE)","v":"-"},{"$f":"HLOOKUP($I$2,TABL_MAPEL,DB!OM1,FALSE)","v":"-"},{"$f":"HLOOKUP($I$2,TABL_MAPEL,DB!ON1,FALSE)","v":"-"},{"$f":"HLOOKUP($I$2,TABL_MAPEL,DB!OO1,FALSE)","v":"-"},{"$f":"HLOOKUP($I$2,TABL_MAPEL,DB!OP1,FALSE)","v":"-"},{"$f":"HLOOKUP($I$2,TABL_MAPEL,DB!OQ1,FALSE)","v":"-"},{"$f":"HLOOKUP($I$2,TABL_MAPEL,DB!OR1,FALSE)","v":"-"},{"$f":"HLOOKUP($I$2,TABL_MAPEL,DB!OS1,FALSE)","v":"-"},{"$f":"HLOOKUP($I$2,TABL_MAPEL,DB!OT1,FALSE)","v":"-"},{"$f":"HLOOKUP($I$2,TABL_MAPEL,DB!OU1,FALSE)","v":"-"},{"$f":"HLOOKUP($I$2,TABL_MAPEL,DB!OV1,FALSE)","v":"-"},{"$f":"HLOOKUP($I$2,TABL_MAPEL,DB!OW1,FALSE)","v":"-"},{"$f":"HLOOKUP($I$2,TABL_MAPEL,DB!OX1,FALSE)","v":"-"},{"$f":"HLOOKUP($I$2,TABL_MAPEL,DB!OY1,FALSE)","v":"-"},{"$f":"HLOOKUP($I$2,TABL_MAPEL,DB!OZ1,FALSE)","v":"Gambar Konstruksi Bangunan "},{"$f":"HLOOKUP($I$2,TABL_MAPEL,DB!PA1,FALSE)","v":"Gambar Konstruksi Bangunan "},{"$f":"HLOOKUP($I$2,TABL_MAPEL,DB!PB1,FALSE)","v":"Gambar Konstruksi Bangunan "},{"$f":"HLOOKUP($I$2,TABL_MAPEL,DB!PC1,FALSE)","v":"Gambar Interior dan Eksterior Bangunan Gedung"},{"$f":"HLOOKUP($I$2,TABL_MAPEL,DB!PD1,FALSE)","v":"Gambar Interior dan Eksterior Bangunan Gedung"},{"$f":"HLOOKUP($I$2,TABL_MAPEL,DB!PE1,FALSE)","v":"Gambar Interior dan Eksterior Bangunan Gedung"},{"$f":"HLOOKUP($I$2,TABL_MAPEL,DB!PF1,FALSE)","v":"Menggambar dengan Perangkat Lunak"},{"$f":"HLOOKUP($I$2,TABL_MAPEL,DB!PG1,FALSE)","v":"Menggambar dengan Perangkat Lunak"},{"$f":"HLOOKUP($I$2,TABL_MAPEL,DB!PH1,FALSE)","v":"Menggambar dengan Perangkat Lunak"},{"$f":"HLOOKUP($I$2,TABL_MAPEL,DB!PI1,FALSE)","v":"-"},{"$f":"HLOOKUP($I$2,TABL_MAPEL,DB!PJ1,FALSE)","v":"-"},{"$f":"HLOOKUP($I$2,TABL_MAPEL,DB!PK1,FALSE)","v":"-"},{"$f":"HLOOKUP($I$2,TABL_MAPEL,DB!PL1,FALSE)","v":"-"},{"$f":"HLOOKUP($I$2,TABL_MAPEL,DB!PM1,FALSE)","v":"-"},{"$f":"HLOOKUP($I$2,TABL_MAPEL,DB!PN1,FALSE)","v":"-"},{"$f":"HLOOKUP($I$2,TABL_MAPEL,DB!PO1,FALSE)","v":"-"},{"$f":"HLOOKUP($I$2,TABL_MAPEL,DB!PP1,FALSE)","v":"-"},{"$f":"HLOOKUP($I$2,TABL_MAPEL,DB!PQ1,FALSE)","v":"-"},{"$f":"HLOOKUP($I$2,TABL_MAPEL,DB!PR1,FALSE)","v":"-"},{"$f":"HLOOKUP($I$2,TABL_MAPEL,DB!PS1,FALSE)","v":"-"},{"$f":"HLOOKUP($I$2,TABL_MAPEL,DB!PT1,FALSE)","v":"-"},{"$f":"HLOOKUP($I$2,TABL_MAPEL,DB!PU1,FALSE)","v":"-"},{"$f":"HLOOKUP($I$2,TABL_MAPEL,DB!PV1,FALSE)","v":"-"},{"$f":"HLOOKUP($I$2,TABL_MAPEL,DB!PW1,FALSE)","v":"-"},{"$f":"HLOOKUP($I$2,TABL_MAPEL,DB!PX1,FALSE)","v":"-"},{"$f":"HLOOKUP($I$2,TABL_MAPEL,DB!PY1,FALSE)","v":"-"},{"$f":"HLOOKUP($I$2,TABL_MAPEL,DB!PZ1,FALSE)","v":"-"},{"$f":"HLOOKUP($I$2,TABL_MAPEL,DB!QA1,FALSE)","v":"-"},{"$f":"HLOOKUP($I$2,TABL_MAPEL,DB!QB1,FALSE)","v":"-"},{"$f":"HLOOKUP($I$2,TABL_MAPEL,DB!QC1,FALSE)","v":"-"},{"$f":"HLOOKUP($I$2,TABL_MAPEL,DB!QD1,FALSE)","v":"-"},{"$f":"HLOOKUP($I$2,TABL_MAPEL,DB!QE1,FALSE)","v":"-"},{"$f":"HLOOKUP($I$2,TABL_MAPEL,DB!QF1,FALSE)","v":"-"},{"$f":"HLOOKUP($I$2,TABL_MAPEL,DB!QG1,FALSE)","v":"Bahasa Jepang"},{"$f":"HLOOKUP($I$2,TABL_MAPEL,DB!QH1,FALSE)","v":"Bahasa Jepang"},{"$f":"HLOOKUP($I$2,TABL_MAPEL,DB!QI1,FALSE)","v":"Bahasa Jepang"},{"$f":"HLOOKUP($I$2,TABL_MAPEL,DB!QJ1,FALSE)","v":"Pendidikan Agama dan Budi Pekerti"},{"$f":"HLOOKUP($I$2,TABL_MAPEL,DB!QK1,FALSE)","v":"Pendidikan Agama dan Budi Pekerti"},{"$f":"HLOOKUP($I$2,TABL_MAPEL,DB!QL1,FALSE)","v":"Pendidikan Agama dan Budi Pekerti"},{"$f":"HLOOKUP($I$2,TABL_MAPEL,DB!QM1,FALSE)","v":"Pendidikan Pancasila dan Kewarganegaraan"},{"$f":"HLOOKUP($I$2,TABL_MAPEL,DB!QN1,FALSE)","v":"Pendidikan Pancasila dan Kewarganegaraan"},{"$f":"HLOOKUP($I$2,TABL_MAPEL,DB!QO1,FALSE)","v":"Pendidikan Pancasila dan Kewarganegaraan"},{"$f":"HLOOKUP($I$2,TABL_MAPEL,DB!QP1,FALSE)","v":"Bahasa Indonesia"},{"$f":"HLOOKUP($I$2,TABL_MAPEL,DB!QQ1,FALSE)","v":"Bahasa Indonesia"},{"$f":"HLOOKUP($I$2,TABL_MAPEL,DB!QR1,FALSE)","v":"Bahasa Indonesia"},{"$f":"HLOOKUP($I$2,TABL_MAPEL,DB!QS1,FALSE)","v":"Matematika"},{"$f":"HLOOKUP($I$2,TABL_MAPEL,DB!QT1,FALSE)","v":"Matematika"},{"$f":"HLOOKUP($I$2,TABL_MAPEL,DB!QU1,FALSE)","v":"Matematika"},{"$f":"HLOOKUP($I$2,TABL_MAPEL,DB!QV1,FALSE)","v":"Sejarah Indonesia"},{"$f":"HLOOKUP($I$2,TABL_MAPEL,DB!QW1,FALSE)","v":"Sejarah Indonesia"},{"$f":"HLOOKUP($I$2,TABL_MAPEL,DB!QX1,FALSE)","v":"Sejarah Indonesia"},{"$f":"HLOOKUP($I$2,TABL_MAPEL,DB!QY1,FALSE)","v":"Bahasa Inggris"},{"$f":"HLOOKUP($I$2,TABL_MAPEL,DB!QZ1,FALSE)","v":"Bahasa Inggris"},{"$f":"HLOOKUP($I$2,TABL_MAPEL,DB!RA1,FALSE)","v":"Bahasa Inggris"},{"$f":"HLOOKUP($I$2,TABL_MAPEL,DB!RB1,FALSE)","v":"Seni Budaya"},{"$f":"HLOOKUP($I$2,TABL_MAPEL,DB!RC1,FALSE)","v":"Seni Budaya"},{"$f":"HLOOKUP($I$2,TABL_MAPEL,DB!RD1,FALSE)","v":"Seni Budaya"},{"$f":"HLOOKUP($I$2,TABL_MAPEL,DB!RE1,FALSE)","v":"Prakarya dan Kewirausahaan"},{"$f":"HLOOKUP($I$2,TABL_MAPEL,DB!RF1,FALSE)","v":"Prakarya dan Kewirausahaan"},{"$f":"HLOOKUP($I$2,TABL_MAPEL,DB!RG1,FALSE)","v":"Prakarya dan Kewirausahaan"},{"$f":"HLOOKUP($I$2,TABL_MAPEL,DB!RH1,FALSE)","v":"Pendidikan Jasmani, Olah Raga & Kesehatan"},{"$f":"HLOOKUP($I$2,TABL_MAPEL,DB!RI1,FALSE)","v":"Pendidikan Jasmani, Olah Raga & Kesehatan"},{"$f":"HLOOKUP($I$2,TABL_MAPEL,DB!RJ1,FALSE)","v":"Pendidikan Jasmani, Olah Raga & Kesehatan"},{"$f":"HLOOKUP($I$2,TABL_MAPEL,DB!RK1,FALSE)","v":"-"},{"$f":"HLOOKUP($I$2,TABL_MAPEL,DB!RL1,FALSE)","v":"-"},{"$f":"HLOOKUP($I$2,TABL_MAPEL,DB!RM1,FALSE)","v":"-"},{"$f":"HLOOKUP($I$2,TABL_MAPEL,DB!RN1,FALSE)","v":"-"},{"$f":"HLOOKUP($I$2,TABL_MAPEL,DB!RO1,FALSE)","v":"-"},{"$f":"HLOOKUP($I$2,TABL_MAPEL,DB!RP1,FALSE)","v":"-"},{"$f":"HLOOKUP($I$2,TABL_MAPEL,DB!RQ1,FALSE)","v":"-"},{"$f":"HLOOKUP($I$2,TABL_MAPEL,DB!RR1,FALSE)","v":"-"},{"$f":"HLOOKUP($I$2,TABL_MAPEL,DB!RS1,FALSE)","v":"-"},{"$f":"HLOOKUP($I$2,TABL_MAPEL,DB!RT1,FALSE)","v":"-"},{"$f":"HLOOKUP($I$2,TABL_MAPEL,DB!RU1,FALSE)","v":"-"},{"$f":"HLOOKUP($I$2,TABL_MAPEL,DB!RV1,FALSE)","v":"-"},{"$f":"HLOOKUP($I$2,TABL_MAPEL,DB!RW1,FALSE)","v":"-"},{"$f":"HLOOKUP($I$2,TABL_MAPEL,DB!RX1,FALSE)","v":"-"},{"$f":"HLOOKUP($I$2,TABL_MAPEL,DB!RY1,FALSE)","v":"-"},{"$f":"HLOOKUP($I$2,TABL_MAPEL,DB!RZ1,FALSE)","v":"-"},{"$f":"HLOOKUP($I$2,TABL_MAPEL,DB!SA1,FALSE)","v":"-"},{"$f":"HLOOKUP($I$2,TABL_MAPEL,DB!SB1,FALSE)","v":"-"},{"$f":"HLOOKUP($I$2,TABL_MAPEL,DB!SC1,FALSE)","v":"-"},{"$f":"HLOOKUP($I$2,TABL_MAPEL,DB!SD1,FALSE)","v":"-"},{"$f":"HLOOKUP($I$2,TABL_MAPEL,DB!SE1,FALSE)","v":"-"},{"$f":"HLOOKUP($I$2,TABL_MAPEL,DB!SF1,FALSE)","v":"-"},{"$f":"HLOOKUP($I$2,TABL_MAPEL,DB!SG1,FALSE)","v":"-"},{"$f":"HLOOKUP($I$2,TABL_MAPEL,DB!SH1,FALSE)","v":"-"},{"$f":"HLOOKUP($I$2,TABL_MAPEL,DB!SI1,FALSE)","v":"-"},{"$f":"HLOOKUP($I$2,TABL_MAPEL,DB!SJ1,FALSE)","v":"-"},{"$f":"HLOOKUP($I$2,TABL_MAPEL,DB!SK1,FALSE)","v":"-"},{"$f":"HLOOKUP($I$2,TABL_MAPEL,DB!SL1,FALSE)","v":"Gambar Konstruksi Bangunan "},{"$f":"HLOOKUP($I$2,TABL_MAPEL,DB!SM1,FALSE)","v":"Gambar Konstruksi Bangunan "},{"$f":"HLOOKUP($I$2,TABL_MAPEL,DB!SN1,FALSE)","v":"Gambar Konstruksi Bangunan "},{"$f":"HLOOKUP($I$2,TABL_MAPEL,DB!SO1,FALSE)","v":"Gambar Interior dan Eksterior Bangunan Gedung"},{"$f":"HLOOKUP($I$2,TABL_MAPEL,DB!SP1,FALSE)","v":"Gambar Interior dan Eksterior Bangunan Gedung"},{"$f":"HLOOKUP($I$2,TABL_MAPEL,DB!SQ1,FALSE)","v":"Gambar Interior dan Eksterior Bangunan Gedung"},{"$f":"HLOOKUP($I$2,TABL_MAPEL,DB!SR1,FALSE)","v":"Menggambar dengan Perangkat Lunak"},{"$f":"HLOOKUP($I$2,TABL_MAPEL,DB!SS1,FALSE)","v":"Menggambar dengan Perangkat Lunak"},{"$f":"HLOOKUP($I$2,TABL_MAPEL,DB!ST1,FALSE)","v":"Menggambar dengan Perangkat Lunak"},{"$f":"HLOOKUP($I$2,TABL_MAPEL,DB!SU1,FALSE)","v":"-"},{"$f":"HLOOKUP($I$2,TABL_MAPEL,DB!SV1,FALSE)","v":"-"},{"$f":"HLOOKUP($I$2,TABL_MAPEL,DB!SW1,FALSE)","v":"-"},{"$f":"HLOOKUP($I$2,TABL_MAPEL,DB!SX1,FALSE)","v":"-"},{"$f":"HLOOKUP($I$2,TABL_MAPEL,DB!SY1,FALSE)","v":"-"},{"$f":"HLOOKUP($I$2,TABL_MAPEL,DB!SZ1,FALSE)","v":"-"},{"$f":"HLOOKUP($I$2,TABL_MAPEL,DB!TA1,FALSE)","v":"-"},{"$f":"HLOOKUP($I$2,TABL_MAPEL,DB!TB1,FALSE)","v":"-"},{"$f":"HLOOKUP($I$2,TABL_MAPEL,DB!TC1,FALSE)","v":"-"},{"$f":"HLOOKUP($I$2,TABL_MAPEL,DB!TD1,FALSE)","v":"-"},{"$f":"HLOOKUP($I$2,TABL_MAPEL,DB!TE1,FALSE)","v":"-"},{"$f":"HLOOKUP($I$2,TABL_MAPEL,DB!TF1,FALSE)","v":"-"},{"$f":"HLOOKUP($I$2,TABL_MAPEL,DB!TG1,FALSE)","v":"-"},{"$f":"HLOOKUP($I$2,TABL_MAPEL,DB!TH1,FALSE)","v":"-"},{"$f":"HLOOKUP($I$2,TABL_MAPEL,DB!TI1,FALSE)","v":"-"},{"$f":"HLOOKUP($I$2,TABL_MAPEL,DB!TJ1,FALSE)","v":"-"},{"$f":"HLOOKUP($I$2,TABL_MAPEL,DB!TK1,FALSE)","v":"-"},{"$f":"HLOOKUP($I$2,TABL_MAPEL,DB!TL1,FALSE)","v":"-"},{"$f":"HLOOKUP($I$2,TABL_MAPEL,DB!TM1,FALSE)","v":"-"},{"$f":"HLOOKUP($I$2,TABL_MAPEL,DB!TN1,FALSE)","v":"-"},{"$f":"HLOOKUP($I$2,TABL_MAPEL,DB!TO1,FALSE)","v":"-"},{"$f":"HLOOKUP($I$2,TABL_MAPEL,DB!TP1,FALSE)","v":"-"},{"$f":"HLOOKUP($I$2,TABL_MAPEL,DB!TQ1,FALSE)","v":"-"},{"$f":"HLOOKUP($I$2,TABL_MAPEL,DB!TR1,FALSE)","v":"-"},{"$f":"HLOOKUP($I$2,TABL_MAPEL,DB!TS1,FALSE)","v":"Bahasa Jepang"},{"$f":"HLOOKUP($I$2,TABL_MAPEL,DB!TT1,FALSE)","v":"Bahasa Jepang"},{"$f":"HLOOKUP($I$2,TABL_MAPEL,DB!TU1,FALSE)","v":"Bahasa Jepang"},null,"BP/BK Semester 1","BP/BK Semester 1","BP/BK Semester 1","BP/BK Semester 2","BP/BK Semester 2","BP/BK Semester 2","Pend. Agama USPraktek","Pend. Agama USTeori","Pend. Agama Usrata-rata","PPKN USTeori","Bahasa Indonesia USPraktek","Bahasa Indonesia USTeori","Bahasa Indonesia Usrata-rata","Matematika USTeori","Sejarah Indonesia USTeori","Bahasa Inggris USTeori","Seni Budaya USPraktek","Prakarya & Kewirausahaan USTeori","PJOK USPraktek","Kompetensi Keahlian USTeori","Bahasa Sunda USTeori","PLH USPraktek","Bahasa Jepang USTeori","UKK/PSKK","Bahasa Indonesia UN","Matematika UN","Bahasa Inggris UN","Teori Kejuruan UN","No Peserta UN","Seri Ijazah","Nama Tempat PKL","Lokasi Tempat PKL","Lama PKL (Bulan)","Ket. Nilai PKL","Nama Tempat PKL","Lokasi Tempat PKL","Lama PKL (Bulan)","Ket. Nilai PKL",null,"rata Pend. Agama","rata Rata PPKn","rata Rata Bahasa Indonesia","rata Matematika","rata Sejarah Indonesia","rata Bahasa Inggris","rata Seni Budaya","rata Prakarya & Kwu","rata PJOK","rata Fisika","rata Kimia/Progdas","rata Gbr Teknik/Siskom","rata Simulasi Digital","rata Dasar Program Keahlian","rata Paket Keahlian","rata Bahasa dan Sastra Sunda","rata Bahasa dan Sastra Sunda","rata Bahasa Jepang",null,"Jumlah Nilai Pengetahuan SMT1","Jumlah Mapel SMT1","Rata-rata Nilai Pengetahuan Smt 1","Ranking Kelas Smt 1","Jumlah Nilai Pengetahuan SMT2","Jumlah Mapel SMT2","Rata-rata Nilai Pengetahuan SMT2","Ranking Kelas SMT2","Jumlah Nilai Pengetahuan SMT3","Jumlah Mapel SMT3","Rata-rata Nilai Pengetahuan SMT3","Ranking Kelas SMT3","Jumlah Nilai Pengetahuan SMT4","Jumlah Mapel SMT4","Rata-rata Nilai Pengetahuan SMT4","Ranking Kelas SMT4","Jumlah Nilai Pengetahuan SMT5","Jumlah Mapel SMT5","Rata-rata Nilai Pengetahuan SMT5","Ranking Kelas SMT5","Jumlah Nilai Pengetahuan SMT6","Jumlah Mapel SMT6","Rata-rata Nilai Pengetahuan SMT6","Ranking Kelas SMT6"]
[null,null,null,null,{"$f":"\"NILAI SEMESTER TERENDAH : \"&MIN(J8:TY874)","v":"NILAI SEMESTER TERENDAH : 0"},null,null,null,{"$f":"D1","v":"TGB"},"SEMESTER 1",null,null,null,null,null,null,null,null,null,null,null,null,null,null,null,null,null,null,null,null,null,null,null,null,null,null,null,null,null,null,null,null,null,null,null,null,null,null,null,null,null,null,null,null,null,null,null,null,null,null,null,null,null,null,null,null,null,null,null,null,null,null,null,null,null,null,null,null,null,null,null,null,null,null,null,null,null,null,null,null,null,null,null,null,null,null,null,null,null,"SEMESTER 2",null,null,null,null,null,null,null,null,null,null,null,null,null,null,null,null,null,null,null,null,null,null,null,null,null,null,null,null,null,null,null,null,null,null,null,null,null,null,null,null,null,null,null,null,null,null,null,null,null,null,null,null,null,null,null,null,null,null,null,null,null,null,null,null,null,null,null,null,null,null,null,null,null,null,null,null,null,null,null,null,null,null,null,null,null,null,null,null,null,"SEMESTER 3",null,null,null,null,null,null,null,null,null,null,null,null,null,null,null,null,null,null,null,null,null,null,null,null,null,null,null,null,null,null,null,null,null,null,null,null,null,null,null,null,null,null,null,null,null,null,null,null,null,null,null,null,null,null,null,null,null,null,null,null,null,null,null,null,null,null,null,null,null,null,null,null,null,null,null,null,null,null,null,null,null,null,null,null,null,null,null,null,null,"SEMESTER 4",null,null,null,null,null,null,null,null,null,null,null,null,null,null,null,null,null,null,null,null,null,null,null,null,null,null,null,null,null,null,null,null,null,null,null,null,null,null,null,null,null,null,null,null,null,null,null,null,null,null,null,null,null,null,null,null,null,null,null,null,null,null,null,null,null,null,null,null,null,null,null,null,null,null,null,null,null,null,null,null,null,null,null,null,null,null,null,null,null,"SEMESTER 5",null,null,null,null,null,null,null,null,null,null,null,null,null,null,null,null,null,null,null,null,null,null,null,null,null,null,null,null,null,null,null,null,null,null,null,null,null,null,null,null,null,null,null,null,null,null,null,null,null,null,null,null,null,null,null,null,null,null,null,null,null,null,null,null,null,null,null,null,null,null,null,null,null,null,null,null,null,null,null,null,null,null,null,null,null,null,null,null,null,"SEMESTER 6",null,null,null,null,null,null,null,null,null,null,null,null,null,null,null,null,null,null,null,null,null,null,null,null,null,null,null,null,null,null,null,null,null,null,null,null,null,null,null,null,null,null,null,null,null,null,null,null,null,null,null,null,null,null,null,null,null,null,null,null,null,null,null,null,null,null,null,null,null,null,null,null,null,null,null,null,null,null,null,null,null,null,null,null,null,null,null,null,null,"TERTINGGI",null,null,null,null,null,null,{"$f":"MAX(UL8:UL874)","v":0},0,0,0,0,0,0,0,0,0,0,0,0,0,0,0,0,0,0,0,0,0]
[null,null,null,null,671,null,null,null,"KEL. MAPEL","A",null,null,"A",null,null,"A",null,null,"A",null,null,"A",null,null,"A",null,null,"B",null,null,"B",null,null,"B",null,null,"C1",null,null,"C1",null,null,"C1",null,null,null,null,null,"C2",null,null,"C2",null,null,"C2",null,null,"C2",null,null,"C2",null,null,"C2",null,null,"C3",null,null,"C3",null,null,"C3",null,null,"C3",null,null,"C3",null,null,"C3",null,null,"C3",null,null,"C3",null,null,"C3",null,null,"MULOK",null,null,"MULOK",null,null,null,null,"A",null,null,"A",null,null,"A",null,null,"A",null,null,"A",null,null,"A",null,null,"B",null,null,"B",null,null,"B",null,null,"C1",null,null,"C1",null,null,"C1",null,null,null,null,null,"C2",null,null,"C2",null,null,"C2",null,null,"C2",null,null,"C2",null,null,"C2",null,null,"C3",null,null,"C3",null,null,"C3",null,null,"C3",null,null,"C3",null,null,"C3",null,null,"C3",null,null,"C3",null,null,"C3",null,null,"MULOK",null,null,"MULOK",null,"MULOK",null,null,"A",null,null,"A",null,null,"A",null,null,"A",null,null,"A",null,null,"A",null,null,"B",null,null,"B",null,null,"B",null,null,"C1",null,null,"C1",null,null,"C1",null,null,"C2",null,null,"C2",null,null,"C2",null,null,"C2",null,null,"C2",null,null,"C2",null,null,"C3",null,null,"C3",null,null,"C3",null,null,"C3",null,null,"C3",null,null,"C3",null,null,"C3",null,null,"C3",null,null,"C3",null,null,"MULOK",null,null,"MULOK",null,"MULOK",null,null,"A",null,null,"A",null,null,"A",null,null,"A",null,null,"A",null,null,"A",null,null,"B",null,null,"B",null,null,"B",null,null,"C1",null,null,"C1",null,null,"C1",null,null,"C2",null,null,"C2",null,null,"C2",null,null,"C2",null,null,"C2",null,null,"C2",null,null,"C3",null,null,"C3",null,null,"C3",null,null,"C3",null,null,"C3",null,null,"C3",null,null,"C3",null,null,"C3",null,null,"C3",null,null,"MULOK",null,null,"MULOK",null,null,null,null,"A",null,null,"A",null,null,"A",null,null,"A",null,null,"A",null,null,"A",null,null,"B",null,null,"B",null,null,"B",null,null,"C1",null,null,"C1",null,null,"C1",null,null,"C2",null,null,"C2",null,null,"C2",null,null,"C2",null,null,"C2",null,null,"C2",null,null,"C3",null,null,"C3",null,null,"C3",null,null,"C3",null,null,"C3",null,null,"C3",null,null,"C3",null,null,"C3",null,null,"C3",null,null,"MULOK",null,null,"MULOK",null,null,"MULOK",null,"A",null,null,"A",null,null,"A",null,null,"A",null,null,"A",null,null,"A",null,null,"B",null,null,"B",null,null,"B",null,null,"C1",null,null,"C1",null,null,"C1",null,null,"C2",null,null,"C2",null,null,"C2",null,null,"C2",null,null,"C2",null,null,"C2",null,null,"C3",null,null,"C3",null,null,"C3",null,null,"C3",null,null,"C3",null,null,"C3",null,null,"C3",null,null,"C3",null,null,"C3",null,null,"MULOK"]
[null,null,null,null,null,null,null,null,"KB",75,75,"B",75,75,"B",75,75,"B",75,75,"B",75,75,"B",75,75,"B",75,75,"B",75,75,"B",75,75,"B",75,75,"B",75,75,"B",75,75,"B",null,null,null,75,75,"B",75,75,"B",75,75,"B",75,75,"B",75,75,"B",75,75,"B",75,75,"B",75,75,"B",75,75,"B",75,75,"B",75,75,"B",75,75,"B",75,75,"B",75,75,"B",75,75,"B",75,75,"B",75,75,"B",75,null,75,75,"B",75,75,"B",75,75,"B",75,75,"B",75,75,"B",75,75,"B",75,75,"B",75,75,"B",75,75,"B",75,75,"B",75,75,"B",75,75,"B",null,null,null,75,75,"B",75,75,"B",75,75,"B",75,75,"B",75,75,"B",75,75,"B",75,75,"B",75,75,"B",75,75,"B",75,75,"B",75,75,"B",75,75,"B",75,75,"B",75,75,"B",75,75,"B",75,75,"B",75,"B",75,75,null,75,75,"B",75,75,"B",75,75,"B",75,75,"B",75,75,"B",75,75,"B",75,75,"B",75,75,"B",75,75,"B",75,75,"B",75,75,"B",75,75,"B",75,75,"B",75,75,"B",75,75,"B",75,75,"B",75,75,"B",75,75,"B",75,75,"B",75,75,"B",75,75,"B",75,75,"B",75,75,"B",75,75,"B",75,75,"B",75,75,"B",75,75,"B",75,75,"B",75,75,75,75,null,75,75,"B",75,75,"B",75,75,"B",75,75,"B",75,75,"B",75,75,"B",75,75,"B",75,75,"B",75,75,"B",75,75,"B",75,75,"B",75,75,"B",75,75,"B",75,75,"B",75,75,"B",75,75,"B",75,75,"B",75,75,"B",75,75,"B",75,75,"B",75,75,"B",75,75,"B",75,75,"B",75,75,"B",75,75,"B",75,75,"B",75,75,"B",75,75,"B",75,75,"B",75,null,75,75,"B",75,75,"B",75,75,"B",75,75,"B",75,75,"B",75,75,"B",75,75,"B",75,75,"B",75,75,"B",75,75,"B",75,75,"B",75,75,"B",75,75,"B",75,75,"B",75,75,"B",75,75,"B",75,75,"B",75,75,"B",75,75,"B",75,75,"B",75,75,"B",75,75,"B",75,75,"B",75,75,"B",75,75,"B",75,75,"B",75,75,"B",75,75,"B",75,75,"B",75,null,75,75,"B",75,75,"B",75,75,"B",75,75,"B",75,75,"B",75,75,"B",75,75,"B",75,75,"B",75,75,"B",75,75,"B",75,75,"B",75,75,"B",75,75,"B",75,75,"B",75,75,"B",75,75,"B",75,75,"B",75,75,"B",75,75,"B",75,75,"B",75,75,"B",75,75,"B",75,75,"B",75,75,"B",75,75,"B",75,75,"B",75,75,"B",75,75,"B"]
["NO. URUT","URUTAN RAPOR","URUTAN BIOUN","KELAS","NAMA PESERTA DIDIK","L/P","TEMPAT, TGL LAHIR","NISN","NIS","P1","K1","S1","P1","K1","S1","P1","K1","S1","P1","K1","S1","P1","K1","S1","P1","K1","S1","P1","K1","S1","P1","K1","S1","P1","K1","S1","P1","K1","S1","P1","K1","S1","P1","K1","S1","P1","K1","S1","P1","K1","S1","P1","K1","S1","P1","K1","S1","P1","K1","S1","P1","K1","S1","P1","K1","S1","P1","K1","S1","P1","K1","S1","P1","K1","S1","P1","K1","S1","P1","K1","S1","P1","K1","S1","P1","K1","S1","P1","K1","S1","P1","K1","S1","P1","K1","S1","P1","K1","S1","P2","K2","S2","P2","K2","S2","P2","K2","S2","P2","K2","S2","P2","K2","S2","P2","K2","S2","P2","K2","S2","P2","K2","S2","P2","K2","S2","P2","K2","S2","P2","K2","S2","P2","K2","S2","P2","K2","S2","P2","K2","S2","P2","K2","S2","P2","K2","S2","P2","K2","S2","P2","K2","S2","P2","K2","S2","P2","K2","S2","P2","K2","S2","P2","K2","S2","P2","K2","S2","P2","K2","S2","P2","K2","S2","P2","K2","S2","P2","K2","S2","P2","K2","S2","P2","K2","S2","P2","K2","S2","P3","K3","S3","P3","K3","S3","P3","K3","S3","P3","K3","S3","P3","K3","S3","P3","K3","S3","P3","K3","S3","P3","K3","S3","P3","K3","S3","P3","K3","S3","P3","K3","S3","P3","K3","S3","P3","K3","S3","P3","K3","S3","P3","K3","S3","P3","K3","S3","P3","K3","S3","P3","K3","S3","P3","K3","S3","P3","K3","S3","P3","K3","S3","P3","K3","S3","P3","K3","S3","P3","K3","S3","P3","K3","S3","P3","K3","S3","P3","K3","S3","P3","K3","S3","P3","K3","S3","P3","K3","S3","P4","K4","S4","P4","K4","S4","P4","K4","S4","P4","K4","S4","P4","K4","S4","P4","K4","S4","P4","K4","S4","P4","K4","S4","P4","K4","S4","P4","K4","S4","P4","K4","S4","P4","K4","S4","P4","K4","S4","P4","K4","S4","P4","K4","S4","P4","K4","S4","P4","K4","S4","P4","K4","S4","P4","K4","S4","P4","K4","S4","P4","K4","S4","P4","K4","S4","P4","K4","S4","P4","K4","S4","P4","K4","S4","P4","K4","S4","P4","K4","S4","P4","K4","S4","P4","K4","S4","P4","K4","S4","P5","K5","S5","P5","K5","S5","P5","K5","S5","P5","K5","S5","P5","K5","S5","P5","K5","S5","P5","K5","S5","P5","K5","S5","P5","K5","S5","P5","K5","S5","P5","K5","S5","P5","K5","S5","P5","K5","S5","P5","K5","S5","P5","K5","S5","P5","K5","S5","P5","K5","S5","P5","K5","S5","P5","K5","S5","P5","K5","S5","P5","K5","S5","P5","K5","S5","P5","K5","S5","P5","K5","S5","P5","K5","S5","P5","K5","S5","P5","K5","S5","P5","K5","S5","P5","K5","S5","P5","K5","S5","P6","K6","S6","P6","K6","S6","P6","K6","S6","P6","K6","S6","P6","K6","S6","P6","K6","S6","P6","K6","S6","P6","K6","S6","P6","K6","S6","P6","K6","S6","P6","K6","S6","P6","K6","S6","P6","K6","S6","P6","K6","S6","P6","K6","S6","P6","K6","S6","P6","K6","S6","P6","K6","S6","P6","K6","S6","P6","K6","S6","P6","K6","S6","P6","K6","S6","P6","K6","S6","P6","K6","S6","P6","K6","S6","P6","K6","S6","P6","K6","S6","P6","K6","S6","P6","K6","S6","P6","K6","S6","TERENDAH",null,null,null,null,null,null,{"$f":"MIN(UL8:UL874)","v":0},0,0,0,0,0,0,0,0,0,0,0,0,0,0,0,0,0,0,0,0,0]
[null,null,null,null,null,null,null,null,null,"A1","A2","A3","A4","A5","A6","A7","A8","A9","A10","A11","A12","A13","A14","A15","A16","A17","A18","B1","B2","B3","B4","B5","B6","B7","B8","B9","C1","C2","C3","C4","C5","C6","C7","C8","C9","C10","C11","C12","C22","C23","C24","C22","C23","C24","C22","C23","C24","C22","C23","C24","C22","C23","C24","C33","C34","C35","C33","C34","C35","C33","C34","C35","C33","C34","C35","C33","C34","C35","C33","C34","C35","C33","C34","C35","C33","C34","C35","C33","C34","C35","M1","M2","M3","M4","M5","M6","M7","M8","M9","A1","A2","A3","A4","A5","A6","A7","A8","A9","A10","A11","A12","A13","A14","A15","A16","A17","A18","B1","B2","B3","B4","B5","B6","B7","B8","B9","C1","C2","C3","C4","C5","C6","C7","C8","C9","C10","C11","C12","C22","C23","C24","C22","C23","C24","C22","C23","C24","C22","C23","C24","C22","C23","C24","C33","C34","C35","C33","C34","C35","C33","C34","C35","C33","C34","C35","C33","C34","C35","C33","C34","C35","C33","C34","C35","C33","C34","C35","C33","C34","C35","M1","M2","M3","M4","M5","M6","M7","M8","M9","A1","A2","A3","A4","A5","A6","A7","A8","A9","A10","A11","A12","A13","A14","A15","A16","A17","A18","B1","B2","B3","B4","B5","B6","B7","B8","B9","C1","C2","C3","C4","C5","C6","C7","C8","C9","C10","C11","C12","C22","C23","C24","C22","C23","C24","C22","C23","C24","C22","C23","C24","C22","C23","C24","C33","C34","C35","C33","C34","C35","C33","C34","C35","C33","C34","C35","C33","C34","C35","C33","C34","C35","C33","C34","C35","C33","C34","C35","C33","C34","C35","M1","M2","M3","M4","M5","M6","M7","M8","M9","A1","A2","A3","A4","A5","A6","A7","A8","A9","A10","A11","A12","A13","A14","A15","A16","A17","A18","B1","B2","B3","B4","B5","B6","B7","B8","B9","C1","C2","C3","C4","C5","C6","C7","C8","C9","C10","C11","C12","C22","C23","C24","C22","C23","C24","C22","C23","C24","C22","C23","C24","C22","C23","C24","C33","C34","C35","C33","C34","C35","C33","C34","C35","C33","C34","C35","C33","C34","C35","C33","C34","C35","C33","C34","C35","C33","C34","C35","C33","C34","C35","M1","M2","M3","M4","M5","M6","M7","M8","M9","A1","A2","A3","A4","A5","A6","A7","A8","A9","A10","A11","A12","A13","A14","A15","A16","A17","A18","B1","B2","B3","B4","B5","B6","B7","B8","B9","C1","C2","C3","C4","C5","C6","C7","C8","C9","C10","C11","C12","C22","C23","C24","C22","C23","C24","C22","C23","C24","C22","C23","C24","C22","C23","C24","C33","C34","C35","C33","C34","C35","C33","C34","C35","C33","C34","C35","C33","C34","C35","C33","C34","C35","C33","C34","C35","C33","C34","C35","C33","C34","C35","M1","M2","M3","M4","M5","M6","M7","M8","M9","A1","A2","A3","A4","A5","A6","A7","A8","A9","A10","A11","A12","A13","A14","A15","A16","A17","A18","B1","B2","B3","B4","B5","B6","B7","B8","B9","C1","C2","C3","C4","C5","C6","C7","C8","C9","C10","C11","C12","C22","C23","C24","C22","C23","C24","C22","C23","C24","C22","C23","C24","C22","C23","C24","C33","C34","C35","C33","C34","C35","C33","C34","C35","C33","C34","C35","C33","C34","C35","C33","C34","C35","C33","C34","C35","C33","C34","C35","C33","C34","C35","M1","M2","M3","M4","M5","M6","M7","M8","M9",null,null,null,null,null,null,null,null,null,null,null,null,null,null,null,null,null,null,null,null,null,null,null,null,null,null,null,null,null,null,null,null,null,null,null,null,null,null,null,null,"A1","A4","A7","A10","A13","A16","B1","B4","B7","C1","C4","C7","C10","C22","C33","M1","M4","M7"]
[1,{"$f":"A7+1","v":2},3,{"$f":"C7+1","v":4},{"$f":"D7+1","v":5},{"$f":"E7+1","v":6},{"$f":"F7+1","v":7},{"$f":"G7+1","v":8},{"$f":"H7+1","v":9},{"$f":"I7+1","v":10},{"$f":"J7+1","v":11},{"$f":"K7+1","v":12},{"$f":"L7+1","v":13},{"$f":"M7+1","v":14},{"$f":"N7+1","v":15},{"$f":"O7+1","v":16},{"$f":"P7+1","v":17},{"$f":"Q7+1","v":18},{"$f":"R7+1","v":19},{"$f":"S7+1","v":20},{"$f":"T7+1","v":21},{"$f":"U7+1","v":22},{"$f":"V7+1","v":23},{"$f":"W7+1","v":24},{"$f":"X7+1","v":25},{"$f":"Y7+1","v":26},{"$f":"Z7+1","v":27},{"$f":"AA7+1","v":28},{"$f":"AB7+1","v":29},{"$f":"AC7+1","v":30},{"$f":"AD7+1","v":31},{"$f":"AE7+1","v":32},{"$f":"AF7+1","v":33},{"$f":"AG7+1","v":34},{"$f":"AH7+1","v":35},{"$f":"AI7+1","v":36},{"$f":"AJ7+1","v":37},{"$f":"AK7+1","v":38},{"$f":"AL7+1","v":39},{"$f":"AM7+1","v":40},{"$f":"AN7+1","v":41},{"$f":"AO7+1","v":42},{"$f":"AP7+1","v":43},{"$f":"AQ7+1","v":44},{"$f":"AR7+1","v":45},{"$f":"AS7+1","v":46},{"$f":"AT7+1","v":47},{"$f":"AU7+1","v":48},{"$f":"AV7+1","v":49},{"$f":"AW7+1","v":50},{"$f":"AX7+1","v":51},{"$f":"AY7+1","v":52},{"$f":"AZ7+1","v":53},{"$f":"BA7+1","v":54},{"$f":"BB7+1","v":55},{"$f":"BC7+1","v":56},{"$f":"BD7+1","v":57},{"$f":"BE7+1","v":58},{"$f":"BF7+1","v":59},{"$f":"BG7+1","v":60},{"$f":"BH7+1","v":61},{"$f":"BI7+1","v":62},{"$f":"BJ7+1","v":63},{"$f":"BK7+1","v":64},{"$f":"BL7+1","v":65},{"$f":"BM7+1","v":66},{"$f":"BN7+1","v":67},{"$f":"BO7+1","v":68},{"$f":"BP7+1","v":69},{"$f":"BQ7+1","v":70},{"$f":"BR7+1","v":71},{"$f":"BS7+1","v":72},{"$f":"BT7+1","v":73},{"$f":"BU7+1","v":74},{"$f":"BV7+1","v":75},{"$f":"BW7+1","v":76},{"$f":"BX7+1","v":77},{"$f":"BY7+1","v":78},{"$f":"BZ7+1","v":79},{"$f":"CA7+1","v":80},{"$f":"CB7+1","v":81},{"$f":"CC7+1","v":82},{"$f":"CD7+1","v":83},{"$f":"CE7+1","v":84},{"$f":"CF7+1","v":85},{"$f":"CG7+1","v":86},{"$f":"CH7+1","v":87},{"$f":"CI7+1","v":88},{"$f":"CJ7+1","v":89},{"$f":"CK7+1","v":90},{"$f":"CL7+1","v":91},{"$f":"CM7+1","v":92},{"$f":"CN7+1","v":93},{"$f":"CO7+1","v":94},{"$f":"CP7+1","v":95},{"$f":"CQ7+1","v":96},{"$f":"CR7+1","v":97},{"$f":"CS7+1","v":98},{"$f":"CT7+1","v":99},{"$f":"CU7+1","v":100},{"$f":"CV7+1","v":101},{"$f":"CW7+1","v":102},{"$f":"CX7+1","v":103},{"$f":"CY7+1","v":104},{"$f":"CZ7+1","v":105},{"$f":"DA7+1","v":106},{"$f":"DB7+1","v":107},{"$f":"DC7+1","v":108},{"$f":"DD7+1","v":109},{"$f":"DE7+1","v":110},{"$f":"DF7+1","v":111},{"$f":"DG7+1","v":112},{"$f":"DH7+1","v":113},{"$f":"DI7+1","v":114},{"$f":"DJ7+1","v":115},{"$f":"DK7+1","v":116},{"$f":"DL7+1","v":117},{"$f":"DM7+1","v":118},{"$f":"DN7+1","v":119},{"$f":"DO7+1","v":120},{"$f":"DP7+1","v":121},{"$f":"DQ7+1","v":122},{"$f":"DR7+1","v":123},{"$f":"DS7+1","v":124},{"$f":"DT7+1","v":125},{"$f":"DU7+1","v":126},{"$f":"DV7+1","v":127},{"$f":"DW7+1","v":128},{"$f":"DX7+1","v":129},{"$f":"DY7+1","v":130},{"$f":"DZ7+1","v":131},{"$f":"EA7+1","v":132},{"$f":"EB7+1","v":133},{"$f":"EC7+1","v":134},{"$f":"ED7+1","v":135},{"$f":"EE7+1","v":136},{"$f":"EF7+1","v":137},{"$f":"EG7+1","v":138},{"$f":"EH7+1","v":139},{"$f":"EI7+1","v":140},{"$f":"EJ7+1","v":141},{"$f":"EK7+1","v":142},{"$f":"EL7+1","v":143},{"$f":"EM7+1","v":144},{"$f":"EN7+1","v":145},{"$f":"EO7+1","v":146},{"$f":"EP7+1","v":147},{"$f":"EQ7+1","v":148},{"$f":"ER7+1","v":149},{"$f":"ES7+1","v":150},{"$f":"ET7+1","v":151},{"$f":"EU7+1","v":152},{"$f":"EV7+1","v":153},{"$f":"EW7+1","v":154},{"$f":"EX7+1","v":155},{"$f":"EY7+1","v":156},{"$f":"EZ7+1","v":157},{"$f":"FA7+1","v":158},{"$f":"FB7+1","v":159},{"$f":"FC7+1","v":160},{"$f":"FD7+1","v":161},{"$f":"FE7+1","v":162},{"$f":"FF7+1","v":163},{"$f":"FG7+1","v":164},{"$f":"FH7+1","v":165},{"$f":"FI7+1","v":166},{"$f":"FJ7+1","v":167},{"$f":"FK7+1","v":168},{"$f":"FL7+1","v":169},{"$f":"FM7+1","v":170},{"$f":"FN7+1","v":171},{"$f":"FO7+1","v":172},{"$f":"FP7+1","v":173},{"$f":"FQ7+1","v":174},{"$f":"FR7+1","v":175},{"$f":"FS7+1","v":176},{"$f":"FT7+1","v":177},{"$f":"FU7+1","v":178},{"$f":"FV7+1","v":179},{"$f":"FW7+1","v":180},{"$f":"FX7+1","v":181},{"$f":"FY7+1","v":182},{"$f":"FZ7+1","v":183},{"$f":"GA7+1","v":184},{"$f":"GB7+1","v":185},{"$f":"GC7+1","v":186},{"$f":"GD7+1","v":187},{"$f":"GE7+1","v":188},{"$f":"GF7+1","v":189},{"$f":"GG7+1","v":190},{"$f":"GH7+1","v":191},{"$f":"GI7+1","v":192},{"$f":"GJ7+1","v":193},{"$f":"GK7+1","v":194},{"$f":"GL7+1","v":195},{"$f":"GM7+1","v":196},{"$f":"GN7+1","v":197},{"$f":"GO7+1","v":198},{"$f":"GP7+1","v":199},{"$f":"GQ7+1","v":200},{"$f":"GR7+1","v":201},{"$f":"GS7+1","v":202},{"$f":"GT7+1","v":203},{"$f":"GU7+1","v":204},{"$f":"GV7+1","v":205},{"$f":"GW7+1","v":206},{"$f":"GX7+1","v":207},{"$f":"GY7+1","v":208},{"$f":"GZ7+1","v":209},{"$f":"HA7+1","v":210},{"$f":"HB7+1","v":211},{"$f":"HC7+1","v":212},{"$f":"HD7+1","v":213},{"$f":"HE7+1","v":214},{"$f":"HF7+1","v":215},{"$f":"HG7+1","v":216},{"$f":"HH7+1","v":217},{"$f":"HI7+1","v":218},{"$f":"HJ7+1","v":219},{"$f":"HK7+1","v":220},{"$f":"HL7+1","v":221},{"$f":"HM7+1","v":222},{"$f":"HN7+1","v":223},{"$f":"HO7+1","v":224},{"$f":"HP7+1","v":225},{"$f":"HQ7+1","v":226},{"$f":"HR7+1","v":227},{"$f":"HS7+1","v":228},{"$f":"HT7+1","v":229},{"$f":"HU7+1","v":230},{"$f":"HV7+1","v":231},{"$f":"HW7+1","v":232},{"$f":"HX7+1","v":233},{"$f":"HY7+1","v":234},{"$f":"HZ7+1","v":235},{"$f":"IA7+1","v":236},{"$f":"IB7+1","v":237},{"$f":"IC7+1","v":238},{"$f":"ID7+1","v":239},{"$f":"IE7+1","v":240},{"$f":"IF7+1","v":241},{"$f":"IG7+1","v":242},{"$f":"IH7+1","v":243},{"$f":"II7+1","v":244},{"$f":"IJ7+1","v":245},{"$f":"IK7+1","v":246},{"$f":"IL7+1","v":247},{"$f":"IM7+1","v":248},{"$f":"IN7+1","v":249},{"$f":"IO7+1","v":250},{"$f":"IP7+1","v":251},{"$f":"IQ7+1","v":252},{"$f":"IR7+1","v":253},{"$f":"IS7+1","v":254},{"$f":"IT7+1","v":255},{"$f":"IU7+1","v":256},{"$f":"IV7+1","v":257},{"$f":"IW7+1","v":258},{"$f":"IX7+1","v":259},{"$f":"IY7+1","v":260},{"$f":"IZ7+1","v":261},{"$f":"JA7+1","v":262},{"$f":"JB7+1","v":263},{"$f":"JC7+1","v":264},{"$f":"JD7+1","v":265},{"$f":"JE7+1","v":266},{"$f":"JF7+1","v":267},{"$f":"JG7+1","v":268},{"$f":"JH7+1","v":269},{"$f":"JI7+1","v":270},{"$f":"JJ7+1","v":271},{"$f":"JK7+1","v":272},{"$f":"JL7+1","v":273},{"$f":"JM7+1","v":274},{"$f":"JN7+1","v":275},{"$f":"JO7+1","v":276},{"$f":"JP7+1","v":277},{"$f":"JQ7+1","v":278},{"$f":"JR7+1","v":279},{"$f":"JS7+1","v":280},{"$f":"JT7+1","v":281},{"$f":"JU7+1","v":282},{"$f":"JV7+1","v":283},{"$f":"JW7+1","v":284},{"$f":"JX7+1","v":285},{"$f":"JY7+1","v":286},{"$f":"JZ7+1","v":287},{"$f":"KA7+1","v":288},{"$f":"KB7+1","v":289},{"$f":"KC7+1","v":290},{"$f":"KD7+1","v":291},{"$f":"KE7+1","v":292},{"$f":"KF7+1","v":293},{"$f":"KG7+1","v":294},{"$f":"KH7+1","v":295},{"$f":"KI7+1","v":296},{"$f":"KJ7+1","v":297},{"$f":"KK7+1","v":298},{"$f":"KL7+1","v":299},{"$f":"KM7+1","v":300},{"$f":"KN7+1","v":301},{"$f":"KO7+1","v":302},{"$f":"KP7+1","v":303},{"$f":"KQ7+1","v":304},{"$f":"KR7+1","v":305},{"$f":"KS7+1","v":306},{"$f":"KT7+1","v":307},{"$f":"KU7+1","v":308},{"$f":"KV7+1","v":309},{"$f":"KW7+1","v":310},{"$f":"KX7+1","v":311},{"$f":"KY7+1","v":312},{"$f":"KZ7+1","v":313},{"$f":"LA7+1","v":314},{"$f":"LB7+1","v":315},{"$f":"LC7+1","v":316},{"$f":"LD7+1","v":317},{"$f":"LE7+1","v":318},{"$f":"LF7+1","v":319},{"$f":"LG7+1","v":320},{"$f":"LH7+1","v":321},{"$f":"LI7+1","v":322},{"$f":"LJ7+1","v":323},{"$f":"LK7+1","v":324},{"$f":"LL7+1","v":325},{"$f":"LM7+1","v":326},{"$f":"LN7+1","v":327},{"$f":"LO7+1","v":328},{"$f":"LP7+1","v":329},{"$f":"LQ7+1","v":330},{"$f":"LR7+1","v":331},{"$f":"LS7+1","v":332},{"$f":"LT7+1","v":333},{"$f":"LU7+1","v":334},{"$f":"LV7+1","v":335},{"$f":"LW7+1","v":336},{"$f":"LX7+1","v":337},{"$f":"LY7+1","v":338},{"$f":"LZ7+1","v":339},{"$f":"MA7+1","v":340},{"$f":"MB7+1","v":341},{"$f":"MC7+1","v":342},{"$f":"MD7+1","v":343},{"$f":"ME7+1","v":344},{"$f":"MF7+1","v":345},{"$f":"MG7+1","v":346},{"$f":"MH7+1","v":347},{"$f":"MI7+1","v":348},{"$f":"MJ7+1","v":349},{"$f":"MK7+1","v":350},{"$f":"ML7+1","v":351},{"$f":"MM7+1","v":352},{"$f":"MN7+1","v":353},{"$f":"MO7+1","v":354},{"$f":"MP7+1","v":355},{"$f":"MQ7+1","v":356},{"$f":"MR7+1","v":357},{"$f":"MS7+1","v":358},{"$f":"MT7+1","v":359},{"$f":"MU7+1","v":360},{"$f":"MV7+1","v":361},{"$f":"MW7+1","v":362},{"$f":"MX7+1","v":363},{"$f":"MY7+1","v":364},{"$f":"MZ7+1","v":365},{"$f":"NA7+1","v":366},{"$f":"NB7+1","v":367},{"$f":"NC7+1","v":368},{"$f":"ND7+1","v":369},{"$f":"NE7+1","v":370},{"$f":"NF7+1","v":371},{"$f":"NG7+1","v":372},{"$f":"NH7+1","v":373},{"$f":"NI7+1","v":374},{"$f":"NJ7+1","v":375},{"$f":"NK7+1","v":376},{"$f":"NL7+1","v":377},{"$f":"NM7+1","v":378},{"$f":"NN7+1","v":379},{"$f":"NO7+1","v":380},{"$f":"NP7+1","v":381},{"$f":"NQ7+1","v":382},{"$f":"NR7+1","v":383},{"$f":"NS7+1","v":384},{"$f":"NT7+1","v":385},{"$f":"NU7+1","v":386},{"$f":"NV7+1","v":387},{"$f":"NW7+1","v":388},{"$f":"NX7+1","v":389},{"$f":"NY7+1","v":390},{"$f":"NZ7+1","v":391},{"$f":"OA7+1","v":392},{"$f":"OB7+1","v":393},{"$f":"OC7+1","v":394},{"$f":"OD7+1","v":395},{"$f":"OE7+1","v":396},{"$f":"OF7+1","v":397},{"$f":"OG7+1","v":398},{"$f":"OH7+1","v":399},{"$f":"OI7+1","v":400},{"$f":"OJ7+1","v":401},{"$f":"OK7+1","v":402},{"$f":"OL7+1","v":403},{"$f":"OM7+1","v":404},{"$f":"ON7+1","v":405},{"$f":"OO7+1","v":406},{"$f":"OP7+1","v":407},{"$f":"OQ7+1","v":408},{"$f":"OR7+1","v":409},{"$f":"OS7+1","v":410},{"$f":"OT7+1","v":411},{"$f":"OU7+1","v":412},{"$f":"OV7+1","v":413},{"$f":"OW7+1","v":414},{"$f":"OX7+1","v":415},{"$f":"OY7+1","v":416},{"$f":"OZ7+1","v":417},{"$f":"PA7+1","v":418},{"$f":"PB7+1","v":419},{"$f":"PC7+1","v":420},{"$f":"PD7+1","v":421},{"$f":"PE7+1","v":422},{"$f":"PF7+1","v":423},{"$f":"PG7+1","v":424},{"$f":"PH7+1","v":425},{"$f":"PI7+1","v":426},{"$f":"PJ7+1","v":427},{"$f":"PK7+1","v":428},{"$f":"PL7+1","v":429},{"$f":"PM7+1","v":430},{"$f":"PN7+1","v":431},{"$f":"PO7+1","v":432},{"$f":"PP7+1","v":433},{"$f":"PQ7+1","v":434},{"$f":"PR7+1","v":435},{"$f":"PS7+1","v":436},{"$f":"PT7+1","v":437},{"$f":"PU7+1","v":438},{"$f":"PV7+1","v":439},{"$f":"PW7+1","v":440},{"$f":"PX7+1","v":441},{"$f":"PY7+1","v":442},{"$f":"PZ7+1","v":443},{"$f":"QA7+1","v":444},{"$f":"QB7+1","v":445},{"$f":"QC7+1","v":446},{"$f":"QD7+1","v":447},{"$f":"QE7+1","v":448},{"$f":"QF7+1","v":449},{"$f":"QG7+1","v":450},{"$f":"QH7+1","v":451},{"$f":"QI7+1","v":452},{"$f":"QJ7+1","v":453},{"$f":"QK7+1","v":454},{"$f":"QL7+1","v":455},{"$f":"QM7+1","v":456},{"$f":"QN7+1","v":457},{"$f":"QO7+1","v":458},{"$f":"QP7+1","v":459},{"$f":"QQ7+1","v":460},{"$f":"QR7+1","v":461},{"$f":"QS7+1","v":462},{"$f":"QT7+1","v":463},{"$f":"QU7+1","v":464},{"$f":"QV7+1","v":465},{"$f":"QW7+1","v":466},{"$f":"QX7+1","v":467},{"$f":"QY7+1","v":468},{"$f":"QZ7+1","v":469},{"$f":"RA7+1","v":470},{"$f":"RB7+1","v":471},{"$f":"RC7+1","v":472},{"$f":"RD7+1","v":473},{"$f":"RE7+1","v":474},{"$f":"RF7+1","v":475},{"$f":"RG7+1","v":476},{"$f":"RH7+1","v":477},{"$f":"RI7+1","v":478},{"$f":"RJ7+1","v":479},{"$f":"RK7+1","v":480},{"$f":"RL7+1","v":481},{"$f":"RM7+1","v":482},{"$f":"RN7+1","v":483},{"$f":"RO7+1","v":484},{"$f":"RP7+1","v":485},{"$f":"RQ7+1","v":486},{"$f":"RR7+1","v":487},{"$f":"RS7+1","v":488},{"$f":"RT7+1","v":489},{"$f":"RU7+1","v":490},{"$f":"RV7+1","v":491},{"$f":"RW7+1","v":492},{"$f":"RX7+1","v":493},{"$f":"RY7+1","v":494},{"$f":"RZ7+1","v":495},{"$f":"SA7+1","v":496},{"$f":"SB7+1","v":497},{"$f":"SC7+1","v":498},{"$f":"SD7+1","v":499},{"$f":"SE7+1","v":500},{"$f":"SF7+1","v":501},{"$f":"SG7+1","v":502},{"$f":"SH7+1","v":503},{"$f":"SI7+1","v":504},{"$f":"SJ7+1","v":505},{"$f":"SK7+1","v":506},{"$f":"SL7+1","v":507},{"$f":"SM7+1","v":508},{"$f":"SN7+1","v":509},{"$f":"SO7+1","v":510},{"$f":"SP7+1","v":511},{"$f":"SQ7+1","v":512},{"$f":"SR7+1","v":513},{"$f":"SS7+1","v":514},{"$f":"ST7+1","v":515},{"$f":"SU7+1","v":516},{"$f":"SV7+1","v":517},{"$f":"SW7+1","v":518},{"$f":"SX7+1","v":519},{"$f":"SY7+1","v":520},{"$f":"SZ7+1","v":521},{"$f":"TA7+1","v":522},{"$f":"TB7+1","v":523},{"$f":"TC7+1","v":524},{"$f":"TD7+1","v":525},{"$f":"TE7+1","v":526},{"$f":"TF7+1","v":527},{"$f":"TG7+1","v":528},{"$f":"TH7+1","v":529},{"$f":"TI7+1","v":530},{"$f":"TJ7+1","v":531},{"$f":"TK7+1","v":532},{"$f":"TL7+1","v":533},{"$f":"TM7+1","v":534},{"$f":"TN7+1","v":535},{"$f":"TO7+1","v":536},{"$f":"TP7+1","v":537},{"$f":"TQ7+1","v":538},{"$f":"TR7+1","v":539},{"$f":"TS7+1","v":540},{"$f":"TT7+1","v":541},{"$f":"TU7+1","v":542},{"$f":"TV7+1","v":543},{"$f":"TW7+1","v":544},{"$f":"TX7+1","v":545},{"$f":"TY7+1","v":546},{"$f":"TZ7+1","v":547},{"$f":"UA7+1","v":548},{"$f":"UB7+1","v":549},{"$f":"UC7+1","v":550},{"$f":"UD7+1","v":551},{"$f":"UE7+1","v":552},{"$f":"UF7+1","v":553},{"$f":"UG7+1","v":554},{"$f":"UH7+1","v":555},{"$f":"UI7+1","v":556},{"$f":"UJ7+1","v":557},{"$f":"UK7+1","v":558},{"$f":"UL7+1","v":559},{"$f":"UM7+1","v":560},{"$f":"UN7+1","v":561},{"$f":"UO7+1","v":562},{"$f":"UP7+1","v":563},{"$f":"UQ7+1","v":564},{"$f":"UR7+1","v":565},{"$f":"US7+1","v":566},{"$f":"UT7+1","v":567},{"$f":"UU7+1","v":568},{"$f":"UV7+1","v":569},{"$f":"UW7+1","v":570},{"$f":"UX7+1","v":571},{"$f":"UY7+1","v":572},{"$f":"UZ7+1","v":573},{"$f":"VA7+1","v":574},{"$f":"VB7+1","v":575},{"$f":"VC7+1","v":576},{"$f":"VD7+1","v":577},{"$f":"VE7+1","v":578},{"$f":"VF7+1","v":579},{"$f":"VG7+1","v":580},{"$f":"VH7+1","v":581},{"$f":"VI7+1","v":582},{"$f":"VJ7+1","v":583},{"$f":"VK7+1","v":584},{"$f":"VL7+1","v":585},{"$f":"VM7+1","v":586},{"$f":"VN7+1","v":587},{"$f":"VO7+1","v":588},{"$f":"VP7+1","v":589},{"$f":"VQ7+1","v":590},{"$f":"VR7+1","v":591},{"$f":"VS7+1","v":592},{"$f":"VT7+1","v":593},{"$f":"VU7+1","v":594},{"$f":"VV7+1","v":595},{"$f":"VW7+1","v":596},{"$f":"VX7+1","v":597},{"$f":"VY7+1","v":598},{"$f":"VZ7+1","v":599},{"$f":"WA7+1","v":600},{"$f":"WB7+1","v":601},{"$f":"WC7+1","v":602},{"$f":"WD7+1","v":603},{"$f":"WE7+1","v":604},{"$f":"WF7+1","v":605},{"$f":"WG7+1","v":606},{"$f":"WH7+1","v":607},{"$f":"WI7+1","v":608},{"$f":"WJ7+1","v":609},{"$f":"WK7+1","v":610},{"$f":"WL7+1","v":611},{"$f":"WM7+1","v":612},{"$f":"WN7+1","v":613},{"$f":"WO7+1","v":614},{"$f":"WP7+1","v":615},{"$f":"WQ7+1","v":616},{"$f":"WR7+1","v":617},{"$f":"WS7+1","v":618},{"$f":"WT7+1","v":619},{"$f":"WU7+1","v":620},{"$f":"WV7+1","v":621},{"$f":"WW7+1","v":622},{"$f":"WX7+1","v":623},{"$f":"WY7+1","v":624},{"$f":"WZ7+1","v":625},{"$f":"XA7+1","v":626},{"$f":"XB7+1","v":627},{"$f":"XC7+1","v":628},{"$f":"XD7+1","v":629},{"$f":"XE7+1","v":630},{"$f":"XF7+1","v":631},{"$f":"XG7+1","v":632}]
[1,"RAP001",null,"X TGB 1","AHMAD SAIFUL FAKHRIZAL ",null,null,null,15160001,85,80,"B",85,80,"B",81,79,"B",86,85,"A",81.783333333333317,75.25,"B",79,79,"B",85.402499999999989,85.142857142857139,"B",81.666666666666657,86.666666666666671,"B",92.3,88.875,"A",77.751999999999995,75.25,"B",76.825000000000003,75.625,"B",90.116666666666674,87.714285714285708,"B",78,78,"B",80.05,79.75,"B",78,78,"B",85.3,83.2,"B",85,89,"B","-","-","-","-","-","-","-","-","-","-","-","-","-","-","-","-","-","-","-","-","-","-","-","-","-","-","-","-","-","-",87.866666666666674,88.5,"A","-","-","-","-","-","-",85,80,"B",85,80,"B",81,79,"B",86,85,"A",81.783333333333317,75.25,"B",79,79,"B",85.402499999999989,85.142857142857139,"B",81.666666666666657,86.666666666666671,"B",92.3,88.875,"A",77.751999999999995,75.25,"B",76.825000000000003,75.625,"B",90.116666666666674,87.714285714285708,"B",78,78,"B",80.05,79.75,"B",78,78,"B",85.3,83.2,"B",85,89,"B","-","-","-","-","-","-","-","-","-","-","-","-","-","-","-","-","-","-","-","-","-","-","-","-","-","-","-","-","-","-",87.866666666666674,88.5,"A","-","-","-","-","-","-",null,null,null,null,null,null,null,null,null,null,null,null,null,null,null,null,null,null,null,null,null,null,null,null,null,null,null,null,null,null,null,null,null,null,null,null,null,null,null,null,null,null,null,null,null,null,null,null,null,null,null,null,null,null,null,null,null,null,null,null,null,null,null,null,null,null,null,null,null,null,null,null,null,null,null,null,null,null,null,null,null,null,null,null,null,null,null,null,null,null,null,null,null,null,null,null,null,null,null,null,null,null,null,null,null,null,null,null,null,null,null,null,null,null,null,null,null,null,null,null,null,null,null,null,null,null,null,null,null,null,null,null,null,null,null,null,null,null,null,null,null,null,null,null,null,null,null,null,null,null,null,null,null,null,null,null,null,null,null,null,null,null,null,null,null,null,null,null,null,null,null,null,null,null,null,null,null,null,null,null,null,null,null,null,null,null,null,null,null,null,null,null,null,null,null,null,null,null,null,null,null,null,null,null,null,null,null,null,null,null,null,null,null,null,null,null,null,null,null,null,null,null,null,null,null,null,null,null,null,null,null,null,null,null,null,null,null,null,null,null,null,null,null,null,null,null,null,null,null,null,null,null,null,null,null,null,null,null,null,null,null,null,null,null,null,null,null,null,null,null,null,null,null,null,null,null,null,null,null,null,null,null,null,null,null,null,null,null,null,null,null,null,null,null,null,null,null,null,null,null,null,null,null,null,null,null,null,null,null,null,null,null,null,null,null,null,null,null,null,null,null,null,null,null,null,null,null,null,null,null,null,null,null,null,null,null,null,null,null,null,null,null,null,null,null,null,null,null,null,null,null,null,null,null,null,null,null,null,null,null,null,null,null,null,null,null,null,null,null,null,null,null,null,null,null,null,null,null,null,null,null,null,null,null,null,null,null,null,null,null,null,null,null,null,null,null,null,null,null,null,{"$f":"ROUND(AVERAGEIF($J$6:$TX$6,$VR$6,J8:TY8),2)","v":85},{"$f":"ROUND(AVERAGEIF($J$6:$TX$6,$VS$6,J8:TY8),2)","v":85},{"$f":"ROUND(AVERAGEIF($J$6:$TX$6,$VT$6,J8:TY8),2)","v":81},{"$f":"ROUND(AVERAGEIF($J$6:$TX$6,$VU$6,J8:TY8),2)","v":86},{"$f":"ROUND(AVERAGEIF($J$6:$TX$6,$VV$6,J8:TY8),2)","v":81.78},{"$f":"ROUND(AVERAGEIF($J$6:$TX$6,$VW$6,J8:TY8),2)","v":79},{"$f":"ROUND(AVERAGEIF($J$6:$TX$6,$VX$6,J8:TY8),2)","v":85.4},{"$f":"ROUND(AVERAGEIF($J$6:$TX$6,$VY$6,J8:TY8),2)","v":81.67},{"$f":"ROUND(AVERAGEIF($J$6:$TX$6,$VZ$6,J8:TY8),2)","v":92.3},{"$f":"ROUND(AVERAGEIF($J$6:$TX$6,$WA$6,J8:TY8),2)","v":77.75},{"$f":"ROUND(AVERAGEIF($J$6:$TX$6,$WB$6,J8:TY8),2)","v":76.83},{"$f":"ROUND(AVERAGEIF($J$6:$TX$6,$WC$6,J8:TY8),2)","v":90.12},{"$f":"ROUND(AVERAGEIF($J$6:$TX$6,$WD$6,J8:TY8),2)","v":78},{"$f":"ROUND(AVERAGEIF($J$6:$TX$6,$WE$6,J8:TY8),2)","v":82.09},{"$f":"ROUND(AVERAGEIF($J$6:$TX$6,$WF$6,J8:TY8),2)","v":{"$error":"#DIV/0!"}},{"$f":"ROUND(AVERAGEIF($J$6:$TX$6,$WG$6,J8:TY8),2)","v":87.87},{"$f":"ROUND(AVERAGEIF($J$6:$TX$6,$WH$6,J8:TY8),2)","v":{"$error":"#DIV/0!"}},{"$f":"ROUND(AVERAGEIF($J$6:$TX$6,$WI$6,J8:TY8),2)","v":{"$error":"#DIV/0!"}},null,{"$f":"SUMIF($J$5:$CU$5,\"P1\",J8:CU8)","v":1496.0628333333334},{"$f":"COUNT(J8:CU8)-COUNTIF(J8:CU8,\"-\")/3","v":24},{"$f":"AVERAGEIF($J$5:$CU$5,\"P1\",J8:CU8)","v":83.114601851851859},{"$f":"RANK(WM8,$WM$8:$WM$44)","v":5},{"$f":"SUMIF($CV$5:$GG$5,\"P2\",CV8:GG8)","v":1496.0628333333334},{"$f":"COUNT(CV8:GG8)-COUNTIF(CV8:GG8,\"-\")/3","v":24},{"$f":"AVERAGEIF($CV$5:$GG$5,\"P2\",CV8:GG8)","v":83.114601851851859},{"$f":"RANK(WQ8,$WQ$8:$WQ$44)","v":5}]
[2,"RAP002",null,"X TGB 1","ANAS NASRULLOH",null,null,null,15160002,80,80,"B",80,80,"B",78,77,"B",83,85,"A",77.933333333333323,76,"B",78,78,"B",80.612499999999997,81.428571428571431,"B",81.666666666666657,86.666666666666671,"B",91.35,89.5,"A",76.793333333333322,75.125,"B",75.05,77.100000000000009,"B",78.566666666666663,78.142857142857139,"B",78,78,"B",79.23333333333332,79.75,"B",78,78,"B",85.125,83,"B",83,82,"B","-","-","-","-","-","-","-","-","-","-","-","-","-","-","-","-","-","-","-","-","-","-","-","-","-","-","-","-","-","-",80.75,77,"B","-","-","-","-","-","-",80,80,"B",80,80,"B",78,77,"B",83,85,"A",77.933333333333323,76,"B",78,78,"B",80.612499999999997,81.428571428571431,"B",81.666666666666657,86.666666666666671,"B",91.35,89.5,"A",76.793333333333322,75.125,"B",75.05,77.100000000000009,"B",78.566666666666663,78.142857142857139,"B",78,78,"B",79.23333333333332,79.75,"B",78,78,"B",85.125,83,"B",83,82,"B","-","-","-","-","-","-","-","-","-","-","-","-","-","-","-","-","-","-","-","-","-","-","-","-","-","-","-","-","-","-",80.75,77,"B","-","-","-","-","-","-",null,null,null,null,null,null,null,null,null,null,null,null,null,null,null,null,null,null,null,null,null,null,null,null,null,null,null,null,null,null,null,null,null,null,null,null,null,null,null,null,null,null,null,null,null,null,null,null,null,null,null,null,null,null,null,null,null,null,null,null,null,null,null,null,null,null,null,null,null,null,null,null,null,null,null,null,null,null,null,null,null,null,null,null,null,null,null,null,null,null,null,null,null,null,null,null,null,null,null,null,null,null,null,null,null,null,null,null,null,null,null,null,null,null,null,null,null,null,null,null,null,null,null,null,null,null,null,null,null,null,null,null,null,null,null,null,null,null,null,null,null,null,null,null,null,null,null,null,null,null,null,null,null,null,null,null,null,null,null,null,null,null,null,null,null,null,null,null,null,null,null,null,null,null,null,null,null,null,null,null,null,null,null,null,null,null,null,null,null,null,null,null,null,null,null,null,null,null,null,null,null,null,null,null,null,null,null,null,null,null,null,null,null,null,null,null,null,null,null,null,null,null,null,null,null,null,null,null,null,null,null,null,null,null,null,null,null,null,null,null,null,null,null,null,null,null,null,null,null,null,null,null,null,null,null,null,null,null,null,null,null,null,null,null,null,null,null,null,null,null,null,null,null,null,null,null,null,null,null,null,null,null,null,null,null,null,null,null,null,null,null,null,null,null,null,null,null,null,null,null,null,null,null,null,null,null,null,null,null,null,null,null,null,null,null,null,null,null,null,null,null,null,null,null,null,null,null,null,null,null,null,null,null,null,null,null,null,null,null,null,null,null,null,null,null,null,null,null,null,null,null,null,null,null,null,null,null,null,null,null,null,null,null,null,null,null,null,null,null,null,null,null,null,null,null,null,null,null,null,null,null,null,null,null,null,null,null,null,null,null,null,null,null,null,null,null,null,null,null,null,80,80,78,83,77.930000000000007,78,80.61,81.67,91.35,76.790000000000006,75.05,78.569999999999993,78,81.34,{"$error":"#DIV/0!"},80.75,{"$error":"#DIV/0!"},{"$error":"#DIV/0!"},null,{"$f":"SUMIF($J$5:$CU$5,\"P1\",J9:CU9)","v":1445.0808333333332},{"$f":"COUNT(J9:CU9)-COUNTIF(J9:CU9,\"-\")/3","v":24},{"$f":"AVERAGEIF($J$5:$CU$5,\"P1\",J9:CU9)","v":80.282268518518507},{"$f":"RANK(WM9,$WM$8:$WM$44)","v":26},{"$f":"SUMIF($CV$5:$GG$5,\"P2\",CV9:GG9)","v":1445.0808333333332},{"$f":"COUNT(CV9:GG9)-COUNTIF(CV9:GG9,\"-\")/3","v":24},{"$f":"AVERAGEIF($CV$5:$GG$5,\"P2\",CV9:GG9)","v":80.282268518518507},{"$f":"RANK(WQ9,$WQ$8:$WQ$44)","v":26}]
[3,"RAP003",null,"X TGB 1","ANDI",null,null,null,15160003,85,80,"B",85,80,"B",75,77,"B",80,80,"B",75.916666666666671,75,"B",79,79,"B",75.8125,77.142857142857139,"B",81.666666666666657,85,"B",90.649999999999991,88.25,"A",76.091333333333324,75.375,"B",75.025000000000006,83.375,"B",78.566666666666663,78.142857142857139,"B",76,76,"B",78.933333333333323,79.75,"B",76,76,"B",80.224999999999994,79.400000000000006,"B",65,65,"B","-","-","-","-","-","-","-","-","-","-","-","-","-","-","-","-","-","-","-","-","-","-","-","-","-","-","-","-","-","-",83.766666666666666,82.5,"B","-","-","-","-","-","-",85,80,"B",85,80,"B",75,77,"B",80,80,"B",75.916666666666671,75,"B",79,79,"B",75.8125,77.142857142857139,"B",81.666666666666657,85,"B",90.649999999999991,88.25,"A",76.091333333333324,75.375,"B",75.025000000000006,83.375,"B",78.566666666666663,78.142857142857139,"B",76,76,"B",78.933333333333323,79.75,"B",76,76,"B",80.224999999999994,79.400000000000006,"B",65,65,"B","-","-","-","-","-","-","-","-","-","-","-","-","-","-","-","-","-","-","-","-","-","-","-","-","-","-","-","-","-","-",83.766666666666666,82.5,"B","-","-","-","-","-","-",null,null,null,null,null,null,null,null,null,null,null,null,null,null,null,null,null,null,null,null,null,null,null,null,null,null,null,null,null,null,null,null,null,null,null,null,null,null,null,null,null,null,null,null,null,null,null,null,null,null,null,null,null,null,null,null,null,null,null,null,null,null,null,null,null,null,null,null,null,null,null,null,null,null,null,null,null,null,null,null,null,null,null,null,null,null,null,null,null,null,null,null,null,null,null,null,null,null,null,null,null,null,null,null,null,null,null,null,null,null,null,null,null,null,null,null,null,null,null,null,null,null,null,null,null,null,null,null,null,null,null,null,null,null,null,null,null,null,null,null,null,null,null,null,null,null,null,null,null,null,null,null,null,null,null,null,null,null,null,null,null,null,null,null,null,null,null,null,null,null,null,null,null,null,null,null,null,null,null,null,null,null,null,null,null,null,null,null,null,null,null,null,null,null,null,null,null,null,null,null,null,null,null,null,null,null,null,null,null,null,null,null,null,null,null,null,null,null,null,null,null,null,null,null,null,null,null,null,null,null,null,null,null,null,null,null,null,null,null,null,null,null,null,null,null,null,null,null,null,null,null,null,null,null,null,null,null,null,null,null,null,null,null,null,null,null,null,null,null,null,null,null,null,null,null,null,null,null,null,null,null,null,null,null,null,null,null,null,null,null,null,null,null,null,null,null,null,null,null,null,null,null,null,null,null,null,null,null,null,null,null,null,null,null,null,null,null,null,null,null,null,null,null,null,null,null,null,null,null,null,null,null,null,null,null,null,null,null,null,null,null,null,null,null,null,null,null,null,null,null,null,null,null,null,null,null,null,null,null,null,null,null,null,null,null,null,null,null,null,null,null,null,null,null,null,null,null,null,null,null,null,null,null,null,null,null,null,null,null,null,null,null,null,null,null,null,null,null,null,null,85,85,75,80,75.92,79,75.81,81.67,90.65,76.09,75.03,78.569999999999993,76,75.040000000000006,{"$error":"#DIV/0!"},83.77,{"$error":"#DIV/0!"},{"$error":"#DIV/0!"},null,1417.6538333333333,24,78.758546296296288,35,1417.6538333333333,24,78.758546296296288,35]
[4,"RAP004",null,"X TGB 1","ARI HASTUTI ANDINI PITALOKA",null,null,null,15160004,85,80,"B",85,80,"B",79,77,"B",83,85,"B",80.75,76.25,"B",78,78,"B",78.47,78.285714285714292,"B",81.666666666666657,86.666666666666671,"B",89.05,87,"A",75.923333333333318,75.25,"B",75.025000000000006,79.474999999999994,"B",78.099999999999994,78.142857142857139,"B",76,76,"B",79.933333333333323,78.5,"B",76,76,"B",83.9,81.599999999999994,"B",77,81,"B","-","-","-","-","-","-","-","-","-","-","-","-","-","-","-","-","-","-","-","-","-","-","-","-","-","-","-","-","-","-",82.55,72.5,"B","-","-","-","-","-","-",85,80,"B",85,80,"B",79,77,"B",83,85,"B",80.75,76.25,"B",78,78,"B",78.47,78.285714285714292,"B",81.666666666666657,86.666666666666671,"B",89.05,87,"A",75.923333333333318,75.25,"B",75.025000000000006,79.474999999999994,"B",78.099999999999994,78.142857142857139,"B",76,76,"B",79.933333333333323,78.5,"B",76,76,"B",83.9,81.599999999999994,"B",77,81,"B","-","-","-","-","-","-","-","-","-","-","-","-","-","-","-","-","-","-","-","-","-","-","-","-","-","-","-","-","-","-",82.55,72.5,"B","-","-","-","-","-","-",null,null,null,null,null,null,null,null,null,null,null,null,null,null,null,null,null,null,null,null,null,null,null,null,null,null,null,null,null,null,null,null,null,null,null,null,null,null,null,null,null,null,null,null,null,null,null,null,null,null,null,null,null,null,null,null,null,null,null,null,null,null,null,null,null,null,null,null,null,null,null,null,null,null,null,null,null,null,null,null,null,null,null,null,null,null,null,null,null,null,null,null,null,null,null,null,null,null,null,null,null,null,null,null,null,null,null,null,null,null,null,null,null,null,null,null,null,null,null,null,null,null,null,null,null,null,null,null,null,null,null,null,null,null,null,null,null,null,null,null,null,null,null,null,null,null,null,null,null,null,null,null,null,null,null,null,null,null,null,null,null,null,null,null,null,null,null,null,null,null,null,null,null,null,null,null,null,null,null,null,null,null,null,null,null,null,null,null,null,null,null,null,null,null,null,null,null,null,null,null,null,null,null,null,null,null,null,null,null,null,null,null,null,null,null,null,null,null,null,null,null,null,null,null,null,null,null,null,null,null,null,null,null,null,null,null,null,null,null,null,null,null,null,null,null,null,null,null,null,null,null,null,null,null,null,null,null,null,null,null,null,null,null,null,null,null,null,null,null,null,null,null,null,null,null,null,null,null,null,null,null,null,null,null,null,null,null,null,null,null,null,null,null,null,null,null,null,null,null,null,null,null,null,null,null,null,null,null,null,null,null,null,null,null,null,null,null,null,null,null,null,null,null,null,null,null,null,null,null,null,null,null,null,null,null,null,null,null,null,null,null,null,null,null,null,null,null,null,null,null,null,null,null,null,null,null,null,null,null,null,null,null,null,null,null,null,null,null,null,null,null,null,null,null,null,null,null,null,null,null,null,null,null,null,null,null,null,null,null,null,null,null,null,null,null,null,null,null,null,null,85,85,79,83,80.75,78,78.47,81.67,89.05,75.92,75.03,78.099999999999994,76,79.209999999999994,{"$error":"#DIV/0!"},82.55,{"$error":"#DIV/0!"},{"$error":"#DIV/0!"},null,1444.3683333333333,24,80.242685185185181,27,1444.3683333333333,24,80.242685185185181,27]
[5,"RAP005",null,"X TGB 1","AZHARI ARDIANSYAH NURSOLEH",null,null,null,15160005,85,81.125,"B",85,81.125,"B",77,77,"B",80,83,"B",80.61666666666666,76.875,"B",75,75,"B",75.652499999999989,79.428571428571431,"B",81.666666666666657,86.666666666666671,"B",88.949999999999989,89.75,"A",74.417333333333318,75.25,"B",74.650000000000006,81.8,"B",79.616666666666674,78,"B",78,78,"B",78.883333333333326,79.75,"B",78,78,"B",83.55,82.2,"B",77,77,"B","-","-","-","-","-","-","-","-","-","-","-","-","-","-","-","-","-","-","-","-","-","-","-","-","-","-","-","-","-","-",75.150000000000006,82.5,"B","-","-","-","-","-","-",85,81.125,"B",85,81.125,"B",77,77,"B",80,83,"B",80.61666666666666,76.875,"B",75,75,"B",75.652499999999989,79.428571428571431,"B",81.666666666666657,86.666666666666671,"B",88.949999999999989,89.75,"A",74.417333333333318,75.25,"B",74.650000000000006,81.8,"B",79.616666666666674,78,"B",78,78,"B",78.883333333333326,79.75,"B",78,78,"B",83.55,82.2,"B",77,77,"B","-","-","-","-","-","-","-","-","-","-","-","-","-","-","-","-","-","-","-","-","-","-","-","-","-","-","-","-","-","-",75.150000000000006,82.5,"B","-","-","-","-","-","-",null,null,null,null,null,null,null,null,null,null,null,null,null,null,null,null,null,null,null,null,null,null,null,null,null,null,null,null,null,null,null,null,null,null,null,null,null,null,null,null,null,null,null,null,null,null,null,null,null,null,null,null,null,null,null,null,null,null,null,null,null,null,null,null,null,null,null,null,null,null,null,null,null,null,null,null,null,null,null,null,null,null,null,null,null,null,null,null,null,null,null,null,null,null,null,null,null,null,null,null,null,null,null,null,null,null,null,null,null,null,null,null,null,null,null,null,null,null,null,null,null,null,null,null,null,null,null,null,null,null,null,null,null,null,null,null,null,null,null,null,null,null,null,null,null,null,null,null,null,null,null,null,null,null,null,null,null,null,null,null,null,null,null,null,null,null,null,null,null,null,null,null,null,null,null,null,null,null,null,null,null,null,null,null,null,null,null,null,null,null,null,null,null,null,null,null,null,null,null,null,null,null,null,null,null,null,null,null,null,null,null,null,null,null,null,null,null,null,null,null,null,null,null,null,null,null,null,null,null,null,null,null,null,null,null,null,null,null,null,null,null,null,null,null,null,null,null,null,null,null,null,null,null,null,null,null,null,null,null,null,null,null,null,null,null,null,null,null,null,null,null,null,null,null,null,null,null,null,null,null,null,null,null,null,null,null,null,null,null,null,null,null,null,null,null,null,null,null,null,null,null,null,null,null,null,null,null,null,null,null,null,null,null,null,null,null,null,null,null,null,null,null,null,null,null,null,null,null,null,null,null,null,null,null,null,null,null,null,null,null,null,null,null,null,null,null,null,null,null,null,null,null,null,null,null,null,null,null,null,null,null,null,null,null,null,null,null,null,null,null,null,null,null,null,null,null,null,null,null,null,null,null,null,null,null,null,null,null,null,null,null,null,null,null,null,null,null,null,null,null,85,85,77,80,80.62,75,75.650000000000006,81.67,88.95,74.42,74.650000000000006,79.62,78,79.36,{"$error":"#DIV/0!"},75.150000000000006,{"$error":"#DIV/0!"},{"$error":"#DIV/0!"},null,1428.1531666666667,24,79.341842592592599,31,1428.1531666666667,24,79.341842592592599,31]
[6,"RAP006",null,"X TGB 1","AZZAH NURAZIZAH",null,null,null,15160006,84.833333333333329,85,"B",84.833333333333329,85,"B",80,77,"B",83,85,"B",83.766666666666666,77.25,"B",78,78,"B",77.157499999999999,78.285714285714292,"B",77.5,83.333333333333329,"B",87.600000000000009,85.75,"A",73.979333333333315,75,"B",75.275000000000006,82.424999999999997,"B",78.099999999999994,78,"B",78,78,"B",78.183333333333323,79.75,"B",78,78,"B",86.174999999999997,84.2,"B",81,85,"B","-","-","-","-","-","-","-","-","-","-","-","-","-","-","-","-","-","-","-","-","-","-","-","-","-","-","-","-","-","-",89.3,87.75,"A","-","-","-","-","-","-",84.833333333333329,85,"B",84.833333333333329,85,"B",80,77,"B",83,85,"B",83.766666666666666,77.25,"B",78,78,"B",77.157499999999999,78.285714285714292,"B",77.5,83.333333333333329,"B",87.600000000000009,85.75,"A",73.979333333333315,75,"B",75.275000000000006,82.424999999999997,"B",78.099999999999994,78,"B",78,78,"B",78.183333333333323,79.75,"B",78,78,"B",86.174999999999997,84.2,"B",81,85,"B","-","-","-","-","-","-","-","-","-","-","-","-","-","-","-","-","-","-","-","-","-","-","-","-","-","-","-","-","-","-",89.3,87.75,"A","-","-","-","-","-","-",null,null,null,null,null,null,null,null,null,null,null,null,null,null,null,null,null,null,null,null,null,null,null,null,null,null,null,null,null,null,null,null,null,null,null,null,null,null,null,null,null,null,null,null,null,null,null,null,null,null,null,null,null,null,null,null,null,null,null,null,null,null,null,null,null,null,null,null,null,null,null,null,null,null,null,null,null,null,null,null,null,null,null,null,null,null,null,null,null,null,null,null,null,null,null,null,null,null,null,null,null,null,null,null,null,null,null,null,null,null,null,null,null,null,null,null,null,null,null,null,null,null,null,null,null,null,null,null,null,null,null,null,null,null,null,null,null,null,null,null,null,null,null,null,null,null,null,null,null,null,null,null,null,null,null,null,null,null,null,null,null,null,null,null,null,null,null,null,null,null,null,null,null,null,null,null,null,null,null,null,null,null,null,null,null,null,null,null,null,null,null,null,null,null,null,null,null,null,null,null,null,null,null,null,null,null,null,null,null,null,null,null,null,null,null,null,null,null,null,null,null,null,null,null,null,null,null,null,null,null,null,null,null,null,null,null,null,null,null,null,null,null,null,null,null,null,null,null,null,null,null,null,null,null,null,null,null,null,null,null,null,null,null,null,null,null,null,null,null,null,null,null,null,null,null,null,null,null,null,null,null,null,null,null,null,null,null,null,null,null,null,null,null,null,null,null,null,null,null,null,null,null,null,null,null,null,null,null,null,null,null,null,null,null,null,null,null,null,null,null,null,null,null,null,null,null,null,null,null,null,null,null,null,null,null,null,null,null,null,null,null,null,null,null,null,null,null,null,null,null,null,null,null,null,null,null,null,null,null,null,null,null,null,null,null,null,null,null,null,null,null,null,null,null,null,null,null,null,null,null,null,null,null,null,null,null,null,null,null,null,null,null,null,null,null,null,null,null,null,null,84.83,84.83,80,83,83.77,78,77.16,77.5,87.6,73.98,75.28,78.099999999999994,78,80.84,{"$error":"#DIV/0!"},89.3,{"$error":"#DIV/0!"},{"$error":"#DIV/0!"},null,1454.7035000000001,24,80.816861111111109,21,1454.7035000000001,24,80.816861111111109,21]
[7,"RAP007",null,"X TGB 1","BANGKIT HARTAWAN",null,null,null,15160007,86,85,"B",86,85,"B",84,81,"A",87,86,"A",82.816666666666663,78.875,"B",78,78,"B",77.389999999999986,78,"B",81.666666666666657,86.666666666666671,"B",90.7,89.625,"A",74.910666666666657,75.375,"B",74.675000000000011,77.775000000000006,"B",84.516666666666666,83.285714285714292,"B",78,78,"B",85.1,82,"A",78,78,"B",85.3,83.2,"B",87,89,"B","-","-","-","-","-","-","-","-","-","-","-","-","-","-","-","-","-","-","-","-","-","-","-","-","-","-","-","-","-","-",85.399999999999991,84,"B","-","-","-","-","-","-",86,85,"B",86,85,"B",84,81,"A",87,86,"A",82.816666666666663,78.875,"B",78,78,"B",77.389999999999986,78,"B",81.666666666666657,86.666666666666671,"B",90.7,89.625,"A",74.910666666666657,75.375,"B",74.675000000000011,77.775000000000006,"B",84.516666666666666,83.285714285714292,"B",78,78,"B",85.1,82,"A",78,78,"B",85.3,83.2,"B",87,89,"B","-","-","-","-","-","-","-","-","-","-","-","-","-","-","-","-","-","-","-","-","-","-","-","-","-","-","-","-","-","-",85.399999999999991,84,"B","-","-","-","-","-","-",null,null,null,null,null,null,null,null,null,null,null,null,null,null,null,null,null,null,null,null,null,null,null,null,null,null,null,null,null,null,null,null,null,null,null,null,null,null,null,null,null,null,null,null,null,null,null,null,null,null,null,null,null,null,null,null,null,null,null,null,null,null,null,null,null,null,null,null,null,null,null,null,null,null,null,null,null,null,null,null,null,null,null,null,null,null,null,null,null,null,null,null,null,null,null,null,null,null,null,null,null,null,null,null,null,null,null,null,null,null,null,null,null,null,null,null,null,null,null,null,null,null,null,null,null,null,null,null,null,null,null,null,null,null,null,null,null,null,null,null,null,null,null,null,null,null,null,null,null,null,null,null,null,null,null,null,null,null,null,null,null,null,null,null,null,null,null,null,null,null,null,null,null,null,null,null,null,null,null,null,null,null,null,null,null,null,null,null,null,null,null,null,null,null,null,null,null,null,null,null,null,null,null,null,null,null,null,null,null,null,null,null,null,null,null,null,null,null,null,null,null,null,null,null,null,null,null,null,null,null,null,null,null,null,null,null,null,null,null,null,null,null,null,null,null,null,null,null,null,null,null,null,null,null,null,null,null,null,null,null,null,null,null,null,null,null,null,null,null,null,null,null,null,null,null,null,null,null,null,null,null,null,null,null,null,null,null,null,null,null,null,null,null,null,null,null,null,null,null,null,null,null,null,null,null,null,null,null,null,null,null,null,null,null,null,null,null,null,null,null,null,null,null,null,null,null,null,null,null,null,null,null,null,null,null,null,null,null,null,null,null,null,null,null,null,null,null,null,null,null,null,null,null,null,null,null,null,null,null,null,null,null,null,null,null,null,null,null,null,null,null,null,null,null,null,null,null,null,null,null,null,null,null,null,null,null,null,null,null,null,null,null,null,null,null,null,null,null,null,null,86,86,84,87,82.82,78,77.39,81.67,90.7,74.91,74.680000000000007,84.52,78,83.85,{"$error":"#DIV/0!"},85.4,{"$error":"#DIV/0!"},{"$error":"#DIV/0!"},null,1486.4756666666667,24,82.581981481481478,10,1486.4756666666667,24,82.581981481481478,10]
[8,"RAP008",null,"X TGB 1","BAYU SANTOSO",null,null,null,15160008,79.683333333333337,80,"B",79.683333333333337,80,"B",79,77,"B",83,85,"B",76.899999999999991,76.375,"B",79,79,"B",78.074999999999989,84.285714285714292,"B",77.5,83.333333333333329,"B",91.85,90.75,"A",66.429999999999993,75.125,"B",75.125,78.525000000000006,"B",78.216666666666669,78.571428571428569,"B",78,78,"B",78.416666666666671,78.125,"B",78,78,"B",84.775000000000006,82.6,"B",77,77,"B","-","-","-","-","-","-","-","-","-","-","-","-","-","-","-","-","-","-","-","-","-","-","-","-","-","-","-","-","-","-",82.55,84,"B","-","-","-","-","-","-",79.683333333333337,80,"B",79.683333333333337,80,"B",79,77,"B",83,85,"B",76.899999999999991,76.375,"B",79,79,"B",78.074999999999989,84.285714285714292,"B",77.5,83.333333333333329,"B",91.85,90.75,"A",66.429999999999993,75.125,"B",75.125,78.525000000000006,"B",78.216666666666669,78.571428571428569,"B",78,78,"B",78.416666666666671,78.125,"B",78,78,"B",84.775000000000006,82.6,"B",77,77,"B","-","-","-","-","-","-","-","-","-","-","-","-","-","-","-","-","-","-","-","-","-","-","-","-","-","-","-","-","-","-",82.55,84,"B","-","-","-","-","-","-",null,null,null,null,null,null,null,null,null,null,null,null,null,null,null,null,null,null,null,null,null,null,null,null,null,null,null,null,null,null,null,null,null,null,null,null,null,null,null,null,null,null,null,null,null,null,null,null,null,null,null,null,null,null,null,null,null,null,null,null,null,null,null,null,null,null,null,null,null,null,null,null,null,null,null,null,null,null,null,null,null,null,null,null,null,null,null,null,null,null,null,null,null,null,null,null,null,null,null,null,null,null,null,null,null,null,null,null,null,null,null,null,null,null,null,null,null,null,null,null,null,null,null,null,null,null,null,null,null,null,null,null,null,null,null,null,null,null,null,null,null,null,null,null,null,null,null,null,null,null,null,null,null,null,null,null,null,null,null,null,null,null,null,null,null,null,null,null,null,null,null,null,null,null,null,null,null,null,null,null,null,null,null,null,null,null,null,null,null,null,null,null,null,null,null,null,null,null,null,null,null,null,null,null,null,null,null,null,null,null,null,null,null,null,null,null,null,null,null,null,null,null,null,null,null,null,null,null,null,null,null,null,null,null,null,null,null,null,null,null,null,null,null,null,null,null,null,null,null,null,null,null,null,null,null,null,null,null,null,null,null,null,null,null,null,null,null,null,null,null,null,null,null,null,null,null,null,null,null,null,null,null,null,null,null,null,null,null,null,null,null,null,null,null,null,null,null,null,null,null,null,null,null,null,null,null,null,null,null,null,null,null,null,null,null,null,null,null,null,null,null,null,null,null,null,null,null,null,null,null,null,null,null,null,null,null,null,null,null,null,null,null,null,null,null,null,null,null,null,null,null,null,null,null,null,null,null,null,null,null,null,null,null,null,null,null,null,null,null,null,null,null,null,null,null,null,null,null,null,null,null,null,null,null,null,null,null,null,null,null,null,null,null,null,null,null,null,null,null,null,79.680000000000007,79.680000000000007,79,83,76.900000000000006,79,78.08,77.5,91.85,66.430000000000007,75.13,78.22,78,79.55,{"$error":"#DIV/0!"},82.55,{"$error":"#DIV/0!"},{"$error":"#DIV/0!"},null,1423.2050000000002,24,79.066944444444459,33,1423.2050000000002,24,79.066944444444459,33]
[9,"RAP009",null,"X TGB 1","DEWI MUSTIKA SARI",null,null,null,15160009,85.833333333333329,85,"B",85.833333333333329,85,"B",77,77,"B",83,85,"B",83.766666666666666,75.875,"B",75,75,"B",76.387500000000003,77.142857142857139,"B",81.666666666666657,83.333333333333329,"B",90.999999999999986,91.125,"A",74.567333333333323,75.5,"B",74.5,77.399999999999991,"B",78.099999999999994,78.428571428571431,"B",78,78,"B",78.833333333333329,79.75,"B",78,78,"B",83.199999999999989,80.8,"B",83.999999999999986,88,"B","-","-","-","-","-","-","-","-","-","-","-","-","-","-","-","-","-","-","-","-","-","-","-","-","-","-","-","-","-","-",87.36666666666666,93,"A","-","-","-","-","-","-",85.833333333333329,85,"B",85.833333333333329,85,"B",77,77,"B",83,85,"B",83.766666666666666,75.875,"B",75,75,"B",76.387500000000003,77.142857142857139,"B",81.666666666666657,83.333333333333329,"B",90.999999999999986,91.125,"A",74.567333333333323,75.5,"B",74.5,77.399999999999991,"B",78.099999999999994,78.428571428571431,"B",78,78,"B",78.833333333333329,79.75,"B",78,78,"B",83.199999999999989,80.8,"B",83.999999999999986,88,"B","-","-","-","-","-","-","-","-","-","-","-","-","-","-","-","-","-","-","-","-","-","-","-","-","-","-","-","-","-","-",87.36666666666666,93,"A","-","-","-","-","-","-",null,null,null,null,null,null,null,null,null,null,null,null,null,null,null,null,null,null,null,null,null,null,null,null,null,null,null,null,null,null,null,null,null,null,null,null,null,null,null,null,null,null,null,null,null,null,null,null,null,null,null,null,null,null,null,null,null,null,null,null,null,null,null,null,null,null,null,null,null,null,null,null,null,null,null,null,null,null,null,null,null,null,null,null,null,null,null,null,null,null,null,null,null,null,null,null,null,null,null,null,null,null,null,null,null,null,null,null,null,null,null,null,null,null,null,null,null,null,null,null,null,null,null,null,null,null,null,null,null,null,null,null,null,null,null,null,null,null,null,null,null,null,null,null,null,null,null,null,null,null,null,null,null,null,null,null,null,null,null,null,null,null,null,null,null,null,null,null,null,null,null,null,null,null,null,null,null,null,null,null,null,null,null,null,null,null,null,null,null,null,null,null,null,null,null,null,null,null,null,null,null,null,null,null,null,null,null,null,null,null,null,null,null,null,null,null,null,null,null,null,null,null,null,null,null,null,null,null,null,null,null,null,null,null,null,null,null,null,null,null,null,null,null,null,null,null,null,null,null,null,null,null,null,null,null,null,null,null,null,null,null,null,null,null,null,null,null,null,null,null,null,null,null,null,null,null,null,null,null,null,null,null,null,null,null,null,null,null,null,null,null,null,null,null,null,null,null,null,null,null,null,null,null,null,null,null,null,null,null,null,null,null,null,null,null,null,null,null,null,null,null,null,null,null,null,null,null,null,null,null,null,null,null,null,null,null,null,null,null,null,null,null,null,null,null,null,null,null,null,null,null,null,null,null,null,null,null,null,null,null,null,null,null,null,null,null,null,null,null,null,null,null,null,null,null,null,null,null,null,null,null,null,null,null,null,null,null,null,null,null,null,null,null,null,null,null,null,null,null,null,85.83,85.83,77,83,83.77,75,76.39,81.67,91,74.569999999999993,74.5,78.099999999999994,78,81.010000000000005,{"$error":"#DIV/0!"},87.37,{"$error":"#DIV/0!"},{"$error":"#DIV/0!"},null,1456.0548333333331,24,80.891935185185176,19,1456.0548333333331,24,80.891935185185176,19]
[10,"RAP010",null,"X TGB 1","DICKY WAHYUDI",null,null,null,15160010,84.066666666666663,80,"B",84.066666666666663,80,"B",82,81,"B",87,86,"A",84.883333333333326,81.75,"B",78,78,"B",76.822499999999991,77.714285714285708,"B",81.666666666666657,86.666666666666671,"B",90.649999999999991,87.75,"A",77.531333333333322,77.75,"A",77,78.75,"B",85.1,84.714285714285708,"B",85,85,"B",78.983333333333334,79.75,"B",85,85,"B",85.65,83.6,"B",83.999999999999986,85,"B","-","-","-","-","-","-","-","-","-","-","-","-","-","-","-","-","-","-","-","-","-","-","-","-","-","-","-","-","-","-",94.316666666666663,93,"A","-","-","-","-","-","-",84.066666666666663,80,"B",84.066666666666663,80,"B",82,81,"B",87,86,"A",84.883333333333326,81.75,"B",78,78,"B",76.822499999999991,77.714285714285708,"B",81.666666666666657,86.666666666666671,"B",90.649999999999991,87.75,"A",77.531333333333322,77.75,"A",77,78.75,"B",85.1,84.714285714285708,"B",85,85,"B",78.983333333333334,79.75,"B",85,85,"B",85.65,83.6,"B",83.999999999999986,85,"B","-","-","-","-","-","-","-","-","-","-","-","-","-","-","-","-","-","-","-","-","-","-","-","-","-","-","-","-","-","-",94.316666666666663,93,"A","-","-","-","-","-","-",null,null,null,null,null,null,null,null,null,null,null,null,null,null,null,null,null,null,null,null,null,null,null,null,null,null,null,null,null,null,null,null,null,null,null,null,null,null,null,null,null,null,null,null,null,null,null,null,null,null,null,null,null,null,null,null,null,null,null,null,null,null,null,null,null,null,null,null,null,null,null,null,null,null,null,null,null,null,null,null,null,null,null,null,null,null,null,null,null,null,null,null,null,null,null,null,null,null,null,null,null,null,null,null,null,null,null,null,null,null,null,null,null,null,null,null,null,null,null,null,null,null,null,null,null,null,null,null,null,null,null,null,null,null,null,null,null,null,null,null,null,null,null,null,null,null,null,null,null,null,null,null,null,null,null,null,null,null,null,null,null,null,null,null,null,null,null,null,null,null,null,null,null,null,null,null,null,null,null,null,null,null,null,null,null,null,null,null,null,null,null,null,null,null,null,null,null,null,null,null,null,null,null,null,null,null,null,null,null,null,null,null,null,null,null,null,null,null,null,null,null,null,null,null,null,null,null,null,null,null,null,null,null,null,null,null,null,null,null,null,null,null,null,null,null,null,null,null,null,null,null,null,null,null,null,null,null,null,null,null,null,null,null,null,null,null,null,null,null,null,null,null,null,null,null,null,null,null,null,null,null,null,null,null,null,null,null,null,null,null,null,null,null,null,null,null,null,null,null,null,null,null,null,null,null,null,null,null,null,null,null,null,null,null,null,null,null,null,null,null,null,null,null,null,null,null,null,null,null,null,null,null,null,null,null,null,null,null,null,null,null,null,null,null,null,null,null,null,null,null,null,null,null,null,null,null,null,null,null,null,null,null,null,null,null,null,null,null,null,null,null,null,null,null,null,null,null,null,null,null,null,null,null,null,null,null,null,null,null,null,null,null,null,null,null,null,null,null,null,null,84.07,84.07,82,87,84.88,78,76.819999999999993,81.67,90.65,77.53,77,85.1,85,83.41,{"$error":"#DIV/0!"},94.32,{"$error":"#DIV/0!"},{"$error":"#DIV/0!"},null,1501.7371666666666,24,83.429842592592593,3,1501.7371666666666,24,83.429842592592593,3]
[11,"RAP011",null,"X TGB 1","ERIK MASHURI",null,null,null,15160011,80.266666666666666,80,"B",80.266666666666666,80,"B",79,78,"B",86,80,"B",76.849999999999994,75,"B",75,75,"B",76.877499999999998,83.714285714285708,"B",81.666666666666657,83.333333333333329,"B",89.3,87.875,"A",76.079333333333324,75.25,"B",75.425000000000011,88.424999999999997,"B",78.333333333333329,78.142857142857139,"B",76,76,"B",78.383333333333326,79.75,"B",76,76,"B",85.65,83.6,"B",86,85,"B","-","-","-","-","-","-","-","-","-","-","-","-","-","-","-","-","-","-","-","-","-","-","-","-","-","-","-","-","-","-",94.86666666666666,94,"A","-","-","-","-","-","-",80.266666666666666,80,"B",80.266666666666666,80,"B",79,78,"B",86,80,"B",76.849999999999994,75,"B",75,75,"B",76.877499999999998,83.714285714285708,"B",81.666666666666657,83.333333333333329,"B",89.3,87.875,"A",76.079333333333324,75.25,"B",75.425000000000011,88.424999999999997,"B",78.333333333333329,78.142857142857139,"B",76,76,"B",78.383333333333326,79.75,"B",76,76,"B",85.65,83.6,"B",86,85,"B","-","-","-","-","-","-","-","-","-","-","-","-","-","-","-","-","-","-","-","-","-","-","-","-","-","-","-","-","-","-",94.86666666666666,94,"A","-","-","-","-","-","-",null,null,null,null,null,null,null,null,null,null,null,null,null,null,null,null,null,null,null,null,null,null,null,null,null,null,null,null,null,null,null,null,null,null,null,null,null,null,null,null,null,null,null,null,null,null,null,null,null,null,null,null,null,null,null,null,null,null,null,null,null,null,null,null,null,null,null,null,null,null,null,null,null,null,null,null,null,null,null,null,null,null,null,null,null,null,null,null,null,null,null,null,null,null,null,null,null,null,null,null,null,null,null,null,null,null,null,null,null,null,null,null,null,null,null,null,null,null,null,null,null,null,null,null,null,null,null,null,null,null,null,null,null,null,null,null,null,null,null,null,null,null,null,null,null,null,null,null,null,null,null,null,null,null,null,null,null,null,null,null,null,null,null,null,null,null,null,null,null,null,null,null,null,null,null,null,null,null,null,null,null,null,null,null,null,null,null,null,null,null,null,null,null,null,null,null,null,null,null,null,null,null,null,null,null,null,null,null,null,null,null,null,null,null,null,null,null,null,null,null,null,null,null,null,null,null,null,null,null,null,null,null,null,null,null,null,null,null,null,null,null,null,null,null,null,null,null,null,null,null,null,null,null,null,null,null,null,null,null,null,null,null,null,null,null,null,null,null,null,null,null,null,null,null,null,null,null,null,null,null,null,null,null,null,null,null,null,null,null,null,null,null,null,null,null,null,null,null,null,null,null,null,null,null,null,null,null,null,null,null,null,null,null,null,null,null,null,null,null,null,null,null,null,null,null,null,null,null,null,null,null,null,null,null,null,null,null,null,null,null,null,null,null,null,null,null,null,null,null,null,null,null,null,null,null,null,null,null,null,null,null,null,null,null,null,null,null,null,null,null,null,null,null,null,null,null,null,null,null,null,null,null,null,null,null,null,null,null,null,null,null,null,null,null,null,null,null,null,null,null,80.27,80.27,79,86,76.849999999999994,75,76.88,81.67,89.3,76.08,75.430000000000007,78.33,76,81.510000000000005,{"$error":"#DIV/0!"},94.87,{"$error":"#DIV/0!"},{"$error":"#DIV/0!"},null,1451.9651666666666,24,80.664731481481482,23,1451.9651666666666,24,80.664731481481482,23]
[12,"RAP012",null,"X TGB 1","FARID RAMDANI",null,null,null,15160012,82.449999999999989,80,"B",82.449999999999989,80,"B",79,78,"B",83,80,"B",83.766666666666666,76.375,"B",75,75,"B",80.669999999999987,78.285714285714292,"B",81.666666666666657,83.333333333333329,"B",91.399999999999991,90.5,"A",76.727333333333334,75.25,"B",75.275000000000006,76.125,"B",84.633333333333326,83.428571428571431,"B",76,76,"B",78.649999999999991,79.75,"B",76,76,"B",85.824999999999989,83.8,"B",83.999999999999986,84,"B","-","-","-","-","-","-","-","-","-","-","-","-","-","-","-","-","-","-","-","-","-","-","-","-","-","-","-","-","-","-",91.633333333333326,93,"A","-","-","-","-","-","-",82.449999999999989,80,"B",82.449999999999989,80,"B",79,78,"B",83,80,"B",83.766666666666666,76.375,"B",75,75,"B",80.669999999999987,78.285714285714292,"B",81.666666666666657,83.333333333333329,"B",91.399999999999991,90.5,"A",76.727333333333334,75.25,"B",75.275000000000006,76.125,"B",84.633333333333326,83.428571428571431,"B",76,76,"B",78.649999999999991,79.75,"B",76,76,"B",85.824999999999989,83.8,"B",83.999999999999986,84,"B","-","-","-","-","-","-","-","-","-","-","-","-","-","-","-","-","-","-","-","-","-","-","-","-","-","-","-","-","-","-",91.633333333333326,93,"A","-","-","-","-","-","-",null,null,null,null,null,null,null,null,null,null,null,null,null,null,null,null,null,null,null,null,null,null,null,null,null,null,null,null,null,null,null,null,null,null,null,null,null,null,null,null,null,null,null,null,null,null,null,null,null,null,null,null,null,null,null,null,null,null,null,null,null,null,null,null,null,null,null,null,null,null,null,null,null,null,null,null,null,null,null,null,null,null,null,null,null,null,null,null,null,null,null,null,null,null,null,null,null,null,null,null,null,null,null,null,null,null,null,null,null,null,null,null,null,null,null,null,null,null,null,null,null,null,null,null,null,null,null,null,null,null,null,null,null,null,null,null,null,null,null,null,null,null,null,null,null,null,null,null,null,null,null,null,null,null,null,null,null,null,null,null,null,null,null,null,null,null,null,null,null,null,null,null,null,null,null,null,null,null,null,null,null,null,null,null,null,null,null,null,null,null,null,null,null,null,null,null,null,null,null,null,null,null,null,null,null,null,null,null,null,null,null,null,null,null,null,null,null,null,null,null,null,null,null,null,null,null,null,null,null,null,null,null,null,null,null,null,null,null,null,null,null,null,null,null,null,null,null,null,null,null,null,null,null,null,null,null,null,null,null,null,null,null,null,null,null,null,null,null,null,null,null,null,null,null,null,null,null,null,null,null,null,null,null,null,null,null,null,null,null,null,null,null,null,null,null,null,null,null,null,null,null,null,null,null,null,null,null,null,null,null,null,null,null,null,null,null,null,null,null,null,null,null,null,null,null,null,null,null,null,null,null,null,null,null,null,null,null,null,null,null,null,null,null,null,null,null,null,null,null,null,null,null,null,null,null,null,null,null,null,null,null,null,null,null,null,null,null,null,null,null,null,null,null,null,null,null,null,null,null,null,null,null,null,null,null,null,null,null,null,null,null,null,null,null,null,null,null,null,null,null,82.45,82.45,79,83,83.77,75,80.67,81.67,91.4,76.73,75.28,84.63,76,81.12,{"$error":"#DIV/0!"},91.63,{"$error":"#DIV/0!"},{"$error":"#DIV/0!"},null,1468.1473333333333,24,81.563740740740741,15,1468.1473333333333,24,81.563740740740741,15]
[13,"RAP013",null,"X TGB 1","FEBRIAN SUSANTO",null,null,null,15160013,81.75,80,"B",81.75,80,"B",78,77,"B",80,80,"B",76.583333333333329,75,"B",78,78,"B",75.649999999999991,77.142857142857139,"B",78.666666666666657,83.333333333333329,"B",86.449999999999989,86,"A",69.903999999999996,75.375,"B",74.650000000000006,80,"B",78.449999999999989,78,"B",70,70,"B",78.3,78.25,"B",70,70,"B",84.424999999999997,82.2,"B",83.999999999999986,84,"B","-","-","-","-","-","-","-","-","-","-","-","-","-","-","-","-","-","-","-","-","-","-","-","-","-","-","-","-","-","-",94.783333333333331,93,"A","-","-","-","-","-","-",81.75,80,"B",81.75,80,"B",78,77,"B",80,80,"B",76.583333333333329,75,"B",78,78,"B",75.649999999999991,77.142857142857139,"B",78.666666666666657,83.333333333333329,"B",86.449999999999989,86,"A",69.903999999999996,75.375,"B",74.650000000000006,80,"B",78.449999999999989,78,"B",70,70,"B",78.3,78.25,"B",70,70,"B",84.424999999999997,82.2,"B",83.999999999999986,84,"B","-","-","-","-","-","-","-","-","-","-","-","-","-","-","-","-","-","-","-","-","-","-","-","-","-","-","-","-","-","-",94.783333333333331,93,"A","-","-","-","-","-","-",null,null,null,null,null,null,null,null,null,null,null,null,null,null,null,null,null,null,null,null,null,null,null,null,null,null,null,null,null,null,null,null,null,null,null,null,null,null,null,null,null,null,null,null,null,null,null,null,null,null,null,null,null,null,null,null,null,null,null,null,null,null,null,null,null,null,null,null,null,null,null,null,null,null,null,null,null,null,null,null,null,null,null,null,null,null,null,null,null,null,null,null,null,null,null,null,null,null,null,null,null,null,null,null,null,null,null,null,null,null,null,null,null,null,null,null,null,null,null,null,null,null,null,null,null,null,null,null,null,null,null,null,null,null,null,null,null,null,null,null,null,null,null,null,null,null,null,null,null,null,null,null,null,null,null,null,null,null,null,null,null,null,null,null,null,null,null,null,null,null,null,null,null,null,null,null,null,null,null,null,null,null,null,null,null,null,null,null,null,null,null,null,null,null,null,null,null,null,null,null,null,null,null,null,null,null,null,null,null,null,null,null,null,null,null,null,null,null,null,null,null,null,null,null,null,null,null,null,null,null,null,null,null,null,null,null,null,null,null,null,null,null,null,null,null,null,null,null,null,null,null,null,null,null,null,null,null,null,null,null,null,null,null,null,null,null,null,null,null,null,null,null,null,null,null,null,null,null,null,null,null,null,null,null,null,null,null,null,null,null,null,null,null,null,null,null,null,null,null,null,null,null,null,null,null,null,null,null,null,null,null,null,null,null,null,null,null,null,null,null,null,null,null,null,null,null,null,null,null,null,null,null,null,null,null,null,null,null,null,null,null,null,null,null,null,null,null,null,null,null,null,null,null,null,null,null,null,null,null,null,null,null,null,null,null,null,null,null,null,null,null,null,null,null,null,null,null,null,null,null,null,null,null,null,null,null,null,null,null,null,null,null,null,null,null,null,null,null,null,null,81.75,81.75,78,80,76.58,78,75.650000000000006,78.67,86.45,69.900000000000006,74.650000000000006,78.45,70,79.180000000000007,{"$error":"#DIV/0!"},94.78,{"$error":"#DIV/0!"},{"$error":"#DIV/0!"},null,1421.362333333333,24,78.964574074074051,34,1421.362333333333,24,78.964574074074051,34]
[14,"RAP014",null,"X TGB 1","FIRMAN HAKIM SOFYANDI",null,null,null,15160014,83.916666666666657,80,"B",83.916666666666657,80,"B",83,82,"A",80,80,"B",82.416666666666657,79,"B",77,77,"B",80.132499999999993,78.285714285714292,"B",81.666666666666657,83.333333333333329,"B",91.999999999999986,89.875,"A",77.153333333333322,75.125,"B",75.25,89.15,"B",90.116666666666674,88.142857142857139,"B",78,78,"B",79.599999999999994,78.875,"B",78,78,"B",87.4,85.6,"B",83.999999999999986,84,"B","-","-","-","-","-","-","-","-","-","-","-","-","-","-","-","-","-","-","-","-","-","-","-","-","-","-","-","-","-","-",93.4,93,"A","-","-","-","-","-","-",83.916666666666657,80,"B",83.916666666666657,80,"B",83,82,"A",80,80,"B",82.416666666666657,79,"B",77,77,"B",80.132499999999993,78.285714285714292,"B",81.666666666666657,83.333333333333329,"B",91.999999999999986,89.875,"A",77.153333333333322,75.125,"B",75.25,89.15,"B",90.116666666666674,88.142857142857139,"B",78,78,"B",79.599999999999994,78.875,"B",78,78,"B",87.4,85.6,"B",83.999999999999986,84,"B","-","-","-","-","-","-","-","-","-","-","-","-","-","-","-","-","-","-","-","-","-","-","-","-","-","-","-","-","-","-",93.4,93,"A","-","-","-","-","-","-",null,null,null,null,null,null,null,null,null,null,null,null,null,null,null,null,null,null,null,null,null,null,null,null,null,null,null,null,null,null,null,null,null,null,null,null,null,null,null,null,null,null,null,null,null,null,null,null,null,null,null,null,null,null,null,null,null,null,null,null,null,null,null,null,null,null,null,null,null,null,null,null,null,null,null,null,null,null,null,null,null,null,null,null,null,null,null,null,null,null,null,null,null,null,null,null,null,null,null,null,null,null,null,null,null,null,null,null,null,null,null,null,null,null,null,null,null,null,null,null,null,null,null,null,null,null,null,null,null,null,null,null,null,null,null,null,null,null,null,null,null,null,null,null,null,null,null,null,null,null,null,null,null,null,null,null,null,null,null,null,null,null,null,null,null,null,null,null,null,null,null,null,null,null,null,null,null,null,null,null,null,null,null,null,null,null,null,null,null,null,null,null,null,null,null,null,null,null,null,null,null,null,null,null,null,null,null,null,null,null,null,null,null,null,null,null,null,null,null,null,null,null,null,null,null,null,null,null,null,null,null,null,null,null,null,null,null,null,null,null,null,null,null,null,null,null,null,null,null,null,null,null,null,null,null,null,null,null,null,null,null,null,null,null,null,null,null,null,null,null,null,null,null,null,null,null,null,null,null,null,null,null,null,null,null,null,null,null,null,null,null,null,null,null,null,null,null,null,null,null,null,null,null,null,null,null,null,null,null,null,null,null,null,null,null,null,null,null,null,null,null,null,null,null,null,null,null,null,null,null,null,null,null,null,null,null,null,null,null,null,null,null,null,null,null,null,null,null,null,null,null,null,null,null,null,null,null,null,null,null,null,null,null,null,null,null,null,null,null,null,null,null,null,null,null,null,null,null,null,null,null,null,null,null,null,null,null,null,null,null,null,null,null,null,null,null,null,null,null,null,83.92,83.92,83,80,82.42,77,80.13,81.67,92,77.150000000000006,75.25,90.12,78,82.25,{"$error":"#DIV/0!"},93.4,{"$error":"#DIV/0!"},{"$error":"#DIV/0!"},null,1486.9691666666668,24,82.609398148148159,9,1486.9691666666668,24,82.609398148148159,9]
[15,"RAP015",null,"X TGB 1","FRISKA APRILIA",null,null,null,15160015,79.966666666666669,80,"B",79.966666666666669,80,"B",75,75,"B",80,80,"B",76.816666666666663,75,"B",75,75,"B",75.9375,77.142857142857139,"B",77.5,80,"B",91.85,87.625,"A",39.701999999999998,72.625,"B",73.775000000000006,78.525000000000006,"B",78.099999999999994,78,"B",76,76,"B",78.216666666666669,78.125,"C",76,76,"B",77.775000000000006,78,"B",75,74,"B","-","-","-","-","-","-","-","-","-","-","-","-","-","-","-","-","-","-","-","-","-","-","-","-","-","-","-","-","-","-",0,0,"-","-","-","-","-","-","-",79.966666666666669,80,"B",79.966666666666669,80,"B",75,75,"B",80,80,"B",76.816666666666663,75,"B",75,75,"B",75.9375,77.142857142857139,"B",77.5,80,"B",91.85,87.625,"A",39.701999999999998,72.625,"B",73.775000000000006,78.525000000000006,"B",78.099999999999994,78,"B",76,76,"B",78.216666666666669,78.125,"C",76,76,"B",77.775000000000006,78,"B",75,74,"B","-","-","-","-","-","-","-","-","-","-","-","-","-","-","-","-","-","-","-","-","-","-","-","-","-","-","-","-","-","-",0,0,"-","-","-","-","-","-","-",null,null,null,null,null,null,null,null,null,null,null,null,null,null,null,null,null,null,null,null,null,null,null,null,null,null,null,null,null,null,null,null,null,null,null,null,null,null,null,null,null,null,null,null,null,null,null,null,null,null,null,null,null,null,null,null,null,null,null,null,null,null,null,null,null,null,null,null,null,null,null,null,null,null,null,null,null,null,null,null,null,null,null,null,null,null,null,null,null,null,null,null,null,null,null,null,null,null,null,null,null,null,null,null,null,null,null,null,null,null,null,null,null,null,null,null,null,null,null,null,null,null,null,null,null,null,null,null,null,null,null,null,null,null,null,null,null,null,null,null,null,null,null,null,null,null,null,null,null,null,null,null,null,null,null,null,null,null,null,null,null,null,null,null,null,null,null,null,null,null,null,null,null,null,null,null,null,null,null,null,null,null,null,null,null,null,null,null,null,null,null,null,null,null,null,null,null,null,null,null,null,null,null,null,null,null,null,null,null,null,null,null,null,null,null,null,null,null,null,null,null,null,null,null,null,null,null,null,null,null,null,null,null,null,null,null,null,null,null,null,null,null,null,null,null,null,null,null,null,null,null,null,null,null,null,null,null,null,null,null,null,null,null,null,null,null,null,null,null,null,null,null,null,null,null,null,null,null,null,null,null,null,null,null,null,null,null,null,null,null,null,null,null,null,null,null,null,null,null,null,null,null,null,null,null,null,null,null,null,null,null,null,null,null,null,null,null,null,null,null,null,null,null,null,null,null,null,null,null,null,null,null,null,null,null,null,null,null,null,null,null,null,null,null,null,null,null,null,null,null,null,null,null,null,null,null,null,null,null,null,null,null,null,null,null,null,null,null,null,null,null,null,null,null,null,null,null,null,null,null,null,null,null,null,null,null,null,null,null,null,null,null,null,null,null,null,null,null,null,null,79.97,79.97,75,80,76.819999999999993,75,75.94,77.5,91.85,39.700000000000003,73.78,78.099999999999994,76,76.75,{"$error":"#DIV/0!"},0,{"$error":"#DIV/0!"},{"$error":"#DIV/0!"},null,1286.6061666666667,23.666666666666664,71.478120370370377,37,1286.6061666666667,23.666666666666664,71.478120370370377,37]
[16,"RAP016",null,"X TGB 1","GRAHA SHITA WIDAYANTI",null,null,null,15160016,86.11666666666666,85,"B",86.11666666666666,85,"B",84,83,"A",92,89,"A",90.699999999999989,91.875,"A",75,75,"B",91.347499999999997,84.857142857142861,"B",81.666666666666657,86.666666666666671,"B",91.549999999999983,86.875,"A",84.790666666666667,79.5,"A",79.775000000000006,83.025000000000006,"B",84.05,82.428571428571431,"B",90,90,"B",79.433333333333323,79.125,"B",90,90,"B",86.35,83.4,"B",93.999999999999986,90,"A","-","-","-","-","-","-","-","-","-","-","-","-","-","-","-","-","-","-","-","-","-","-","-","-","-","-","-","-","-","-",92.85,90.25,"A","-","-","-","-","-","-",86.11666666666666,85,"B",86.11666666666666,85,"B",84,83,"A",92,89,"A",90.699999999999989,91.875,"A",75,75,"B",91.347499999999997,84.857142857142861,"B",81.666666666666657,86.666666666666671,"B",91.549999999999983,86.875,"A",84.790666666666667,79.5,"A",79.775000000000006,83.025000000000006,"B",84.05,82.428571428571431,"B",90,90,"B",79.433333333333323,79.125,"B",90,90,"B",86.35,83.4,"B",93.999999999999986,90,"A","-","-","-","-","-","-","-","-","-","-","-","-","-","-","-","-","-","-","-","-","-","-","-","-","-","-","-","-","-","-",92.85,90.25,"A","-","-","-","-","-","-",null,null,null,null,null,null,null,null,null,null,null,null,null,null,null,null,null,null,null,null,null,null,null,null,null,null,null,null,null,null,null,null,null,null,null,null,null,null,null,null,null,null,null,null,null,null,null,null,null,null,null,null,null,null,null,null,null,null,null,null,null,null,null,null,null,null,null,null,null,null,null,null,null,null,null,null,null,null,null,null,null,null,null,null,null,null,null,null,null,null,null,null,null,null,null,null,null,null,null,null,null,null,null,null,null,null,null,null,null,null,null,null,null,null,null,null,null,null,null,null,null,null,null,null,null,null,null,null,null,null,null,null,null,null,null,null,null,null,null,null,null,null,null,null,null,null,null,null,null,null,null,null,null,null,null,null,null,null,null,null,null,null,null,null,null,null,null,null,null,null,null,null,null,null,null,null,null,null,null,null,null,null,null,null,null,null,null,null,null,null,null,null,null,null,null,null,null,null,null,null,null,null,null,null,null,null,null,null,null,null,null,null,null,null,null,null,null,null,null,null,null,null,null,null,null,null,null,null,null,null,null,null,null,null,null,null,null,null,null,null,null,null,null,null,null,null,null,null,null,null,null,null,null,null,null,null,null,null,null,null,null,null,null,null,null,null,null,null,null,null,null,null,null,null,null,null,null,null,null,null,null,null,null,null,null,null,null,null,null,null,null,null,null,null,null,null,null,null,null,null,null,null,null,null,null,null,null,null,null,null,null,null,null,null,null,null,null,null,null,null,null,null,null,null,null,null,null,null,null,null,null,null,null,null,null,null,null,null,null,null,null,null,null,null,null,null,null,null,null,null,null,null,null,null,null,null,null,null,null,null,null,null,null,null,null,null,null,null,null,null,null,null,null,null,null,null,null,null,null,null,null,null,null,null,null,null,null,null,null,null,null,null,null,null,null,null,null,null,null,null,86.12,86.12,84,92,90.7,75,91.35,81.67,91.55,84.79,79.78,84.05,90,87.45,{"$error":"#DIV/0!"},92.85,{"$error":"#DIV/0!"},{"$error":"#DIV/0!"},null,1559.7464999999997,24,86.652583333333325,1,1559.7464999999997,24,86.652583333333325,1]
[17,"RAP017",null,"X TGB 1","JIBALUL DJAHAB",null,null,null,15160018,86.11666666666666,90,"B",86.11666666666666,90,"B",79,79,"B",80,85,"B",82.35,85.625,"A",75,75,"B",76.897500000000008,77.714285714285708,"B",81.666666666666657,85,"B",89.499999999999986,89.625,"A",69.677999999999997,75,"B",75.275000000000006,86.025000000000006,"B",78.683333333333337,78,"B",76,76,"B",80.05,79.75,"B",76,76,"B",86.35,84.4,"B",83.999999999999986,88,"B","-","-","-","-","-","-","-","-","-","-","-","-","-","-","-","-","-","-","-","-","-","-","-","-","-","-","-","-","-","-",92.8,90.25,"A","-","-","-","-","-","-",86.11666666666666,90,"B",86.11666666666666,90,"B",79,79,"B",80,85,"B",82.35,85.625,"A",75,75,"B",76.897500000000008,77.714285714285708,"B",81.666666666666657,85,"B",89.499999999999986,89.625,"A",69.677999999999997,75,"B",75.275000000000006,86.025000000000006,"B",78.683333333333337,78,"B",76,76,"B",80.05,79.75,"B",76,76,"B",86.35,84.4,"B",83.999999999999986,88,"B","-","-","-","-","-","-","-","-","-","-","-","-","-","-","-","-","-","-","-","-","-","-","-","-","-","-","-","-","-","-",92.8,90.25,"A","-","-","-","-","-","-",null,null,null,null,null,null,null,null,null,null,null,null,null,null,null,null,null,null,null,null,null,null,null,null,null,null,null,null,null,null,null,null,null,null,null,null,null,null,null,null,null,null,null,null,null,null,null,null,null,null,null,null,null,null,null,null,null,null,null,null,null,null,null,null,null,null,null,null,null,null,null,null,null,null,null,null,null,null,null,null,null,null,null,null,null,null,null,null,null,null,null,null,null,null,null,null,null,null,null,null,null,null,null,null,null,null,null,null,null,null,null,null,null,null,null,null,null,null,null,null,null,null,null,null,null,null,null,null,null,null,null,null,null,null,null,null,null,null,null,null,null,null,null,null,null,null,null,null,null,null,null,null,null,null,null,null,null,null,null,null,null,null,null,null,null,null,null,null,null,null,null,null,null,null,null,null,null,null,null,null,null,null,null,null,null,null,null,null,null,null,null,null,null,null,null,null,null,null,null,null,null,null,null,null,null,null,null,null,null,null,null,null,null,null,null,null,null,null,null,null,null,null,null,null,null,null,null,null,null,null,null,null,null,null,null,null,null,null,null,null,null,null,null,null,null,null,null,null,null,null,null,null,null,null,null,null,null,null,null,null,null,null,null,null,null,null,null,null,null,null,null,null,null,null,null,null,null,null,null,null,null,null,null,null,null,null,null,null,null,null,null,null,null,null,null,null,null,null,null,null,null,null,null,null,null,null,null,null,null,null,null,null,null,null,null,null,null,null,null,null,null,null,null,null,null,null,null,null,null,null,null,null,null,null,null,null,null,null,null,null,null,null,null,null,null,null,null,null,null,null,null,null,null,null,null,null,null,null,null,null,null,null,null,null,null,null,null,null,null,null,null,null,null,null,null,null,null,null,null,null,null,null,null,null,null,null,null,null,null,null,null,null,null,null,null,null,null,null,null,null,86.12,86.12,79,80,82.35,75,76.900000000000006,81.67,89.5,69.680000000000007,75.28,78.680000000000007,76,81.599999999999994,{"$error":"#DIV/0!"},92.8,{"$error":"#DIV/0!"},{"$error":"#DIV/0!"},null,1455.4838333333332,24,80.860212962962962,20,1455.4838333333332,24,80.860212962962962,20]
[18,"RAP018",null,"X TGB 1","JUNIA PUTRI",null,null,null,15160019,84.666666666666657,85,"B",84.666666666666657,85,"B",79,77,"B",80,85,"B",83.766666666666666,76.625,"B",78,78,"B",82.6875,84.285714285714292,"B",81.666666666666657,86.666666666666671,"B",87.799999999999983,87.75,"A",58.832666666666661,75.25,"B",75.275000000000006,77.174999999999997,"B",78.333333333333329,78.142857142857139,"B",78,78,"B",78.199999999999989,79.75,"B",78,78,"B",83.9,81.599999999999994,"B",83.999999999999986,89,"B","-","-","-","-","-","-","-","-","-","-","-","-","-","-","-","-","-","-","-","-","-","-","-","-","-","-","-","-","-","-",83.766666666666666,83,"B","-","-","-","-","-","-",84.666666666666657,85,"B",84.666666666666657,85,"B",79,77,"B",80,85,"B",83.766666666666666,76.625,"B",78,78,"B",82.6875,84.285714285714292,"B",81.666666666666657,86.666666666666671,"B",87.799999999999983,87.75,"A",58.832666666666661,75.25,"B",75.275000000000006,77.174999999999997,"B",78.333333333333329,78.142857142857139,"B",78,78,"B",78.199999999999989,79.75,"B",78,78,"B",83.9,81.599999999999994,"B",83.999999999999986,89,"B","-","-","-","-","-","-","-","-","-","-","-","-","-","-","-","-","-","-","-","-","-","-","-","-","-","-","-","-","-","-",83.766666666666666,83,"B","-","-","-","-","-","-",null,null,null,null,null,null,null,null,null,null,null,null,null,null,null,null,null,null,null,null,null,null,null,null,null,null,null,null,null,null,null,null,null,null,null,null,null,null,null,null,null,null,null,null,null,null,null,null,null,null,null,null,null,null,null,null,null,null,null,null,null,null,null,null,null,null,null,null,null,null,null,null,null,null,null,null,null,null,null,null,null,null,null,null,null,null,null,null,null,null,null,null,null,null,null,null,null,null,null,null,null,null,null,null,null,null,null,null,null,null,null,null,null,null,null,null,null,null,null,null,null,null,null,null,null,null,null,null,null,null,null,null,null,null,null,null,null,null,null,null,null,null,null,null,null,null,null,null,null,null,null,null,null,null,null,null,null,null,null,null,null,null,null,null,null,null,null,null,null,null,null,null,null,null,null,null,null,null,null,null,null,null,null,null,null,null,null,null,null,null,null,null,null,null,null,null,null,null,null,null,null,null,null,null,null,null,null,null,null,null,null,null,null,null,null,null,null,null,null,null,null,null,null,null,null,null,null,null,null,null,null,null,null,null,null,null,null,null,null,null,null,null,null,null,null,null,null,null,null,null,null,null,null,null,null,null,null,null,null,null,null,null,null,null,null,null,null,null,null,null,null,null,null,null,null,null,null,null,null,null,null,null,null,null,null,null,null,null,null,null,null,null,null,null,null,null,null,null,null,null,null,null,null,null,null,null,null,null,null,null,null,null,null,null,null,null,null,null,null,null,null,null,null,null,null,null,null,null,null,null,null,null,null,null,null,null,null,null,null,null,null,null,null,null,null,null,null,null,null,null,null,null,null,null,null,null,null,null,null,null,null,null,null,null,null,null,null,null,null,null,null,null,null,null,null,null,null,null,null,null,null,null,null,null,null,null,null,null,null,null,null,null,null,null,null,null,null,null,null,null,84.67,84.67,79,80,83.77,78,82.69,81.67,87.8,58.83,75.28,78.33,78,81.03,{"$error":"#DIV/0!"},83.77,{"$error":"#DIV/0!"},{"$error":"#DIV/0!"},null,1440.5618333333332,24,80.031212962962954,28,1440.5618333333332,24,80.031212962962954,28]
[19,"RAP019",null,"X TGB 1","KARDIDI MUHAMMAD GUNTUR",null,null,null,15160020,83.5,80,"B",83.5,80,"B",78,77,"B",80,80,"B",77.366666666666674,75,"B",75,75,"B",76.11,77.714285714285708,"B",81.666666666666657,85,"B",89.949999999999989,86.5,"A",75.647333333333336,75.25,"B",75.275000000000006,87.525000000000006,"B",78.216666666666669,78.142857142857139,"B",76,76,"B",79.45,79.75,"B",76,76,"B",83.9,81.599999999999994,"B",76,78,"B","-","-","-","-","-","-","-","-","-","-","-","-","-","-","-","-","-","-","-","-","-","-","-","-","-","-","-","-","-","-",93.116666666666674,92.5,"A","-","-","-","-","-","-",83.5,80,"B",83.5,80,"B",78,77,"B",80,80,"B",77.366666666666674,75,"B",75,75,"B",76.11,77.714285714285708,"B",81.666666666666657,85,"B",89.949999999999989,86.5,"A",75.647333333333336,75.25,"B",75.275000000000006,87.525000000000006,"B",78.216666666666669,78.142857142857139,"B",76,76,"B",79.45,79.75,"B",76,76,"B",83.9,81.599999999999994,"B",76,78,"B","-","-","-","-","-","-","-","-","-","-","-","-","-","-","-","-","-","-","-","-","-","-","-","-","-","-","-","-","-","-",93.116666666666674,92.5,"A","-","-","-","-","-","-",null,null,null,null,null,null,null,null,null,null,null,null,null,null,null,null,null,null,null,null,null,null,null,null,null,null,null,null,null,null,null,null,null,null,null,null,null,null,null,null,null,null,null,null,null,null,null,null,null,null,null,null,null,null,null,null,null,null,null,null,null,null,null,null,null,null,null,null,null,null,null,null,null,null,null,null,null,null,null,null,null,null,null,null,null,null,null,null,null,null,null,null,null,null,null,null,null,null,null,null,null,null,null,null,null,null,null,null,null,null,null,null,null,null,null,null,null,null,null,null,null,null,null,null,null,null,null,null,null,null,null,null,null,null,null,null,null,null,null,null,null,null,null,null,null,null,null,null,null,null,null,null,null,null,null,null,null,null,null,null,null,null,null,null,null,null,null,null,null,null,null,null,null,null,null,null,null,null,null,null,null,null,null,null,null,null,null,null,null,null,null,null,null,null,null,null,null,null,null,null,null,null,null,null,null,null,null,null,null,null,null,null,null,null,null,null,null,null,null,null,null,null,null,null,null,null,null,null,null,null,null,null,null,null,null,null,null,null,null,null,null,null,null,null,null,null,null,null,null,null,null,null,null,null,null,null,null,null,null,null,null,null,null,null,null,null,null,null,null,null,null,null,null,null,null,null,null,null,null,null,null,null,null,null,null,null,null,null,null,null,null,null,null,null,null,null,null,null,null,null,null,null,null,null,null,null,null,null,null,null,null,null,null,null,null,null,null,null,null,null,null,null,null,null,null,null,null,null,null,null,null,null,null,null,null,null,null,null,null,null,null,null,null,null,null,null,null,null,null,null,null,null,null,null,null,null,null,null,null,null,null,null,null,null,null,null,null,null,null,null,null,null,null,null,null,null,null,null,null,null,null,null,null,null,null,null,null,null,null,null,null,null,null,null,null,null,null,null,null,null,83.5,83.5,78,80,77.37,75,76.11,81.67,89.95,75.650000000000006,75.28,78.22,76,78.84,{"$error":"#DIV/0!"},93.12,{"$error":"#DIV/0!"},{"$error":"#DIV/0!"},null,1438.6990000000001,24,79.927722222222229,30,1438.6990000000001,24,79.927722222222229,30]
[20,"RAP020",null,"X TGB 1","KEVIN ARMANDO OMAR SUDRAJAT",null,null,null,15160021,84.36666666666666,80,"B",84.36666666666666,80,"B",84,83,"A",90,89,"A",79.11666666666666,77,"B",80,80,"B",80.900000000000006,80,"B",81.666666666666657,86.666666666666671,"B",87.1,86.625,"A",77.429333333333332,77.625,"B",79.5,84.574999999999989,"B",84.283333333333331,84,"B",80,80,"B",79.883333333333326,79.75,"B",80,80,"B",86.35,84.4,"B",86,89,"B","-","-","-","-","-","-","-","-","-","-","-","-","-","-","-","-","-","-","-","-","-","-","-","-","-","-","-","-","-","-",82.6,83,"B","-","-","-","-","-","-",84.36666666666666,80,"B",84.36666666666666,80,"B",84,83,"A",90,89,"A",79.11666666666666,77,"B",80,80,"B",80.900000000000006,80,"B",81.666666666666657,86.666666666666671,"B",87.1,86.625,"A",77.429333333333332,77.625,"B",79.5,84.574999999999989,"B",84.283333333333331,84,"B",80,80,"B",79.883333333333326,79.75,"B",80,80,"B",86.35,84.4,"B",86,89,"B","-","-","-","-","-","-","-","-","-","-","-","-","-","-","-","-","-","-","-","-","-","-","-","-","-","-","-","-","-","-",82.6,83,"B","-","-","-","-","-","-",null,null,null,null,null,null,null,null,null,null,null,null,null,null,null,null,null,null,null,null,null,null,null,null,null,null,null,null,null,null,null,null,null,null,null,null,null,null,null,null,null,null,null,null,null,null,null,null,null,null,null,null,null,null,null,null,null,null,null,null,null,null,null,null,null,null,null,null,null,null,null,null,null,null,null,null,null,null,null,null,null,null,null,null,null,null,null,null,null,null,null,null,null,null,null,null,null,null,null,null,null,null,null,null,null,null,null,null,null,null,null,null,null,null,null,null,null,null,null,null,null,null,null,null,null,null,null,null,null,null,null,null,null,null,null,null,null,null,null,null,null,null,null,null,null,null,null,null,null,null,null,null,null,null,null,null,null,null,null,null,null,null,null,null,null,null,null,null,null,null,null,null,null,null,null,null,null,null,null,null,null,null,null,null,null,null,null,null,null,null,null,null,null,null,null,null,null,null,null,null,null,null,null,null,null,null,null,null,null,null,null,null,null,null,null,null,null,null,null,null,null,null,null,null,null,null,null,null,null,null,null,null,null,null,null,null,null,null,null,null,null,null,null,null,null,null,null,null,null,null,null,null,null,null,null,null,null,null,null,null,null,null,null,null,null,null,null,null,null,null,null,null,null,null,null,null,null,null,null,null,null,null,null,null,null,null,null,null,null,null,null,null,null,null,null,null,null,null,null,null,null,null,null,null,null,null,null,null,null,null,null,null,null,null,null,null,null,null,null,null,null,null,null,null,null,null,null,null,null,null,null,null,null,null,null,null,null,null,null,null,null,null,null,null,null,null,null,null,null,null,null,null,null,null,null,null,null,null,null,null,null,null,null,null,null,null,null,null,null,null,null,null,null,null,null,null,null,null,null,null,null,null,null,null,null,null,null,null,null,null,null,null,null,null,null,null,null,null,null,null,84.37,84.37,84,90,79.12,80,80.900000000000006,81.67,87.1,77.430000000000007,79.5,84.28,80,83.06,{"$error":"#DIV/0!"},82.6,{"$error":"#DIV/0!"},{"$error":"#DIV/0!"},null,1487.5626666666662,24,82.642370370370344,8,1487.5626666666662,24,82.642370370370344,8]
[21,"RAP021",null,"X TGB 1","KHOFIFAH NUR ALIYAH",null,null,null,15160022,84.949999999999989,85,"B",84.949999999999989,85,"B",77,78,"B",83,85,"A",83.766666666666666,75,"B",78,78,"B",80.387499999999989,80,"B",81.666666666666657,86.666666666666671,"B",88.899999999999991,90.375,"A",75.635333333333321,75.25,"B",74.525000000000006,77.625,"B",78.566666666666663,78.142857142857139,"B",76,76,"B",79.483333333333334,79.75,"B",76,76,"B",85.125,83,"B",81,85,"B","-","-","-","-","-","-","-","-","-","-","-","-","-","-","-","-","-","-","-","-","-","-","-","-","-","-","-","-","-","-",83.766666666666666,83,"B","-","-","-","-","-","-",84.949999999999989,85,"B",84.949999999999989,85,"B",77,78,"B",83,85,"A",83.766666666666666,75,"B",78,78,"B",80.387499999999989,80,"B",81.666666666666657,86.666666666666671,"B",88.899999999999991,90.375,"A",75.635333333333321,75.25,"B",74.525000000000006,77.625,"B",78.566666666666663,78.142857142857139,"B",76,76,"B",79.483333333333334,79.75,"B",76,76,"B",85.125,83,"B",81,85,"B","-","-","-","-","-","-","-","-","-","-","-","-","-","-","-","-","-","-","-","-","-","-","-","-","-","-","-","-","-","-",83.766666666666666,83,"B","-","-","-","-","-","-",null,null,null,null,null,null,null,null,null,null,null,null,null,null,null,null,null,null,null,null,null,null,null,null,null,null,null,null,null,null,null,null,null,null,null,null,null,null,null,null,null,null,null,null,null,null,null,null,null,null,null,null,null,null,null,null,null,null,null,null,null,null,null,null,null,null,null,null,null,null,null,null,null,null,null,null,null,null,null,null,null,null,null,null,null,null,null,null,null,null,null,null,null,null,null,null,null,null,null,null,null,null,null,null,null,null,null,null,null,null,null,null,null,null,null,null,null,null,null,null,null,null,null,null,null,null,null,null,null,null,null,null,null,null,null,null,null,null,null,null,null,null,null,null,null,null,null,null,null,null,null,null,null,null,null,null,null,null,null,null,null,null,null,null,null,null,null,null,null,null,null,null,null,null,null,null,null,null,null,null,null,null,null,null,null,null,null,null,null,null,null,null,null,null,null,null,null,null,null,null,null,null,null,null,null,null,null,null,null,null,null,null,null,null,null,null,null,null,null,null,null,null,null,null,null,null,null,null,null,null,null,null,null,null,null,null,null,null,null,null,null,null,null,null,null,null,null,null,null,null,null,null,null,null,null,null,null,null,null,null,null,null,null,null,null,null,null,null,null,null,null,null,null,null,null,null,null,null,null,null,null,null,null,null,null,null,null,null,null,null,null,null,null,null,null,null,null,null,null,null,null,null,null,null,null,null,null,null,null,null,null,null,null,null,null,null,null,null,null,null,null,null,null,null,null,null,null,null,null,null,null,null,null,null,null,null,null,null,null,null,null,null,null,null,null,null,null,null,null,null,null,null,null,null,null,null,null,null,null,null,null,null,null,null,null,null,null,null,null,null,null,null,null,null,null,null,null,null,null,null,null,null,null,null,null,null,null,null,null,null,null,null,null,null,null,null,null,null,null,null,84.95,84.95,77,83,83.77,78,80.39,81.67,88.9,75.64,74.53,78.569999999999993,76,80.400000000000006,{"$error":"#DIV/0!"},83.77,{"$error":"#DIV/0!"},{"$error":"#DIV/0!"},null,1452.722833333333,24,80.706824074074063,22,1452.722833333333,24,80.706824074074063,22]
[22,"RAP022",null,"X TGB 1","METHA ANGELA",null,null,null,15160024,84.95,85,"A",84.95,85,"A",77,77,"B",80,85,"B",75.816666666666663,75.875,"B",77,77,"B",81.649999999999991,84.285714285714292,"B",81.666666666666657,86.666666666666671,"B",91.699999999999989,90.625,"A",65.133999999999986,75.25,"B",75.324999999999989,76.625,"B",80.783333333333331,78.714285714285708,"B",78,78,"B",80.649999999999991,79,"B",78,78,"B",86,84,"B",77,81,"B","-","-","-","-","-","-","-","-","-","-","-","-","-","-","-","-","-","-","-","-","-","-","-","-","-","-","-","-","-","-",70.3,76,"C","-","-","-","-","-","-",84.95,85,"A",84.95,85,"A",77,77,"B",80,85,"B",75.816666666666663,75.875,"B",77,77,"B",81.649999999999991,84.285714285714292,"B",81.666666666666657,86.666666666666671,"B",91.699999999999989,90.625,"A",65.133999999999986,75.25,"B",75.324999999999989,76.625,"B",80.783333333333331,78.714285714285708,"B",78,78,"B",80.649999999999991,79,"B",78,78,"B",86,84,"B",77,81,"B","-","-","-","-","-","-","-","-","-","-","-","-","-","-","-","-","-","-","-","-","-","-","-","-","-","-","-","-","-","-",70.3,76,"C","-","-","-","-","-","-",null,null,null,null,null,null,null,null,null,null,null,null,null,null,null,null,null,null,null,null,null,null,null,null,null,null,null,null,null,null,null,null,null,null,null,null,null,null,null,null,null,null,null,null,null,null,null,null,null,null,null,null,null,null,null,null,null,null,null,null,null,null,null,null,null,null,null,null,null,null,null,null,null,null,null,null,null,null,null,null,null,null,null,null,null,null,null,null,null,null,null,null,null,null,null,null,null,null,null,null,null,null,null,null,null,null,null,null,null,null,null,null,null,null,null,null,null,null,null,null,null,null,null,null,null,null,null,null,null,null,null,null,null,null,null,null,null,null,null,null,null,null,null,null,null,null,null,null,null,null,null,null,null,null,null,null,null,null,null,null,null,null,null,null,null,null,null,null,null,null,null,null,null,null,null,null,null,null,null,null,null,null,null,null,null,null,null,null,null,null,null,null,null,null,null,null,null,null,null,null,null,null,null,null,null,null,null,null,null,null,null,null,null,null,null,null,null,null,null,null,null,null,null,null,null,null,null,null,null,null,null,null,null,null,null,null,null,null,null,null,null,null,null,null,null,null,null,null,null,null,null,null,null,null,null,null,null,null,null,null,null,null,null,null,null,null,null,null,null,null,null,null,null,null,null,null,null,null,null,null,null,null,null,null,null,null,null,null,null,null,null,null,null,null,null,null,null,null,null,null,null,null,null,null,null,null,null,null,null,null,null,null,null,null,null,null,null,null,null,null,null,null,null,null,null,null,null,null,null,null,null,null,null,null,null,null,null,null,null,null,null,null,null,null,null,null,null,null,null,null,null,null,null,null,null,null,null,null,null,null,null,null,null,null,null,null,null,null,null,null,null,null,null,null,null,null,null,null,null,null,null,null,null,null,null,null,null,null,null,null,null,null,null,null,null,null,null,null,null,null,84.95,84.95,77,80,75.819999999999993,77,81.650000000000006,81.67,91.7,65.13,75.33,80.78,78,80.41,{"$error":"#DIV/0!"},70.3,{"$error":"#DIV/0!"},{"$error":"#DIV/0!"},null,1425.9256666666668,24,79.218092592592598,32,1425.9256666666668,24,79.218092592592598,32]
[23,"RAP024",null,"X TGB 1","MIA FADLIA",null,null,null,15160025,86.416666666666657,90,"B",86.416666666666657,90,"B",80,79,"B",83,85,"B",83.383333333333326,81.75,"B",75,75,"B",76.284999999999997,80.571428571428569,"B",81.666666666666657,86.666666666666671,"B",89.199999999999989,86.75,"A",74.147999999999996,76.5,"B",75.425000000000011,78.625,"B",79.383333333333326,79.142857142857139,"B",78,78,"B",80.05,79,"B",91,86,"A",86.35,84.4,"B",85,87,"B","-","-","-","-","-","-","-","-","-","-","-","-","-","-","-","-","-","-","-","-","-","-","-","-","-","-","-","-","-","-",91.499999999999986,92.5,"A","-","-","-","-","-","-",86.416666666666657,90,"B",86.416666666666657,90,"B",80,79,"B",83,85,"B",83.383333333333326,81.75,"B",75,75,"B",76.284999999999997,80.571428571428569,"B",81.666666666666657,86.666666666666671,"B",89.199999999999989,86.75,"A",74.147999999999996,76.5,"B",75.425000000000011,78.625,"B",79.383333333333326,79.142857142857139,"B",78,78,"B",80.05,79,"B",91,86,"A",86.35,84.4,"B",85,87,"B","-","-","-","-","-","-","-","-","-","-","-","-","-","-","-","-","-","-","-","-","-","-","-","-","-","-","-","-","-","-",91.499999999999986,92.5,"A","-","-","-","-","-","-",null,null,null,null,null,null,null,null,null,null,null,null,null,null,null,null,null,null,null,null,null,null,null,null,null,null,null,null,null,null,null,null,null,null,null,null,null,null,null,null,null,null,null,null,null,null,null,null,null,null,null,null,null,null,null,null,null,null,null,null,null,null,null,null,null,null,null,null,null,null,null,null,null,null,null,null,null,null,null,null,null,null,null,null,null,null,null,null,null,null,null,null,null,null,null,null,null,null,null,null,null,null,null,null,null,null,null,null,null,null,null,null,null,null,null,null,null,null,null,null,null,null,null,null,null,null,null,null,null,null,null,null,null,null,null,null,null,null,null,null,null,null,null,null,null,null,null,null,null,null,null,null,null,null,null,null,null,null,null,null,null,null,null,null,null,null,null,null,null,null,null,null,null,null,null,null,null,null,null,null,null,null,null,null,null,null,null,null,null,null,null,null,null,null,null,null,null,null,null,null,null,null,null,null,null,null,null,null,null,null,null,null,null,null,null,null,null,null,null,null,null,null,null,null,null,null,null,null,null,null,null,null,null,null,null,null,null,null,null,null,null,null,null,null,null,null,null,null,null,null,null,null,null,null,null,null,null,null,null,null,null,null,null,null,null,null,null,null,null,null,null,null,null,null,null,null,null,null,null,null,null,null,null,null,null,null,null,null,null,null,null,null,null,null,null,null,null,null,null,null,null,null,null,null,null,null,null,null,null,null,null,null,null,null,null,null,null,null,null,null,null,null,null,null,null,null,null,null,null,null,null,null,null,null,null,null,null,null,null,null,null,null,null,null,null,null,null,null,null,null,null,null,null,null,null,null,null,null,null,null,null,null,null,null,null,null,null,null,null,null,null,null,null,null,null,null,null,null,null,null,null,null,null,null,null,null,null,null,null,null,null,null,null,null,null,null,null,null,null,null,86.42,86.42,80,83,83.38,75,76.290000000000006,81.67,89.2,74.150000000000006,75.430000000000007,79.38,78,85.6,{"$error":"#DIV/0!"},91.5,{"$error":"#DIV/0!"},{"$error":"#DIV/0!"},null,1482.2246666666667,24,82.345814814814815,12,1482.2246666666667,24,82.345814814814815,12]
[24,"RAP023",null,"X TGB 1","MUHAMAD NURALIF",null,null,null,15160026,80,80,"A",80,80,"A",78,77,"B",80,85,"B",77.466666666666669,75,"B",76,76,"B",78.275000000000006,81.428571428571431,"B",80.166666666666657,86.666666666666671,"B",90.1,86.375,"A",72.557333333333318,75,"B",74.525000000000006,82.875,"B",78.216666666666669,78,"B",78,78,"B",79.899999999999991,79.75,"B",92,86,"A",84.949999999999989,82.8,"B",83,82,"B","-","-","-","-","-","-","-","-","-","-","-","-","-","-","-","-","-","-","-","-","-","-","-","-","-","-","-","-","-","-",83.766666666666666,85,"B","-","-","-","-","-","-",80,80,"A",80,80,"A",78,77,"B",80,85,"B",77.466666666666669,75,"B",76,76,"B",78.275000000000006,81.428571428571431,"B",80.166666666666657,86.666666666666671,"B",90.1,86.375,"A",72.557333333333318,75,"B",74.525000000000006,82.875,"B",78.216666666666669,78,"B",78,78,"B",79.899999999999991,79.75,"B",92,86,"A",84.949999999999989,82.8,"B",83,82,"B","-","-","-","-","-","-","-","-","-","-","-","-","-","-","-","-","-","-","-","-","-","-","-","-","-","-","-","-","-","-",83.766666666666666,85,"B","-","-","-","-","-","-",null,null,null,null,null,null,null,null,null,null,null,null,null,null,null,null,null,null,null,null,null,null,null,null,null,null,null,null,null,null,null,null,null,null,null,null,null,null,null,null,null,null,null,null,null,null,null,null,null,null,null,null,null,null,null,null,null,null,null,null,null,null,null,null,null,null,null,null,null,null,null,null,null,null,null,null,null,null,null,null,null,null,null,null,null,null,null,null,null,null,null,null,null,null,null,null,null,null,null,null,null,null,null,null,null,null,null,null,null,null,null,null,null,null,null,null,null,null,null,null,null,null,null,null,null,null,null,null,null,null,null,null,null,null,null,null,null,null,null,null,null,null,null,null,null,null,null,null,null,null,null,null,null,null,null,null,null,null,null,null,null,null,null,null,null,null,null,null,null,null,null,null,null,null,null,null,null,null,null,null,null,null,null,null,null,null,null,null,null,null,null,null,null,null,null,null,null,null,null,null,null,null,null,null,null,null,null,null,null,null,null,null,null,null,null,null,null,null,null,null,null,null,null,null,null,null,null,null,null,null,null,null,null,null,null,null,null,null,null,null,null,null,null,null,null,null,null,null,null,null,null,null,null,null,null,null,null,null,null,null,null,null,null,null,null,null,null,null,null,null,null,null,null,null,null,null,null,null,null,null,null,null,null,null,null,null,null,null,null,null,null,null,null,null,null,null,null,null,null,null,null,null,null,null,null,null,null,null,null,null,null,null,null,null,null,null,null,null,null,null,null,null,null,null,null,null,null,null,null,null,null,null,null,null,null,null,null,null,null,null,null,null,null,null,null,null,null,null,null,null,null,null,null,null,null,null,null,null,null,null,null,null,null,null,null,null,null,null,null,null,null,null,null,null,null,null,null,null,null,null,null,null,null,null,null,null,null,null,null,null,null,null,null,null,null,null,null,null,null,null,80,80,78,80,77.47,76,78.28,80.17,90.1,72.56,74.53,78.22,78,84.96,{"$error":"#DIV/0!"},83.77,{"$error":"#DIV/0!"},{"$error":"#DIV/0!"},null,1446.924,24,80.384666666666661,25,1446.924,24,80.384666666666661,25]
[25,"RAP025",null,"X TGB 1","MUHAMMAD ABIN ",null,null,null,15160027,81.733333333333334,80,"B",81.733333333333334,80,"B",78,77,"B",80,85,"B",77.149999999999991,75,"B",77,77,"B",76.687499999999986,82.857142857142861,"B",81.666666666666657,86.666666666666671,"B",88.05,87.375,"A",74.279333333333327,75.375,"B",75.325000000000003,84.575000000000003,"B",78.449999999999989,78.285714285714292,"B",78,78,"B",79.3,79.75,"B",89,86,"B",84.424999999999997,83.2,"B",77,81,"B","-","-","-","-","-","-","-","-","-","-","-","-","-","-","-","-","-","-","-","-","-","-","-","-","-","-","-","-","-","-",81.350000000000009,85.75,"B","-","-","-","-","-","-",81.733333333333334,80,"B",81.733333333333334,80,"B",78,77,"B",80,85,"B",77.149999999999991,75,"B",77,77,"B",76.687499999999986,82.857142857142861,"B",81.666666666666657,86.666666666666671,"B",88.05,87.375,"A",74.279333333333327,75.375,"B",75.325000000000003,84.575000000000003,"B",78.449999999999989,78.285714285714292,"B",78,78,"B",79.3,79.75,"B",89,86,"B",84.424999999999997,83.2,"B",77,81,"B","-","-","-","-","-","-","-","-","-","-","-","-","-","-","-","-","-","-","-","-","-","-","-","-","-","-","-","-","-","-",81.350000000000009,85.75,"B","-","-","-","-","-","-",null,null,null,null,null,null,null,null,null,null,null,null,null,null,null,null,null,null,null,null,null,null,null,null,null,null,null,null,null,null,null,null,null,null,null,null,null,null,null,null,null,null,null,null,null,null,null,null,null,null,null,null,null,null,null,null,null,null,null,null,null,null,null,null,null,null,null,null,null,null,null,null,null,null,null,null,null,null,null,null,null,null,null,null,null,null,null,null,null,null,null,null,null,null,null,null,null,null,null,null,null,null,null,null,null,null,null,null,null,null,null,null,null,null,null,null,null,null,null,null,null,null,null,null,null,null,null,null,null,null,null,null,null,null,null,null,null,null,null,null,null,null,null,null,null,null,null,null,null,null,null,null,null,null,null,null,null,null,null,null,null,null,null,null,null,null,null,null,null,null,null,null,null,null,null,null,null,null,null,null,null,null,null,null,null,null,null,null,null,null,null,null,null,null,null,null,null,null,null,null,null,null,null,null,null,null,null,null,null,null,null,null,null,null,null,null,null,null,null,null,null,null,null,null,null,null,null,null,null,null,null,null,null,null,null,null,null,null,null,null,null,null,null,null,null,null,null,null,null,null,null,null,null,null,null,null,null,null,null,null,null,null,null,null,null,null,null,null,null,null,null,null,null,null,null,null,null,null,null,null,null,null,null,null,null,null,null,null,null,null,null,null,null,null,null,null,null,null,null,null,null,null,null,null,null,null,null,null,null,null,null,null,null,null,null,null,null,null,null,null,null,null,null,null,null,null,null,null,null,null,null,null,null,null,null,null,null,null,null,null,null,null,null,null,null,null,null,null,null,null,null,null,null,null,null,null,null,null,null,null,null,null,null,null,null,null,null,null,null,null,null,null,null,null,null,null,null,null,null,null,null,null,null,null,null,null,null,null,null,null,null,null,null,null,null,null,null,null,null,null,81.73,81.73,78,80,77.150000000000006,77,76.69,81.67,88.05,74.28,75.33,78.45,78,82.43,{"$error":"#DIV/0!"},81.349999999999994,{"$error":"#DIV/0!"},{"$error":"#DIV/0!"},null,1439.1501666666663,24,79.952787037037012,29,1439.1501666666663,24,79.952787037037012,29]
[26,"RAP026",null,"X TGB 1","MUHAMMAD FARIDZ RAFIZHAM ",null,null,null,15160028,81,80,"B",81,80,"B",77,77,"B",80,85,"B",76.599999999999994,76.875,"B",75,75,"B",75.784999999999997,77.714285714285708,"B",81.666666666666657,85,"B",88.55,86.25,"A",74.267333333333312,75.125,"B",75.025000000000006,79.775000000000006,"B",78.216666666666669,78.142857142857139,"B",70,70,"B",80.499999999999986,79.75,"B",71,87,"B",83.199999999999989,80.8,"B",83.999999999999986,87,"B","-","-","-","-","-","-","-","-","-","-","-","-","-","-","-","-","-","-","-","-","-","-","-","-","-","-","-","-","-","-",78.400000000000006,76.5,"B","-","-","-","-","-","-",81,80,"B",81,80,"B",77,77,"B",80,85,"B",76.599999999999994,76.875,"B",75,75,"B",75.784999999999997,77.714285714285708,"B",81.666666666666657,85,"B",88.55,86.25,"A",74.267333333333312,75.125,"B",75.025000000000006,79.775000000000006,"B",78.216666666666669,78.142857142857139,"B",70,70,"B",80.499999999999986,79.75,"B",71,87,"B",83.199999999999989,80.8,"B",83.999999999999986,87,"B","-","-","-","-","-","-","-","-","-","-","-","-","-","-","-","-","-","-","-","-","-","-","-","-","-","-","-","-","-","-",78.400000000000006,76.5,"B","-","-","-","-","-","-",null,null,null,null,null,null,null,null,null,null,null,null,null,null,null,null,null,null,null,null,null,null,null,null,null,null,null,null,null,null,null,null,null,null,null,null,null,null,null,null,null,null,null,null,null,null,null,null,null,null,null,null,null,null,null,null,null,null,null,null,null,null,null,null,null,null,null,null,null,null,null,null,null,null,null,null,null,null,null,null,null,null,null,null,null,null,null,null,null,null,null,null,null,null,null,null,null,null,null,null,null,null,null,null,null,null,null,null,null,null,null,null,null,null,null,null,null,null,null,null,null,null,null,null,null,null,null,null,null,null,null,null,null,null,null,null,null,null,null,null,null,null,null,null,null,null,null,null,null,null,null,null,null,null,null,null,null,null,null,null,null,null,null,null,null,null,null,null,null,null,null,null,null,null,null,null,null,null,null,null,null,null,null,null,null,null,null,null,null,null,null,null,null,null,null,null,null,null,null,null,null,null,null,null,null,null,null,null,null,null,null,null,null,null,null,null,null,null,null,null,null,null,null,null,null,null,null,null,null,null,null,null,null,null,null,null,null,null,null,null,null,null,null,null,null,null,null,null,null,null,null,null,null,null,null,null,null,null,null,null,null,null,null,null,null,null,null,null,null,null,null,null,null,null,null,null,null,null,null,null,null,null,null,null,null,null,null,null,null,null,null,null,null,null,null,null,null,null,null,null,null,null,null,null,null,null,null,null,null,null,null,null,null,null,null,null,null,null,null,null,null,null,null,null,null,null,null,null,null,null,null,null,null,null,null,null,null,null,null,null,null,null,null,null,null,null,null,null,null,null,null,null,null,null,null,null,null,null,null,null,null,null,null,null,null,null,null,null,null,null,null,null,null,null,null,null,null,null,null,null,null,null,null,null,null,null,null,null,null,null,null,null,null,null,null,null,null,null,null,null,81,81,77,80,76.599999999999994,75,75.790000000000006,81.67,88.55,74.27,75.03,78.22,70,79.680000000000007,{"$error":"#DIV/0!"},78.400000000000006,{"$error":"#DIV/0!"},{"$error":"#DIV/0!"},null,1411.2106666666666,24,78.400592592592588,36,1411.2106666666666,24,78.400592592592588,36]
[27,"RAP027",null,"X TGB 1","NAZILATUL ULYA ",null,null,null,15160029,82.61666666666666,85,"A",82.61666666666666,85,"A",80,78,"B",83,85,"A",83.766666666666666,76.375,"B",77,77,"B",78.22999999999999,77.428571428571431,"B",81.666666666666657,86.666666666666671,"B",91.749999999999986,90.75,"A",65.295999999999992,75.25,"B",75.099999999999994,79.974999999999994,"B",79.150000000000006,78.857142857142861,"B",78,78,"B",80.05,79,"B",89,86,"A",86.35,84.4,"B",83,85,"B","-","-","-","-","-","-","-","-","-","-","-","-","-","-","-","-","-","-","-","-","-","-","-","-","-","-","-","-","-","-",89.583333333333329,92.5,"A","-","-","-","-","-","-",82.61666666666666,85,"A",82.61666666666666,85,"A",80,78,"B",83,85,"A",83.766666666666666,76.375,"B",77,77,"B",78.22999999999999,77.428571428571431,"B",81.666666666666657,86.666666666666671,"B",91.749999999999986,90.75,"A",65.295999999999992,75.25,"B",75.099999999999994,79.974999999999994,"B",79.150000000000006,78.857142857142861,"B",78,78,"B",80.05,79,"B",89,86,"A",86.35,84.4,"B",83,85,"B","-","-","-","-","-","-","-","-","-","-","-","-","-","-","-","-","-","-","-","-","-","-","-","-","-","-","-","-","-","-",89.583333333333329,92.5,"A","-","-","-","-","-","-",null,null,null,null,null,null,null,null,null,null,null,null,null,null,null,null,null,null,null,null,null,null,null,null,null,null,null,null,null,null,null,null,null,null,null,null,null,null,null,null,null,null,null,null,null,null,null,null,null,null,null,null,null,null,null,null,null,null,null,null,null,null,null,null,null,null,null,null,null,null,null,null,null,null,null,null,null,null,null,null,null,null,null,null,null,null,null,null,null,null,null,null,null,null,null,null,null,null,null,null,null,null,null,null,null,null,null,null,null,null,null,null,null,null,null,null,null,null,null,null,null,null,null,null,null,null,null,null,null,null,null,null,null,null,null,null,null,null,null,null,null,null,null,null,null,null,null,null,null,null,null,null,null,null,null,null,null,null,null,null,null,null,null,null,null,null,null,null,null,null,null,null,null,null,null,null,null,null,null,null,null,null,null,null,null,null,null,null,null,null,null,null,null,null,null,null,null,null,null,null,null,null,null,null,null,null,null,null,null,null,null,null,null,null,null,null,null,null,null,null,null,null,null,null,null,null,null,null,null,null,null,null,null,null,null,null,null,null,null,null,null,null,null,null,null,null,null,null,null,null,null,null,null,null,null,null,null,null,null,null,null,null,null,null,null,null,null,null,null,null,null,null,null,null,null,null,null,null,null,null,null,null,null,null,null,null,null,null,null,null,null,null,null,null,null,null,null,null,null,null,null,null,null,null,null,null,null,null,null,null,null,null,null,null,null,null,null,null,null,null,null,null,null,null,null,null,null,null,null,null,null,null,null,null,null,null,null,null,null,null,null,null,null,null,null,null,null,null,null,null,null,null,null,null,null,null,null,null,null,null,null,null,null,null,null,null,null,null,null,null,null,null,null,null,null,null,null,null,null,null,null,null,null,null,null,null,null,null,null,null,null,null,null,null,null,null,null,null,null,null,82.62,82.62,80,83,83.77,77,78.23,81.67,91.75,65.3,75.099999999999994,79.150000000000006,78,84.6,{"$error":"#DIV/0!"},89.58,{"$error":"#DIV/0!"},{"$error":"#DIV/0!"},null,1466.1759999999997,24,81.454222222222199,16,1466.1759999999997,24,81.454222222222199,16]
[28,"RAP028",null,"X TGB 1","NON TIARA",null,null,null,15160030,86.11666666666666,80,"B",86.11666666666666,80,"B",81,80,"B",83,85,"B",79.133333333333326,78.625,"B",78,78,"B",71,87,"B",81.666666666666657,86.666666666666671,"B",86.6,86.375,"A",76.439333333333337,75.125,"B",74.525000000000006,76.125,"B",82.883333333333326,80.285714285714292,"B",78,78,"B",80.949999999999989,79,"B",91,87,"B",84.949999999999989,82.8,"B",85,87,"B","-","-","-","-","-","-","-","-","-","-","-","-","-","-","-","-","-","-","-","-","-","-","-","-","-","-","-","-","-","-",92.066666666666663,92.5,"A","-","-","-","-","-","-",86.11666666666666,80,"B",86.11666666666666,80,"B",81,80,"B",83,85,"B",79.133333333333326,78.625,"B",78,78,"B",71,87,"B",81.666666666666657,86.666666666666671,"B",86.6,86.375,"A",76.439333333333337,75.125,"B",74.525000000000006,76.125,"B",82.883333333333326,80.285714285714292,"B",78,78,"B",80.949999999999989,79,"B",91,87,"B",84.949999999999989,82.8,"B",85,87,"B","-","-","-","-","-","-","-","-","-","-","-","-","-","-","-","-","-","-","-","-","-","-","-","-","-","-","-","-","-","-",92.066666666666663,92.5,"A","-","-","-","-","-","-",null,null,null,null,null,null,null,null,null,null,null,null,null,null,null,null,null,null,null,null,null,null,null,null,null,null,null,null,null,null,null,null,null,null,null,null,null,null,null,null,null,null,null,null,null,null,null,null,null,null,null,null,null,null,null,null,null,null,null,null,null,null,null,null,null,null,null,null,null,null,null,null,null,null,null,null,null,null,null,null,null,null,null,null,null,null,null,null,null,null,null,null,null,null,null,null,null,null,null,null,null,null,null,null,null,null,null,null,null,null,null,null,null,null,null,null,null,null,null,null,null,null,null,null,null,null,null,null,null,null,null,null,null,null,null,null,null,null,null,null,null,null,null,null,null,null,null,null,null,null,null,null,null,null,null,null,null,null,null,null,null,null,null,null,null,null,null,null,null,null,null,null,null,null,null,null,null,null,null,null,null,null,null,null,null,null,null,null,null,null,null,null,null,null,null,null,null,null,null,null,null,null,null,null,null,null,null,null,null,null,null,null,null,null,null,null,null,null,null,null,null,null,null,null,null,null,null,null,null,null,null,null,null,null,null,null,null,null,null,null,null,null,null,null,null,null,null,null,null,null,null,null,null,null,null,null,null,null,null,null,null,null,null,null,null,null,null,null,null,null,null,null,null,null,null,null,null,null,null,null,null,null,null,null,null,null,null,null,null,null,null,null,null,null,null,null,null,null,null,null,null,null,null,null,null,null,null,null,null,null,null,null,null,null,null,null,null,null,null,null,null,null,null,null,null,null,null,null,null,null,null,null,null,null,null,null,null,null,null,null,null,null,null,null,null,null,null,null,null,null,null,null,null,null,null,null,null,null,null,null,null,null,null,null,null,null,null,null,null,null,null,null,null,null,null,null,null,null,null,null,null,null,null,null,null,null,null,null,null,null,null,null,null,null,null,null,null,null,null,null,86.12,86.12,81,83,79.13,78,71,81.67,86.6,76.44,74.53,82.88,78,85.48,{"$error":"#DIV/0!"},92.07,{"$error":"#DIV/0!"},{"$error":"#DIV/0!"},null,1478.4476666666667,24,82.13598148148148,14,1478.4476666666667,24,82.13598148148148,14]
[29,"RAP029",null,"X TGB 1","PANJI ARIANTO",null,null,null,15160031,80.183333333333323,80,"B",80.183333333333323,80,"B",76,77,"B",80,80,"B",76.900000000000006,75,"B",77,77,"B",89,86,"B",81.666666666666657,86.666666666666671,"B",90.35,90.25,"A",73.979333333333315,75.125,"B",74.75,87.7,"B",78.333333333333329,78.285714285714292,"B",76,76,"B",80.349999999999994,79.75,"B",89,86,"B",80.224999999999994,78.8,"B",83.999999999999986,83,"B","-","-","-","-","-","-","-","-","-","-","-","-","-","-","-","-","-","-","-","-","-","-","-","-","-","-","-","-","-","-",80.433333333333323,83.75,"B","-","-","-","-","-","-",80.183333333333323,80,"B",80.183333333333323,80,"B",76,77,"B",80,80,"B",76.900000000000006,75,"B",77,77,"B",89,86,"B",81.666666666666657,86.666666666666671,"B",90.35,90.25,"A",73.979333333333315,75.125,"B",74.75,87.7,"B",78.333333333333329,78.285714285714292,"B",76,76,"B",80.349999999999994,79.75,"B",89,86,"B",80.224999999999994,78.8,"B",83.999999999999986,83,"B","-","-","-","-","-","-","-","-","-","-","-","-","-","-","-","-","-","-","-","-","-","-","-","-","-","-","-","-","-","-",80.433333333333323,83.75,"B","-","-","-","-","-","-",null,null,null,null,null,null,null,null,null,null,null,null,null,null,null,null,null,null,null,null,null,null,null,null,null,null,null,null,null,null,null,null,null,null,null,null,null,null,null,null,null,null,null,null,null,null,null,null,null,null,null,null,null,null,null,null,null,null,null,null,null,null,null,null,null,null,null,null,null,null,null,null,null,null,null,null,null,null,null,null,null,null,null,null,null,null,null,null,null,null,null,null,null,null,null,null,null,null,null,null,null,null,null,null,null,null,null,null,null,null,null,null,null,null,null,null,null,null,null,null,null,null,null,null,null,null,null,null,null,null,null,null,null,null,null,null,null,null,null,null,null,null,null,null,null,null,null,null,null,null,null,null,null,null,null,null,null,null,null,null,null,null,null,null,null,null,null,null,null,null,null,null,null,null,null,null,null,null,null,null,null,null,null,null,null,null,null,null,null,null,null,null,null,null,null,null,null,null,null,null,null,null,null,null,null,null,null,null,null,null,null,null,null,null,null,null,null,null,null,null,null,null,null,null,null,null,null,null,null,null,null,null,null,null,null,null,null,null,null,null,null,null,null,null,null,null,null,null,null,null,null,null,null,null,null,null,null,null,null,null,null,null,null,null,null,null,null,null,null,null,null,null,null,null,null,null,null,null,null,null,null,null,null,null,null,null,null,null,null,null,null,null,null,null,null,null,null,null,null,null,null,null,null,null,null,null,null,null,null,null,null,null,null,null,null,null,null,null,null,null,null,null,null,null,null,null,null,null,null,null,null,null,null,null,null,null,null,null,null,null,null,null,null,null,null,null,null,null,null,null,null,null,null,null,null,null,null,null,null,null,null,null,null,null,null,null,null,null,null,null,null,null,null,null,null,null,null,null,null,null,null,null,null,null,null,null,null,null,null,null,null,null,null,null,null,null,null,null,null,null,80.180000000000007,80.180000000000007,76,80,76.900000000000006,77,89,81.67,90.35,73.98,74.75,78.33,76,83.39,{"$error":"#DIV/0!"},80.430000000000007,{"$error":"#DIV/0!"},{"$error":"#DIV/0!"},null,1448.3543333333332,24,80.464129629629625,24,1448.3543333333332,24,80.464129629629625,24]
[30,"RAP030",null,"X TGB 1","SAEPUL HAYATI YUSUP",null,null,null,15160032,90,90,"A",90,90,"A",82,81,"B",86,87,"A",83.916666666666657,86.125,"A",80,80,"B",91,87,"B",77.5,78.333333333333329,"B",88.55,87.5,"A",50.863333333333337,75.125,"B",74.525000000000006,81.525000000000006,"B",85.916666666666657,84.714285714285708,"B",76,76,"B",79.8,79.75,"B",89,87,"B",86,84,"B",81,81,"B","-","-","-","-","-","-","-","-","-","-","-","-","-","-","-","-","-","-","-","-","-","-","-","-","-","-","-","-","-","-",90.033333333333331,92.5,"A","-","-","-","-","-","-",90,90,"A",90,90,"A",82,81,"B",86,87,"A",83.916666666666657,86.125,"A",80,80,"B",91,87,"B",77.5,78.333333333333329,"B",88.55,87.5,"A",50.863333333333337,75.125,"B",74.525000000000006,81.525000000000006,"B",85.916666666666657,84.714285714285708,"B",76,76,"B",79.8,79.75,"B",89,87,"B",86,84,"B",81,81,"B","-","-","-","-","-","-","-","-","-","-","-","-","-","-","-","-","-","-","-","-","-","-","-","-","-","-","-","-","-","-",90.033333333333331,92.5,"A","-","-","-","-","-","-",null,null,null,null,null,null,null,null,null,null,null,null,null,null,null,null,null,null,null,null,null,null,null,null,null,null,null,null,null,null,null,null,null,null,null,null,null,null,null,null,null,null,null,null,null,null,null,null,null,null,null,null,null,null,null,null,null,null,null,null,null,null,null,null,null,null,null,null,null,null,null,null,null,null,null,null,null,null,null,null,null,null,null,null,null,null,null,null,null,null,null,null,null,null,null,null,null,null,null,null,null,null,null,null,null,null,null,null,null,null,null,null,null,null,null,null,null,null,null,null,null,null,null,null,null,null,null,null,null,null,null,null,null,null,null,null,null,null,null,null,null,null,null,null,null,null,null,null,null,null,null,null,null,null,null,null,null,null,null,null,null,null,null,null,null,null,null,null,null,null,null,null,null,null,null,null,null,null,null,null,null,null,null,null,null,null,null,null,null,null,null,null,null,null,null,null,null,null,null,null,null,null,null,null,null,null,null,null,null,null,null,null,null,null,null,null,null,null,null,null,null,null,null,null,null,null,null,null,null,null,null,null,null,null,null,null,null,null,null,null,null,null,null,null,null,null,null,null,null,null,null,null,null,null,null,null,null,null,null,null,null,null,null,null,null,null,null,null,null,null,null,null,null,null,null,null,null,null,null,null,null,null,null,null,null,null,null,null,null,null,null,null,null,null,null,null,null,null,null,null,null,null,null,null,null,null,null,null,null,null,null,null,null,null,null,null,null,null,null,null,null,null,null,null,null,null,null,null,null,null,null,null,null,null,null,null,null,null,null,null,null,null,null,null,null,null,null,null,null,null,null,null,null,null,null,null,null,null,null,null,null,null,null,null,null,null,null,null,null,null,null,null,null,null,null,null,null,null,null,null,null,null,null,null,null,null,null,null,null,null,null,null,null,null,null,null,null,null,null,null,90,90,82,86,83.92,80,91,77.5,88.55,50.86,74.53,85.92,76,83.95,{"$error":"#DIV/0!"},90.03,{"$error":"#DIV/0!"},{"$error":"#DIV/0!"},null,1482.1049999999998,24,82.339166666666657,13,1482.1049999999998,24,82.339166666666657,13]
[31,"RAP031",null,"X TGB 1","SELI MARLINA",null,null,null,15160033,85,85,"B",85,85,"B",79,77,"B",83,85,"B",76.716666666666654,75,"B",80,80,"B",89,86,"A",81.666666666666657,86.666666666666671,"B",92.3,90.5,"A",59.462666666666664,75.125,"B",74.675000000000011,77.924999999999997,"B",78.566666666666663,78.142857142857139,"B",76,76,"B",80.05,79.75,"B",89,86,"A",84.074999999999989,81.8,"B",83.999999999999986,87,"B","-","-","-","-","-","-","-","-","-","-","-","-","-","-","-","-","-","-","-","-","-","-","-","-","-","-","-","-","-","-",85.449999999999989,82.5,"B","-","-","-","-","-","-",85,85,"B",85,85,"B",79,77,"B",83,85,"B",76.716666666666654,75,"B",80,80,"B",89,86,"A",81.666666666666657,86.666666666666671,"B",92.3,90.5,"A",59.462666666666664,75.125,"B",74.675000000000011,77.924999999999997,"B",78.566666666666663,78.142857142857139,"B",76,76,"B",80.05,79.75,"B",89,86,"A",84.074999999999989,81.8,"B",83.999999999999986,87,"B","-","-","-","-","-","-","-","-","-","-","-","-","-","-","-","-","-","-","-","-","-","-","-","-","-","-","-","-","-","-",85.449999999999989,82.5,"B","-","-","-","-","-","-",null,null,null,null,null,null,null,null,null,null,null,null,null,null,null,null,null,null,null,null,null,null,null,null,null,null,null,null,null,null,null,null,null,null,null,null,null,null,null,null,null,null,null,null,null,null,null,null,null,null,null,null,null,null,null,null,null,null,null,null,null,null,null,null,null,null,null,null,null,null,null,null,null,null,null,null,null,null,null,null,null,null,null,null,null,null,null,null,null,null,null,null,null,null,null,null,null,null,null,null,null,null,null,null,null,null,null,null,null,null,null,null,null,null,null,null,null,null,null,null,null,null,null,null,null,null,null,null,null,null,null,null,null,null,null,null,null,null,null,null,null,null,null,null,null,null,null,null,null,null,null,null,null,null,null,null,null,null,null,null,null,null,null,null,null,null,null,null,null,null,null,null,null,null,null,null,null,null,null,null,null,null,null,null,null,null,null,null,null,null,null,null,null,null,null,null,null,null,null,null,null,null,null,null,null,null,null,null,null,null,null,null,null,null,null,null,null,null,null,null,null,null,null,null,null,null,null,null,null,null,null,null,null,null,null,null,null,null,null,null,null,null,null,null,null,null,null,null,null,null,null,null,null,null,null,null,null,null,null,null,null,null,null,null,null,null,null,null,null,null,null,null,null,null,null,null,null,null,null,null,null,null,null,null,null,null,null,null,null,null,null,null,null,null,null,null,null,null,null,null,null,null,null,null,null,null,null,null,null,null,null,null,null,null,null,null,null,null,null,null,null,null,null,null,null,null,null,null,null,null,null,null,null,null,null,null,null,null,null,null,null,null,null,null,null,null,null,null,null,null,null,null,null,null,null,null,null,null,null,null,null,null,null,null,null,null,null,null,null,null,null,null,null,null,null,null,null,null,null,null,null,null,null,null,null,null,null,null,null,null,null,null,null,null,null,null,null,null,null,null,85,85,79,83,76.72,80,89,81.67,92.3,59.46,74.680000000000007,78.569999999999993,76,84.28,{"$error":"#DIV/0!"},85.45,{"$error":"#DIV/0!"},{"$error":"#DIV/0!"},null,1462.9626666666666,24,81.275703703703698,17,1462.9626666666666,24,81.275703703703698,17]
[32,"RAP032",null,"X TGB 1","SITI SALAMAH AZZAHRA ",null,null,null,15160034,85,85,"B",85,85,"B",80,79,"B",85,85,"A",79.416666666666671,75,"B",80,80,"B",89,86,"A",81.666666666666657,86.666666666666671,"B",89.149999999999991,86.75,"A",78.61399999999999,77.625,"B",74.675000000000011,86.025000000000006,"B",83.35,81.285714285714292,"B",80,80,"B",80.2,79.75,"B",89,86,"A",85.474999999999994,83.4,"B",83.999999999999986,83,"B","-","-","-","-","-","-","-","-","-","-","-","-","-","-","-","-","-","-","-","-","-","-","-","-","-","-","-","-","-","-",80.283333333333331,85.25,"B","-","-","-","-","-","-",85,85,"B",85,85,"B",80,79,"B",85,85,"A",79.416666666666671,75,"B",80,80,"B",89,86,"A",81.666666666666657,86.666666666666671,"B",89.149999999999991,86.75,"A",78.61399999999999,77.625,"B",74.675000000000011,86.025000000000006,"B",83.35,81.285714285714292,"B",80,80,"B",80.2,79.75,"B",89,86,"A",85.474999999999994,83.4,"B",83.999999999999986,83,"B","-","-","-","-","-","-","-","-","-","-","-","-","-","-","-","-","-","-","-","-","-","-","-","-","-","-","-","-","-","-",80.283333333333331,85.25,"B","-","-","-","-","-","-",null,null,null,null,null,null,null,null,null,null,null,null,null,null,null,null,null,null,null,null,null,null,null,null,null,null,null,null,null,null,null,null,null,null,null,null,null,null,null,null,null,null,null,null,null,null,null,null,null,null,null,null,null,null,null,null,null,null,null,null,null,null,null,null,null,null,null,null,null,null,null,null,null,null,null,null,null,null,null,null,null,null,null,null,null,null,null,null,null,null,null,null,null,null,null,null,null,null,null,null,null,null,null,null,null,null,null,null,null,null,null,null,null,null,null,null,null,null,null,null,null,null,null,null,null,null,null,null,null,null,null,null,null,null,null,null,null,null,null,null,null,null,null,null,null,null,null,null,null,null,null,null,null,null,null,null,null,null,null,null,null,null,null,null,null,null,null,null,null,null,null,null,null,null,null,null,null,null,null,null,null,null,null,null,null,null,null,null,null,null,null,null,null,null,null,null,null,null,null,null,null,null,null,null,null,null,null,null,null,null,null,null,null,null,null,null,null,null,null,null,null,null,null,null,null,null,null,null,null,null,null,null,null,null,null,null,null,null,null,null,null,null,null,null,null,null,null,null,null,null,null,null,null,null,null,null,null,null,null,null,null,null,null,null,null,null,null,null,null,null,null,null,null,null,null,null,null,null,null,null,null,null,null,null,null,null,null,null,null,null,null,null,null,null,null,null,null,null,null,null,null,null,null,null,null,null,null,null,null,null,null,null,null,null,null,null,null,null,null,null,null,null,null,null,null,null,null,null,null,null,null,null,null,null,null,null,null,null,null,null,null,null,null,null,null,null,null,null,null,null,null,null,null,null,null,null,null,null,null,null,null,null,null,null,null,null,null,null,null,null,null,null,null,null,null,null,null,null,null,null,null,null,null,null,null,null,null,null,null,null,null,null,null,null,null,null,null,null,null,null,85,85,80,85,79.42,80,89,81.67,89.15,78.61,74.680000000000007,83.35,80,84.67,{"$error":"#DIV/0!"},80.28,{"$error":"#DIV/0!"},{"$error":"#DIV/0!"},null,1489.8306666666665,24,82.768370370370363,7,1489.8306666666665,24,82.768370370370363,7]
[33,"RAP033",null,"X TGB 1","SOPIAN",null,null,null,15160035,85,80,"B",85,80,"B",80,79,"B",85,88,"A",81.55,76.375,"B",75,75,"B",89,86,"B",81.666666666666657,86.666666666666671,"B",92.449999999999989,89,"A",69.111999999999995,75.125,"B",77.974999999999994,86.924999999999997,"B",79.150000000000006,78.428571428571431,"B",80,80,"B",79.5,79.75,"B",89,86,"B",87.4,85.6,"B",91,87,"B","-","-","-","-","-","-","-","-","-","-","-","-","-","-","-","-","-","-","-","-","-","-","-","-","-","-","-","-","-","-",88.566666666666663,83.25,"A","-","-","-","-","-","-",85,80,"B",85,80,"B",80,79,"B",85,88,"A",81.55,76.375,"B",75,75,"B",89,86,"B",81.666666666666657,86.666666666666671,"B",92.449999999999989,89,"A",69.111999999999995,75.125,"B",77.974999999999994,86.924999999999997,"B",79.150000000000006,78.428571428571431,"B",80,80,"B",79.5,79.75,"B",89,86,"B",87.4,85.6,"B",91,87,"B","-","-","-","-","-","-","-","-","-","-","-","-","-","-","-","-","-","-","-","-","-","-","-","-","-","-","-","-","-","-",88.566666666666663,83.25,"A","-","-","-","-","-","-",null,null,null,null,null,null,null,null,null,null,null,null,null,null,null,null,null,null,null,null,null,null,null,null,null,null,null,null,null,null,null,null,null,null,null,null,null,null,null,null,null,null,null,null,null,null,null,null,null,null,null,null,null,null,null,null,null,null,null,null,null,null,null,null,null,null,null,null,null,null,null,null,null,null,null,null,null,null,null,null,null,null,null,null,null,null,null,null,null,null,null,null,null,null,null,null,null,null,null,null,null,null,null,null,null,null,null,null,null,null,null,null,null,null,null,null,null,null,null,null,null,null,null,null,null,null,null,null,null,null,null,null,null,null,null,null,null,null,null,null,null,null,null,null,null,null,null,null,null,null,null,null,null,null,null,null,null,null,null,null,null,null,null,null,null,null,null,null,null,null,null,null,null,null,null,null,null,null,null,null,null,null,null,null,null,null,null,null,null,null,null,null,null,null,null,null,null,null,null,null,null,null,null,null,null,null,null,null,null,null,null,null,null,null,null,null,null,null,null,null,null,null,null,null,null,null,null,null,null,null,null,null,null,null,null,null,null,null,null,null,null,null,null,null,null,null,null,null,null,null,null,null,null,null,null,null,null,null,null,null,null,null,null,null,null,null,null,null,null,null,null,null,null,null,null,null,null,null,null,null,null,null,null,null,null,null,null,null,null,null,null,null,null,null,null,null,null,null,null,null,null,null,null,null,null,null,null,null,null,null,null,null,null,null,null,null,null,null,null,null,null,null,null,null,null,null,null,null,null,null,null,null,null,null,null,null,null,null,null,null,null,null,null,null,null,null,null,null,null,null,null,null,null,null,null,null,null,null,null,null,null,null,null,null,null,null,null,null,null,null,null,null,null,null,null,null,null,null,null,null,null,null,null,null,null,null,null,null,null,null,null,null,null,null,null,null,null,null,null,null,85,85,80,85,81.55,75,89,81.67,92.45,69.11,77.98,79.150000000000006,80,86.73,{"$error":"#DIV/0!"},88.57,{"$error":"#DIV/0!"},{"$error":"#DIV/0!"},null,1496.3703333333333,24,83.131685185185177,4,1496.3703333333333,24,83.131685185185177,4]
[34,"RAP034",null,"X TGB 1","TAUFAN AKBAR FAUZI",null,null,null,15160036,85,80,"B",85,80,"B",83,80,"A",90,89,"A",77.033333333333317,75,"B",80,80,"B",94,89,"B",81.666666666666657,86.666666666666671,"B",88.699999999999989,87.5,"A",77.795333333333318,75.125,"B",77.974999999999994,80.025000000000006,"B",83.816666666666663,81.714285714285708,"B",80,80,"B",79.183333333333337,79.75,"B",92,89,"B",85.65,84.6,"B",83.999999999999986,85,"B","-","-","-","-","-","-","-","-","-","-","-","-","-","-","-","-","-","-","-","-","-","-","-","-","-","-","-","-","-","-",95.8,92.5,"A","-","-","-","-","-","-",85,80,"B",85,80,"B",83,80,"A",90,89,"A",77.033333333333317,75,"B",80,80,"B",94,89,"B",81.666666666666657,86.666666666666671,"B",88.699999999999989,87.5,"A",77.795333333333318,75.125,"B",77.974999999999994,80.025000000000006,"B",83.816666666666663,81.714285714285708,"B",80,80,"B",79.183333333333337,79.75,"B",92,89,"B",85.65,84.6,"B",83.999999999999986,85,"B","-","-","-","-","-","-","-","-","-","-","-","-","-","-","-","-","-","-","-","-","-","-","-","-","-","-","-","-","-","-",95.8,92.5,"A","-","-","-","-","-","-",null,null,null,null,null,null,null,null,null,null,null,null,null,null,null,null,null,null,null,null,null,null,null,null,null,null,null,null,null,null,null,null,null,null,null,null,null,null,null,null,null,null,null,null,null,null,null,null,null,null,null,null,null,null,null,null,null,null,null,null,null,null,null,null,null,null,null,null,null,null,null,null,null,null,null,null,null,null,null,null,null,null,null,null,null,null,null,null,null,null,null,null,null,null,null,null,null,null,null,null,null,null,null,null,null,null,null,null,null,null,null,null,null,null,null,null,null,null,null,null,null,null,null,null,null,null,null,null,null,null,null,null,null,null,null,null,null,null,null,null,null,null,null,null,null,null,null,null,null,null,null,null,null,null,null,null,null,null,null,null,null,null,null,null,null,null,null,null,null,null,null,null,null,null,null,null,null,null,null,null,null,null,null,null,null,null,null,null,null,null,null,null,null,null,null,null,null,null,null,null,null,null,null,null,null,null,null,null,null,null,null,null,null,null,null,null,null,null,null,null,null,null,null,null,null,null,null,null,null,null,null,null,null,null,null,null,null,null,null,null,null,null,null,null,null,null,null,null,null,null,null,null,null,null,null,null,null,null,null,null,null,null,null,null,null,null,null,null,null,null,null,null,null,null,null,null,null,null,null,null,null,null,null,null,null,null,null,null,null,null,null,null,null,null,null,null,null,null,null,null,null,null,null,null,null,null,null,null,null,null,null,null,null,null,null,null,null,null,null,null,null,null,null,null,null,null,null,null,null,null,null,null,null,null,null,null,null,null,null,null,null,null,null,null,null,null,null,null,null,null,null,null,null,null,null,null,null,null,null,null,null,null,null,null,null,null,null,null,null,null,null,null,null,null,null,null,null,null,null,null,null,null,null,null,null,null,null,null,null,null,null,null,null,null,null,null,null,null,null,null,85,85,83,90,77.03,80,94,81.67,88.7,77.8,77.98,83.82,80,85.21,{"$error":"#DIV/0!"},95.8,{"$error":"#DIV/0!"},{"$error":"#DIV/0!"},null,1520.6203333333333,24,84.478907407407405,2,1520.6203333333333,24,84.478907407407405,2]
[35,"RAP035",null,"X TGB 1","TAUFIK ROHIDAYAT",null,null,null,15160037,85,80,"B",85,80,"B",78,77,"B",90,85,"B",76.766666666666666,75,"B",75,75,"B",94,89,"B",77.833333333333329,80,"B",93,91.625,"A",76.34,75.125,"B",74.525000000000006,81.525000000000006,"B",79.033333333333331,78.285714285714292,"B",76,76,"B",80.199999999999989,79.75,"B",92,89,"B",81.625,79,"B",83.999999999999986,83,"B","-","-","-","-","-","-","-","-","-","-","-","-","-","-","-","-","-","-","-","-","-","-","-","-","-","-","-","-","-","-",84.999999999999986,83.75,"B","-","-","-","-","-","-",85,80,"B",85,80,"B",78,77,"B",90,85,"B",76.766666666666666,75,"B",75,75,"B",94,89,"B",77.833333333333329,80,"B",93,91.625,"A",76.34,75.125,"B",74.525000000000006,81.525000000000006,"B",79.033333333333331,78.285714285714292,"B",76,76,"B",80.199999999999989,79.75,"B",92,89,"B",81.625,79,"B",83.999999999999986,83,"B","-","-","-","-","-","-","-","-","-","-","-","-","-","-","-","-","-","-","-","-","-","-","-","-","-","-","-","-","-","-",84.999999999999986,83.75,"B","-","-","-","-","-","-",null,null,null,null,null,null,null,null,null,null,null,null,null,null,null,null,null,null,null,null,null,null,null,null,null,null,null,null,null,null,null,null,null,null,null,null,null,null,null,null,null,null,null,null,null,null,null,null,null,null,null,null,null,null,null,null,null,null,null,null,null,null,null,null,null,null,null,null,null,null,null,null,null,null,null,null,null,null,null,null,null,null,null,null,null,null,null,null,null,null,null,null,null,null,null,null,null,null,null,null,null,null,null,null,null,null,null,null,null,null,null,null,null,null,null,null,null,null,null,null,null,null,null,null,null,null,null,null,null,null,null,null,null,null,null,null,null,null,null,null,null,null,null,null,null,null,null,null,null,null,null,null,null,null,null,null,null,null,null,null,null,null,null,null,null,null,null,null,null,null,null,null,null,null,null,null,null,null,null,null,null,null,null,null,null,null,null,null,null,null,null,null,null,null,null,null,null,null,null,null,null,null,null,null,null,null,null,null,null,null,null,null,null,null,null,null,null,null,null,null,null,null,null,null,null,null,null,null,null,null,null,null,null,null,null,null,null,null,null,null,null,null,null,null,null,null,null,null,null,null,null,null,null,null,null,null,null,null,null,null,null,null,null,null,null,null,null,null,null,null,null,null,null,null,null,null,null,null,null,null,null,null,null,null,null,null,null,null,null,null,null,null,null,null,null,null,null,null,null,null,null,null,null,null,null,null,null,null,null,null,null,null,null,null,null,null,null,null,null,null,null,null,null,null,null,null,null,null,null,null,null,null,null,null,null,null,null,null,null,null,null,null,null,null,null,null,null,null,null,null,null,null,null,null,null,null,null,null,null,null,null,null,null,null,null,null,null,null,null,null,null,null,null,null,null,null,null,null,null,null,null,null,null,null,null,null,null,null,null,null,null,null,null,null,null,null,null,null,null,null,85,85,78,90,76.77,75,94,77.83,93,76.34,74.53,79.03,76,84.46,{"$error":"#DIV/0!"},85,{"$error":"#DIV/0!"},{"$error":"#DIV/0!"},null,1483.3233333333335,24,82.406851851851854,11,1483.3233333333335,24,82.406851851851854,11]
[36,"RAP036",null,"X TGB 1","TINI",null,null,null,15160039,85,85,"B",85,85,"B",79,77,"B",80,85,"B",83.766666666666666,79.25,"B",88,88,"A",92,85,"B",81.666666666666657,85,"B",87.199999999999989,86.25,"A",78.5,75.125,"B",75,88.424999999999997,"B",78.566666666666663,78.142857142857139,"B",78,78,"B",80.05,79,"B",93,85,"B",84.775000000000006,82.6,"B",82,86,"B","-","-","-","-","-","-","-","-","-","-","-","-","-","-","-","-","-","-","-","-","-","-","-","-","-","-","-","-","-","-",82.583333333333329,85,"B","-","-","-","-","-","-",85,85,"B",85,85,"B",79,77,"B",80,85,"B",83.766666666666666,79.25,"B",88,88,"A",92,85,"B",81.666666666666657,85,"B",87.199999999999989,86.25,"A",78.5,75.125,"B",75,88.424999999999997,"B",78.566666666666663,78.142857142857139,"B",78,78,"B",80.05,79,"B",93,85,"B",84.775000000000006,82.6,"B",82,86,"B","-","-","-","-","-","-","-","-","-","-","-","-","-","-","-","-","-","-","-","-","-","-","-","-","-","-","-","-","-","-",82.583333333333329,85,"B","-","-","-","-","-","-",null,null,null,null,null,null,null,null,null,null,null,null,null,null,null,null,null,null,null,null,null,null,null,null,null,null,null,null,null,null,null,null,null,null,null,null,null,null,null,null,null,null,null,null,null,null,null,null,null,null,null,null,null,null,null,null,null,null,null,null,null,null,null,null,null,null,null,null,null,null,null,null,null,null,null,null,null,null,null,null,null,null,null,null,null,null,null,null,null,null,null,null,null,null,null,null,null,null,null,null,null,null,null,null,null,null,null,null,null,null,null,null,null,null,null,null,null,null,null,null,null,null,null,null,null,null,null,null,null,null,null,null,null,null,null,null,null,null,null,null,null,null,null,null,null,null,null,null,null,null,null,null,null,null,null,null,null,null,null,null,null,null,null,null,null,null,null,null,null,null,null,null,null,null,null,null,null,null,null,null,null,null,null,null,null,null,null,null,null,null,null,null,null,null,null,null,null,null,null,null,null,null,null,null,null,null,null,null,null,null,null,null,null,null,null,null,null,null,null,null,null,null,null,null,null,null,null,null,null,null,null,null,null,null,null,null,null,null,null,null,null,null,null,null,null,null,null,null,null,null,null,null,null,null,null,null,null,null,null,null,null,null,null,null,null,null,null,null,null,null,null,null,null,null,null,null,null,null,null,null,null,null,null,null,null,null,null,null,null,null,null,null,null,null,null,null,null,null,null,null,null,null,null,null,null,null,null,null,null,null,null,null,null,null,null,null,null,null,null,null,null,null,null,null,null,null,null,null,null,null,null,null,null,null,null,null,null,null,null,null,null,null,null,null,null,null,null,null,null,null,null,null,null,null,null,null,null,null,null,null,null,null,null,null,null,null,null,null,null,null,null,null,null,null,null,null,null,null,null,null,null,null,null,null,null,null,null,null,null,null,null,null,null,null,null,null,null,null,null,null,85,85,79,80,83.77,88,92,81.67,87.2,78.5,75,78.569999999999993,78,84.96,{"$error":"#DIV/0!"},82.58,{"$error":"#DIV/0!"},{"$error":"#DIV/0!"},null,1494.1083333333331,24,83.006018518518502,6,1494.1083333333331,24,83.006018518518502,6]
[37,"RAP037",null,"X TGB 1","WIDI NUR OKTAVIANI ",null,null,null,15160040,85,85,"B",85,85,"B",80,78,"B",80,85,"B",76.55,76.25,"B",78,78,"B",92,86,"A",81.666666666666657,86.666666666666671,"B",89.45,87.25,"A",65.760666666666651,75.125,"B",75,89.025000000000006,"B",78.216666666666669,78,"B",78,78,"B",80.199999999999989,79,"B",89,86,"A",80.224999999999994,78.8,"B",85,89,"B","-","-","-","-","-","-","-","-","-","-","-","-","-","-","-","-","-","-","-","-","-","-","-","-","-","-","-","-","-","-",77.650000000000006,83.75,"B","-","-","-","-","-","-",85,85,"B",85,85,"B",80,78,"B",80,85,"B",76.55,76.25,"B",78,78,"B",92,86,"A",81.666666666666657,86.666666666666671,"B",89.45,87.25,"A",65.760666666666651,75.125,"B",75,89.025000000000006,"B",78.216666666666669,78,"B",78,78,"B",80.199999999999989,79,"B",89,86,"A",80.224999999999994,78.8,"B",85,89,"B","-","-","-","-","-","-","-","-","-","-","-","-","-","-","-","-","-","-","-","-","-","-","-","-","-","-","-","-","-","-",77.650000000000006,83.75,"B","-","-","-","-","-","-",null,null,null,null,null,null,null,null,null,null,null,null,null,null,null,null,null,null,null,null,null,null,null,null,null,null,null,null,null,null,null,null,null,null,null,null,null,null,null,null,null,null,null,null,null,null,null,null,null,null,null,null,null,null,null,null,null,null,null,null,null,null,null,null,null,null,null,null,null,null,null,null,null,null,null,null,null,null,null,null,null,null,null,null,null,null,null,null,null,null,null,null,null,null,null,null,null,null,null,null,null,null,null,null,null,null,null,null,null,null,null,null,null,null,null,null,null,null,null,null,null,null,null,null,null,null,null,null,null,null,null,null,null,null,null,null,null,null,null,null,null,null,null,null,null,null,null,null,null,null,null,null,null,null,null,null,null,null,null,null,null,null,null,null,null,null,null,null,null,null,null,null,null,null,null,null,null,null,null,null,null,null,null,null,null,null,null,null,null,null,null,null,null,null,null,null,null,null,null,null,null,null,null,null,null,null,null,null,null,null,null,null,null,null,null,null,null,null,null,null,null,null,null,null,null,null,null,null,null,null,null,null,null,null,null,null,null,null,null,null,null,null,null,null,null,null,null,null,null,null,null,null,null,null,null,null,null,null,null,null,null,null,null,null,null,null,null,null,null,null,null,null,null,null,null,null,null,null,null,null,null,null,null,null,null,null,null,null,null,null,null,null,null,null,null,null,null,null,null,null,null,null,null,null,null,null,null,null,null,null,null,null,null,null,null,null,null,null,null,null,null,null,null,null,null,null,null,null,null,null,null,null,null,null,null,null,null,null,null,null,null,null,null,null,null,null,null,null,null,null,null,null,null,null,null,null,null,null,null,null,null,null,null,null,null,null,null,null,null,null,null,null,null,null,null,null,null,null,null,null,null,null,null,null,null,null,null,null,null,null,null,null,null,null,null,null,null,null,null,null,85,85,80,80,76.55,78,92,81.67,89.45,65.760000000000005,75,78.22,78,83.61,{"$error":"#DIV/0!"},77.650000000000006,{"$error":"#DIV/0!"},{"$error":"#DIV/0!"},null,1456.7190000000001,24,80.92883333333333,18,1456.7190000000001,24,80.92883333333333,18]
[38,"RAP038",null,null,null,null,null,null,null,null,null,null,null,null,null,null,null,null,null,null,null,null,null,null,null,null,null,null,null,null,null,null,null,null,null,null,null,null,null,null,null,null,null,null,null,null,null,null,null,null,null,null,null,null,null,null,null,null,null,null,null,null,null,null,null,null,null,null,null,null,null,null,null,null,null,null,null,null,null,null,null,null,null,null,null,null,null,null,null,null,null,null,null,null,null,null,null,null,null,null,null,null,null,null,null,null,null,null,null,null,null,null,null,null,null,null,null,null,null,null,null,null,null,null,null,null,null,null,null,null,null,null,null,null,null,null,null,null,null,null,null,null,null,null,null,null,null,null,null,null,null,null,null,null,null,null,null,null,null,null,null,null,null,null,null,null,null,null,null,null,null,null,null,null,null,null,null,null,null,null,null,null,null,null,null,null,null,null,null,null,null,null,null,null,null,null,null,null,null,null,null,null,null,null,null,null,null,null,null,null,null,null,null,null,null,null,null,null,null,null,null,null,null,null,null,null,null,null,null,null,null,null,null,null,null,null,null,null,null,null,null,null,null,null,null,null,null,null,null,null,null,null,null,null,null,null,null,null,null,null,null,null,null,null,null,null,null,null,null,null,null,null,null,null,null,null,null,null,null,null,null,null,null,null,null,null,null,null,null,null,null,null,null,null,null,null,null,null,null,null,null,null,null,null,null,null,null,null,null,null,null,null,null,null,null,null,null,null,null,null,null,null,null,null,null,null,null,null,null,null,null,null,null,null,null,null,null,null,null,null,null,null,null,null,null,null,null,null,null,null,null,null,null,null,null,null,null,null,null,null,null,null,null,null,null,null,null,null,null,null,null,null,null,null,null,null,null,null,null,null,null,null,null,null,null,null,null,null,null,null,null,null,null,null,null,null,null,null,null,null,null,null,null,null,null,null,null,null,null,null,null,null,null,null,null,null,null,null,null,null,null,null,null,null,null,null,null,null,null,null,null,null,null,null,null,null,null,null,null,null,null,null,null,null,null,null,null,null,null,null,null,null,null,null,null,null,null,null,null,null,null,null,null,null,null,null,null,null,null,null,null,null,null,null,null,null,null,null,null,null,null,null,null,null,null,null,null,null,null,null,null,null,null,null,null,null,null,null,null,null,null,null,null,null,null,null,null,null,null,null,null,null,null,null,null,null,null,null,null,null,null,null,null,null,null,null,null,null,null,null,null,null,null,null,null,null,null,null,null,null,null,null,null,null,null,null,null,null,null,null,null,null,null,null,null,null,null,null,null,null,null,null,null,null,null,null,null,null,null,null,null,null,null,null,null,null,null,null,null,null,null,null,null,null,null,null,null,null,null,{"$error":"#DIV/0!"},{"$error":"#DIV/0!"},{"$error":"#DIV/0!"},{"$error":"#DIV/0!"},{"$error":"#DIV/0!"},{"$error":"#DIV/0!"},{"$error":"#DIV/0!"},{"$error":"#DIV/0!"},{"$error":"#DIV/0!"},{"$error":"#DIV/0!"},{"$error":"#DIV/0!"},{"$error":"#DIV/0!"},{"$error":"#DIV/0!"},{"$error":"#DIV/0!"},{"$error":"#DIV/0!"},{"$error":"#DIV/0!"},{"$error":"#DIV/0!"},{"$error":"#DIV/0!"},null,0,0,{"$error":"#DIV/0!"},null,0,0,{"$error":"#DIV/0!"}]
[39,"RAP039",null,"X TGB 2",null,null,null,null,null,null,null,null,null,null,null,null,null,null,null,null,null,null,null,null,null,null,null,null,null,null,null,null,null,null,null,null,null,null,null,null,null,null,null,null,null,null,null,null,null,null,null,null,null,null,null,null,null,null,null,null,null,null,null,null,null,null,null,null,null,null,null,null,null,null,null,null,null,null,null,null,null,null,null,null,null,null,null,null,null,null,null,null,null,null,null,null,null,null,null,null,null,null,null,null,null,null,null,null,null,null,null,null,null,null,null,null,null,null,null,null,null,null,null,null,null,null,null,null,null,null,null,null,null,null,null,null,null,null,null,null,null,null,null,null,null,null,null,null,null,null,null,null,null,null,null,null,null,null,null,null,null,null,null,null,null,null,null,null,null,null,null,null,null,null,null,null,null,null,null,null,null,null,null,null,null,null,null,null,null,null,null,null,null,null,null,null,null,null,null,null,null,null,null,null,null,null,null,null,null,null,null,null,null,null,null,null,null,null,null,null,null,null,null,null,null,null,null,null,null,null,null,null,null,null,null,null,null,null,null,null,null,null,null,null,null,null,null,null,null,null,null,null,null,null,null,null,null,null,null,null,null,null,null,null,null,null,null,null,null,null,null,null,null,null,null,null,null,null,null,null,null,null,null,null,null,null,null,null,null,null,null,null,null,null,null,null,null,null,null,null,null,null,null,null,null,null,null,null,null,null,null,null,null,null,null,null,null,null,null,null,null,null,null,null,null,null,null,null,null,null,null,null,null,null,null,null,null,null,null,null,null,null,null,null,null,null,null,null,null,null,null,null,null,null,null,null,null,null,null,null,null,null,null,null,null,null,null,null,null,null,null,null,null,null,null,null,null,null,null,null,null,null,null,null,null,null,null,null,null,null,null,null,null,null,null,null,null,null,null,null,null,null,null,null,null,null,null,null,null,null,null,null,null,null,null,null,null,null,null,null,null,null,null,null,null,null,null,null,null,null,null,null,null,null,null,null,null,null,null,null,null,null,null,null,null,null,null,null,null,null,null,null,null,null,null,null,null,null,null,null,null,null,null,null,null,null,null,null,null,null,null,null,null,null,null,null,null,null,null,null,null,null,null,null,null,null,null,null,null,null,null,null,null,null,null,null,null,null,null,null,null,null,null,null,null,null,null,null,null,null,null,null,null,null,null,null,null,null,null,null,null,null,null,null,null,null,null,null,null,null,null,null,null,null,null,null,null,null,null,null,null,null,null,null,null,null,null,null,null,null,null,null,null,null,null,null,null,null,null,null,null,null,null,null,null,null,null,null,null,null,null,null,null,null,null,null,null,null,null,null,null,null,null,null,null,null,null,null,null,{"$error":"#DIV/0!"},{"$error":"#DIV/0!"},{"$error":"#DIV/0!"},{"$error":"#DIV/0!"},{"$error":"#DIV/0!"},{"$error":"#DIV/0!"},{"$error":"#DIV/0!"},{"$error":"#DIV/0!"},{"$error":"#DIV/0!"},{"$error":"#DIV/0!"},{"$error":"#DIV/0!"},{"$error":"#DIV/0!"},{"$error":"#DIV/0!"},{"$error":"#DIV/0!"},{"$error":"#DIV/0!"},{"$error":"#DIV/0!"},{"$error":"#DIV/0!"},{"$error":"#DIV/0!"},null,0,0,{"$error":"#DIV/0!"},null,0,0,{"$error":"#DIV/0!"}]
[40,"RAP041",null,null,null,null,null,null,null,null,null,null,null,null,null,null,null,null,null,null,null,null,null,null,null,null,null,null,null,null,null,null,null,null,null,null,null,null,null,null,null,null,null,null,null,null,null,null,null,null,null,null,null,null,null,null,null,null,null,null,null,null,null,null,null,null,null,null,null,null,null,null,null,null,null,null,null,null,null,null,null,null,null,null,null,null,null,null,null,null,null,null,null,null,null,null,null,null,null,null,null,null,null,null,null,null,null,null,null,null,null,null,null,null,null,null,null,null,null,null,null,null,null,null,null,null,null,null,null,null,null,null,null,null,null,null,null,null,null,null,null,null,null,null,null,null,null,null,null,null,null,null,null,null,null,null,null,null,null,null,null,null,null,null,null,null,null,null,null,null,null,null,null,null,null,null,null,null,null,null,null,null,null,null,null,null,null,null,null,null,null,null,null,null,null,null,null,null,null,null,null,null,null,null,null,null,null,null,null,null,null,null,null,null,null,null,null,null,null,null,null,null,null,null,null,null,null,null,null,null,null,null,null,null,null,null,null,null,null,null,null,null,null,null,null,null,null,null,null,null,null,null,null,null,null,null,null,null,null,null,null,null,null,null,null,null,null,null,null,null,null,null,null,null,null,null,null,null,null,null,null,null,null,null,null,null,null,null,null,null,null,null,null,null,null,null,null,null,null,null,null,null,null,null,null,null,null,null,null,null,null,null,null,null,null,null,null,null,null,null,null,null,null,null,null,null,null,null,null,null,null,null,null,null,null,null,null,null,null,null,null,null,null,null,null,null,null,null,null,null,null,null,null,null,null,null,null,null,null,null,null,null,null,null,null,null,null,null,null,null,null,null,null,null,null,null,null,null,null,null,null,null,null,null,null,null,null,null,null,null,null,null,null,null,null,null,null,null,null,null,null,null,null,null,null,null,null,null,null,null,null,null,null,null,null,null,null,null,null,null,null,null,null,null,null,null,null,null,null,null,null,null,null,null,null,null,null,null,null,null,null,null,null,null,null,null,null,null,null,null,null,null,null,null,null,null,null,null,null,null,null,null,null,null,null,null,null,null,null,null,null,null,null,null,null,null,null,null,null,null,null,null,null,null,null,null,null,null,null,null,null,null,null,null,null,null,null,null,null,null,null,null,null,null,null,null,null,null,null,null,null,null,null,null,null,null,null,null,null,null,null,null,null,null,null,null,null,null,null,null,null,null,null,null,null,null,null,null,null,null,null,null,null,null,null,null,null,null,null,null,null,null,null,null,null,null,null,null,null,null,null,null,null,null,null,null,null,null,null,null,null,null,null,null,null,null,null,null,null,null,null,null,null,null,null,null,null,null,null,{"$error":"#DIV/0!"},{"$error":"#DIV/0!"},{"$error":"#DIV/0!"},{"$error":"#DIV/0!"},{"$error":"#DIV/0!"},{"$error":"#DIV/0!"},{"$error":"#DIV/0!"},{"$error":"#DIV/0!"},{"$error":"#DIV/0!"},{"$error":"#DIV/0!"},{"$error":"#DIV/0!"},{"$error":"#DIV/0!"},{"$error":"#DIV/0!"},{"$error":"#DIV/0!"},{"$error":"#DIV/0!"},{"$error":"#DIV/0!"},{"$error":"#DIV/0!"},{"$error":"#DIV/0!"},null,0,0,{"$error":"#DIV/0!"},null,0,0,{"$error":"#DIV/0!"}]
[41,"RAP040",null,"X TGB 3","ABDUL KHOLIK",null,null,null,15160081,null,null,null,null,null,null,null,null,null,null,null,null,null,null,null,null,null,null,null,null,null,null,null,null,null,null,null,null,null,null,null,null,null,null,null,null,null,null,null,null,null,null,null,null,null,null,null,null,null,null,null,null,null,null,null,null,null,null,null,null,null,null,null,null,null,null,null,null,null,null,null,null,null,null,null,null,null,null,null,null,null,null,null,null,null,null,null,null,null,null,79.766666666666666,79,"B",75,75,"C",75.05,76,"B",46.34,46.34,"B",77.650000000000006,78,"B",70,70,"C",75.595833333333331,79.714285714285708,"B",77.466666666666669,78.285714285714292,"B",88.8,88.25,"A",30.904666666666664,77.25,"B",77,80,"B",78.766666666666666,78.857142857142861,"B",79,79,"B",79.583333333333329,79.875,"B",77.5,78.333333333333329,"B",78,78,"B",76,76,"B","-","-","-","-","-","-","-","-","-","-","-","-","-","-","-","-","-","-","-","-","-","-","-","-","-","-","-","-","-","-",72,70,"C","-","-","-","-","-","-",null,null,null,null,null,null,null,null,null,null,null,null,null,null,null,null,null,null,null,null,null,null,null,null,null,null,null,null,null,null,null,null,null,null,null,null,null,null,null,null,null,null,null,null,null,null,null,null,null,null,null,null,null,null,null,null,null,null,null,null,null,null,null,null,null,null,null,null,null,null,null,null,null,null,null,null,null,null,null,null,null,null,null,null,null,null,null,null,null,null,null,null,null,null,null,null,null,null,null,null,null,null,null,null,null,null,null,null,null,null,null,null,null,null,null,null,null,null,null,null,null,null,null,null,null,null,null,null,null,null,null,null,null,null,null,null,null,null,null,null,null,null,null,null,null,null,null,null,null,null,null,null,null,null,null,null,null,null,null,null,null,null,null,null,null,null,null,null,null,null,null,null,null,null,null,null,null,null,null,null,null,null,null,null,null,null,null,null,null,null,null,null,null,null,null,null,null,null,null,null,null,null,null,null,null,null,null,null,null,null,null,null,null,null,null,null,null,null,null,null,null,null,null,null,null,null,null,null,null,null,null,null,null,null,null,null,null,null,null,null,null,null,null,null,null,null,null,null,null,null,null,null,null,null,null,null,null,null,null,null,null,null,null,null,null,null,null,null,null,null,null,null,null,null,null,null,null,null,null,null,null,null,null,null,null,null,null,null,null,null,null,null,null,null,null,null,null,null,null,null,null,null,null,null,null,null,null,null,null,null,null,null,null,null,null,null,null,null,null,null,null,null,null,null,null,null,null,null,null,null,null,null,null,null,null,null,null,null,null,null,null,null,null,null,null,null,null,null,null,null,null,null,null,null,null,null,null,null,null,null,null,null,null,null,null,null,null,null,null,null,null,null,null,null,null,null,null,null,null,null,null,null,null,null,null,null,null,null,null,null,null,null,null,null,null,null,null,null,null,null,79.77,75,75.05,46.34,77.650000000000006,70,75.599999999999994,77.47,88.8,30.9,77,78.77,79,77.77,{"$error":"#DIV/0!"},72,{"$error":"#DIV/0!"},{"$error":"#DIV/0!"},null,0,0,{"$error":"#DIV/0!"},null,1314.4238333333333,24,73.023546296296288]
[42,"RAP042",null,"X TGB 3","ABDUL LATIF",null,null,null,15160082,null,null,null,null,null,null,null,null,null,null,null,null,null,null,null,null,null,null,null,null,null,null,null,null,null,null,null,null,null,null,null,null,null,null,null,null,null,null,null,null,null,null,null,null,null,null,null,null,null,null,null,null,null,null,null,null,null,null,null,null,null,null,null,null,null,null,null,null,null,null,null,null,null,null,null,null,null,null,null,null,null,null,null,null,null,null,null,null,null,null,76.383333333333326,75,"B",75,75,"B",75.05,75.8,"B",19.999999999999996,19.999999999999996,"B",77.650000000000006,78,"B",70,70,"C",67.883333333333326,81.571428571428569,"B",77.466666666666669,78.285714285714292,"B",86.4,86.25,"A",29.30866666666666,77,"B",77.099999999999994,80,"B",78.183333333333337,78.142857142857139,"B",79,79,"B",78.7,78.375,"B",77.849999999999994,77.666666666666671,"B",59.8,78,"B",76,76,"B","-","-","-","-","-","-","-","-","-","-","-","-","-","-","-","-","-","-","-","-","-","-","-","-","-","-","-","-","-","-",72,70,"C","-","-","-","-","-","-",null,null,null,null,null,null,null,null,null,null,null,null,null,null,null,null,null,null,null,null,null,null,null,null,null,null,null,null,null,null,null,null,null,null,null,null,null,null,null,null,null,null,null,null,null,null,null,null,null,null,null,null,null,null,null,null,null,null,null,null,null,null,null,null,null,null,null,null,null,null,null,null,null,null,null,null,null,null,null,null,null,null,null,null,null,null,null,null,null,null,null,null,null,null,null,null,null,null,null,null,null,null,null,null,null,null,null,null,null,null,null,null,null,null,null,null,null,null,null,null,null,null,null,null,null,null,null,null,null,null,null,null,null,null,null,null,null,null,null,null,null,null,null,null,null,null,null,null,null,null,null,null,null,null,null,null,null,null,null,null,null,null,null,null,null,null,null,null,null,null,null,null,null,null,null,null,null,null,null,null,null,null,null,null,null,null,null,null,null,null,null,null,null,null,null,null,null,null,null,null,null,null,null,null,null,null,null,null,null,null,null,null,null,null,null,null,null,null,null,null,null,null,null,null,null,null,null,null,null,null,null,null,null,null,null,null,null,null,null,null,null,null,null,null,null,null,null,null,null,null,null,null,null,null,null,null,null,null,null,null,null,null,null,null,null,null,null,null,null,null,null,null,null,null,null,null,null,null,null,null,null,null,null,null,null,null,null,null,null,null,null,null,null,null,null,null,null,null,null,null,null,null,null,null,null,null,null,null,null,null,null,null,null,null,null,null,null,null,null,null,null,null,null,null,null,null,null,null,null,null,null,null,null,null,null,null,null,null,null,null,null,null,null,null,null,null,null,null,null,null,null,null,null,null,null,null,null,null,null,null,null,null,null,null,null,null,null,null,null,null,null,null,null,null,null,null,null,null,null,null,null,null,null,null,null,null,null,null,null,null,null,null,null,null,null,null,null,null,null,null,76.38,75,75.05,20,77.650000000000006,70,67.88,77.47,86.4,29.31,77.099999999999994,78.180000000000007,79,73.09,{"$error":"#DIV/0!"},72,{"$error":"#DIV/0!"},{"$error":"#DIV/0!"},null,0,0,{"$error":"#DIV/0!"},null,1253.7753333333333,24,69.654185185185185]
[43,"RAP043",null,"X TGB 3","ADNAN GUNAWAN",null,null,null,15160083,null,null,null,null,null,null,null,null,null,null,null,null,null,null,null,null,null,null,null,null,null,null,null,null,null,null,null,null,null,null,null,null,null,null,null,null,null,null,null,null,null,null,null,null,null,null,null,null,null,null,null,null,null,null,null,null,null,null,null,null,null,null,null,null,null,null,null,null,null,null,null,null,null,null,null,null,null,null,null,null,null,null,null,null,null,null,null,null,null,null,83.166666666666671,82,"B",87,75,"B",81.137499999999989,81.2,"B",80.759999999999991,80.759999999999991,"B",80.133333333333326,80,"B",87,86.857142857142861,"A",85.720833333333331,80.285714285714292,"B",79.099999999999994,80.285714285714292,"B",86.449999999999989,87.25,"A",80.197999999999993,81.625,"A",82.699999999999989,80,"B",80.75,81.285714285714292,"B",88,88,"B",79.583333333333329,79.125,"B",77.5,78.333333333333329,"B",81.166666666666657,86.25,"A",90,90,"A","-","-","-","-","-","-","-","-","-","-","-","-","-","-","-","-","-","-","-","-","-","-","-","-","-","-","-","-","-","-",85,85,"A","-","-","-","-","-","-",null,null,null,null,null,null,null,null,null,null,null,null,null,null,null,null,null,null,null,null,null,null,null,null,null,null,null,null,null,null,null,null,null,null,null,null,null,null,null,null,null,null,null,null,null,null,null,null,null,null,null,null,null,null,null,null,null,null,null,null,null,null,null,null,null,null,null,null,null,null,null,null,null,null,null,null,null,null,null,null,null,null,null,null,null,null,null,null,null,null,null,null,null,null,null,null,null,null,null,null,null,null,null,null,null,null,null,null,null,null,null,null,null,null,null,null,null,null,null,null,null,null,null,null,null,null,null,null,null,null,null,null,null,null,null,null,null,null,null,null,null,null,null,null,null,null,null,null,null,null,null,null,null,null,null,null,null,null,null,null,null,null,null,null,null,null,null,null,null,null,null,null,null,null,null,null,null,null,null,null,null,null,null,null,null,null,null,null,null,null,null,null,null,null,null,null,null,null,null,null,null,null,null,null,null,null,null,null,null,null,null,null,null,null,null,null,null,null,null,null,null,null,null,null,null,null,null,null,null,null,null,null,null,null,null,null,null,null,null,null,null,null,null,null,null,null,null,null,null,null,null,null,null,null,null,null,null,null,null,null,null,null,null,null,null,null,null,null,null,null,null,null,null,null,null,null,null,null,null,null,null,null,null,null,null,null,null,null,null,null,null,null,null,null,null,null,null,null,null,null,null,null,null,null,null,null,null,null,null,null,null,null,null,null,null,null,null,null,null,null,null,null,null,null,null,null,null,null,null,null,null,null,null,null,null,null,null,null,null,null,null,null,null,null,null,null,null,null,null,null,null,null,null,null,null,null,null,null,null,null,null,null,null,null,null,null,null,null,null,null,null,null,null,null,null,null,null,null,null,null,null,null,null,null,null,null,null,null,null,null,null,null,null,null,null,null,null,null,null,null,83.17,87,81.14,80.760000000000005,80.13,87,85.72,79.099999999999994,86.45,80.2,82.7,80.75,88,82.06,{"$error":"#DIV/0!"},85,{"$error":"#DIV/0!"},{"$error":"#DIV/0!"},null,0,0,{"$error":"#DIV/0!"},null,1495.3663333333332,24,83.075907407407399]
[44,"RAP044",null,"X TGB 3","ALFIAN SAHRUL KAHFI",null,null,null,15160084,null,null,null,null,null,null,null,null,null,null,null,null,null,null,null,null,null,null,null,null,null,null,null,null,null,null,null,null,null,null,null,null,null,null,null,null,null,null,null,null,null,null,null,null,null,null,null,null,null,null,null,null,null,null,null,null,null,null,null,null,null,null,null,null,null,null,null,null,null,null,null,null,null,null,null,null,null,null,null,null,null,null,null,null,null,null,null,null,null,null,86.833333333333329,86,"A",87,75,"B",78.7,80,"B",44.76,44.76,"B",80,80,"B",82,80,"B",78.095833333333317,79.142857142857139,"B",77.466666666666669,78.285714285714292,"B",89.5,86.75,"A",73.082666666666668,77,"B",77.099999999999994,80,"B",79.466666666666669,79.714285714285708,"B",81,81,"B",78.55,79.125,"B",77.5,78.333333333333329,"B",82.333333333333329,85,"B",76,76,"B","-","-","-","-","-","-","-","-","-","-","-","-","-","-","-","-","-","-","-","-","-","-","-","-","-","-","-","-","-","-",78,79,"B","-","-","-","-","-","-",null,null,null,null,null,null,null,null,null,null,null,null,null,null,null,null,null,null,null,null,null,null,null,null,null,null,null,null,null,null,null,null,null,null,null,null,null,null,null,null,null,null,null,null,null,null,null,null,null,null,null,null,null,null,null,null,null,null,null,null,null,null,null,null,null,null,null,null,null,null,null,null,null,null,null,null,null,null,null,null,null,null,null,null,null,null,null,null,null,null,null,null,null,null,null,null,null,null,null,null,null,null,null,null,null,null,null,null,null,null,null,null,null,null,null,null,null,null,null,null,null,null,null,null,null,null,null,null,null,null,null,null,null,null,null,null,null,null,null,null,null,null,null,null,null,null,null,null,null,null,null,null,null,null,null,null,null,null,null,null,null,null,null,null,null,null,null,null,null,null,null,null,null,null,null,null,null,null,null,null,null,null,null,null,null,null,null,null,null,null,null,null,null,null,null,null,null,null,null,null,null,null,null,null,null,null,null,null,null,null,null,null,null,null,null,null,null,null,null,null,null,null,null,null,null,null,null,null,null,null,null,null,null,null,null,null,null,null,null,null,null,null,null,null,null,null,null,null,null,null,null,null,null,null,null,null,null,null,null,null,null,null,null,null,null,null,null,null,null,null,null,null,null,null,null,null,null,null,null,null,null,null,null,null,null,null,null,null,null,null,null,null,null,null,null,null,null,null,null,null,null,null,null,null,null,null,null,null,null,null,null,null,null,null,null,null,null,null,null,null,null,null,null,null,null,null,null,null,null,null,null,null,null,null,null,null,null,null,null,null,null,null,null,null,null,null,null,null,null,null,null,null,null,null,null,null,null,null,null,null,null,null,null,null,null,null,null,null,null,null,null,null,null,null,null,null,null,null,null,null,null,null,null,null,null,null,null,null,null,null,null,null,null,null,null,null,null,null,null,null,86.83,87,78.7,44.76,80,82,78.099999999999994,77.47,89.5,73.08,77.099999999999994,79.47,81,78.599999999999994,{"$error":"#DIV/0!"},78,{"$error":"#DIV/0!"},{"$error":"#DIV/0!"},null,0,0,{"$error":"#DIV/0!"},null,1407.3885,24,78.188249999999996]
[45,"RAP045",null,"X TGB 3","ADRI SULTAN HAIDIR",null,null,null,15160085,null,null,null,null,null,null,null,null,null,null,null,null,null,null,null,null,null,null,null,null,null,null,null,null,null,null,null,null,null,null,null,null,null,null,null,null,null,null,null,null,null,null,null,null,null,null,null,null,null,null,null,null,null,null,null,null,null,null,null,null,null,null,null,null,null,null,null,null,null,null,null,null,null,null,null,null,null,null,null,null,null,null,null,null,null,null,null,null,null,null,82.216666666666669,81,"A",75,75,"C",75.185000000000002,76.400000000000006,"B",20.919999999999998,20.919999999999998,"B",80.133333333333326,80,"B",70,70,"C",85.345833333333331,79.714285714285708,"B",77.466666666666669,78.285714285714292,"B",87.8,86.25,"A",75,77,"B",77.099999999999994,80,"B",79.466666666666669,79.714285714285708,"B",79,79,"B",78.266666666666666,78.375,"B",70.083333333333329,77.666666666666671,"C",78,78,"C",76,76,"B","-","-","-","-","-","-","-","-","-","-","-","-","-","-","-","-","-","-","-","-","-","-","-","-","-","-","-","-","-","-",73,70,"C","-","-","-","-","-","-",null,null,null,null,null,null,null,null,null,null,null,null,null,null,null,null,null,null,null,null,null,null,null,null,null,null,null,null,null,null,null,null,null,null,null,null,null,null,null,null,null,null,null,null,null,null,null,null,null,null,null,null,null,null,null,null,null,null,null,null,null,null,null,null,null,null,null,null,null,null,null,null,null,null,null,null,null,null,null,null,null,null,null,null,null,null,null,null,null,null,null,null,null,null,null,null,null,null,null,null,null,null,null,null,null,null,null,null,null,null,null,null,null,null,null,null,null,null,null,null,null,null,null,null,null,null,null,null,null,null,null,null,null,null,null,null,null,null,null,null,null,null,null,null,null,null,null,null,null,null,null,null,null,null,null,null,null,null,null,null,null,null,null,null,null,null,null,null,null,null,null,null,null,null,null,null,null,null,null,null,null,null,null,null,null,null,null,null,null,null,null,null,null,null,null,null,null,null,null,null,null,null,null,null,null,null,null,null,null,null,null,null,null,null,null,null,null,null,null,null,null,null,null,null,null,null,null,null,null,null,null,null,null,null,null,null,null,null,null,null,null,null,null,null,null,null,null,null,null,null,null,null,null,null,null,null,null,null,null,null,null,null,null,null,null,null,null,null,null,null,null,null,null,null,null,null,null,null,null,null,null,null,null,null,null,null,null,null,null,null,null,null,null,null,null,null,null,null,null,null,null,null,null,null,null,null,null,null,null,null,null,null,null,null,null,null,null,null,null,null,null,null,null,null,null,null,null,null,null,null,null,null,null,null,null,null,null,null,null,null,null,null,null,null,null,null,null,null,null,null,null,null,null,null,null,null,null,null,null,null,null,null,null,null,null,null,null,null,null,null,null,null,null,null,null,null,null,null,null,null,null,null,null,null,null,null,null,null,null,null,null,null,null,null,null,null,null,null,null,null,82.22,75,75.19,20.92,80.13,70,85.35,77.47,87.8,75,77.099999999999994,79.47,79,75.59,{"$error":"#DIV/0!"},73,{"$error":"#DIV/0!"},{"$error":"#DIV/0!"},null,0,0,{"$error":"#DIV/0!"},null,1339.9841666666666,24,74.443564814814806]
[46,"RAP046",null,"X TGB 3","AFIFAH",null,null,null,15160086,null,null,null,null,null,null,null,null,null,null,null,null,null,null,null,null,null,null,null,null,null,null,null,null,null,null,null,null,null,null,null,null,null,null,null,null,null,null,null,null,null,null,null,null,null,null,null,null,null,null,null,null,null,null,null,null,null,null,null,null,null,null,null,null,null,null,null,null,null,null,null,null,null,null,null,null,null,null,null,null,null,null,null,null,null,null,null,null,null,null,83.983333333333334,83,"B",80,75,"B",79,80.2,"B",79.52,79.52,"B",80,80,"B",80,80,"B",90.666666666666657,79.142857142857139,"B",79.099999999999994,80.285714285714292,"B",92.05,86.25,"A",76.38333333333334,77,"B",79.900000000000006,80,"B",79.583333333333329,79.857142857142861,"B",81,81,"B",78.98333333333332,79.125,"B",78.724999999999994,78.333333333333329,"B",80.399999999999991,80,"B",90,90,"A","-","-","-","-","-","-","-","-","-","-","-","-","-","-","-","-","-","-","-","-","-","-","-","-","-","-","-","-","-","-",82,80,"B","-","-","-","-","-","-",null,null,null,null,null,null,null,null,null,null,null,null,null,null,null,null,null,null,null,null,null,null,null,null,null,null,null,null,null,null,null,null,null,null,null,null,null,null,null,null,null,null,null,null,null,null,null,null,null,null,null,null,null,null,null,null,null,null,null,null,null,null,null,null,null,null,null,null,null,null,null,null,null,null,null,null,null,null,null,null,null,null,null,null,null,null,null,null,null,null,null,null,null,null,null,null,null,null,null,null,null,null,null,null,null,null,null,null,null,null,null,null,null,null,null,null,null,null,null,null,null,null,null,null,null,null,null,null,null,null,null,null,null,null,null,null,null,null,null,null,null,null,null,null,null,null,null,null,null,null,null,null,null,null,null,null,null,null,null,null,null,null,null,null,null,null,null,null,null,null,null,null,null,null,null,null,null,null,null,null,null,null,null,null,null,null,null,null,null,null,null,null,null,null,null,null,null,null,null,null,null,null,null,null,null,null,null,null,null,null,null,null,null,null,null,null,null,null,null,null,null,null,null,null,null,null,null,null,null,null,null,null,null,null,null,null,null,null,null,null,null,null,null,null,null,null,null,null,null,null,null,null,null,null,null,null,null,null,null,null,null,null,null,null,null,null,null,null,null,null,null,null,null,null,null,null,null,null,null,null,null,null,null,null,null,null,null,null,null,null,null,null,null,null,null,null,null,null,null,null,null,null,null,null,null,null,null,null,null,null,null,null,null,null,null,null,null,null,null,null,null,null,null,null,null,null,null,null,null,null,null,null,null,null,null,null,null,null,null,null,null,null,null,null,null,null,null,null,null,null,null,null,null,null,null,null,null,null,null,null,null,null,null,null,null,null,null,null,null,null,null,null,null,null,null,null,null,null,null,null,null,null,null,null,null,null,null,null,null,null,null,null,null,null,null,null,null,null,null,null,83.98,80,79,79.52,80,80,90.67,79.099999999999994,92.05,76.38,79.900000000000006,79.58,81,82.03,{"$error":"#DIV/0!"},82,{"$error":"#DIV/0!"},{"$error":"#DIV/0!"},null,0,0,{"$error":"#DIV/0!"},null,1471.2949999999998,24,81.738611111111098]
[47,"RAP047",null,"X TGB 3","AHMAD RIYADI",null,null,null,15160087,null,null,null,null,null,null,null,null,null,null,null,null,null,null,null,null,null,null,null,null,null,null,null,null,null,null,null,null,null,null,null,null,null,null,null,null,null,null,null,null,null,null,null,null,null,null,null,null,null,null,null,null,null,null,null,null,null,null,null,null,null,null,null,null,null,null,null,null,null,null,null,null,null,null,null,null,null,null,null,null,null,null,null,null,null,null,null,null,null,null,78.899999999999991,78,"B",75,75,"B",78.775000000000006,80.400000000000006,"B",39.76,39.76,"B",80,80,"B",77,77,"B",69.195833333333326,76.142857142857139,"B",78.516666666666666,79.571428571428569,"B",86.199999999999989,88.125,"A",76.963999999999999,77.375,"B",81.3,80,"B",80.283333333333331,80.714285714285708,"B",83,83,"B",79.583333333333329,79.125,"A",77.849999999999994,78.333333333333329,"B",82.333333333333329,86.25,"A",85,85,"B","-","-","-","-","-","-","-","-","-","-","-","-","-","-","-","-","-","-","-","-","-","-","-","-","-","-","-","-","-","-",80,80,"B","-","-","-","-","-","-",null,null,null,null,null,null,null,null,null,null,null,null,null,null,null,null,null,null,null,null,null,null,null,null,null,null,null,null,null,null,null,null,null,null,null,null,null,null,null,null,null,null,null,null,null,null,null,null,null,null,null,null,null,null,null,null,null,null,null,null,null,null,null,null,null,null,null,null,null,null,null,null,null,null,null,null,null,null,null,null,null,null,null,null,null,null,null,null,null,null,null,null,null,null,null,null,null,null,null,null,null,null,null,null,null,null,null,null,null,null,null,null,null,null,null,null,null,null,null,null,null,null,null,null,null,null,null,null,null,null,null,null,null,null,null,null,null,null,null,null,null,null,null,null,null,null,null,null,null,null,null,null,null,null,null,null,null,null,null,null,null,null,null,null,null,null,null,null,null,null,null,null,null,null,null,null,null,null,null,null,null,null,null,null,null,null,null,null,null,null,null,null,null,null,null,null,null,null,null,null,null,null,null,null,null,null,null,null,null,null,null,null,null,null,null,null,null,null,null,null,null,null,null,null,null,null,null,null,null,null,null,null,null,null,null,null,null,null,null,null,null,null,null,null,null,null,null,null,null,null,null,null,null,null,null,null,null,null,null,null,null,null,null,null,null,null,null,null,null,null,null,null,null,null,null,null,null,null,null,null,null,null,null,null,null,null,null,null,null,null,null,null,null,null,null,null,null,null,null,null,null,null,null,null,null,null,null,null,null,null,null,null,null,null,null,null,null,null,null,null,null,null,null,null,null,null,null,null,null,null,null,null,null,null,null,null,null,null,null,null,null,null,null,null,null,null,null,null,null,null,null,null,null,null,null,null,null,null,null,null,null,null,null,null,null,null,null,null,null,null,null,null,null,null,null,null,null,null,null,null,null,null,null,null,null,null,null,null,null,null,null,null,null,null,null,null,null,null,null,null,78.900000000000006,75,78.78,39.76,80,77,69.2,78.52,86.2,76.959999999999994,81.3,80.28,83,81.19,{"$error":"#DIV/0!"},80,{"$error":"#DIV/0!"},{"$error":"#DIV/0!"},null,0,0,{"$error":"#DIV/0!"},null,1389.6614999999997,24,77.203416666666655]
[48,"RAP048",null,"X TGB 3","BAYU DWI SAPUTRO",null,null,null,15160089,null,null,null,null,null,null,null,null,null,null,null,null,null,null,null,null,null,null,null,null,null,null,null,null,null,null,null,null,null,null,null,null,null,null,null,null,null,null,null,null,null,null,null,null,null,null,null,null,null,null,null,null,null,null,null,null,null,null,null,null,null,null,null,null,null,null,null,null,null,null,null,null,null,null,null,null,null,null,null,null,null,null,null,null,null,null,null,null,null,null,80.466666666666669,79,"B",87,75,"B",80.95,81,"B",79.699999999999989,79.699999999999989,"B",80,80,"B",80,81,"B",87.083333333333314,78.571428571428569,"B",77.466666666666669,78.285714285714292,"B",88.05,86,"A",75.015333333333331,77,"B",77.099999999999994,80,"B",79.816666666666663,80.142857142857139,"B",79,79,"B",79.433333333333323,79,"B",77.75,78.333333333333329,"B",81.166666666666657,80,"B",76,76,"A","-","-","-","-","-","-","-","-","-","-","-","-","-","-","-","-","-","-","-","-","-","-","-","-","-","-","-","-","-","-",80,81,"B","-","-","-","-","-","-",null,null,null,null,null,null,null,null,null,null,null,null,null,null,null,null,null,null,null,null,null,null,null,null,null,null,null,null,null,null,null,null,null,null,null,null,null,null,null,null,null,null,null,null,null,null,null,null,null,null,null,null,null,null,null,null,null,null,null,null,null,null,null,null,null,null,null,null,null,null,null,null,null,null,null,null,null,null,null,null,null,null,null,null,null,null,null,null,null,null,null,null,null,null,null,null,null,null,null,null,null,null,null,null,null,null,null,null,null,null,null,null,null,null,null,null,null,null,null,null,null,null,null,null,null,null,null,null,null,null,null,null,null,null,null,null,null,null,null,null,null,null,null,null,null,null,null,null,null,null,null,null,null,null,null,null,null,null,null,null,null,null,null,null,null,null,null,null,null,null,null,null,null,null,null,null,null,null,null,null,null,null,null,null,null,null,null,null,null,null,null,null,null,null,null,null,null,null,null,null,null,null,null,null,null,null,null,null,null,null,null,null,null,null,null,null,null,null,null,null,null,null,null,null,null,null,null,null,null,null,null,null,null,null,null,null,null,null,null,null,null,null,null,null,null,null,null,null,null,null,null,null,null,null,null,null,null,null,null,null,null,null,null,null,null,null,null,null,null,null,null,null,null,null,null,null,null,null,null,null,null,null,null,null,null,null,null,null,null,null,null,null,null,null,null,null,null,null,null,null,null,null,null,null,null,null,null,null,null,null,null,null,null,null,null,null,null,null,null,null,null,null,null,null,null,null,null,null,null,null,null,null,null,null,null,null,null,null,null,null,null,null,null,null,null,null,null,null,null,null,null,null,null,null,null,null,null,null,null,null,null,null,null,null,null,null,null,null,null,null,null,null,null,null,null,null,null,null,null,null,null,null,null,null,null,null,null,null,null,null,null,null,null,null,null,null,null,null,null,null,80.47,87,80.95,79.7,80,80,87.08,77.47,88.05,75.02,77.099999999999994,79.819999999999993,79,78.59,{"$error":"#DIV/0!"},80,{"$error":"#DIV/0!"},{"$error":"#DIV/0!"},null,0,0,{"$error":"#DIV/0!"},null,1445.9986666666668,24,80.333259259259265]
[49,"RAP049",null,"X TGB 3","CHANDRA BARA FARGAS",null,null,null,15160090,null,null,null,null,null,null,null,null,null,null,null,null,null,null,null,null,null,null,null,null,null,null,null,null,null,null,null,null,null,null,null,null,null,null,null,null,null,null,null,null,null,null,null,null,null,null,null,null,null,null,null,null,null,null,null,null,null,null,null,null,null,null,null,null,null,null,null,null,null,null,null,null,null,null,null,null,null,null,null,null,null,null,null,null,null,null,null,null,null,null,81.633333333333326,81,"B",87,75,"B",78.662499999999994,80.400000000000006,"B",79.699999999999989,79.699999999999989,"B",80,80,"B",79,80,"B",72.3,78.285714285714292,"B",78.516666666666666,79.571428571428569,"B",90.649999999999991,87,"A",75.483333333333334,77,"B",77.099999999999994,80,"B",80.166666666666657,80.571428571428569,"B",83,83,"B",79.433333333333323,78.375,"B",77.73333333333332,78.333333333333329,"B",81.166666666666657,80,"B",85,85,"B","-","-","-","-","-","-","-","-","-","-","-","-","-","-","-","-","-","-","-","-","-","-","-","-","-","-","-","-","-","-",79,80,"B","-","-","-","-","-","-",null,null,null,null,null,null,null,null,null,null,null,null,null,null,null,null,null,null,null,null,null,null,null,null,null,null,null,null,null,null,null,null,null,null,null,null,null,null,null,null,null,null,null,null,null,null,null,null,null,null,null,null,null,null,null,null,null,null,null,null,null,null,null,null,null,null,null,null,null,null,null,null,null,null,null,null,null,null,null,null,null,null,null,null,null,null,null,null,null,null,null,null,null,null,null,null,null,null,null,null,null,null,null,null,null,null,null,null,null,null,null,null,null,null,null,null,null,null,null,null,null,null,null,null,null,null,null,null,null,null,null,null,null,null,null,null,null,null,null,null,null,null,null,null,null,null,null,null,null,null,null,null,null,null,null,null,null,null,null,null,null,null,null,null,null,null,null,null,null,null,null,null,null,null,null,null,null,null,null,null,null,null,null,null,null,null,null,null,null,null,null,null,null,null,null,null,null,null,null,null,null,null,null,null,null,null,null,null,null,null,null,null,null,null,null,null,null,null,null,null,null,null,null,null,null,null,null,null,null,null,null,null,null,null,null,null,null,null,null,null,null,null,null,null,null,null,null,null,null,null,null,null,null,null,null,null,null,null,null,null,null,null,null,null,null,null,null,null,null,null,null,null,null,null,null,null,null,null,null,null,null,null,null,null,null,null,null,null,null,null,null,null,null,null,null,null,null,null,null,null,null,null,null,null,null,null,null,null,null,null,null,null,null,null,null,null,null,null,null,null,null,null,null,null,null,null,null,null,null,null,null,null,null,null,null,null,null,null,null,null,null,null,null,null,null,null,null,null,null,null,null,null,null,null,null,null,null,null,null,null,null,null,null,null,null,null,null,null,null,null,null,null,null,null,null,null,null,null,null,null,null,null,null,null,null,null,null,null,null,null,null,null,null,null,null,null,null,null,null,null,81.63,87,78.66,79.7,80,79,72.3,78.52,90.65,75.48,77.099999999999994,80.17,83,80.83,{"$error":"#DIV/0!"},79,{"$error":"#DIV/0!"},{"$error":"#DIV/0!"},null,0,0,{"$error":"#DIV/0!"},null,1445.5458333333333,24,80.308101851851859]
[50,"RAP077",null,"X TGB 3","DANIEL SAPRIANTO. M",null,null,null,15160091,null,null,null,null,null,null,null,null,null,null,null,null,null,null,null,null,null,null,null,null,null,null,null,null,null,null,null,null,null,null,null,null,null,null,null,null,null,null,null,null,null,null,null,null,null,null,null,null,null,null,null,null,null,null,null,null,null,null,null,null,null,null,null,null,null,null,null,null,null,null,null,null,null,null,null,null,null,null,null,null,null,null,null,null,null,null,null,null,null,null,0,0,0,75,75,"C",74.900000000000006,76.400000000000006,"B",33.14,33.14,"B",80,80,"B",70,70,"B",70.474999999999994,81.857142857142861,"B",77.466666666666669,78.285714285714292,"B",93.55,88.625,"A",65.008666666666656,77,"B",76.400000000000006,78,"B",78.183333333333337,78.142857142857139,"B",79,79,"B",79.283333333333331,79.125,"B",61.25,78.333333333333329,"C",78,78,"C",76,76,"B","-","-","-","-","-","-","-","-","-","-","-","-","-","-","-","-","-","-","-","-","-","-","-","-","-","-","-","-","-","-",75,70,"B","-","-","-","-","-","-",null,null,null,null,null,null,null,null,null,null,null,null,null,null,null,null,null,null,null,null,null,null,null,null,null,null,null,null,null,null,null,null,null,null,null,null,null,null,null,null,null,null,null,null,null,null,null,null,null,null,null,null,null,null,null,null,null,null,null,null,null,null,null,null,null,null,null,null,null,null,null,null,null,null,null,null,null,null,null,null,null,null,null,null,null,null,null,null,null,null,null,null,null,null,null,null,null,null,null,null,null,null,null,null,null,null,null,null,null,null,null,null,null,null,null,null,null,null,null,null,null,null,null,null,null,null,null,null,null,null,null,null,null,null,null,null,null,null,null,null,null,null,null,null,null,null,null,null,null,null,null,null,null,null,null,null,null,null,null,null,null,null,null,null,null,null,null,null,null,null,null,null,null,null,null,null,null,null,null,null,null,null,null,null,null,null,null,null,null,null,null,null,null,null,null,null,null,null,null,null,null,null,null,null,null,null,null,null,null,null,null,null,null,null,null,null,null,null,null,null,null,null,null,null,null,null,null,null,null,null,null,null,null,null,null,null,null,null,null,null,null,null,null,null,null,null,null,null,null,null,null,null,null,null,null,null,null,null,null,null,null,null,null,null,null,null,null,null,null,null,null,null,null,null,null,null,null,null,null,null,null,null,null,null,null,null,null,null,null,null,null,null,null,null,null,null,null,null,null,null,null,null,null,null,null,null,null,null,null,null,null,null,null,null,null,null,null,null,null,null,null,null,null,null,null,null,null,null,null,null,null,null,null,null,null,null,null,null,null,null,null,null,null,null,null,null,null,null,null,null,null,null,null,null,null,null,null,null,null,null,null,null,null,null,null,null,null,null,null,null,null,null,null,null,null,null,null,null,null,null,null,null,null,null,null,null,null,null,null,null,null,null,null,null,null,null,null,null,null,null,0,75,74.900000000000006,33.14,80,70,70.48,77.47,93.55,65.010000000000005,76.400000000000006,78.180000000000007,79,73.63,{"$error":"#DIV/0!"},75,{"$error":"#DIV/0!"},{"$error":"#DIV/0!"},null,0,0,{"$error":"#DIV/0!"},null,1242.6569999999999,25,69.03649999999999]
[51,"RAP050",null,"X TGB 3","HAFIZ FADILAH",null,null,null,15160093,null,null,null,null,null,null,null,null,null,null,null,null,null,null,null,null,null,null,null,null,null,null,null,null,null,null,null,null,null,null,null,null,null,null,null,null,null,null,null,null,null,null,null,null,null,null,null,null,null,null,null,null,null,null,null,null,null,null,null,null,null,null,null,null,null,null,null,null,null,null,null,null,null,null,null,null,null,null,null,null,null,null,null,null,null,null,null,null,null,null,74,74,"B",75,75,"B",79.399999999999991,79.599999999999994,"B",42.34,42.34,"B",80,80,"B",77,77,"B",68.145833333333329,80.571428571428569,"B",77.466666666666669,78.285714285714292,"B",86.7,86.125,"A",31.588666666666665,77,"B",77.099999999999994,80,"B",78.183333333333337,78.142857142857139,"B",79,79,"B",78.116666666666674,78.375,"B",76,78.333333333333329,"B",78,78,"B",76,76,"B","-","-","-","-","-","-","-","-","-","-","-","-","-","-","-","-","-","-","-","-","-","-","-","-","-","-","-","-","-","-",76,77,"B","-","-","-","-","-","-",null,null,null,null,null,null,null,null,null,null,null,null,null,null,null,null,null,null,null,null,null,null,null,null,null,null,null,null,null,null,null,null,null,null,null,null,null,null,null,null,null,null,null,null,null,null,null,null,null,null,null,null,null,null,null,null,null,null,null,null,null,null,null,null,null,null,null,null,null,null,null,null,null,null,null,null,null,null,null,null,null,null,null,null,null,null,null,null,null,null,null,null,null,null,null,null,null,null,null,null,null,null,null,null,null,null,null,null,null,null,null,null,null,null,null,null,null,null,null,null,null,null,null,null,null,null,null,null,null,null,null,null,null,null,null,null,null,null,null,null,null,null,null,null,null,null,null,null,null,null,null,null,null,null,null,null,null,null,null,null,null,null,null,null,null,null,null,null,null,null,null,null,null,null,null,null,null,null,null,null,null,null,null,null,null,null,null,null,null,null,null,null,null,null,null,null,null,null,null,null,null,null,null,null,null,null,null,null,null,null,null,null,null,null,null,null,null,null,null,null,null,null,null,null,null,null,null,null,null,null,null,null,null,null,null,null,null,null,null,null,null,null,null,null,null,null,null,null,null,null,null,null,null,null,null,null,null,null,null,null,null,null,null,null,null,null,null,null,null,null,null,null,null,null,null,null,null,null,null,null,null,null,null,null,null,null,null,null,null,null,null,null,null,null,null,null,null,null,null,null,null,null,null,null,null,null,null,null,null,null,null,null,null,null,null,null,null,null,null,null,null,null,null,null,null,null,null,null,null,null,null,null,null,null,null,null,null,null,null,null,null,null,null,null,null,null,null,null,null,null,null,null,null,null,null,null,null,null,null,null,null,null,null,null,null,null,null,null,null,null,null,null,null,null,null,null,null,null,null,null,null,null,null,null,null,null,null,null,null,null,null,null,null,null,null,null,null,null,null,null,74,75,79.400000000000006,42.34,80,77,68.150000000000006,77.47,86.7,31.59,77.099999999999994,78.180000000000007,79,77.03,{"$error":"#DIV/0!"},76,{"$error":"#DIV/0!"},{"$error":"#DIV/0!"},null,0,0,{"$error":"#DIV/0!"},null,1310.0411666666669,24,72.780064814814821]
[52,"RAP051",null,"X TGB 3","HASANUDIN",null,null,null,15160094,null,null,null,null,null,null,null,null,null,null,null,null,null,null,null,null,null,null,null,null,null,null,null,null,null,null,null,null,null,null,null,null,null,null,null,null,null,null,null,null,null,null,null,null,null,null,null,null,null,null,null,null,null,null,null,null,null,null,null,null,null,null,null,null,null,null,null,null,null,null,null,null,null,null,null,null,null,null,null,null,null,null,null,null,null,null,null,null,null,null,85.433333333333337,84,"B",80,75,"B",81.099999999999994,81,"B",65.16,65.16,"B",82.666666666666657,82.625,"A",82,87.142857142857139,"A",78.079166666666666,78.571428571428569,"B",79,80,"B",89,88,"A",76.974666666666664,77,"B",82.699999999999989,80,"B",79.699999999999989,80,"B",83,83,"B",79.73333333333332,79.125,"B",77.625,78.333333333333329,"B",84.666666666666657,86.25,"A",85,85,"B","-","-","-","-","-","-","-","-","-","-","-","-","-","-","-","-","-","-","-","-","-","-","-","-","-","-","-","-","-","-",82,85,"A","-","-","-","-","-","-",null,null,null,null,null,null,null,null,null,null,null,null,null,null,null,null,null,null,null,null,null,null,null,null,null,null,null,null,null,null,null,null,null,null,null,null,null,null,null,null,null,null,null,null,null,null,null,null,null,null,null,null,null,null,null,null,null,null,null,null,null,null,null,null,null,null,null,null,null,null,null,null,null,null,null,null,null,null,null,null,null,null,null,null,null,null,null,null,null,null,null,null,null,null,null,null,null,null,null,null,null,null,null,null,null,null,null,null,null,null,null,null,null,null,null,null,null,null,null,null,null,null,null,null,null,null,null,null,null,null,null,null,null,null,null,null,null,null,null,null,null,null,null,null,null,null,null,null,null,null,null,null,null,null,null,null,null,null,null,null,null,null,null,null,null,null,null,null,null,null,null,null,null,null,null,null,null,null,null,null,null,null,null,null,null,null,null,null,null,null,null,null,null,null,null,null,null,null,null,null,null,null,null,null,null,null,null,null,null,null,null,null,null,null,null,null,null,null,null,null,null,null,null,null,null,null,null,null,null,null,null,null,null,null,null,null,null,null,null,null,null,null,null,null,null,null,null,null,null,null,null,null,null,null,null,null,null,null,null,null,null,null,null,null,null,null,null,null,null,null,null,null,null,null,null,null,null,null,null,null,null,null,null,null,null,null,null,null,null,null,null,null,null,null,null,null,null,null,null,null,null,null,null,null,null,null,null,null,null,null,null,null,null,null,null,null,null,null,null,null,null,null,null,null,null,null,null,null,null,null,null,null,null,null,null,null,null,null,null,null,null,null,null,null,null,null,null,null,null,null,null,null,null,null,null,null,null,null,null,null,null,null,null,null,null,null,null,null,null,null,null,null,null,null,null,null,null,null,null,null,null,null,null,null,null,null,null,null,null,null,null,null,null,null,null,null,null,null,null,null,85.43,80,81.099999999999994,65.16,82.67,82,78.08,79,89,76.97,82.7,79.7,83,81.760000000000005,{"$error":"#DIV/0!"},82,{"$error":"#DIV/0!"},{"$error":"#DIV/0!"},null,0,0,{"$error":"#DIV/0!"},null,1453.8388333333335,24,80.768824074074075]
[53,"RAP079",null,"X TGB 3","IRFAN AL GHANI MAHARDIKA",null,null,null,15160096,null,null,null,null,null,null,null,null,null,null,null,null,null,null,null,null,null,null,null,null,null,null,null,null,null,null,null,null,null,null,null,null,null,null,null,null,null,null,null,null,null,null,null,null,null,null,null,null,null,null,null,null,null,null,null,null,null,null,null,null,null,null,null,null,null,null,null,null,null,null,null,null,null,null,null,null,null,null,null,null,null,null,null,null,null,null,null,null,null,null,86.899999999999991,86,"B",87,75,"B",81.300000000000011,80.8,"B",79.52,79.52,"B",80,80,"B",85,85,"A",88.533333333333317,79.142857142857139,"B",79.099999999999994,80.285714285714292,"B",92.55,88.75,"A",80.428666666666672,77,"A",82.699999999999989,80,"B",85.65,84.142857142857139,"B",88,88,"B",78.98333333333332,79.125,"B",77.625,78.333333333333329,"B",82.333333333333329,86.25,"B",90,90,"A","-","-","-","-","-","-","-","-","-","-","-","-","-","-","-","-","-","-","-","-","-","-","-","-","-","-","-","-","-","-",85,85,"A","-","-","-","-","-","-",null,null,null,null,null,null,null,null,null,null,null,null,null,null,null,null,null,null,null,null,null,null,null,null,null,null,null,null,null,null,null,null,null,null,null,null,null,null,null,null,null,null,null,null,null,null,null,null,null,null,null,null,null,null,null,null,null,null,null,null,null,null,null,null,null,null,null,null,null,null,null,null,null,null,null,null,null,null,null,null,null,null,null,null,null,null,null,null,null,null,null,null,null,null,null,null,null,null,null,null,null,null,null,null,null,null,null,null,null,null,null,null,null,null,null,null,null,null,null,null,null,null,null,null,null,null,null,null,null,null,null,null,null,null,null,null,null,null,null,null,null,null,null,null,null,null,null,null,null,null,null,null,null,null,null,null,null,null,null,null,null,null,null,null,null,null,null,null,null,null,null,null,null,null,null,null,null,null,null,null,null,null,null,null,null,null,null,null,null,null,null,null,null,null,null,null,null,null,null,null,null,null,null,null,null,null,null,null,null,null,null,null,null,null,null,null,null,null,null,null,null,null,null,null,null,null,null,null,null,null,null,null,null,null,null,null,null,null,null,null,null,null,null,null,null,null,null,null,null,null,null,null,null,null,null,null,null,null,null,null,null,null,null,null,null,null,null,null,null,null,null,null,null,null,null,null,null,null,null,null,null,null,null,null,null,null,null,null,null,null,null,null,null,null,null,null,null,null,null,null,null,null,null,null,null,null,null,null,null,null,null,null,null,null,null,null,null,null,null,null,null,null,null,null,null,null,null,null,null,null,null,null,null,null,null,null,null,null,null,null,null,null,null,null,null,null,null,null,null,null,null,null,null,null,null,null,null,null,null,null,null,null,null,null,null,null,null,null,null,null,null,null,null,null,null,null,null,null,null,null,null,null,null,null,null,null,null,null,null,null,null,null,null,null,null,null,null,null,null,null,86.9,87,81.3,79.52,80,85,88.53,79.099999999999994,92.55,80.430000000000007,82.7,85.65,88,82.24,{"$error":"#DIV/0!"},85,{"$error":"#DIV/0!"},{"$error":"#DIV/0!"},null,0,0,{"$error":"#DIV/0!"},null,1510.6236666666664,24,83.923537037037022]
[54,"RAP052",null,"X TGB 3","IRFAN ADI REKSA",null,null,null,15160097,null,null,null,null,null,null,null,null,null,null,null,null,null,null,null,null,null,null,null,null,null,null,null,null,null,null,null,null,null,null,null,null,null,null,null,null,null,null,null,null,null,null,null,null,null,null,null,null,null,null,null,null,null,null,null,null,null,null,null,null,null,null,null,null,null,null,null,null,null,null,null,null,null,null,null,null,null,null,null,null,null,null,null,null,null,null,null,null,null,null,83.916666666666671,83,"B",87,75,"B",78.7,79.8,"B",79.52,79.52,"B",80,80,"B",80,81,"A",84.558333333333337,80,"B",78.516666666666666,79.571428571428569,"B",86.649999999999991,86.125,"A",75.471333333333334,77,"B",77.916666666666657,80,"B",78.183333333333337,78.142857142857139,"B",83,83,"B",79.583333333333329,79.125,"B",77.625,78.333333333333329,"B",78,78,"B",85,85,"B","-","-","-","-","-","-","-","-","-","-","-","-","-","-","-","-","-","-","-","-","-","-","-","-","-","-","-","-","-","-",80,81,"A","-","-","-","-","-","-",null,null,null,null,null,null,null,null,null,null,null,null,null,null,null,null,null,null,null,null,null,null,null,null,null,null,null,null,null,null,null,null,null,null,null,null,null,null,null,null,null,null,null,null,null,null,null,null,null,null,null,null,null,null,null,null,null,null,null,null,null,null,null,null,null,null,null,null,null,null,null,null,null,null,null,null,null,null,null,null,null,null,null,null,null,null,null,null,null,null,null,null,null,null,null,null,null,null,null,null,null,null,null,null,null,null,null,null,null,null,null,null,null,null,null,null,null,null,null,null,null,null,null,null,null,null,null,null,null,null,null,null,null,null,null,null,null,null,null,null,null,null,null,null,null,null,null,null,null,null,null,null,null,null,null,null,null,null,null,null,null,null,null,null,null,null,null,null,null,null,null,null,null,null,null,null,null,null,null,null,null,null,null,null,null,null,null,null,null,null,null,null,null,null,null,null,null,null,null,null,null,null,null,null,null,null,null,null,null,null,null,null,null,null,null,null,null,null,null,null,null,null,null,null,null,null,null,null,null,null,null,null,null,null,null,null,null,null,null,null,null,null,null,null,null,null,null,null,null,null,null,null,null,null,null,null,null,null,null,null,null,null,null,null,null,null,null,null,null,null,null,null,null,null,null,null,null,null,null,null,null,null,null,null,null,null,null,null,null,null,null,null,null,null,null,null,null,null,null,null,null,null,null,null,null,null,null,null,null,null,null,null,null,null,null,null,null,null,null,null,null,null,null,null,null,null,null,null,null,null,null,null,null,null,null,null,null,null,null,null,null,null,null,null,null,null,null,null,null,null,null,null,null,null,null,null,null,null,null,null,null,null,null,null,null,null,null,null,null,null,null,null,null,null,null,null,null,null,null,null,null,null,null,null,null,null,null,null,null,null,null,null,null,null,null,null,null,null,null,null,83.92,87,78.7,79.52,80,80,84.56,78.52,86.65,75.47,77.92,78.180000000000007,83,80.05,{"$error":"#DIV/0!"},80,{"$error":"#DIV/0!"},{"$error":"#DIV/0!"},null,0,0,{"$error":"#DIV/0!"},null,1453.641333333333,24,80.757851851851839]
[55,"RAP053",null,"X TGB 3","JAENUDIN",null,null,null,15160098,null,null,null,null,null,null,null,null,null,null,null,null,null,null,null,null,null,null,null,null,null,null,null,null,null,null,null,null,null,null,null,null,null,null,null,null,null,null,null,null,null,null,null,null,null,null,null,null,null,null,null,null,null,null,null,null,null,null,null,null,null,null,null,null,null,null,null,null,null,null,null,null,null,null,null,null,null,null,null,null,null,null,null,null,null,null,null,null,null,null,85.166666666666671,84,"B",80,75,"B",75.162499999999994,76.2,"B",43.48,43.48,"B",82.666666666666657,82.625,"A",75,75,"B",67.183333333333323,83.857142857142861,"B",77.466666666666669,78.285714285714292,"B",89.5,88,"A",75,77,"B",77.099999999999994,80,"B",79.466666666666669,79.714285714285708,"B",83,83,"B",79.433333333333323,79.125,"B",77.699999999999989,78.333333333333329,"B",81.166666666666657,80,"A",76,76,"B","-","-","-","-","-","-","-","-","-","-","-","-","-","-","-","-","-","-","-","-","-","-","-","-","-","-","-","-","-","-",78,77,"B","-","-","-","-","-","-",null,null,null,null,null,null,null,null,null,null,null,null,null,null,null,null,null,null,null,null,null,null,null,null,null,null,null,null,null,null,null,null,null,null,null,null,null,null,null,null,null,null,null,null,null,null,null,null,null,null,null,null,null,null,null,null,null,null,null,null,null,null,null,null,null,null,null,null,null,null,null,null,null,null,null,null,null,null,null,null,null,null,null,null,null,null,null,null,null,null,null,null,null,null,null,null,null,null,null,null,null,null,null,null,null,null,null,null,null,null,null,null,null,null,null,null,null,null,null,null,null,null,null,null,null,null,null,null,null,null,null,null,null,null,null,null,null,null,null,null,null,null,null,null,null,null,null,null,null,null,null,null,null,null,null,null,null,null,null,null,null,null,null,null,null,null,null,null,null,null,null,null,null,null,null,null,null,null,null,null,null,null,null,null,null,null,null,null,null,null,null,null,null,null,null,null,null,null,null,null,null,null,null,null,null,null,null,null,null,null,null,null,null,null,null,null,null,null,null,null,null,null,null,null,null,null,null,null,null,null,null,null,null,null,null,null,null,null,null,null,null,null,null,null,null,null,null,null,null,null,null,null,null,null,null,null,null,null,null,null,null,null,null,null,null,null,null,null,null,null,null,null,null,null,null,null,null,null,null,null,null,null,null,null,null,null,null,null,null,null,null,null,null,null,null,null,null,null,null,null,null,null,null,null,null,null,null,null,null,null,null,null,null,null,null,null,null,null,null,null,null,null,null,null,null,null,null,null,null,null,null,null,null,null,null,null,null,null,null,null,null,null,null,null,null,null,null,null,null,null,null,null,null,null,null,null,null,null,null,null,null,null,null,null,null,null,null,null,null,null,null,null,null,null,null,null,null,null,null,null,null,null,null,null,null,null,null,null,null,null,null,null,null,null,null,null,null,null,null,null,85.17,80,75.16,43.48,82.67,75,67.180000000000007,77.47,89.5,75,77.099999999999994,79.47,83,78.58,{"$error":"#DIV/0!"},78,{"$error":"#DIV/0!"},{"$error":"#DIV/0!"},null,0,0,{"$error":"#DIV/0!"},null,1382.4925000000001,24,76.805138888888891]
[81,"RAP081",null,"XII TEI 2","ARMAN MAULANA",null,null,null,14150205,88,88,"A",85,86,"A",85,85,"B",79,80,"B",81,81,"B",94,92,"A",91,90,"B",85,85,"B",92,90,"A",null,null,null,null,null,null,null,null,null,null,null,null,null,null,null,null,null,null,null,null,null,null,null,null,null,null,null,null,null,null,null,null,null,78,83,"B",82,85,"A",78,82,"B",82,83,"B",null,null,null,null,null,null,null,null,null,null,null,null,null,null,null,90,95,"A",null,null,null,null,null,null,null,null,null,null,null,null,null,null,null,null,null,null,null,null,null,null,null,null,null,null,null,null,null,null,null,null,null,null,null,null,null,null,null,null,null,null,null,null,null,null,null,null,null,null,null,null,null,null,null,null,null,null,null,null,null,null,null,null,null,null,null,null,null,null,null,null,null,null,null,null,null,null,null,null,null,null,null,null,null,null,null,null,null,null,null,null,null,null,null,null,null,null,null,null,null,null,null,null,null,null,null,null,null,null,null,null,null,null,null,null,null,null,null,null,null,null,null,null,null,null,null,null,null,null,null,null,null,null,null,null,null,null,null,null,null,null,null,null,null,null,null,null,null,null,null,null,null,null,null,null,null,null,null,null,null,null,null,null,null,null,null,null,null,null,null,null,null,null,null,null,null,null,null,null,null,null,null,null,null,null,null,null,null,null,null,null,null,null,null,null,null,null,null,null,null,null,null,null,null,null,null,null,null,null,null,null,null,null,null,null,null,null,null,null,null,null,null,null,null,null,null,null,null,null,null,null,null,null,null,null,null,null,null,null,null,null,null,null,null,null,null,null,null,null,null,null,null,null,null,null,null,null,null,null,null,null,null,null,null,null,null,null,null,null,null,null,null,null,null,null,null,null,null,null,null,null,null,null,null,null,null,null,null,null,null,null,null,null,null,null,null,null,null,null,null,null,null,null,null,null,null,null,null,null,null,null,null,null,null,null,null,null,null,null,null,null,null,null,null,null,null,null,null,null,null,null,null,null,null,null,null,null,null,null,null,null,null,null,null,null,null,null,null,null,null,null,null,null,null,null,null,null,null,null,null,null,null,null,null,null,null,null,null,null,null,null,null,null,null,null,null,null,null,null,null,null,null,null,null,null,null,null,null,null,null,null,null,null,null,null,null,null,null,null,null,null,null,null,null,null,null,null,null,null,null,null,null,null,null,null,null,null,null,null,null,null,null,null,null,null,null,null,null,null,null,null,null,null,null,null,null,null,null,null,null,null,null,null,null,null,null,null,null,null,null,null,null,null,null,null,null,null,null,null,null,null,null,null,null,null,null,null,null,null,null,null,null,null,null,null,null,null,null,null,null,null,null,null,null,null,null,null,null,null,88,85,85,79,81,94,91,85,92,{"$error":"#DIV/0!"},{"$error":"#DIV/0!"},{"$error":"#DIV/0!"},{"$error":"#DIV/0!"},{"$error":"#DIV/0!"},80,{"$error":"#DIV/0!"},{"$error":"#DIV/0!"},90,null,1190,28,85,null,0,0,{"$error":"#DIV/0!"}]
[126,"RAP125",null,"XII TPL 1","DENDI ADI PERDANA",null,null,null,14150409,80,82,"B",88,85,"B",79,79,"B",84,88,"A",83,84,"B",81,78,"A",80,80,"B",80,81,"B",86,87,"B",null,null,null,null,null,null,null,null,null,null,null,null,null,null,null,null,null,null,null,null,null,null,null,null,null,null,null,null,null,null,79,84,"B",79,86,"B",84,87,"A",null,null,null,null,null,null,null,null,null,null,null,null,null,null,null,null,null,null,null,null,null,77,82,"B",null,null,null,null,null,null,null,null,null,null,null,null,null,null,null,null,null,null,null,null,null,null,null,null,null,null,null,null,null,null,null,null,null,null,null,null,null,null,null,null,null,null,null,null,null,null,null,null,null,null,null,null,null,null,null,null,null,null,null,null,null,null,null,null,null,null,null,null,null,null,null,null,null,null,null,null,null,null,null,null,null,null,null,null,null,null,null,null,null,null,null,null,null,null,null,null,null,null,null,null,null,null,null,null,null,null,null,null,null,null,null,null,null,null,null,null,null,null,null,null,null,null,null,null,null,null,null,null,null,null,null,null,null,null,null,null,null,null,null,null,null,null,null,null,null,null,null,null,null,null,null,null,null,null,null,null,null,null,null,null,null,null,null,null,null,null,null,null,null,null,null,null,null,null,null,null,null,null,null,null,null,null,null,null,null,null,null,null,null,null,null,null,null,null,null,null,null,null,null,null,null,null,null,null,null,null,null,null,null,null,null,null,null,null,null,null,null,null,null,null,null,null,null,null,null,null,null,null,null,null,null,null,null,null,null,null,null,null,null,null,null,null,null,null,null,null,null,null,null,null,null,null,null,null,null,null,null,null,null,null,null,null,null,null,null,null,null,null,null,null,null,null,null,null,null,null,null,null,null,null,null,null,null,null,null,null,null,null,null,null,null,null,null,null,null,null,null,null,null,null,null,null,null,null,null,null,null,null,null,null,null,null,null,null,null,null,null,null,null,null,null,null,null,null,null,null,null,null,null,null,null,null,null,null,null,null,null,null,null,null,null,null,null,null,null,null,null,null,null,null,null,null,null,null,null,null,null,null,null,null,null,null,null,null,null,null,null,null,null,null,null,null,null,null,null,null,null,null,null,null,null,null,null,null,null,null,null,null,null,null,null,null,null,null,null,null,null,null,null,null,null,null,null,null,null,null,null,null,null,null,null,null,null,null,null,null,null,null,null,null,null,null,null,null,null,null,null,null,null,null,null,null,null,null,null,null,null,null,null,null,null,null,null,null,null,null,null,null,null,null,null,null,null,null,null,null,null,null,null,null,null,null,null,null,null,null,null,null,null,null,null,null,null,null,null,null,null,null,null,null,null,null,null,null,null,null,null,null,null,null,80,88,79,84,83,81,80,80,86,{"$error":"#DIV/0!"},{"$error":"#DIV/0!"},{"$error":"#DIV/0!"},{"$error":"#DIV/0!"},{"$error":"#DIV/0!"},80.67,{"$error":"#DIV/0!"},{"$error":"#DIV/0!"},77,null,1060,26,81.538461538461533,null,0,0,{"$error":"#DIV/0!"}]
[156,"RAP155",null,"XII TPL 2","ABDUL AZIZ",null,null,null,14150440,81,83,"B",84,84,"B",90,86,"A",87,90,"A",83,84,"B",81,80,"A",83,83,"B",80,81,"B",89,90,"A",null,null,null,null,null,null,null,null,null,null,null,null,null,null,null,null,null,null,null,null,null,null,null,null,null,null,null,null,null,null,82,85,"B",82,87,"B",85,86,"A",null,null,null,null,null,null,null,null,null,null,null,null,null,null,null,null,null,null,null,null,null,88,86,"B",null,null,null,null,null,null,null,null,null,null,null,null,null,null,null,null,null,null,null,null,null,null,null,null,null,null,null,null,null,null,null,null,null,null,null,null,null,null,null,null,null,null,null,null,null,null,null,null,null,null,null,null,null,null,null,null,null,null,null,null,null,null,null,null,null,null,null,null,null,null,null,null,null,null,null,null,null,null,null,null,null,null,null,null,null,null,null,null,null,null,null,null,null,null,null,null,null,null,null,null,null,null,null,null,null,null,null,null,null,null,null,null,null,null,null,null,null,null,null,null,null,null,null,null,null,null,null,null,null,null,null,null,null,null,null,null,null,null,null,null,null,null,null,null,null,null,null,null,null,null,null,null,null,null,null,null,null,null,null,null,null,null,null,null,null,null,null,null,null,null,null,null,null,null,null,null,null,null,null,null,null,null,null,null,null,null,null,null,null,null,null,null,null,null,null,null,null,null,null,null,null,null,null,null,null,null,null,null,null,null,null,null,null,null,null,null,null,null,null,null,null,null,null,null,null,null,null,null,null,null,null,null,null,null,null,null,null,null,null,null,null,null,null,null,null,null,null,null,null,null,null,null,null,null,null,null,null,null,null,null,null,null,null,null,null,null,null,null,null,null,null,null,null,null,null,null,null,null,null,null,null,null,null,null,null,null,null,null,null,null,null,null,null,null,null,null,null,null,null,null,null,null,null,null,null,null,null,null,null,null,null,null,null,null,null,null,null,null,null,null,null,null,null,null,null,null,null,null,null,null,null,null,null,null,null,null,null,null,null,null,null,null,null,null,null,null,null,null,null,null,null,null,null,null,null,null,null,null,null,null,null,null,null,null,null,null,null,null,null,null,null,null,null,null,null,null,null,null,null,null,null,null,null,null,null,null,null,null,null,null,null,null,null,null,null,null,null,null,null,null,null,null,null,null,null,null,null,null,null,null,null,null,null,null,null,null,null,null,null,null,null,null,null,null,null,null,null,null,null,null,null,null,null,null,null,null,null,null,null,null,null,null,null,null,null,null,null,null,null,null,null,null,null,null,null,null,null,null,null,null,null,null,null,null,null,null,null,null,null,null,null,null,null,null,null,null,null,null,null,null,null,null,null,null,null,null,null,null,null,null,81,84,90,87,83,81,83,80,89,{"$error":"#DIV/0!"},{"$error":"#DIV/0!"},{"$error":"#DIV/0!"},{"$error":"#DIV/0!"},{"$error":"#DIV/0!"},83,{"$error":"#DIV/0!"},{"$error":"#DIV/0!"},88,null,1095,26,84.230769230769226,null,0,0,{"$error":"#DIV/0!"}]
[182,"RAP182",null,"XII TPL 2","RIDWAN NUGROHO",null,null,null,14150467,82,83,"B",83,83,"B",83,84,"B",85,85,"B",83,84,"B",81,79,"B",83,82,"B",80,81,"B",86,87,"B",null,null,null,null,null,null,null,null,null,null,null,null,null,null,null,null,null,null,null,null,null,null,null,null,null,null,null,null,null,null,81,81,"B",81,81,"B",86,86,"A",null,null,null,null,null,null,null,null,null,null,null,null,null,null,null,null,null,null,null,null,null,84,79,"B",null,null,null,null,null,null,null,null,null,null,null,null,null,null,null,null,null,null,null,null,null,null,null,null,null,null,null,null,null,null,null,null,null,null,null,null,null,null,null,null,null,null,null,null,null,null,null,null,null,null,null,null,null,null,null,null,null,null,null,null,null,null,null,null,null,null,null,null,null,null,null,null,null,null,null,null,null,null,null,null,null,null,null,null,null,null,null,null,null,null,null,null,null,null,null,null,null,null,null,null,null,null,null,null,null,null,null,null,null,null,null,null,null,null,null,null,null,null,null,null,null,null,null,null,null,null,null,null,null,null,null,null,null,null,null,null,null,null,null,null,null,null,null,null,null,null,null,null,null,null,null,null,null,null,null,null,null,null,null,null,null,null,null,null,null,null,null,null,null,null,null,null,null,null,null,null,null,null,null,null,null,null,null,null,null,null,null,null,null,null,null,null,null,null,null,null,null,null,null,null,null,null,null,null,null,null,null,null,null,null,null,null,null,null,null,null,null,null,null,null,null,null,null,null,null,null,null,null,null,null,null,null,null,null,null,null,null,null,null,null,null,null,null,null,null,null,null,null,null,null,null,null,null,null,null,null,null,null,null,null,null,null,null,null,null,null,null,null,null,null,null,null,null,null,null,null,null,null,null,null,null,null,null,null,null,null,null,null,null,null,null,null,null,null,null,null,null,null,null,null,null,null,null,null,null,null,null,null,null,null,null,null,null,null,null,null,null,null,null,null,null,null,null,null,null,null,null,null,null,null,null,null,null,null,null,null,null,null,null,null,null,null,null,null,null,null,null,null,null,null,null,null,null,null,null,null,null,null,null,null,null,null,null,null,null,null,null,null,null,null,null,null,null,null,null,null,null,null,null,null,null,null,null,null,null,null,null,null,null,null,null,null,null,null,null,null,null,null,null,null,null,null,null,null,null,null,null,null,null,null,null,null,null,null,null,null,null,null,null,null,null,null,null,null,null,null,null,null,null,null,null,null,null,null,null,null,null,null,null,null,null,null,null,null,null,null,null,null,null,null,null,null,null,null,null,null,null,null,null,null,null,null,null,null,null,null,null,null,null,null,null,null,null,null,null,null,null,null,null,null,null,null,null,null,null,null,null,null,null,null,82,83,83,85,83,81,83,80,86,{"$error":"#DIV/0!"},{"$error":"#DIV/0!"},{"$error":"#DIV/0!"},{"$error":"#DIV/0!"},{"$error":"#DIV/0!"},82.67,{"$error":"#DIV/0!"},{"$error":"#DIV/0!"},84,null,1078,26,82.92307692307692,null,0,0,{"$error":"#DIV/0!"}]
[253,"RAP253",null,null,null,null,null,null,null,null,null,null,null,null,null,null,null,null,null,null,null,null,null,null,null,null,null,null,null,null,null,null,null,null,null,null,null,null,null,null,null,null,null,null,null,null,null,null,null,null,null,null,null,null,null,null,null,null,null,null,null,null,null,null,null,null,null,null,null,null,null,null,null,null,null,null,null,null,null,null,null,null,null,null,null,null,null,null,null,null,null,null,null,null,null,null,null,null,null,null,null,null,null,null,null,null,null,null,null,null,null,null,null,null,null,null,null,null,null,null,null,null,null,null,null,null,null,null,null,null,null,null,null,null,null,null,null,null,null,null,null,null,null,null,null,null,null,null,null,null,null,null,null,null,null,null,null,null,null,null,null,null,null,null,null,null,null,null,null,null,null,null,null,null,null,null,null,null,null,null,null,null,null,null,null,null,null,null,null,null,null,null,null,null,null,null,null,null,null,null,null,null,null,null,null,null,null,null,null,null,null,null,null,null,null,null,null,null,null,null,null,null,null,null,null,null,null,null,null,null,null,null,null,null,null,null,null,null,null,null,null,null,null,null,null,null,null,null,null,null,null,null,null,null,null,null,null,null,null,null,null,null,null,null,null,null,null,null,null,null,null,null,null,null,null,null,null,null,null,null,null,null,null,null,null,null,null,null,null,null,null,null,null,null,null,null,null,null,null,null,null,null,null,null,null,null,null,null,null,null,null,null,null,null,null,null,null,null,null,null,null,null,null,null,null,null,null,null,null,null,null,null,null,null,null,null,null,null,null,null,null,null,null,null,null,null,null,null,null,null,null,null,null,null,null,null,null,null,null,null,null,null,null,null,null,null,null,null,null,null,null,null,null,null,null,null,null,null,null,null,null,null,null,null,null,null,null,null,null,null,null,null,null,null,null,null,null,null,null,null,null,null,null,null,null,null,null,null,null,null,null,null,null,null,null,null,null,null,null,null,null,null,null,null,null,null,null,null,null,null,null,null,null,null,null,null,null,null,null,null,null,null,null,null,null,null,null,null,null,null,null,null,null,null,null,null,null,null,null,null,null,null,null,null,null,null,null,null,null,null,null,null,null,null,null,null,null,null,null,null,null,null,null,null,null,null,null,null,null,null,null,null,null,null,null,null,null,null,null,null,null,null,null,null,null,null,null,null,null,null,null,null,null,null,null,null,null,null,null,null,null,null,null,null,null,null,null,null,null,null,null,null,null,null,null,null,null,null,null,null,null,null,null,null,null,null,null,null,null,null,null,null,null,null,null,null,null,null,null,null,null,null,null,null,null,null,null,null,null,null,null,null,null,null,null,null,null,null,null,null,null,null,null,null,null,null,null,null,null,{"$error":"#DIV/0!"},{"$error":"#DIV/0!"},{"$error":"#DIV/0!"},{"$error":"#DIV/0!"},{"$error":"#DIV/0!"},{"$error":"#DIV/0!"},{"$error":"#DIV/0!"},{"$error":"#DIV/0!"},{"$error":"#DIV/0!"},{"$error":"#DIV/0!"},{"$error":"#DIV/0!"},{"$error":"#DIV/0!"},{"$error":"#DIV/0!"},{"$error":"#DIV/0!"},{"$error":"#DIV/0!"},{"$error":"#DIV/0!"},{"$error":"#DIV/0!"},{"$error":"#DIV/0!"},null,0,0,{"$error":"#DIV/0!"},null,0,0,{"$error":"#DIV/0!"}]
[283,"RAP283",null,null,null,null,null,null,null,null,null,null,null,null,null,null,null,null,null,null,null,null,null,null,null,null,null,null,null,null,null,null,null,null,null,null,null,null,null,null,null,null,null,null,null,null,null,null,null,null,null,null,null,null,null,null,null,null,null,null,null,null,null,null,null,null,null,null,null,null,null,null,null,null,null,null,null,null,null,null,null,null,null,null,null,null,null,null,null,null,null,null,null,null,null,null,null,null,null,null,null,null,null,null,null,null,null,null,null,null,null,null,null,null,null,null,null,null,null,null,null,null,null,null,null,null,null,null,null,null,null,null,null,null,null,null,null,null,null,null,null,null,null,null,null,null,null,null,null,null,null,null,null,null,null,null,null,null,null,null,null,null,null,null,null,null,null,null,null,null,null,null,null,null,null,null,null,null,null,null,null,null,null,null,null,null,null,null,null,null,null,null,null,null,null,null,null,null,null,null,null,null,null,null,null,null,null,null,null,null,null,null,null,null,null,null,null,null,null,null,null,null,null,null,null,null,null,null,null,null,null,null,null,null,null,null,null,null,null,null,null,null,null,null,null,null,null,null,null,null,null,null,null,null,null,null,null,null,null,null,null,null,null,null,null,null,null,null,null,null,null,null,null,null,null,null,null,null,null,null,null,null,null,null,null,null,null,null,null,null,null,null,null,null,null,null,null,null,null,null,null,null,null,null,null,null,null,null,null,null,null,null,null,null,null,null,null,null,null,null,null,null,null,null,null,null,null,null,null,null,null,null,null,null,null,null,null,null,null,null,null,null,null,null,null,null,null,null,null,null,null,null,null,null,null,null,null,null,null,null,null,null,null,null,null,null,null,null,null,null,null,null,null,null,null,null,null,null,null,null,null,null,null,null,null,null,null,null,null,null,null,null,null,null,null,null,null,null,null,null,null,null,null,null,null,null,null,null,null,null,null,null,null,null,null,null,null,null,null,null,null,null,null,null,null,null,null,null,null,null,null,null,null,null,null,null,null,null,null,null,null,null,null,null,null,null,null,null,null,null,null,null,null,null,null,null,null,null,null,null,null,null,null,null,null,null,null,null,null,null,null,null,null,null,null,null,null,null,null,null,null,null,null,null,null,null,null,null,null,null,null,null,null,null,null,null,null,null,null,null,null,null,null,null,null,null,null,null,null,null,null,null,null,null,null,null,null,null,null,null,null,null,null,null,null,null,null,null,null,null,null,null,null,null,null,null,null,null,null,null,null,null,null,null,null,null,null,null,null,null,null,null,null,null,null,null,null,null,null,null,null,null,null,null,null,null,null,null,null,null,null,null,null,null,null,null,null,null,null,null,null,null,null,null,null,null,null,null,null,{"$error":"#DIV/0!"},{"$error":"#DIV/0!"},{"$error":"#DIV/0!"},{"$error":"#DIV/0!"},{"$error":"#DIV/0!"},{"$error":"#DIV/0!"},{"$error":"#DIV/0!"},{"$error":"#DIV/0!"},{"$error":"#DIV/0!"},{"$error":"#DIV/0!"},{"$error":"#DIV/0!"},{"$error":"#DIV/0!"},{"$error":"#DIV/0!"},{"$error":"#DIV/0!"},{"$error":"#DIV/0!"},{"$error":"#DIV/0!"},{"$error":"#DIV/0!"},{"$error":"#DIV/0!"},null,0,0,{"$error":"#DIV/0!"},null,0,0,{"$error":"#DIV/0!"}]
[324,"RAP324",null,null,null,null,null,null,null,null,null,null,null,null,null,null,null,null,null,null,null,null,null,null,null,null,null,null,null,null,null,null,null,null,null,null,null,null,null,null,null,null,null,null,null,null,null,null,null,null,null,null,null,null,null,null,null,null,null,null,null,null,null,null,null,null,null,null,null,null,null,null,null,null,null,null,null,null,null,null,null,null,null,null,null,null,null,null,null,null,null,null,null,null,null,null,null,null,null,null,null,null,null,null,null,null,null,null,null,null,null,null,null,null,null,null,null,null,null,null,null,null,null,null,null,null,null,null,null,null,null,null,null,null,null,null,null,null,null,null,null,null,null,null,null,null,null,null,null,null,null,null,null,null,null,null,null,null,null,null,null,null,null,null,null,null,null,null,null,null,null,null,null,null,null,null,null,null,null,null,null,null,null,null,null,null,null,null,null,null,null,null,null,null,null,null,null,null,null,null,null,null,null,null,null,null,null,null,null,null,null,null,null,null,null,null,null,null,null,null,null,null,null,null,null,null,null,null,null,null,null,null,null,null,null,null,null,null,null,null,null,null,null,null,null,null,null,null,null,null,null,null,null,null,null,null,null,null,null,null,null,null,null,null,null,null,null,null,null,null,null,null,null,null,null,null,null,null,null,null,null,null,null,null,null,null,null,null,null,null,null,null,null,null,null,null,null,null,null,null,null,null,null,null,null,null,null,null,null,null,null,null,null,null,null,null,null,null,null,null,null,null,null,null,null,null,null,null,null,null,null,null,null,null,null,null,null,null,null,null,null,null,null,null,null,null,null,null,null,null,null,null,null,null,null,null,null,null,null,null,null,null,null,null,null,null,null,null,null,null,null,null,null,null,null,null,null,null,null,null,null,null,null,null,null,null,null,null,null,null,null,null,null,null,null,null,null,null,null,null,null,null,null,null,null,null,null,null,null,null,null,null,null,null,null,null,null,null,null,null,null,null,null,null,null,null,null,null,null,null,null,null,null,null,null,null,null,null,null,null,null,null,null,null,null,null,null,null,null,null,null,null,null,null,null,null,null,null,null,null,null,null,null,null,null,null,null,null,null,null,null,null,null,null,null,null,null,null,null,null,null,null,null,null,null,null,null,null,null,null,null,null,null,null,null,null,null,null,null,null,null,null,null,null,null,null,null,null,null,null,null,null,null,null,null,null,null,null,null,null,null,null,null,null,null,null,null,null,null,null,null,null,null,null,null,null,null,null,null,null,null,null,null,null,null,null,null,null,null,null,null,null,null,null,null,null,null,null,null,null,null,null,null,null,null,null,null,null,null,null,null,null,null,null,null,null,null,null,null,null,null,null,null,null,null,null,null,null,null,{"$error":"#DIV/0!"},{"$error":"#DIV/0!"},{"$error":"#DIV/0!"},{"$error":"#DIV/0!"},{"$error":"#DIV/0!"},{"$error":"#DIV/0!"},{"$error":"#DIV/0!"},{"$error":"#DIV/0!"},{"$error":"#DIV/0!"},{"$error":"#DIV/0!"},{"$error":"#DIV/0!"},{"$error":"#DIV/0!"},{"$error":"#DIV/0!"},{"$error":"#DIV/0!"},{"$error":"#DIV/0!"},{"$error":"#DIV/0!"},{"$error":"#DIV/0!"},{"$error":"#DIV/0!"},null,0,0,{"$error":"#DIV/0!"},null,0,0,{"$error":"#DIV/0!"}]
[379,"RAP379",null,null,null,null,null,null,null,null,null,null,null,null,null,null,null,null,null,null,null,null,null,null,null,null,null,null,null,null,null,null,null,null,null,null,null,null,null,null,null,null,null,null,null,null,null,null,null,null,null,null,null,null,null,null,null,null,null,null,null,null,null,null,null,null,null,null,null,null,null,null,null,null,null,null,null,null,null,null,null,null,null,null,null,null,null,null,null,null,null,null,null,null,null,null,null,null,null,null,null,null,null,null,null,null,null,null,null,null,null,null,null,null,null,null,null,null,null,null,null,null,null,null,null,null,null,null,null,null,null,null,null,null,null,null,null,null,null,null,null,null,null,null,null,null,null,null,null,null,null,null,null,null,null,null,null,null,null,null,null,null,null,null,null,null,null,null,null,null,null,null,null,null,null,null,null,null,null,null,null,null,null,null,null,null,null,null,null,null,null,null,null,null,null,null,null,null,null,null,null,null,null,null,null,null,null,null,null,null,null,null,null,null,null,null,null,null,null,null,null,null,null,null,null,null,null,null,null,null,null,null,null,null,null,null,null,null,null,null,null,null,null,null,null,null,null,null,null,null,null,null,null,null,null,null,null,null,null,null,null,null,null,null,null,null,null,null,null,null,null,null,null,null,null,null,null,null,null,null,null,null,null,null,null,null,null,null,null,null,null,null,null,null,null,null,null,null,null,null,null,null,null,null,null,null,null,null,null,null,null,null,null,null,null,null,null,null,null,null,null,null,null,null,null,null,null,null,null,null,null,null,null,null,null,null,null,null,null,null,null,null,null,null,null,null,null,null,null,null,null,null,null,null,null,null,null,null,null,null,null,null,null,null,null,null,null,null,null,null,null,null,null,null,null,null,null,null,null,null,null,null,null,null,null,null,null,null,null,null,null,null,null,null,null,null,null,null,null,null,null,null,null,null,null,null,null,null,null,null,null,null,null,null,null,null,null,null,null,null,null,null,null,null,null,null,null,null,null,null,null,null,null,null,null,null,null,null,null,null,null,null,null,null,null,null,null,null,null,null,null,null,null,null,null,null,null,null,null,null,null,null,null,null,null,null,null,null,null,null,null,null,null,null,null,null,null,null,null,null,null,null,null,null,null,null,null,null,null,null,null,null,null,null,null,null,null,null,null,null,null,null,null,null,null,null,null,null,null,null,null,null,null,null,null,null,null,null,null,null,null,null,null,null,null,null,null,null,null,null,null,null,null,null,null,null,null,null,null,null,null,null,null,null,null,null,null,null,null,null,null,null,null,null,null,null,null,null,null,null,null,null,null,null,null,null,null,null,null,null,null,null,null,null,null,null,null,null,null,null,null,null,null,null,null,null,null,null,null,{"$error":"#DIV/0!"},{"$error":"#DIV/0!"},{"$error":"#DIV/0!"},{"$error":"#DIV/0!"},{"$error":"#DIV/0!"},{"$error":"#DIV/0!"},{"$error":"#DIV/0!"},{"$error":"#DIV/0!"},{"$error":"#DIV/0!"},{"$error":"#DIV/0!"},{"$error":"#DIV/0!"},{"$error":"#DIV/0!"},{"$error":"#DIV/0!"},{"$error":"#DIV/0!"},{"$error":"#DIV/0!"},{"$error":"#DIV/0!"},{"$error":"#DIV/0!"},{"$error":"#DIV/0!"},null,0,0,{"$error":"#DIV/0!"},null,0,0,{"$error":"#DIV/0!"}]
[405,"RAP408",null,null,null,null,null,null,null,null,null,null,null,null,null,null,null,null,null,null,null,null,null,null,null,null,null,null,null,null,null,null,null,null,null,null,null,null,null,null,null,null,null,null,null,null,null,null,null,null,null,null,null,null,null,null,null,null,null,null,null,null,null,null,null,null,null,null,null,null,null,null,null,null,null,null,null,null,null,null,null,null,null,null,null,null,null,null,null,null,null,null,null,null,null,null,null,null,null,null,null,null,null,null,null,null,null,null,null,null,null,null,null,null,null,null,null,null,null,null,null,null,null,null,null,null,null,null,null,null,null,null,null,null,null,null,null,null,null,null,null,null,null,null,null,null,null,null,null,null,null,null,null,null,null,null,null,null,null,null,null,null,null,null,null,null,null,null,null,null,null,null,null,null,null,null,null,null,null,null,null,null,null,null,null,null,null,null,null,null,null,null,null,null,null,null,null,null,null,null,null,null,null,null,null,null,null,null,null,null,null,null,null,null,null,null,null,null,null,null,null,null,null,null,null,null,null,null,null,null,null,null,null,null,null,null,null,null,null,null,null,null,null,null,null,null,null,null,null,null,null,null,null,null,null,null,null,null,null,null,null,null,null,null,null,null,null,null,null,null,null,null,null,null,null,null,null,null,null,null,null,null,null,null,null,null,null,null,null,null,null,null,null,null,null,null,null,null,null,null,null,null,null,null,null,null,null,null,null,null,null,null,null,null,null,null,null,null,null,null,null,null,null,null,null,null,null,null,null,null,null,null,null,null,null,null,null,null,null,null,null,null,null,null,null,null,null,null,null,null,null,null,null,null,null,null,null,null,null,null,null,null,null,null,null,null,null,null,null,null,null,null,null,null,null,null,null,null,null,null,null,null,null,null,null,null,null,null,null,null,null,null,null,null,null,null,null,null,null,null,null,null,null,null,null,null,null,null,null,null,null,null,null,null,null,null,null,null,null,null,null,null,null,null,null,null,null,null,null,null,null,null,null,null,null,null,null,null,null,null,null,null,null,null,null,null,null,null,null,null,null,null,null,null,null,null,null,null,null,null,null,null,null,null,null,null,null,null,null,null,null,null,null,null,null,null,null,null,null,null,null,null,null,null,null,null,null,null,null,null,null,null,null,null,null,null,null,null,null,null,null,null,null,null,null,null,null,null,null,null,null,null,null,null,null,null,null,null,null,null,null,null,null,null,null,null,null,null,null,null,null,null,null,null,null,null,null,null,null,null,null,null,null,null,null,null,null,null,null,null,null,null,null,null,null,null,null,null,null,null,null,null,null,null,null,null,null,null,null,null,null,null,null,null,null,null,null,null,null,null,null,null,null,null,null,null,null,null,null,{"$error":"#DIV/0!"},{"$error":"#DIV/0!"},{"$error":"#DIV/0!"},{"$error":"#DIV/0!"},{"$error":"#DIV/0!"},{"$error":"#DIV/0!"},{"$error":"#DIV/0!"},{"$error":"#DIV/0!"},{"$error":"#DIV/0!"},{"$error":"#DIV/0!"},{"$error":"#DIV/0!"},{"$error":"#DIV/0!"},{"$error":"#DIV/0!"},{"$error":"#DIV/0!"},{"$error":"#DIV/0!"},{"$error":"#DIV/0!"},{"$error":"#DIV/0!"},{"$error":"#DIV/0!"},null,0,0,{"$error":"#DIV/0!"},null,0,0,{"$error":"#DIV/0!"}]
[435,"RAP435",null,null,null,null,null,null,null,null,null,null,null,null,null,null,null,null,null,null,null,null,null,null,null,null,null,null,null,null,null,null,null,null,null,null,null,null,null,null,null,null,null,null,null,null,null,null,null,null,null,null,null,null,null,null,null,null,null,null,null,null,null,null,null,null,null,null,null,null,null,null,null,null,null,null,null,null,null,null,null,null,null,null,null,null,null,null,null,null,null,null,null,null,null,null,null,null,null,null,null,null,null,null,null,null,null,null,null,null,null,null,null,null,null,null,null,null,null,null,null,null,null,null,null,null,null,null,null,null,null,null,null,null,null,null,null,null,null,null,null,null,null,null,null,null,null,null,null,null,null,null,null,null,null,null,null,null,null,null,null,null,null,null,null,null,null,null,null,null,null,null,null,null,null,null,null,null,null,null,null,null,null,null,null,null,null,null,null,null,null,null,null,null,null,null,null,null,null,null,null,null,null,null,null,null,null,null,null,null,null,null,null,null,null,null,null,null,null,null,null,null,null,null,null,null,null,null,null,null,null,null,null,null,null,null,null,null,null,null,null,null,null,null,null,null,null,null,null,null,null,null,null,null,null,null,null,null,null,null,null,null,null,null,null,null,null,null,null,null,null,null,null,null,null,null,null,null,null,null,null,null,null,null,null,null,null,null,null,null,null,null,null,null,null,null,null,null,null,null,null,null,null,null,null,null,null,null,null,null,null,null,null,null,null,null,null,null,null,null,null,null,null,null,null,null,null,null,null,null,null,null,null,null,null,null,null,null,null,null,null,null,null,null,null,null,null,null,null,null,null,null,null,null,null,null,null,null,null,null,null,null,null,null,null,null,null,null,null,null,null,null,null,null,null,null,null,null,null,null,null,null,null,null,null,null,null,null,null,null,null,null,null,null,null,null,null,null,null,null,null,null,null,null,null,null,null,null,null,null,null,null,null,null,null,null,null,null,null,null,null,null,null,null,null,null,null,null,null,null,null,null,null,null,null,null,null,null,null,null,null,null,null,null,null,null,null,null,null,null,null,null,null,null,null,null,null,null,null,null,null,null,null,null,null,null,null,null,null,null,null,null,null,null,null,null,null,null,null,null,null,null,null,null,null,null,null,null,null,null,null,null,null,null,null,null,null,null,null,null,null,null,null,null,null,null,null,null,null,null,null,null,null,null,null,null,null,null,null,null,null,null,null,null,null,null,null,null,null,null,null,null,null,null,null,null,null,null,null,null,null,null,null,null,null,null,null,null,null,null,null,null,null,null,null,null,null,null,null,null,null,null,null,null,null,null,null,null,null,null,null,null,null,null,null,null,null,null,null,null,null,null,null,null,null,null,null,null,null,{"$error":"#DIV/0!"},{"$error":"#DIV/0!"},{"$error":"#DIV/0!"},{"$error":"#DIV/0!"},{"$error":"#DIV/0!"},{"$error":"#DIV/0!"},{"$error":"#DIV/0!"},{"$error":"#DIV/0!"},{"$error":"#DIV/0!"},{"$error":"#DIV/0!"},{"$error":"#DIV/0!"},{"$error":"#DIV/0!"},{"$error":"#DIV/0!"},{"$error":"#DIV/0!"},{"$error":"#DIV/0!"},{"$error":"#DIV/0!"},{"$error":"#DIV/0!"},{"$error":"#DIV/0!"},null,0,0,{"$error":"#DIV/0!"},null,0,0,{"$error":"#DIV/0!"}]
[465,"RAP465",null,null,null,null,null,null,null,null,null,null,null,null,null,null,null,null,null,null,null,null,null,null,null,null,null,null,null,null,null,null,null,null,null,null,null,null,null,null,null,null,null,null,null,null,null,null,null,null,null,null,null,null,null,null,null,null,null,null,null,null,null,null,null,null,null,null,null,null,null,null,null,null,null,null,null,null,null,null,null,null,null,null,null,null,null,null,null,null,null,null,null,null,null,null,null,null,null,null,null,null,null,null,null,null,null,null,null,null,null,null,null,null,null,null,null,null,null,null,null,null,null,null,null,null,null,null,null,null,null,null,null,null,null,null,null,null,null,null,null,null,null,null,null,null,null,null,null,null,null,null,null,null,null,null,null,null,null,null,null,null,null,null,null,null,null,null,null,null,null,null,null,null,null,null,null,null,null,null,null,null,null,null,null,null,null,null,null,null,null,null,null,null,null,null,null,null,null,null,null,null,null,null,null,null,null,null,null,null,null,null,null,null,null,null,null,null,null,null,null,null,null,null,null,null,null,null,null,null,null,null,null,null,null,null,null,null,null,null,null,null,null,null,null,null,null,null,null,null,null,null,null,null,null,null,null,null,null,null,null,null,null,null,null,null,null,null,null,null,null,null,null,null,null,null,null,null,null,null,null,null,null,null,null,null,null,null,null,null,null,null,null,null,null,null,null,null,null,null,null,null,null,null,null,null,null,null,null,null,null,null,null,null,null,null,null,null,null,null,null,null,null,null,null,null,null,null,null,null,null,null,null,null,null,null,null,null,null,null,null,null,null,null,null,null,null,null,null,null,null,null,null,null,null,null,null,null,null,null,null,null,null,null,null,null,null,null,null,null,null,null,null,null,null,null,null,null,null,null,null,null,null,null,null,null,null,null,null,null,null,null,null,null,null,null,null,null,null,null,null,null,null,null,null,null,null,null,null,null,null,null,null,null,null,null,null,null,null,null,null,null,null,null,null,null,null,null,null,null,null,null,null,null,null,null,null,null,null,null,null,null,null,null,null,null,null,null,null,null,null,null,null,null,null,null,null,null,null,null,null,null,null,null,null,null,null,null,null,null,null,null,null,null,null,null,null,null,null,null,null,null,null,null,null,null,null,null,null,null,null,null,null,null,null,null,null,null,null,null,null,null,null,null,null,null,null,null,null,null,null,null,null,null,null,null,null,null,null,null,null,null,null,null,null,null,null,null,null,null,null,null,null,null,null,null,null,null,null,null,null,null,null,null,null,null,null,null,null,null,null,null,null,null,null,null,null,null,null,null,null,null,null,null,null,null,null,null,null,null,null,null,null,null,null,null,null,null,null,null,null,null,null,null,null,null,null,null,null,{"$error":"#DIV/0!"},{"$error":"#DIV/0!"},{"$error":"#DIV/0!"},{"$error":"#DIV/0!"},{"$error":"#DIV/0!"},{"$error":"#DIV/0!"},{"$error":"#DIV/0!"},{"$error":"#DIV/0!"},{"$error":"#DIV/0!"},{"$error":"#DIV/0!"},{"$error":"#DIV/0!"},{"$error":"#DIV/0!"},{"$error":"#DIV/0!"},{"$error":"#DIV/0!"},{"$error":"#DIV/0!"},{"$error":"#DIV/0!"},{"$error":"#DIV/0!"},{"$error":"#DIV/0!"},null,0,0,{"$error":"#DIV/0!"},null,0,0,{"$error":"#DIV/0!"}]
[532,"RAP531",null,null,null,null,null,null,null,null,null,null,null,null,null,null,null,null,null,null,null,null,null,null,null,null,null,null,null,null,null,null,null,null,null,null,null,null,null,null,null,null,null,null,null,null,null,null,null,null,null,null,null,null,null,null,null,null,null,null,null,null,null,null,null,null,null,null,null,null,null,null,null,null,null,null,null,null,null,null,null,null,null,null,null,null,null,null,null,null,null,null,null,null,null,null,null,null,null,null,null,null,null,null,null,null,null,null,null,null,null,null,null,null,null,null,null,null,null,null,null,null,null,null,null,null,null,null,null,null,null,null,null,null,null,null,null,null,null,null,null,null,null,null,null,null,null,null,null,null,null,null,null,null,null,null,null,null,null,null,null,null,null,null,null,null,null,null,null,null,null,null,null,null,null,null,null,null,null,null,null,null,null,null,null,null,null,null,null,null,null,null,null,null,null,null,null,null,null,null,null,null,null,null,null,null,null,null,null,null,null,null,null,null,null,null,null,null,null,null,null,null,null,null,null,null,null,null,null,null,null,null,null,null,null,null,null,null,null,null,null,null,null,null,null,null,null,null,null,null,null,null,null,null,null,null,null,null,null,null,null,null,null,null,null,null,null,null,null,null,null,null,null,null,null,null,null,null,null,null,null,null,null,null,null,null,null,null,null,null,null,null,null,null,null,null,null,null,null,null,null,null,null,null,null,null,null,null,null,null,null,null,null,null,null,null,null,null,null,null,null,null,null,null,null,null,null,null,null,null,null,null,null,null,null,null,null,null,null,null,null,null,null,null,null,null,null,null,null,null,null,null,null,null,null,null,null,null,null,null,null,null,null,null,null,null,null,null,null,null,null,null,null,null,null,null,null,null,null,null,null,null,null,null,null,null,null,null,null,null,null,null,null,null,null,null,null,null,null,null,null,null,null,null,null,null,null,null,null,null,null,null,null,null,null,null,null,null,null,null,null,null,null,null,null,null,null,null,null,null,null,null,null,null,null,null,null,null,null,null,null,null,null,null,null,null,null,null,null,null,null,null,null,null,null,null,null,null,null,null,null,null,null,null,null,null,null,null,null,null,null,null,null,null,null,null,null,null,null,null,null,null,null,null,null,null,null,null,null,null,null,null,null,null,null,null,null,null,null,null,null,null,null,null,null,null,null,null,null,null,null,null,null,null,null,null,null,null,null,null,null,null,null,null,null,null,null,null,null,null,null,null,null,null,null,null,null,null,null,null,null,null,null,null,null,null,null,null,null,null,null,null,null,null,null,null,null,null,null,null,null,null,null,null,null,null,null,null,null,null,null,null,null,null,null,null,null,null,null,null,null,null,null,null,null,null,null,null,null,{"$error":"#DIV/0!"},{"$error":"#DIV/0!"},{"$error":"#DIV/0!"},{"$error":"#DIV/0!"},{"$error":"#DIV/0!"},{"$error":"#DIV/0!"},{"$error":"#DIV/0!"},{"$error":"#DIV/0!"},{"$error":"#DIV/0!"},{"$error":"#DIV/0!"},{"$error":"#DIV/0!"},{"$error":"#DIV/0!"},{"$error":"#DIV/0!"},{"$error":"#DIV/0!"},{"$error":"#DIV/0!"},{"$error":"#DIV/0!"},{"$error":"#DIV/0!"},{"$error":"#DIV/0!"},null,0,0,{"$error":"#DIV/0!"},null,0,0,{"$error":"#DIV/0!"}]
[562,"RAP561",null,null,null,null,null,null,null,null,null,null,null,null,null,null,null,null,null,null,null,null,null,null,null,null,null,null,null,null,null,null,null,null,null,null,null,null,null,null,null,null,null,null,null,null,null,null,null,null,null,null,null,null,null,null,null,null,null,null,null,null,null,null,null,null,null,null,null,null,null,null,null,null,null,null,null,null,null,null,null,null,null,null,null,null,null,null,null,null,null,null,null,null,null,null,null,null,null,null,null,null,null,null,null,null,null,null,null,null,null,null,null,null,null,null,null,null,null,null,null,null,null,null,null,null,null,null,null,null,null,null,null,null,null,null,null,null,null,null,null,null,null,null,null,null,null,null,null,null,null,null,null,null,null,null,null,null,null,null,null,null,null,null,null,null,null,null,null,null,null,null,null,null,null,null,null,null,null,null,null,null,null,null,null,null,null,null,null,null,null,null,null,null,null,null,null,null,null,null,null,null,null,null,null,null,null,null,null,null,null,null,null,null,null,null,null,null,null,null,null,null,null,null,null,null,null,null,null,null,null,null,null,null,null,null,null,null,null,null,null,null,null,null,null,null,null,null,null,null,null,null,null,null,null,null,null,null,null,null,null,null,null,null,null,null,null,null,null,null,null,null,null,null,null,null,null,null,null,null,null,null,null,null,null,null,null,null,null,null,null,null,null,null,null,null,null,null,null,null,null,null,null,null,null,null,null,null,null,null,null,null,null,null,null,null,null,null,null,null,null,null,null,null,null,null,null,null,null,null,null,null,null,null,null,null,null,null,null,null,null,null,null,null,null,null,null,null,null,null,null,null,null,null,null,null,null,null,null,null,null,null,null,null,null,null,null,null,null,null,null,null,null,null,null,null,null,null,null,null,null,null,null,null,null,null,null,null,null,null,null,null,null,null,null,null,null,null,null,null,null,null,null,null,null,null,null,null,null,null,null,null,null,null,null,null,null,null,null,null,null,null,null,null,null,null,null,null,null,null,null,null,null,null,null,null,null,null,null,null,null,null,null,null,null,null,null,null,null,null,null,null,null,null,null,null,null,null,null,null,null,null,null,null,null,null,null,null,null,null,null,null,null,null,null,null,null,null,null,null,null,null,null,null,null,null,null,null,null,null,null,null,null,null,null,null,null,null,null,null,null,null,null,null,null,null,null,null,null,null,null,null,null,null,null,null,null,null,null,null,null,null,null,null,null,null,null,null,null,null,null,null,null,null,null,null,null,null,null,null,null,null,null,null,null,null,null,null,null,null,null,null,null,null,null,null,null,null,null,null,null,null,null,null,null,null,null,null,null,null,null,null,null,null,null,null,null,null,null,null,null,null,null,null,null,null,null,null,null,{"$error":"#DIV/0!"},{"$error":"#DIV/0!"},{"$error":"#DIV/0!"},{"$error":"#DIV/0!"},{"$error":"#DIV/0!"},{"$error":"#DIV/0!"},{"$error":"#DIV/0!"},{"$error":"#DIV/0!"},{"$error":"#DIV/0!"},{"$error":"#DIV/0!"},{"$error":"#DIV/0!"},{"$error":"#DIV/0!"},{"$error":"#DIV/0!"},{"$error":"#DIV/0!"},{"$error":"#DIV/0!"},{"$error":"#DIV/0!"},{"$error":"#DIV/0!"},{"$error":"#DIV/0!"},null,0,0,{"$error":"#DIV/0!"},null,0,0,{"$error":"#DIV/0!"}]
[617,"RAP617",null,null,null,null,null,null,null,null,null,null,null,null,null,null,null,null,null,null,null,null,null,null,null,null,null,null,null,null,null,null,null,null,null,null,null,null,null,null,null,null,null,null,null,null,null,null,null,null,null,null,null,null,null,null,null,null,null,null,null,null,null,null,null,null,null,null,null,null,null,null,null,null,null,null,null,null,null,null,null,null,null,null,null,null,null,null,null,null,null,null,null,null,null,null,null,null,null,null,null,null,null,null,null,null,null,null,null,null,null,null,null,null,null,null,null,null,null,null,null,null,null,null,null,null,null,null,null,null,null,null,null,null,null,null,null,null,null,null,null,null,null,null,null,null,null,null,null,null,null,null,null,null,null,null,null,null,null,null,null,null,null,null,null,null,null,null,null,null,null,null,null,null,null,null,null,null,null,null,null,null,null,null,null,null,null,null,null,null,null,null,null,null,null,null,null,null,null,null,null,null,null,null,null,null,null,null,null,null,null,null,null,null,null,null,null,null,null,null,null,null,null,null,null,null,null,null,null,null,null,null,null,null,null,null,null,null,null,null,null,null,null,null,null,null,null,null,null,null,null,null,null,null,null,null,null,null,null,null,null,null,null,null,null,null,null,null,null,null,null,null,null,null,null,null,null,null,null,null,null,null,null,null,null,null,null,null,null,null,null,null,null,null,null,null,null,null,null,null,null,null,null,null,null,null,null,null,null,null,null,null,null,null,null,null,null,null,null,null,null,null,null,null,null,null,null,null,null,null,null,null,null,null,null,null,null,null,null,null,null,null,null,null,null,null,null,null,null,null,null,null,null,null,null,null,null,null,null,null,null,null,null,null,null,null,null,null,null,null,null,null,null,null,null,null,null,null,null,null,null,null,null,null,null,null,null,null,null,null,null,null,null,null,null,null,null,null,null,null,null,null,null,null,null,null,null,null,null,null,null,null,null,null,null,null,null,null,null,null,null,null,null,null,null,null,null,null,null,null,null,null,null,null,null,null,null,null,null,null,null,null,null,null,null,null,null,null,null,null,null,null,null,null,null,null,null,null,null,null,null,null,null,null,null,null,null,null,null,null,null,null,null,null,null,null,null,null,null,null,null,null,null,null,null,null,null,null,null,null,null,null,null,null,null,null,null,null,null,null,null,null,null,null,null,null,null,null,null,null,null,null,null,null,null,null,null,null,null,null,null,null,null,null,null,null,null,null,null,null,null,null,null,null,null,null,null,null,null,null,null,null,null,null,null,null,null,null,null,null,null,null,null,null,null,null,null,null,null,null,null,null,null,null,null,null,null,null,null,null,null,null,null,null,null,null,null,null,null,null,null,null,null,null,null,null,null,null,null,{"$error":"#DIV/0!"},{"$error":"#DIV/0!"},{"$error":"#DIV/0!"},{"$error":"#DIV/0!"},{"$error":"#DIV/0!"},{"$error":"#DIV/0!"},{"$error":"#DIV/0!"},{"$error":"#DIV/0!"},{"$error":"#DIV/0!"},{"$error":"#DIV/0!"},{"$error":"#DIV/0!"},{"$error":"#DIV/0!"},{"$error":"#DIV/0!"},{"$error":"#DIV/0!"},{"$error":"#DIV/0!"},{"$error":"#DIV/0!"},{"$error":"#DIV/0!"},{"$error":"#DIV/0!"},null,0,0,{"$error":"#DIV/0!"},null,0,0,{"$error":"#DIV/0!"}]
[658,"RAP658",null,null,null,null,null,null,null,null,null,null,null,null,null,null,null,null,null,null,null,null,null,null,null,null,null,null,null,null,null,null,null,null,null,null,null,null,null,null,null,null,null,null,null,null,null,null,null,null,null,null,null,null,null,null,null,null,null,null,null,null,null,null,null,null,null,null,null,null,null,null,null,null,null,null,null,null,null,null,null,null,null,null,null,null,null,null,null,null,null,null,null,null,null,null,null,null,null,null,null,null,null,null,null,null,null,null,null,null,null,null,null,null,null,null,null,null,null,null,null,null,null,null,null,null,null,null,null,null,null,null,null,null,null,null,null,null,null,null,null,null,null,null,null,null,null,null,null,null,null,null,null,null,null,null,null,null,null,null,null,null,null,null,null,null,null,null,null,null,null,null,null,null,null,null,null,null,null,null,null,null,null,null,null,null,null,null,null,null,null,null,null,null,null,null,null,null,null,null,null,null,null,null,null,null,null,null,null,null,null,null,null,null,null,null,null,null,null,null,null,null,null,null,null,null,null,null,null,null,null,null,null,null,null,null,null,null,null,null,null,null,null,null,null,null,null,null,null,null,null,null,null,null,null,null,null,null,null,null,null,null,null,null,null,null,null,null,null,null,null,null,null,null,null,null,null,null,null,null,null,null,null,null,null,null,null,null,null,null,null,null,null,null,null,null,null,null,null,null,null,null,null,null,null,null,null,null,null,null,null,null,null,null,null,null,null,null,null,null,null,null,null,null,null,null,null,null,null,null,null,null,null,null,null,null,null,null,null,null,null,null,null,null,null,null,null,null,null,null,null,null,null,null,null,null,null,null,null,null,null,null,null,null,null,null,null,null,null,null,null,null,null,null,null,null,null,null,null,null,null,null,null,null,null,null,null,null,null,null,null,null,null,null,null,null,null,null,null,null,null,null,null,null,null,null,null,null,null,null,null,null,null,null,null,null,null,null,null,null,null,null,null,null,null,null,null,null,null,null,null,null,null,null,null,null,null,null,null,null,null,null,null,null,null,null,null,null,null,null,null,null,null,null,null,null,null,null,null,null,null,null,null,null,null,null,null,null,null,null,null,null,null,null,null,null,null,null,null,null,null,null,null,null,null,null,null,null,null,null,null,null,null,null,null,null,null,null,null,null,null,null,null,null,null,null,null,null,null,null,null,null,null,null,null,null,null,null,null,null,null,null,null,null,null,null,null,null,null,null,null,null,null,null,null,null,null,null,null,null,null,null,null,null,null,null,null,null,null,null,null,null,null,null,null,null,null,null,null,null,null,null,null,null,null,null,null,null,null,null,null,null,null,null,null,null,null,null,null,null,null,null,null,null,null,null,null,null,null,{"$error":"#DIV/0!"},{"$error":"#DIV/0!"},{"$error":"#DIV/0!"},{"$error":"#DIV/0!"},{"$error":"#DIV/0!"},{"$error":"#DIV/0!"},{"$error":"#DIV/0!"},{"$error":"#DIV/0!"},{"$error":"#DIV/0!"},{"$error":"#DIV/0!"},{"$error":"#DIV/0!"},{"$error":"#DIV/0!"},{"$error":"#DIV/0!"},{"$error":"#DIV/0!"},{"$error":"#DIV/0!"},{"$error":"#DIV/0!"},{"$error":"#DIV/0!"},{"$error":"#DIV/0!"},null,0,0,{"$error":"#DIV/0!"},null,0,0,{"$error":"#DIV/0!"}]
[688,"RAP688",null,null,null,null,null,null,null,null,null,null,null,null,null,null,null,null,null,null,null,null,null,null,null,null,null,null,null,null,null,null,null,null,null,null,null,null,null,null,null,null,null,null,null,null,null,null,null,null,null,null,null,null,null,null,null,null,null,null,null,null,null,null,null,null,null,null,null,null,null,null,null,null,null,null,null,null,null,null,null,null,null,null,null,null,null,null,null,null,null,null,null,null,null,null,null,null,null,null,null,null,null,null,null,null,null,null,null,null,null,null,null,null,null,null,null,null,null,null,null,null,null,null,null,null,null,null,null,null,null,null,null,null,null,null,null,null,null,null,null,null,null,null,null,null,null,null,null,null,null,null,null,null,null,null,null,null,null,null,null,null,null,null,null,null,null,null,null,null,null,null,null,null,null,null,null,null,null,null,null,null,null,null,null,null,null,null,null,null,null,null,null,null,null,null,null,null,null,null,null,null,null,null,null,null,null,null,null,null,null,null,null,null,null,null,null,null,null,null,null,null,null,null,null,null,null,null,null,null,null,null,null,null,null,null,null,null,null,null,null,null,null,null,null,null,null,null,null,null,null,null,null,null,null,null,null,null,null,null,null,null,null,null,null,null,null,null,null,null,null,null,null,null,null,null,null,null,null,null,null,null,null,null,null,null,null,null,null,null,null,null,null,null,null,null,null,null,null,null,null,null,null,null,null,null,null,null,null,null,null,null,null,null,null,null,null,null,null,null,null,null,null,null,null,null,null,null,null,null,null,null,null,null,null,null,null,null,null,null,null,null,null,null,null,null,null,null,null,null,null,null,null,null,null,null,null,null,null,null,null,null,null,null,null,null,null,null,null,null,null,null,null,null,null,null,null,null,null,null,null,null,null,null,null,null,null,null,null,null,null,null,null,null,null,null,null,null,null,null,null,null,null,null,null,null,null,null,null,null,null,null,null,null,null,null,null,null,null,null,null,null,null,null,null,null,null,null,null,null,null,null,null,null,null,null,null,null,null,null,null,null,null,null,null,null,null,null,null,null,null,null,null,null,null,null,null,null,null,null,null,null,null,null,null,null,null,null,null,null,null,null,null,null,null,null,null,null,null,null,null,null,null,null,null,null,null,null,null,null,null,null,null,null,null,null,null,null,null,null,null,null,null,null,null,null,null,null,null,null,null,null,null,null,null,null,null,null,null,null,null,null,null,null,null,null,null,null,null,null,null,null,null,null,null,null,null,null,null,null,null,null,null,null,null,null,null,null,null,null,null,null,null,null,null,null,null,null,null,null,null,null,null,null,null,null,null,null,null,null,null,null,null,null,null,null,null,null,null,null,null,null,null,null,null,null,null,null,null,{"$error":"#DIV/0!"},{"$error":"#DIV/0!"},{"$error":"#DIV/0!"},{"$error":"#DIV/0!"},{"$error":"#DIV/0!"},{"$error":"#DIV/0!"},{"$error":"#DIV/0!"},{"$error":"#DIV/0!"},{"$error":"#DIV/0!"},{"$error":"#DIV/0!"},{"$error":"#DIV/0!"},{"$error":"#DIV/0!"},{"$error":"#DIV/0!"},{"$error":"#DIV/0!"},{"$error":"#DIV/0!"},{"$error":"#DIV/0!"},{"$error":"#DIV/0!"},{"$error":"#DIV/0!"},null,0,0,{"$error":"#DIV/0!"},null,0,0,{"$error":"#DIV/0!"}]
[714,"RAP714",null,null,null,null,null,null,null,null,null,null,null,null,null,null,null,null,null,null,null,null,null,null,null,null,null,null,null,null,null,null,null,null,null,null,null,null,null,null,null,null,null,null,null,null,null,null,null,null,null,null,null,null,null,null,null,null,null,null,null,null,null,null,null,null,null,null,null,null,null,null,null,null,null,null,null,null,null,null,null,null,null,null,null,null,null,null,null,null,null,null,null,null,null,null,null,null,null,null,null,null,null,null,null,null,null,null,null,null,null,null,null,null,null,null,null,null,null,null,null,null,null,null,null,null,null,null,null,null,null,null,null,null,null,null,null,null,null,null,null,null,null,null,null,null,null,null,null,null,null,null,null,null,null,null,null,null,null,null,null,null,null,null,null,null,null,null,null,null,null,null,null,null,null,null,null,null,null,null,null,null,null,null,null,null,null,null,null,null,null,null,null,null,null,null,null,null,null,null,null,null,null,null,null,null,null,null,null,null,null,null,null,null,null,null,null,null,null,null,null,null,null,null,null,null,null,null,null,null,null,null,null,null,null,null,null,null,null,null,null,null,null,null,null,null,null,null,null,null,null,null,null,null,null,null,null,null,null,null,null,null,null,null,null,null,null,null,null,null,null,null,null,null,null,null,null,null,null,null,null,null,null,null,null,null,null,null,null,null,null,null,null,null,null,null,null,null,null,null,null,null,null,null,null,null,null,null,null,null,null,null,null,null,null,null,null,null,null,null,null,null,null,null,null,null,null,null,null,null,null,null,null,null,null,null,null,null,null,null,null,null,null,null,null,null,null,null,null,null,null,null,null,null,null,null,null,null,null,null,null,null,null,null,null,null,null,null,null,null,null,null,null,null,null,null,null,null,null,null,null,null,null,null,null,null,null,null,null,null,null,null,null,null,null,null,null,null,null,null,null,null,null,null,null,null,null,null,null,null,null,null,null,null,null,null,null,null,null,null,null,null,null,null,null,null,null,null,null,null,null,null,null,null,null,null,null,null,null,null,null,null,null,null,null,null,null,null,null,null,null,null,null,null,null,null,null,null,null,null,null,null,null,null,null,null,null,null,null,null,null,null,null,null,null,null,null,null,null,null,null,null,null,null,null,null,null,null,null,null,null,null,null,null,null,null,null,null,null,null,null,null,null,null,null,null,null,null,null,null,null,null,null,null,null,null,null,null,null,null,null,null,null,null,null,null,null,null,null,null,null,null,null,null,null,null,null,null,null,null,null,null,null,null,null,null,null,null,null,null,null,null,null,null,null,null,null,null,null,null,null,null,null,null,null,null,null,null,null,null,null,null,null,null,null,null,null,null,null,null,null,null,null,null,null,null,null,null,null,{"$error":"#DIV/0!"},{"$error":"#DIV/0!"},{"$error":"#DIV/0!"},{"$error":"#DIV/0!"},{"$error":"#DIV/0!"},{"$error":"#DIV/0!"},{"$error":"#DIV/0!"},{"$error":"#DIV/0!"},{"$error":"#DIV/0!"},{"$error":"#DIV/0!"},{"$error":"#DIV/0!"},{"$error":"#DIV/0!"},{"$error":"#DIV/0!"},{"$error":"#DIV/0!"},{"$error":"#DIV/0!"},{"$error":"#DIV/0!"},{"$error":"#DIV/0!"},{"$error":"#DIV/0!"},null,0,0,{"$error":"#DIV/0!"},null,0,0,{"$error":"#DIV/0!"}]
[785,"RAP785",null,null,null,null,null,null,null,null,null,null,null,null,null,null,null,null,null,null,null,null,null,null,null,null,null,null,null,null,null,null,null,null,null,null,null,null,null,null,null,null,null,null,null,null,null,null,null,null,null,null,null,null,null,null,null,null,null,null,null,null,null,null,null,null,null,null,null,null,null,null,null,null,null,null,null,null,null,null,null,null,null,null,null,null,null,null,null,null,null,null,null,null,null,null,null,null,null,null,null,null,null,null,null,null,null,null,null,null,null,null,null,null,null,null,null,null,null,null,null,null,null,null,null,null,null,null,null,null,null,null,null,null,null,null,null,null,null,null,null,null,null,null,null,null,null,null,null,null,null,null,null,null,null,null,null,null,null,null,null,null,null,null,null,null,null,null,null,null,null,null,null,null,null,null,null,null,null,null,null,null,null,null,null,null,null,null,null,null,null,null,null,null,null,null,null,null,null,null,null,null,null,null,null,null,null,null,null,null,null,null,null,null,null,null,null,null,null,null,null,null,null,null,null,null,null,null,null,null,null,null,null,null,null,null,null,null,null,null,null,null,null,null,null,null,null,null,null,null,null,null,null,null,null,null,null,null,null,null,null,null,null,null,null,null,null,null,null,null,null,null,null,null,null,null,null,null,null,null,null,null,null,null,null,null,null,null,null,null,null,null,null,null,null,null,null,null,null,null,null,null,null,null,null,null,null,null,null,null,null,null,null,null,null,null,null,null,null,null,null,null,null,null,null,null,null,null,null,null,null,null,null,null,null,null,null,null,null,null,null,null,null,null,null,null,null,null,null,null,null,null,null,null,null,null,null,null,null,null,null,null,null,null,null,null,null,null,null,null,null,null,null,null,null,null,null,null,null,null,null,null,null,null,null,null,null,null,null,null,null,null,null,null,null,null,null,null,null,null,null,null,null,null,null,null,null,null,null,null,null,null,null,null,null,null,null,null,null,null,null,null,null,null,null,null,null,null,null,null,null,null,null,null,null,null,null,null,null,null,null,null,null,null,null,null,null,null,null,null,null,null,null,null,null,null,null,null,null,null,null,null,null,null,null,null,null,null,null,null,null,null,null,null,null,null,null,null,null,null,null,null,null,null,null,null,null,null,null,null,null,null,null,null,null,null,null,null,null,null,null,null,null,null,null,null,null,null,null,null,null,null,null,null,null,null,null,null,null,null,null,null,null,null,null,null,null,null,null,null,null,null,null,null,null,null,null,null,null,null,null,null,null,null,null,null,null,null,null,null,null,null,null,null,null,null,null,null,null,null,null,null,null,null,null,null,null,null,null,null,null,null,null,null,null,null,null,null,null,null,null,null,null,null,null,null,null,null,null,{"$error":"#DIV/0!"},{"$error":"#DIV/0!"},{"$error":"#DIV/0!"},{"$error":"#DIV/0!"},{"$error":"#DIV/0!"},{"$error":"#DIV/0!"},{"$error":"#DIV/0!"},{"$error":"#DIV/0!"},{"$error":"#DIV/0!"},{"$error":"#DIV/0!"},{"$error":"#DIV/0!"},{"$error":"#DIV/0!"},{"$error":"#DIV/0!"},{"$error":"#DIV/0!"},{"$error":"#DIV/0!"},{"$error":"#DIV/0!"},{"$error":"#DIV/0!"},{"$error":"#DIV/0!"},null,0,0,{"$error":"#DIV/0!"},null,0,0,{"$error":"#DIV/0!"}]
[815,"RAP815",null,null,null,null,null,null,null,null,null,null,null,null,null,null,null,null,null,null,null,null,null,null,null,null,null,null,null,null,null,null,null,null,null,null,null,null,null,null,null,null,null,null,null,null,null,null,null,null,null,null,null,null,null,null,null,null,null,null,null,null,null,null,null,null,null,null,null,null,null,null,null,null,null,null,null,null,null,null,null,null,null,null,null,null,null,null,null,null,null,null,null,null,null,null,null,null,null,null,null,null,null,null,null,null,null,null,null,null,null,null,null,null,null,null,null,null,null,null,null,null,null,null,null,null,null,null,null,null,null,null,null,null,null,null,null,null,null,null,null,null,null,null,null,null,null,null,null,null,null,null,null,null,null,null,null,null,null,null,null,null,null,null,null,null,null,null,null,null,null,null,null,null,null,null,null,null,null,null,null,null,null,null,null,null,null,null,null,null,null,null,null,null,null,null,null,null,null,null,null,null,null,null,null,null,null,null,null,null,null,null,null,null,null,null,null,null,null,null,null,null,null,null,null,null,null,null,null,null,null,null,null,null,null,null,null,null,null,null,null,null,null,null,null,null,null,null,null,null,null,null,null,null,null,null,null,null,null,null,null,null,null,null,null,null,null,null,null,null,null,null,null,null,null,null,null,null,null,null,null,null,null,null,null,null,null,null,null,null,null,null,null,null,null,null,null,null,null,null,null,null,null,null,null,null,null,null,null,null,null,null,null,null,null,null,null,null,null,null,null,null,null,null,null,null,null,null,null,null,null,null,null,null,null,null,null,null,null,null,null,null,null,null,null,null,null,null,null,null,null,null,null,null,null,null,null,null,null,null,null,null,null,null,null,null,null,null,null,null,null,null,null,null,null,null,null,null,null,null,null,null,null,null,null,null,null,null,null,null,null,null,null,null,null,null,null,null,null,null,null,null,null,null,null,null,null,null,null,null,null,null,null,null,null,null,null,null,null,null,null,null,null,null,null,null,null,null,null,null,null,null,null,null,null,null,null,null,null,null,null,null,null,null,null,null,null,null,null,null,null,null,null,null,null,null,null,null,null,null,null,null,null,null,null,null,null,null,null,null,null,null,null,null,null,null,null,null,null,null,null,null,null,null,null,null,null,null,null,null,null,null,null,null,null,null,null,null,null,null,null,null,null,null,null,null,null,null,null,null,null,null,null,null,null,null,null,null,null,null,null,null,null,null,null,null,null,null,null,null,null,null,null,null,null,null,null,null,null,null,null,null,null,null,null,null,null,null,null,null,null,null,null,null,null,null,null,null,null,null,null,null,null,null,null,null,null,null,null,null,null,null,null,null,null,null,null,null,null,null,null,null,null,null,null,null,null,null,null,{"$error":"#DIV/0!"},{"$error":"#DIV/0!"},{"$error":"#DIV/0!"},{"$error":"#DIV/0!"},{"$error":"#DIV/0!"},{"$error":"#DIV/0!"},{"$error":"#DIV/0!"},{"$error":"#DIV/0!"},{"$error":"#DIV/0!"},{"$error":"#DIV/0!"},{"$error":"#DIV/0!"},{"$error":"#DIV/0!"},{"$error":"#DIV/0!"},{"$error":"#DIV/0!"},{"$error":"#DIV/0!"},{"$error":"#DIV/0!"},{"$error":"#DIV/0!"},{"$error":"#DIV/0!"},null,0,0,{"$error":"#DIV/0!"},null,0,0,{"$error":"#DIV/0!"}]
[841,"RAP841",null,null,null,null,null,null,null,null,null,null,null,null,null,null,null,null,null,null,null,null,null,null,null,null,null,null,null,null,null,null,null,null,null,null,null,null,null,null,null,null,null,null,null,null,null,null,null,null,null,null,null,null,null,null,null,null,null,null,null,null,null,null,null,null,null,null,null,null,null,null,null,null,null,null,null,null,null,null,null,null,null,null,null,null,null,null,null,null,null,null,null,null,null,null,null,null,null,null,null,null,null,null,null,null,null,null,null,null,null,null,null,null,null,null,null,null,null,null,null,null,null,null,null,null,null,null,null,null,null,null,null,null,null,null,null,null,null,null,null,null,null,null,null,null,null,null,null,null,null,null,null,null,null,null,null,null,null,null,null,null,null,null,null,null,null,null,null,null,null,null,null,null,null,null,null,null,null,null,null,null,null,null,null,null,null,null,null,null,null,null,null,null,null,null,null,null,null,null,null,null,null,null,null,null,null,null,null,null,null,null,null,null,null,null,null,null,null,null,null,null,null,null,null,null,null,null,null,null,null,null,null,null,null,null,null,null,null,null,null,null,null,null,null,null,null,null,null,null,null,null,null,null,null,null,null,null,null,null,null,null,null,null,null,null,null,null,null,null,null,null,null,null,null,null,null,null,null,null,null,null,null,null,null,null,null,null,null,null,null,null,null,null,null,null,null,null,null,null,null,null,null,null,null,null,null,null,null,null,null,null,null,null,null,null,null,null,null,null,null,null,null,null,null,null,null,null,null,null,null,null,null,null,null,null,null,null,null,null,null,null,null,null,null,null,null,null,null,null,null,null,null,null,null,null,null,null,null,null,null,null,null,null,null,null,null,null,null,null,null,null,null,null,null,null,null,null,null,null,null,null,null,null,null,null,null,null,null,null,null,null,null,null,null,null,null,null,null,null,null,null,null,null,null,null,null,null,null,null,null,null,null,null,null,null,null,null,null,null,null,null,null,null,null,null,null,null,null,null,null,null,null,null,null,null,null,null,null,null,null,null,null,null,null,null,null,null,null,null,null,null,null,null,null,null,null,null,null,null,null,null,null,null,null,null,null,null,null,null,null,null,null,null,null,null,null,null,null,null,null,null,null,null,null,null,null,null,null,null,null,null,null,null,null,null,null,null,null,null,null,null,null,null,null,null,null,null,null,null,null,null,null,null,null,null,null,null,null,null,null,null,null,null,null,null,null,null,null,null,null,null,null,null,null,null,null,null,null,null,null,null,null,null,null,null,null,null,null,null,null,null,null,null,null,null,null,null,null,null,null,null,null,null,null,null,null,null,null,null,null,null,null,null,null,null,null,null,null,null,null,null,null,null,null,null,null,null,null,{"$error":"#DIV/0!"},{"$error":"#DIV/0!"},{"$error":"#DIV/0!"},{"$error":"#DIV/0!"},{"$error":"#DIV/0!"},{"$error":"#DIV/0!"},{"$error":"#DIV/0!"},{"$error":"#DIV/0!"},{"$error":"#DIV/0!"},{"$error":"#DIV/0!"},{"$error":"#DIV/0!"},{"$error":"#DIV/0!"},{"$error":"#DIV/0!"},{"$error":"#DIV/0!"},{"$error":"#DIV/0!"},{"$error":"#DIV/0!"},{"$error":"#DIV/0!"},{"$error":"#DIV/0!"},null,0,0,{"$error":"#DIV/0!"},null,0,0,{"$error":"#DIV/0!"}]
[null,null,null,null,null,null,null,null,18,85,85,"B",null,null,null,null,null,null,null,null,null,null,null,null,null,null,null,null,null,null,null,null,null,null,null,null,null,null,null,null,null,null,null,null,null,null,null,null,null,null,null,null,null,null,null,null,null,null,null,null,null,null,null,null,null,null,null,null,null,null,null,null,null,null,null,null,null,null,null,null,null,null,null,null,null,null,null,null,null,null,null,null,null,null,null,null,null,null,null,null,null,null,null,null,null,null,null,null,null,null,null,null,null,null,null,null,null,null,null,null,null,null,null,null,null,null,null,null,null,null,null,null,null,null,null,null,null,null,null,null,null,null,null,null,null,null,null,null,null,null,null,null,null,null,null,null,null,null,null,null,null,null,null,null,null,null,null,null,null,null,null,null,null,null,null,null,null,null,null,null,null,null,null,null,null,null,null,null,null,null,null,null,null,null,null,null,null,null,null,null,null,null,null,null,null,null,null,null,null,null,null,null,null,null,null,null,null,null,null,null,null,null,null,null,null,null,null,null,null,null,null,null,null,null,null,null,null,null,null,null,null,null,null,null,null,null,null,null,null,null,null,null,null,null,null,null,null,null,null,null,null,null,null,null,null,null,null,null,null,null,null,null,null,null,null,null,null,null,null,null,null,null,null,null,null,null,null,null,null,null,null,null,null,null,null,null,null,null,null,null,null,null,null,null,null,null,null,null,null,null,null,null,null,null,null,null,null,null,null,null,null,null,null,null,null,null,null,null,null,null,null,null,null,null,null,null,null,null,null,null,null,null,null,null,null,null,null,null,null,null,null,null,null,null,null,null,null,null,null,null,null,null,null,null,null,null,null,null,null,null,null,null,null,null,null,null,null,null,null,null,null,null,null,null,null,null,null,null,null,null,null,null,null,null,null,null,null,null,null,null,null,null,null,null,null,null,null,null,null,null,null,null,null,null,null,null,null,null,null,null,null,null,null,null,null,null,null,null,null,null,null,null,null,null,null,null,null,null,null,null,null,null,null,null,null,null,null,null,null,null,null,null,null,null,null,null,null,null,null,null,null,null,null,null,null,null,null,null,null,null,null,null,null,null,null,null,null,null,null,null,null,null,null,null,null,null,null,null,null,null,null,null,null,null,null,null,null,null,null,null,null,null,null,null,null,null,null,null,null,null,null,null,null,null,null,null,null,null,null,null,null,null,null,null,null,null,null,null,null,null,null,null,null,null,null,null,null,null,null,null,null,null,null,null,null,null,null,null,null,null,null,null,null,null,null,null,{"$f":"IF(UL25=\"A\",\"A\",IF(UL25=\"B\",\"B\",IF(UL25=\"C\",\"C\",IF(UL25=\"D\",\"D\",IF(UL25=\"-\",\"-\",IF(UL25>=1,(ROUND(UL25,0)),\"-\"))))))","v":"-"},"-","-","-","-","-","-","-","-","-","-","-","-","-","-","-","-"]
[null,null,null,null,null,null,null,null,69,"-","-","-",null,null,null,null,null,null,null,null,null,null,null,null,null,null,null,null,null,null,null,null,null,null,null,null,null,null,null,null,null,null,null,null,null,null,null,null,null,null,null,null,null,null,null,null,null,null,null,null,null,null,null,null,null,null,null,null,null,null,null,null,null,null,null,null,null,null,null,null,null,null,null,null,null,null,null,null,null,null,null,null,null,null,null,null,null,null,null,null,null,null,null,null,null,null,null,null,null,null,null,null,null,null,null,null,null,null,null,null,null,null,null,null,null,null,null,null,null,null,null,null,null,null,null,null,null,null,null,null,null,null,null,null,null,null,null,null,null,null,null,null,null,null,null,null,null,null,null,null,null,null,null,null,null,null,null,null,null,null,null,null,null,null,null,null,null,null,null,null,null,null,null,null,null,null,null,null,null,null,null,null,null,null,null,null,null,null,null,null,null,null,null,null,null,null,null,null,null,null,null,null,null,null,null,null,null,null,null,null,null,null,null,null,null,null,null,null,null,null,null,null,null,null,null,null,null,null,null,null,null,null,null,null,null,null,null,null,null,null,null,null,null,null,null,null,null,null,null,null,null,null,null,null,null,null,null,null,null,null,null,null,null,null,null,null,null,null,null,null,null,null,null,null,null,null,null,null,null,null,null,null,null,null,null,null,null,null,null,null,null,null,null,null,null,null,null,null,null,null,null,null,null,null,null,null,null,null,null,null,null,null,null,null,null,null,null,null,null,null,null,null,null,null,null,null,null,null,null,null,null,null,null,null,null,null,null,null,null,null,null,null,null,null,null,null,null,null,null,null,null,null,null,null,null,null,null,null,null,null,null,null,null,null,null,null,null,null,null,null,null,null,null,null,null,null,null,null,null,null,null,null,null,null,null,null,null,null,null,null,null,null,null,null,null,null,null,null,null,null,null,null,null,null,null,null,null,null,null,null,null,null,null,null,null,null,null,null,null,null,null,null,null,null,null,null,null,null,null,null,null,null,null,null,null,null,null,null,null,null,null,null,null,null,null,null,null,null,null,null,null,null,null,null,null,null,null,null,null,null,null,null,null,null,null,null,null,null,null,null,null,null,null,null,null,null,null,null,null,null,null,null,null,null,null,null,null,null,null,null,null,null,null,null,null,null,null,null,null,null,null,null,null,null,null,null,null,null,null,null,null,null,null,null,null,null,null,null,null,null,null,null,null,null,null,null,null,null,null,null,null,null,null,null,null,null,null,null,null,null,null,null,null,null,null,null,{"$f":"IF(UL76=\"A\",\"A\",IF(UL76=\"B\",\"B\",IF(UL76=\"C\",\"C\",IF(UL76=\"D\",\"D\",IF(UL76=\"-\",\"-\",IF(UL76>=1,(ROUND(UL76,0)),\"-\"))))))","v":"-"},"-","-","-","-","-","-","-","-","-","-","-","-","-","-","-","-"]
[null,null,null,null,null,null,null,null,99,86,{"$f":"IF(K106=\"A\",\"A\",IF(K106=\"B\",\"B\",IF(K106=\"C\",\"C\",IF(K106=\"D\",\"D\",IF(K106=\"-\",\"-\",IF(K106>=1,(ROUND(K106,0)),\"-\"))))))","v":86},"A",null,null,null,null,null,null,null,null,null,null,null,null,null,null,null,null,null,null,null,null,null,null,null,null,null,null,null,null,null,null,null,null,null,null,null,null,null,null,null,null,null,null,null,null,null,null,null,null,null,null,null,null,null,null,null,null,null,null,null,null,null,null,null,null,null,null,null,null,null,null,null,null,null,null,null,null,null,null,null,null,null,null,null,null,null,null,null,null,null,null,null,null,null,null,null,null,null,null,null,null,null,null,null,null,null,null,null,null,null,null,null,null,null,null,null,null,null,null,null,null,null,null,null,null,null,null,null,null,null,null,null,null,null,null,null,null,null,null,null,null,null,null,null,null,null,null,null,null,null,null,null,null,null,null,null,null,null,null,null,null,null,null,null,null,null,null,null,null,null,null,null,null,null,null,null,null,null,null,null,null,null,null,null,null,null,null,null,null,null,null,null,null,null,null,null,null,null,null,null,null,null,null,null,null,null,null,null,null,null,null,null,null,null,null,null,null,null,null,null,null,null,null,null,null,null,null,null,null,null,null,null,null,null,null,null,null,null,null,null,null,null,null,null,null,null,null,null,null,null,null,null,null,null,null,null,null,null,null,null,null,null,null,null,null,null,null,null,null,null,null,null,null,null,null,null,null,null,null,null,null,null,null,null,null,null,null,null,null,null,null,null,null,null,null,null,null,null,null,null,null,null,null,null,null,null,null,null,null,null,null,null,null,null,null,null,null,null,null,null,null,null,null,null,null,null,null,null,null,null,null,null,null,null,null,null,null,null,null,null,null,null,null,null,null,null,null,null,null,null,null,null,null,null,null,null,null,null,null,null,null,null,null,null,null,null,null,null,null,null,null,null,null,null,null,null,null,null,null,null,null,null,null,null,null,null,null,null,null,null,null,null,null,null,null,null,null,null,null,null,null,null,null,null,null,null,null,null,null,null,null,null,null,null,null,null,null,null,null,null,null,null,null,null,null,null,null,null,null,null,null,null,null,null,null,null,null,null,null,null,null,null,null,null,null,null,null,null,null,null,null,null,null,null,null,null,null,null,null,null,null,null,null,null,null,null,null,null,null,null,null,null,null,null,null,null,null,null,null,null,null,null,null,null,null,null,null,null,null,null,null,null,null,null,null,null,null,null,null,null,null,null,null,null,null,null,null,null,null,null,null,null,null,null,null,null,null,null,null,null,null,null,null,null,null,null,null,null,null,null,null,null,null,null,null,null,null,null,null,null,null,null,null,null,null,{"$f":"IF(UL106=\"A\",\"A\",IF(UL106=\"B\",\"B\",IF(UL106=\"C\",\"C\",IF(UL106=\"D\",\"D\",IF(UL106=\"-\",\"-\",IF(UL106>=1,(ROUND(UL106,0)),\"-\"))))))","v":"-"},"-","-","-","-","-","-","-","-","-","-","-","-","-","-","-","-"]
[null,null,null,null,null,null,null,null,129,{"$f":"IF(J136=\"A\",\"A\",IF(J136=\"B\",\"B\",IF(J136=\"C\",\"C\",IF(J136=\"D\",\"D\",IF(J136=\"-\",\"-\",IF(J136>=1,(ROUND(J136,0)),\"-\"))))))","v":80},82,"B",null,null,null,null,null,null,null,null,null,null,null,null,null,null,null,null,null,null,null,null,null,null,null,null,null,null,null,null,null,null,null,null,null,null,null,null,null,null,null,null,null,null,null,null,null,null,null,null,null,null,null,null,null,null,null,null,null,null,null,null,null,null,null,null,null,null,null,null,null,null,null,null,null,null,null,null,null,null,null,null,null,null,null,null,null,null,null,null,null,null,null,null,null,null,null,null,null,null,null,null,null,null,null,null,null,null,null,null,null,null,null,null,null,null,null,null,null,null,null,null,null,null,null,null,null,null,null,null,null,null,null,null,null,null,null,null,null,null,null,null,null,null,null,null,null,null,null,null,null,null,null,null,null,null,null,null,null,null,null,null,null,null,null,null,null,null,null,null,null,null,null,null,null,null,null,null,null,null,null,null,null,null,null,null,null,null,null,null,null,null,null,null,null,null,null,null,null,null,null,null,null,null,null,null,null,null,null,null,null,null,null,null,null,null,null,null,null,null,null,null,null,null,null,null,null,null,null,null,null,null,null,null,null,null,null,null,null,null,null,null,null,null,null,null,null,null,null,null,null,null,null,null,null,null,null,null,null,null,null,null,null,null,null,null,null,null,null,null,null,null,null,null,null,null,null,null,null,null,null,null,null,null,null,null,null,null,null,null,null,null,null,null,null,null,null,null,null,null,null,null,null,null,null,null,null,null,null,null,null,null,null,null,null,null,null,null,null,null,null,null,null,null,null,null,null,null,null,null,null,null,null,null,null,null,null,null,null,null,null,null,null,null,null,null,null,null,null,null,null,null,null,null,null,null,null,null,null,null,null,null,null,null,null,null,null,null,null,null,null,null,null,null,null,null,null,null,null,null,null,null,null,null,null,null,null,null,null,null,null,null,null,null,null,null,null,null,null,null,null,null,null,null,null,null,null,null,null,null,null,null,null,null,null,null,null,null,null,null,null,null,null,null,null,null,null,null,null,null,null,null,null,null,null,null,null,null,null,null,null,null,null,null,null,null,null,null,null,null,null,null,null,null,null,null,null,null,null,null,null,null,null,null,null,null,null,null,null,null,null,null,null,null,null,null,null,null,null,null,null,null,null,null,null,null,null,null,null,null,null,null,null,null,null,null,null,null,null,null,null,null,null,null,null,null,null,null,null,null,null,null,null,null,null,null,null,null,null,null,null,null,null,null,null,null,null,null,null,null,null,null,null,null,null,null,null,null,null,null,null,null,null,null,null,null,{"$f":"IF(UL136=\"A\",\"A\",IF(UL136=\"B\",\"B\",IF(UL136=\"C\",\"C\",IF(UL136=\"D\",\"D\",IF(UL136=\"-\",\"-\",IF(UL136>=1,(ROUND(UL136,0)),\"-\"))))))","v":"-"},"-","-","-","-","-","-","-","-","-","-","-","-","-","-","-","-"]
[null,null,null,null,null,null,null,null,196,83,83,"B",null,null,null,null,null,null,null,null,null,null,null,null,null,null,null,null,null,null,null,null,null,null,null,null,null,null,null,null,null,null,null,null,null,null,null,null,null,null,null,null,null,null,null,null,null,null,null,null,null,null,null,null,null,null,null,null,null,null,null,null,null,null,null,null,null,null,null,null,null,null,null,null,null,null,null,null,null,null,null,null,null,null,null,null,null,null,null,null,null,null,null,null,null,null,null,null,null,null,null,null,null,null,null,null,null,null,null,null,null,null,null,null,null,null,null,null,null,null,null,null,null,null,null,null,null,null,null,null,null,null,null,null,null,null,null,null,null,null,null,null,null,null,null,null,null,null,null,null,null,null,null,null,null,null,null,null,null,null,null,null,null,null,null,null,null,null,null,null,null,null,null,null,null,null,null,null,null,null,null,null,null,null,null,null,null,null,null,null,null,null,null,null,null,null,null,null,null,null,null,null,null,null,null,null,null,null,null,null,null,null,null,null,null,null,null,null,null,null,null,null,null,null,null,null,null,null,null,null,null,null,null,null,null,null,null,null,null,null,null,null,null,null,null,null,null,null,null,null,null,null,null,null,null,null,null,null,null,null,null,null,null,null,null,null,null,null,null,null,null,null,null,null,null,null,null,null,null,null,null,null,null,null,null,null,null,null,null,null,null,null,null,null,null,null,null,null,null,null,null,null,null,null,null,null,null,null,null,null,null,null,null,null,null,null,null,null,null,null,null,null,null,null,null,null,null,null,null,null,null,null,null,null,null,null,null,null,null,null,null,null,null,null,null,null,null,null,null,null,null,null,null,null,null,null,null,null,null,null,null,null,null,null,null,null,null,null,null,null,null,null,null,null,null,null,null,null,null,null,null,null,null,null,null,null,null,null,null,null,null,null,null,null,null,null,null,null,null,null,null,null,null,null,null,null,null,null,null,null,null,null,null,null,null,null,null,null,null,null,null,null,null,null,null,null,null,null,null,null,null,null,null,null,null,null,null,null,null,null,null,null,null,null,null,null,null,null,null,null,null,null,null,null,null,null,null,null,null,null,null,null,null,null,null,null,null,null,null,null,null,null,null,null,null,null,null,null,null,null,null,null,null,null,null,null,null,null,null,null,null,null,null,null,null,null,null,null,null,null,null,null,null,null,null,null,null,null,null,null,null,null,null,null,null,null,null,null,null,null,null,null,null,null,null,null,null,null,null,null,null,null,null,null,null,null,null,null,null,null,null,null,null,null,null,null,{"$f":"IF(UL203=\"A\",\"A\",IF(UL203=\"B\",\"B\",IF(UL203=\"C\",\"C\",IF(UL203=\"D\",\"D\",IF(UL203=\"-\",\"-\",IF(UL203>=1,(ROUND(UL203,0)),\"-\"))))))","v":"-"},"-","-","-","-","-","-","-","-","-","-","-","-","-","-","-","-"]
[null,null,null,null,null,null,null,null,226,82,83,"B",null,null,null,null,null,null,null,null,null,null,null,null,null,null,null,null,null,null,null,null,null,null,null,null,null,null,null,null,null,null,null,null,null,null,null,null,null,null,null,null,null,null,null,null,null,null,null,null,null,null,null,null,null,null,null,null,null,null,null,null,null,null,null,null,null,null,null,null,null,null,null,null,null,null,null,null,null,null,null,null,null,null,null,null,null,null,null,null,null,null,null,null,null,null,null,null,null,null,null,null,null,null,null,null,null,null,null,null,null,null,null,null,null,null,null,null,null,null,null,null,null,null,null,null,null,null,null,null,null,null,null,null,null,null,null,null,null,null,null,null,null,null,null,null,null,null,null,null,null,null,null,null,null,null,null,null,null,null,null,null,null,null,null,null,null,null,null,null,null,null,null,null,null,null,null,null,null,null,null,null,null,null,null,null,null,null,null,null,null,null,null,null,null,null,null,null,null,null,null,null,null,null,null,null,null,null,null,null,null,null,null,null,null,null,null,null,null,null,null,null,null,null,null,null,null,null,null,null,null,null,null,null,null,null,null,null,null,null,null,null,null,null,null,null,null,null,null,null,null,null,null,null,null,null,null,null,null,null,null,null,null,null,null,null,null,null,null,null,null,null,null,null,null,null,null,null,null,null,null,null,null,null,null,null,null,null,null,null,null,null,null,null,null,null,null,null,null,null,null,null,null,null,null,null,null,null,null,null,null,null,null,null,null,null,null,null,null,null,null,null,null,null,null,null,null,null,null,null,null,null,null,null,null,null,null,null,null,null,null,null,null,null,null,null,null,null,null,null,null,null,null,null,null,null,null,null,null,null,null,null,null,null,null,null,null,null,null,null,null,null,null,null,null,null,null,null,null,null,null,null,null,null,null,null,null,null,null,null,null,null,null,null,null,null,null,null,null,null,null,null,null,null,null,null,null,null,null,null,null,null,null,null,null,null,null,null,null,null,null,null,null,null,null,null,null,null,null,null,null,null,null,null,null,null,null,null,null,null,null,null,null,null,null,null,null,null,null,null,null,null,null,null,null,null,null,null,null,null,null,null,null,null,null,null,null,null,null,null,null,null,null,null,null,null,null,null,null,null,null,null,null,null,null,null,null,null,null,null,null,null,null,null,null,null,null,null,null,null,null,null,null,null,null,null,null,null,null,null,null,null,null,null,null,null,null,null,null,null,null,null,null,null,null,null,null,null,null,null,null,null,null,null,null,null,null,null,null,null,null,null,null,null,null,null,{"$f":"IF(UL233=\"A\",\"A\",IF(UL233=\"B\",\"B\",IF(UL233=\"C\",\"C\",IF(UL233=\"D\",\"D\",IF(UL233=\"-\",\"-\",IF(UL233>=1,(ROUND(UL233,0)),\"-\"))))))","v":"-"},"-","-","-","-","-","-","-","-","-","-","-","-","-","-","-","-"]
[null,null,null,null,null,null,null,null,256,"-","-","-",null,null,null,null,null,null,null,null,null,null,null,null,null,null,null,null,null,null,null,null,null,null,null,null,null,null,null,null,null,null,null,null,null,null,null,null,null,null,null,null,null,null,null,null,null,null,null,null,null,null,null,null,null,null,null,null,null,null,null,null,null,null,null,null,null,null,null,null,null,null,null,null,null,null,null,null,null,null,null,null,null,null,null,null,null,null,null,null,null,null,null,null,null,null,null,null,null,null,null,null,null,null,null,null,null,null,null,null,null,null,null,null,null,null,null,null,null,null,null,null,null,null,null,null,null,null,null,null,null,null,null,null,null,null,null,null,null,null,null,null,null,null,null,null,null,null,null,null,null,null,null,null,null,null,null,null,null,null,null,null,null,null,null,null,null,null,null,null,null,null,null,null,null,null,null,null,null,null,null,null,null,null,null,null,null,null,null,null,null,null,null,null,null,null,null,null,null,null,null,null,null,null,null,null,null,null,null,null,null,null,null,null,null,null,null,null,null,null,null,null,null,null,null,null,null,null,null,null,null,null,null,null,null,null,null,null,null,null,null,null,null,null,null,null,null,null,null,null,null,null,null,null,null,null,null,null,null,null,null,null,null,null,null,null,null,null,null,null,null,null,null,null,null,null,null,null,null,null,null,null,null,null,null,null,null,null,null,null,null,null,null,null,null,null,null,null,null,null,null,null,null,null,null,null,null,null,null,null,null,null,null,null,null,null,null,null,null,null,null,null,null,null,null,null,null,null,null,null,null,null,null,null,null,null,null,null,null,null,null,null,null,null,null,null,null,null,null,null,null,null,null,null,null,null,null,null,null,null,null,null,null,null,null,null,null,null,null,null,null,null,null,null,null,null,null,null,null,null,null,null,null,null,null,null,null,null,null,null,null,null,null,null,null,null,null,null,null,null,null,null,null,null,null,null,null,null,null,null,null,null,null,null,null,null,null,null,null,null,null,null,null,null,null,null,null,null,null,null,null,null,null,null,null,null,null,null,null,null,null,null,null,null,null,null,null,null,null,null,null,null,null,null,null,null,null,null,null,null,null,null,null,null,null,null,null,null,null,null,null,null,null,null,null,null,null,null,null,null,null,null,null,null,null,null,null,null,null,null,null,null,null,null,null,null,null,null,null,null,null,null,null,null,null,null,null,null,null,null,null,null,null,null,null,null,null,null,null,null,null,null,null,null,null,null,null,null,null,null,null,null,null,null,null,null,null,null,null,null,null,null,null,null,null,null,{"$f":"IF(UL263=\"A\",\"A\",IF(UL263=\"B\",\"B\",IF(UL263=\"C\",\"C\",IF(UL263=\"D\",\"D\",IF(UL263=\"-\",\"-\",IF(UL263>=1,(ROUND(UL263,0)),\"-\"))))))","v":"-"},"-","-","-","-","-","-","-","-","-","-","-","-","-","-","-","-"]
[null,null,null,null,null,null,null,null,327,"-",{"$f":"IF(K334=\"A\",\"A\",IF(K334=\"B\",\"B\",IF(K334=\"C\",\"C\",IF(K334=\"D\",\"D\",IF(K334=\"-\",\"-\",IF(K334>=1,(ROUND(K334,0)),\"-\"))))))","v":"-"},"-",null,null,null,null,null,null,null,null,null,null,null,null,null,null,null,null,null,null,null,null,null,null,null,null,null,null,null,null,null,null,null,null,null,null,null,null,null,null,null,null,null,null,null,null,null,null,null,null,null,null,null,null,null,null,null,null,null,null,null,null,null,null,null,null,null,null,null,null,null,null,null,null,null,null,null,null,null,null,null,null,null,null,null,null,null,null,null,null,null,null,null,null,null,null,null,null,null,null,null,null,null,null,null,null,null,null,null,null,null,null,null,null,null,null,null,null,null,null,null,null,null,null,null,null,null,null,null,null,null,null,null,null,null,null,null,null,null,null,null,null,null,null,null,null,null,null,null,null,null,null,null,null,null,null,null,null,null,null,null,null,null,null,null,null,null,null,null,null,null,null,null,null,null,null,null,null,null,null,null,null,null,null,null,null,null,null,null,null,null,null,null,null,null,null,null,null,null,null,null,null,null,null,null,null,null,null,null,null,null,null,null,null,null,null,null,null,null,null,null,null,null,null,null,null,null,null,null,null,null,null,null,null,null,null,null,null,null,null,null,null,null,null,null,null,null,null,null,null,null,null,null,null,null,null,null,null,null,null,null,null,null,null,null,null,null,null,null,null,null,null,null,null,null,null,null,null,null,null,null,null,null,null,null,null,null,null,null,null,null,null,null,null,null,null,null,null,null,null,null,null,null,null,null,null,null,null,null,null,null,null,null,null,null,null,null,null,null,null,null,null,null,null,null,null,null,null,null,null,null,null,null,null,null,null,null,null,null,null,null,null,null,null,null,null,null,null,null,null,null,null,null,null,null,null,null,null,null,null,null,null,null,null,null,null,null,null,null,null,null,null,null,null,null,null,null,null,null,null,null,null,null,null,null,null,null,null,null,null,null,null,null,null,null,null,null,null,null,null,null,null,null,null,null,null,null,null,null,null,null,null,null,null,null,null,null,null,null,null,null,null,null,null,null,null,null,null,null,null,null,null,null,null,null,null,null,null,null,null,null,null,null,null,null,null,null,null,null,null,null,null,null,null,null,null,null,null,null,null,null,null,null,null,null,null,null,null,null,null,null,null,null,null,null,null,null,null,null,null,null,null,null,null,null,null,null,null,null,null,null,null,null,null,null,null,null,null,null,null,null,null,null,null,null,null,null,null,null,null,null,null,null,null,null,null,null,null,null,null,null,null,null,null,null,null,null,null,null,null,null,null,null,null,null,null,null,null,null,null,null,null,null,null,null,null,{"$f":"IF(UL334=\"A\",\"A\",IF(UL334=\"B\",\"B\",IF(UL334=\"C\",\"C\",IF(UL334=\"D\",\"D\",IF(UL334=\"-\",\"-\",IF(UL334>=1,(ROUND(UL334,0)),\"-\"))))))","v":"-"},"-","-","-","-","-","-","-","-","-","-","-","-","-","-","-","-"]
[null,null,null,null,null,null,null,null,352,"-","-","-",null,null,null,null,null,null,null,null,null,null,null,null,null,null,null,null,null,null,null,null,null,null,null,null,null,null,null,null,null,null,null,null,null,null,null,null,null,null,null,null,null,null,null,null,null,null,null,null,null,null,null,null,null,null,null,null,null,null,null,null,null,null,null,null,null,null,null,null,null,null,null,null,null,null,null,null,null,null,null,null,null,null,null,null,null,null,null,null,null,null,null,null,null,null,null,null,null,null,null,null,null,null,null,null,null,null,null,null,null,null,null,null,null,null,null,null,null,null,null,null,null,null,null,null,null,null,null,null,null,null,null,null,null,null,null,null,null,null,null,null,null,null,null,null,null,null,null,null,null,null,null,null,null,null,null,null,null,null,null,null,null,null,null,null,null,null,null,null,null,null,null,null,null,null,null,null,null,null,null,null,null,null,null,null,null,null,null,null,null,null,null,null,null,null,null,null,null,null,null,null,null,null,null,null,null,null,null,null,null,null,null,null,null,null,null,null,null,null,null,null,null,null,null,null,null,null,null,null,null,null,null,null,null,null,null,null,null,null,null,null,null,null,null,null,null,null,null,null,null,null,null,null,null,null,null,null,null,null,null,null,null,null,null,null,null,null,null,null,null,null,null,null,null,null,null,null,null,null,null,null,null,null,null,null,null,null,null,null,null,null,null,null,null,null,null,null,null,null,null,null,null,null,null,null,null,null,null,null,null,null,null,null,null,null,null,null,null,null,null,null,null,null,null,null,null,null,null,null,null,null,null,null,null,null,null,null,null,null,null,null,null,null,null,null,null,null,null,null,null,null,null,null,null,null,null,null,null,null,null,null,null,null,null,null,null,null,null,null,null,null,null,null,null,null,null,null,null,null,null,null,null,null,null,null,null,null,null,null,null,null,null,null,null,null,null,null,null,null,null,null,null,null,null,null,null,null,null,null,null,null,null,null,null,null,null,null,null,null,null,null,null,null,null,null,null,null,null,null,null,null,null,null,null,null,null,null,null,null,null,null,null,null,null,null,null,null,null,null,null,null,null,null,null,null,null,null,null,null,null,null,null,null,null,null,null,null,null,null,null,null,null,null,null,null,null,null,null,null,null,null,null,null,null,null,null,null,null,null,null,null,null,null,null,null,null,null,null,null,null,null,null,null,null,null,null,null,null,null,null,null,null,null,null,null,null,null,null,null,null,null,null,null,null,null,null,null,null,null,null,null,null,null,null,null,null,null,null,null,null,null,null,null,null,null,{"$f":"IF(UL359=\"A\",\"A\",IF(UL359=\"B\",\"B\",IF(UL359=\"C\",\"C\",IF(UL359=\"D\",\"D\",IF(UL359=\"-\",\"-\",IF(UL359>=1,(ROUND(UL359,0)),\"-\"))))))","v":"-"},"-","-","-","-","-","-","-","-","-","-","-","-","-","-","-","-"]
[null,null,null,null,null,null,null,null,378,"-","-","-",null,null,null,null,null,null,null,null,null,null,null,null,null,null,null,null,null,null,null,null,null,null,null,null,null,null,null,null,null,null,null,null,null,null,null,null,null,null,null,null,null,null,null,null,null,null,null,null,null,null,null,null,null,null,null,null,null,null,null,null,null,null,null,null,null,null,null,null,null,null,null,null,null,null,null,null,null,null,null,null,null,null,null,null,null,null,null,null,null,null,null,null,null,null,null,null,null,null,null,null,null,null,null,null,null,null,null,null,null,null,null,null,null,null,null,null,null,null,null,null,null,null,null,null,null,null,null,null,null,null,null,null,null,null,null,null,null,null,null,null,null,null,null,null,null,null,null,null,null,null,null,null,null,null,null,null,null,null,null,null,null,null,null,null,null,null,null,null,null,null,null,null,null,null,null,null,null,null,null,null,null,null,null,null,null,null,null,null,null,null,null,null,null,null,null,null,null,null,null,null,null,null,null,null,null,null,null,null,null,null,null,null,null,null,null,null,null,null,null,null,null,null,null,null,null,null,null,null,null,null,null,null,null,null,null,null,null,null,null,null,null,null,null,null,null,null,null,null,null,null,null,null,null,null,null,null,null,null,null,null,null,null,null,null,null,null,null,null,null,null,null,null,null,null,null,null,null,null,null,null,null,null,null,null,null,null,null,null,null,null,null,null,null,null,null,null,null,null,null,null,null,null,null,null,null,null,null,null,null,null,null,null,null,null,null,null,null,null,null,null,null,null,null,null,null,null,null,null,null,null,null,null,null,null,null,null,null,null,null,null,null,null,null,null,null,null,null,null,null,null,null,null,null,null,null,null,null,null,null,null,null,null,null,null,null,null,null,null,null,null,null,null,null,null,null,null,null,null,null,null,null,null,null,null,null,null,null,null,null,null,null,null,null,null,null,null,null,null,null,null,null,null,null,null,null,null,null,null,null,null,null,null,null,null,null,null,null,null,null,null,null,null,null,null,null,null,null,null,null,null,null,null,null,null,null,null,null,null,null,null,null,null,null,null,null,null,null,null,null,null,null,null,null,null,null,null,null,null,null,null,null,null,null,null,null,null,null,null,null,null,null,null,null,null,null,null,null,null,null,null,null,null,null,null,null,null,null,null,null,null,null,null,null,null,null,null,null,null,null,null,null,null,null,null,null,null,null,null,null,null,null,null,null,null,null,null,null,null,null,null,null,null,null,null,null,null,null,null,null,null,null,null,null,null,null,null,null,null,null,null,null,null,null,null,{"$f":"IF(UL385=\"A\",\"A\",IF(UL385=\"B\",\"B\",IF(UL385=\"C\",\"C\",IF(UL385=\"D\",\"D\",IF(UL385=\"-\",\"-\",IF(UL385>=1,(ROUND(UL385,0)),\"-\"))))))","v":"-"},"-","-","-","-","-","-","-","-","-","-","-","-","-","-","-","-"]
[null,null,null,null,null,null,null,null,449,{"$f":"IF(J456=\"A\",\"A\",IF(J456=\"B\",\"B\",IF(J456=\"C\",\"C\",IF(J456=\"D\",\"D\",IF(J456=\"-\",\"-\",IF(J456>=1,(ROUND(J456,0)),\"-\"))))))","v":"-"},"-","-",null,null,null,null,null,null,null,null,null,null,null,null,null,null,null,null,null,null,null,null,null,null,null,null,null,null,null,null,null,null,null,null,null,null,null,null,null,null,null,null,null,null,null,null,null,null,null,null,null,null,null,null,null,null,null,null,null,null,null,null,null,null,null,null,null,null,null,null,null,null,null,null,null,null,null,null,null,null,null,null,null,null,null,null,null,null,null,null,null,null,null,null,null,null,null,null,null,null,null,null,null,null,null,null,null,null,null,null,null,null,null,null,null,null,null,null,null,null,null,null,null,null,null,null,null,null,null,null,null,null,null,null,null,null,null,null,null,null,null,null,null,null,null,null,null,null,null,null,null,null,null,null,null,null,null,null,null,null,null,null,null,null,null,null,null,null,null,null,null,null,null,null,null,null,null,null,null,null,null,null,null,null,null,null,null,null,null,null,null,null,null,null,null,null,null,null,null,null,null,null,null,null,null,null,null,null,null,null,null,null,null,null,null,null,null,null,null,null,null,null,null,null,null,null,null,null,null,null,null,null,null,null,null,null,null,null,null,null,null,null,null,null,null,null,null,null,null,null,null,null,null,null,null,null,null,null,null,null,null,null,null,null,null,null,null,null,null,null,null,null,null,null,null,null,null,null,null,null,null,null,null,null,null,null,null,null,null,null,null,null,null,null,null,null,null,null,null,null,null,null,null,null,null,null,null,null,null,null,null,null,null,null,null,null,null,null,null,null,null,null,null,null,null,null,null,null,null,null,null,null,null,null,null,null,null,null,null,null,null,null,null,null,null,null,null,null,null,null,null,null,null,null,null,null,null,null,null,null,null,null,null,null,null,null,null,null,null,null,null,null,null,null,null,null,null,null,null,null,null,null,null,null,null,null,null,null,null,null,null,null,null,null,null,null,null,null,null,null,null,null,null,null,null,null,null,null,null,null,null,null,null,null,null,null,null,null,null,null,null,null,null,null,null,null,null,null,null,null,null,null,null,null,null,null,null,null,null,null,null,null,null,null,null,null,null,null,null,null,null,null,null,null,null,null,null,null,null,null,null,null,null,null,null,null,null,null,null,null,null,null,null,null,null,null,null,null,null,null,null,null,null,null,null,null,null,null,null,null,null,null,null,null,null,null,null,null,null,null,null,null,null,null,null,null,null,null,null,null,null,null,null,null,null,null,null,null,null,null,null,null,null,null,null,null,null,null,null,null,null,null,null,null,null,null,null,null,null,null,null,null,null,null,null,null,{"$f":"IF(UL456=\"A\",\"A\",IF(UL456=\"B\",\"B\",IF(UL456=\"C\",\"C\",IF(UL456=\"D\",\"D\",IF(UL456=\"-\",\"-\",IF(UL456>=1,(ROUND(UL456,0)),\"-\"))))))","v":"-"},"-","-","-","-","-","-","-","-","-","-","-","-","-","-","-","-"]
[null,null,null,null,null,null,null,null,479,"-",{"$f":"IF(K486=\"A\",\"A\",IF(K486=\"B\",\"B\",IF(K486=\"C\",\"C\",IF(K486=\"D\",\"D\",IF(K486=\"-\",\"-\",IF(K486>=1,(ROUND(K486,0)),\"-\"))))))","v":"-"},"-",null,null,null,null,null,null,null,null,null,null,null,null,null,null,null,null,null,null,null,null,null,null,null,null,null,null,null,null,null,null,null,null,null,null,null,null,null,null,null,null,null,null,null,null,null,null,null,null,null,null,null,null,null,null,null,null,null,null,null,null,null,null,null,null,null,null,null,null,null,null,null,null,null,null,null,null,null,null,null,null,null,null,null,null,null,null,null,null,null,null,null,null,null,null,null,null,null,null,null,null,null,null,null,null,null,null,null,null,null,null,null,null,null,null,null,null,null,null,null,null,null,null,null,null,null,null,null,null,null,null,null,null,null,null,null,null,null,null,null,null,null,null,null,null,null,null,null,null,null,null,null,null,null,null,null,null,null,null,null,null,null,null,null,null,null,null,null,null,null,null,null,null,null,null,null,null,null,null,null,null,null,null,null,null,null,null,null,null,null,null,null,null,null,null,null,null,null,null,null,null,null,null,null,null,null,null,null,null,null,null,null,null,null,null,null,null,null,null,null,null,null,null,null,null,null,null,null,null,null,null,null,null,null,null,null,null,null,null,null,null,null,null,null,null,null,null,null,null,null,null,null,null,null,null,null,null,null,null,null,null,null,null,null,null,null,null,null,null,null,null,null,null,null,null,null,null,null,null,null,null,null,null,null,null,null,null,null,null,null,null,null,null,null,null,null,null,null,null,null,null,null,null,null,null,null,null,null,null,null,null,null,null,null,null,null,null,null,null,null,null,null,null,null,null,null,null,null,null,null,null,null,null,null,null,null,null,null,null,null,null,null,null,null,null,null,null,null,null,null,null,null,null,null,null,null,null,null,null,null,null,null,null,null,null,null,null,null,null,null,null,null,null,null,null,null,null,null,null,null,null,null,null,null,null,null,null,null,null,null,null,null,null,null,null,null,null,null,null,null,null,null,null,null,null,null,null,null,null,null,null,null,null,null,null,null,null,null,null,null,null,null,null,null,null,null,null,null,null,null,null,null,null,null,null,null,null,null,null,null,null,null,null,null,null,null,null,null,null,null,null,null,null,null,null,null,null,null,null,null,null,null,null,null,null,null,null,null,null,null,null,null,null,null,null,null,null,null,null,null,null,null,null,null,null,null,null,null,null,null,null,null,null,null,null,null,null,null,null,null,null,null,null,null,null,null,null,null,null,null,null,null,null,null,null,null,null,null,null,null,null,null,null,null,null,null,null,null,null,null,null,null,null,null,null,null,null,null,null,null,null,null,null,null,null,{"$f":"IF(UL486=\"A\",\"A\",IF(UL486=\"B\",\"B\",IF(UL486=\"C\",\"C\",IF(UL486=\"D\",\"D\",IF(UL486=\"-\",\"-\",IF(UL486>=1,(ROUND(UL486,0)),\"-\"))))))","v":"-"},"-","-","-","-","-","-","-","-","-","-","-","-","-","-","-","-"]
[null,null,null,null,null,null,null,null,505,"-","-","-",null,null,null,null,null,null,null,null,null,null,null,null,null,null,null,null,null,null,null,null,null,null,null,null,null,null,null,null,null,null,null,null,null,null,null,null,null,null,null,null,null,null,null,null,null,null,null,null,null,null,null,null,null,null,null,null,null,null,null,null,null,null,null,null,null,null,null,null,null,null,null,null,null,null,null,null,null,null,null,null,null,null,null,null,null,null,null,null,null,null,null,null,null,null,null,null,null,null,null,null,null,null,null,null,null,null,null,null,null,null,null,null,null,null,null,null,null,null,null,null,null,null,null,null,null,null,null,null,null,null,null,null,null,null,null,null,null,null,null,null,null,null,null,null,null,null,null,null,null,null,null,null,null,null,null,null,null,null,null,null,null,null,null,null,null,null,null,null,null,null,null,null,null,null,null,null,null,null,null,null,null,null,null,null,null,null,null,null,null,null,null,null,null,null,null,null,null,null,null,null,null,null,null,null,null,null,null,null,null,null,null,null,null,null,null,null,null,null,null,null,null,null,null,null,null,null,null,null,null,null,null,null,null,null,null,null,null,null,null,null,null,null,null,null,null,null,null,null,null,null,null,null,null,null,null,null,null,null,null,null,null,null,null,null,null,null,null,null,null,null,null,null,null,null,null,null,null,null,null,null,null,null,null,null,null,null,null,null,null,null,null,null,null,null,null,null,null,null,null,null,null,null,null,null,null,null,null,null,null,null,null,null,null,null,null,null,null,null,null,null,null,null,null,null,null,null,null,null,null,null,null,null,null,null,null,null,null,null,null,null,null,null,null,null,null,null,null,null,null,null,null,null,null,null,null,null,null,null,null,null,null,null,null,null,null,null,null,null,null,null,null,null,null,null,null,null,null,null,null,null,null,null,null,null,null,null,null,null,null,null,null,null,null,null,null,null,null,null,null,null,null,null,null,null,null,null,null,null,null,null,null,null,null,null,null,null,null,null,null,null,null,null,null,null,null,null,null,null,null,null,null,null,null,null,null,null,null,null,null,null,null,null,null,null,null,null,null,null,null,null,null,null,null,null,null,null,null,null,null,null,null,null,null,null,null,null,null,null,null,null,null,null,null,null,null,null,null,null,null,null,null,null,null,null,null,null,null,null,null,null,null,null,null,null,null,null,null,null,null,null,null,null,null,null,null,null,null,null,null,null,null,null,null,null,null,null,null,null,null,null,null,null,null,null,null,null,null,null,null,null,null,null,null,null,null,null,null,null,null,null,null,null,null,null,{"$f":"IF(UL512=\"A\",\"A\",IF(UL512=\"B\",\"B\",IF(UL512=\"C\",\"C\",IF(UL512=\"D\",\"D\",IF(UL512=\"-\",\"-\",IF(UL512>=1,(ROUND(UL512,0)),\"-\"))))))","v":"-"},"-","-","-","-","-","-","-","-","-","-","-","-","-","-","-","-"]
[null,null,null,null,null,null,null,null,576,"-","-","-",null,null,null,null,null,null,null,null,null,null,null,null,null,null,null,null,null,null,null,null,null,null,null,null,null,null,null,null,null,null,null,null,null,null,null,null,null,null,null,null,null,null,null,null,null,null,null,null,null,null,null,null,null,null,null,null,null,null,null,null,null,null,null,null,null,null,null,null,null,null,null,null,null,null,null,null,null,null,null,null,null,null,null,null,null,null,null,null,null,null,null,null,null,null,null,null,null,null,null,null,null,null,null,null,null,null,null,null,null,null,null,null,null,null,null,null,null,null,null,null,null,null,null,null,null,null,null,null,null,null,null,null,null,null,null,null,null,null,null,null,null,null,null,null,null,null,null,null,null,null,null,null,null,null,null,null,null,null,null,null,null,null,null,null,null,null,null,null,null,null,null,null,null,null,null,null,null,null,null,null,null,null,null,null,null,null,null,null,null,null,null,null,null,null,null,null,null,null,null,null,null,null,null,null,null,null,null,null,null,null,null,null,null,null,null,null,null,null,null,null,null,null,null,null,null,null,null,null,null,null,null,null,null,null,null,null,null,null,null,null,null,null,null,null,null,null,null,null,null,null,null,null,null,null,null,null,null,null,null,null,null,null,null,null,null,null,null,null,null,null,null,null,null,null,null,null,null,null,null,null,null,null,null,null,null,null,null,null,null,null,null,null,null,null,null,null,null,null,null,null,null,null,null,null,null,null,null,null,null,null,null,null,null,null,null,null,null,null,null,null,null,null,null,null,null,null,null,null,null,null,null,null,null,null,null,null,null,null,null,null,null,null,null,null,null,null,null,null,null,null,null,null,null,null,null,null,null,null,null,null,null,null,null,null,null,null,null,null,null,null,null,null,null,null,null,null,null,null,null,null,null,null,null,null,null,null,null,null,null,null,null,null,null,null,null,null,null,null,null,null,null,null,null,null,null,null,null,null,null,null,null,null,null,null,null,null,null,null,null,null,null,null,null,null,null,null,null,null,null,null,null,null,null,null,null,null,null,null,null,null,null,null,null,null,null,null,null,null,null,null,null,null,null,null,null,null,null,null,null,null,null,null,null,null,null,null,null,null,null,null,null,null,null,null,null,null,null,null,null,null,null,null,null,null,null,null,null,null,null,null,null,null,null,null,null,null,null,null,null,null,null,null,null,null,null,null,null,null,null,null,null,null,null,null,null,null,null,null,null,null,null,null,null,null,null,null,null,null,null,null,null,null,null,null,null,null,null,null,null,null,null,null,null,null,{"$f":"IF(UL583=\"A\",\"A\",IF(UL583=\"B\",\"B\",IF(UL583=\"C\",\"C\",IF(UL583=\"D\",\"D\",IF(UL583=\"-\",\"-\",IF(UL583>=1,(ROUND(UL583,0)),\"-\"))))))","v":"-"},"-","-","-","-","-","-","-","-","-","-","-","-","-","-","-","-"]
[null,null,null,null,null,null,null,null,580,"-","-","-",null,null,null,null,null,null,null,null,null,null,null,null,null,null,null,null,null,null,null,null,null,null,null,null,null,null,null,null,null,null,null,null,null,null,null,null,null,null,null,null,null,null,null,null,null,null,null,null,null,null,null,null,null,null,null,null,null,null,null,null,null,null,null,null,null,null,null,null,null,null,null,null,null,null,null,null,null,null,null,null,null,null,null,null,null,null,null,null,null,null,null,null,null,null,null,null,null,null,null,null,null,null,null,null,null,null,null,null,null,null,null,null,null,null,null,null,null,null,null,null,null,null,null,null,null,null,null,null,null,null,null,null,null,null,null,null,null,null,null,null,null,null,null,null,null,null,null,null,null,null,null,null,null,null,null,null,null,null,null,null,null,null,null,null,null,null,null,null,null,null,null,null,null,null,null,null,null,null,null,null,null,null,null,null,null,null,null,null,null,null,null,null,null,null,null,null,null,null,null,null,null,null,null,null,null,null,null,null,null,null,null,null,null,null,null,null,null,null,null,null,null,null,null,null,null,null,null,null,null,null,null,null,null,null,null,null,null,null,null,null,null,null,null,null,null,null,null,null,null,null,null,null,null,null,null,null,null,null,null,null,null,null,null,null,null,null,null,null,null,null,null,null,null,null,null,null,null,null,null,null,null,null,null,null,null,null,null,null,null,null,null,null,null,null,null,null,null,null,null,null,null,null,null,null,null,null,null,null,null,null,null,null,null,null,null,null,null,null,null,null,null,null,null,null,null,null,null,null,null,null,null,null,null,null,null,null,null,null,null,null,null,null,null,null,null,null,null,null,null,null,null,null,null,null,null,null,null,null,null,null,null,null,null,null,null,null,null,null,null,null,null,null,null,null,null,null,null,null,null,null,null,null,null,null,null,null,null,null,null,null,null,null,null,null,null,null,null,null,null,null,null,null,null,null,null,null,null,null,null,null,null,null,null,null,null,null,null,null,null,null,null,null,null,null,null,null,null,null,null,null,null,null,null,null,null,null,null,null,null,null,null,null,null,null,null,null,null,null,null,null,null,null,null,null,null,null,null,null,null,null,null,null,null,null,null,null,null,null,null,null,null,null,null,null,null,null,null,null,null,null,null,null,null,null,null,null,null,null,null,null,null,null,null,null,null,null,null,null,null,null,null,null,null,null,null,null,null,null,null,null,null,null,null,null,null,null,null,null,null,null,null,null,null,null,null,null,null,null,null,null,null,null,null,null,null,null,null,null,null,null,null,null,null,null,{"$f":"IF(UL587=\"A\",\"A\",IF(UL587=\"B\",\"B\",IF(UL587=\"C\",\"C\",IF(UL587=\"D\",\"D\",IF(UL587=\"-\",\"-\",IF(UL587>=1,(ROUND(UL587,0)),\"-\"))))))","v":"-"},"-","-","-","-","-","-","-","-","-","-","-","-","-","-","-","-"]
[null,null,null,null,null,null,null,null,631,"-",{"$f":"IF(K638=\"A\",\"A\",IF(K638=\"B\",\"B\",IF(K638=\"C\",\"C\",IF(K638=\"D\",\"D\",IF(K638=\"-\",\"-\",IF(K638>=1,(ROUND(K638,0)),\"-\"))))))","v":"-"},"-",null,null,null,null,null,null,null,null,null,null,null,null,null,null,null,null,null,null,null,null,null,null,null,null,null,null,null,null,null,null,null,null,null,null,null,null,null,null,null,null,null,null,null,null,null,null,null,null,null,null,null,null,null,null,null,null,null,null,null,null,null,null,null,null,null,null,null,null,null,null,null,null,null,null,null,null,null,null,null,null,null,null,null,null,null,null,null,null,null,null,null,null,null,null,null,null,null,null,null,null,null,null,null,null,null,null,null,null,null,null,null,null,null,null,null,null,null,null,null,null,null,null,null,null,null,null,null,null,null,null,null,null,null,null,null,null,null,null,null,null,null,null,null,null,null,null,null,null,null,null,null,null,null,null,null,null,null,null,null,null,null,null,null,null,null,null,null,null,null,null,null,null,null,null,null,null,null,null,null,null,null,null,null,null,null,null,null,null,null,null,null,null,null,null,null,null,null,null,null,null,null,null,null,null,null,null,null,null,null,null,null,null,null,null,null,null,null,null,null,null,null,null,null,null,null,null,null,null,null,null,null,null,null,null,null,null,null,null,null,null,null,null,null,null,null,null,null,null,null,null,null,null,null,null,null,null,null,null,null,null,null,null,null,null,null,null,null,null,null,null,null,null,null,null,null,null,null,null,null,null,null,null,null,null,null,null,null,null,null,null,null,null,null,null,null,null,null,null,null,null,null,null,null,null,null,null,null,null,null,null,null,null,null,null,null,null,null,null,null,null,null,null,null,null,null,null,null,null,null,null,null,null,null,null,null,null,null,null,null,null,null,null,null,null,null,null,null,null,null,null,null,null,null,null,null,null,null,null,null,null,null,null,null,null,null,null,null,null,null,null,null,null,null,null,null,null,null,null,null,null,null,null,null,null,null,null,null,null,null,null,null,null,null,null,null,null,null,null,null,null,null,null,null,null,null,null,null,null,null,null,null,null,null,null,null,null,null,null,null,null,null,null,null,null,null,null,null,null,null,null,null,null,null,null,null,null,null,null,null,null,null,null,null,null,null,null,null,null,null,null,null,null,null,null,null,null,null,null,null,null,null,null,null,null,null,null,null,null,null,null,null,null,null,null,null,null,null,null,null,null,null,null,null,null,null,null,null,null,null,null,null,null,null,null,null,null,null,null,null,null,null,null,null,null,null,null,null,null,null,null,null,null,null,null,null,null,null,null,null,null,null,null,null,null,null,null,null,null,null,null,null,null,null,null,null,null,null,null,null,null,null,null,null,null,{"$f":"IF(UL638=\"A\",\"A\",IF(UL638=\"B\",\"B\",IF(UL638=\"C\",\"C\",IF(UL638=\"D\",\"D\",IF(UL638=\"-\",\"-\",IF(UL638>=1,(ROUND(UL638,0)),\"-\"))))))","v":"-"},"-","-","-","-","-","-","-","-","-","-","-","-","-","-","-","-"]
[null,null,null,null,null,null,null,null,661,"-","-","-",null,null,null,null,null,null,null,null,null,null,null,null,null,null,null,null,null,null,null,null,null,null,null,null,null,null,null,null,null,null,null,null,null,null,null,null,null,null,null,null,null,null,null,null,null,null,null,null,null,null,null,null,null,null,null,null,null,null,null,null,null,null,null,null,null,null,null,null,null,null,null,null,null,null,null,null,null,null,null,null,null,null,null,null,null,null,null,null,null,null,null,null,null,null,null,null,null,null,null,null,null,null,null,null,null,null,null,null,null,null,null,null,null,null,null,null,null,null,null,null,null,null,null,null,null,null,null,null,null,null,null,null,null,null,null,null,null,null,null,null,null,null,null,null,null,null,null,null,null,null,null,null,null,null,null,null,null,null,null,null,null,null,null,null,null,null,null,null,null,null,null,null,null,null,null,null,null,null,null,null,null,null,null,null,null,null,null,null,null,null,null,null,null,null,null,null,null,null,null,null,null,null,null,null,null,null,null,null,null,null,null,null,null,null,null,null,null,null,null,null,null,null,null,null,null,null,null,null,null,null,null,null,null,null,null,null,null,null,null,null,null,null,null,null,null,null,null,null,null,null,null,null,null,null,null,null,null,null,null,null,null,null,null,null,null,null,null,null,null,null,null,null,null,null,null,null,null,null,null,null,null,null,null,null,null,null,null,null,null,null,null,null,null,null,null,null,null,null,null,null,null,null,null,null,null,null,null,null,null,null,null,null,null,null,null,null,null,null,null,null,null,null,null,null,null,null,null,null,null,null,null,null,null,null,null,null,null,null,null,null,null,null,null,null,null,null,null,null,null,null,null,null,null,null,null,null,null,null,null,null,null,null,null,null,null,null,null,null,null,null,null,null,null,null,null,null,null,null,null,null,null,null,null,null,null,null,null,null,null,null,null,null,null,null,null,null,null,null,null,null,null,null,null,null,null,null,null,null,null,null,null,null,null,null,null,null,null,null,null,null,null,null,null,null,null,null,null,null,null,null,null,null,null,null,null,null,null,null,null,null,null,null,null,null,null,null,null,null,null,null,null,null,null,null,null,null,null,null,null,null,null,null,null,null,null,null,null,null,null,null,null,null,null,null,null,null,null,null,null,null,null,null,null,null,null,null,null,null,null,null,null,null,null,null,null,null,null,null,null,null,null,null,null,null,null,null,null,null,null,null,null,null,null,null,null,null,null,null,null,null,null,null,null,null,null,null,null,null,null,null,null,null,null,null,null,null,null,null,null,null,null,null,null,null,{"$f":"IF(UL668=\"A\",\"A\",IF(UL668=\"B\",\"B\",IF(UL668=\"C\",\"C\",IF(UL668=\"D\",\"D\",IF(UL668=\"-\",\"-\",IF(UL668>=1,(ROUND(UL668,0)),\"-\"))))))","v":"-"},"-","-","-","-","-","-","-","-","-","-","-","-","-","-","-","-"]
[null,null,null,null,null,null,null,null,728,"-","-","-",null,null,null,null,null,null,null,null,null,null,null,null,null,null,null,null,null,null,null,null,null,null,null,null,null,null,null,null,null,null,null,null,null,null,null,null,null,null,null,null,null,null,null,null,null,null,null,null,null,null,null,null,null,null,null,null,null,null,null,null,null,null,null,null,null,null,null,null,null,null,null,null,null,null,null,null,null,null,null,null,null,null,null,null,null,null,null,null,null,null,null,null,null,null,null,null,null,null,null,null,null,null,null,null,null,null,null,null,null,null,null,null,null,null,null,null,null,null,null,null,null,null,null,null,null,null,null,null,null,null,null,null,null,null,null,null,null,null,null,null,null,null,null,null,null,null,null,null,null,null,null,null,null,null,null,null,null,null,null,null,null,null,null,null,null,null,null,null,null,null,null,null,null,null,null,null,null,null,null,null,null,null,null,null,null,null,null,null,null,null,null,null,null,null,null,null,null,null,null,null,null,null,null,null,null,null,null,null,null,null,null,null,null,null,null,null,null,null,null,null,null,null,null,null,null,null,null,null,null,null,null,null,null,null,null,null,null,null,null,null,null,null,null,null,null,null,null,null,null,null,null,null,null,null,null,null,null,null,null,null,null,null,null,null,null,null,null,null,null,null,null,null,null,null,null,null,null,null,null,null,null,null,null,null,null,null,null,null,null,null,null,null,null,null,null,null,null,null,null,null,null,null,null,null,null,null,null,null,null,null,null,null,null,null,null,null,null,null,null,null,null,null,null,null,null,null,null,null,null,null,null,null,null,null,null,null,null,null,null,null,null,null,null,null,null,null,null,null,null,null,null,null,null,null,null,null,null,null,null,null,null,null,null,null,null,null,null,null,null,null,null,null,null,null,null,null,null,null,null,null,null,null,null,null,null,null,null,null,null,null,null,null,null,null,null,null,null,null,null,null,null,null,null,null,null,null,null,null,null,null,null,null,null,null,null,null,null,null,null,null,null,null,null,null,null,null,null,null,null,null,null,null,null,null,null,null,null,null,null,null,null,null,null,null,null,null,null,null,null,null,null,null,null,null,null,null,null,null,null,null,null,null,null,null,null,null,null,null,null,null,null,null,null,null,null,null,null,null,null,null,null,null,null,null,null,null,null,null,null,null,null,null,null,null,null,null,null,null,null,null,null,null,null,null,null,null,null,null,null,null,null,null,null,null,null,null,null,null,null,null,null,null,null,null,null,null,null,null,null,null,null,null,null,null,null,null,null,null,null,null,null,null,null,null,{"$f":"IF(UL735=\"A\",\"A\",IF(UL735=\"B\",\"B\",IF(UL735=\"C\",\"C\",IF(UL735=\"D\",\"D\",IF(UL735=\"-\",\"-\",IF(UL735>=1,(ROUND(UL735,0)),\"-\"))))))","v":"-"},"-","-","-","-","-","-","-","-","-","-","-","-","-","-","-","-"]
[null,null,null,null,null,null,null,null,758,"-","-","-",null,null,null,null,null,null,null,null,null,null,null,null,null,null,null,null,null,null,null,null,null,null,null,null,null,null,null,null,null,null,null,null,null,null,null,null,null,null,null,null,null,null,null,null,null,null,null,null,null,null,null,null,null,null,null,null,null,null,null,null,null,null,null,null,null,null,null,null,null,null,null,null,null,null,null,null,null,null,null,null,null,null,null,null,null,null,null,null,null,null,null,null,null,null,null,null,null,null,null,null,null,null,null,null,null,null,null,null,null,null,null,null,null,null,null,null,null,null,null,null,null,null,null,null,null,null,null,null,null,null,null,null,null,null,null,null,null,null,null,null,null,null,null,null,null,null,null,null,null,null,null,null,null,null,null,null,null,null,null,null,null,null,null,null,null,null,null,null,null,null,null,null,null,null,null,null,null,null,null,null,null,null,null,null,null,null,null,null,null,null,null,null,null,null,null,null,null,null,null,null,null,null,null,null,null,null,null,null,null,null,null,null,null,null,null,null,null,null,null,null,null,null,null,null,null,null,null,null,null,null,null,null,null,null,null,null,null,null,null,null,null,null,null,null,null,null,null,null,null,null,null,null,null,null,null,null,null,null,null,null,null,null,null,null,null,null,null,null,null,null,null,null,null,null,null,null,null,null,null,null,null,null,null,null,null,null,null,null,null,null,null,null,null,null,null,null,null,null,null,null,null,null,null,null,null,null,null,null,null,null,null,null,null,null,null,null,null,null,null,null,null,null,null,null,null,null,null,null,null,null,null,null,null,null,null,null,null,null,null,null,null,null,null,null,null,null,null,null,null,null,null,null,null,null,null,null,null,null,null,null,null,null,null,null,null,null,null,null,null,null,null,null,null,null,null,null,null,null,null,null,null,null,null,null,null,null,null,null,null,null,null,null,null,null,null,null,null,null,null,null,null,null,null,null,null,null,null,null,null,null,null,null,null,null,null,null,null,null,null,null,null,null,null,null,null,null,null,null,null,null,null,null,null,null,null,null,null,null,null,null,null,null,null,null,null,null,null,null,null,null,null,null,null,null,null,null,null,null,null,null,null,null,null,null,null,null,null,null,null,null,null,null,null,null,null,null,null,null,null,null,null,null,null,null,null,null,null,null,null,null,null,null,null,null,null,null,null,null,null,null,null,null,null,null,null,null,null,null,null,null,null,null,null,null,null,null,null,null,null,null,null,null,null,null,null,null,null,null,null,null,null,null,null,null,null,null,null,null,null,null,null,null,null,null,{"$f":"IF(UL765=\"A\",\"A\",IF(UL765=\"B\",\"B\",IF(UL765=\"C\",\"C\",IF(UL765=\"D\",\"D\",IF(UL765=\"-\",\"-\",IF(UL765>=1,(ROUND(UL765,0)),\"-\"))))))","v":"-"},"-","-","-","-","-","-","-","-","-","-","-","-","-","-","-","-"]
[null,null,null,null,null,null,null,null,788,"-","-","-",null,null,null,null,null,null,null,null,null,null,null,null,null,null,null,null,null,null,null,null,null,null,null,null,null,null,null,null,null,null,null,null,null,null,null,null,null,null,null,null,null,null,null,null,null,null,null,null,null,null,null,null,null,null,null,null,null,null,null,null,null,null,null,null,null,null,null,null,null,null,null,null,null,null,null,null,null,null,null,null,null,null,null,null,null,null,null,null,null,null,null,null,null,null,null,null,null,null,null,null,null,null,null,null,null,null,null,null,null,null,null,null,null,null,null,null,null,null,null,null,null,null,null,null,null,null,null,null,null,null,null,null,null,null,null,null,null,null,null,null,null,null,null,null,null,null,null,null,null,null,null,null,null,null,null,null,null,null,null,null,null,null,null,null,null,null,null,null,null,null,null,null,null,null,null,null,null,null,null,null,null,null,null,null,null,null,null,null,null,null,null,null,null,null,null,null,null,null,null,null,null,null,null,null,null,null,null,null,null,null,null,null,null,null,null,null,null,null,null,null,null,null,null,null,null,null,null,null,null,null,null,null,null,null,null,null,null,null,null,null,null,null,null,null,null,null,null,null,null,null,null,null,null,null,null,null,null,null,null,null,null,null,null,null,null,null,null,null,null,null,null,null,null,null,null,null,null,null,null,null,null,null,null,null,null,null,null,null,null,null,null,null,null,null,null,null,null,null,null,null,null,null,null,null,null,null,null,null,null,null,null,null,null,null,null,null,null,null,null,null,null,null,null,null,null,null,null,null,null,null,null,null,null,null,null,null,null,null,null,null,null,null,null,null,null,null,null,null,null,null,null,null,null,null,null,null,null,null,null,null,null,null,null,null,null,null,null,null,null,null,null,null,null,null,null,null,null,null,null,null,null,null,null,null,null,null,null,null,null,null,null,null,null,null,null,null,null,null,null,null,null,null,null,null,null,null,null,null,null,null,null,null,null,null,null,null,null,null,null,null,null,null,null,null,null,null,null,null,null,null,null,null,null,null,null,null,null,null,null,null,null,null,null,null,null,null,null,null,null,null,null,null,null,null,null,null,null,null,null,null,null,null,null,null,null,null,null,null,null,null,null,null,null,null,null,null,null,null,null,null,null,null,null,null,null,null,null,null,null,null,null,null,null,null,null,null,null,null,null,null,null,null,null,null,null,null,null,null,null,null,null,null,null,null,null,null,null,null,null,null,null,null,null,null,null,null,null,null,null,null,null,null,null,null,null,null,null,null,null,null,null,null,null,null,{"$f":"IF(UL795=\"A\",\"A\",IF(UL795=\"B\",\"B\",IF(UL795=\"C\",\"C\",IF(UL795=\"D\",\"D\",IF(UL795=\"-\",\"-\",IF(UL795>=1,(ROUND(UL795,0)),\"-\"))))))","v":"-"},"-","-","-","-","-","-","-","-","-","-","-","-","-","-","-","-"]
[null,null,null,null,null,null,null,null,855,"-",{"$f":"IF(K862=\"A\",\"A\",IF(K862=\"B\",\"B\",IF(K862=\"C\",\"C\",IF(K862=\"D\",\"D\",IF(K862=\"-\",\"-\",IF(K862>=1,(ROUND(K862,0)),\"-\"))))))","v":"-"},"-",null,null,null,null,null,null,null,null,null,null,null,null,null,null,null,null,null,null,null,null,null,null,null,null,null,null,null,null,null,null,null,null,null,null,null,null,null,null,null,null,null,null,null,null,null,null,null,null,null,null,null,null,null,null,null,null,null,null,null,null,null,null,null,null,null,null,null,null,null,null,null,null,null,null,null,null,null,null,null,null,null,null,null,null,null,null,null,null,null,null,null,null,null,null,null,null,null,null,null,null,null,null,null,null,null,null,null,null,null,null,null,null,null,null,null,null,null,null,null,null,null,null,null,null,null,null,null,null,null,null,null,null,null,null,null,null,null,null,null,null,null,null,null,null,null,null,null,null,null,null,null,null,null,null,null,null,null,null,null,null,null,null,null,null,null,null,null,null,null,null,null,null,null,null,null,null,null,null,null,null,null,null,null,null,null,null,null,null,null,null,null,null,null,null,null,null,null,null,null,null,null,null,null,null,null,null,null,null,null,null,null,null,null,null,null,null,null,null,null,null,null,null,null,null,null,null,null,null,null,null,null,null,null,null,null,null,null,null,null,null,null,null,null,null,null,null,null,null,null,null,null,null,null,null,null,null,null,null,null,null,null,null,null,null,null,null,null,null,null,null,null,null,null,null,null,null,null,null,null,null,null,null,null,null,null,null,null,null,null,null,null,null,null,null,null,null,null,null,null,null,null,null,null,null,null,null,null,null,null,null,null,null,null,null,null,null,null,null,null,null,null,null,null,null,null,null,null,null,null,null,null,null,null,null,null,null,null,null,null,null,null,null,null,null,null,null,null,null,null,null,null,null,null,null,null,null,null,null,null,null,null,null,null,null,null,null,null,null,null,null,null,null,null,null,null,null,null,null,null,null,null,null,null,null,null,null,null,null,null,null,null,null,null,null,null,null,null,null,null,null,null,null,null,null,null,null,null,null,null,null,null,null,null,null,null,null,null,null,null,null,null,null,null,null,null,null,null,null,null,null,null,null,null,null,null,null,null,null,null,null,null,null,null,null,null,null,null,null,null,null,null,null,null,null,null,null,null,null,null,null,null,null,null,null,null,null,null,null,null,null,null,null,null,null,null,null,null,null,null,null,null,null,null,null,null,null,null,null,null,null,null,null,null,null,null,null,null,null,null,null,null,null,null,null,null,null,null,null,null,null,null,null,null,null,null,null,null,null,null,null,null,null,null,null,null,null,null,null,null,null,null,null,null,null,null,null,null,null,null,null,null,null,null,null,{"$f":"IF(UL862=\"A\",\"A\",IF(UL862=\"B\",\"B\",IF(UL862=\"C\",\"C\",IF(UL862=\"D\",\"D\",IF(UL862=\"-\",\"-\",IF(UL862>=1,(ROUND(UL862,0)),\"-\"))))))","v":"-"},"-","-","-","-","-","-","-","-","-","-","-","-","-","-","-","-"]
[null,null,null,null,null,null,null,null,21,"TIDAK","-","-","TIDAK","TIDAK","TIDAK","TIDAK","TIDAK","TIDAK","TIDAK","TIDAK","TIDAK","TIDAK","TIDAK","TIDAK","TIDAK","TIDAK","TIDAK","TIDAK","TIDAK","TIDAK","TIDAK","TIDAK","TIDAK","TIDAK","TIDAK","TIDAK","TIDAK","TIDAK","TIDAK","TIDAK","TIDAK","TIDAK","TIDAK","TIDAK","TIDAK","TIDAK","TIDAK","TIDAK","TIDAK","TIDAK","TIDAK","TIDAK","TIDAK","TIDAK","TIDAK","TIDAK","TIDAK","TIDAK","TIDAK","TIDAK","TIDAK","TIDAK","TIDAK","TIDAK","TIDAK","TIDAK","TIDAK","TIDAK","TIDAK","TIDAK","TIDAK","TIDAK","TIDAK","TIDAK","TIDAK","TIDAK","TIDAK","TIDAK","TIDAK","TIDAK","TIDAK","TIDAK","TIDAK","TIDAK","TIDAK","TIDAK","TIDAK","TIDAK","TIDAK","TIDAK","TIDAK","TIDAK","TIDAK","TIDAK","TIDAK","TIDAK","TIDAK","TIDAK","TIDAK",{"$f":"IF(CW28=CV896,\"-\",\"TIDAK\")","v":"TIDAK"},"TIDAK","TIDAK","TIDAK","TIDAK","TIDAK","TIDAK","TIDAK","TIDAK","TIDAK","TIDAK","TIDAK","TIDAK","TIDAK","TIDAK","TIDAK","TIDAK","TIDAK","TIDAK","TIDAK","TIDAK","TIDAK","TIDAK","TIDAK","TIDAK","TIDAK","TIDAK","TIDAK","TIDAK","TIDAK","TIDAK","TIDAK","TIDAK","TIDAK","TIDAK","TIDAK","TIDAK","TIDAK","TIDAK","TIDAK","TIDAK","TIDAK","TIDAK","TIDAK","TIDAK","TIDAK","TIDAK","TIDAK","TIDAK","TIDAK","TIDAK","TIDAK","TIDAK","TIDAK","TIDAK","TIDAK","TIDAK","TIDAK","TIDAK","TIDAK","TIDAK","TIDAK","TIDAK",{"$f":"IF(FH28=FG896,\"-\",\"TIDAK\")","v":"TIDAK"},"TIDAK","TIDAK","TIDAK","TIDAK","TIDAK","TIDAK","TIDAK","TIDAK","TIDAK","TIDAK","TIDAK","TIDAK","TIDAK","TIDAK","TIDAK","TIDAK","TIDAK","TIDAK","TIDAK","TIDAK","TIDAK","TIDAK","TIDAK","TIDAK","TIDAK",{"$f":"IF(#REF!=GG896,\"-\",\"TIDAK\")","v":{"$error":"#REF!"}},"-","-","-","-","-","-","-","-","-","-","-","-","-","-","-","-","-","-","-","-","-","-","-","-","-","-","-","-","-","-","-","-","-","-","-","-",{"$f":"IF(HS28=HR896,\"-\",\"TIDAK\")","v":"-"},"-","-","-","-","-","-","-","-","-","-","-","-","-","-","-","-","-","-","-","-","-","-","-","-","-","-","-","-","-","-","-","-","-","-","-","-","-","-","-","-","-","-","-","-","-","-","-","-","-","-","-","-",{"$f":"IF(#REF!=JS896,\"-\",\"TIDAK\")","v":{"$error":"#REF!"}},"-","-","-","-","-","-","-","-","-",{"$f":"IF(KD28=KC896,\"-\",\"TIDAK\")","v":"-"},"-","-","-","-","-","-","-","-","-","-","-","-","-","-","-","-","-","-","-","-","-","-","-","-","-","-","-","-","-","-","-","-","-","-","-","-","-","-","-","-","-","-","-","-","-","-","-","-","-","-","-","-","-","-","-","-","-","-","-","-","-","-","-",{"$f":"IF(MP28=MO896,\"-\",\"TIDAK\")","v":"-"},"-","-","-","-","-","-","-","-","-","-","-","-","-","-","-",{"$f":"IF(#REF!=NE896,\"-\",\"TIDAK\")","v":{"$error":"#REF!"}},"-","-","-","-","-","-","-","-","-","-","-","-","-","-","-","-","-","-","-","-","-","-","-","-","-","-","-","-","-","-","-","-","-","-","-","-","-","-","-","-","-","-","-","-","-","-",{"$f":"IF(PA28=OZ896,\"-\",\"TIDAK\")","v":"-"},"-","-","-","-","-","-","-","-","-","-","-","-","-","-","-","-","-","-","-","-","-","-","-","-","-","-","-","-","-","-","-","-","-","-","-","-","-","-","-","-","-","-",{"$f":"IF(#REF!=QQ896,\"-\",\"TIDAK\")","v":{"$error":"#REF!"}},"-","-","-","-","-","-","-","-","-","-","-","-","-","-","-","-","-","-","-",{"$f":"IF(RL28=RK896,\"-\",\"TIDAK\")","v":"-"},"-","-","-","-","-","-","-","-","-","-","-","-","-","-","-","-","-","-","-","-","-","-","-","-","-","-","-","-","-","-","-","-","-","-","-","-","-","-","-","-","-","-","-","-","-","-","-","-","-","-","-","-","-","-","-","-","-","-","-","-","-","-","-","-","-"]
[null,null,null,null,null,null,null,null,42,"TIDAK","TIDAK","TIDAK","-","-","-","-","-","-","-","-","-","-","-","-","-","-","-","-","-","-","-","-","-","-","-","-","-","-","-","-","-","-","-","-","-","-","-","-","-","-","-","-","-","-","-","-","-","-","-","-","-","-","-","-","-","-","-","-","-","-","-","-","-",{"$f":"IF(BV49=BV917,\"-\",\"TIDAK\")","v":"-"},"-","-","-","-","-","-","-","-","-","-","-","-","-","-","-","-","-","-","-","-","-","-","-","-","-",{"$f":"IF(CW49=CV917,\"-\",\"TIDAK\")","v":"TIDAK"},"TIDAK","TIDAK","TIDAK","TIDAK","TIDAK","TIDAK","TIDAK","TIDAK","TIDAK","TIDAK","TIDAK","TIDAK","TIDAK","TIDAK","TIDAK","TIDAK","TIDAK","TIDAK","TIDAK","TIDAK","TIDAK","TIDAK","TIDAK","TIDAK","TIDAK","TIDAK","TIDAK","TIDAK","TIDAK","TIDAK","TIDAK","TIDAK","TIDAK","TIDAK","TIDAK","TIDAK","TIDAK","TIDAK","TIDAK","TIDAK","TIDAK","TIDAK","TIDAK","TIDAK","TIDAK","TIDAK","TIDAK","TIDAK","TIDAK","TIDAK","TIDAK","TIDAK","TIDAK","TIDAK","TIDAK","TIDAK","TIDAK","TIDAK","TIDAK","TIDAK","TIDAK","TIDAK",{"$f":"IF(FH49=FG917,\"-\",\"TIDAK\")","v":"TIDAK"},"TIDAK","TIDAK","TIDAK","TIDAK","TIDAK","TIDAK","TIDAK","TIDAK","TIDAK","TIDAK","TIDAK","TIDAK","TIDAK","TIDAK","TIDAK","TIDAK","TIDAK","TIDAK","TIDAK","TIDAK","TIDAK","TIDAK","TIDAK","TIDAK","TIDAK",{"$f":"IF(#REF!=GG917,\"-\",\"TIDAK\")","v":{"$error":"#REF!"}},"-","-","-","-","-","-","-","-","-","-","-","-","-","-","-","-","-","-","-","-","-","-","-","-","-","-","-","-","-","-","-","-","-","-","-","-",{"$f":"IF(HS49=HR917,\"-\",\"TIDAK\")","v":"-"},"-","-","-","-","-","-","-","-","-","-","-","-","-","-","-","-","-","-","-","-","-","-","-","-","-","-","-","-","-","-","-","-","-","-","-","-","-","-","-","-","-","-","-","-","-","-","-","-","-","-","-","-",{"$f":"IF(#REF!=JS917,\"-\",\"TIDAK\")","v":{"$error":"#REF!"}},"-","-","-","-","-","-","-","-","-",{"$f":"IF(KD49=KC917,\"-\",\"TIDAK\")","v":"-"},"-","-","-","-","-","-","-","-","-","-","-","-","-","-","-","-","-","-","-","-","-","-","-","-","-","-","-","-","-","-","-","-","-","-","-","-","-","-","-","-","-","-","-","-","-","-","-","-","-","-","-","-","-","-","-","-","-","-","-","-","-","-","-",{"$f":"IF(MP49=MO917,\"-\",\"TIDAK\")","v":"-"},"-","-","-","-","-","-","-","-","-","-","-","-","-","-","-",{"$f":"IF(#REF!=NE917,\"-\",\"TIDAK\")","v":{"$error":"#REF!"}},"-","-","-","-","-","-","-","-","-","-","-","-","-","-","-","-","-","-","-","-","-","-","-","-","-","-","-","-","-","-","-","-","-","-","-","-","-","-","-","-","-","-","-","-","-","-",{"$f":"IF(PA49=OZ917,\"-\",\"TIDAK\")","v":"-"},"-","-","-","-","-","-","-","-","-","-","-","-","-","-","-","-","-","-","-","-","-","-","-","-","-","-","-","-","-","-","-","-","-","-","-","-","-","-","-","-","-","-",{"$f":"IF(#REF!=QQ917,\"-\",\"TIDAK\")","v":{"$error":"#REF!"}},"-","-","-","-","-","-","-","-","-","-","-","-","-","-","-","-","-","-","-",{"$f":"IF(RL49=RK917,\"-\",\"TIDAK\")","v":"-"},"-","-","-","-","-","-","-","-","-","-","-","-","-","-","-","-","-","-","-","-","-","-","-","-","-","-","-","-","-","-","-","-","-","-","-","-","-","-","-","-","-","-","-","-","-","-","-","-","-","-","-","-","-","-","-","-","-","-","-","-","-","-","-","-","-"]
[null,null,null,null,null,null,null,null,113,"-","-","-","TIDAK","TIDAK","TIDAK","TIDAK","TIDAK","TIDAK","TIDAK","TIDAK","TIDAK","TIDAK","TIDAK","TIDAK","TIDAK","TIDAK","TIDAK","TIDAK","TIDAK","TIDAK","TIDAK","TIDAK","TIDAK","TIDAK","TIDAK","TIDAK","-","-","-","-","-","-","-","-","-","-","-","-","-","-","-","-","-","-","-","-","-","-","-","-","-","-","-","-","-","-","-","-","-","TIDAK","TIDAK","TIDAK","TIDAK","TIDAK","TIDAK","TIDAK","TIDAK","TIDAK","TIDAK","TIDAK","TIDAK","-","-","-","-","-","-","-","-","-","-","-","-","-","-","-","TIDAK","TIDAK","TIDAK",{"$f":"IF(CW120=CV988,\"-\",\"TIDAK\")","v":"-"},"-","-","-","-","-","-","-","-","-","-","-","-","-","-","-","-","-","-","-","-","-","-","-","-","-","-","-","-","-","-","-","-","-","-","-","-","-","-","-","-","-","-","-","-","-","-","-","-","-","-","-","-","-","-","-","-","-","-","-","-","-","-",{"$f":"IF(FH120=FG988,\"-\",\"TIDAK\")","v":"-"},"-","-","-","-","-","-","-","-","-","-","-","-","-","-","-","-","-","-","-","-","-","-","-","-","-",{"$f":"IF(#REF!=GG988,\"-\",\"TIDAK\")","v":{"$error":"#REF!"}},"-","-","-","-","-","-","-","-","-","-","-","-","-","-","-","-","-","-","-","-","-","-","-","-","-","-","-","-","-","-","-","-","-","-","-","-",{"$f":"IF(HS120=HR988,\"-\",\"TIDAK\")","v":"-"},"-","-","-","-","-","-","-","-","-","-","-","-","-","-","-","-","-","-","-","-","-","-","-","-","-","-","-","-","-","-","-","-","-","-","-","-","-","-","-","-","-","-","-","-","-","-","-","-","-","-","-","-",{"$f":"IF(#REF!=JS988,\"-\",\"TIDAK\")","v":{"$error":"#REF!"}},"-","-","-","-","-","-","-","-","-",{"$f":"IF(KD120=KC988,\"-\",\"TIDAK\")","v":"-"},"-","-","-","-","-","-","-","-","-","-","-","-","-","-","-","-","-","-","-","-","-","-","-","-","-","-","-","-","-","-","-","-","-","-","-","-","-","-","-","-","-","-","-","-","-","-","-","-","-","-","-","-","-","-","-","-","-","-","-","-","-","-","-",{"$f":"IF(MP120=MO988,\"-\",\"TIDAK\")","v":"-"},"-","-","-","-","-","-","-","-","-","-","-","-","-","-","-",{"$f":"IF(#REF!=NE988,\"-\",\"TIDAK\")","v":{"$error":"#REF!"}},"-","-","-","-","-","-","-","-","-","-","-","-","-","-","-","-","-","-","-","-","-","-","-","-","-","-","-","-","-","-","-","-","-","-","-","-","-","-","-","-","-","-","-","-","-","-",{"$f":"IF(PA120=OZ988,\"-\",\"TIDAK\")","v":"-"},"-","-","-","-","-","-","-","-","-","-","-","-","-","-","-","-","-","-","-","-","-","-","-","-","-","-","-","-","-","-","-","-","-","-","-","-","-","-","-","-","-","-",{"$f":"IF(#REF!=QQ988,\"-\",\"TIDAK\")","v":{"$error":"#REF!"}},"-","-","-","-","-","-","-","-","-","-","-","-","-","-","-","-","-","-","-",{"$f":"IF(RL120=RK988,\"-\",\"TIDAK\")","v":"-"},"-","-","-","-","-","-","-","-","-","-","-","-","-","-","-","-","-","-","-","-","-","-","-","-","-","-","-","-","-","-","-","-","-","-","-","-","-","-","-","-","-","-","-","-","-","-","-","-","-","-","-","-","-","-","-","-","-","-","-","-","-","-","-","-","-"]
[null,null,null,null,null,null,null,null,143,"-",{"$f":"IF(K150=K1018,\"-\",\"TIDAK\")","v":"-"},"-","TIDAK","TIDAK","TIDAK","TIDAK","TIDAK","TIDAK","TIDAK","TIDAK","TIDAK","TIDAK","TIDAK","TIDAK","TIDAK","TIDAK","TIDAK","TIDAK","TIDAK","TIDAK","TIDAK","TIDAK","TIDAK","TIDAK","TIDAK","TIDAK","-","-","-","-","-","-","-","-","-","-","-","-","-","-","-","-","-","-","-","-","-","-","-","-","-","-","-","-","-","-","TIDAK","TIDAK","TIDAK","TIDAK","TIDAK","TIDAK","TIDAK","TIDAK","TIDAK","-","-","-","-","-","-","-","-","-","-","-","-","-","-","-","-","-","-","-","-","-","TIDAK","TIDAK","TIDAK",{"$f":"IF(CW150=CV1018,\"-\",\"TIDAK\")","v":"-"},"-","-","-","-","-","-","-","-","-","-","-","-","-","-","-","-","-","-","-","-","-","-","-","-","-","-","-","-","-","-","-","-","-","-","-","-","-","-","-","-","-","-","-","-","-","-","-","-","-","-","-","-","-","-","-","-","-","-","-","-","-","-",{"$f":"IF(FH150=FG1018,\"-\",\"TIDAK\")","v":"-"},"-","-","-","-","-","-","-","-","-","-","-","-","-","-","-","-","-","-","-","-","-","-","-","-","-",{"$f":"IF(#REF!=GG1018,\"-\",\"TIDAK\")","v":{"$error":"#REF!"}},"-","-","-","-","-","-","-","-","-","-","-","-","-","-","-","-","-","-","-","-","-","-","-","-","-","-","-","-","-","-","-","-","-","-","-","-",{"$f":"IF(HS150=HR1018,\"-\",\"TIDAK\")","v":"-"},"-","-","-","-","-","-","-","-","-","-","-","-","-","-","-","-","-","-","-","-","-","-","-","-","-","-","-","-","-","-","-","-","-","-","-","-","-","-","-","-","-","-","-","-","-","-","-","-","-","-","-","-",{"$f":"IF(#REF!=JS1018,\"-\",\"TIDAK\")","v":{"$error":"#REF!"}},"-","-","-","-","-","-","-","-","-",{"$f":"IF(KD150=KC1018,\"-\",\"TIDAK\")","v":"-"},"-","-","-","-","-","-","-","-","-","-","-","-","-","-","-","-","-","-","-","-","-","-","-","-","-","-","-","-","-","-","-","-","-","-","-","-","-","-","-","-","-","-","-","-","-","-","-","-","-","-","-","-","-","-","-","-","-","-","-","-","-","-","-",{"$f":"IF(MP150=MO1018,\"-\",\"TIDAK\")","v":"-"},"-","-","-","-","-","-","-","-","-","-","-","-","-","-","-",{"$f":"IF(#REF!=NE1018,\"-\",\"TIDAK\")","v":{"$error":"#REF!"}},"-","-","-","-","-","-","-","-","-","-","-","-","-","-","-","-","-","-","-","-","-","-","-","-","-","-","-","-","-","-","-","-","-","-","-","-","-","-","-","-","-","-","-","-","-","-",{"$f":"IF(PA150=OZ1018,\"-\",\"TIDAK\")","v":"-"},"-","-","-","-","-","-","-","-","-","-","-","-","-","-","-","-","-","-","-","-","-","-","-","-","-","-","-","-","-","-","-","-","-","-","-","-","-","-","-","-","-","-",{"$f":"IF(#REF!=QQ1018,\"-\",\"TIDAK\")","v":{"$error":"#REF!"}},"-","-","-","-","-","-","-","-","-","-","-","-","-","-","-","-","-","-","-",{"$f":"IF(RL150=RK1018,\"-\",\"TIDAK\")","v":"-"},"-","-","-","-","-","-","-","-","-","-","-","-","-","-","-","-","-","-","-","-","-","-","-","-","-","-","-","-","-","-","-","-","-","-","-","-","-","-","-","-","-","-","-","-","-","-","-","-","-","-","-","-","-","-","-","-","-","-","-","-","-","-","-","-","-"]
[null,null,null,null,null,null,null,null,169,"-","-","-","TIDAK","TIDAK","TIDAK","TIDAK","TIDAK","TIDAK","TIDAK","TIDAK","TIDAK","TIDAK","TIDAK","TIDAK","TIDAK","TIDAK","TIDAK","TIDAK","TIDAK","TIDAK","TIDAK","TIDAK","TIDAK","TIDAK","TIDAK","TIDAK","-","-","-","-","-","-","-","-","-","-","-","-","-","-","-","-","-","-","-","-","-","-","-","-","-","-","-","-","-","-","TIDAK","TIDAK","TIDAK","TIDAK","TIDAK","TIDAK","TIDAK","TIDAK","TIDAK","-","-","-","-","-","-","-","-","-","-","-","-","-","-","-","-","-","-","-","-","-","TIDAK","TIDAK","TIDAK",{"$f":"IF(CW176=CV1044,\"-\",\"TIDAK\")","v":"-"},"-","-","-","-","-","-","-","-","-","-","-","-","-","-","-","-","-","-","-","-","-","-","-","-","-","-","-","-","-","-","-","-","-","-","-","-","-","-","-","-","-","-","-","-","-","-","-","-","-","-","-","-","-","-","-","-","-","-","-","-","-","-",{"$f":"IF(FH176=FG1044,\"-\",\"TIDAK\")","v":"-"},"-","-","-","-","-","-","-","-","-","-","-","-","-","-","-","-","-","-","-","-","-","-","-","-","-",{"$f":"IF(#REF!=GG1044,\"-\",\"TIDAK\")","v":{"$error":"#REF!"}},"-","-","-","-","-","-","-","-","-","-","-","-","-","-","-","-","-","-","-","-","-","-","-","-","-","-","-","-","-","-","-","-","-","-","-","-",{"$f":"IF(HS176=HR1044,\"-\",\"TIDAK\")","v":"-"},"-","-","-","-","-","-","-","-","-","-","-","-","-","-","-","-","-","-","-","-","-","-","-","-","-","-","-","-","-","-","-","-","-","-","-","-","-","-","-","-","-","-","-","-","-","-","-","-","-","-","-","-",{"$f":"IF(#REF!=JS1044,\"-\",\"TIDAK\")","v":{"$error":"#REF!"}},"-","-","-","-","-","-","-","-","-",{"$f":"IF(KD176=KC1044,\"-\",\"TIDAK\")","v":"-"},"-","-","-","-","-","-","-","-","-","-","-","-","-","-","-","-","-","-","-","-","-","-","-","-","-","-","-","-","-","-","-","-","-","-","-","-","-","-","-","-","-","-","-","-","-","-","-","-","-","-","-","-","-","-","-","-","-","-","-","-","-","-","-",{"$f":"IF(MP176=MO1044,\"-\",\"TIDAK\")","v":"-"},"-","-","-","-","-","-","-","-","-","-","-","-","-","-","-",{"$f":"IF(#REF!=NE1044,\"-\",\"TIDAK\")","v":{"$error":"#REF!"}},"-","-","-","-","-","-","-","-","-","-","-","-","-","-","-","-","-","-","-","-","-","-","-","-","-","-","-","-","-","-","-","-","-","-","-","-","-","-","-","-","-","-","-","-","-","-",{"$f":"IF(PA176=OZ1044,\"-\",\"TIDAK\")","v":"-"},"-","-","-","-","-","-","-","-","-","-","-","-","-","-","-","-","-","-","-","-","-","-","-","-","-","-","-","-","-","-","-","-","-","-","-","-","-","-","-","-","-","-",{"$f":"IF(#REF!=QQ1044,\"-\",\"TIDAK\")","v":{"$error":"#REF!"}},"-","-","-","-","-","-","-","-","-","-","-","-","-","-","-","-","-","-","-",{"$f":"IF(RL176=RK1044,\"-\",\"TIDAK\")","v":"-"},"-","-","-","-","-","-","-","-","-","-","-","-","-","-","-","-","-","-","-","-","-","-","-","-","-","-","-","-","-","-","-","-","-","-","-","-","-","-","-","-","-","-","-","-","-","-","-","-","-","-","-","-","-","-","-","-","-","-","-","-","-","-","-","-","-"]
[null,null,null,null,null,null,null,null,199,"-",{"$f":"IF(K206=K1074,\"-\",\"TIDAK\")","v":"-"},"-","TIDAK","TIDAK","TIDAK","TIDAK","TIDAK","TIDAK","TIDAK","TIDAK","TIDAK","TIDAK","TIDAK","TIDAK","TIDAK","TIDAK","TIDAK","TIDAK","TIDAK","TIDAK","TIDAK","TIDAK","TIDAK","TIDAK","TIDAK","TIDAK","TIDAK","TIDAK","TIDAK","TIDAK","TIDAK","TIDAK","TIDAK","TIDAK","TIDAK","TIDAK","TIDAK","TIDAK","TIDAK","TIDAK","TIDAK","TIDAK","TIDAK","TIDAK","TIDAK","TIDAK","TIDAK","TIDAK","TIDAK","TIDAK","TIDAK","TIDAK","TIDAK","TIDAK","TIDAK","TIDAK","TIDAK","TIDAK","TIDAK","TIDAK","TIDAK","TIDAK","TIDAK","TIDAK","TIDAK","TIDAK","TIDAK","TIDAK","TIDAK","TIDAK","TIDAK","TIDAK","TIDAK","TIDAK","TIDAK","TIDAK","TIDAK","TIDAK","TIDAK","TIDAK","TIDAK","TIDAK","TIDAK","TIDAK","TIDAK","TIDAK","TIDAK","TIDAK","TIDAK",{"$f":"IF(CW206=CV1074,\"-\",\"TIDAK\")","v":"-"},"-","-","-","-","-","-","-","-","-","-","-","-","-","-","-","-","-","-","-","-","-","-","-","-","-","-","-","-","-","-","-","-","-","-","-","-","-","-","-","-","-","-","-","-","-","-","-","-","-","-","-","-","-","-","-","-","-","-","-","-","-","-",{"$f":"IF(FH206=FG1074,\"-\",\"TIDAK\")","v":"-"},"-","-","-","-","-","-","-","-","-","-","-","-","-","-","-","-","-","-","-","-","-","-","-","-","-",{"$f":"IF(#REF!=GG1074,\"-\",\"TIDAK\")","v":{"$error":"#REF!"}},"-","-","-","-","-","-","-","-","-","-","-","-","-","-","-","-","-","-","-","-","-","-","-","-","-","-","-","-","-","-","-","-","-","-","-","-",{"$f":"IF(HS206=HR1074,\"-\",\"TIDAK\")","v":"-"},"-","-","-","-","-","-","-","-","-","-","-","-","-","-","-","-","-","-","-","-","-","-","-","-","-","-","-","-","-","-","-","-","-","-","-","-","-","-","-","-","-","-","-","-","-","-","-","-","-","-","-","-",{"$f":"IF(#REF!=JS1074,\"-\",\"TIDAK\")","v":{"$error":"#REF!"}},"-","-","-","-","-","-","-","-","-",{"$f":"IF(KD206=KC1074,\"-\",\"TIDAK\")","v":"-"},"-","-","-","-","-","-","-","-","-","-","-","-","-","-","-","-","-","-","-","-","-","-","-","-","-","-","-","-","-","-","-","-","-","-","-","-","-","-","-","-","-","-","-","-","-","-","-","-","-","-","-","-","-","-","-","-","-","-","-","-","-","-","-",{"$f":"IF(MP206=MO1074,\"-\",\"TIDAK\")","v":"-"},"-","-","-","-","-","-","-","-","-","-","-","-","-","-","-",{"$f":"IF(#REF!=NE1074,\"-\",\"TIDAK\")","v":{"$error":"#REF!"}},"-","-","-","-","-","-","-","-","-","-","-","-","-","-","-","-","-","-","-","-","-","-","-","-","-","-","-","-","-","-","-","-","-","-","-","-","-","-","-","-","-","-","-","-","-","-",{"$f":"IF(PA206=OZ1074,\"-\",\"TIDAK\")","v":"-"},"-","-","-","-","-","-","-","-","-","-","-","-","-","-","-","-","-","-","-","-","-","-","-","-","-","-","-","-","-","-","-","-","-","-","-","-","-","-","-","-","-","-",{"$f":"IF(#REF!=QQ1074,\"-\",\"TIDAK\")","v":{"$error":"#REF!"}},"-","-","-","-","-","-","-","-","-","-","-","-","-","-","-","-","-","-","-",{"$f":"IF(RL206=RK1074,\"-\",\"TIDAK\")","v":"-"},"-","-","-","-","-","-","-","-","-","-","-","-","-","-","-","-","-","-","-","-","-","-","-","-","-","-","-","-","-","-","-","-","-","-","-","-","-","-","-","-","-","-","-","-","-","-","-","-","-","-","-","-","-","-","-","-","-","-","-","-","-","-","-","-","-"]
[null,null,null,null,null,null,null,null,270,"TIDAK","TIDAK","TIDAK","-","-","-","-","-","-","-","-","-","-","-","-","-","-","-","-","-","-","-","-","-","-","-","-","-","-","-","-","-","-","-","-","-","-","-","-","-","-","-","-","-","-","-","-","-","-","-","-","-","-","-","-","-","-","-","-","-","-","-","-","-",{"$f":"IF(BV277=BV1145,\"-\",\"TIDAK\")","v":"-"},"-","-","-","-","-","-","-","-","-","-","-","-","-","-","-","-","-","-","-","-","-","-","-","-","-",{"$f":"IF(CW277=CV1145,\"-\",\"TIDAK\")","v":"-"},"-","-","-","-","-","-","-","-","-","-","-","-","-","-","-","-","-","-","-","-","-","-","-","-","-","-","-","-","-","-","-","-","-","-","-","-","-","-","-","-","-","-","-","-","-","-","-","-","-","-","-","-","-","-","-","-","-","-","-","-","-","-",{"$f":"IF(FH277=FG1145,\"-\",\"TIDAK\")","v":"-"},"-","-","-","-","-","-","-","-","-","-","-","-","-","-","-","-","-","-","-","-","-","-","-","-","-",{"$f":"IF(#REF!=GG1145,\"-\",\"TIDAK\")","v":{"$error":"#REF!"}},"-","-","-","-","-","-","-","-","-","-","-","-","-","-","-","-","-","-","-","-","-","-","-","-","-","-","-","-","-","-","-","-","-","-","-","-",{"$f":"IF(HS277=HR1145,\"-\",\"TIDAK\")","v":"-"},"-","-","-","-","-","-","-","-","-","-","-","-","-","-","-","-","-","-","-","-","-","-","-","-","-","-","-","-","-","-","-","-","-","-","-","-","-","-","-","-","-","-","-","-","-","-","-","-","-","-","-","-",{"$f":"IF(#REF!=JS1145,\"-\",\"TIDAK\")","v":{"$error":"#REF!"}},"-","-","-","-","-","-","-","-","-",{"$f":"IF(KD277=KC1145,\"-\",\"TIDAK\")","v":"-"},"-","-","-","-","-","-","-","-","-","-","-","-","-","-","-","-","-","-","-","-","-","-","-","-","-","-","-","-","-","-","-","-","-","-","-","-","-","-","-","-","-","-","-","-","-","-","-","-","-","-","-","-","-","-","-","-","-","-","-","-","-","-","-",{"$f":"IF(MP277=MO1145,\"-\",\"TIDAK\")","v":"-"},"-","-","-","-","-","-","-","-","-","-","-","-","-","-","-",{"$f":"IF(#REF!=NE1145,\"-\",\"TIDAK\")","v":{"$error":"#REF!"}},"-","-","-","-","-","-","-","-","-","-","-","-","-","-","-","-","-","-","-","-","-","-","-","-","-","-","-","-","-","-","-","-","-","-","-","-","-","-","-","-","-","-","-","-","-","-",{"$f":"IF(PA277=OZ1145,\"-\",\"TIDAK\")","v":"-"},"-","-","-","-","-","-","-","-","-","-","-","-","-","-","-","-","-","-","-","-","-","-","-","-","-","-","-","-","-","-","-","-","-","-","-","-","-","-","-","-","-","-",{"$f":"IF(#REF!=QQ1145,\"-\",\"TIDAK\")","v":{"$error":"#REF!"}},"-","-","-","-","-","-","-","-","-","-","-","-","-","-","-","-","-","-","-",{"$f":"IF(RL277=RK1145,\"-\",\"TIDAK\")","v":"-"},"-","-","-","-","-","-","-","-","-","-","-","-","-","-","-","-","-","-","-","-","-","-","-","-","-","-","-","-","-","-","-","-","-","-","-","-","-","-","-","-","-","-","-","-","-","-","-","-","-","-","-","-","-","-","-","-","-","-","-","-","-","-","-","-","-"]
[null,null,null,null,null,null,null,null,290,"TIDAK","TIDAK","TIDAK","-","-","-","-","-","-","-","-","-","-","-","-","-","-","-","-","-","-","-","-","-","-","-","-","-","-","-","-","-","-","-","-","-","-","-","-","-","-","-","-","-","-","-","-","-","-","-","-","-","-","-","-","-","-","-","-","-","-","-","-","-",{"$f":"IF(BV297=BV1165,\"-\",\"TIDAK\")","v":"-"},"-","-","-","-","-","-","-","-","-","-","-","-","-","-","-","-","-","-","-","-","-","-","-","-","-",{"$f":"IF(CW297=CV1165,\"-\",\"TIDAK\")","v":"-"},"-","-","-","-","-","-","-","-","-","-","-","-","-","-","-","-","-","-","-","-","-","-","-","-","-","-","-","-","-","-","-","-","-","-","-","-","-","-","-","-","-","-","-","-","-","-","-","-","-","-","-","-","-","-","-","-","-","-","-","-","-","-",{"$f":"IF(FH297=FG1165,\"-\",\"TIDAK\")","v":"-"},"-","-","-","-","-","-","-","-","-","-","-","-","-","-","-","-","-","-","-","-","-","-","-","-","-",{"$f":"IF(#REF!=GG1165,\"-\",\"TIDAK\")","v":{"$error":"#REF!"}},"-","-","-","-","-","-","-","-","-","-","-","-","-","-","-","-","-","-","-","-","-","-","-","-","-","-","-","-","-","-","-","-","-","-","-","-",{"$f":"IF(HS297=HR1165,\"-\",\"TIDAK\")","v":"-"},"-","-","-","-","-","-","-","-","-","-","-","-","-","-","-","-","-","-","-","-","-","-","-","-","-","-","-","-","-","-","-","-","-","-","-","-","-","-","-","-","-","-","-","-","-","-","-","-","-","-","-","-",{"$f":"IF(#REF!=JS1165,\"-\",\"TIDAK\")","v":{"$error":"#REF!"}},"-","-","-","-","-","-","-","-","-",{"$f":"IF(KD297=KC1165,\"-\",\"TIDAK\")","v":"-"},"-","-","-","-","-","-","-","-","-","-","-","-","-","-","-","-","-","-","-","-","-","-","-","-","-","-","-","-","-","-","-","-","-","-","-","-","-","-","-","-","-","-","-","-","-","-","-","-","-","-","-","-","-","-","-","-","-","-","-","-","-","-","-",{"$f":"IF(MP297=MO1165,\"-\",\"TIDAK\")","v":"-"},"-","-","-","-","-","-","-","-","-","-","-","-","-","-","-",{"$f":"IF(#REF!=NE1165,\"-\",\"TIDAK\")","v":{"$error":"#REF!"}},"-","-","-","-","-","-","-","-","-","-","-","-","-","-","-","-","-","-","-","-","-","-","-","-","-","-","-","-","-","-","-","-","-","-","-","-","-","-","-","-","-","-","-","-","-","-",{"$f":"IF(PA297=OZ1165,\"-\",\"TIDAK\")","v":"-"},"-","-","-","-","-","-","-","-","-","-","-","-","-","-","-","-","-","-","-","-","-","-","-","-","-","-","-","-","-","-","-","-","-","-","-","-","-","-","-","-","-","-",{"$f":"IF(#REF!=QQ1165,\"-\",\"TIDAK\")","v":{"$error":"#REF!"}},"-","-","-","-","-","-","-","-","-","-","-","-","-","-","-","-","-","-","-",{"$f":"IF(RL297=RK1165,\"-\",\"TIDAK\")","v":"-"},"-","-","-","-","-","-","-","-","-","-","-","-","-","-","-","-","-","-","-","-","-","-","-","-","-","-","-","-","-","-","-","-","-","-","-","-","-","-","-","-","-","-","-","-","-","-","-","-","-","-","-","-","-","-","-","-","-","-","-","-","-","-","-","-","-"]
[null,null,null,null,null,null,null,null,325,"TIDAK","TIDAK","TIDAK","-","-","-","-","-","-","-","-","-","-","-","-","-","-","-","-","-","-","-","-","-","-","-","-","-","-","-","-","-","-","-","-","-","-","-","-","-","-","-","-","-","-","-","-","-","-","-","-","-","-","-","-","-","-","-","-","-","-","-","-","-","-","-","-",{"$f":"IF(BY332=BY1200,\"-\",\"TIDAK\")","v":"-"},"-","-","-","-","-","-","-","-","-","-","-","-","-","-","-","-","-","-","-","-","-","-",{"$f":"IF(CW332=CV1200,\"-\",\"TIDAK\")","v":"-"},"-","-","-","-","-","-","-","-","-","-","-","-","-","-","-","-","-","-","-","-","-","-","-","-","-","-","-","-","-","-","-","-","-","-","-","-","-","-","-","-","-","-","-","-","-","-","-","-","-","-","-","-","-","-","-","-","-","-","-","-","-","-",{"$f":"IF(FH332=FG1200,\"-\",\"TIDAK\")","v":"-"},"-","-","-","-","-","-","-","-","-","-","-","-","-","-","-","-","-","-","-","-","-","-","-","-","-",{"$f":"IF(#REF!=GG1200,\"-\",\"TIDAK\")","v":{"$error":"#REF!"}},"-","-","-","-","-","-","-","-","-","-","-","-","-","-","-","-","-","-","-","-","-","-","-","-","-","-","-","-","-","-","-","-","-","-","-","-",{"$f":"IF(HS332=HR1200,\"-\",\"TIDAK\")","v":"-"},"-","-","-","-","-","-","-","-","-","-","-","-","-","-","-","-","-","-","-","-","-","-","-","-","-","-","-","-","-","-","-","-","-","-","-","-","-","-","-","-","-","-","-","-","-","-","-","-","-","-","-","-",{"$f":"IF(#REF!=JS1200,\"-\",\"TIDAK\")","v":{"$error":"#REF!"}},"-","-","-","-","-","-","-","-","-",{"$f":"IF(KD332=KC1200,\"-\",\"TIDAK\")","v":"-"},"-","-","-","-","-","-","-","-","-","-","-","-","-","-","-","-","-","-","-","-","-","-","-","-","-","-","-","-","-","-","-","-","-","-","-","-","-","-","-","-","-","-","-","-","-","-","-","-","-","-","-","-","-","-","-","-","-","-","-","-","-","-","-",{"$f":"IF(MP332=MO1200,\"-\",\"TIDAK\")","v":"-"},"-","-","-","-","-","-","-","-","-","-","-","-","-","-","-",{"$f":"IF(#REF!=NE1200,\"-\",\"TIDAK\")","v":{"$error":"#REF!"}},"-","-","-","-","-","-","-","-","-","-","-","-","-","-","-","-","-","-","-","-","-","-","-","-","-","-","-","-","-","-","-","-","-","-","-","-","-","-","-","-","-","-","-","-","-","-",{"$f":"IF(PA332=OZ1200,\"-\",\"TIDAK\")","v":"-"},"-","-","-","-","-","-","-","-","-","-","-","-","-","-","-","-","-","-","-","-","-","-","-","-","-","-","-","-","-","-","-","-","-","-","-","-","-","-","-","-","-","-",{"$f":"IF(#REF!=QQ1200,\"-\",\"TIDAK\")","v":{"$error":"#REF!"}},"-","-","-","-","-","-","-","-","-","-","-","-","-","-","-","-","-","-","-",{"$f":"IF(RL332=RK1200,\"-\",\"TIDAK\")","v":"-"},"-","-","-","-","-","-","-","-","-","-","-","-","-","-","-","-","-","-","-","-","-","-","-","-","-","-","-","-","-","-","-","-","-","-","-","-","-","-","-","-","-","-","-","-","-","-","-","-","-","-","-","-","-","-","-","-","-","-","-","-","-","-","-","-","-"]
[null,null,null,null,null,null,null,null,392,"TIDAK","TIDAK","TIDAK","-","-","-","-","-","-","-","-","-","-","-","-","-","-","-","-","-","-","-","-","-","-","-","-","-","-","-","-","-","-","-","-","-","-","-","-","-","-","-","-","-","-","-","-","-","-","-","-","-","-","-","-","-","-","-","-","-","-","-","-","-","-","-","-","-","-","-","-","-","-","-","-","-","-","-","-","-","-","-","-","-","-","-","-","-","-","-",{"$f":"IF(CW399=CV1267,\"-\",\"TIDAK\")","v":"-"},"-","-","-","-","-","-","-","-","-","-","-","-","-","-","-","-","-","-","-","-","-","-","-","-","-","-","-","-","-","-","-","-","-","-","-","-","-","-","-","-","-","-","-","-","-","-","-","-","-","-","-","-","-","-","-","-","-","-","-","-","-","-",{"$f":"IF(FH399=FG1267,\"-\",\"TIDAK\")","v":"-"},"-","-","-","-","-","-","-","-","-","-","-","-","-","-","-","-","-","-","-","-","-","-","-","-","-",{"$f":"IF(#REF!=GG1267,\"-\",\"TIDAK\")","v":{"$error":"#REF!"}},"-","-","-","-","-","-","-","-","-","-","-","-","-","-","-","-","-","-","-","-","-","-","-","-","-","-","-","-","-","-","-","-","-","-","-","-",{"$f":"IF(HS399=HR1267,\"-\",\"TIDAK\")","v":"-"},"-","-","-","-","-","-","-","-","-","-","-","-","-","-","-","-","-","-","-","-","-","-","-","-","-","-","-","-","-","-","-","-","-","-","-","-","-","-","-","-","-","-","-","-","-","-","-","-","-","-","-","-",{"$f":"IF(#REF!=JS1267,\"-\",\"TIDAK\")","v":{"$error":"#REF!"}},"-","-","-","-","-","-","-","-","-",{"$f":"IF(KD399=KC1267,\"-\",\"TIDAK\")","v":"-"},"-","-","-","-","-","-","-","-","-","-","-","-","-","-","-","-","-","-","-","-","-","-","-","-","-","-","-","-","-","-","-","-","-","-","-","-","-","-","-","-","-","-","-","-","-","-","-","-","-","-","-","-","-","-","-","-","-","-","-","-","-","-","-",{"$f":"IF(MP399=MO1267,\"-\",\"TIDAK\")","v":"-"},"-","-","-","-","-","-","-","-","-","-","-","-","-","-","-",{"$f":"IF(#REF!=NE1267,\"-\",\"TIDAK\")","v":{"$error":"#REF!"}},"-","-","-","-","-","-","-","-","-","-","-","-","-","-","-","-","-","-","-","-","-","-","-","-","-","-","-","-","-","-","-","-","-","-","-","-","-","-","-","-","-","-","-","-","-","-",{"$f":"IF(PA399=OZ1267,\"-\",\"TIDAK\")","v":"-"},"-","-","-","-","-","-","-","-","-","-","-","-","-","-","-",{"$f":"IF(#REF!=PP1267,\"-\",\"TIDAK\")","v":{"$error":"#REF!"}},{"$f":"IF(#REF!=PQ1267,\"-\",\"TIDAK\")","v":{"$error":"#REF!"}},{"$f":"IF(#REF!=PR1267,\"-\",\"TIDAK\")","v":{"$error":"#REF!"}},{"$f":"IF(PT399=PS1267,\"-\",\"TIDAK\")","v":"-"},"-","-","-","-","-","-","-","-","-","-","-","-","-","-","-","-","-","-","-","-","-","-","-",{"$f":"IF(#REF!=QQ1267,\"-\",\"TIDAK\")","v":{"$error":"#REF!"}},"-","-","-","-","-","-",{"$f":"IF(QY399=QX1267,\"-\",\"TIDAK\")","v":"-"},"-","-","-","-","-","-","-","-","-","-","-","-","-","-","-","-","-","-","-","-","-","-","-","-","-","-","-","-","-","-","-",{"$f":"IF(SE399=SD1267,\"-\",\"TIDAK\")","v":"-"},"-","-","-","-","-","-","-","-","-","-","-","-","-","-","-","-","-","-","-","-","-","-",{"$f":"IF(#REF!=TA1267,\"-\",\"TIDAK\")","v":{"$error":"#REF!"}},{"$f":"IF(#REF!=TB1267,\"-\",\"TIDAK\")","v":{"$error":"#REF!"}},{"$f":"IF(#REF!=TC1267,\"-\",\"TIDAK\")","v":{"$error":"#REF!"}},{"$f":"IF(TE399=TD1267,\"-\",\"TIDAK\")","v":"-"},"-","-","-","-","-","-","-","-","-","-","-","-","-","-","-","-","-","-","-","-"]
[null,null,null,null,null,null,null,null,422,"TIDAK","TIDAK","TIDAK","-","-","-","-","-","-","-","-","-","-","-","-","-","-","-","-","-","-","-","-","-","-","-","-","-","-","-","-","-","-","-","-","-","-","-","-","-","-","-","-","-","-","-","-","-","-","-","-","-","-","-","-","-","-","-","-","-","-","-","-","-",{"$f":"IF(BV429=BV1297,\"-\",\"TIDAK\")","v":"-"},"-","-","-","-","-","-","-","-","-","-","-","-","-","-","-","-","-","-","-","-","-","-","-","-","-",{"$f":"IF(CW429=CV1297,\"-\",\"TIDAK\")","v":"-"},"-","-","-","-","-","-","-","-","-","-","-","-","-","-","-","-","-","-","-","-","-","-","-","-","-","-","-","-","-","-","-","-","-","-","-","-","-","-","-","-","-","-","-","-","-","-","-","-","-","-","-","-","-","-","-","-","-","-","-","-","-","-",{"$f":"IF(FH429=FG1297,\"-\",\"TIDAK\")","v":"-"},"-","-","-","-","-","-","-","-","-","-","-","-","-","-","-","-","-","-","-","-","-","-","-","-","-",{"$f":"IF(#REF!=GG1297,\"-\",\"TIDAK\")","v":{"$error":"#REF!"}},"-","-","-","-","-","-","-","-","-","-","-","-","-","-","-","-","-","-","-","-","-","-","-","-","-","-","-","-","-","-","-","-","-","-","-","-",{"$f":"IF(HS429=HR1297,\"-\",\"TIDAK\")","v":"-"},"-","-","-","-","-","-","-","-","-","-","-","-","-","-","-","-","-","-","-","-","-","-","-","-","-","-","-","-","-","-","-","-","-","-","-","-","-","-","-","-","-","-","-","-","-","-","-","-","-","-","-","-",{"$f":"IF(#REF!=JS1297,\"-\",\"TIDAK\")","v":{"$error":"#REF!"}},"-","-","-","-","-","-","-","-","-",{"$f":"IF(KD429=KC1297,\"-\",\"TIDAK\")","v":"-"},"-","-","-","-","-","-","-","-","-","-","-","-","-","-","-","-","-","-","-","-","-","-","-","-","-","-","-","-","-","-","-","-","-","-","-","-","-","-","-","-","-","-","-","-","-","-","-","-","-","-","-","-","-","-","-","-","-","-","-","-","-","-","-",{"$f":"IF(MP429=MO1297,\"-\",\"TIDAK\")","v":"-"},"-","-","-","-","-","-","-","-","-","-","-","-","-","-","-",{"$f":"IF(#REF!=NE1297,\"-\",\"TIDAK\")","v":{"$error":"#REF!"}},"-","-","-","-","-","-","-","-","-","-","-","-","-","-","-","-","-","-","-","-","-","-","-","-","-","-","-","-","-","-","-","-","-","-","-","-","-","-","-","-","-","-","-","-","-","-",{"$f":"IF(PA429=OZ1297,\"-\",\"TIDAK\")","v":"-"},"-","-","-","-","-","-","-","-","-","-","-","-","-","-","-",{"$f":"IF(#REF!=PP1297,\"-\",\"TIDAK\")","v":{"$error":"#REF!"}},{"$f":"IF(#REF!=PQ1297,\"-\",\"TIDAK\")","v":{"$error":"#REF!"}},{"$f":"IF(#REF!=PR1297,\"-\",\"TIDAK\")","v":{"$error":"#REF!"}},{"$f":"IF(PT429=PS1297,\"-\",\"TIDAK\")","v":"-"},"-","-","-","-","-","-","-","-","-","-","-","-","-","-","-","-","-","-","-","-","-","-","-",{"$f":"IF(#REF!=QQ1297,\"-\",\"TIDAK\")","v":{"$error":"#REF!"}},"-","-","-","-","-","-",{"$f":"IF(QY429=QX1297,\"-\",\"TIDAK\")","v":"-"},"-","-","-","-","-","-","-","-","-","-","-","-","-","-","-","-","-","-","-","-","-","-","-","-","-","-","-","-","-","-","-",{"$f":"IF(SE429=SD1297,\"-\",\"TIDAK\")","v":"-"},"-","-","-","-","-","-","-","-","-","-","-","-","-","-","-","-","-","-","-","-","-","-",{"$f":"IF(#REF!=TA1297,\"-\",\"TIDAK\")","v":{"$error":"#REF!"}},{"$f":"IF(#REF!=TB1297,\"-\",\"TIDAK\")","v":{"$error":"#REF!"}},{"$f":"IF(#REF!=TC1297,\"-\",\"TIDAK\")","v":{"$error":"#REF!"}},{"$f":"IF(TE429=TD1297,\"-\",\"TIDAK\")","v":"-"},"-","-","-","-","-","-","-","-","-","-","-","-","-","-","-","-","-","-","-","-"]
[null,null,null,null,null,null,null,null,452,"TIDAK","TIDAK","TIDAK","-","-","-","-","-","-","-","-","-","-","-","-","-","-","-","-","-","-","-","-","-","-","-","-","-","-","-","-","-","-","-","-","-","-","-","-","-","-","-","-","-","-","-","-","-","-","-","-","-","-","-","-","-","-","-","-","-","-","-","-","-","-","-","-",{"$f":"IF(BY459=BY1327,\"-\",\"TIDAK\")","v":"-"},"-","-","-","-","-","-","-","-","-","-","-","-","-","-","-","-","-","-","-","-","-","-",{"$f":"IF(CW459=CV1327,\"-\",\"TIDAK\")","v":"-"},"-","-","-","-","-","-","-","-","-","-","-","-","-","-","-","-","-","-","-","-","-","-","-","-","-","-","-","-","-","-","-","-","-","-","-","-","-","-","-","-","-","-","-","-","-","-","-","-","-","-","-","-","-","-","-","-","-","-","-","-","-","-",{"$f":"IF(FH459=FG1327,\"-\",\"TIDAK\")","v":"-"},"-","-","-","-","-","-","-","-","-","-","-","-","-","-","-","-","-","-","-","-","-","-","-","-","-",{"$f":"IF(#REF!=GG1327,\"-\",\"TIDAK\")","v":{"$error":"#REF!"}},"-","-","-","-","-","-","-","-","-","-","-","-","-","-","-","-","-","-","-","-","-","-","-","-","-","-","-","-","-","-","-","-","-","-","-","-",{"$f":"IF(HS459=HR1327,\"-\",\"TIDAK\")","v":"-"},"-","-","-","-","-","-","-","-","-","-","-","-","-","-","-","-","-","-","-","-","-","-","-","-","-","-","-","-","-","-","-","-","-","-","-","-","-","-","-","-","-","-","-","-","-","-","-","-","-","-","-","-",{"$f":"IF(#REF!=JS1327,\"-\",\"TIDAK\")","v":{"$error":"#REF!"}},"-","-","-","-","-","-","-","-","-",{"$f":"IF(KD459=KC1327,\"-\",\"TIDAK\")","v":"-"},"-","-","-","-","-","-","-","-","-","-","-","-","-","-","-","-","-","-","-","-","-","-","-","-","-","-","-","-","-","-","-","-","-","-","-","-","-","-","-","-","-","-","-","-","-","-","-","-","-","-","-","-","-","-","-","-","-","-","-","-","-","-","-",{"$f":"IF(MP459=MO1327,\"-\",\"TIDAK\")","v":"-"},"-","-","-","-","-","-","-","-","-","-","-","-","-","-","-",{"$f":"IF(#REF!=NE1327,\"-\",\"TIDAK\")","v":{"$error":"#REF!"}},"-","-","-","-","-","-","-","-","-","-","-","-","-","-","-","-","-","-","-","-","-","-","-","-","-","-","-","-","-","-","-","-","-","-","-","-","-","-","-","-","-","-","-","-","-","-",{"$f":"IF(PA459=OZ1327,\"-\",\"TIDAK\")","v":"-"},"-","-","-","-","-","-","-","-","-","-","-","-","-","-","-",{"$f":"IF(#REF!=PP1327,\"-\",\"TIDAK\")","v":{"$error":"#REF!"}},{"$f":"IF(#REF!=PQ1327,\"-\",\"TIDAK\")","v":{"$error":"#REF!"}},{"$f":"IF(#REF!=PR1327,\"-\",\"TIDAK\")","v":{"$error":"#REF!"}},{"$f":"IF(PT459=PS1327,\"-\",\"TIDAK\")","v":"-"},"-","-","-","-","-","-","-","-","-","-","-","-","-","-","-","-","-","-","-","-","-","-","-",{"$f":"IF(#REF!=QQ1327,\"-\",\"TIDAK\")","v":{"$error":"#REF!"}},"-","-","-","-","-","-",{"$f":"IF(QY459=QX1327,\"-\",\"TIDAK\")","v":"-"},"-","-","-","-","-","-","-","-","-","-","-","-","-","-","-","-","-","-","-","-","-","-","-","-","-","-","-","-","-","-","-",{"$f":"IF(SE459=SD1327,\"-\",\"TIDAK\")","v":"-"},"-","-","-","-","-","-","-","-","-","-","-","-","-","-","-","-","-","-","-","-","-","-",{"$f":"IF(#REF!=TA1327,\"-\",\"TIDAK\")","v":{"$error":"#REF!"}},{"$f":"IF(#REF!=TB1327,\"-\",\"TIDAK\")","v":{"$error":"#REF!"}},{"$f":"IF(#REF!=TC1327,\"-\",\"TIDAK\")","v":{"$error":"#REF!"}},{"$f":"IF(TE459=TD1327,\"-\",\"TIDAK\")","v":"-"},"-","-","-","-","-","-","-","-","-","-","-","-","-","-","-","-","-","-","-","-"]
[null,null,null,null,null,null,null,null,519,"TIDAK",{"$f":"IF(K526=K1394,\"-\",\"TIDAK\")","v":"TIDAK"},"TIDAK","-","-","-","-","-","-","-","-","-","-","-","-","-","-","-","-","-","-","-","-","-","-","-","-","-","-","-","-","-","-","-","-","-","-","-","-","-","-","-","-","-","-","-","-","-","-","-","-","-","-","-","-","-","-","-","-","-","-","-","-","-","-","-","-","-","-","-","-","-","-","-","-","-","-","-","-","-","-","-","-","-","-","-","-","-","-","-",{"$f":"IF(CW526=CV1394,\"-\",\"TIDAK\")","v":"-"},"-","-","-","-","-","-","-","-","-","-","-","-","-","-","-","-","-","-","-","-","-","-","-","-","-","-","-","-","-","-","-","-","-","-","-","-","-","-","-","-","-","-","-","-","-","-","-","-","-","-","-","-","-","-","-","-","-","-","-","-","-","-",{"$f":"IF(FH526=FG1394,\"-\",\"TIDAK\")","v":"-"},"-","-","-","-","-","-","-","-","-","-","-","-","-","-","-","-","-","-","-","-","-","-","-","-","-",{"$f":"IF(#REF!=GG1394,\"-\",\"TIDAK\")","v":{"$error":"#REF!"}},"-","-","-","-","-","-","-","-","-","-","-","-","-","-","-","-","-","-","-","-","-","-","-","-","-","-","-","-","-","-","-","-","-","-","-","-",{"$f":"IF(HS526=HR1394,\"-\",\"TIDAK\")","v":"-"},"-","-","-","-","-","-","-","-","-","-","-","-","-","-","-","-","-","-","-","-","-","-","-","-","-","-","-","-","-","-","-","-","-","-","-","-","-","-","-","-","-","-","-","-","-","-","-","-","-","-","-","-",{"$f":"IF(#REF!=JS1394,\"-\",\"TIDAK\")","v":{"$error":"#REF!"}},"-","-","-","-","-","-","-","-","-",{"$f":"IF(KD526=KC1394,\"-\",\"TIDAK\")","v":"-"},"-","-","-","-","-","-","-","-","-","-","-","-","-","-","-","-","-","-","-","-","-","-","-","-","-","-","-","-","-","-","-","-","-","-","-","-","-","-","-","-","-","-","-","-","-","-","-","-","-","-","-","-","-","-","-","-","-","-","-","-","-","-","-",{"$f":"IF(MP526=MO1394,\"-\",\"TIDAK\")","v":"-"},"-","-","-","-","-","-","-","-","-","-","-","-","-","-","-",{"$f":"IF(#REF!=NE1394,\"-\",\"TIDAK\")","v":{"$error":"#REF!"}},"-","-","-","-","-","-","-","-","-","-","-","-","-","-","-","-","-","-","-","-","-","-","-","-","-","-","-","-","-","-","-","-","-","-","-","-","-","-","-","-","-","-","-","-","-","-",{"$f":"IF(PA526=OZ1394,\"-\",\"TIDAK\")","v":"-"},"-","-","-","-","-","-","-","-","-","-","-","-","-","-","-",{"$f":"IF(#REF!=PP1394,\"-\",\"TIDAK\")","v":{"$error":"#REF!"}},{"$f":"IF(#REF!=PQ1394,\"-\",\"TIDAK\")","v":{"$error":"#REF!"}},{"$f":"IF(#REF!=PR1394,\"-\",\"TIDAK\")","v":{"$error":"#REF!"}},{"$f":"IF(PT526=PS1394,\"-\",\"TIDAK\")","v":"-"},"-","-","-","-","-","-","-","-","-","-","-","-","-","-","-","-","-","-","-","-","-","-","-",{"$f":"IF(#REF!=QQ1394,\"-\",\"TIDAK\")","v":{"$error":"#REF!"}},"-","-","-","-","-","-",{"$f":"IF(QY526=QX1394,\"-\",\"TIDAK\")","v":"-"},"-","-","-","-","-","-","-","-","-","-","-","-","-","-","-","-","-","-","-","-","-","-","-","-","-","-","-","-","-","-","-",{"$f":"IF(SE526=SD1394,\"-\",\"TIDAK\")","v":"-"},"-","-","-","-","-","-","-","-","-","-","-","-","-","-","-","-","-","-","-","-","-","-",{"$f":"IF(#REF!=TA1394,\"-\",\"TIDAK\")","v":{"$error":"#REF!"}},{"$f":"IF(#REF!=TB1394,\"-\",\"TIDAK\")","v":{"$error":"#REF!"}},{"$f":"IF(#REF!=TC1394,\"-\",\"TIDAK\")","v":{"$error":"#REF!"}},{"$f":"IF(TE526=TD1394,\"-\",\"TIDAK\")","v":"-"},"-","-","-","-","-","-","-","-","-","-","-","-","-","-","-","-","-","-","-","-"]
[null,null,null,null,null,null,null,null,549,"TIDAK","TIDAK","TIDAK","-","-","-","-","-","-","-","-","-","-","-","-","-","-","-","-","-","-","-","-","-","-","-","-","-","-","-","-","-","-","-","-","-","-","-","-","-","-","-","-","-","-","-","-","-","-","-","-","-","-","-","-","-","-","-","-","-","-","-","-","-","-","-","-","-","-","-","-","-","-","-","-","-","-","-","-","-","-","-","-","-","-","-","-","-","-","-",{"$f":"IF(CW556=CV1424,\"-\",\"TIDAK\")","v":"-"},"-","-","-","-","-","-","-","-","-","-","-","-","-","-","-","-","-","-","-","-","-","-","-","-","-","-","-","-","-","-","-","-","-","-","-","-","-","-","-","-","-","-","-","-","-","-","-","-","-","-","-","-","-","-","-","-","-","-","-","-","-","-",{"$f":"IF(FH556=FG1424,\"-\",\"TIDAK\")","v":"-"},"-","-","-","-","-","-","-","-","-","-","-","-","-","-","-","-","-","-","-","-","-","-","-","-","-",{"$f":"IF(#REF!=GG1424,\"-\",\"TIDAK\")","v":{"$error":"#REF!"}},"-","-","-","-","-","-","-","-","-","-","-","-","-","-","-","-","-","-","-","-","-","-","-","-","-","-","-","-","-","-","-","-","-","-","-","-",{"$f":"IF(HS556=HR1424,\"-\",\"TIDAK\")","v":"-"},"-","-","-","-","-","-","-","-","-","-","-","-","-","-","-","-","-","-","-","-","-","-","-","-","-","-","-","-","-","-","-","-","-","-","-","-","-","-","-","-","-","-","-","-","-","-","-","-","-","-","-","-",{"$f":"IF(#REF!=JS1424,\"-\",\"TIDAK\")","v":{"$error":"#REF!"}},"-","-","-","-","-","-","-","-","-",{"$f":"IF(KD556=KC1424,\"-\",\"TIDAK\")","v":"-"},"-","-","-","-","-","-","-","-","-","-","-","-","-","-","-","-","-","-","-","-","-","-","-","-","-","-","-","-","-","-","-","-","-","-","-","-","-","-","-","-","-","-","-","-","-","-","-","-","-","-","-","-","-","-","-","-","-","-","-","-","-","-","-",{"$f":"IF(MP556=MO1424,\"-\",\"TIDAK\")","v":"-"},"-","-","-","-","-","-","-","-","-","-","-","-","-","-","-",{"$f":"IF(#REF!=NE1424,\"-\",\"TIDAK\")","v":{"$error":"#REF!"}},"-","-","-","-","-","-","-","-","-","-","-","-","-","-","-","-","-","-","-","-","-","-","-","-","-","-","-","-","-","-","-","-","-","-","-","-","-","-","-","-","-","-","-","-","-","-",{"$f":"IF(PA556=OZ1424,\"-\",\"TIDAK\")","v":"-"},"-","-","-","-","-","-","-","-","-","-","-","-","-","-","-","-","-","-",{"$f":"IF(PT556=PS1424,\"-\",\"TIDAK\")","v":"-"},"-","-","-","-","-","-","-","-","-","-","-","-","-","-","-","-","-","-","-","-","-","-","-",{"$f":"IF(#REF!=QQ1424,\"-\",\"TIDAK\")","v":{"$error":"#REF!"}},"-","-","-","-","-","-",{"$f":"IF(QY556=QX1424,\"-\",\"TIDAK\")","v":"-"},"-","-","-","-","-","-","-","-","-","-","-","-","-","-","-","-","-","-","-","-","-","-","-","-","-","-","-","-","-","-","-",{"$f":"IF(SE556=SD1424,\"-\",\"TIDAK\")","v":"-"},"-","-","-","-","-","-","-","-","-","-","-","-","-","-","-","-","-","-","-","-","-","-","-","-","-",{"$f":"IF(TE556=TD1424,\"-\",\"TIDAK\")","v":"-"},"-","-","-","-","-","-","-","-","-","-","-","-","-","-","-","-","-","-","-","-"]
[null,null,null,null,null,null,null,null,599,"TIDAK",{"$f":"IF(K606=K1474,\"-\",\"TIDAK\")","v":"TIDAK"},"TIDAK","-","-","-","-","-","-","-","-","-","-","-","-","-","-","-","-","-","-","-","-","-","-","-","-","-","-","-","-","-","-","-","-","-","-","-","-","-","-","-","-","-","-","-","-","-","-","-","-","-","-","-","-","-","-","-","-","-","-","-","-","-","-","-","-","-","-","-","-","-","-","-","-","-","-","-","-","-","-","-","-","-","-","-","-","-","-","-",{"$f":"IF(CW606=CV1474,\"-\",\"TIDAK\")","v":"-"},"-","-","-","-","-","-","-","-","-","-","-","-","-","-","-","-","-","-","-","-","-","-","-","-","-","-","-","-","-","-","-","-","-","-","-","-","-","-","-","-","-","-","-","-","-","-","-","-","-","-","-","-","-","-","-","-","-","-","-","-","-","-",{"$f":"IF(FH606=FG1474,\"-\",\"TIDAK\")","v":"-"},"-","-","-","-","-","-","-","-","-","-","-","-","-","-","-","-","-","-","-","-","-","-","-","-","-",{"$f":"IF(#REF!=GG1474,\"-\",\"TIDAK\")","v":{"$error":"#REF!"}},"-","-","-","-","-","-","-","-","-","-","-","-","-","-","-","-","-","-","-","-","-","-","-","-","-","-","-","-","-","-","-","-","-","-","-","-",{"$f":"IF(HS606=HR1474,\"-\",\"TIDAK\")","v":"-"},"-","-","-","-","-","-","-","-","-","-","-","-","-","-","-","-","-","-","-","-","-","-","-","-","-","-","-","-","-","-","-","-","-","-","-","-","-","-","-","-","-","-","-","-","-","-","-","-","-","-","-","-",{"$f":"IF(#REF!=JS1474,\"-\",\"TIDAK\")","v":{"$error":"#REF!"}},"-","-","-","-","-","-","-","-","-",{"$f":"IF(KD606=KC1474,\"-\",\"TIDAK\")","v":"-"},"-","-","-","-","-","-","-","-","-","-","-","-","-","-","-","-","-","-","-","-","-","-","-","-","-","-","-","-","-","-","-","-","-","-","-","-","-","-","-","-","-","-","-","-","-","-","-","-","-","-","-","-","-","-","-","-","-","-","-","-","-","-","-",{"$f":"IF(MP606=MO1474,\"-\",\"TIDAK\")","v":"-"},"-","-","-","-","-","-","-","-","-","-","-","-","-","-","-",{"$f":"IF(#REF!=NE1474,\"-\",\"TIDAK\")","v":{"$error":"#REF!"}},"-","-","-","-","-","-","-","-","-","-","-","-","-","-","-","-","-","-","-","-","-","-","-","-","-","-","-","-","-","-","-","-","-","-","-","-","-","-","-","-","-","-","-","-","-","-",{"$f":"IF(PA606=OZ1474,\"-\",\"TIDAK\")","v":"-"},"-","-","-","-","-","-","-","-","-","-","-","-","-","-","-","-","-","-",{"$f":"IF(PT606=PS1474,\"-\",\"TIDAK\")","v":"-"},"-","-","-","-","-","-","-","-","-","-","-","-","-","-","-","-","-","-","-","-","-","-","-",{"$f":"IF(#REF!=QQ1474,\"-\",\"TIDAK\")","v":{"$error":"#REF!"}},"-","-","-","-","-","-",{"$f":"IF(QY606=QX1474,\"-\",\"TIDAK\")","v":"-"},"-","-","-","-","-","-","-","-","-","-","-","-","-","-","-","-","-","-","-","-","-","-","-","-","-","-","-","-","-","-","-",{"$f":"IF(SE606=SD1474,\"-\",\"TIDAK\")","v":"-"},"-","-","-","-","-","-","-","-","-","-","-","-","-","-","-","-","-","-","-","-","-","-","-","-","-",{"$f":"IF(TE606=TD1474,\"-\",\"TIDAK\")","v":"-"},"-","-","-","-","-","-","-","-","-","-","-","-","-","-","-","-","-","-","-","-"]
[null,null,null,null,null,null,null,null,645,"TIDAK","TIDAK","TIDAK","-","-","-","-","-","-","-","-","-","-","-","-","-","-","-","-","-","-","-","-","-","-","-","-","-","-","-","-","-","-","-","-","-","-","-","-","-","-","-","-","-","-","-","-","-","-","-","-","-","-","-","-","-","-","-","-","-","-","-","-","-","-","-","-",{"$f":"IF(BY652=BY1520,\"-\",\"TIDAK\")","v":"-"},"-","-","-","-","-","-","-","-","-","-","-","-","-","-","-","-","-","-","-","-","-","-",{"$f":"IF(CW652=CV1520,\"-\",\"TIDAK\")","v":"-"},"-","-","-","-","-","-","-","-","-","-","-","-","-","-","-","-","-","-","-","-","-","-","-","-","-","-","-","-","-","-","-","-","-","-","-","-","-","-","-","-","-","-","-","-","-","-","-","-","-","-","-","-","-","-","-","-","-","-","-","-","-","-",{"$f":"IF(FH652=FG1520,\"-\",\"TIDAK\")","v":"-"},"-","-","-","-","-","-","-","-","-","-","-","-","-","-","-","-","-","-","-","-","-","-","-","-","-",{"$f":"IF(#REF!=GG1520,\"-\",\"TIDAK\")","v":{"$error":"#REF!"}},"-","-","-","-","-","-","-","-","-","-","-","-","-","-","-","-","-","-","-","-","-","-","-","-","-","-","-","-","-","-","-","-","-","-","-","-",{"$f":"IF(HS652=HR1520,\"-\",\"TIDAK\")","v":"-"},"-","-","-","-","-","-","-","-","-","-","-","-","-","-","-","-","-","-","-","-","-","-","-","-","-","-","-","-","-","-","-","-","-","-","-","-","-","-","-","-","-","-","-","-","-","-","-","-","-","-","-","-",{"$f":"IF(#REF!=JS1520,\"-\",\"TIDAK\")","v":{"$error":"#REF!"}},"-","-","-","-","-","-","-","-","-",{"$f":"IF(KD652=KC1520,\"-\",\"TIDAK\")","v":"-"},"-","-","-","-","-","-","-","-","-","-","-","-","-","-","-","-","-","-","-","-","-","-","-","-","-","-","-","-","-","-","-","-","-","-","-","-","-","-","-","-","-","-","-","-","-","-","-","-","-","-","-","-","-","-","-","-","-","-","-","-","-","-","-",{"$f":"IF(MP652=MO1520,\"-\",\"TIDAK\")","v":"-"},"-","-","-","-","-","-","-","-","-","-","-","-","-","-","-",{"$f":"IF(#REF!=NE1520,\"-\",\"TIDAK\")","v":{"$error":"#REF!"}},"-","-","-","-","-","-","-","-","-","-","-","-","-","-","-","-","-","-","-","-","-","-","-","-","-","-","-","-","-","-","-","-","-","-","-","-","-","-","-","-","-","-","-","-","-","-",{"$f":"IF(PA652=OZ1520,\"-\",\"TIDAK\")","v":"-"},"-","-","-","-","-","-","-","-","-","-","-","-","-","-","-","-","-","-",{"$f":"IF(PT652=PS1520,\"-\",\"TIDAK\")","v":"-"},"-","-","-","-","-","-","-","-","-","-","-","-","-","-","-","-","-","-","-","-","-","-","-",{"$f":"IF(#REF!=QQ1520,\"-\",\"TIDAK\")","v":{"$error":"#REF!"}},"-","-","-","-","-","-",{"$f":"IF(QY652=QX1520,\"-\",\"TIDAK\")","v":"-"},"-","-","-","-","-","-","-","-","-","-","-","-","-","-","-","-","-","-","-","-","-","-","-","-","-","-","-","-","-","-","-",{"$f":"IF(SE652=SD1520,\"-\",\"TIDAK\")","v":"-"},"-","-","-","-","-","-","-","-","-","-","-","-","-","-","-","-","-","-","-","-","-","-","-","-","-",{"$f":"IF(TE652=TD1520,\"-\",\"TIDAK\")","v":"-"},"-","-","-","-","-","-","-","-","-","-","-","-","-","-","-","-","-","-","-","-"]
[null,null,null,null,null,null,null,null,675,"TIDAK",{"$f":"IF(K682=K1550,\"-\",\"TIDAK\")","v":"TIDAK"},"TIDAK","-","-","-","-","-","-","-","-","-","-","-","-","-","-","-","-","-","-","-","-","-","-","-","-","-","-","-","-","-","-","-","-","-","-","-","-","-","-","-","-","-","-","-","-","-","-","-","-","-","-","-","-","-","-","-","-","-","-","-","-","-","-","-","-","-","-","-","-","-","-","-","-","-","-","-","-","-","-","-","-","-","-","-","-","-","-","-",{"$f":"IF(CW682=CV1550,\"-\",\"TIDAK\")","v":"-"},"-","-","-","-","-","-","-","-","-","-","-","-","-","-","-","-","-","-","-","-","-","-","-","-","-","-","-","-","-","-","-","-","-","-","-","-","-","-","-","-","-","-","-","-","-","-","-","-","-","-","-","-","-","-","-","-","-","-","-","-","-","-",{"$f":"IF(FH682=FG1550,\"-\",\"TIDAK\")","v":"-"},"-","-","-","-","-","-","-","-","-","-","-","-","-","-","-","-","-","-","-","-","-","-","-","-","-",{"$f":"IF(#REF!=GG1550,\"-\",\"TIDAK\")","v":{"$error":"#REF!"}},"-","-","-","-","-","-","-","-","-","-","-","-","-","-","-","-","-","-","-","-","-","-","-","-","-","-","-","-","-","-","-","-","-","-","-","-",{"$f":"IF(HS682=HR1550,\"-\",\"TIDAK\")","v":"-"},"-","-","-","-","-","-","-","-","-","-","-","-","-","-","-","-","-","-","-","-","-","-","-","-","-","-","-","-","-","-","-","-","-","-","-","-","-","-","-","-","-","-","-","-","-","-","-","-","-","-","-","-",{"$f":"IF(#REF!=JS1550,\"-\",\"TIDAK\")","v":{"$error":"#REF!"}},"-","-","-","-","-","-","-","-","-",{"$f":"IF(KD682=KC1550,\"-\",\"TIDAK\")","v":"-"},"-","-","-","-","-","-","-","-","-","-","-","-","-","-","-","-","-","-","-","-","-","-","-","-","-","-","-","-","-","-","-","-","-","-","-","-","-","-","-","-","-","-","-","-","-","-","-","-","-","-","-","-","-","-","-","-","-","-","-","-","-","-","-",{"$f":"IF(MP682=MO1550,\"-\",\"TIDAK\")","v":"-"},"-","-","-","-","-","-","-","-","-","-","-","-","-","-","-",{"$f":"IF(#REF!=NE1550,\"-\",\"TIDAK\")","v":{"$error":"#REF!"}},"-","-","-","-","-","-","-","-","-","-","-","-","-","-","-","-","-","-","-","-","-","-","-","-","-","-","-","-","-","-","-","-","-","-","-","-","-","-","-","-","-","-","-","-","-","-",{"$f":"IF(PA682=OZ1550,\"-\",\"TIDAK\")","v":"-"},"-","-","-","-","-","-","-","-","-","-","-","-","-","-","-","-","-","-",{"$f":"IF(PT682=PS1550,\"-\",\"TIDAK\")","v":"-"},"-","-","-","-","-","-","-","-","-","-","-","-","-","-","-","-","-","-","-","-","-","-","-",{"$f":"IF(#REF!=QQ1550,\"-\",\"TIDAK\")","v":{"$error":"#REF!"}},"-","-","-","-","-","-",{"$f":"IF(QY682=QX1550,\"-\",\"TIDAK\")","v":"-"},"-","-","-","-","-","-","-","-","-","-","-","-","-","-","-","-","-","-","-","-","-","-","-","-","-","-","-","-","-","-","-",{"$f":"IF(SE682=SD1550,\"-\",\"TIDAK\")","v":"-"},"-","-","-","-","-","-","-","-","-","-","-","-","-","-","-","-","-","-","-","-","-","-","-","-","-",{"$f":"IF(TE682=TD1550,\"-\",\"TIDAK\")","v":"-"},"-","-","-","-","-","-","-","-","-","-","-","-","-","-","-","-","-","-","-","-"]
[null,null,null,null,null,null,null,null,701,"TIDAK","TIDAK","TIDAK","-","-","-","-","-","-","-","-","-","-","-","-","-","-","-","-","-","-","-","-","-","-","-","-","-","-","-","-","-","-","-","-","-","-","-","-","-","-","-","-","-","-","-","-","-","-","-","-","-","-","-","-","-","-","-","-","-","-","-","-","-","-","-","-","-","-","-","-","-","-","-","-","-","-","-","-","-","-","-","-","-","-","-","-","-","-","-",{"$f":"IF(CW708=CV1576,\"-\",\"TIDAK\")","v":"-"},"-","-","-","-","-","-","-","-","-","-","-","-","-","-","-","-","-","-","-","-","-","-","-","-","-","-","-","-","-","-","-","-","-","-","-","-","-","-","-","-","-","-","-","-","-","-","-","-","-","-","-","-","-","-","-","-","-","-","-","-","-","-",{"$f":"IF(FH708=FG1576,\"-\",\"TIDAK\")","v":"-"},"-","-","-","-","-","-","-","-","-","-","-","-","-","-","-","-","-","-","-","-","-","-","-","-","-",{"$f":"IF(#REF!=GG1576,\"-\",\"TIDAK\")","v":{"$error":"#REF!"}},"-","-","-","-","-","-","-","-","-","-","-","-","-","-","-","-","-","-","-","-","-","-","-","-","-","-","-","-","-","-","-","-","-","-","-","-",{"$f":"IF(HS708=HR1576,\"-\",\"TIDAK\")","v":"-"},"-","-","-","-","-","-","-","-","-","-","-","-","-","-","-","-","-","-","-","-","-","-","-","-","-","-","-","-","-","-","-","-","-","-","-","-","-","-","-","-","-","-","-","-","-","-","-","-","-","-","-","-",{"$f":"IF(#REF!=JS1576,\"-\",\"TIDAK\")","v":{"$error":"#REF!"}},"-","-","-","-","-","-","-","-","-",{"$f":"IF(KD708=KC1576,\"-\",\"TIDAK\")","v":"-"},"-","-","-","-","-","-","-","-","-","-","-","-","-","-","-","-","-","-","-","-","-","-","-","-","-","-","-","-","-","-","-","-","-","-","-","-","-","-","-","-","-","-","-","-","-","-","-","-","-","-","-","-","-","-","-","-","-","-","-","-","-","-","-",{"$f":"IF(MP708=MO1576,\"-\",\"TIDAK\")","v":"-"},"-","-","-","-","-","-","-","-","-","-","-","-","-","-","-",{"$f":"IF(#REF!=NE1576,\"-\",\"TIDAK\")","v":{"$error":"#REF!"}},"-","-","-","-","-","-","-","-","-","-","-","-","-","-","-","-","-","-","-","-","-","-","-","-","-","-","-","-","-","-","-","-","-","-","-","-","-","-","-","-","-","-","-","-","-","-",{"$f":"IF(PA708=OZ1576,\"-\",\"TIDAK\")","v":"-"},"-","-","-","-","-","-","-","-","-","-","-","-","-","-","-","-","-","-",{"$f":"IF(PT708=PS1576,\"-\",\"TIDAK\")","v":"-"},"-","-","-","-","-","-","-","-","-","-","-","-","-","-","-","-","-","-","-","-","-","-","-",{"$f":"IF(#REF!=QQ1576,\"-\",\"TIDAK\")","v":{"$error":"#REF!"}},"-","-","-","-","-","-",{"$f":"IF(QY708=QX1576,\"-\",\"TIDAK\")","v":"-"},"-","-","-","-","-","-","-","-","-","-","-","-","-","-","-","-","-","-","-","-","-","-","-","-","-","-","-","-","-","-","-",{"$f":"IF(SE708=SD1576,\"-\",\"TIDAK\")","v":"-"},"-","-","-","-","-","-","-","-","-","-","-","-","-","-","-","-","-","-","-","-","-","-","-","-","-",{"$f":"IF(TE708=TD1576,\"-\",\"TIDAK\")","v":"-"},"-","-","-","-","-","-","-","-","-","-","-","-","-","-","-","-","-","-","-","-"]
[null,null,null,null,null,null,null,null,731,"TIDAK",{"$f":"IF(K738=K1606,\"-\",\"TIDAK\")","v":"TIDAK"},"TIDAK","-","-","-","-","-","-","-","-","-","-","-","-","-","-","-","-","-","-","-","-","-","-","-","-","-","-","-","-","-","-","-","-","-","-","-","-","-","-","-","-","-","-","-","-","-","-","-","-","-","-","-","-","-","-","-","-","-","-","-","-","-","-","-","-","-","-","-","-","-","-","-","-","-","-","-","-","-","-","-","-","-","-","-","-","-","-","-",{"$f":"IF(CW738=CV1606,\"-\",\"TIDAK\")","v":"-"},"-","-","-","-","-","-","-","-","-","-","-","-","-","-","-","-","-","-","-","-","-","-","-","-","-","-","-","-","-","-","-","-","-","-","-","-","-","-","-","-","-","-","-","-","-","-","-","-","-","-","-","-","-","-","-","-","-","-","-","-","-","-",{"$f":"IF(FH738=FG1606,\"-\",\"TIDAK\")","v":"-"},"-","-","-","-","-","-","-","-","-","-","-","-","-","-","-","-","-","-","-","-","-","-","-","-","-",{"$f":"IF(#REF!=GG1606,\"-\",\"TIDAK\")","v":{"$error":"#REF!"}},"-","-","-","-","-","-","-","-","-","-","-","-","-","-","-","-","-","-","-","-","-","-","-","-","-","-","-","-","-","-","-","-","-","-","-","-",{"$f":"IF(HS738=HR1606,\"-\",\"TIDAK\")","v":"-"},"-","-","-","-","-","-","-","-","-","-","-","-","-","-","-","-","-","-","-","-","-","-","-","-","-","-","-","-","-","-","-","-","-","-","-","-","-","-","-","-","-","-","-","-","-","-","-","-","-","-","-","-",{"$f":"IF(#REF!=JS1606,\"-\",\"TIDAK\")","v":{"$error":"#REF!"}},"-","-","-","-","-","-","-","-","-",{"$f":"IF(KD738=KC1606,\"-\",\"TIDAK\")","v":"-"},"-","-","-","-","-","-","-","-","-","-","-","-","-","-","-","-","-","-","-","-","-","-","-","-","-","-","-","-","-","-","-","-","-","-","-","-","-","-","-","-","-","-","-","-","-","-","-","-","-","-","-","-","-","-","-","-","-","-","-","-","-","-","-",{"$f":"IF(MP738=MO1606,\"-\",\"TIDAK\")","v":"-"},"-","-","-","-","-","-","-","-","-","-","-","-","-","-","-",{"$f":"IF(#REF!=NE1606,\"-\",\"TIDAK\")","v":{"$error":"#REF!"}},"-","-","-","-","-","-","-","-","-","-","-","-","-","-","-","-","-","-","-","-","-","-","-","-","-","-","-","-","-","-","-","-","-","-","-","-","-","-","-","-","-","-","-","-","-","-",{"$f":"IF(PA738=OZ1606,\"-\",\"TIDAK\")","v":"-"},"-","-","-","-","-","-","-","-","-","-","-","-","-","-","-","-","-","-",{"$f":"IF(PT738=PS1606,\"-\",\"TIDAK\")","v":"-"},"-","-","-","-","-","-","-","-","-","-","-","-","-","-","-","-","-","-","-","-","-","-","-",{"$f":"IF(#REF!=QQ1606,\"-\",\"TIDAK\")","v":{"$error":"#REF!"}},"-","-","-","-","-","-",{"$f":"IF(QY738=QX1606,\"-\",\"TIDAK\")","v":"-"},"-","-","-","-","-","-","-","-","-","-","-","-","-","-","-","-","-","-","-","-","-","-","-","-","-","-","-","-","-","-","-",{"$f":"IF(SE738=SD1606,\"-\",\"TIDAK\")","v":"-"},"-","-","-","-","-","-","-","-","-","-","-","-","-","-","-","-","-","-","-","-","-","-","-","-","-",{"$f":"IF(TE738=TD1606,\"-\",\"TIDAK\")","v":"-"},"-","-","-","-","-","-","-","-","-","-","-","-","-","-","-","-","-","-","-","-"]
[null,null,null,null,null,null,null,null,802,"TIDAK","TIDAK","TIDAK","-","-","-","-","-","-","-","-","-","-","-","-","-","-","-","-","-","-","-","-","-","-","-","-","-","-","-","-","-","-","-","-","-","-","-","-","-","-","-","-","-","-","-","-","-","-","-","-","-","-","-","-","-","-","-","-","-","-","-","-","-",{"$f":"IF(BV809=BV1677,\"-\",\"TIDAK\")","v":"-"},"-","-","-","-","-","-","-","-","-","-","-","-","-","-","-","-","-","-","-","-","-","-","-","-","-",{"$f":"IF(CW809=CV1677,\"-\",\"TIDAK\")","v":"-"},"-","-","-","-","-","-","-","-","-","-","-","-","-","-","-","-","-","-","-","-","-","-","-","-","-","-","-","-","-","-","-","-","-","-","-","-","-","-","-","-","-","-","-","-","-","-","-","-","-","-","-","-","-","-","-","-","-","-","-","-","-","-",{"$f":"IF(FH809=FG1677,\"-\",\"TIDAK\")","v":"-"},"-","-","-","-","-","-","-","-","-","-","-","-","-","-","-","-","-","-","-","-","-","-","-","-","-",{"$f":"IF(#REF!=GG1677,\"-\",\"TIDAK\")","v":{"$error":"#REF!"}},"-","-","-","-","-","-","-","-","-","-","-","-","-","-","-","-","-","-","-","-","-","-","-","-","-","-","-","-","-","-","-","-","-","-","-","-",{"$f":"IF(HS809=HR1677,\"-\",\"TIDAK\")","v":"-"},"-","-","-","-","-","-","-","-","-","-","-","-","-","-","-","-","-","-","-","-","-","-","-","-","-","-","-","-","-","-","-","-","-","-","-","-","-","-","-","-","-","-","-","-","-","-","-","-","-","-","-","-",{"$f":"IF(#REF!=JS1677,\"-\",\"TIDAK\")","v":{"$error":"#REF!"}},"-","-","-","-","-","-","-","-","-",{"$f":"IF(KD809=KC1677,\"-\",\"TIDAK\")","v":"-"},"-","-","-","-","-","-","-","-","-","-","-","-","-","-","-","-","-","-","-","-","-","-","-","-","-","-","-","-","-","-","-","-","-","-","-","-","-","-","-","-","-","-","-","-","-","-","-","-","-","-","-","-","-","-","-","-","-","-","-","-","-","-","-",{"$f":"IF(MP809=MO1677,\"-\",\"TIDAK\")","v":"-"},"-","-","-","-","-","-","-","-","-","-","-","-","-","-","-",{"$f":"IF(#REF!=NE1677,\"-\",\"TIDAK\")","v":{"$error":"#REF!"}},"-","-","-","-","-","-","-","-","-","-","-","-","-","-","-","-","-","-","-","-","-","-","-","-","-","-","-","-","-","-","-","-","-","-","-","-","-","-","-","-","-","-","-","-","-","-",{"$f":"IF(PA809=OZ1677,\"-\",\"TIDAK\")","v":"-"},"-","-","-","-","-","-","-","-","-","-","-","-","-","-","-","-","-","-",{"$f":"IF(PT809=PS1677,\"-\",\"TIDAK\")","v":"-"},"-","-","-","-","-","-","-","-","-","-","-","-","-","-","-","-","-","-","-","-","-","-","-",{"$f":"IF(#REF!=QQ1677,\"-\",\"TIDAK\")","v":{"$error":"#REF!"}},"-","-","-","-","-","-",{"$f":"IF(QY809=QX1677,\"-\",\"TIDAK\")","v":"-"},"-","-","-","-","-","-","-","-","-","-","-","-","-","-","-","-","-","-","-","-","-","-","-","-","-","-","-","-","-","-","-",{"$f":"IF(SE809=SD1677,\"-\",\"TIDAK\")","v":"-"},"-","-","-","-","-","-","-","-","-","-","-","-","-","-","-","-","-","-","-","-","-","-","-","-","-",{"$f":"IF(TE809=TD1677,\"-\",\"TIDAK\")","v":"-"},"-","-","-","-","-","-","-","-","-","-","-","-","-","-","-","-","-","-","-","-"]
[null,null,null,null,null,null,null,null,828,"TIDAK","TIDAK","TIDAK","-","-","-","-","-","-","-","-","-","-","-","-","-","-","-","-","-","-","-","-","-","-","-","-","-","-","-","-","-","-","-","-","-","-","-","-","-","-","-","-","-","-","-","-","-","-","-","-","-","-","-","-","-","-","-","-","-","-","-","-","-","-","-","-","-","-","-","-","-","-","-","-","-","-","-","-","-","-","-","-","-","-","-","-","-","-","-",{"$f":"IF(CW835=CV1703,\"-\",\"TIDAK\")","v":"-"},"-","-","-","-","-","-","-","-","-","-","-","-","-","-","-","-","-","-","-","-","-","-","-","-","-","-","-","-","-","-","-","-","-","-","-","-","-","-","-","-","-","-","-","-","-","-","-","-","-","-","-","-","-","-","-","-","-","-","-","-","-","-",{"$f":"IF(FH835=FG1703,\"-\",\"TIDAK\")","v":"-"},"-","-","-","-","-","-","-","-","-","-","-","-","-","-","-","-","-","-","-","-","-","-","-","-","-",{"$f":"IF(#REF!=GG1703,\"-\",\"TIDAK\")","v":{"$error":"#REF!"}},"-","-","-","-","-","-","-","-","-","-","-","-","-","-","-","-","-","-","-","-","-","-","-","-","-","-","-","-","-","-","-","-","-","-","-","-",{"$f":"IF(HS835=HR1703,\"-\",\"TIDAK\")","v":"-"},"-","-","-","-","-","-","-","-","-","-","-","-","-","-","-","-","-","-","-","-","-","-","-","-","-","-","-","-","-","-","-","-","-","-","-","-","-","-","-","-","-","-","-","-","-","-","-","-","-","-","-","-",{"$f":"IF(#REF!=JS1703,\"-\",\"TIDAK\")","v":{"$error":"#REF!"}},"-","-","-","-","-","-","-","-","-",{"$f":"IF(KD835=KC1703,\"-\",\"TIDAK\")","v":"-"},"-","-","-","-","-","-","-","-","-","-","-","-","-","-","-","-","-","-","-","-","-","-","-","-","-","-","-","-","-","-","-","-","-","-","-","-","-","-","-","-","-","-","-","-","-","-","-","-","-","-","-","-","-","-","-","-","-","-","-","-","-","-","-",{"$f":"IF(MP835=MO1703,\"-\",\"TIDAK\")","v":"-"},"-","-","-","-","-","-","-","-","-","-","-","-","-","-","-",{"$f":"IF(#REF!=NE1703,\"-\",\"TIDAK\")","v":{"$error":"#REF!"}},"-","-","-","-","-","-","-","-","-","-","-","-","-","-","-","-","-","-","-","-","-","-","-","-","-","-","-","-","-","-","-","-","-","-","-","-","-","-","-","-","-","-","-","-","-","-",{"$f":"IF(PA835=OZ1703,\"-\",\"TIDAK\")","v":"-"},"-","-","-","-","-","-","-","-","-","-","-","-","-","-","-","-","-","-",{"$f":"IF(PT835=PS1703,\"-\",\"TIDAK\")","v":"-"},"-","-","-","-","-","-","-","-","-","-","-","-","-","-","-","-","-","-","-","-","-","-","-",{"$f":"IF(#REF!=QQ1703,\"-\",\"TIDAK\")","v":{"$error":"#REF!"}},"-","-","-","-","-","-",{"$f":"IF(QY835=QX1703,\"-\",\"TIDAK\")","v":"-"},"-","-","-","-","-","-","-","-","-","-","-","-","-","-","-","-","-","-","-","-","-","-","-","-","-","-","-","-","-","-","-",{"$f":"IF(SE835=SD1703,\"-\",\"TIDAK\")","v":"-"},"-","-","-","-","-","-","-","-","-","-","-","-","-","-","-","-","-","-","-","-","-","-","-","-","-",{"$f":"IF(TE835=TD1703,\"-\",\"TIDAK\")","v":"-"},"-","-","-","-","-","-","-","-","-","-","-","-","-","-","-","-","-","-","-","-"]
[null,null,null,null,null,null,null,null,853,"TIDAK","TIDAK","TIDAK","-","-","-","-","-","-","-","-","-","-","-","-","-","-","-","-","-","-","-","-","-","-","-","-","-","-","-","-","-","-","-","-","-","-","-","-","-","-","-","-","-","-","-","-","-","-","-","-","-","-","-","-","-","-","-","-","-","-","-","-","-","-","-","-","-","-","-","-","-","-","-","-","-","-","-","-","-","-","-","-","-","-","-","-","-","-","-",{"$f":"IF(CW860=CV1728,\"-\",\"TIDAK\")","v":"-"},"-","-","-","-","-","-","-","-","-","-","-","-","-","-","-","-","-","-","-","-","-","-","-","-","-","-","-","-","-","-","-","-","-","-","-","-","-","-","-","-","-","-","-","-","-","-","-","-","-","-","-","-","-","-","-","-","-","-","-","-","-","-",{"$f":"IF(FH860=FG1728,\"-\",\"TIDAK\")","v":"-"},"-","-","-","-","-","-","-","-","-","-","-","-","-","-","-","-","-","-","-","-","-","-","-","-","-",{"$f":"IF(#REF!=GG1728,\"-\",\"TIDAK\")","v":{"$error":"#REF!"}},"-","-","-","-","-","-","-","-","-","-","-","-","-","-","-","-","-","-","-","-","-","-","-","-","-","-","-","-","-","-","-","-","-","-","-","-",{"$f":"IF(HS860=HR1728,\"-\",\"TIDAK\")","v":"-"},"-","-","-","-","-","-","-","-","-","-","-","-","-","-","-","-","-","-","-","-","-","-","-","-","-","-","-","-","-","-","-","-","-","-","-","-","-","-","-","-","-","-","-","-","-","-","-","-","-","-","-","-",{"$f":"IF(#REF!=JS1728,\"-\",\"TIDAK\")","v":{"$error":"#REF!"}},"-","-","-","-","-","-","-","-","-",{"$f":"IF(KD860=KC1728,\"-\",\"TIDAK\")","v":"-"},"-","-","-","-","-","-","-","-","-","-","-","-","-","-","-","-","-","-","-","-","-","-","-","-","-","-","-","-","-","-","-","-","-","-","-","-","-","-","-","-","-","-","-","-","-","-","-","-","-","-","-","-","-","-","-","-","-","-","-","-","-","-","-",{"$f":"IF(MP860=MO1728,\"-\",\"TIDAK\")","v":"-"},"-","-","-","-","-","-","-","-","-","-","-","-","-","-","-",{"$f":"IF(#REF!=NE1728,\"-\",\"TIDAK\")","v":{"$error":"#REF!"}},"-","-","-","-","-","-","-","-","-","-","-","-","-","-","-","-","-","-","-","-","-","-","-","-","-","-","-","-","-","-","-","-","-","-","-","-","-","-","-","-","-","-","-","-","-","-",{"$f":"IF(PA860=OZ1728,\"-\",\"TIDAK\")","v":"-"},"-","-","-","-","-","-","-","-","-","-","-","-","-","-","-","-","-","-",{"$f":"IF(PT860=PS1728,\"-\",\"TIDAK\")","v":"-"},"-","-","-","-","-","-","-","-","-","-","-","-","-","-","-","-","-","-","-","-","-","-","-",{"$f":"IF(#REF!=QQ1728,\"-\",\"TIDAK\")","v":{"$error":"#REF!"}},"-","-","-","-","-","-",{"$f":"IF(QY860=QX1728,\"-\",\"TIDAK\")","v":"-"},"-","-","-","-","-","-","-","-","-","-","-","-","-","-","-","-","-","-","-","-","-","-","-","-","-","-","-","-","-","-","-",{"$f":"IF(SE860=SD1728,\"-\",\"TIDAK\")","v":"-"},"-","-","-","-","-","-","-","-","-","-","-","-","-","-","-","-","-","-","-","-","-","-","-","-","-",{"$f":"IF(TE860=TD1728,\"-\",\"TIDAK\")","v":"-"},"-","-","-","-","-","-","-","-","-","-","-","-","-","-","-","-","-","-","-","-"]
[null,null,null,null,null,null,null,null,854,"TIDAK","TIDAK","TIDAK","-","-","-","-","-","-","-","-","-","-","-","-","-","-","-","-","-","-","-","-","-","-","-","-","-","-","-","-","-","-","-","-","-","-","-","-","-","-","-","-","-","-","-","-","-","-","-","-","-","-","-","-","-","-","-","-","-","-","-","-","-",{"$f":"IF(BV861=BV1729,\"-\",\"TIDAK\")","v":"-"},"-","-","-","-","-","-","-","-","-","-","-","-","-","-","-","-","-","-","-","-","-","-","-","-","-",{"$f":"IF(CW861=CV1729,\"-\",\"TIDAK\")","v":"-"},"-","-","-","-","-","-","-","-","-","-","-","-","-","-","-","-","-","-","-","-","-","-","-","-","-","-","-","-","-","-","-","-","-","-","-","-","-","-","-","-","-","-","-","-","-","-","-","-","-","-","-","-","-","-","-","-","-","-","-","-","-","-",{"$f":"IF(FH861=FG1729,\"-\",\"TIDAK\")","v":"-"},"-","-","-","-","-","-","-","-","-","-","-","-","-","-","-","-","-","-","-","-","-","-","-","-","-",{"$f":"IF(#REF!=GG1729,\"-\",\"TIDAK\")","v":{"$error":"#REF!"}},"-","-","-","-","-","-","-","-","-","-","-","-","-","-","-","-","-","-","-","-","-","-","-","-","-","-","-","-","-","-","-","-","-","-","-","-",{"$f":"IF(HS861=HR1729,\"-\",\"TIDAK\")","v":"-"},"-","-","-","-","-","-","-","-","-","-","-","-","-","-","-","-","-","-","-","-","-","-","-","-","-","-","-","-","-","-","-","-","-","-","-","-","-","-","-","-","-","-","-","-","-","-","-","-","-","-","-","-",{"$f":"IF(#REF!=JS1729,\"-\",\"TIDAK\")","v":{"$error":"#REF!"}},"-","-","-","-","-","-","-","-","-",{"$f":"IF(KD861=KC1729,\"-\",\"TIDAK\")","v":"-"},"-","-","-","-","-","-","-","-","-","-","-","-","-","-","-","-","-","-","-","-","-","-","-","-","-","-","-","-","-","-","-","-","-","-","-","-","-","-","-","-","-","-","-","-","-","-","-","-","-","-","-","-","-","-","-","-","-","-","-","-","-","-","-",{"$f":"IF(MP861=MO1729,\"-\",\"TIDAK\")","v":"-"},"-","-","-","-","-","-","-","-","-","-","-","-","-","-","-",{"$f":"IF(#REF!=NE1729,\"-\",\"TIDAK\")","v":{"$error":"#REF!"}},"-","-","-","-","-","-","-","-","-","-","-","-","-","-","-","-","-","-","-","-","-","-","-","-","-","-","-","-","-","-","-","-","-","-","-","-","-","-","-","-","-","-","-","-","-","-",{"$f":"IF(PA861=OZ1729,\"-\",\"TIDAK\")","v":"-"},"-","-","-","-","-","-","-","-","-","-","-","-",{"$f":"IF(PN861=PM1729,\"-\",\"TIDAK\")","v":"-"},"-","-","-","-","-",{"$f":"IF(PT861=PS1729,\"-\",\"TIDAK\")","v":"-"},"-","-","-","-","-","-","-","-","-","-","-","-","-","-","-","-","-","-","-","-","-","-","-",{"$f":"IF(#REF!=QQ1729,\"-\",\"TIDAK\")","v":{"$error":"#REF!"}},"-","-","-","-","-","-",{"$f":"IF(QY861=QX1729,\"-\",\"TIDAK\")","v":"-"},"-","-","-","-","-","-","-","-","-","-","-","-","-","-","-","-","-","-","-","-","-","-","-","-","-","-","-","-","-","-","-",{"$f":"IF(SE861=SD1729,\"-\",\"TIDAK\")","v":"-"},"-","-","-","-","-","-","-","-","-","-","-","-","-","-","-","-","-","-","-",{"$f":"IF(SY861=SX1729,\"-\",\"TIDAK\")","v":"-"},"-","-","-","-","-",{"$f":"IF(TE861=TD1729,\"-\",\"TIDAK\")","v":"-"},"-","-","-","-","-","-","-","-","-","-","-","-","-","-","-","-","-","-","-","-"]
[null,null,null,null,null,null,null,null,855,"TIDAK",{"$f":"IF(K862=K1730,\"-\",\"TIDAK\")","v":"TIDAK"},"TIDAK","-","-","-","-","-","-","-","-","-","-","-","-","-","-","-","-","-","-","-","-","-","-","-","-","-","-","-","-","-","-","-","-","-","-","-","-","-","-","-","-","-","-","-","-","-","-","-","-","-","-","-","-","-","-","-","-","-","-","-","-","-","-","-","-","-","-","-","-","-","-","-","-","-","-","-","-","-","-","-","-","-","-","-","-","-","-","-",{"$f":"IF(CW862=CV1730,\"-\",\"TIDAK\")","v":"-"},"-","-","-","-","-","-","-","-","-","-","-","-","-","-","-","-","-","-","-","-","-","-","-","-","-","-","-","-","-","-","-","-","-","-","-","-","-","-","-","-","-","-","-","-","-","-","-","-","-","-","-","-","-","-","-","-","-","-","-","-","-","-",{"$f":"IF(FH862=FG1730,\"-\",\"TIDAK\")","v":"-"},"-","-","-","-","-","-","-","-","-","-","-","-","-","-","-","-","-","-","-","-","-","-","-","-","-",{"$f":"IF(#REF!=GG1730,\"-\",\"TIDAK\")","v":{"$error":"#REF!"}},"-","-","-","-","-","-","-","-","-","-","-","-","-","-","-","-","-","-","-","-","-","-","-","-","-","-","-","-","-","-","-","-","-","-","-","-",{"$f":"IF(HS862=HR1730,\"-\",\"TIDAK\")","v":"-"},"-","-","-","-","-","-","-","-","-","-","-","-","-","-","-","-","-","-","-","-","-","-","-","-","-","-","-","-","-","-","-","-","-","-","-","-","-","-","-","-","-","-","-","-","-","-","-","-","-","-","-","-",{"$f":"IF(#REF!=JS1730,\"-\",\"TIDAK\")","v":{"$error":"#REF!"}},"-","-","-","-","-","-","-","-","-",{"$f":"IF(KD862=KC1730,\"-\",\"TIDAK\")","v":"-"},"-","-","-","-","-","-","-","-","-","-","-","-","-","-","-","-","-","-","-","-","-","-","-","-","-","-","-","-","-","-","-","-","-","-","-","-","-","-","-","-","-","-","-","-","-","-","-","-","-","-","-","-","-","-","-","-","-","-","-","-","-","-","-",{"$f":"IF(MP862=MO1730,\"-\",\"TIDAK\")","v":"-"},"-","-","-","-","-","-","-","-","-","-","-","-","-","-","-",{"$f":"IF(#REF!=NE1730,\"-\",\"TIDAK\")","v":{"$error":"#REF!"}},"-","-","-","-","-","-","-","-","-","-","-","-","-","-","-","-","-","-","-","-","-","-","-","-","-","-","-","-","-","-","-","-","-","-","-","-","-","-","-","-","-","-","-","-","-","-",{"$f":"IF(PA862=OZ1730,\"-\",\"TIDAK\")","v":"-"},"-","-","-","-","-","-","-","-","-","-","-","-","-","-","-","-","-","-",{"$f":"IF(PT862=PS1730,\"-\",\"TIDAK\")","v":"-"},"-","-","-","-","-","-","-","-","-","-","-","-","-","-","-","-","-","-","-","-","-","-","-",{"$f":"IF(#REF!=QQ1730,\"-\",\"TIDAK\")","v":{"$error":"#REF!"}},"-","-","-","-","-","-",{"$f":"IF(QY862=QX1730,\"-\",\"TIDAK\")","v":"-"},"-","-","-","-","-","-","-","-","-","-","-","-","-","-","-","-","-","-","-","-","-","-","-","-","-","-","-","-","-","-","-",{"$f":"IF(SE862=SD1730,\"-\",\"TIDAK\")","v":"-"},"-","-","-","-","-","-","-","-","-","-","-","-","-","-","-","-","-","-","-","-","-","-","-","-","-",{"$f":"IF(TE862=TD1730,\"-\",\"TIDAK\")","v":"-"},"-","-","-","-","-","-","-","-","-","-","-","-","-","-","-","-","-","-","-","-"]
[null,null,null,null,null,null,null,null,856,"TIDAK","TIDAK","TIDAK","-","-","-","-","-","-","-","-","-","-","-","-","-","-","-","-","-","-","-","-","-","-","-","-","-","-","-","-","-","-","-","-","-","-","-","-","-","-","-","-","-","-","-","-","-","-","-","-","-","-","-","-","-","-","-","-","-","-","-","-","-","-","-","-","-","-","-","-","-","-","-","-","-","-","-","-","-","-","-","-","-","-","-","-","-","-","-",{"$f":"IF(CW863=CV1731,\"-\",\"TIDAK\")","v":"-"},"-","-","-","-","-","-","-","-","-","-","-","-","-","-","-","-","-","-","-","-","-","-","-","-","-","-","-","-","-","-","-","-","-","-","-","-","-","-","-","-","-","-","-","-","-","-","-","-","-","-","-","-","-","-","-","-","-","-","-","-","-","-",{"$f":"IF(FH863=FG1731,\"-\",\"TIDAK\")","v":"-"},"-","-","-","-","-","-","-","-","-","-","-","-","-","-","-","-","-","-","-","-","-","-","-","-","-",{"$f":"IF(#REF!=GG1731,\"-\",\"TIDAK\")","v":{"$error":"#REF!"}},"-","-","-","-","-","-","-","-","-","-","-","-","-","-","-","-","-","-","-","-","-","-","-","-","-","-","-","-","-","-","-","-","-","-","-","-",{"$f":"IF(HS863=HR1731,\"-\",\"TIDAK\")","v":"-"},"-","-","-","-","-","-","-","-","-","-","-","-","-","-","-","-","-","-","-","-","-","-","-","-","-","-","-","-","-","-","-","-","-","-","-","-","-","-","-","-","-","-","-","-","-","-","-","-","-","-","-","-",{"$f":"IF(#REF!=JS1731,\"-\",\"TIDAK\")","v":{"$error":"#REF!"}},"-","-","-","-","-","-","-","-","-",{"$f":"IF(KD863=KC1731,\"-\",\"TIDAK\")","v":"-"},"-","-","-","-","-","-","-","-","-","-","-","-","-","-","-","-","-","-","-","-","-","-","-","-","-","-","-","-","-","-","-","-","-","-","-","-","-","-","-","-","-","-","-","-","-","-","-","-","-","-","-","-","-","-","-","-","-","-","-","-","-","-","-",{"$f":"IF(MP863=MO1731,\"-\",\"TIDAK\")","v":"-"},"-","-","-","-","-","-","-","-","-","-","-","-","-","-","-",{"$f":"IF(#REF!=NE1731,\"-\",\"TIDAK\")","v":{"$error":"#REF!"}},"-","-","-","-","-","-","-","-","-","-","-","-","-","-","-","-","-","-","-","-","-","-","-","-","-","-","-","-","-","-","-","-","-","-","-","-","-","-","-","-","-","-","-","-","-","-",{"$f":"IF(PA863=OZ1731,\"-\",\"TIDAK\")","v":"-"},"-","-","-","-","-","-","-","-","-","-","-","-","-","-","-","-","-","-",{"$f":"IF(PT863=PS1731,\"-\",\"TIDAK\")","v":"-"},"-","-","-","-","-","-","-","-","-","-","-","-","-","-","-","-","-","-","-","-","-","-","-",{"$f":"IF(#REF!=QQ1731,\"-\",\"TIDAK\")","v":{"$error":"#REF!"}},"-","-","-","-","-","-",{"$f":"IF(QY863=QX1731,\"-\",\"TIDAK\")","v":"-"},"-","-","-","-","-","-","-","-","-","-","-","-","-","-","-","-","-","-","-","-","-","-","-","-","-","-","-","-","-","-","-",{"$f":"IF(SE863=SD1731,\"-\",\"TIDAK\")","v":"-"},"-","-","-","-","-","-","-","-","-","-","-","-","-","-","-","-","-","-","-","-","-","-","-","-","-",{"$f":"IF(TE863=TD1731,\"-\",\"TIDAK\")","v":"-"},"-","-","-","-","-","-","-","-","-","-","-","-","-","-","-","-","-","-","-","-"]
[null,null,null,null,null,null,null,null,857,"TIDAK","TIDAK","TIDAK","-","-","-","-","-","-","-","-","-","-","-","-","-","-","-","-","-","-","-","-","-","-","-","-","-","-","-","-","-","-","-","-","-","-","-","-","-","-","-","-","-","-","-","-","-","-","-","-","-","-","-","-","-","-","-","-","-","-","-","-","-","-","-","-","-","-","-","-","-","-","-","-","-","-","-","-","-","-","-","-","-","-","-","-","-","-","-",{"$f":"IF(CW864=CV1732,\"-\",\"TIDAK\")","v":"-"},"-","-","-","-","-","-","-","-","-","-","-","-","-","-","-","-","-","-","-","-","-","-","-","-","-","-","-","-","-","-","-","-","-","-","-","-","-","-","-","-","-","-","-","-","-","-","-","-","-","-","-","-","-","-","-","-","-","-","-","-","-","-",{"$f":"IF(FH864=FG1732,\"-\",\"TIDAK\")","v":"-"},"-","-","-","-","-","-","-","-","-","-","-","-","-","-","-","-","-","-","-","-","-","-","-","-","-",{"$f":"IF(#REF!=GG1732,\"-\",\"TIDAK\")","v":{"$error":"#REF!"}},"-","-","-","-","-","-","-","-","-","-","-","-","-","-","-","-","-","-","-","-","-","-","-","-","-","-","-","-","-","-","-","-","-","-","-","-",{"$f":"IF(HS864=HR1732,\"-\",\"TIDAK\")","v":"-"},"-","-","-","-","-","-","-","-","-","-","-","-","-","-","-","-","-","-","-","-","-","-","-","-","-","-","-","-","-","-","-","-","-","-","-","-","-","-","-","-","-","-","-","-","-","-","-","-","-","-","-","-",{"$f":"IF(#REF!=JS1732,\"-\",\"TIDAK\")","v":{"$error":"#REF!"}},"-","-","-","-","-","-","-","-","-",{"$f":"IF(KD864=KC1732,\"-\",\"TIDAK\")","v":"-"},"-","-","-","-","-","-","-","-","-","-","-","-","-","-","-","-","-","-","-","-","-","-","-","-","-","-","-","-","-","-","-","-","-","-","-","-","-","-","-","-","-","-","-","-","-","-","-","-","-","-","-","-","-","-","-","-","-","-","-","-","-","-","-",{"$f":"IF(MP864=MO1732,\"-\",\"TIDAK\")","v":"-"},"-","-","-","-","-","-","-","-","-","-","-","-","-","-","-",{"$f":"IF(#REF!=NE1732,\"-\",\"TIDAK\")","v":{"$error":"#REF!"}},"-","-","-","-","-","-","-","-","-","-","-","-","-","-","-","-","-","-","-","-","-","-","-","-","-","-","-","-","-","-","-","-","-","-","-","-","-","-","-","-","-","-","-","-","-","-",{"$f":"IF(PA864=OZ1732,\"-\",\"TIDAK\")","v":"-"},"-","-","-","-","-","-","-","-","-","-","-","-","-","-","-","-","-","-",{"$f":"IF(PT864=PS1732,\"-\",\"TIDAK\")","v":"-"},"-","-","-","-","-","-","-","-","-","-","-","-","-","-","-","-","-","-","-","-","-","-","-",{"$f":"IF(#REF!=QQ1732,\"-\",\"TIDAK\")","v":{"$error":"#REF!"}},"-","-","-","-","-","-",{"$f":"IF(QY864=QX1732,\"-\",\"TIDAK\")","v":"-"},"-","-","-","-","-","-","-","-","-","-","-","-","-","-","-","-","-","-","-","-","-","-","-","-","-","-","-","-","-","-","-",{"$f":"IF(SE864=SD1732,\"-\",\"TIDAK\")","v":"-"},"-","-","-","-","-","-","-","-","-","-","-","-","-","-","-","-","-","-","-","-","-","-","-","-","-",{"$f":"IF(TE864=TD1732,\"-\",\"TIDAK\")","v":"-"},"-","-","-","-","-","-","-","-","-","-","-","-","-","-","-","-","-","-","-","-"]
[null,null,null,null,null,null,null,null,858,"TIDAK","TIDAK","TIDAK","-","-","-","-","-","-","-","-","-","-","-","-","-","-","-","-","-","-","-","-","-","-","-","-","-","-","-","-","-","-","-","-","-","-","-","-","-","-","-","-","-","-","-","-","-","-","-","-","-","-","-","-","-","-","-","-","-","-","-","-","-",{"$f":"IF(BV865=BV1733,\"-\",\"TIDAK\")","v":"-"},"-","-","-","-","-","-","-","-","-","-","-","-","-","-","-","-","-","-","-","-","-","-","-","-","-",{"$f":"IF(CW865=CV1733,\"-\",\"TIDAK\")","v":"-"},"-","-","-","-","-","-","-","-","-","-","-","-","-","-","-","-","-","-","-","-","-","-","-","-","-","-","-","-","-","-","-","-","-","-","-","-","-","-","-","-","-","-","-","-","-","-","-","-","-","-","-","-","-","-","-","-","-","-","-","-","-","-",{"$f":"IF(FH865=FG1733,\"-\",\"TIDAK\")","v":"-"},"-","-","-","-","-","-","-","-","-","-","-","-","-","-","-","-","-","-","-","-","-","-","-","-","-",{"$f":"IF(#REF!=GG1733,\"-\",\"TIDAK\")","v":{"$error":"#REF!"}},"-","-","-","-","-","-","-","-","-","-","-","-","-","-","-","-","-","-","-","-","-","-","-","-","-","-","-","-","-","-","-","-","-","-","-","-",{"$f":"IF(HS865=HR1733,\"-\",\"TIDAK\")","v":"-"},"-","-","-","-","-","-","-","-","-","-","-","-","-","-","-","-","-","-","-","-","-","-","-","-","-","-","-","-","-","-","-","-","-","-","-","-","-","-","-","-","-","-","-","-","-","-","-","-","-","-","-","-",{"$f":"IF(#REF!=JS1733,\"-\",\"TIDAK\")","v":{"$error":"#REF!"}},"-","-","-","-","-","-","-","-","-",{"$f":"IF(KD865=KC1733,\"-\",\"TIDAK\")","v":"-"},"-","-","-","-","-","-","-","-","-","-","-","-","-","-","-","-","-","-","-","-","-","-","-","-","-","-","-","-","-","-","-","-","-","-","-","-","-","-","-","-","-","-","-","-","-","-","-","-","-","-","-","-","-","-","-","-","-","-","-","-","-","-","-",{"$f":"IF(MP865=MO1733,\"-\",\"TIDAK\")","v":"-"},"-","-","-","-","-","-","-","-","-","-","-","-","-","-","-",{"$f":"IF(#REF!=NE1733,\"-\",\"TIDAK\")","v":{"$error":"#REF!"}},"-","-","-","-","-","-","-","-","-","-","-","-","-","-","-","-","-","-","-","-","-","-","-","-","-","-","-","-","-","-","-","-","-","-","-","-","-","-","-","-","-","-","-","-","-","-",{"$f":"IF(PA865=OZ1733,\"-\",\"TIDAK\")","v":"-"},"-","-","-","-","-","-","-","-","-","-","-","-","-","-","-","-","-","-",{"$f":"IF(PT865=PS1733,\"-\",\"TIDAK\")","v":"-"},"-","-","-","-","-","-","-","-","-","-","-","-","-","-","-","-","-","-","-","-","-","-","-",{"$f":"IF(#REF!=QQ1733,\"-\",\"TIDAK\")","v":{"$error":"#REF!"}},"-","-","-","-","-","-",{"$f":"IF(QY865=QX1733,\"-\",\"TIDAK\")","v":"-"},"-","-","-","-","-","-","-","-","-","-","-","-","-","-","-","-","-","-","-","-","-","-","-","-","-","-","-","-","-","-","-",{"$f":"IF(SE865=SD1733,\"-\",\"TIDAK\")","v":"-"},"-","-","-","-","-","-","-","-","-","-","-","-","-","-","-","-","-","-","-","-","-","-","-","-","-",{"$f":"IF(TE865=TD1733,\"-\",\"TIDAK\")","v":"-"},"-","-","-","-","-","-","-","-","-","-","-","-","-","-","-","-","-","-","-","-"]
[null,null,null,null,null,null,null,null,859,"TIDAK",{"$f":"IF(K866=K1734,\"-\",\"TIDAK\")","v":"TIDAK"},"TIDAK","-","-","-","-","-","-","-","-","-","-","-","-","-","-","-","-","-","-","-","-","-","-","-","-","-","-","-","-","-","-","-","-","-","-","-","-","-","-","-","-","-","-","-","-","-","-","-","-","-","-","-","-","-","-","-","-","-","-","-","-","-","-","-","-","-","-","-","-","-","-","-","-","-","-","-","-","-","-","-","-","-","-","-","-","-","-","-",{"$f":"IF(CW866=CV1734,\"-\",\"TIDAK\")","v":"-"},"-","-","-","-","-","-","-","-","-","-","-","-","-","-","-","-","-","-","-","-","-","-","-","-","-","-","-","-","-","-","-","-","-","-","-","-","-","-","-","-","-","-","-","-","-","-","-","-","-","-","-","-","-","-","-","-","-","-","-","-","-","-",{"$f":"IF(FH866=FG1734,\"-\",\"TIDAK\")","v":"-"},"-","-","-","-","-","-","-","-","-","-","-","-","-","-","-","-","-","-","-","-","-","-","-","-","-",{"$f":"IF(#REF!=GG1734,\"-\",\"TIDAK\")","v":{"$error":"#REF!"}},"-","-","-","-","-","-","-","-","-","-","-","-","-","-","-","-","-","-","-","-","-","-","-","-","-","-","-","-","-","-","-","-","-","-","-","-",{"$f":"IF(HS866=HR1734,\"-\",\"TIDAK\")","v":"-"},"-","-","-","-","-","-","-","-","-","-","-","-","-","-","-","-","-","-","-","-","-","-","-","-","-","-","-","-","-","-","-","-","-","-","-","-","-","-","-","-","-","-","-","-","-","-","-","-","-","-","-","-",{"$f":"IF(#REF!=JS1734,\"-\",\"TIDAK\")","v":{"$error":"#REF!"}},"-","-","-","-","-","-","-","-","-",{"$f":"IF(KD866=KC1734,\"-\",\"TIDAK\")","v":"-"},"-","-","-","-","-","-","-","-","-","-","-","-","-","-","-","-","-","-","-","-","-","-","-","-","-","-","-","-","-","-","-","-","-","-","-","-","-","-","-","-","-","-","-","-","-","-","-","-","-","-","-","-","-","-","-","-","-","-","-","-","-","-","-",{"$f":"IF(MP866=MO1734,\"-\",\"TIDAK\")","v":"-"},"-","-","-","-","-","-","-","-","-","-","-","-","-","-","-",{"$f":"IF(#REF!=NE1734,\"-\",\"TIDAK\")","v":{"$error":"#REF!"}},"-","-","-","-","-","-","-","-","-","-","-","-","-","-","-","-","-","-","-","-","-","-","-","-","-","-","-","-","-","-","-","-","-","-","-","-","-","-","-","-","-","-","-","-","-","-",{"$f":"IF(PA866=OZ1734,\"-\",\"TIDAK\")","v":"-"},"-","-","-","-","-","-","-","-","-","-","-","-","-","-","-","-","-","-",{"$f":"IF(PT866=PS1734,\"-\",\"TIDAK\")","v":"-"},"-","-","-","-","-","-","-","-","-","-","-","-","-","-","-","-","-","-","-","-","-","-","-",{"$f":"IF(#REF!=QQ1734,\"-\",\"TIDAK\")","v":{"$error":"#REF!"}},"-","-","-","-","-","-",{"$f":"IF(QY866=QX1734,\"-\",\"TIDAK\")","v":"-"},"-","-","-","-","-","-","-","-","-","-","-","-","-","-","-","-","-","-","-","-","-","-","-","-","-","-","-","-","-","-","-",{"$f":"IF(SE866=SD1734,\"-\",\"TIDAK\")","v":"-"},"-","-","-","-","-","-","-","-","-","-","-","-","-","-","-","-","-","-","-","-","-","-","-","-","-",{"$f":"IF(TE866=TD1734,\"-\",\"TIDAK\")","v":"-"},"-","-","-","-","-","-","-","-","-","-","-","-","-","-","-","-","-","-","-","-"]
[null,null,null,null,null,null,null,null,860,"TIDAK","TIDAK","TIDAK","-","-","-","-","-","-","-","-","-","-","-","-","-","-","-","-","-","-","-","-","-","-","-","-","-","-","-","-","-","-","-","-","-","-","-","-","-","-","-","-","-","-","-","-","-","-","-","-","-","-","-","-","-","-","-","-","-","-","-","-","-","-","-","-","-","-","-","-","-","-","-","-","-","-","-","-","-","-","-","-","-","-","-","-","-","-","-",{"$f":"IF(CW867=CV1735,\"-\",\"TIDAK\")","v":"-"},"-","-","-","-","-","-","-","-","-","-","-","-","-","-","-","-","-","-","-","-","-","-","-","-","-","-","-","-","-","-","-","-","-","-","-","-","-","-","-","-","-","-","-","-","-","-","-","-","-","-","-","-","-","-","-","-","-","-","-","-","-","-",{"$f":"IF(FH867=FG1735,\"-\",\"TIDAK\")","v":"-"},"-","-","-","-","-","-","-","-","-","-","-","-","-","-","-","-","-","-","-","-","-","-","-","-","-",{"$f":"IF(#REF!=GG1735,\"-\",\"TIDAK\")","v":{"$error":"#REF!"}},"-","-","-","-","-","-","-","-","-","-","-","-","-","-","-","-","-","-","-","-","-","-","-","-","-","-","-","-","-","-","-","-","-","-","-","-",{"$f":"IF(HS867=HR1735,\"-\",\"TIDAK\")","v":"-"},"-","-","-","-","-","-","-","-","-","-","-","-","-","-","-","-","-","-","-","-","-","-","-","-","-","-","-","-","-","-","-","-","-","-","-","-","-","-","-","-","-","-","-","-","-","-","-","-","-","-","-","-",{"$f":"IF(#REF!=JS1735,\"-\",\"TIDAK\")","v":{"$error":"#REF!"}},"-","-","-","-","-","-","-","-","-",{"$f":"IF(KD867=KC1735,\"-\",\"TIDAK\")","v":"-"},"-","-","-","-","-","-","-","-","-","-","-","-","-","-","-","-","-","-","-","-","-","-","-","-","-","-","-","-","-","-","-","-","-","-","-","-","-","-","-","-","-","-","-","-","-","-","-","-","-","-","-","-","-","-","-","-","-","-","-","-","-","-","-",{"$f":"IF(MP867=MO1735,\"-\",\"TIDAK\")","v":"-"},"-","-","-","-","-","-","-","-","-","-","-","-","-","-","-",{"$f":"IF(#REF!=NE1735,\"-\",\"TIDAK\")","v":{"$error":"#REF!"}},"-","-","-","-","-","-","-","-","-","-","-","-","-","-","-","-","-","-","-","-","-","-","-","-","-","-","-","-","-","-","-","-","-","-","-","-","-","-","-","-","-","-","-","-","-","-",{"$f":"IF(PA867=OZ1735,\"-\",\"TIDAK\")","v":"-"},"-","-","-","-","-","-","-","-","-","-","-","-","-","-","-","-","-","-",{"$f":"IF(PT867=PS1735,\"-\",\"TIDAK\")","v":"-"},"-","-","-","-","-","-","-","-","-","-","-","-","-","-","-","-","-","-","-","-","-","-","-",{"$f":"IF(#REF!=QQ1735,\"-\",\"TIDAK\")","v":{"$error":"#REF!"}},"-","-","-","-","-","-",{"$f":"IF(QY867=QX1735,\"-\",\"TIDAK\")","v":"-"},"-","-","-","-","-","-","-","-","-","-","-","-","-","-","-","-","-","-","-","-","-","-","-","-","-","-","-","-","-","-","-",{"$f":"IF(SE867=SD1735,\"-\",\"TIDAK\")","v":"-"},"-","-","-","-","-","-","-","-","-","-","-","-","-","-","-","-","-","-","-","-","-","-","-","-","-",{"$f":"IF(TE867=TD1735,\"-\",\"TIDAK\")","v":"-"},"-","-","-","-","-","-","-","-","-","-","-","-","-","-","-","-","-","-","-","-"]
[null,null,null,null,null,null,null,null,861,"TIDAK","TIDAK","TIDAK","-","-","-","-","-","-","-","-","-","-","-","-","-","-","-","-","-","-","-","-","-","-","-","-","-","-","-","-","-","-","-","-","-","-","-","-","-","-","-","-","-","-","-","-","-","-","-","-","-","-","-","-","-","-","-","-","-","-","-","-","-","-","-","-","-","-","-","-","-","-","-","-","-","-","-","-","-","-","-","-","-","-","-","-","-","-","-",{"$f":"IF(CW868=CV1736,\"-\",\"TIDAK\")","v":"-"},"-","-","-","-","-","-","-","-","-","-","-","-","-","-","-","-","-","-","-","-","-","-","-","-","-","-","-","-","-","-","-","-","-","-","-","-","-","-","-","-","-","-","-","-","-","-","-","-","-","-","-","-","-","-","-","-","-","-","-","-","-","-",{"$f":"IF(FH868=FG1736,\"-\",\"TIDAK\")","v":"-"},"-","-","-","-","-","-","-","-","-","-","-","-","-","-","-","-","-","-","-","-","-","-","-","-","-",{"$f":"IF(#REF!=GG1736,\"-\",\"TIDAK\")","v":{"$error":"#REF!"}},"-","-","-","-","-","-","-","-","-","-","-","-","-","-","-","-","-","-","-","-","-","-","-","-","-","-","-","-","-","-","-","-","-","-","-","-",{"$f":"IF(HS868=HR1736,\"-\",\"TIDAK\")","v":"-"},"-","-","-","-","-","-","-","-","-","-","-","-","-","-","-","-","-","-","-","-","-","-","-","-","-","-","-","-","-","-","-","-","-","-","-","-","-","-","-","-","-","-","-","-","-","-","-","-","-","-","-","-",{"$f":"IF(#REF!=JS1736,\"-\",\"TIDAK\")","v":{"$error":"#REF!"}},"-","-","-","-","-","-","-","-","-",{"$f":"IF(KD868=KC1736,\"-\",\"TIDAK\")","v":"-"},"-","-","-","-","-","-","-","-","-","-","-","-","-","-","-","-","-","-","-","-","-","-","-","-","-","-","-","-","-","-","-","-","-","-","-","-","-","-","-","-","-","-","-","-","-","-","-","-","-","-","-","-","-","-","-","-","-","-","-","-","-","-","-",{"$f":"IF(MP868=MO1736,\"-\",\"TIDAK\")","v":"-"},"-","-","-","-","-","-","-","-","-","-","-","-","-","-","-",{"$f":"IF(#REF!=NE1736,\"-\",\"TIDAK\")","v":{"$error":"#REF!"}},"-","-","-","-","-","-","-","-","-","-","-","-","-","-","-","-","-","-","-","-","-","-","-","-","-","-","-","-","-","-","-","-","-","-","-","-","-","-","-","-","-","-","-","-","-","-",{"$f":"IF(PA868=OZ1736,\"-\",\"TIDAK\")","v":"-"},"-","-","-","-","-","-","-","-","-","-","-","-","-","-","-","-","-","-",{"$f":"IF(PT868=PS1736,\"-\",\"TIDAK\")","v":"-"},"-","-","-","-","-","-","-","-","-","-","-","-","-","-","-","-","-","-","-","-","-","-","-",{"$f":"IF(#REF!=QQ1736,\"-\",\"TIDAK\")","v":{"$error":"#REF!"}},"-","-","-","-","-","-",{"$f":"IF(QY868=QX1736,\"-\",\"TIDAK\")","v":"-"},"-","-","-","-","-","-","-","-","-","-","-","-","-","-","-","-","-","-","-","-","-","-","-","-","-","-","-","-","-","-","-",{"$f":"IF(SE868=SD1736,\"-\",\"TIDAK\")","v":"-"},"-","-","-","-","-","-","-","-","-","-","-","-","-","-","-","-","-","-","-","-","-","-","-","-","-",{"$f":"IF(TE868=TD1736,\"-\",\"TIDAK\")","v":"-"},"-","-","-","-","-","-","-","-","-","-","-","-","-","-","-","-","-","-","-","-"]
[null,null,null,null,null,null,null,null,862,"TIDAK","TIDAK","TIDAK","-","-","-","-","-","-","-","-","-","-","-","-","-","-","-","-","-","-","-","-","-","-","-","-","-","-","-","-","-","-","-","-","-","-","-","-","-","-","-","-","-","-","-","-","-","-","-","-","-","-","-","-","-","-","-","-","-","-","-","-","-",{"$f":"IF(BV869=BV1737,\"-\",\"TIDAK\")","v":"-"},"-","-","-","-","-","-","-","-","-","-","-","-","-","-","-","-","-","-","-","-","-","-","-","-","-",{"$f":"IF(CW869=CV1737,\"-\",\"TIDAK\")","v":"-"},"-","-","-","-","-","-","-","-","-","-","-","-","-","-","-","-","-","-","-","-","-","-","-","-","-","-","-","-","-","-","-","-","-","-","-","-","-","-","-","-","-","-","-","-","-","-","-","-","-","-","-","-","-","-","-","-","-","-","-","-","-","-",{"$f":"IF(FH869=FG1737,\"-\",\"TIDAK\")","v":"-"},"-","-","-","-","-","-","-","-","-","-","-","-","-","-","-","-","-","-","-","-","-","-","-","-","-",{"$f":"IF(#REF!=GG1737,\"-\",\"TIDAK\")","v":{"$error":"#REF!"}},"-","-","-","-","-","-","-","-","-","-","-","-","-","-","-","-","-","-","-","-","-","-","-","-","-","-","-","-","-","-","-","-","-","-","-","-",{"$f":"IF(HS869=HR1737,\"-\",\"TIDAK\")","v":"-"},"-","-","-","-","-","-","-","-","-","-","-","-","-","-","-","-","-","-","-","-","-","-","-","-","-","-","-","-","-","-","-","-","-","-","-","-","-","-","-","-","-","-","-","-","-","-","-","-","-","-","-","-",{"$f":"IF(#REF!=JS1737,\"-\",\"TIDAK\")","v":{"$error":"#REF!"}},"-","-","-","-","-","-","-","-","-",{"$f":"IF(KD869=KC1737,\"-\",\"TIDAK\")","v":"-"},"-","-","-","-","-","-","-","-","-","-","-","-","-","-","-","-","-","-","-","-","-","-","-","-","-","-","-","-","-","-","-","-","-","-","-","-","-","-","-","-","-","-","-","-","-","-","-","-","-","-","-","-","-","-","-","-","-","-","-","-","-","-","-",{"$f":"IF(MP869=MO1737,\"-\",\"TIDAK\")","v":"-"},"-","-","-","-","-","-","-","-","-","-","-","-","-","-","-",{"$f":"IF(#REF!=NE1737,\"-\",\"TIDAK\")","v":{"$error":"#REF!"}},"-","-","-","-","-","-","-","-","-","-","-","-","-","-","-","-","-","-","-","-","-","-","-","-","-","-","-","-","-","-","-","-","-","-","-","-","-","-","-","-","-","-","-","-","-","-",{"$f":"IF(PA869=OZ1737,\"-\",\"TIDAK\")","v":"-"},"-","-","-","-","-","-","-","-","-","-","-","-","-","-","-","-","-","-",{"$f":"IF(PT869=PS1737,\"-\",\"TIDAK\")","v":"-"},"-","-","-","-","-","-","-","-","-","-","-","-","-","-","-","-","-","-","-","-","-","-","-",{"$f":"IF(#REF!=QQ1737,\"-\",\"TIDAK\")","v":{"$error":"#REF!"}},"-","-","-","-","-","-",{"$f":"IF(QY869=QX1737,\"-\",\"TIDAK\")","v":"-"},"-","-","-","-","-","-","-","-","-","-","-","-","-","-","-","-","-","-","-","-","-","-","-","-","-","-","-","-","-","-","-",{"$f":"IF(SE869=SD1737,\"-\",\"TIDAK\")","v":"-"},"-","-","-","-","-","-","-","-","-","-","-","-","-","-","-","-","-","-","-","-","-","-","-","-","-",{"$f":"IF(TE869=TD1737,\"-\",\"TIDAK\")","v":"-"},"-","-","-","-","-","-","-","-","-","-","-","-","-","-","-","-","-","-","-","-"]
[null,null,null,null,null,null,null,null,863,"TIDAK",{"$f":"IF(K870=K1738,\"-\",\"TIDAK\")","v":"TIDAK"},"TIDAK","-","-","-","-","-","-","-","-","-","-","-","-","-","-","-","-","-","-","-","-","-","-","-","-","-","-","-","-","-","-","-","-","-","-","-","-","-","-","-","-","-","-","-","-","-","-","-","-","-","-","-","-","-","-","-","-","-","-","-","-","-","-","-","-","-","-","-","-","-","-","-","-","-","-","-","-","-","-","-","-","-","-","-","-","-","-","-",{"$f":"IF(CW870=CV1738,\"-\",\"TIDAK\")","v":"-"},"-","-","-","-","-","-","-","-","-","-","-","-","-","-","-","-","-","-","-","-","-","-","-","-","-","-","-","-","-","-","-","-","-","-","-","-","-","-","-","-","-","-","-","-","-","-","-","-","-","-","-","-","-","-","-","-","-","-","-","-","-","-",{"$f":"IF(FH870=FG1738,\"-\",\"TIDAK\")","v":"-"},"-","-","-","-","-","-","-","-","-","-","-","-","-","-","-","-","-","-","-","-","-","-","-","-","-",{"$f":"IF(#REF!=GG1738,\"-\",\"TIDAK\")","v":{"$error":"#REF!"}},"-","-","-","-","-","-","-","-","-","-","-","-","-","-","-","-","-","-","-","-","-","-","-","-","-","-","-","-","-","-","-","-","-","-","-","-",{"$f":"IF(HS870=HR1738,\"-\",\"TIDAK\")","v":"-"},"-","-","-","-","-","-","-","-","-","-","-","-","-","-","-","-","-","-","-","-","-","-","-","-","-","-","-","-","-","-","-","-","-","-","-","-","-","-","-","-","-","-","-","-","-","-","-","-","-","-","-","-",{"$f":"IF(#REF!=JS1738,\"-\",\"TIDAK\")","v":{"$error":"#REF!"}},"-","-","-","-","-","-","-","-","-",{"$f":"IF(KD870=KC1738,\"-\",\"TIDAK\")","v":"-"},"-","-","-","-","-","-","-","-","-","-","-","-","-","-","-","-","-","-","-","-","-","-","-","-","-","-","-","-","-","-","-","-","-","-","-","-","-","-","-","-","-","-","-","-","-","-","-","-","-","-","-","-","-","-","-","-","-","-","-","-","-","-","-",{"$f":"IF(MP870=MO1738,\"-\",\"TIDAK\")","v":"-"},"-","-","-","-","-","-","-","-","-","-","-","-","-","-","-",{"$f":"IF(#REF!=NE1738,\"-\",\"TIDAK\")","v":{"$error":"#REF!"}},"-","-","-","-","-","-","-","-","-","-","-","-","-","-","-","-","-","-","-","-","-","-","-","-","-","-","-","-","-","-","-","-","-","-","-","-","-","-","-","-","-","-","-","-","-","-",{"$f":"IF(PA870=OZ1738,\"-\",\"TIDAK\")","v":"-"},"-","-","-","-","-","-","-","-","-","-","-","-","-","-","-","-","-","-",{"$f":"IF(PT870=PS1738,\"-\",\"TIDAK\")","v":"-"},"-","-","-","-","-","-","-","-","-","-","-","-","-","-","-","-","-","-","-","-","-","-","-",{"$f":"IF(#REF!=QQ1738,\"-\",\"TIDAK\")","v":{"$error":"#REF!"}},"-","-","-","-","-","-",{"$f":"IF(QY870=QX1738,\"-\",\"TIDAK\")","v":"-"},"-","-","-","-","-","-","-","-","-","-","-","-","-","-","-","-","-","-","-","-","-","-","-","-","-","-","-","-","-","-","-",{"$f":"IF(SE870=SD1738,\"-\",\"TIDAK\")","v":"-"},"-","-","-","-","-","-","-","-","-","-","-","-","-","-","-","-","-","-","-","-","-","-","-","-","-",{"$f":"IF(TE870=TD1738,\"-\",\"TIDAK\")","v":"-"},"-","-","-","-","-","-","-","-","-","-","-","-","-","-","-","-","-","-","-","-"]
[null,null,null,null,null,null,null,null,864,"TIDAK","TIDAK","TIDAK","-","-","-","-","-","-","-","-","-","-","-","-","-","-","-","-","-","-","-","-","-","-","-","-","-","-","-","-","-","-","-","-","-","-","-","-","-","-","-","-","-","-","-","-","-","-","-","-","-","-","-","-","-","-","-","-","-","-","-","-","-","-","-","-","-","-","-","-","-","-","-","-","-","-","-","-","-","-","-","-","-","-","-","-","-","-","-",{"$f":"IF(CW871=CV1739,\"-\",\"TIDAK\")","v":"-"},"-","-","-","-","-","-","-","-","-","-","-","-","-","-","-","-","-","-","-","-","-","-","-","-","-","-","-","-","-","-","-","-","-","-","-","-","-","-","-","-","-","-","-","-","-","-","-","-","-","-","-","-","-","-","-","-","-","-","-","-","-","-",{"$f":"IF(FH871=FG1739,\"-\",\"TIDAK\")","v":"-"},"-","-","-","-","-","-","-","-","-","-","-","-","-","-","-","-","-","-","-","-","-","-","-","-","-",{"$f":"IF(#REF!=GG1739,\"-\",\"TIDAK\")","v":{"$error":"#REF!"}},"-","-","-","-","-","-","-","-","-","-","-","-","-","-","-","-","-","-","-","-","-","-","-","-","-","-","-","-","-","-","-","-","-","-","-","-",{"$f":"IF(HS871=HR1739,\"-\",\"TIDAK\")","v":"-"},"-","-","-","-","-","-","-","-","-","-","-","-","-","-","-","-","-","-","-","-","-","-","-","-","-","-","-","-","-","-","-","-","-","-","-","-","-","-","-","-","-","-","-","-","-","-","-","-","-","-","-","-",{"$f":"IF(#REF!=JS1739,\"-\",\"TIDAK\")","v":{"$error":"#REF!"}},"-","-","-","-","-","-","-","-","-",{"$f":"IF(KD871=KC1739,\"-\",\"TIDAK\")","v":"-"},"-","-","-","-","-","-","-","-","-","-","-","-","-","-","-","-","-","-","-","-","-","-","-","-","-","-","-","-","-","-","-","-","-","-","-","-","-","-","-","-","-","-","-","-","-","-","-","-","-","-","-","-","-","-","-","-","-","-","-","-","-","-","-",{"$f":"IF(MP871=MO1739,\"-\",\"TIDAK\")","v":"-"},"-","-","-","-","-","-","-","-","-","-","-","-","-","-","-",{"$f":"IF(#REF!=NE1739,\"-\",\"TIDAK\")","v":{"$error":"#REF!"}},"-","-","-","-","-","-","-","-","-","-","-","-","-","-","-","-","-","-","-","-","-","-","-","-","-","-","-","-","-","-","-","-","-","-","-","-","-","-","-","-","-","-","-","-","-","-",{"$f":"IF(PA871=OZ1739,\"-\",\"TIDAK\")","v":"-"},"-","-","-","-","-","-","-","-","-","-","-","-",{"$f":"IF(PN871=PM1739,\"-\",\"TIDAK\")","v":"-"},"-","-","-","-","-",{"$f":"IF(PT871=PS1739,\"-\",\"TIDAK\")","v":"-"},"-","-","-","-","-","-","-","-","-","-","-","-","-","-","-","-","-","-","-","-","-","-","-",{"$f":"IF(#REF!=QQ1739,\"-\",\"TIDAK\")","v":{"$error":"#REF!"}},"-","-","-","-","-","-",{"$f":"IF(QY871=QX1739,\"-\",\"TIDAK\")","v":"-"},"-","-","-","-","-","-","-","-","-","-","-","-","-","-","-","-","-","-","-","-","-","-","-","-","-","-","-","-","-","-","-",{"$f":"IF(SE871=SD1739,\"-\",\"TIDAK\")","v":"-"},"-","-","-","-","-","-","-","-","-","-","-","-","-","-","-","-","-","-","-",{"$f":"IF(SY871=SX1739,\"-\",\"TIDAK\")","v":"-"},"-","-","-","-","-",{"$f":"IF(TE871=TD1739,\"-\",\"TIDAK\")","v":"-"},"-","-","-","-","-","-","-","-","-","-","-","-","-","-","-","-","-","-","-","-"]
[null,null,null,null,null,null,null,null,865,"TIDAK","TIDAK","TIDAK","-","-","-","-","-","-","-","-","-","-","-","-","-","-","-","-","-","-","-","-","-","-","-","-","-","-","-","-","-","-","-","-","-","-","-","-","-","-","-","-","-","-","-","-","-","-","-","-","-","-","-","-","-","-","-","-","-","-","-","-","-","-","-","-","-","-","-","-","-","-","-","-","-","-","-","-","-","-","-","-","-","-","-","-","-","-","-",{"$f":"IF(CW872=CV1740,\"-\",\"TIDAK\")","v":"-"},"-","-","-","-","-","-","-","-","-","-","-","-","-","-","-","-","-","-","-","-","-","-","-","-","-","-","-","-","-","-","-","-","-","-","-","-","-","-","-","-","-","-","-","-","-","-","-","-","-","-","-","-","-","-","-","-","-","-","-","-","-","-",{"$f":"IF(FH872=FG1740,\"-\",\"TIDAK\")","v":"-"},"-","-","-","-","-","-","-","-","-","-","-","-","-","-","-","-","-","-","-","-","-","-","-","-","-",{"$f":"IF(#REF!=GG1740,\"-\",\"TIDAK\")","v":{"$error":"#REF!"}},"-","-","-","-","-","-","-","-","-","-","-","-","-","-","-","-","-","-","-","-","-","-","-","-","-","-","-","-","-","-","-","-","-","-","-","-",{"$f":"IF(HS872=HR1740,\"-\",\"TIDAK\")","v":"-"},"-","-","-","-","-","-","-","-","-","-","-","-","-","-","-","-","-","-","-","-","-","-","-","-","-","-","-","-","-","-","-","-","-","-","-","-","-","-","-","-","-","-","-","-","-","-","-","-","-","-","-","-",{"$f":"IF(#REF!=JS1740,\"-\",\"TIDAK\")","v":{"$error":"#REF!"}},"-","-","-","-","-","-","-","-","-",{"$f":"IF(KD872=KC1740,\"-\",\"TIDAK\")","v":"-"},"-","-","-","-","-","-","-","-","-","-","-","-","-","-","-","-","-","-","-","-","-","-","-","-","-","-","-","-","-","-","-","-","-","-","-","-","-","-","-","-","-","-","-","-","-","-","-","-","-","-","-","-","-","-","-","-","-","-","-","-","-","-","-",{"$f":"IF(MP872=MO1740,\"-\",\"TIDAK\")","v":"-"},"-","-","-","-","-","-","-","-","-","-","-","-","-","-","-",{"$f":"IF(#REF!=NE1740,\"-\",\"TIDAK\")","v":{"$error":"#REF!"}},"-","-","-","-","-","-","-","-","-","-","-","-","-","-","-","-","-","-","-","-","-","-","-","-","-","-","-","-","-","-","-","-","-","-","-","-","-","-","-","-","-","-","-","-","-","-",{"$f":"IF(PA872=OZ1740,\"-\",\"TIDAK\")","v":"-"},"-","-","-","-","-","-","-","-","-","-","-","-","-","-","-","-","-","-",{"$f":"IF(PT872=PS1740,\"-\",\"TIDAK\")","v":"-"},"-","-","-","-","-","-","-","-","-","-","-","-","-","-","-","-","-","-","-","-","-","-","-",{"$f":"IF(#REF!=QQ1740,\"-\",\"TIDAK\")","v":{"$error":"#REF!"}},"-","-","-","-","-","-",{"$f":"IF(QY872=QX1740,\"-\",\"TIDAK\")","v":"-"},"-","-","-","-","-","-","-","-","-","-","-","-","-","-","-","-","-","-","-","-","-","-","-","-","-","-","-","-","-","-","-",{"$f":"IF(SE872=SD1740,\"-\",\"TIDAK\")","v":"-"},"-","-","-","-","-","-","-","-","-","-","-","-","-","-","-","-","-","-","-","-","-","-","-","-","-",{"$f":"IF(TE872=TD1740,\"-\",\"TIDAK\")","v":"-"},"-","-","-","-","-","-","-","-","-","-","-","-","-","-","-","-","-","-","-","-"]
[null,null,null,null,null,null,null,null,866,"TIDAK","TIDAK","TIDAK","-","-","-","-","-","-","-","-","-","-","-","-","-","-","-","-","-","-","-","-","-","-","-","-","-","-","-","-","-","-","-","-","-","-","-","-","-","-","-","-","-","-","-","-","-","-","-","-","-","-","-","-","-","-","-","-","-","-","-","-","-",{"$f":"IF(BV873=BV1741,\"-\",\"TIDAK\")","v":"-"},"-","-","-","-","-","-","-","-","-","-","-","-","-","-","-","-","-","-","-","-","-","-","-","-","-",{"$f":"IF(CW873=CV1741,\"-\",\"TIDAK\")","v":"-"},"-","-","-","-","-","-","-","-","-","-","-","-","-","-","-","-","-","-","-","-","-","-","-","-","-","-","-","-","-","-","-","-","-","-","-","-","-","-","-","-","-","-","-","-","-","-","-","-","-","-","-","-","-","-","-","-","-","-","-","-","-","-",{"$f":"IF(FH873=FG1741,\"-\",\"TIDAK\")","v":"-"},"-","-","-","-","-","-","-","-","-","-","-","-","-","-","-","-","-","-","-","-","-","-","-","-","-",{"$f":"IF(#REF!=GG1741,\"-\",\"TIDAK\")","v":{"$error":"#REF!"}},"-","-","-","-","-","-","-","-","-","-","-","-","-","-","-","-","-","-","-","-","-","-","-","-","-","-","-","-","-","-","-","-","-","-","-","-",{"$f":"IF(HS873=HR1741,\"-\",\"TIDAK\")","v":"-"},"-","-","-","-","-","-","-","-","-","-","-","-","-","-","-","-","-","-","-","-","-","-","-","-","-","-","-","-","-","-","-","-","-","-","-","-","-","-","-","-","-","-","-","-","-","-","-","-","-","-","-","-",{"$f":"IF(#REF!=JS1741,\"-\",\"TIDAK\")","v":{"$error":"#REF!"}},"-","-","-","-","-","-","-","-","-",{"$f":"IF(KD873=KC1741,\"-\",\"TIDAK\")","v":"-"},"-","-","-","-","-","-","-","-","-","-","-","-","-","-","-","-","-","-","-","-","-","-","-","-","-","-","-","-","-","-","-","-","-","-","-","-","-","-","-","-","-","-","-","-","-","-","-","-","-","-","-","-","-","-","-","-","-","-","-","-","-","-","-",{"$f":"IF(MP873=MO1741,\"-\",\"TIDAK\")","v":"-"},"-","-","-","-","-","-","-","-","-","-","-","-","-","-","-",{"$f":"IF(#REF!=NE1741,\"-\",\"TIDAK\")","v":{"$error":"#REF!"}},"-","-","-","-","-","-","-","-","-","-","-","-","-","-","-","-","-","-","-","-","-","-","-","-","-","-","-","-","-","-","-","-","-","-","-","-","-","-","-","-","-","-","-","-","-","-",{"$f":"IF(PA873=OZ1741,\"-\",\"TIDAK\")","v":"-"},"-","-","-","-","-","-","-","-","-","-","-","-","-","-","-","-","-","-",{"$f":"IF(PT873=PS1741,\"-\",\"TIDAK\")","v":"-"},"-","-","-","-","-","-","-","-","-","-","-","-","-","-","-","-","-","-","-","-","-","-","-",{"$f":"IF(#REF!=QQ1741,\"-\",\"TIDAK\")","v":{"$error":"#REF!"}},"-","-","-","-","-","-",{"$f":"IF(QY873=QX1741,\"-\",\"TIDAK\")","v":"-"},"-","-","-","-","-","-","-","-","-","-","-","-","-","-","-","-","-","-","-","-","-","-","-","-","-","-","-","-","-","-","-",{"$f":"IF(SE873=SD1741,\"-\",\"TIDAK\")","v":"-"},"-","-","-","-","-","-","-","-","-","-","-","-","-","-","-","-","-","-","-","-","-","-","-","-","-",{"$f":"IF(TE873=TD1741,\"-\",\"TIDAK\")","v":"-"},"-","-","-","-","-","-","-","-","-","-","-","-","-","-","-","-","-","-","-","-"]
[null,null,null,null,null,null,null,null,867,"TIDAK",{"$f":"IF(K874=K1742,\"-\",\"TIDAK\")","v":"TIDAK"},"TIDAK","-","-","-","-","-","-","-","-","-","-","-","-","-","-","-","-","-","-","-","-","-","-","-","-","-","-","-","-","-","-","-","-","-","-","-","-","-","-","-","-","-","-","-","-","-","-","-","-","-","-","-","-","-","-","-","-","-","-","-","-","-","-","-","-","-","-","-","-","-","-","-","-","-","-","-","-","-","-","-","-","-","-","-","-","-","-","-",{"$f":"IF(CW874=CV1742,\"-\",\"TIDAK\")","v":"-"},"-","-","-","-","-","-","-","-","-","-","-","-","-","-","-","-","-","-","-","-","-","-","-","-","-","-","-","-","-","-","-","-","-","-","-","-","-","-","-","-","-","-","-","-","-","-","-","-","-","-","-","-","-","-","-","-","-","-","-","-","-","-",{"$f":"IF(FH874=FG1742,\"-\",\"TIDAK\")","v":"-"},"-","-","-","-","-","-","-","-","-","-","-","-","-","-","-","-","-","-","-","-","-","-","-","-","-",{"$f":"IF(#REF!=GG1742,\"-\",\"TIDAK\")","v":{"$error":"#REF!"}},"-","-","-","-","-","-","-","-","-","-","-","-","-","-","-","-","-","-","-","-","-","-","-","-","-","-","-","-","-","-","-","-","-","-","-","-",{"$f":"IF(HS874=HR1742,\"-\",\"TIDAK\")","v":"-"},"-","-","-","-","-","-","-","-","-","-","-","-","-","-","-","-","-","-","-","-","-","-","-","-","-","-","-","-","-","-","-","-","-","-","-","-","-","-","-","-","-","-","-","-","-","-","-","-","-","-","-","-",{"$f":"IF(#REF!=JS1742,\"-\",\"TIDAK\")","v":{"$error":"#REF!"}},"-","-","-","-","-","-","-","-","-",{"$f":"IF(KD874=KC1742,\"-\",\"TIDAK\")","v":"-"},"-","-","-","-","-","-","-","-","-","-","-","-","-","-","-","-","-","-","-","-","-","-","-","-","-","-","-","-","-","-","-","-","-","-","-","-","-","-","-","-","-","-","-","-","-","-","-","-","-","-","-","-","-","-","-","-","-","-","-","-","-","-","-",{"$f":"IF(MP874=MO1742,\"-\",\"TIDAK\")","v":"-"},"-","-","-","-","-","-","-","-","-","-","-","-","-","-","-",{"$f":"IF(#REF!=NE1742,\"-\",\"TIDAK\")","v":{"$error":"#REF!"}},"-","-","-","-","-","-","-","-","-","-","-","-","-","-","-","-","-","-","-","-","-","-","-","-","-","-","-","-","-","-","-","-","-","-","-","-","-","-","-","-","-","-","-","-","-","-",{"$f":"IF(PA874=OZ1742,\"-\",\"TIDAK\")","v":"-"},"-","-","-","-","-","-","-","-","-","-","-","-","-","-","-","-","-","-",{"$f":"IF(PT874=PS1742,\"-\",\"TIDAK\")","v":"-"},"-","-","-","-","-","-","-","-","-","-","-","-","-","-","-","-","-","-","-","-","-","-","-",{"$f":"IF(#REF!=QQ1742,\"-\",\"TIDAK\")","v":{"$error":"#REF!"}},"-","-","-","-","-","-",{"$f":"IF(QY874=QX1742,\"-\",\"TIDAK\")","v":"-"},"-","-","-","-","-","-","-","-","-","-","-","-","-","-","-","-","-","-","-","-","-","-","-","-","-","-","-","-","-","-","-",{"$f":"IF(SE874=SD1742,\"-\",\"TIDAK\")","v":"-"},"-","-","-","-","-","-","-","-","-","-","-","-","-","-","-","-","-","-","-","-","-","-","-","-","-",{"$f":"IF(TE874=TD1742,\"-\",\"TIDAK\")","v":"-"},"-","-","-","-","-","-","-","-","-","-","-","-","-","-","-","-","-","-","-","-"]

{"sheet":"Macro1","index":2,"n_rows":0,"n_cols":0,"rows_kept":0,"cut":false,"hidden":true,"merged":[]}